{"text_format":"1","workbook":"xlsx","n_sheets":7,"sheets":["Inhalt und Impressum","Betriebsangaben_Vorgehensweise","Nährstoffzufuhr","Nährstoffabgabe","Ausdruck Zufuhr, Abgabe, SSB","SSB nach StoffBilV","3jährige SBB"],"not_rendered":{"charts":0,"images":1,"macros":1,"external_links":1,"defined_names":9,"comments":2,"pivot_tables":0},"unopened":[],"bounds":{"document_bytes":16777216,"sheet_cells":100000,"rows_first":2000,"rows_last":500,"rows_between":2000,"halvings":0,"cell_chars":16384,"cell_head_chars":4096},"cells_cut":0,"cells_raw":0,"read":"whole","date_system":"1900"}

{"sheet":"Inhalt und Impressum","index":0,"n_rows":33,"n_cols":7,"rows_kept":33,"cut":false,"hidden":false,"merged":[[11,0,11,3],[12,0,12,5],[13,0,13,6],[1,0,1,6],[0,0,0,6],[2,0,2,6],[7,0,7,4],[8,0,8,2],[9,0,9,2]]}
["Stoffstrombilanz SSB ohne Tierhaltung"]
["für  Gemüse-, Sonderkultur- u. a. Pflanzenbaubetriebe"]
[]
[null,null,null,null,null,"Stand:","2024-02-14"]
["Inhalt:","(für Schnellzugriff auf Überschrift klicken)"]
[]
["1. Arbeitsblätter für Eingaben"]
["1.1 Betriebsangaben und Vorgehensweise"]
["1.2 Nährstoffzufuhr"]
["1.3 Nährstoffabgabe"]
["2. Arbeitsblätter zum Ausdruck"]
["2.1 Ausdruck Zu- und Abgabe für den Betrieb",null,null,null,null,null,"(komprimierte Anzeige: \"Strg + D\" drücken)"]
["2.2 Ausdruck Stoffstrombilanz nach StoffBilV 2017"]
["2.3 Ausdruck 3-jährige Stoffstrombilanz nach StoffBilV 2017"]
[]
["Herausgeber"]
["Dienstleistungszentrum Ländlicher Raum (DLR) - Rheinpfalz, - Abteilung Gartenbau - "]
["Breitenweg 71, 67435 Neustadt an der Weinstraße"]
[]
["Autoren"]
["Kerstin Mahler und Joachim Ziegler,"]
["DLR Rheinpfalz"]
[]
["Haftungsausschluss"]
["Die Erstellung des Nährstoffvergleichs erfolgte sorgfältig und nach bestem Wissen."]
["Alle Angaben ohne Gewähr!"]
[]
["Datenquellen"]
["DLR RNH u.a. ältere Quellen"]
["RP-Düngeplaner"]
["LfL Freising 2022"]
["Stoffstrombilanzverordnung StoffBilV 2017"]
["M. Fink 2011: Düngung im Freilandgemüsebau"]

{"sheet":"Betriebsangaben_Vorgehensweise","index":1,"n_rows":61,"n_cols":11,"rows_kept":61,"cut":false,"hidden":false,"merged":[[59,0,59,8],[60,0,60,8],[41,0,41,8],[42,0,42,8],[61,0,61,8],[54,0,54,8],[55,0,55,8],[56,0,56,8],[57,0,57,8],[58,0,58,8],[44,0,44,8],[51,0,51,8],[52,0,52,8],[53,0,53,8],[50,0,50,8],[45,0,45,8],[0,0,0,6],[48,0,48,8],[49,0,49,8],[43,0,43,8],[38,0,38,8],[39,0,39,8],[40,0,40,8],[1,0,1,8],[37,0,37,8],[22,2,23,8],[17,2,17,8],[18,2,18,8],[21,2,21,8],[24,2,26,8],[27,2,27,8],[28,2,28,8],[46,9,49,14],[46,0,46,8],[47,0,47,8],[3,1,3,5],[4,1,4,5],[5,1,5,5],[27,0,27,1],[29,2,29,8],[3,6,3,7]]}
["Stoffstrombilanz für N und P2O5 nach StoffBilV 2017",null,null,null,null,null,null,null,null,null,"Zurück zum Inhalt"]
[{"$f":"'Inhalt und Impressum'!A2:G2","v":"für  Gemüse-, Sonderkultur- u. a. Pflanzenbaubetriebe"}]
[]
["Name:",null,null,null,null,null,{"$f":"'Inhalt und Impressum'!F4","v":"Stand:"},null,{"$f":"'Inhalt und Impressum'!G4","v":"2024-02-14"}]
["Straße:"]
["Ort:"]
[]
["Stoffstrombilanz für das Jahr:"]
["Datum der Erstellung:"]
["Landwirtschaftliche Nutzfläche (ha):"]
[]
["Achtung!"]
["Eine nicht richtig erstellte Stoffstrombilanz bis zum 30.06. des Folgejahres ist eine Ordnungswidrigkeit! "]
[]
[]
["Vorgehensweise:"]
["Für alle Blätter gilt:",null,"Nur graue Felder ausfüllen!"]
["Makros:",null,"Für eine volle Funktionsfähigkeit des Programms muss die Nutzung von Makros aktiviert sein. "]
[null,null,"Dazu Aufforderung z.B. \"Inhalt aktivieren\" bestätigen"]
[]
["Arbeitsblatt",null,"Kurzbeschreibung"]
["Betriebsangaben:",null,"Graue Felder bitte ausfüllen, die Daten werden dann für alle weiteren Arbeitsblätter übernommen. "]
["Nährstoffzufuhr: ",null,"Düngermengen für die berücksichtungsfähigen Kulturen unbedingt in dt eingeben.\nBei Anwendung von \"Misch-NPK  oder -PK\" bzw. \"eigenem Kompost\" müssen die Nährstoffgehalte eingetragen werden."]
[]
["Nährstoffabgabe:",null,"Nur die Eingabe der Fläche in ha für die jeweiligen berücksichtungsfähigen Kulturen ist notwendig.\nWeichen die vorgeschlagenen Markterträge deutlich ab (Nachweispflicht),\nist eine Korrektur im Feld \"Marktertrag im Betrieb\" in dt möglich.\nDie Berrechnung erfolgt dann auf dieser Grundlage.\n"]
[]
[]
["Ausdruck \nZufuhr und Abgabe:",null,"Durch den Befehl Strg + D werden nur die eingegebene Daten aus den Tabellenblättern \"Nährstoffzufuhr\" bzw. \"Nährstoffabfuhr\" angezeigt, die dann ausgedruckt werden können."]
["Jährliche Stoffstrombilanz:",null,"Falls erforderlich, sind Nährstoffzufuhren über Bodenhilfsstoffe, Kultursubstrate oder Pflanzenhilfsmittel einzutragen."]
["3-jähriger Vergleich:",null,"Für Stickstoff und Phosphat ist die Stoffstrombilanz für 3 Jahre zusammenzufassen und fortzuschreiben."]
[]
["Bei Rückfragen:",null,"Joachim Ziegler, DLR Rheinpfalz",null,null,null,"Kerstin Mahler, DLR Rheinpfalz"]
[null,null,"Tel.: 06321/671-271",null,null,null,"Tel.: 06321/671-272"]
[null,null,"Mobil: 0171 2016136",null,null,null,"Mobil: 0151 12149614"]
[null,null,"Fax: 06321/671-390",null,null,null,"Fax: 06321/671-390"]
[null,null,"eMail: joachim.ziegler@dlr.rlp.de",null,null,null,"eMail: kerstin.mahler@dlr.rlp.de"]
["WICHTIGE HINWEISE"]
["Die SSB muss vollständig und rechtzeitig erstellt sein und 7 Jahre zusammen mit Belegen (z. B. Lieferscheine, Rechnungen) aufbewahrt und bei Bedarf vorgelegt werden."]
["1) Welche Betriebe müssen eine Stoffstrombilanz erstellen?"]
[" - Betriebe mit mehr als 20 ha landwirtschaftlicher Nutzfläche"]
[" - Betriebe ab einem Tierbesatz von 50 GV "]
["   Bitte benutzen das SSB-RLP Vers. 1.9 Original.xlsx des DLR Rheinhessen-Nahe-Hunsrück "]
["   Download unter https://www.düngeberatung.rlp.de/Duengung/Ackerbau-/-Gruenland/Ackerbau-und-Gruenland"]
[" - Betriebe mit Wirtschaftsdüngeraufnahme (z. B. Gülle, Festmist, HTK) ab einer Höhe von 750 kg Stickstoff"]
[" - Betriebe mit Biogasanlage, die Wirtschaftsdünger aufnehmen oder in einem funktionalen Zusammenhang mit einem anderen stoffstrom-\n   bilanzpflichtigen Betrieb stehen"]
["   Bitte benutzen das SSB-RLP Vers. 1.9 Original.xlsx des DLR Rheinhessen-Nahe-Hunsrück. "]
["2) Welche Flächen gehören zur landwirtschaftlichen Nutzfläche?"]
[" - Pflanzenbaulich genutztes Ackerland "]
[" - Gartenbaulich genutzte Flächen"]
[" - Grün- und Dauergrünland"]
[" - Obstflächen"]
[" - Flächen zur Erzeugung schnellwüchsiger Forstgehölze zur energetischen Nutzung"]
[" - Hopfen- und Baumschulflächen"]
[" - Flächen, die befristet aus der Erzeugung genommen wurden soweit Düngemittel, Bodenhilfsstoffe, Kultursubstrate oder Pflanzenhilfs-\n   mittel ausgebracht wurden"]
["3) Was sind die Unterschiede zum früheren Nährstoffvergleich?"]
[" - Die SSB ist spätestens 6 Monate nach Ablauf des Bezugsjahres zu erstellen, beim Kalenderjahr als Bezugsjahr also spätestens bis\n   zum 30.06. im Folgejahr"]
[" - Die jeweiligen Nährstoffzufuhren und -abgaben sind spätestens 3 Monate nach der jeweiligen Zufuhr und Abgabe auf der Grundlage\n   von Lieferscheinen oder Rechnungen aufzuzeichnen"]
[" - Nicht die Feldabfuhren, sondern die Produkte, die den Betrieb verlassen, werden bilanziert"]
[" - Saatgut von Getreide, Mais und Körnerleguminosen sowie Pflanzkartoffeln sind ebenfalls als Nährstoffzufuhr zu ermitteln"]
[" - Der Stickstoffsaldo darf 175 kg N/ha und Jahr nicht überschreiten, unvermeidbare Überschüsse für Gemüse gibt es zur Zeit nicht"]
[" - Für Phosphat gibt es keine Bilanzobergrenze"]

{"sheet":"Nährstoffzufuhr","index":2,"n_rows":253,"n_cols":16,"rows_kept":253,"cut":false,"hidden":false,"merged":[[62,13,62,14],[99,13,99,14],[121,13,121,14],[0,6,0,12],[4,11,4,12],[7,0,8,10],[62,9,62,12],[99,9,99,12],[2,6,2,9],[189,9,189,12],[156,5,156,8],[156,9,156,12],[165,5,165,8],[167,9,167,12],[178,9,178,12],[247,8,247,12],[248,8,249,8],[11,0,12,1],[11,5,11,8],[11,9,11,12],[154,5,154,8],[119,5,119,8],[121,5,121,8],[121,9,121,12],[97,5,97,8],[200,6,200,7],[200,2,200,3],[198,5,198,8],[62,0,63,0],[99,0,100,0],[121,0,122,0],[200,0,201,0],[99,5,99,8],[62,5,62,8],[156,0,157,1],[189,5,189,8],[167,0,168,1],[167,5,167,8],[176,5,176,8],[178,0,179,1],[178,5,178,8],[187,5,187,8],[189,0,190,0]]}
["Nährstoffzufuhr",{"$f":"Betriebsangaben_Vorgehensweise!F8","v":0},null,null,null,null,"Durch den Befehl Strg + D werden nur die eingegebenen Daten aus den Tabellenblättern \n\"Nährstoffzufuhr\" o. \"Nährstoffabfuhr\" in \"Ausdruck Zu- und Abfuhr\" angezeigt."]
[]
["Betrieb:",{"$f":"Betriebsangaben_Vorgehensweise!B4","v":0},null,null,null,null,"Änderungen rot",null,null,null,null,"Datum:",{"$f":"IF(Betriebsangaben_Vorgehensweise!F9=\"\",\"\",Betriebsangaben_Vorgehensweise!F9)","v":""}]
[null,{"$f":"Betriebsangaben_Vorgehensweise!B5","v":0}]
[null,{"$f":"Betriebsangaben_Vorgehensweise!B6","v":0},null,null,null,null,null,null,null,null,null,"Zurück zum Inhalt"]
[]
["Nur graue Felder ausfüllen!"]
["Düngermengen unbedingt in dt eingeben.\nBei Anwendung von \"Misch-NPK  oder -PK\" bzw. \"eigenem Kompost\" müssen die Nährstoffgehalte eingetragen werden."]
[]
[]
[]
["Handelsdünger, mineralisch",null,null,null,"Menge","Nährstoffgehalt %, kg/dt",null,null,null,"Nährstoffe kg"]
[null,null,null,null,"dt","N","P2O5","K2O","MgO","N","P2O5","K2O","MgO"]
["60er Kali",null,null,null,null,0,0,60,0,{"$f":"$E14*F14","v":0},{"$f":"$E14*G14","v":0},{"$f":"$E14*H14","v":0},{"$f":"$E14*I14","v":0}]
["AHL-Lösung: 360gN/l bzw.1,128 kg/l",null,null,null,null,28,0,0,0,{"$f":"$E15*F15","v":0},0,0,0]
["Ammonsulfatsalpeter ASS",null,null,null,null,26,0,0,0,0,0,0,0]
["Bittersalz",null,null,null,null,0,0,0,16,0,0,0,0]
["Diammonphosphat DAP",null,null,null,null,18,46,0,0,0,0,0,0]
["Ensol",null,null,null,null,28,0,0,0,0,0,0,0]
["Entec",null,null,null,null,16,5,18,2,0,0,0,0]
["Entec 26",null,null,null,null,26,0,0,0,0,0,0,0]
["Entec N-Mg",null,null,null,null,22,0,6,12,0,0,0,0]
["Entec Perfect",null,null,null,null,15,5,20,2,0,0,0,0]
["Harnstoff",null,null,null,null,46,0,0,0,0,0,0,0]
["Kalisalpeter",null,null,null,null,13,0,46,0,0,0,0,0]
["Kalisulfat",null,null,null,null,0,0,50,0,0,0,0,0]
["Kalksalpeter",null,null,null,null,15.5,0,0,0,0,0,0,0]
["Kalkstickstoff",null,null,null,null,19.8,0,0,0,0,0,0,0]
["Kalkammonsalpeter KAS",null,null,null,null,27,0,0,4,0,0,0,0]
["Kieserit",null,null,null,null,0,0,0,25,0,0,0,0]
["Kornkali mit MgO",null,null,null,null,0,0,40,6,0,0,0,0]
["Nitrophoska blau",null,null,null,null,12,12,17,2,0,0,0,0]
["Nitrophoska perfekt",null,null,null,null,15,5,20,2,0,0,0,0]
["Nitrophoska rot ",null,null,null,null,13,13,21,0,0,0,0,0]
["Patentkali (Kalimagnesia)",null,null,null,null,0,0,30,10,0,0,0,0]
["Phospatkali",null,null,null,null,0,10,25,4,0,0,0,0]
["Schwefelsaures Ammoniak SSA",null,null,null,null,21,0,0,0,0,0,0,0]
["Superphosphat",null,null,null,null,0,18,0,0,0,0,0,0]
["Thomaskali",null,null,null,null,0,10,20,0,0,0,0,0]
["Thomasphosphatkali",null,null,null,null,0,7,21,0,0,0,0,0]
["Triplephosphat TSP",null,null,null,null,0,45,0,0,0,0,0,0]
[null,null,null,null,null,null,null,null,null,0,0,0,0]
[null,null,null,null,null,null,null,null,null,0,0,0,0]
[null,null,null,null,null,null,null,null,null,0,0,0,0]
[null,null,null,null,null,null,null,null,null,0,0,0,0]
[null,null,null,null,null,null,null,null,null,0,0,0,0]
[null,null,null,null,null,null,null,null,null,0,0,0,0]
[null,null,null,null,null,null,null,null,null,0,0,0,0]
[null,null,null,null,null,null,null,null,null,0,0,0,0]
[null,null,null,null,null,null,null,null,null,0,0,0,0]
[null,null,null,null,null,null,null,null,null,0,0,0,0]
[null,null,null,null,null,null,null,null,null,0,0,0,0]
[null,null,null,null,null,null,null,null,null,0,0,0,0]
[null,null,null,null,null,null,null,null,null,0,0,0,0]
[null,null,null,null,null,null,null,null,null,0,0,0,0]
[null,null,null,null,null,null,null,null,null,0,0,0,0]
[null,null,null,null,null,null,null,null,null,0,0,0,0]
[null,null,null,null,null,null,null,null,null,0,0,0,0]
[null,null,null,null,null,null,null,null,null,0,0,0,0]
[null,null,null,null,null,null,null,null,null,{"$f":"$E60*F60","v":0},{"$f":"$E60*G60","v":0},{"$f":"$E60*H60","v":0},{"$f":"$E60*I60","v":0}]
["Summe",null,null,null,{"$f":"SUM(E14:E60)","v":0},null,null,null,null,{"$f":"SUM(J14:J60)","v":0},{"$f":"SUM(K14:K60)","v":0},{"$f":"SUM(L14:L60)","v":0},{"$f":"SUM(M14:M60)","v":0}]
[null,null,null,null,null,null,null,null,null,null,null,null,null,"*zur Berechnung des zulässigen Bilanzwertes"]
["Wirtschaftsdünger aus Zukauf/Aufnahme",null,null,null,"Menge dt","Nährstoffgehalt %, kg/dt FM",null,null,null,"Nährstoffe kg ",null,null,null,"N-Verluste bei der Ausbringung* "]
[null,"% TM",null,null,"1 m³ flüssig = 10 dt","N","P2O5","K2O","MgO","N","P2O5","K2O","MgO","%","kg"]
["Gülle"]
["Rindergülle",7.5,null,null,null,0.36,0.15,0.47,0.13,{"$f":"$E66*F66","v":0},{"$f":"$E66*G66","v":0},{"$f":"$E66*H66","v":0},{"$f":"$E66*I66","v":0},0.3,{"$f":"IF(N66=\"\",\"\",J66*N66)","v":0},"Werte aus dem Programm SSB-RLP Vers. 1.9 Original.xlsx des DLR Rheinhessen-Nahe-Hunsrück "]
["Gülle mit Eigenanalyse",null,null,null,null,null,null,null,null,0,0,0,0,null,{"$f":"IF(N67=\"\",\"\",J67*N67)","v":""}]
["Gülle mit Eigenanalyse",null,null,null,null,null,null,null,null,0,0,0,0,null,""]
["Gülle mit Eigenanalyse",null,null,null,null,null,null,null,null,0,0,0,0,null,""]
["Schweinegülle",5,null,null,null,0.47,0.28000000000000003,0.31,0.1,0,0,0,0,0.2,0]
["Hühnertrockenkot",40,null,null,null,2,1.65,1.4,0.65,0,0,0,0,0.3,0]
["Hühnertrockenkot",55,null,null,null,2.6,2.1,1.8,0.8,0,0,0,0,0.3,0]
["Hühnertrockenkot",70,null,null,null,3,2.5,2.2000000000000002,0.95,0,0,0,0,0.3,0]
["Festmist",null,null,null,null,null,null,null,null,null,null,null,null,null,""]
["Rindermist",25,null,null,null,0.61,0.33,1,0.2,{"$f":"$E75*F75","v":0},{"$f":"$E75*G75","v":0},{"$f":"$E75*H75","v":0},{"$f":"$E75*I75","v":0},0.65,0]
["Schweinemist",25,null,null,null,0.76,0.66,0.65,0.2,0,0,0,0,0.6,0]
["Schafmist",30,null,null,null,0.83,0.43,1.34,0.2,0,0,0,0,0.65,0]
["Pferdemist",30,null,null,null,0.45,0.3,0.72,0.15,0,0,0,0,0.65,0]
["Geflügelmist",50,null,null,null,2,1.62,1.8,0.5,0,0,0,0,0.6,0]
["Festmist mit Eigenanalyse",null,null,null,null,null,null,null,null,0,0,0,0,null,""]
["Festmist mit Eigenanalyse",null,null,null,null,null,null,null,null,0,0,0,0,null,""]
["Jauche",null,null,null,null,null,null,null,null,null,null,null,null,null,""]
["Rinderjauche",2,null,null,null,0.26,0.02,0.79,0.02,{"$f":"$E83*F83","v":0},{"$f":"$E83*G83","v":0},{"$f":"$E83*H83","v":0},{"$f":"$E83*I83","v":0},0.65,0]
["Jauche mit Eigenanalyse",null,null,null,null,null,null,null,null,0,0,0,0,null,""]
["Jauche mit Eigenanalyse",null,null,null,null,null,null,null,null,0,0,0,0,null,""]
["Biogasgärreste",null,null,null,null,null,null,null,null,null,null,null,null,null,""]
["Gärsubstrat flüssig",6,null,null,null,0.8,0.34,0.6,0.1,{"$f":"$E87*F87","v":0},{"$f":"$E87*G87","v":0},{"$f":"$E87*H87","v":0},{"$f":"$E87*I87","v":0},0.3,0]
["Gärsubstrat fest",null,null,null,null,0.6,0.4,0.4,7.0000000000000007E-2,0,0,0,0,0.6,0]
["Gärsubstrat mit Eigenanalyse flüssig",null,null,null,null,null,null,null,null,0,0,0,0,null,""]
["Gärsubstrat mit Eigenanalyse fest",null,null,null,null,null,null,null,null,0,0,0,0,null,""]
["Gärsubstrat mit Eigenanalyse",null,null,null,null,null,null,null,null,0,0,0,0,null,""]
["Sonstige",null,null,null,null,null,null,null,null,null,null,null,null,null,""]
[null,null,null,null,null,null,null,null,null,{"$f":"$E93*F93","v":0},{"$f":"$E93*G93","v":0},{"$f":"$E93*H93","v":0},{"$f":"$E93*I93","v":0},null,""]
[null,null,null,null,null,null,null,null,null,0,0,0,0,null,""]
[null,null,null,null,null,null,null,null,null,0,0,0,0,null,""]
[null,null,null,null,null,null,null,null,null,0,0,0,0,null,""]
[null,null,null,null,null,0.6,0.4,0.4,7.0000000000000007E-2,0,0,0,0,null,""]
["Summe",null,null,null,{"$f":"SUM(E66:E97)","v":0},null,null,null,null,{"$f":"SUM(J66:J97)","v":0},{"$f":"SUM(K66:K97)","v":0},{"$f":"SUM(L66:L97)","v":0},{"$f":"SUM(M66:M97)","v":0},null,{"$f":"SUM(O66:O97)","v":0}]
[null,null,null,null,null,null,null,null,null,null,null,null,null,"*zur Berechnung des zulässigen Bilanzwertes"]
["Organische Dünger aus Zukauf/Aufnahme",null,null,null,"Menge","Nährstoffgehalt %, kg/dt",null,null,null,"Nährstoffe kg ",null,null,null,"N-Verluste bei der Ausbringung* "]
[null,"% TM",null,null,"dt","N","P2O5","K2O","MgO","N","P2O5","K2O","MgO","%","kg"]
["Hornmehl, -grieß, -späne",90,null,null,null,14,5,1,0.28000000000000003,{"$f":"$E102*F102","v":0},{"$f":"$E102*G102","v":0},{"$f":"$E102*H102","v":0},{"$f":"$E102*I102","v":0},0.1,{"$f":"IF(N102=\"\",\"\",J102*N102)","v":0}]
["Eigene organische Dünger",null,null,null,null,null,null,null,null,0,0,0,0,0.1,0]
[null,null,null,null,null,null,null,null,null,0,0,0,0,0.1,0]
[null,null,null,null,null,null,null,null,null,0,0,0,0,0.1,0]
[null,null,null,null,null,null,null,null,null,0,0,0,0,0.1,0]
[null,null,null,null,null,null,null,null,null,0,0,0,0,0.1,0]
["Sedumin-Haarmehl-Pellets (Beispiel)",null,null,null,null,14,1.8,0.36,0.1,0,0,0,0,0.1,0]
["Haarmehl-Pellets, eigene Herkünfte",null,null,null,null,null,null,null,null,0,0,0,0,0.1,0]
[null,null,null,null,null,null,null,null,null,0,0,0,0,0.1,0]
["Rapsschrot",null,null,null,null,5.5,2.2999999999999998,1.6,0.73,0,0,0,0,0.1,0]
["Rhizinusschrot",70,null,null,null,5.7,2.4,1.4,0.8,0,0,0,0,0.1,0]
["Maltaflor",null,null,null,null,4,1,5,0.04,0,0,0,0,0.1,0]
["Vinasse",null,null,null,null,3.5,0.2,8,0.3,0,0,0,0,0.1,0]
["Erbsenschrot",null,null,null,null,3.5,1,1.5,0.13,0,0,0,0,0.1,0]
["Ackerbohnenschrot",null,null,null,null,4.5,1,1.5,0.28999999999999998,0,0,0,0,0.1,0]
["Lupinenschrot",null,null,null,null,5.5,1,1.5,0.27,0,0,0,0,0.1,0]
[null,null,null,null,null,null,null,null,null,0,0,0,0,0.1,0]
[null,null,null,null,null,null,null,null,null,0,0,0,0,0.1,0]
["Summe",null,null,null,{"$f":"SUM(E102:E119)","v":0},null,null,null,null,{"$f":"SUM(J102:J119)","v":0},{"$f":"SUM(K102:K119)","v":0},{"$f":"SUM(L102:L119)","v":0},{"$f":"SUM(M102:M119)","v":0},null,{"$f":"SUM(O102:O119)","v":0}]
[null,null,null,null,null,null,null,null,null,null,null,null,null,"*zur Berechnung des zulässigen Bilanzwertes"]
["Komposte, Bioabfälle, Pilzsubstrate aus Zukauf/Aufnahme",null,null,null,"Menge","Nährstoffgehalt %, kg/dt FM",null,null,null,"Nährstoffe kg ",null,null,null,"N-Verluste bei der Ausbringung* "]
[null,"% TM",null,null,"dt","N","P2O5","K2O","MgO","N","P2O5","K2O","MgO","%","kg"]
["Kompost"]
["Grüngut-Kompost",50,null,null,null,0.66,0.39,0.51,0.08,{"$f":"$E125*F125","v":0},{"$f":"$E125*G125","v":0},{"$f":"$E125*H125","v":0},{"$f":"$E125*I125","v":0},0.1,{"$f":"IF(N125=\"\",\"\",J125*N125)","v":0}]
["Grüngut-Häcksel",50,null,null,null,0.52,0.26,0.54,0.28999999999999998,0,0,0,0,0.1,0]
["Landschaftspflege Kompost",40,null,null,null,0.63,0.21,0.67,0.28999999999999998,0,0,0,0,0.1,0]
["Bioabfallkompost",60,null,null,null,1.28,0.56999999999999995,1.1000000000000001,0.48,0,0,0,0,0.1,0]
["Pilzsubstrat (Champignonkompost, Champost)",30,null,null,null,0.8,0.47,0.6,0.2,0,0,0,0,0.1,0]
["Pilzsubstrat mit eigenen Nährstoffangaben",null,null,null,null,null,null,null,null,0,0,0,0,0.1,0]
["Pilzsubstrat mit eigenen Nährstoffangaben",null,null,null,null,null,null,null,null,0,0,0,0,0.1,0]
["Tresterkompost",40,null,null,null,1.2,0.5,1.7,0.2,0,0,0,0,0.1,0]
["Kompost mit eigenen Nährstoffangaben",null,null,null,null,null,null,null,null,0,0,0,0,0.1,0]
["Kompost mit eigenen Nährstoffangaben",null,null,null,null,null,null,null,null,0,0,0,0,0.1,0]
["Sonstige organische Substrate u. Stoffe ",null,null,null,null,null,null,null,null,0,0,0,0,null,""]
["Grüngut frisch",20,null,null,null,5.2,2.1,6.1,0.9,0,0,0,0,0.1,0]
["Gemüseputzreste (Ø über alle Gemüsearten)",10,null,null,null,0.28514018691588788,9.9967245283018896E-2,0.45279773584905664,3.7609811320754673E-2,0,0,0,0,0.1,0]
["Weizenstroheinlage (für Erdbeeren ...), Rundballen (ca. 250 kg)",null,null,null,null,0.5,0.3,0.12,0.2,0,0,0,0,0.1,0]
["Trester frisch 40% TM, ","0,50 t/m³",null,null,null,0.74,0.23,0.78,7.0000000000000007E-2,0,0,0,0,0.1,0]
["Sägemehl",70,null,null,null,0.05,0.02,0.05,0.04,0,0,0,0,0.1,0]
["Baumrinde (1 m³ = 1 t)","0,4 t/m³",null,null,null,0.3,0.1,0.2,0.1,0,0,0,0,0.1,0]
["Kartoffelschlempe",5,null,null,null,0.28000000000000003,0.11,0.48,0.05,0,0,0,0,0.1,0]
["Weitere Stoffe mit eigenen Nährstoffangaben",null,null,null,null,null,null,null,null,0,0,0,0,0.1,0]
["Weitere Stoffe mit eigenen Nährstoffangaben",null,null,null,null,null,null,null,null,0,0,0,0,0.1,0]
[null,null,null,null,null,null,null,null,null,0,0,0,0,0.1,0]
[null,null,null,null,null,null,null,null,null,0,0,0,0,0.1,0]
["Kellereiabfälle",null,null,null,null,null,null,null,null,0,0,0,0,null,""]
["Mosttrub flüssig (1 m³= 10 dt)","-",null,null,null,0.5,0.03,0.3,0.01,0,0,0,0,0.1,0]
["Weinhefe flüssig (1 m³= 10 dt)",20,null,null,null,0.8,0.3,1.2,0.03,0,0,0,0,0.1,0]
["Weinhefe filtriert (1 m³= 7 dt)",40,null,null,null,1.6,0.6,2.4,7.0000000000000007E-2,0,0,0,0,0.1,0]
["Klärschlamm  (Im Gemüsebau verboten!!)",null,null,null,null,null,null,null,null,0,0,0,0,null,""]
["Klärschlamm  (Im Gemüsebau verboten!)",5,null,null,null,0.18,0.16,0.02,null,0,0,0,0,0.1,0]
["Klärschlamm  (Im Gemüsebau verboten!)",25,null,null,null,0.45,0.65,0.08,null,0,0,0,0,0.1,0]
["Klärschlamm  (Im Gemüsebau verboten!)",50,null,null,null,0.75,1.2,0.1,null,0,0,0,0,0.1,0]
["Summe",null,null,null,{"$f":"SUM(E125:E154)","v":0},null,null,null,null,{"$f":"SUM(J125:J154)","v":0},{"$f":"SUM(K125:K154)","v":0},{"$f":"SUM(L125:L154)","v":0},{"$f":"SUM(M125:M154)","v":0},null,{"$f":"SUM(O125:O154)","v":0}]
[]
["Bodenhilfsstoffe",null,null,null,"Menge","Nährstoffgehalt %, kg/dt",null,null,null,"Nährstoffe kg"]
[null,null,null,null,"dt","N","P2O5","K2O","MgO","N","P2O5","K2O","MgO"]
["Quanterna® Bio Terra",null,null,null,null,1.5,0.2,0.7,0,{"$f":"E159*F159","v":0},{"$f":"E159*G159","v":0},{"$f":"E159*H159","v":0},{"$f":"E159*I159","v":0}]
["Phytoamin",null,null,null,null,0.06,0,1.6,0,0,0,0,0]
[null,null,null,null,null,null,null,null,null,0,0,0,0]
[null,null,null,null,null,null,null,null,null,{"$f":"E162*F162","v":0},{"$f":"E162*G162","v":0},{"$f":"E162*H162","v":0},{"$f":"E162*I162","v":0}]
[null,null,null,null,null,null,null,null,null,0,0,0,0]
[null,null,null,null,null,null,null,null,null,0,0,0,0]
[null,null,null,null,null,null,null,null,null,0,0,0,0]
["Summe",null,null,null,{"$f":"SUM(E159:E165)","v":0},null,null,null,null,{"$f":"SUM(J159:J165)","v":0},{"$f":"SUM(K159:K165)","v":0},0,0]
[]
["Pflanzenhilfsmittel",null,null,null,"Menge","Nährstoffgehalt %, kg/dt",null,null,null,"Nährstoffe kg"]
[null,null,null,null,"dt","N","P2O5","K2O","MgO","N","P2O5","K2O","MgO"]
["Happy Green",null,null,null,null,null,null,null,null,{"$f":"E170*F170","v":0},{"$f":"E170*G170","v":0},{"$f":"E170*H170","v":0},{"$f":"E170*I170","v":0}]
["Terralyt Plus",null,null,null,null,null,null,null,null,0,0,0,0]
[null,null,null,null,null,null,null,null,null,0,0,0,0]
[null,null,null,null,null,null,null,null,null,0,0,0,0]
[null,null,null,null,null,null,null,null,null,0,0,0,0]
[null,null,null,null,null,null,null,null,null,0,0,0,0]
[null,null,null,null,null,null,null,null,null,0,0,0,0]
["Summe",null,null,null,{"$f":"SUM(E170:E176)","v":0},null,null,null,null,{"$f":"SUM(J170:J176)","v":0},{"$f":"SUM(K170:K176)","v":0},0,0]
[]
["Kultursubstrate",null,null,null,"Menge","Nährstoffgehalt %, kg/dt",null,null,null,"Nährstoffe kg"]
[null,null,null,null,"dt","N","P2O5","K2O","MgO","N","P2O5","K2O","MgO"]
["Derzeit keine veröffentlichten Daten vorhanden",null,null,null,null,null,null,null,null,{"$f":"E181*F181","v":0},{"$f":"E181*G181","v":0},{"$f":"E181*H181","v":0},{"$f":"E181*I181","v":0}]
[null,null,null,null,null,null,null,null,null,0,0,0,0]
[null,null,null,null,null,null,null,null,null,{"$f":"E182*F182","v":0},{"$f":"E182*G182","v":0},{"$f":"E182*H182","v":0},{"$f":"E182*I182","v":0}]
[null,null,null,null,null,null,null,null,null,{"$f":"E183*F183","v":0},{"$f":"E183*G183","v":0},{"$f":"E183*H183","v":0},{"$f":"E183*I183","v":0}]
[null,null,null,null,null,null,null,null,null,0,0,0,0]
[null,null,null,null,null,null,null,null,null,0,0,0,0]
[null,null,null,null,null,null,null,null,null,0,0,0,0]
["Summe",null,null,null,{"$f":"SUM(E159:E187)","v":0},null,null,null,null,{"$f":"SUM(J159:J187)","v":0},{"$f":"SUM(K159:K187)","v":0},{"$f":"SUM(L159:L187)","v":0},{"$f":"SUM(M159:M187)","v":0}]
[]
["Saatgut, Pflanzgut, Vermehrungsmaterial",null,null,null,"Menge","Nährstoffgehalt %, kg/dt",null,null,null,"Nährstoffe kg"]
[null,null,"Vorschlag  dt/ha",null,"dt","N","P2O5","K2O","MgO","N","P2O5","K2O","MgO"]
["Getreide",null,1.8,null,null,1.8,0.8,0.6,0.2,{"$f":"E192*F192","v":0},{"$f":"E192*G192","v":0},{"$f":"E192*H192","v":0},{"$f":"E192*I192","v":0}]
["Mais",null,0.3,null,null,1.4,0.8,0.5,0.2,{"$f":"E193*F193","v":0},0,0,0]
["Ackerbohnen",null,1.8,null,null,4.0999999999999996,1.2,1.4,0.2,0,0,0,0]
["Erbsen",null,1.6,null,null,3.6,1.1000000000000001,1.4,0.2,0,0,0,0]
["Sojabohnen",null,1,null,null,4.4000000000000004,1.5,1.94,0.33,0,0,0,0]
["Lupinen blau",null,1.5,null,null,4.4800000000000004,1.02,0.99,0.2,{"$f":"E197*F197","v":0},{"$f":"E197*G197","v":0},{"$f":"E197*H197","v":0},{"$f":"E197*I197","v":0}]
["Kartoffeln",null,25,null,null,0.35,0.14000000000000001,0.6,0.04,0,0,0,0]
["Summe",null,null,null,{"$f":"SUM(E192:E198)","v":0},null,null,null,null,{"$f":"SUM(J192:J198)","v":0},{"$f":"SUM(K192:K198)","v":0},0,0]
[]
["N-Bindung Leguminosen",null,"Ertrag",null,"Anbau-\nfläche","N-\nBindung","Symbiontische \nN-Bindung"]
[null,null,"Vorschlag","dt FM/ha","ha","kg","kg/ha","kg/dt FM"]
["Gemüse"]
["Buschbohnen, frisch",null,120,null,null,{"$f":"E204*G204","v":0},{"$f":"IF(D204=\"\",C204*H204,D204*H204)","v":36},0.3]
["Stangenbohnen, frisch ",null,250,null,null,{"$f":"E205*G205","v":0},25,0.1]
["Markerbse, frisch",null,60,null,null,{"$f":"E206*G206","v":0},24,0.4]
["Körner, Landwirtschaft"]
["Ackerbohne (30% RP, 86% TM)",null,35,null,null,{"$f":"E208*G208","v":0},{"$f":"IF(D208=\"\",C208*H208,D208*H208)","v":175},5]
["Körnererbse (30% RP, 86% TM)",null,35,null,null,0,154,4.4000000000000004]
["Kleevermehrung",null,6,null,null,0,165,27.5]
["Luzernevermehrung",null,6,null,null,0,171,28.5]
["Linse (30% RP, 86% TM)",null,15,null,null,0,65.25,4.3499999999999996]
["Lupine blau (33% RP, 86% TM)",null,30,null,null,0,150,5]
["Sojabohne (32% RP, 86% TM)",null,20,null,null,0,106,5.3]
["Trockenspeiseerbse (26% RP, 86% TM)",null,35,null,null,{"$f":"E215*G215","v":0},152.25,4.3499999999999996]
["Wicke (26% RP, 86% TM)",null,15,null,null,0,65.849999999999994,4.3899999999999997]
["Ganzpflanze Landwirtschaft, Zwischenfrüchte"]
["Ackerbohne (20% TM)",null,250,null,null,{"$f":"E218*G218","v":0},{"$f":"IF(D218=\"\",C218*H218,D218*H218)","v":95},0.38]
["Esparsette (20% TM)",null,200,null,null,{"$f":"E219*G219","v":0},94,0.47]
["Futtererbse (20% TM)",null,250,null,null,0,95,0.38]
["Klee (20% TM)",null,450,null,null,0,292.5,0.65]
["Klee : Gras (50 : 50)",null,500,null,null,0,165,0.33]
["Klee : Gras (70 : 30)",null,500,null,null,{"$f":"E223*G223","v":0},230,0.46]
["Kleegras (30 : 70)",null,450,null,null,{"$f":"E224*G224","v":0},90,0.2]
["Lupine Futter (20% TM)",null,250,null,null,0,95,0.38]
["Alexandrinerklee",null,250,null,null,0,60,0.24]
["Luzerne  (20% TM)",null,400,null,null,0,260,0.65]
["Luzerne : Gras (50 : 50)",null,500,null,null,0,165,0.33]
["Luzerne : Gras (70 : 30)",null,500,null,null,{"$f":"E229*G229","v":0},230,0.46]
["Luzernegras (30 : 70)",null,530,null,null,{"$f":"E230*G230","v":0},106,0.2]
["Seradella",null,150,null,null,{"$f":"E231*G231","v":0},57,0.38]
["Sonst. Einjährige Leguminosenfutterpflanzen",null,250,null,null,{"$f":"E232*G232","v":0},95,0.38]
["Wicke, Futter (20% TM)",null,200,null,null,{"$f":"E233*G233","v":0},76,0.38]
["Wicke, Sommer",null,250,null,null,0,60,0.24]
["Erbsen/Wicken/Sonnenblumen",null,250,null,null,0,60,0.24]
["Untersaat mit Leguminosen",null,150,null,null,0,36,0.24]
["zusätzl. Zwischenfrucht (Leguminosen)",null,250,null,null,0,60,0.24]
["zusätzl. Zwischenfrucht (Gemenge Leg./Nichtleg.)",null,250,null,null,0,{"$f":"IF(D238=\"\",C238*H238,D238*H238)","v":50},0.2]
[null,null,null,null,null,0,{"$f":"IF(D239=\"\",C239*H239,D239*H239)","v":0}]
[null,null,null,null,null,0,0]
[null,null,null,null,null,{"$f":"E241*G241","v":0},0]
[null,null,null,null,null,{"$f":"E242*G242","v":0},0]
[null,null,null,null,null,0,0]
[null,null,null,null,null,0,0]
[null,null,null,null,null,0,0]
["Summe",null,null,null,{"$f":"SUM(E204:E245)","v":0},{"$f":"SUM(F204:F245)","v":0}]
[]
[null,null,null,null,null,null,null,null,"Nährstoffzufuhr kg/Betrieb"]
[null,null,null,null,null,null,null,null,"Gesamt","N","P2O5","K2O","MgO"]
[null,null,null,null,null,null,null,null,null,{"$f":"SUM(J61,J98,J120,J155,J166,J177,J188,J199,F246)","v":0},{"$f":"SUM(K61,K98,K120,K155,K166,K177,K188,K199)","v":0},{"$f":"SUM(L61,L98,L120,L155,L166,L177,L188,L199)","v":0},{"$f":"SUM(M61,M98,M120,M155,M166,M177,M188,M199)","v":0}]
[]
[]
[null,null,null,null,null,null,null,null,null,null,null,null,"nach oben"]

{"sheet":"Nährstoffabgabe","index":3,"n_rows":624,"n_cols":18,"rows_kept":624,"cut":false,"hidden":false,"merged":[[2,6,2,9],[0,6,0,13],[2,12,2,13],[2,10,2,11],[573,5,573,8],[11,13,11,15],[270,9,270,12],[131,9,131,12],[11,9,11,12],[11,5,11,8],[129,5,129,8],[316,5,316,8],[318,5,318,8],[318,9,318,12],[366,9,366,12],[8,0,8,15],[11,0,12,0],[621,8,621,12],[622,8,623,8],[131,0,132,0],[131,5,131,8],[621,6,621,7],[622,6,623,7],[364,5,364,8],[366,5,366,8],[318,0,319,0],[268,5,268,8],[270,5,270,8],[366,0,367,0],[299,5,299,8],[575,0,576,1],[589,0,590,1],[589,9,589,12],[589,5,589,8],[575,9,575,12],[575,5,575,8],[11,1,11,2],[131,1,131,2],[270,1,270,2],[318,1,318,2],[366,1,366,2],[618,0,618,3],[609,0,609,3],[598,0,599,1],[598,5,598,8],[598,9,598,12],[607,0,608,1],[607,9,607,12],[607,5,607,8],[616,0,617,1],[616,5,616,8],[616,9,616,12]]}
["Nährstoffabgabe",null,{"$f":"Betriebsangaben_Vorgehensweise!F8","v":0},null,null,null,"Durch den Befehl Strg + D werden nur die eingegebenen Daten aus den Tabellenblättern \n\"Nährstoffzufuhr\" bzw. \"Nährstoffabfuhr\" in \"Ausdruck Zu- und Abfuhr\" angezeigt."]
[]
["Betrieb:",null,{"$f":"Betriebsangaben_Vorgehensweise!B4","v":0},null,null,null,"Änderungen rot",null,null,null,"Datum:",null,{"$f":"IF(Betriebsangaben_Vorgehensweise!F9=\"\",\"\",Betriebsangaben_Vorgehensweise!F9)","v":""}]
[null,null,{"$f":"Betriebsangaben_Vorgehensweise!B5","v":0}]
[null,null,{"$f":"Betriebsangaben_Vorgehensweise!B6","v":0},null,null,null,null,null,null,null,null,null,null,"Zurück zum Inhalt"]
[]
["Nur graue Felder ausfüllen!"]
["Die Abgabemenge berechnet sich aus dem Marktertrag und der Anbaufläche, kann aber auch direkt eingegeben werden (Nachweis über Lieferscheine, Rechnungen)."]
["Weichen die vorgeschlagenen Markterträge pro ha nachweislich ab, ist eine Korrektur im Feld \"Marktertrag im Betrieb\" in dt möglich. Die Berechnung erfolgt dann auf dieser Grundlage."]
["Für die Dauerkulturen Rhabarber und Spargel werden jahresabhängig langjährige P-Festlegungen zum Aufbau des Dauerwurzel- und Rhizomsystem in der Bilanz berücksichtigt."]
[]
["Gemüse","Marktertrag \ndt/ha FM",null,"Anbau-fläche","Abgabemenge","Nährstoffgehalt kg/dt FM",null,null,null,"Nährstoffabgabe kg/Betrieb\n(inkl. Nährstofffestlegung)",null,null,null,"Nährstofffestlegung Dauerkulturen kg/ha"]
[null,"Vorschlag","Betrieb","ha","dt FM","N","P2O5","K2O","MgO","N","P2O5","K2O","MgO","P2O5","K2O","MgO"]
["Artischocke",160,null,null,{"$f":"IF(C14=\"\",B14*D14,C14*D14)","v":0},0.19,0.25,0.88,0.13,{"$f":"$E14*F14","v":0},{"$f":"$E14*G14","v":0},{"$f":"$E14*H14","v":0},{"$f":"$E14*I14","v":0}]
["Aubergine",600,null,null,0,0.28000000000000003,0.05,0.3,0.06,0,0,0,0]
["Blumenkohl",350,null,null,0,0.28000000000000003,0.10309499999999999,0.36119999999999997,1.6580000000000001E-2,0,0,0,0]
["Brokkoli",150,null,null,0,0.45,0.14891499999999999,0.45751999999999998,3.3160000000000002E-2,0,0,0,0]
["Buschbohne",120,null,null,0,0.25,9.1639999999999999E-2,0.30099999999999999,0.04,0,0,0,0]
["Chicoree-Rüben",450,null,null,0,0.25,0.12142299999999999,0.54179999999999995,6.6320000000000004E-2,0,0,0,0]
["Chinakohl",700,null,null,0,0.15,9.1639999999999999E-2,0.3,1.6580000000000001E-2,0,0,0,0]
["Dicke Bohne, Korn",65,null,null,0,1.1000000000000001,0.25,0.4,0.05,0,0,0,0]
["Dill, Industrie",250,null,null,0,0.3,9.1639999999999999E-2,0.60199999999999998,0.04,0,0,0,0]
["Dill, Frischmarkt",200,null,null,0,0.3,9.1639999999999999E-2,0.60199999999999998,0.04,0,0,0,0]
["Edamame",180,null,null,{"$f":"IF(C24=\"\",B24*D24,C24*D24)","v":0},1,0.27,0.5,0.11,{"$f":"$E24*F24","v":0},{"$f":"$E24*G24","v":0},{"$f":"$E24*H24","v":0},{"$f":"$E24*I24","v":0}]
["Erbsen (Gemüseerbse)",80,null,null,0,1,0.2291,0.36119999999999997,0.06,0,0,0,0]
["Feldsalat",80,null,null,0,0.45,9.8512999999999989E-2,0.65016000000000007,6.6320000000000004E-2,0,0,0,0]
["Feldsalat, großblättrig",130,null,null,0,0.45,9.8512999999999989E-2,0.65016000000000007,6.6320000000000004E-2,0,0,0,0]
["Grünkohl",400,null,null,0,0.49,0.16300000000000001,0.54179999999999995,0.04,0,0,0,0]
["Gurke, Einleger",800,null,null,0,0.15,6.8729999999999999E-2,0.24080000000000001,0.02,0,0,0,0]
["Gurke, Salat",3000,null,null,0,0.15,6.8729999999999999E-2,0.24080000000000001,0.02,0,0,0,0]
["Knoblauch, trocken",140,null,null,0,0.45,0.3,0.5,4.4999999999999998E-2,0,0,0,0]
["Knollenfenchel",400,null,null,0,0.2,6.8729999999999999E-2,0.48160000000000003,3.3160000000000002E-2,0,0,0,0]
["Kohlrabi",450,null,null,0,0.28000000000000003,0.10309499999999999,0.42139999999999994,0.03,0,0,0,0]
["Kohlrübe",500,null,null,0,0.26,0.16,0.65,0.08,0,0,0,0]
["Kürbis",400,null,null,0,0.25,0.20599999999999999,0.55000000000000004,0.06,0,0,0,0]
["Mairübe mit Laub",650,null,null,0,0.17,0.1031,0.4214,3.5999999999999997E-2,0,0,0,0]
["Mangold",180,null,null,0,0.32,0.09,0.48,7.0000000000000007E-2,0,0,0,0]
["Meerrettich",200,null,null,0,0.69,0.22,0.72,7.0000000000000007E-2,0,0,0,0]
["Melone, Wasser-",200,null,null,0,0.15,7.0000000000000007E-2,0.3,0.05,0,0,0,0]
["Melone, Zucker-",200,null,null,0,0.15,7.0000000000000007E-2,0.3,0.05,0,0,0,0]
["Möhre, Bund",600,null,null,0,0.17,8.2475999999999994E-2,0.52976000000000001,0.05,0,0,0,0]
["Möhre, Wasch",700,null,null,0,0.13,0.08,0.42139999999999994,0.03,0,0,0,0]
["Möhre. Industrie",900,null,null,0,0.13,0.08,0.42139999999999994,0.03,0,0,0,0]
["Pak Choi ",700,null,null,0,0.22,6.9000000000000006E-2,0.42,1.7000000000000001E-2,0,0,0,0]
["Pak Choi, mini",600,null,null,0,0.22,6.9000000000000006E-2,0.42,1.7000000000000001E-2,0,0,0,0]
["Paprika",600,null,null,0,0.17,7.0000000000000007E-2,0.28999999999999998,0.02,0,0,0,0]
["Pastinake",400,null,null,0,0.25,0.23597299999999999,0.72239999999999993,0.09,0,0,0,0]
["Petersilie, Blatt-, 1. Schnitt",240,null,null,0,0.45,0.11455,0.66220000000000001,0.04,0,0,0,0]
["Petersilie, Blatt-, weiterer Schnitt",160,null,null,0,0.45,0.11455,0.66220000000000001,0.04,0,0,0,0]
["Petersilie, Wurzel-",400,null,null,0,0.42,0.13746,0.84279999999999988,0.09,0,0,0,0]
["Porree (Lauch)",600,null,null,0,0.25,8.0185000000000006E-2,0.36119999999999997,3.3160000000000002E-2,0,0,0,0]
["Portulak, Sommer bis 1. Schnitt",150,null,null,0,0.33,0.11,0.53,0.02,0,0,0,0]
["Portulak, Sommer nach einem Schnitt",100,null,null,0,0.33,0.11,0.53,0.02,0,0,0,0]
["Portulak, Winter- (Postelein) bis 1. Schnitt",150,null,null,0,0.33,0.11,0.53,0.02,0,0,0,0]
["Portulak, Winter- (Postelein) nach einem Schnitt",100,null,null,0,0.33,0.11,0.53,0.02,0,0,0,0]
["Radieschen",300,null,null,{"$f":"IF(C56=\"\",B56*D56,C56*D56)","v":0},0.2,6.8729999999999999E-2,0.33712000000000003,3.3160000000000002E-2,{"$f":"$E56*F56","v":0},{"$f":"$E56*G56","v":0},{"$f":"$E56*H56","v":0},{"$f":"$E56*I56","v":0}]
["Rettich, Bund ",500,null,null,0,0.17,7.5603000000000004E-2,0.36119999999999997,3.3160000000000002E-2,0,0,0,0]
["Rettich, deutsch",550,null,null,0,0.14000000000000001,8.0185000000000006E-2,0.39732000000000001,1.6580000000000001E-2,0,0,0,0]
["Rettich, japanisch",1000,null,null,0,0.1,5.9565999999999994E-2,0.33712000000000003,1.6580000000000001E-2,0,0,0,0]
["Rhabarber, 1. Standjahr (Pflanzjahr), 10.000 Pfl./ha",0,null,null,0,0.18,9.1999999999999998E-2,0.48,2.5000000000000001E-2,0,0,0,0,53,93,25]
["Rhabarber, 2. Standjahr, 10.000 Pfl./ha",100,null,null,0,0.18,9.1999999999999998E-2,0.48,2.5000000000000001E-2,0,0,0,0,53,93,25]
["Rhabarber, 3. Standjahr, 10.000 Pfl./ha",200,null,null,0,0.18,9.1999999999999998E-2,0.48,2.5000000000000001E-2,0,0,0,0,null,93,25]
["Rhabarber, ab 4. Standjahr, 10.000 Pfl./ha",350,null,null,0,0.18,9.1999999999999998E-2,0.48,2.5000000000000001E-2,0,0,0,0]
["Rosenkohl, Röschen",250,null,null,0,0.65,0.19473500000000002,0.66220000000000001,0.04,0,0,0,0]
["Rote Rübe, Bund",500,null,null,0,0.27,0.1,0.55000000000000004,8.3000000000000004E-2,0,0,0,0]
["Rote Rübe, Knolle",600,null,null,0,0.28000000000000003,0.11455,0.48160000000000003,4.9739999999999993E-2,0,0,0,0]
["Rote Rüben, Baby Beet",400,null,null,0,0.28000000000000003,0.115,0.48160000000000003,4.9739999999999993E-2,0,0,0,0]
["Rotkohl",600,null,null,0,0.22,8.0185000000000006E-2,0.36119999999999997,0.03,0,0,0,0]
["Rucola, Feinware, alle Kulturverfahren",175,null,null,0,0.4,0.10309499999999999,0.52976000000000001,4.9739999999999993E-2,0,0,0,0]
["Rucola, Grobware, alle Kulturverfahren",300,null,null,0,0.4,0.1,0.53,0.05,0,0,0,0]
["Salate, Baby Leaf",140,null,null,0,0.35,8.0185000000000006E-2,0.60199999999999998,0.05,0,0,0,0]
["Salate, Blatt grün (Lollo, Eichblatt, Krull)",350,null,null,0,0.19,6.8729999999999999E-2,0.44547999999999999,1.6580000000000001E-2,0,0,0,0]
["Salate, Blatt rot (Lollo, Eichblatt, Krull)",300,null,null,0,0.19,6.8729999999999999E-2,0.44547999999999999,1.6580000000000001E-2,0,0,0,0]
["Salate, Eissalat",600,null,null,0,0.14000000000000001,5.7000000000000002E-2,0.3,0.02,0,0,0,0]
["Salate, Eissalat x Romana, Crunchy Cos",600,null,null,0,0.2,9.1999999999999998E-2,0.4,2.1999999999999999E-2,0,0,0,0]
["Salate, Endivien, Frisee",350,null,null,0,0.25,0.06,0.55000000000000004,0.03,0,0,0,0]
["Salate, Endivien, glattblättrig",600,null,null,0,0.2,0.06,0.55000000000000004,0.03,0,0,0,0]
["Salate, Kopfsalat",500,null,null,0,0.18,6.8729999999999999E-2,0.36119999999999997,0.03,0,0,0,0]
["Salate, Radicchio",280,null,null,0,0.25,9.1999999999999998E-2,0.48,0.03,0,0,0,0]
["Salate, Romana",450,null,null,0,0.2,9.1999999999999998E-2,0.4,2.1999999999999999E-2,0,0,0,0]
["Salate, Romana, Herzen-",300,null,null,0,0.24,9.1999999999999998E-2,0.4,2.1999999999999999E-2,0,0,0,0]
["Salate, verschiedene Arten",400,null,null,0,0.19,6.9000000000000006E-2,0.36119999999999997,0.03,0,0,0,0]
["Salate, Zuckerhut",600,null,null,0,0.2,0.11455,0.30099999999999999,1.6580000000000001E-2,0,0,0,0]
["Schnittlauch, 1. Schnitt",300,null,null,0,0.5,0.13746,0.54179999999999995,0.06,0,0,0,0]
["Schnittlauch, Anbau für Treiberei",280,null,null,0,0.5,0.14000000000000001,0.54,5.8000000000000003E-2,0,0,0,0]
["Schnittlauch, weiterer Schnitt",200,null,null,0,0.5,0.13746,0.54179999999999995,0.06,0,0,0,0]
["Schwarzwurzel",200,null,null,0,0.23,0.16,0.38500000000000001,4.1000000000000002E-2,0,0,0,0]
["Sellerie, Bund-",600,null,null,{"$f":"IF(C88=\"\",B88*D88,C88*D88)","v":0},0.27,0.126,0.56999999999999995,3.3000000000000002E-2,{"$f":"$E88*F88","v":0},{"$f":"$E88*G88","v":0},{"$f":"$E88*H88","v":0},{"$f":"$E88*I88","v":0}]
["Sellerie, Knollen-",650,null,null,0,0.25,0.14891499999999999,0.54179999999999995,2.5000000000000001E-2,0,0,0,0]
["Sellerie, Stangen-",500,null,null,0,0.25,0.11455,0.54179999999999995,3.3160000000000002E-2,0,0,0,0]
["Spargel, 1. Standjahr (Pflanzjahr), ≥20.000 Pfl./ha",0,null,null,0,0.26,8.2000000000000003E-2,0.24,1.7999999999999999E-2,0,0,0,0,78,112.2,12]
["Spargel, 10. Standjahr, ≥20.000 Pfl./ha",100,null,null,0,0.26,8.2000000000000003E-2,0.24,1.7999999999999999E-2,0,0,0,0]
["Spargel, 2. Standjahr, ≥20.000 Pfl./ha, mit Ernte",20,null,null,0,0.26,8.2000000000000003E-2,0.24,1.7999999999999999E-2,0,0,0,0,78,184.2,19.7]
["Spargel, 2. Standjahr, ≥20.000 Pfl./ha, ohne Ernte",0,null,null,0,0.26,8.2000000000000003E-2,0.24,1.7999999999999999E-2,0,0,0,0,78,184.2,19.7]
["Spargel, 3. Standjahr, ≥20.000 Pfl./ha",80,null,null,0,0.26,8.2000000000000003E-2,0.24,1.7999999999999999E-2,0,0,0,0,null,169.8,18.7]
["Spargel, 4. Standjahr, ≥20.000 Pfl./ha",100,null,null,0,0.26,8.2000000000000003E-2,0.24,1.7999999999999999E-2,0,0,0,0,null,42,8.1999999999999993]
["Spargel, 5. Standjahr, ≥20.000 Pfl./ha",100,null,null,0,0.26,8.2000000000000003E-2,0.24,1.7999999999999999E-2,0,0,0,0]
["Spargel, 6. Standjahr, ≥20.000 Pfl./ha",100,null,null,0,0.26,8.2000000000000003E-2,0.24,1.7999999999999999E-2,0,0,0,0]
["Spargel, 7. Standjahr, ≥20.000 Pfl./ha",100,null,null,0,0.26,8.2000000000000003E-2,0.24,1.7999999999999999E-2,0,0,0,0]
["Spargel, 8. Standjahr, ≥20.000 Pfl./ha",100,null,null,0,0.26,8.2000000000000003E-2,0.24,1.7999999999999999E-2,0,0,0,0]
["Spargel, 9. Standjahr, ≥20.000 Pfl./ha",100,null,null,0,0.26,8.2000000000000003E-2,0.24,1.7999999999999999E-2,0,0,0,0]
["Spargel, Umbruchjahr, ≥20.000 Pfl./ha",100,null,null,0,0.26,8.2000000000000003E-2,0.24,1.7999999999999999E-2,0,0,0,0]
["Spinat, Blatt-, Frischmarkt, Babyleaf",130,null,null,0,0.45,0.11,0.66,8.3000000000000004E-2,0,0,0,0]
["Spinat, Blatt-, Standard",250,null,null,0,0.4,0.11455,0.66220000000000001,8.3000000000000004E-2,0,0,0,0]
["Spinat, Hack-, Standard",300,null,null,0,0.36,0.11455,0.66,8.3000000000000004E-2,0,0,0,0]
["Spinat, Winter, früh*",310,null,null,0,0.49,0.115,0.66,8.3000000000000004E-2,0,0,0,0]
["Spinat, Winter, spät/mittel*",360,null,null,0,0.51,0.115,0.66,8.3000000000000004E-2,0,0,0,0]
["Stangenbohne ",250,null,null,0,0.25,9.1639999999999999E-2,0.30099999999999999,0.04,0,0,0,0]
["Süßkartoffel Knolle",400,null,null,0,0.39,0.15,0.67,0.06,0,0,0,0]
["Teltower Rübchen (Herbstanbau)",150,null,null,0,0.45,0.24060000000000001,0.66220000000000001,8.3000000000000004E-2,0,0,0,0]
["Tomate",2000,null,null,0,0.17,0.05,0.39,0.02,0,0,0,0]
["Weißkohl, Frischmarkt (inkl. spitz, flach)",700,null,null,0,0.2,7.3312000000000002E-2,0.31303999999999998,2.5000000000000001E-2,0,0,0,0]
["Weißkohl, Industrie (inkl. spitz, flach)",1000,null,null,0,0.2,7.3312000000000002E-2,0.31303999999999998,2.5000000000000001E-2,0,0,0,0]
["Wirsing",400,null,null,0,0.35,0.11455,0.38528000000000001,2.5000000000000001E-2,0,0,0,0]
["Zucchini",650,null,null,0,0.16,5.9565999999999994E-2,0.20468,2.7E-2,0,0,0,0]
["Zuckermais",200,null,null,0,0.35,0.16037000000000001,0.26488,5.8000000000000003E-2,0,0,0,0]
["Zwiebel, Bund",680,null,null,0,0.2,0.06,0.24080000000000001,3.3160000000000002E-2,0,0,0,0]
["Zwiebel, Schalotte",450,null,null,0,0.27,0.105,0.3,2.9000000000000001E-2,0,0,0,0]
["Zwiebel, Trocken",600,null,null,0,0.18,0.08,0.24,2.5000000000000001E-2,0,0,0,0]
[null,null,null,null,{"$f":"IF(C120=\"\",B120*D120,C120*D120)","v":0},null,null,null,null,{"$f":"$E120*F120","v":0},{"$f":"$E120*G120","v":0},{"$f":"$E120*H120","v":0},{"$f":"$E120*I120","v":0}]
[null,null,null,null,0,null,null,null,null,0,0,0,0]
[null,null,null,null,0,null,null,null,null,0,0,0,0]
[null,null,null,null,0,null,null,null,null,0,0,0,0]
[null,null,null,null,0,null,null,null,null,0,0,0,0]
[null,null,null,null,0,null,null,null,null,0,0,0,0]
[null,null,null,null,0,null,null,null,null,0,0,0,0]
[null,null,null,null,0,null,null,null,null,0,0,0,0]
[null,null,null,null,{"$f":"IF(C128=\"\",B128*D128,C128*D128)","v":0},null,null,null,null,{"$f":"$E128*F128","v":0},{"$f":"$E128*G128","v":0},{"$f":"$E128*H128","v":0},{"$f":"$E128*I128","v":0}]
[null,null,null,null,0,null,null,null,null,0,0,0,0]
["Summe",null,null,{"$f":"SUM(D14:D129)","v":0},{"$f":"SUM(E14:E129)","v":0},null,null,null,null,{"$f":"SUM(J14:J129)","v":0},{"$f":"SUM(K14:K129)","v":0},{"$f":"SUM(L14:L129)","v":0},{"$f":"SUM(M14:M129)","v":0}]
["Bei zusätzlicher Ernte des Nebenernteproduktes (Stroh, Blatt, Ganzpfl.) ist der Marktertrag des Haupternteproduktes anzugeben! Gehaltsangaben der Nebenernteprodukte dienen nur zum Vergleich."]
["Ackerbau","Marktertrag \ndt/ha FM",null,"Anbau-fläche","Abgabemenge","Nährstoffgehalt kg/dt FM",null,null,null,"Nährstoffabgabe kg/Betrieb"]
[null,"Vorschlag","Betrieb","ha","dt FM","N","P2O5","K2O","MgO","N","P2O5","K2O","MgO"]
["Getreide, Körnermais"]
["Dinkel (mit Spelzen), 12 % RP in TM_Korn",55,null,null,{"$f":"IF(C135=\"\",B135*D135,C135*D135)","v":0},1.65,0.8,0.8,0.2,{"$f":"$E135*F135","v":0},{"$f":"$E135*G135","v":0},{"$f":"$E135*H135","v":0},{"$f":"$E135*I135","v":0}]
["Dinkel (mit Spelzen), 12 % RP in TM_Korn + Stroh (1: 0,8)",55,null,null,0,2.0499999999999998,1.04,1.92,0.36,0,0,0,0,null,null,null,null," "]
["Dinkel (mit Spelzen), 12 % RP in TM_Stroh",{"$f":"B136*0.8","v":44},null,null,0,0.5,0.3,1.4,0.2,0,0,0,0,null,null,null,null," "]
["Gerste, Brau 10 % RP in TM_Korn",50,null,null,0,1.38,0.8,0.6,0.2,0,0,0,0,null,null,null,null," "]
["Gerste, Brau 10 % RP in TM_Korn + Stroh (1: 0,7)",50,null,null,0,1.73,1.01,1.79,0.27,0,0,0,0,null,null,null,null," "]
["Gerste, Brau 10 % RP in TM_Stroh",{"$f":"B139*0.7","v":35},null,null,0,0.5,0.3,0.5,0.1,0,0,0,0,null,null,null,null," "]
["Gerste, Brau 11 % RP in TM_Korn",50,null,null,0,1.51,0.8,0.6,0.1,0,0,0,0]
["Gerste, Brau 11 % RP in TM_Korn + Stroh (1: 0,7)",50,null,null,0,1.86,1.01,1.79,0.27,0,0,0,0]
["Gerste, Brau 11 % RP in TM_Stroh",{"$f":"B142*0.7","v":35},null,null,0,0.5,0.3,0.5,0.1,0,0,0,0]
["Gerste, Sommerfutter 12 % RP in TM_Korn",50,null,null,0,1.65,0.8,0.6,0.2,0,0,0,0]
["Gerste, Sommerfutter 12 % RP in TM_Korn + Stroh (1: 08)",50,null,null,0,2.0499999999999998,1.04,1.96,0.28000000000000003,0,0,0,0]
["Gerste, Sommerfutter 12 % RP in TM_Stroh",{"$f":"B145*0.8","v":40},null,null,0,0.5,0.3,1.7,0.1,0,0,0,0]
["Gerste, Sommerfutter 13 % RP in TM_Korn",50,null,null,0,1.79,0.8,0.6,0.2,0,0,0,0]
["Gerste, Sommerfutter 13 % RP in TM_Korn + Stroh (1: 0,8)",50,null,null,0,2.19,1.04,1.96,0.28000000000000003,0,0,0,0]
["Gerste, Sommerfutter 13 % RP in TM_Stroh",{"$f":"B148*0.8","v":40},null,null,0,0.5,0.3,1.7,0.1,0,0,0,0]
["Gerste, Winter 12 % RP in TM_Korn",60,null,null,0,1.65,0.8,0.6,0.2,0,0,0,0]
["Gerste, Winter 12 % RP in TM_Korn + Stroh (1: 0,7)",60,null,null,0,2,1.01,1.79,0.27,0,0,0,0]
["Gerste, Winter 12 % RP in TM_Stroh",{"$f":"B151*0.7","v":42},null,null,0,0.5,0.3,1.7,0.1,0,0,0,0]
["Gerste, Winter 13 % RP in TM_Korn",60,null,null,0,1.79,0.8,0.6,0.2,0,0,0,0]
["Gerste, Winter 13 % RP in TM_Korn + Stroh (1: 0,7)",60,null,null,0,2.14,1.01,1.79,0.27,0,0,0,0]
["Gerste, Winter 13 % RP in TM_Stroh",{"$f":"B154*0.7","v":42},null,null,0,0.5,0.3,1.7,0.1,0,0,0,0]
["Getreide, Ganzpfl.nsilage (35 % TM)",250,null,null,0,0.56000000000000005,0.23,0.47,0.1,0,0,0,0]
["Hafer 11 % RP in TM_Korn",50,null,null,0,1.51,0.8,0.6,0.2,0,0,0,0]
["Hafer 11 % RP in TM_Korn + Stroh (1: 1,1)",50,null,null,0,2.06,1.1299999999999999,2.4700000000000002,0.42,0,0,0,0]
["Hafer 11 % RP in TM_Stroh",{"$f":"B158*1.1","v":55.000000000000007},null,null,0,0.5,0.3,1.7,0.2,0,0,0,0]
["Hafer 12 % RP in TM_Korn",55,null,null,0,1.65,0.8,0.6,0.1,0,0,0,0]
["Hafer 12 % RP in TM_Korn + Stroh (1: 1,1)",55,null,null,0,2.2000000000000002,1.1299999999999999,2.4700000000000002,0.42,0,0,0,0]
["Hafer 12 % RP in TM_Stroh",{"$f":"B161*1.1","v":60.500000000000007},null,null,0,0.5,0.3,1.7,0.2,0,0,0,0]
["Hartweizen (Durum), 12 % RP in TM_Korn",50,null,null,0,1.81,0.8,0.6,0.2,0,0,0,0]
["Hartweizen (Durum), 12 % RP in TM_Korn + Stroh (1: 0,8)",50,null,null,0,2.21,1.04,1.72,0.36,0,0,0,0]
["Hartweizen (Durum), 12 % RP in TM_Stroh",{"$f":"B164*0.8","v":40},null,null,0,0.5,0.3,1.4,0.2,0,0,0,0]
["Mais, Körner 10 % RP in TM_Korn",80,null,null,0,1.38,0.8,0.5,0.2,0,0,0,0]
["Mais, Körner 10 % RP in TM_Korn + Stroh (1: 1)",80,null,null,0,2.2799999999999998,1.01,2.5,0.6,0,0,0,0]
["Mais, Körner 10 % RP in TM_Stroh",{"$f":"B167*1","v":80},null,null,0,0.9,0.2,2,0.4,0,0,0,0]
["Mais, Körner 11 % RP in TM_Korn",80,null,null,0,1.51,0.8,0.5,0.2,0,0,0,0]
["Mais, Körner 11 % RP in TM_Korn + Stroh (1: 1)",80,null,null,0,2.41,1,2.5,0.6,0,0,0,0]
["Mais, Körner 11 % RP in TM_Stroh",{"$f":"B170*1","v":80},null,null,0,0.9,0.2,2,0.4,0,0,0,0]
["Roggen 11 % RP in TM_Korn",50,null,null,0,1.51,0.8,0.6,0.1,0,0,0,0]
["Roggen 11 % RP in TM_Korn + Stroh (1: 0,9)",50,null,null,0,1.96,1.07,2.4,0.28000000000000003,0,0,0,0]
["Roggen 11 % RP in TM_Stroh",{"$f":"B173*0.9","v":45},null,null,0,0.5,0.3,2,0.2,0,0,0,0]
["Roggen 12 % RP in TM_Korn",50,null,null,0,1.65,0.8,0.6,0.1,0,0,0,0]
["Roggen 12 % RP in TM_Korn + Stroh (1: 0,9)",50,null,null,0,2.1,1.07,2.4,0.28000000000000003,0,0,0,0]
["Roggen 12 % RP in TM_Stroh",{"$f":"B176*0.9","v":45},null,null,0,0.5,0.3,2,0.2,0,0,0,0]
["Triticale, Winter 12 % RP in TM_Korn",70,null,null,0,1.65,0.8,0.6,0.2,0,0,0,0]
["Triticale, Winter 12 % RP in TM_Korn + Stroh (1: 0,9)",70,null,null,0,2.1,1.07,2.13,0.38,0,0,0,0]
["Triticale, Winter 12 % RP in TM_Stroh",{"$f":"B179*0.9","v":63},null,null,0,0.5,0.3,1.7,0.2,0,0,0,0]
["Triticale, Winter-, 13 % RP in TM_Korn",70,null,null,0,1.79,0.8,0.6,0.2,0,0,0,0]
["Triticale, Winter-, 13 % RP in TM_Korn + Stroh (1: 0,9)",70,null,null,0,2.2400000000000002,1.07,2.13,0.38,0,0,0,0]
["Triticale, Winter-, 13 % RP in TM_Stroh",{"$f":"B182*0.9","v":63},null,null,0,0.5,0.3,1.7,0.2,0,0,0,0]
["Weizen, Brau, Winter 12 % RP in TM_Korn",70,null,null,0,1.81,0.75,0.55000000000000004,0.2,0,0,0,0]
["Weizen, Brau, Winter 12 % RP in TM_Korn + Stroh (1: 0,8)",70,null,null,0,2.21,0.99,1.67,0.36,0,0,0,0]
["Weizen, Brau, Winter 12 % RP in TM_Stroh",{"$f":"B185*0.8","v":56},null,null,0,0.5,0.3,1.4,0.2,0,0,0,0]
["Weizen, Sommer 14 % RP in TM_Korn",70,null,null,0,2.11,0.75,0.55000000000000004,0.2,0,0,0,0]
["Weizen, Sommer 14 % RP in TM_Korn + Stroh (1: 0,8)",70,null,null,0,2.5099999999999998,0.99,1.67,0.36,0,0,0,0]
["Weizen, Sommer 14 % RP in TM_Stroh",{"$f":"B188*0.8","v":56},null,null,0,0.5,0.3,1.4,0.2,0,0,0,0]
["Weizen, Winter 12 % RP in TM_Korn",70,null,null,0,1.81,0.8,0.6,0.2,0,0,0,0]
["Weizen, Winter 12 % RP in TM_Korn + Stroh (1: 0,8)",70,null,null,0,2.21,1.04,1.72,0.36,0,0,0,0]
["Weizen, Winter 12 % RP in TM_Stroh",{"$f":"B191*0.8","v":56},null,null,0,0.5,0.3,1.4,0.2,0,0,0,0]
["Weizen, Winter 14 % RP in TM_Korn",70,null,null,0,2.11,0.8,0.6,0.2,0,0,0,0]
["Weizen, Winter 14 % RP in TM_Korn + Stroh (1: 0,8)",70,null,null,0,2.5099999999999998,1.04,1.72,0.36,0,0,0,0]
["Weizen, Winter 14 % RP in TM_Stroh",{"$f":"B194*0.8","v":56},null,null,0,0.5,0.3,1.4,0.2,0,0,0,0]
["Weizen, Winter 16 % RP in TM_Korn",70,null,null,0,2.41,0.8,0.6,0.2,0,0,0,0]
["Weizen, Winter 16 % RP in TM_Korn + Stroh (1: 0,8)",70,null,null,0,2.81,1.04,1.72,0.36,0,0,0,0]
["Weizen, Winter 16 % RP in TM_Stroh",{"$f":"B197*0.8","v":56},null,null,0,0.5,0.3,1.4,0.2,0,0,0,0]
[null,null,null,null,{"$f":"IF(C199=\"\",B199*D199,C199*D199)","v":0},null,null,null,null,{"$f":"$E199*F199","v":0},{"$f":"$E199*G199","v":0},{"$f":"$E199*H199","v":0},{"$f":"$E199*I199","v":0}]
[null,null,null,null,0,null,null,null,null,0,0,0,0]
[null,null,null,null,0,null,null,null,null,0,0,0,0]
[null,null,null,null,0,null,null,null,null,0,0,0,0]
[null,null,null,null,0,null,null,null,null,0,0,0,0]
[null,null,null,null,0,null,null,null,null,0,0,0,0]
["Einjährige Körnerleguminosen"]
["Ackerbohnen 30 % RP in TM_Korn",35,null,null,0,4.0999999999999996,1.2,1.4,0.2,0,0,0,0]
["Ackerbohnen 30 % RP in TM_Korn + Stroh (1: 1)",35,null,null,0,5.6,1.5,4,0.5,0,0,0,0]
["Ackerbohnen 30 % RP in TM_Stroh",{"$f":"B207*1","v":35},null,null,0,1.5,0.3,2.6,0.3,0,0,0,0]
["Erbsen 26 % RP in TM_Korn",35,null,null,0,3.6,1.1000000000000001,1.4,0.2,0,0,0,0]
["Erbsen 26 % RP in TM_Korn + Stroh (1: 1)",35,null,null,0,5.0999999999999996,1.4,4,0.5,0,0,0,0]
["Erbsen 26 % RP in TM_Stroh",{"$f":"B210*1","v":35},null,null,0,1.5,0.3,2.6,0.3,0,0,0,0]
["Lupine blau 33 % RP in TM_Korn",30,null,null,0,4.4800000000000004,1.02,0.99,0.2,0,0,0,0]
["Lupine blau 33 % RP in TM_Korn + Stroh (1: 1)",30,null,null,0,5.98,1.32,3.59,0.5,0,0,0,0]
["Lupine blau 33 % RP in TM_Stroh",{"$f":"B213*1","v":30},null,null,0,1.5,0.3,2.6,0.3,0,0,0,0]
["Sojabohne 32 % RP in TM_Korn",20,null,null,0,4.4000000000000004,1.1000000000000001,1.4,0.33,0,0,0,0]
["Sojabohne 32 % RP in TM_Korn + Stroh (1: 1)",20,null,null,0,5.9,1.4,4,0.63,0,0,0,0]
["Sojabohne 32 % RP in TM_Stroh",{"$f":"B216*1","v":20},null,null,{"$f":"IF(C217=\"\",B217*D217,C217*D217)","v":0},1.5,0.3,2.6,0.3,0,0,0,0]
["Ölfrüchte"]
["Raps 23 % RP in TM_Korn (91 % TM)",30,null,null,0,3.35,1.8,1,0.5,0,0,0,0]
["Raps 23 % RP in TM_Korn + Stroh (1: 1,7)",30,null,null,0,4.54,2.48,5,1.2,0,0,0,0]
["Raps 23 % RP in TM_Stroh (86 % TM)",{"$f":"B220*1.7","v":51},null,null,0,0.7,0.4,2.35,0.41,0,0,0,0]
["Sonnenblumen 20 % RP in TM_Korn (91 % TM)",30,null,null,0,2.91,1.6,2.4,0.6,0,0,0,0]
["Sonnenblumen 20 % RP in TM_Korn + Stroh (1: 2)",30,null,null,0,4.91,3.4,11.4,1.2,0,0,0,0]
["Sonnenblumen 20 % RP in TM_Stroh (86 % TM)",{"$f":"B223*2","v":60},null,null,0,1,0.9,4.5,0.3,0,0,0,0]
["Senf_Korn (91 % TM)",15,null,null,0,5.08,1.77,0.93,0.3,0,0,0,0]
["Senf_Korn + Stroh (1: 1,5)",15,null,null,0,6.13,2.37,4.68,0.53,0,0,0,0]
["Senf_Stroh (86 % TM)",{"$f":"B226*1.5","v":22.5},null,null,0,0.7,0.4,2.5,0.15,0,0,0,0]
["Öllein_Korn (91 % TM)",20,null,null,0,3.5,1.2,1,0.8,0,0,0,0]
["Öllein_Korn + Stroh (1: 1,5)",20,null,null,0,4.3,1.5,3.1,0.95,0,0,0,0]
["Öllein_Stroh (86 % TM)",{"$f":"B229*1.5","v":30},null,null,{"$f":"IF(C230=\"\",B230*D230,C230*D230)","v":0},0.53,0.2,1.4,0.1,0,0,0,0]
["Faserpflanzen"]
["Flachs (Faserlein), Ganzpfl. (86 % TM)",70,null,null,0,1,0.64,1.71,0.1,0,0,0,0]
["Hanf, Ganzpfl. (40 % TM)",300,null,null,0,0.4,0.3,0.8,0.36,0,0,0,0]
["Miscanthus, Ganzpfl. (80 % TM)",220,null,null,0,0.15,0.12,0.4,0.1,0,0,0,0]
["Hackfrüchte"]
["Kartoffel_Knollen (22 % TM)",400,null,null,0,0.35,0.14000000000000001,0.6,0.04,0,0,0,0]
["Kartoffel_Knolle + Kraut (1: 0,2)",400,null,null,0,0.39,0.15,0.67,0.06,0,0,0,0]
["Kartoffel_Kraut (15 % TM)",{"$f":"B237*0.2","v":80},null,null,0,0.2,0.04,0.36,0.08,0,0,0,0]
["Zuckerrüben_Rübe (23 % TM)",600,null,null,0,0.18,0.1,0.25,0.08,0,0,0,0]
["Zuckerrüben_Rübe + Blatt (1: 0,7)",600,null,null,0,0.46,0.18,0.75,0.15,0,0,0,0]
["Zuckerrüben_Blatt (18 % TM)",{"$f":"B240*0.7","v":420},null,null,0,0.4,0.11,0.71,0.1,0,0,0,0]
["Gehaltsrüben_Rübe (15 % TM)",600,null,null,0,0.18,0.09,0.5,0.05,0,0,0,0]
["Gehaltsrüben_Rübe + Blatt (1: 0,4)",600,null,null,0,0.3,0.12,0.75,0.08,0,0,0,0]
["Gehaltsrüben_Blatt (16 % TM)",{"$f":"B243*0.4","v":240},null,null,0,0.3,0.08,0.63,0.08,0,0,0,0]
["Massenrübe_Rübe (12 % TM)",900,null,null,0,0.14000000000000001,7.0000000000000007E-2,0.45,0.05,0,0,0,0]
["Massenrübe_Rübe + Blatt (1: 0,4)",900,null,null,0,0.24,0.09,0.6,0.08,0,0,0,0]
["Massenrübe_Blatt (16 % TM)",{"$f":"B246*0.4","v":360},null,null,{"$f":"IF(C247=\"\",B247*D247,C247*D247)","v":0},0.25,0.06,0.38,0.08,0,0,0,0]
["Futterpflanzen"]
["Kleegras, Ganzpfl. (20 % TM)",650,null,null,0,0.57999999999999996,0.14000000000000001,0.62,7.0000000000000007E-2,0,0,0,0]
["Luzerne (20 % TM)",650,null,null,0,0.65,0.14000000000000001,0.62,7.0000000000000007E-2,0,0,0,0]
["Luzernegras, Ganzpfl. (20 % TM)",650,null,null,0,0.57999999999999996,0.15,0.65,7.0000000000000007E-2,0,0,0,0]
["Rotklee, Ganzpfl. (20 % TM)",650,null,null,0,0.65,0.13,0.6,0.1,0,0,0,0]
["Silomais (28 % TM)",550,null,null,0,0.38,0.16,0.45,0.09,0,0,0,0]
["Silomais (35 % TM)",550,null,null,0,0.47,0.18,0.51,0.1,0,0,0,0]
["Weidelgras (Ackergras), Ganzpfl. (20 % TM)",850,null,null,0,0.53,0.16,0.65,0.05,0,0,0,0]
["Vermehrungspflanzen"]
["Grassamenvermehrung_Samen (86 % TM)",20,null,null,0,2.2000000000000002,0.7,0.5,0.17,0,0,0,0]
["Grassamenvermehrung_Samen + Stroh (1: 8)",20,null,null,0,14.2,3.5,13.3,3.37,0,0,0,0]
["Grassamenvermehrung_Stroh (86 % TM)",null,null,null,0,1.5,0.35,1.6,0.4,0,0,0,0]
["Klee-, Luzernevermehrung_Samen (91 % TM)",4,null,null,0,5.5,1.46,1.25,0.27,0,0,0,0]
["Klee-, Luzernevermehrung_Samen + Stroh (1: 8)",4,null,null,0,17.5,3.86,22.05,3.47,0,0,0,0]
["Klee-; Luzernevermehrung_Stroh (86 % TM)",null,null,null,0,1.5,0.3,2.6,0.4,0,0,0,0]
["Sonstige Kulturen"]
[null,null,null,null,{"$f":"IF(C264=\"\",B264*D264,C264*D264)","v":0},null,null,null,null,{"$f":"$E264*F264","v":0},{"$f":"$E264*G264","v":0},{"$f":"$E264*H264","v":0},{"$f":"$E264*I264","v":0}]
[null,null,null,null,0,null,null,null,null,0,0,0,0]
[null,null,null,null,0,null,null,null,null,0,0,0,0]
[null,null,null,null,0,null,null,null,null,0,0,0,0]
[null,null,null,null,0,null,null,null,null,0,0,0,0]
["Summe",null,null,{"$f":"SUM(D134:D268)","v":0},{"$f":"SUM(E134:E268)","v":0},null,null,null,null,{"$f":"SUM(J135:J268)","v":0},{"$f":"SUM(K135:K268)","v":0},0,0]
[]
["Sonstige Hauptkulturen","Marktertrag \ndt/ha FM",null,"Anbau-fläche","Abgabemenge","Nährstoffgehalt kg/dt FM\n(Grünland kg/dt TM)",null,null,null,"Nährstoffabgabe kg/Betrieb"]
[null,"Vorschlag","Betrieb","ha","dt FM","N","P2O5","K2O","MgO","N","P2O5","K2O","MgO"]
["Obst"]
["Apfel/Birne",400,null,null,{"$f":"IF(C274=\"\",B274*D274,C274*D274)","v":0},0.11,0.03,0.18,0.01,{"$f":"$E274*F274","v":0},{"$f":"$E274*G274","v":0},{"$f":"$E274*H274","v":0},{"$f":"$E274*I274","v":0}]
["Kirsche",120,null,null,0,0.21,0.06,0.25,0.03,0,0,0,0]
["Pflaume/Zwetsche/Mirabelle",220,null,null,0,0.16,0.05,0.32,0.02,0,0,0,0]
["Aprikose/Pfirsich",160,null,null,0,0.16,0.05,0.32,0.02,0,0,0,0]
["Erdbeeren",140,null,null,0,0.17,0.05,0.28000000000000003,0.03,0,0,0,0]
["Himbeere",100,null,null,0,0.2,0.04,0.2,0.05,0,0,0,0]
["Brombeere",100,null,null,0,0.2,7.0000000000000007E-2,0.23,0.05,0,0,0,0]
["Johannisbeere/Holunderbeeren",140,null,null,0,0.2,0.1,0.3,0.03,0,0,0,0]
["Stachelbeere/Andenbeere (Physalis peruviana)",150,null,null,0,0.2,7.0000000000000007E-2,0.28999999999999998,0.02,0,0,0,0]
["Haselnüsse",30,null,null,0,1.9,0.7,0.6,0.2,0,0,0,0]
["Walnüsse",30,null,null,0,1.9,0.7,0.6,0.2,0,0,0,0]
["Kernobst",400,null,null,0,0.11,0.03,0.19,0.03,0,0,0,0]
["Steinobst",200,null,null,0,0.18,0.06,0.3,0.03,0,0,0,0]
["Hopfen"]
["Hopfen, Dolden (90 % TM)",17.5,null,null,0,3,1,2.6,0.5,0,0,0,0]
["Hopfen, Rebenhäcksel (27 % TM)",140,null,null,0,0.6,0.13,0.59,0.21,0,0,0,0]
["Hopfen, Ganzpfl.",158,null,null,0,8.5,2,7.3,2.2000000000000002,0,0,0,0]
["Tabak"]
["Tabak, Burley, Dachlufttrocknung",30,null,null,0,4,1.3,6.9,0.4,0,0,0,0]
["Tabak, Virgin",30,null,null,0,2.1,0.77,6.7,0.4,0,0,0,0]
["Weinbau"]
["Trauben/Maische",150,null,null,0,0.25,0.1,0.4,0.04,0,0,0,0]
["Wein",110,null,null,0,0.02,0.02,7.0000000000000007E-2,0.1,0,0,0,0]
["Wein-Most",110,null,null,0,0.06,0.04,0.14000000000000001,0.01,0,0,0,0]
["Rebholzabfuhr Wuchs normal",25,null,null,0,0.36,0.11,0.5,0.02,0,0,0,0]
["Rebholzabfuhr Wuchs stark",50,null,null,0,0.36,0.11,0.5,0.02,0,0,0,0]
["Grünland"]
["Grünland, 1 Nutzung/Jahr (dt TM/ha)",40,null,null,0,1.3,0.6,1.5,0.4,0,0,0,0]
["Grünland, 2 Nutzungen/Jahr (dt TM/ha)",55,null,null,0,1.8,0.7,2.5,0.4,0,0,0,0]
["Grünland, 3 Nutzungen/Jahr (dt TM/ha)",75,null,null,0,2.2000000000000002,0.95,2.9,0.4,0,0,0,0]
["Grünland, 4 Nutzungen/Jahr (dt TM/ha)",90,null,null,0,2.7,1,3,0.5,0,0,0,0]
["Grünland, 5 Nutzungen/Jahr (dt TM/ha)",110,null,null,0,2.8,1,3,0.5,0,0,0,0]
["Weitere Kulturen"]
["Sudangras (25 % TM)",600,null,null,0,0.43,0.14000000000000001,0.49,0.1,0,0,0,0]
["Topinambur (Knolle)",600,null,null,0,0.26,0.14000000000000001,0.62,0.02,0,0,0,0]
["Rollrasen",200,null,null,0,0.25,0.12,0.2,0.05,0,0,0,0]
["Zierpflanzen",100,null,null,0,0.5,0.2,0.7,0.1,0,0,0,0]
["Baumschule",100,null,null,0,0.3,0.1,0.3,0.05,0,0,0,0]
["Christbaumkulturen",30,null,null,0,0.5,0.3,0.5,0.1,0,0,0,0]
[null,null,null,null,0,null,null,null,null,0,0,0,0]
[null,null,null,null,0,null,null,null,null,0,0,0,0]
[null,null,null,null,0,null,null,null,null,0,0,0,0]
[null,null,null,null,0,null,null,null,null,0,0,0,0]
["Summe",null,null,{"$f":"SUM(D274:D316)","v":0},{"$f":"SUM(E274:E316)","v":0},null,null,null,null,{"$f":"SUM(J274:J316)","v":0},{"$f":"SUM(K274:K316)","v":0},{"$f":"SUM(L274:L316)","v":0},{"$f":"SUM(M274:M316)","v":0}]
[]
["Zwischenfrüchte, 2. Hauptfucht mit Abfuhr","Marktertrag \ndt/ha FM",null,"Anbau-fläche","Abgabemenge","Nährstoffgehalt kg/dt FM",null,null,null,"Nährstoffabgabe kg/Betrieb"]
[null,"Vorschlag","Betrieb","ha","dt FM","N","P2O5","K2O","MgO","N","P2O5","K2O","MgO"]
["Verwertung außerhalb des Betriebs"]
["Einjähriges Weidelgras",250,null,null,{"$f":"IF(C322=\"\",B322*D322,C322*D322)","v":0},0.48,0.16,0.65,0.05,{"$f":"$E322*F322","v":0},{"$f":"$E322*G322","v":0},{"$f":"$E322*H322","v":0},{"$f":"$E322*I322","v":0}]
["Welsches Weidelgras",250,null,null,0,0.48,0.16,0.65,0.05,0,0,0,0]
["Kleegras",250,null,null,0,0.35,0.11,0.45,0.05,0,0,0,0]
["Alexandrinerklee",250,null,null,0,0.35,0.11,0.45,0.05,0,0,0,0]
["Erbsen/Ackerbohnen",250,null,null,0,0.35,0.11,0.45,0.05,0,0,0,0]
["Sommerwicken",250,null,null,0,0.35,0.11,0.45,0.05,0,0,0,0]
["Sommerraps",150,null,null,0,0.35,0.11,0.45,0.05,0,0,0,0]
["Winterraps",150,null,null,0,0.35,0.11,0.45,0.05,0,0,0,0]
["Winterrübsen",150,null,null,0,0.35,0.11,0.45,0.05,0,0,0,0]
["Sommerrübsen",150,null,null,0,0.35,0.11,0.45,0.05,0,0,0,0]
["Ölrettich",150,null,null,0,0.35,0.11,0.45,0.05,0,0,0,0]
["Senf",150,null,null,0,0.35,0.11,0.45,0.05,0,0,0,0]
["Phacelia",150,null,null,0,0.35,0.11,0.45,0.05,0,0,0,0]
["Sonnenblumen",150,null,null,0,0.35,0.11,0.45,0.05,0,0,0,0]
["Erbsen/Wicken/Sonnenblumen",250,null,null,0,0.35,0.11,0.45,0.05,0,0,0,0]
["Untersaat ohne Leguminosen",150,null,null,0,0.35,0.11,0.45,0.05,0,0,0,0]
["Untersaat mit Leguminosen",150,null,null,0,0.35,0.11,0.45,0.05,0,0,0,0]
["Winterroggen",250,null,null,0,0.35,0.11,0.45,0.05,0,0,0,0]
["zusätzl. Zwischenfrucht (Leguminosen)",250,null,null,0,0.35,0.11,0.45,0.05,0,0,0,0]
["zusätzl. Zwischenfrucht (ohne Leguminosen)",150,null,null,0,0.35,0.11,0.45,0.05,0,0,0,0]
["zusätzl. Zwischenfrucht (Gemenge Leg./Nichtleg.)",250,null,null,0,0.35,0.11,0.45,0.05,0,0,0,0]
["Biogasvergärung im eigenen Betrieb"]
["Einjähriges Weidelgras",400,null,null,0,0.48,0.16,0.65,0.05,0,0,0,0]
["Welsches Weidelgras",400,null,null,0,0.48,0.16,0.65,0.05,0,0,0,0]
["Kleegras",250,null,null,0,0.35,0.11,0.45,0.05,0,0,0,0]
["Alexandrinerklee",250,null,null,0,0.35,0.11,0.45,0.05,0,0,0,0]
["Erbsen/Ackerbohnen",250,null,null,0,0.35,0.11,0.45,0.05,0,0,0,0]
["Sommerwicken",250,null,null,0,0.35,0.11,0.45,0.05,0,0,0,0]
["Sommerraps",250,null,null,0,0.35,0.11,0.45,0.05,0,0,0,0]
["Winterraps",250,null,null,0,0.35,0.11,0.45,0.05,0,0,0,0]
["Winterrübsen",250,null,null,0,0.35,0.11,0.45,0.05,0,0,0,0]
["Sommerrübsen",250,null,null,0,0.35,0.11,0.45,0.05,0,0,0,0]
["Ölrettich",250,null,null,0,0.35,0.11,0.45,0.05,0,0,0,0]
["Senf",250,null,null,0,0.35,0.11,0.45,0.05,0,0,0,0]
["Phacelia",250,null,null,0,0.35,0.11,0.45,0.05,0,0,0,0]
["Sonnenblumen",250,null,null,0,0.35,0.11,0.45,0.05,0,0,0,0]
["Erbsen/Wicken/Sonnenblumen",250,null,null,0,0.35,0.11,0.45,0.05,0,0,0,0]
["Ganzpfl.nsilage Getreide (35 % TM)",400,null,null,0,0.56000000000000005,0.23,0.47,0.1,0,0,0,0]
["Silomais (20 % TM)",350,null,null,0,0.27,0.11,0.32,0.06,0,0,0,0]
["Sudangras (20 % TM)",400,null,null,0,0.35,0.11,0.39,0.08,0,0,0,0]
["zusätzl. Zwischenfrucht (Leguminosen)",250,null,null,0,0.35,0.11,0.45,0.05,0,0,0,0]
["zusätzl. Zwischenfrucht (ohne Leguminosen)",250,null,null,0,0.35,0.11,0.45,0.05,0,0,0,0]
["zusätzl. Zwischenfrucht (Gemenge Leg./Nichtleg.)",250,null,null,0,0.35,0.11,0.45,0.05,0,0,0,0]
["Summe",null,null,{"$f":"SUM(D322:D364)","v":0},{"$f":"SUM(E322:E364)","v":0},null,null,null,null,{"$f":"SUM(J322:J364)","v":0},{"$f":"SUM(K322:K364)","v":0},{"$f":"SUM(L322:L364)","v":0},0]
[]
["Frische Kräuter, Arznei- und Gewürzpflanzen","Marktertrag \ndt/ha FM",null,"Anbau-fläche","Abgabemenge","Nährstoffgehalt kg/dt FM",null,null,null,"Nährstoffabgabe kg/Betrieb"]
[null,"Vorschlag","Betrieb","ha","dt FM","N","P2O5","K2O","MgO","N","P2O5","K2O","MgO"]
["Ackerschachtelhalm, Kraut",50,null,null,{"$f":"IF(C369=\"\",B369*D369,C369*D369)","v":0},0.5,0.23,0.74,0.14000000000000001,{"$f":"$E369*F369","v":0},{"$f":"$E369*G369","v":0},{"$f":"$E369*H369","v":0},{"$f":"$E369*I369","v":0}]
["Ackerstiefmütterchen, blühendes Kraut",50,null,null,0,0.53,0.2,0.96,0.13,0,0,0,0]
["Akelei, blühendes Kraut",80,null,null,0,0.56000000000000005,0.18,0.76,0.08,0,0,0,0]
["Alant, Wurzel + Kraut",300,null,null,0,0.62040000000000006,0.24009999999999998,1.1857,7.0000000000000007E-2,0,0,0,0]
["Alant, Wurzel",300,null,null,0,0.5,0.21,0.76,7.0000000000000007E-2,0,0,0,0]
["Ampfer, kraus, Kraut nach Blüte",700,null,null,0,0.2,7.0000000000000007E-2,0.26,0.06,0,0,0,0]
["Ampfer, Wiesen, Blatt",720,null,null,0,0.33,0.11,0.53,0.02,0,0,0,0]
["Andorn, Kraut Knospenstadium",300,null,null,0,0.49,0.19,0.79,0.16,0,0,0,0]
["Anis, Frucht + Stroh",13,null,null,0,5.5807692307692305,3.2015384615384614,11.807692307692308,1.1615384615384616,0,0,0,0]
["Anis, Frucht",13,null,null,0,2.65,1.1499999999999999,1.55,0.38,0,0,0,0]
["Artischocke (Kardone), Kraut",150,null,null,0,0.41,0.08,0.8,0.09,0,0,0,0]
["Arzneifenchel, Frucht + Stroh",25,null,null,0,5.12,2.2200000000000002,9.48,1.03,0,0,0,0]
["Arzneifenchel, Frucht",25,null,null,0,2.78,1.26,2.58,0.43,0,0,0,0]
["Arzneirhabarber, jährl. Zuwachs, Wurzel n. 4 Jahren + Kraut ",75,null,null,0,0.78333333333333344,0.41666666666666663,1.37,0.24,0,0,0,0]
["Arzneirhabarber, jährl. Zuwachs, Wurzel n. 4 Jahren",75,null,null,0,0.4,0.25,0.47,0.12,0,0,0,0]
["Baikal-Helmkraut, Wurzel + Kraut",20,null,null,0,4.0999999999999996,1.25,4.6700000000000008,0.88,0,0,0,0]
["Baikal-Helmkraut, Wurzel",20,null,null,0,0.75,0.25,0.62,0.23,0,0,0,0]
["Baldrian, Wurzel + Kraut",150,null,null,0,0.66333333333333333,0.32333333333333336,1.0766666666666667,0.14000000000000001,0,0,0,0]
["Baldrian, Wurzel",150,null,null,0,0.28999999999999998,0.19,0.41,0.06,0,0,0,0]
["Ballonrebe, Kraut",185,null,null,0,0.71,0.26,0.79,0.14000000000000001,0,0,0,0]
["Bärlauch, Blatt",20,null,null,0,0.5,0.75,0.4,0.2,0,0,0,0]
["Bärwurz, jährl. Zuwachs, Wurzel n. 4 Jahren + Kraut",25,null,null,0,0.63400000000000001,0.43,0.80400000000000005,0.156,0,0,0,0]
["Bärwurz, jährl. Zuwachs, Wurzel n. 4 Jahren",25,null,null,0,0.49,0.35,0.59,0.12,0,0,0,0]
["Basilikum, Kraut Blühbeginn",150,null,null,0,0.43,0.08,0.67,7.0000000000000007E-2,0,0,0,0]
["Beinwell, Wurzel + Kraut",110,null,null,0,0.73,0.39727272727272728,1.6236363636363633,0.12090909090909091,0,0,0,0]
["Beinwell, Wurzel",110,null,null,0,0.49,0.23,0.94,7.0000000000000007E-2,0,0,0,0]
["Bergarnika, Blüte",40,null,null,0,0.4,0.16,0.48,0.06,0,0,0,0]
["Bergarnika, Blüte + Kraut",40,null,null,0,1.2224999999999999,0.44000000000000006,1.7749999999999999,0.2525,0,0,0,0]
["Bergarnika, Wurzel + Kraut",60,null,null,0,1.2283333333333333,0.48666666666666669,1.5133333333333332,0.22833333333333333,0,0,0,0]
["Bergarnika, Wurzel",60,null,null,0,0.68,0.3,0.65,0.1,0,0,0,0]
["Bergbohnenkraut, blühendes Kraut",135,null,null,0,0.65,0.16,0.74,0.15,0,0,0,0]
["Bertram, Römischer, Wurzel + Kraut",50,null,null,0,0.8,0.38,1.36,0.15,0,0,0,0]
["Bertram, Römischer, Wurzel",50,null,null,0,0.35,0.17,0.51,0.06,0,0,0,0]
["Besenbeifuß (A. scoparia), Kraut",250,null,null,0,0.59,0.15,0.76,0.04,0,0,0,0]
["Bibernelle, Kleine, Wurzel + Kraut",70,null,null,0,1.9571428571428573,0.92,3.5457142857142854,0.38142857142857145,0,0,0,0]
["Bibernelle, Kleine, Wurzel",70,null,null,0,0.35,0.17,0.51,0.06,0,0,0,0]
["Bockshornklee, Samen + Kraut",5,null,null,0,6.59,3.08,4.8099999999999996,2,0,0,0,0]
["Bockshornklee, Samen",5,null,null,0,3.87,1.4,1.53,1.4,0,0,0,0]
["Bohnenkraut, einjährig, blühendes Kraut",450,null,null,0,0.32,0.12,0.49,7.0000000000000007E-2,0,0,0,0]
["Borretsch, Blühendes Kraut",300,null,null,0,0.2,0.05,0.44,0.02,0,0,0,0]
["Braunelle, Kraut zu Ende der Blüte",300,null,null,0,0.34,0.17,0.8,0.12,0,0,0,0]
["Brennnessel, Große, nicht blühendes Kraut",180,null,null,0,0.86,0.26,1.07,0.17,0,0,0,0]
["Brennnessel, Große, Wurzel + Kraut",80,null,null,0,1.028888888888889,0.34888888888888892,1.2966666666666669,0.21444444444444447,0,0,0,0]
["Brennnessel, Große, Wurzel",80,null,null,0,0.38,0.2,0.51,0.1,0,0,0,0]
["Brennnessel, Kleine, blühendes Kraut",120,null,null,0,0.7,0.15,0.79,0.09,0,0,0,0]
["Brunnenkresse, Kraut",150,null,null,0,0.3,9.1999999999999998E-2,0.71,0.04,0,0,0,0]
["Dill, Kraut b. Knospenansatz",250,null,null,0,0.3,9.1999999999999998E-2,0.71,0.04,0,0,0,0]
["Dill, Spitzen",50,null,null,0,0.79,0.17,0.83,0.12,0,0,0,0]
["Drachenkopf, Iberischer, Samen + Stroh",20,null,null,0,3.9599999999999995,2.15,5.2200000000000006,0.48000000000000009,0,0,0,0]
["Drachenkopf, Iberischer, Samen",20,null,null,0,3.01,1.6,1.91,0.28000000000000003,0,0,0,0]
["Drachenkopf, Türkischer, blühendes Kraut",500,null,null,0,0.27,0.11,0.65,0.03,0,0,0,0]
["Efeu, Kraut",100,null,null,0,0.38,0.12,0.5,0.09,0,0,0,0]
["Eibisch, Wurzel + Kraut",150,null,null,0,0.80666666666666664,0.34666666666666668,1.2533333333333334,0.23333333333333334,0,0,0,0]
["Eibisch, Wurzel",150,null,null,0,0.66,0.3,0.72,0.2,0,0,0,0]
["Eisenkraut, Echtes, Kraut",230,null,null,0,0.51,0.14000000000000001,0.6,0.08,0,0,0,0]
["Engelwurz, Europäische, Wurzel + Kraut",200,null,null,0,0.6,0.37,2.09,0.16999999999999998,0,0,0,0]
["Engelwurz, Europäische, Wurzel",200,null,null,0,0.3,0.23,0.65,0.09,0,0,0,0]
["Engelwurz, Sibirische, Wurzel + Kraut",200,null,null,0,0.86,0.41000000000000003,1.82,0.17,0,0,0,0]
["Engelwurz, Sibirische, Wurzel",200,null,null,0,0.42,0.25,0.54,7.0000000000000007E-2,0,0,0,0]
["Enzian, ohne Ernte",20,null,null,0,0.3,0.2,0.6,0.1,0,0,0,0]
["Enzian, Wurzel n. 4 Jahren",300,null,null,0,0.3,0.2,0.6,0.1,0,0,0,0]
["Estragon, Deutscher, nicht blühendes Kraut",150,null,null,0,0.55000000000000004,0.16,0.88,0.04,0,0,0,0]
["Färberdistel, Samen + Stroh",40,null,null,0,2.5074999999999998,1.22,3.7424999999999997,0.65999999999999992,0,0,0,0]
["Färberdistel, Samen",40,null,null,0,1.5,0.83,0.59,0.27,0,0,0,0]
["Färberwaid, Kraut",150,null,null,{"$f":"IF(C433=\"\",B433*D433,C433*D433)","v":0},1,0.23,1.08,0.13,{"$f":"$E433*F433","v":0},{"$f":"$E433*G433","v":0},{"$f":"$E433*H433","v":0},{"$f":"$E433*I433","v":0}]
["Federmohn, Kraut, 1. Standjahr",220,null,null,0,0.52,0.08,0.41,7.0000000000000007E-2,0,0,0,0]
["Federmohn, Kraut, ab 2. Standjahr",480,null,null,0,0.36,0.05,0.26,7.0000000000000007E-2,0,0,0,0]
["Frauenmantel, blühendes Kraut",300,null,null,0,0.38,0.14000000000000001,0.53,0.1,0,0,0,0]
["Galega (Geißraute), Kraut",300,null,null,0,0.44,0.17,0.63,0.12,0,0,0,0]
["Gartenkresse, Kraut",150,null,null,0,0.53,0.26,0.75,0.05,0,0,0,0]
["Getreidegras, Gras",55,null,null,0,0.6,0.2,1,0.1,0,0,0,0]
["Ginseng, Wurzel",6,null,null,0,0.79,0.24,0.79,0.09,0,0,0,0]
["Goldrute, Blühhorizont",210,null,null,0,0.6,0.21,0.77,0.05,0,0,0,0]
["Hafer, Grüner, Kraut",115,null,null,0,0.59,0.22,0.83,0.09,0,0,0,0]
["Ingwer, Rhizom",420,null,null,0,0.2,7.0000000000000007E-2,0.63,0.05,0,0,0,0]
["Johanniskraut, Blühendes Kraut",200,null,null,0,0.53,0.2,0.6,7.0000000000000007E-2,0,0,0,0]
["Kamille, Blühhorizont + Kraut",45,null,null,0,0.76666666666666672,0.32999999999999996,1.2466666666666666,2.3333333333333334E-2,0,0,0,0]
["Kamille, Blühhorizont",45,null,null,0,0.42,0.21,0.54,0.01,0,0,0,0]
["Kamille, Blüten + Kraut",20,null,null,0,1.2,0.48,2.13,0.14000000000000001,0,0,0,0]
["Kamille, Blüten",20,null,null,0,0.42,0.21,0.54,0.11,0,0,0,0]
["Kapuzinerkresse, blühendes Kraut",185,null,null,0,0.51,0.16,0.7,0.14000000000000001,0,0,0,0]
["Karde, Wilde, Wurzel",200,null,null,0,0.57999999999999996,0.14000000000000001,0.49,0.08,0,0,0,0]
["Kerbel, Kraut",190,null,null,0,0.41,0.1,0.7,0.04,0,0,0,0]
["Knoblauch, Zwiebel ganz + Kraut",80,null,null,0,0.78,0.28250000000000003,0.9375,0.10500000000000001,0,0,0,0]
["Knoblauch, Zwiebel ganz",80,null,null,0,0.48,0.17,0.35,0.03,0,0,0,0]
["Koriander, Kraut",120,null,null,0,0.51,0.14000000000000001,0.82,0.08,0,0,0,0]
["Koriander, Samen + Stroh",20,null,null,0,2.93,2.15,6.8,0.78,0,0,0,0]
["Koriander, Samen",20,null,null,0,1.93,1.1000000000000001,1.55,0.38,0,0,0,0]
["Kornblume, Blühendes Kraut",200,null,null,0,0.37,0.1,0.63,0.05,0,0,0,0]
["Kornblume, Blüte + Kraut",70,null,null,0,1.74,0.32,2.1342857142857143,0.26428571428571429,0,0,0,0]
["Kornblume, Blüte",70,null,null,0,0.44,0.19,0.5,0.06,0,0,0,0]
["Kuhschelle, Wiesen, Ganzpflanze",95,null,null,0,0.22,0.12,0.41,0.1,0,0,0,0]
["Kuhschelle, Wiesen, Kraut",25,null,null,0,0.46,0.22,0.63,0.09,0,0,0,0]
["Kümmel, einjährig, Frucht + Stroh",20,null,null,0,4.375,2.7249999999999996,9.4250000000000007,0.98,0,0,0,0]
["Kümmel, einjährig, Frucht",20,null,null,0,2.65,1.1499999999999999,1.55,0.38,0,0,0,0]
["Kümmel, zweijährig, Erntejahr, Frucht + Stroh",23,null,null,0,4.3499999999999996,2.7021739130434779,9.3108695652173914,0.97130434782608699,0,0,0,0]
["Kümmel, zweijährig, Erntejahr, Frucht",23,null,null,0,2.65,1.1499999999999999,1.55,0.38,0,0,0,0]
["Kümmel, zweijährig, ohne Ernte",0,null,null,0,2.65,1.1499999999999999,0.55000000000000004,0.38,0,0,0,0]
["Lavendel, Blütenähre",25,null,null,0,0.51,0.13,0.77,0.15,0,0,0,0]
["Liebstöckel, nicht blühendes Kraut",550,null,null,0,0.37,0.11,0.5,0.06,0,0,0,0]
["Liebstöckel, Wurzel + Kraut",550,null,null,0,1.9058333333333333,0.65416666666666667,2.5316666666666663,0.35500000000000004,0,0,0,0]
["Liebstöckel, Wurzel",120,null,null,0,0.21,0.15,0.24,0.08,0,0,0,0]
["Löwenzahn, kaukasisch, Wurzel",30,null,null,0,0.59,0.21,0.76,7.0000000000000007E-2,0,0,0,0]
["Löwenzahn, Kraut",275,null,null,0,0.35,0.11,0.53,0.02,0,0,0,0]
["Mädesüß, blühendes Kraut",100,null,null,0,0.49,0.2,0.79,0.21,0,0,0,0]
["Majoran, Kraut Blühbeginn",200,null,null,0,0.48,0.14000000000000001,0.59,7.0000000000000007E-2,0,0,0,0]
["Malve, blaue, blühendes Kraut",500,null,null,0,0.35,0.16,0.69,7.0000000000000007E-2,0,0,0,0]
["Malve, blaue, Blüte + Kraut",100,null,null,0,1.94,0.88,3.67,0.35000000000000003,0,0,0,0]
["Malve, blaue, Blüte",100,null,null,0,0.3,0.16,0.47,7.0000000000000007E-2,0,0,0,0]
["Mariendistel, Kraut",280,null,null,0,0.24,0.12,0.41,0.1,0,0,0,0]
["Mariendistel, Samen + Kraut",15,null,null,0,5.3266666666666671,3.2666666666666666,7.8466666666666667,1.0466666666666666,0,0,0,0]
["Mariendistel, Samen",15,null,null,0,2.06,1.1200000000000001,0.66,0.3,0,0,0,0]
["Meerrettich, Wurzel + Kraut",200,null,null,0,1.18,0.34499999999999997,1.55,0.14499999999999999,0,0,0,0]
["Meerrettich, Wurzel",200,null,null,0,0.69,0.22,0.72,7.0000000000000007E-2,0,0,0,0]
["Meisterwurz, Wurzel + Kraut",35,null,null,0,0.63571428571428568,0.45428571428571429,1.0914285714285714,0.17571428571428571,0,0,0,0]
["Meisterwurz, Wurzel",35,null,null,0,0.35,0.28000000000000003,0.62,0.13,0,0,0,0]
["Melde, Kraut",150,null,null,0,0.33,0.11,0.53,0.02,0,0,0,0]
["Mohn, Samen und Kapseln + Stroh",25,null,null,0,2.3180000000000001,1.9019999999999999,5.0040000000000004,1.262,0,0,0,0]
["Mohn, Samen und Kapseln",25,null,null,0,1.59,0.95,1.63,0.52,0,0,0,0]
["Muskatteller Salbei, blühendes Kraut",300,null,null,0,0.42,0.16,0.76,0.16,0,0,0,0]
["Mutterkraut (T. parthenium), blühendes Kraut",120,null,null,0,0.45,0.16,0.8,0.05,0,0,0,0]
["Mutterkraut, Chin. (L. jap.), blühendes Kraut",250,null,null,0,0.51,0.14000000000000001,0.84,0.11,0,0,0,0]
["Nachtkerze, Samen + Stroh",15,null,null,0,5.3266666666666671,2.4266666666666672,5.1400000000000006,1.0466666666666666,0,0,0,0]
["Nachtkerze, Samen",15,null,null,0,2.06,1.1200000000000001,0.66,0.3,0,0,0,0]
["Nelkenwurz, Wurzel + Kraut",150,null,null,0,0.6166666666666667,0.29333333333333333,0.71,0.42,0,0,0,0]
["Nelkenwurz, Wurzel",150,null,null,0,0.25,0.18,0.27,0.2,0,0,0,0]
["Odermennig, Kraut",160,null,null,0,0.49,0.15,0.67,0.18,0,0,0,0]
["Oregano (Dost), blühendes Kraut",120,null,null,0,0.5,0.14000000000000001,0.52,0.17,0,0,0,0]
["Pestwurz, Blatt",50,null,null,{"$f":"IF(C497=\"\",B497*D497,C497*D497)","v":0},0.63,0.15,0.91,0.35,{"$f":"$E497*F497","v":0},{"$f":"$E497*G497","v":0},{"$f":"$E497*H497","v":0},{"$f":"$E497*I497","v":0}]
["Pestwurz, Wurzel + Blatt",130,null,null,0,0.56230769230769229,0.2076923076923077,0.91000000000000014,0.18461538461538463,0,0,0,0]
["Pestwurz, Wurzel",130,null,null,0,0.32,0.15,0.56000000000000005,0.05,0,0,0,0]
["Petersilie, Blatt-, bis 1. Schnitt",240,null,null,0,0.45,0.12,0.53,0.06,0,0,0,0]
["Petersilie, Blatt-, nach einem Schnitt",160,null,null,0,0.45,0.12,0.53,0.06,0,0,0,0]
["Petersilie, Blatt-, Verarbeitung, alle Schnitte",500,null,null,0,0.49,0.13,1.08,0.08,0,0,0,0]
["Pfefferminze, Minzen, nicht blühendes Kraut",400,null,null,0,0.42,0.11,0.55000000000000004,0.08,0,0,0,0]
["Ringelblume, blühendes Kraut",600,null,null,0,0.28999999999999998,7.0000000000000007E-2,0.5,0.05,0,0,0,0]
["Ringelblume, Blüte + Kraut",50,null,null,0,2.9099999999999997,0.75000000000000011,6.76,0.59000000000000008,0,0,0,0]
["Ringelblume, Blüte",50,null,null,0,0.3,0.12,0.46,0.05,0,0,0,0]
["Rosenwurz, jährl. Zuwachs, Wurzel Ernte n. 3 Jahren",50,null,null,0,0.62,0.15,0.56000000000000005,0.05,0,0,0,0]
["Rosmarin, nicht blühendes Kraut",80,null,null,0,0.57999999999999996,0.09,0.5,0.3,0,0,0,0]
["Rotwurzelsalbei (S. miltior.), Wurzel + Kraut",200,null,null,0,0.76700000000000002,0.28400000000000003,1.6529999999999998,0.30099999999999999,0,0,0,0]
["Rotwurzelsalbei (S. miltior.), Wurzel",200,null,null,0,0.36,0.13,0.41,0.18,0,0,0,0]
["Salbei (S. officinalis), nicht blühendes Kraut",350,null,null,0,0.49,0.11,0.62,0.13,0,0,0,0]
["Saposhnikovia, Wurzel + Kraut",80,null,null,0,1.1099999999999999,0.38,1.53,0.14000000000000001,0,0,0,0]
["Saposhnikovia, Wurzel",80,null,null,0,0.5,0.23,0.64,7.0000000000000007E-2,0,0,0,0]
["Saussurea costus, Wurzel + Kraut",100,null,null,0,0.78,0.28000000000000003,1.75,0.18,0,0,0,0]
["Saussurea costus, Wurzel",100,null,null,0,0.5,0.21,0.76,7.0000000000000007E-2,0,0,0,0]
["Schabziegerklee, blühendes Kraut",300,null,null,0,0.37,0.08,0.66,7.0000000000000007E-2,0,0,0,0]
["Schafgarbe, Blühhorizont",350,null,null,0,0.46,0.16,0.77,0.05,0,0,0,0]
["Schleifenblume, bittere, Kraut",150,null,null,0,0.35,0.09,0.37,0.04,0,0,0,0]
["Schlüsselblume, Blüte + Kraut",25,null,null,0,1.3540000000000001,0.51,3.266,0.33,0,0,0,0]
["Schlüsselblume, Blüte",25,null,null,0,0.34,0.12,0.64,7.0000000000000007E-2,0,0,0,0]
["Schlüsselblume, Wurzel",120,null,null,0,0.27,0.15,0.35,0.09,0,0,0,0]
["Schlüsselblume, Wurzel + Kraut",120,null,null,0,0.70750000000000002,0.28541666666666665,1.1104166666666666,0.26708333333333334,0,0,0,0]
["Schnittknoblauch, Kraut",200,null,null,0,0.43,0.09,0.41,0.09,0,0,0,0]
["Schnittlauch, bis 1. Schnitt",300,null,null,0,0.5,0.13700000000000001,0.52,7.0000000000000007E-2,0,0,0,0]
["Schnittlauch, nach 1. Schnitt",200,null,null,0,0.5,0.13700000000000001,0.52,7.0000000000000007E-2,0,0,0,0]
["Schnittlauch, Verarbeitung, alle Schnitte",500,null,null,0,0.5,0.13700000000000001,0.52,7.0000000000000007E-2,0,0,0,0]
["Schnittlauch, Wurzel für Treiberei",280,null,null,0,0.5,0.13700000000000001,0.52,7.0000000000000007E-2,0,0,0,0]
["Schöllkraut, blühendes Kraut",300,null,null,0,0.4,0.11,0.5,0.08,0,0,0,0]
["Schwarzkümmel, Samen + Stroh",15,null,null,0,4.3,2,3.02,0.76,0,0,0,0]
["Schwarzkümmel, Samen",15,null,null,0,3.6,1.71,0.92,0.48,0,0,0,0]
["Schwertlilie, jährl. Zuwachs, Rhizom Ernte n. 3 Jahren + Kraut",50,null,null,0,0.24,0.08,0.66,0.04,0,0,0,0]
["Schwertlilie, jährl. Zuwachs, Rhizom Ernte n. 3 Jahren",50,null,null,0,0.3,0.09,0.31,0.04,0,0,0,0]
["Sellerie, Schnitt, Kraut",550,null,null,0,0.37,0.11,0.5,0.06,0,0,0,0]
["Senf, Brauner, Samen + Stroh",9,null,null,0,5,2.0644444444444443,2.5766666666666667,0.67222222222222228,0,0,0,0]
["Senf, Brauner, Samen",9,null,null,0,3.05,1.53,0.67,0.34,0,0,0,0]
["Senf, Gelber/Weißer, Samen + Kraut",15,null,null,0,7.8,3.3699999999999997,10.93,0.9,0,0,0,0]
["Senf, Gelber/Weißer, Samen",15,null,null,0,5,1.77,0.93,0.3,0,0,0,0]
["Senf, Schwarzer, Samen + Kraut",12,null,null,0,4.9249999999999998,2.7099999999999995,2.36,0.68,0,0,0,0]
["Senf, Schwarzer, Samen",12,null,null,0,3.23,1.81,0.65,0.35,0,0,0,0]
["Siegesbeckia, blühendes Kraut",500,null,null,0,0.26,0.1,0.54,0.08,0,0,0,0]
["Sonnenhut (E. angustifolia), blühendes Kraut",50,null,null,0,0.56000000000000005,0.12,0.82,0.14000000000000001,0,0,0,0]
["Sonnenhut (E. angustifolia), Wurzel + Kraut",20,null,null,0,2.35,0.5,2.5,0.45,0,0,0,0]
["Sonnenhut (E. angustifolia), Wurzel",20,null,null,0,0.95,0.2,0.45,0.1,0,0,0,0]
["Sonnenhut (E. angustifolia), Wurzel, jährl. Zuwachs + Kraut",7,null,null,0,4.9500000000000011,1.0571428571428572,6.3071428571428569,1.1000000000000001,0,0,0,0]
["Sonnenhut (E. angustifolia), Wurzel, jährl. Zuwachs",7,null,null,0,0.95,0.2,0.45,0.1,0,0,0,0]
["Sonnenhut (E. pallida), blühendes Kraut",300,null,null,0,0.31,0.1,0.45,0.11,0,0,0,0]
["Sonnenhut (E. pallida), Wurzel + Kraut",150,null,null,0,1.2,0.34,1.39,0.3,0,0,0,0]
["Sonnenhut (E. pallida), Wurzel",150,null,null,0,0.57999999999999996,0.14000000000000001,0.49,0.08,0,0,0,0]
["Sonnenhut (E. pallida), Wurzel, jährl. Zuwachs + Kraut",50,null,null,0,2.44,0.74,3.19,0.74,0,0,0,0]
["Sonnenhut (E. pallida), Wurzel, jährl. Zuwachs",50,null,null,0,0.57999999999999996,0.14000000000000001,0.49,0.08,0,0,0,0]
["Sonnenhut (E. purpurea), blühendes Kraut",300,null,null,0,0.44,0.13,0.83,0.14000000000000001,0,0,0,0,null,null,null," "]
["Sonnenhut (E. purpurea), Wurzel + Kraut",150,null,null,0,1.34,0.4,2.16,0.4200000000000001,0,0,0,0]
["Sonnenhut (E. purpurea), Wurzel",150,null,null,0,0.46,0.14000000000000001,0.5,0.14000000000000001,0,0,0,0]
["Sonnenhut (E. purpurea), Wurzel, jährl. Zuwachs + Kraut",50,null,null,0,3.1,0.92,5.48,0.98000000000000009,0,0,0,0]
["Sonnenhut (E. purpurea), Wurzel, jährl. Zuwachs",50,null,null,0,0.46,0.14000000000000001,0.5,0.14000000000000001,0,0,0,0]
["Spitzwegerich, Kraut",350,null,null,0,0.41,0.12,0.78,0.06,0,0,0,0]
["Steinklee, Gelber, blühendes Kraut",350,null,null,0,0.57999999999999996,0.14000000000000001,0.41,0.03,0,0,0,0]
["Steinklee, Weißer, blühendes Kraut",350,null,null,0,0.57999999999999996,0.14000000000000001,0.41,0.03,0,0,0,0]
["Tausendgüldenkraut, blühendes Kraut",80,null,null,0,0.3,0.09,0.57999999999999996,0.04,0,0,0,0]
["Thymian, blühendes Kraut",150,null,null,0,0.41,0.12,0.77,0.08,0,0,0,0]
["Tollkirsche, Kraut",120,null,null,{"$f":"IF(C561=\"\",B561*D561,C561*D561)","v":0},0.73,0.46,0.55000000000000004,0.13,{"$f":"$E561*F561","v":0},{"$f":"$E561*G561","v":0},{"$f":"$E561*H561","v":0},{"$f":"$E561*I561","v":0}]
["Tragant, Chinesischer, Wurzel + Kraut",40,null,null,0,3.27,1.2,4.4400000000000004,0.38,0,0,0,0]
["Tragant, Chinesischer, Wurzel",40,null,null,0,0.56999999999999995,0.25,0.49,0.08,0,0,0,0]
["Wermut, Beifuß, nicht blühendes Kraut",300,null,null,0,0.39,0.17,0.67,0.08,0,0,0,0]
["Wiesenknopf, klein (Pimpinelle), Kraut",100,null,null,0,0.41,0.1,0.7,0.04,0,0,0,0]
["Winterheckenzwiebel",800,null,null,0,0.5,0.13700000000000001,0.52,7.0000000000000007E-2,0,0,0,0]
["Ysop, blühendes Kraut",150,null,null,0,0.42,0.1,0.56000000000000005,0.12,0,0,0,0]
["Zitronenmelisse, nicht blühendes Kraut",300,null,null,0,0.49,0.14000000000000001,0.76,0.09,0,0,0,0]
["Zitronenverbene, Kraut",265,null,null,0,0.44,0.14000000000000001,0.6,0.08,0,0,0,0]
[null,null,null,null,0,null,null,null,null,0,0,0,0]
[null,null,null,null,0,null,null,null,null,0,0,0,0]
[null,null,null,null,0,null,null,null,null,0,0,0,0]
[null,null,null,null,0,null,null,null,null,0,0,0,0]
["Summe",null,null,{"$f":"SUM(D369:D573)","v":0},{"$f":"SUM(E369:E573)","v":0},null,null,null,null,{"$f":"SUM(J369:J573)","v":0},{"$f":"SUM(K369:K573)","v":0},{"$f":"SUM(L369:L573)","v":0},{"$f":"SUM(M369:M573)","v":0}]
[]
["Organische Düngemittel",null,null,null,"Abgabemenge","Nährstoffgehalt %, kg/dt",null,null,null,"Nährstoffabgabe kg/Betrieb"]
[null,null,null,null,"dt","N","P2O5","K2O","MgO","N","P2O5","K2O","MgO"]
["Bioabfall-Kompost",null,null,null,null,1.28,0.56999999999999995,1.1000000000000001,0.48,{"$f":"E578*F578","v":0},{"$f":"E578*G578","v":0},{"$f":"E578*H578","v":0},{"$f":"E578*I578","v":0}]
["Grüngutkompost ",null,null,null,null,0.66,0.39,0.51,0.08,0,0,0,0]
["Pilzsubstrat (Champignonkompost, Champost)",null,null,null,null,0.8,0.47,0.6,0.2,0,0,0,0]
["Gemüseputzreste (Ø über alle Gemüsearten)",null,null,null,null,0.28514018691588788,9.9967245283018896E-2,0.45279773584905664,3.7609811320754673E-2,{"$f":"E581*F581","v":0},{"$f":"E581*G581","v":0},{"$f":"E581*H581","v":0},{"$f":"E581*I581","v":0}]
["Tresterkompost",null,null,null,null,1.2,0.5,1.7,0.2,0,0,0,0]
[null,null,null,null,null,null,null,null,null,0,0,0,0]
[null,null,null,null,null,null,null,null,null,{"$f":"E584*F584","v":0},{"$f":"E584*G584","v":0},{"$f":"E584*H584","v":0},{"$f":"E584*I584","v":0}]
[null,null,null,null,null,null,null,null,null,0,0,0,0]
[null,null,null,null,null,null,null,null,null,0,0,0,0]
[null,null,null,null,null,null,null,null,null,0,0,0,0]
["Summe",null,null,null,{"$f":"SUM(E578:E587)","v":0},null,null,null,null,{"$f":"SUM(J578:J587)","v":0},{"$f":"SUM(K578:K587)","v":0},{"$f":"SUM(L578:L587)","v":0},{"$f":"SUM(M578:M587)","v":0}]
[]
["Bodenhilfsstoffe",null,null,null,"Abgabemenge","Nährstoffgehalt %, kg/dt",null,null,null,"Nährstoffabgabe kg/Betrieb",null,null,null,null,null,null," "]
[null,null,null,null,"dt","N","P2O5","K2O","MgO","N","P2O5","K2O","MgO"]
[null,null,null,null,null,null,null,null,null,{"$f":"E592*F592","v":0},{"$f":"E592*G592","v":0},{"$f":"E592*H592","v":0},{"$f":"E592*I592","v":0}]
[null,null,null,null,null,null,null,null,null,{"$f":"E593*F593","v":0},0,0,0]
[null,null,null,null,null,null,null,null,null,0,0,0,0]
[null,null,null,null,null,null,null,null,null,0,0,0,0]
[null,null,null,null,null,null,null,null,null,0,0,0,0]
["Summe",null,null,null,{"$f":"SUM(E592:E596)","v":0},null,null,null,null,{"$f":"SUM(J592:J596)","v":0},{"$f":"SUM(K592:K596)","v":0},{"$f":"SUM(L592:L596)","v":0},{"$f":"SUM(M592:M596)","v":0}]
[]
["Pflanzenhilfsmittel",null,null,null,"Abgabemenge","Nährstoffgehalt %, kg/dt",null,null,null,"Nährstoffabgabe kg/Betrieb",null,null,null,null,null,null," "]
[null,null,null,null,"dt","N","P2O5","K2O","MgO","N","P2O5","K2O","MgO"]
[null,null,null,null,null,null,null,null,null,{"$f":"E601*F601","v":0},{"$f":"E601*G601","v":0},{"$f":"E601*H601","v":0},{"$f":"E601*I601","v":0}]
[null,null,null,null,null,null,null,null,null,0,0,0,0]
[null,null,null,null,null,null,null,null,null,0,0,0,0]
[null,null,null,null,null,null,null,null,null,0,0,0,0]
[null,null,null,null,null,null,null,null,null,0,0,0,0]
["Summe",null,null,null,{"$f":"SUM(E601:E605)","v":0},null,null,null,null,{"$f":"SUM(J601:J605)","v":0},{"$f":"SUM(K601:K605)","v":0},{"$f":"SUM(L601:L605)","v":0},0]
[]
["Kultursubstrate",null,null,null,"Abgabemenge","Nährstoffgehalt %, kg/dt",null,null,null,"Nährstoffe kg"]
[null,null,null,null,"dt","N","P2O5","K2O","MgO","N","P2O5","K2O","MgO"]
["Derzeit keine veröffentlichten Daten vorhanden",null,null,null,null,null,null,null,null,{"$f":"E610*F610","v":0},{"$f":"E610*G610","v":0},{"$f":"E610*H610","v":0},{"$f":"E610*I610","v":0}]
[null,null,null,null,null,null,null,null,null,0,0,0,0]
[null,null,null,null,null,null,null,null,null,0,0,0,0]
[null,null,null,null,null,null,null,null,null,0,0,0,0]
[null,null,null,null,null,null,null,null,null,0,0,0,0]
["Summe",null,null,null,{"$f":"SUM(D588:D614)","v":0},null,null,null,null,{"$f":"SUM(J610:J614)","v":0},{"$f":"SUM(K610:K614)","v":0},0,0]
[]
["Saatgut, Pflanzgut, Vermehrungsmaterial",null,null,null,"Abgabemenge","Nährstoffgehalt %, kg/dt",null,null,null,"Nährstoffe kg"]
[null,null,null,null,"dt","N","P2O5","K2O","MgO","N","P2O5","K2O","MgO"]
["Siehe Tabellen zur pflanzlichen Erzeugung (Gemüse, Ackerbau usw.)",null,null,null,null,null,null,null,null,{"$f":"E619*F619","v":0},{"$f":"E619*G619","v":0},{"$f":"E619*H619","v":0},{"$f":"E619*I619","v":0}]
["Summe",null,null,null,{"$f":"SUM(D597:D619)","v":0},null,null,null,null,{"$f":"SUM(J619)","v":0},{"$f":"SUM(K619)","v":0},0,0]
[]
[null,null,null,null,null,null,"Anbaufläche",null,"Nährstoffabgabe kg/Betrieb"]
[null,null,null,null,null,null,{"$f":"SUM(D130,D269,D317,D365,D574)","v":0},null,"Gesamt","N","P2O5","K2O","MgO"]
[null,null,null,null,null,null,null,null,null,{"$f":"SUM(J130,J269,J317,J365,J574,J588,J597,J606,J615,J620)","v":0},{"$f":"SUM(K130,K269,K317,K365,K574,K588,K597,K606,K615,K620)","v":0},{"$f":"SUM(L130,L269,L317,L365,L574,L588,L597,L606,L615,L620)","v":0},0]

{"sheet":"Ausdruck Zufuhr, Abgabe, SSB","index":4,"n_rows":896,"n_cols":22,"rows_kept":896,"cut":false,"hidden":false,"merged":[[895,0,895,5],[895,6,895,7],[895,8,895,9],[895,10,895,11],[895,12,895,13],[893,0,893,5],[893,6,893,7],[893,8,893,9],[893,10,893,11],[893,12,893,13],[894,0,894,5],[894,6,894,7],[894,8,894,9],[894,10,894,11],[894,12,894,13],[891,0,891,5],[891,6,891,7],[891,8,891,9],[891,10,891,11],[891,12,891,13],[892,0,892,5],[892,6,892,7],[892,8,892,9],[892,10,892,11],[892,12,892,13],[880,10,880,11],[880,12,880,13],[881,21,881,24],[890,0,890,5],[890,6,890,7],[890,8,890,9],[890,10,890,11],[890,12,890,13],[862,0,862,3],[869,0,870,0],[869,5,869,8],[869,9,869,12],[871,0,871,3],[878,1,878,2],[878,4,878,5],[851,0,852,0],[851,5,851,8],[851,9,851,12],[860,0,861,0],[860,5,860,8],[860,9,860,12],[826,5,826,8],[828,0,829,0],[828,5,828,8],[828,9,828,12],[842,0,843,0],[842,5,842,8],[842,9,842,12],[571,0,572,0],[571,2,571,3],[571,5,571,8],[571,9,571,12],[617,5,617,8],[619,0,620,0],[619,2,619,3],[619,5,619,8],[619,9,619,12],[523,0,524,0],[523,2,523,3],[523,5,523,8],[523,9,523,12],[552,5,552,8],[569,5,569,8],[382,5,382,8],[384,0,385,0],[384,2,384,3],[384,5,384,8],[384,9,384,12],[521,5,521,8],[255,6,255,7],[255,8,255,12],[256,6,257,7],[256,8,257,8],[264,0,265,0],[264,2,264,3],[264,5,264,8],[264,9,264,12],[187,5,187,8],[189,0,190,0],[189,5,189,8],[189,9,189,12],[198,5,198,8],[200,0,201,0],[200,2,200,3],[200,6,200,7],[165,5,165,8],[167,0,168,0],[167,5,167,8],[167,9,167,12],[176,5,176,8],[178,0,179,0],[178,5,178,8],[178,9,178,12],[119,5,119,8],[121,0,122,0],[121,5,121,8],[121,9,121,12],[154,5,154,8],[156,0,157,0],[156,5,156,8],[156,9,156,12],[62,0,63,0],[62,5,62,8],[62,9,62,12],[97,5,97,8],[99,0,100,0],[99,5,99,8],[99,9,99,12],[2,8,2,12],[2,14,4,15],[3,8,4,8],[7,0,8,10],[11,0,12,0],[11,5,11,8],[11,9,11,12]]}
["Nährstoffzufuhr",{"$f":"Betriebsangaben_Vorgehensweise!F8","v":0},null,null,null,null,null,null,null,null,null,null,null,null,"Zurück zum Inhalt"]
[]
["Betrieb:",{"$f":"Betriebsangaben_Vorgehensweise!B4","v":0},null,null,null,null,null,null,{"$f":"IF(Nährstoffzufuhr!I248=\"\",\"\",Nährstoffzufuhr!I248)","v":"Nährstoffzufuhr kg/Betrieb"},{"$f":"IF([1]Nährstoffzufuhr!J3=\"\",\"\",[1]Nährstoffzufuhr!J3)","v":""},{"$f":"IF([1]Nährstoffzufuhr!K3=\"\",\"\",[1]Nährstoffzufuhr!K3)","v":0},{"$f":"IF([1]Nährstoffzufuhr!L3=\"\",\"\",[1]Nährstoffzufuhr!L3)","v":"Datum:"},{"$f":"IF([1]Nährstoffzufuhr!M3=\"\",\"\",[1]Nährstoffzufuhr!M3)","v":45306},null,"Durch den Befehl Strg + D werden nur die eingegebenen Daten aus den Tabellenblättern \"Nährstoffzufuhr\" bzw. \"Nährstoffabfuhr\" in \"Ausdruck Zu- und Abfuhr\" angezeigt."]
[null,{"$f":"Betriebsangaben_Vorgehensweise!B5","v":0},null,null,null,null,null,null,{"$f":"IF(Nährstoffzufuhr!I249=\"\",\"\",Nährstoffzufuhr!I249)","v":"Gesamt"},{"$f":"IF(Nährstoffzufuhr!J249=\"\",\"\",Nährstoffzufuhr!J249)","v":"N"},{"$f":"IF(Nährstoffzufuhr!K249=\"\",\"\",Nährstoffzufuhr!K249)","v":"P2O5"},{"$f":"IF(Nährstoffzufuhr!L249=\"\",\"\",Nährstoffzufuhr!L249)","v":"K2O"},{"$f":"IF(Nährstoffzufuhr!M249=\"\",\"\",Nährstoffzufuhr!M249)","v":"MgO"}]
[null,{"$f":"Betriebsangaben_Vorgehensweise!B6","v":0},null,null,null,null,null,null,{"$f":"IF([1]Nährstoffzufuhr!I5=\"\",\"\",[1]Nährstoffzufuhr!I5)","v":""},{"$f":"IF(Nährstoffzufuhr!J250=\"\",\"\",Nährstoffzufuhr!J250)","v":0},{"$f":"IF(Nährstoffzufuhr!K250=\"\",\"\",Nährstoffzufuhr!K250)","v":0},{"$f":"IF(Nährstoffzufuhr!L250=\"\",\"\",Nährstoffzufuhr!L250)","v":0},{"$f":"IF(Nährstoffzufuhr!M250=\"\",\"\",Nährstoffzufuhr!M250)","v":0}]
[]
[]
[]
[]
[]
[]
[{"$f":"IF(Nährstoffzufuhr!A12=\"\",\"\",Nährstoffzufuhr!A12)","v":"Handelsdünger, mineralisch"},{"$f":"IF(Nährstoffzufuhr!B12=\"\",\"\",Nährstoffzufuhr!B12)","v":""},{"$f":"IF(Nährstoffzufuhr!C12=\"\",\"\",Nährstoffzufuhr!C12)","v":""},{"$f":"IF(Nährstoffzufuhr!D12=\"\",\"\",Nährstoffzufuhr!D12)","v":""},{"$f":"IF(Nährstoffzufuhr!E12=\"\",\"\",Nährstoffzufuhr!E12)","v":"Menge"},{"$f":"IF(Nährstoffzufuhr!F12=\"\",\"\",Nährstoffzufuhr!F12)","v":"Nährstoffgehalt %, kg/dt"},null,null,null,{"$f":"IF(Nährstoffzufuhr!J12=\"\",\"\",Nährstoffzufuhr!J12)","v":"Nährstoffe kg"}]
[null,{"$f":"IF(Nährstoffzufuhr!B13=\"\",\"\",Nährstoffzufuhr!B13)","v":""},{"$f":"IF(Nährstoffzufuhr!C13=\"\",\"\",Nährstoffzufuhr!C13)","v":""},{"$f":"IF(Nährstoffzufuhr!D13=\"\",\"\",Nährstoffzufuhr!D13)","v":""},{"$f":"IF(Nährstoffzufuhr!E13=\"\",\"\",Nährstoffzufuhr!E13)","v":"dt"},{"$f":"IF(Nährstoffzufuhr!F13=\"\",\"\",Nährstoffzufuhr!F13)","v":"N"},{"$f":"IF(Nährstoffzufuhr!G13=\"\",\"\",Nährstoffzufuhr!G13)","v":"P2O5"},{"$f":"IF(Nährstoffzufuhr!H13=\"\",\"\",Nährstoffzufuhr!H13)","v":"K2O"},{"$f":"IF(Nährstoffzufuhr!I13=\"\",\"\",Nährstoffzufuhr!I13)","v":"MgO"},{"$f":"IF(Nährstoffzufuhr!J13=\"\",\"\",Nährstoffzufuhr!J13)","v":"N"},{"$f":"IF(Nährstoffzufuhr!K13=\"\",\"\",Nährstoffzufuhr!K13)","v":"P2O5"},{"$f":"IF(Nährstoffzufuhr!L13=\"\",\"\",Nährstoffzufuhr!L13)","v":"K2O"},{"$f":"IF(Nährstoffzufuhr!M13=\"\",\"\",Nährstoffzufuhr!M13)","v":"MgO"}]
[{"$f":"IF(Nährstoffzufuhr!A14=\"\",\"\",Nährstoffzufuhr!A14)","v":"60er Kali"},{"$f":"IF(Nährstoffzufuhr!B14=\"\",\"\",Nährstoffzufuhr!B14)","v":""},{"$f":"IF(Nährstoffzufuhr!C14=\"\",\"\",Nährstoffzufuhr!C14)","v":""},{"$f":"IF(Nährstoffzufuhr!D14=\"\",\"\",Nährstoffzufuhr!D14)","v":""},{"$f":"Nährstoffzufuhr!E14","v":0},{"$f":"IF(Nährstoffzufuhr!F14=\"\",\"\",Nährstoffzufuhr!F14)","v":0},{"$f":"IF(Nährstoffzufuhr!G14=\"\",\"\",Nährstoffzufuhr!G14)","v":0},{"$f":"IF(Nährstoffzufuhr!H14=\"\",\"\",Nährstoffzufuhr!H14)","v":60},{"$f":"IF(Nährstoffzufuhr!I14=\"\",\"\",Nährstoffzufuhr!I14)","v":0},{"$f":"IF(Nährstoffzufuhr!J14=\"\",\"\",Nährstoffzufuhr!J14)","v":0},{"$f":"IF(Nährstoffzufuhr!K14=\"\",\"\",Nährstoffzufuhr!K14)","v":0},{"$f":"IF(Nährstoffzufuhr!L14=\"\",\"\",Nährstoffzufuhr!L14)","v":0},{"$f":"IF(Nährstoffzufuhr!M14=\"\",\"\",Nährstoffzufuhr!M14)","v":0}]
[{"$f":"IF(Nährstoffzufuhr!A15=\"\",\"\",Nährstoffzufuhr!A15)","v":"AHL-Lösung: 360gN/l bzw.1,128 kg/l"},{"$f":"IF(Nährstoffzufuhr!B15=\"\",\"\",Nährstoffzufuhr!B15)","v":""},{"$f":"IF(Nährstoffzufuhr!C15=\"\",\"\",Nährstoffzufuhr!C15)","v":""},{"$f":"IF(Nährstoffzufuhr!D15=\"\",\"\",Nährstoffzufuhr!D15)","v":""},{"$f":"Nährstoffzufuhr!E15","v":0},{"$f":"IF(Nährstoffzufuhr!F15=\"\",\"\",Nährstoffzufuhr!F15)","v":28},{"$f":"IF(Nährstoffzufuhr!G15=\"\",\"\",Nährstoffzufuhr!G15)","v":0},{"$f":"IF(Nährstoffzufuhr!H15=\"\",\"\",Nährstoffzufuhr!H15)","v":0},{"$f":"IF(Nährstoffzufuhr!I15=\"\",\"\",Nährstoffzufuhr!I15)","v":0},{"$f":"IF(Nährstoffzufuhr!J15=\"\",\"\",Nährstoffzufuhr!J15)","v":0},{"$f":"IF(Nährstoffzufuhr!K15=\"\",\"\",Nährstoffzufuhr!K15)","v":0},{"$f":"IF(Nährstoffzufuhr!L15=\"\",\"\",Nährstoffzufuhr!L15)","v":0},{"$f":"IF(Nährstoffzufuhr!M15=\"\",\"\",Nährstoffzufuhr!M15)","v":0}]
[{"$f":"IF(Nährstoffzufuhr!A16=\"\",\"\",Nährstoffzufuhr!A16)","v":"Ammonsulfatsalpeter ASS"},{"$f":"IF(Nährstoffzufuhr!B16=\"\",\"\",Nährstoffzufuhr!B16)","v":""},{"$f":"IF(Nährstoffzufuhr!C16=\"\",\"\",Nährstoffzufuhr!C16)","v":""},{"$f":"IF(Nährstoffzufuhr!D16=\"\",\"\",Nährstoffzufuhr!D16)","v":""},{"$f":"Nährstoffzufuhr!E16","v":0},{"$f":"IF(Nährstoffzufuhr!F16=\"\",\"\",Nährstoffzufuhr!F16)","v":26},{"$f":"IF(Nährstoffzufuhr!G16=\"\",\"\",Nährstoffzufuhr!G16)","v":0},{"$f":"IF(Nährstoffzufuhr!H16=\"\",\"\",Nährstoffzufuhr!H16)","v":0},{"$f":"IF(Nährstoffzufuhr!I16=\"\",\"\",Nährstoffzufuhr!I16)","v":0},{"$f":"IF(Nährstoffzufuhr!J16=\"\",\"\",Nährstoffzufuhr!J16)","v":0},{"$f":"IF(Nährstoffzufuhr!K16=\"\",\"\",Nährstoffzufuhr!K16)","v":0},{"$f":"IF(Nährstoffzufuhr!L16=\"\",\"\",Nährstoffzufuhr!L16)","v":0},{"$f":"IF(Nährstoffzufuhr!M16=\"\",\"\",Nährstoffzufuhr!M16)","v":0},null," "]
[{"$f":"IF(Nährstoffzufuhr!A17=\"\",\"\",Nährstoffzufuhr!A17)","v":"Bittersalz"},{"$f":"IF(Nährstoffzufuhr!B17=\"\",\"\",Nährstoffzufuhr!B17)","v":""},{"$f":"IF(Nährstoffzufuhr!C17=\"\",\"\",Nährstoffzufuhr!C17)","v":""},{"$f":"IF(Nährstoffzufuhr!D17=\"\",\"\",Nährstoffzufuhr!D17)","v":""},{"$f":"Nährstoffzufuhr!E17","v":0},{"$f":"IF(Nährstoffzufuhr!F17=\"\",\"\",Nährstoffzufuhr!F17)","v":0},{"$f":"IF(Nährstoffzufuhr!G17=\"\",\"\",Nährstoffzufuhr!G17)","v":0},{"$f":"IF(Nährstoffzufuhr!H17=\"\",\"\",Nährstoffzufuhr!H17)","v":0},{"$f":"IF(Nährstoffzufuhr!I17=\"\",\"\",Nährstoffzufuhr!I17)","v":16},{"$f":"IF(Nährstoffzufuhr!J17=\"\",\"\",Nährstoffzufuhr!J17)","v":0},{"$f":"IF(Nährstoffzufuhr!K17=\"\",\"\",Nährstoffzufuhr!K17)","v":0},{"$f":"IF(Nährstoffzufuhr!L17=\"\",\"\",Nährstoffzufuhr!L17)","v":0},{"$f":"IF(Nährstoffzufuhr!M17=\"\",\"\",Nährstoffzufuhr!M17)","v":0}]
[{"$f":"IF(Nährstoffzufuhr!A18=\"\",\"\",Nährstoffzufuhr!A18)","v":"Diammonphosphat DAP"},{"$f":"IF(Nährstoffzufuhr!B18=\"\",\"\",Nährstoffzufuhr!B18)","v":""},{"$f":"IF(Nährstoffzufuhr!C18=\"\",\"\",Nährstoffzufuhr!C18)","v":""},{"$f":"IF(Nährstoffzufuhr!D18=\"\",\"\",Nährstoffzufuhr!D18)","v":""},{"$f":"Nährstoffzufuhr!E18","v":0},{"$f":"IF(Nährstoffzufuhr!F18=\"\",\"\",Nährstoffzufuhr!F18)","v":18},{"$f":"IF(Nährstoffzufuhr!G18=\"\",\"\",Nährstoffzufuhr!G18)","v":46},{"$f":"IF(Nährstoffzufuhr!H18=\"\",\"\",Nährstoffzufuhr!H18)","v":0},{"$f":"IF(Nährstoffzufuhr!I18=\"\",\"\",Nährstoffzufuhr!I18)","v":0},{"$f":"IF(Nährstoffzufuhr!J18=\"\",\"\",Nährstoffzufuhr!J18)","v":0},{"$f":"IF(Nährstoffzufuhr!K18=\"\",\"\",Nährstoffzufuhr!K18)","v":0},{"$f":"IF(Nährstoffzufuhr!L18=\"\",\"\",Nährstoffzufuhr!L18)","v":0},{"$f":"IF(Nährstoffzufuhr!M18=\"\",\"\",Nährstoffzufuhr!M18)","v":0}]
[{"$f":"IF(Nährstoffzufuhr!A19=\"\",\"\",Nährstoffzufuhr!A19)","v":"Ensol"},{"$f":"IF(Nährstoffzufuhr!B19=\"\",\"\",Nährstoffzufuhr!B19)","v":""},{"$f":"IF(Nährstoffzufuhr!C19=\"\",\"\",Nährstoffzufuhr!C19)","v":""},{"$f":"IF(Nährstoffzufuhr!D19=\"\",\"\",Nährstoffzufuhr!D19)","v":""},{"$f":"Nährstoffzufuhr!E19","v":0},{"$f":"IF(Nährstoffzufuhr!F19=\"\",\"\",Nährstoffzufuhr!F19)","v":28},{"$f":"IF(Nährstoffzufuhr!G19=\"\",\"\",Nährstoffzufuhr!G19)","v":0},{"$f":"IF(Nährstoffzufuhr!H19=\"\",\"\",Nährstoffzufuhr!H19)","v":0},{"$f":"IF(Nährstoffzufuhr!I19=\"\",\"\",Nährstoffzufuhr!I19)","v":0},{"$f":"IF(Nährstoffzufuhr!J19=\"\",\"\",Nährstoffzufuhr!J19)","v":0},{"$f":"IF(Nährstoffzufuhr!K19=\"\",\"\",Nährstoffzufuhr!K19)","v":0},{"$f":"IF(Nährstoffzufuhr!L19=\"\",\"\",Nährstoffzufuhr!L19)","v":0},{"$f":"IF(Nährstoffzufuhr!M19=\"\",\"\",Nährstoffzufuhr!M19)","v":0}]
[{"$f":"IF(Nährstoffzufuhr!A20=\"\",\"\",Nährstoffzufuhr!A20)","v":"Entec"},{"$f":"IF(Nährstoffzufuhr!B20=\"\",\"\",Nährstoffzufuhr!B20)","v":""},{"$f":"IF(Nährstoffzufuhr!C20=\"\",\"\",Nährstoffzufuhr!C20)","v":""},{"$f":"IF(Nährstoffzufuhr!D20=\"\",\"\",Nährstoffzufuhr!D20)","v":""},{"$f":"Nährstoffzufuhr!E20","v":0},{"$f":"IF(Nährstoffzufuhr!F20=\"\",\"\",Nährstoffzufuhr!F20)","v":16},{"$f":"IF(Nährstoffzufuhr!G20=\"\",\"\",Nährstoffzufuhr!G20)","v":5},{"$f":"IF(Nährstoffzufuhr!H20=\"\",\"\",Nährstoffzufuhr!H20)","v":18},{"$f":"IF(Nährstoffzufuhr!I20=\"\",\"\",Nährstoffzufuhr!I20)","v":2},{"$f":"IF(Nährstoffzufuhr!J20=\"\",\"\",Nährstoffzufuhr!J20)","v":0},{"$f":"IF(Nährstoffzufuhr!K20=\"\",\"\",Nährstoffzufuhr!K20)","v":0},{"$f":"IF(Nährstoffzufuhr!L20=\"\",\"\",Nährstoffzufuhr!L20)","v":0},{"$f":"IF(Nährstoffzufuhr!M20=\"\",\"\",Nährstoffzufuhr!M20)","v":0},null," "]
[{"$f":"IF(Nährstoffzufuhr!A21=\"\",\"\",Nährstoffzufuhr!A21)","v":"Entec 26"},{"$f":"IF(Nährstoffzufuhr!B21=\"\",\"\",Nährstoffzufuhr!B21)","v":""},{"$f":"IF(Nährstoffzufuhr!C21=\"\",\"\",Nährstoffzufuhr!C21)","v":""},{"$f":"IF(Nährstoffzufuhr!D21=\"\",\"\",Nährstoffzufuhr!D21)","v":""},{"$f":"Nährstoffzufuhr!E21","v":0},{"$f":"IF(Nährstoffzufuhr!F21=\"\",\"\",Nährstoffzufuhr!F21)","v":26},{"$f":"IF(Nährstoffzufuhr!G21=\"\",\"\",Nährstoffzufuhr!G21)","v":0},{"$f":"IF(Nährstoffzufuhr!H21=\"\",\"\",Nährstoffzufuhr!H21)","v":0},{"$f":"IF(Nährstoffzufuhr!I21=\"\",\"\",Nährstoffzufuhr!I21)","v":0},{"$f":"IF(Nährstoffzufuhr!J21=\"\",\"\",Nährstoffzufuhr!J21)","v":0},{"$f":"IF(Nährstoffzufuhr!K21=\"\",\"\",Nährstoffzufuhr!K21)","v":0},{"$f":"IF(Nährstoffzufuhr!L21=\"\",\"\",Nährstoffzufuhr!L21)","v":0},{"$f":"IF(Nährstoffzufuhr!M21=\"\",\"\",Nährstoffzufuhr!M21)","v":0}]
[{"$f":"IF(Nährstoffzufuhr!A22=\"\",\"\",Nährstoffzufuhr!A22)","v":"Entec N-Mg"},{"$f":"IF(Nährstoffzufuhr!B22=\"\",\"\",Nährstoffzufuhr!B22)","v":""},{"$f":"IF(Nährstoffzufuhr!C22=\"\",\"\",Nährstoffzufuhr!C22)","v":""},{"$f":"IF(Nährstoffzufuhr!D22=\"\",\"\",Nährstoffzufuhr!D22)","v":""},{"$f":"Nährstoffzufuhr!E22","v":0},{"$f":"IF(Nährstoffzufuhr!F22=\"\",\"\",Nährstoffzufuhr!F22)","v":22},{"$f":"IF(Nährstoffzufuhr!G22=\"\",\"\",Nährstoffzufuhr!G22)","v":0},{"$f":"IF(Nährstoffzufuhr!H22=\"\",\"\",Nährstoffzufuhr!H22)","v":6},{"$f":"IF(Nährstoffzufuhr!I22=\"\",\"\",Nährstoffzufuhr!I22)","v":12},{"$f":"IF(Nährstoffzufuhr!J22=\"\",\"\",Nährstoffzufuhr!J22)","v":0},{"$f":"IF(Nährstoffzufuhr!K22=\"\",\"\",Nährstoffzufuhr!K22)","v":0},{"$f":"IF(Nährstoffzufuhr!L22=\"\",\"\",Nährstoffzufuhr!L22)","v":0},{"$f":"IF(Nährstoffzufuhr!M22=\"\",\"\",Nährstoffzufuhr!M22)","v":0}]
[{"$f":"IF(Nährstoffzufuhr!A23=\"\",\"\",Nährstoffzufuhr!A23)","v":"Entec Perfect"},{"$f":"IF(Nährstoffzufuhr!B23=\"\",\"\",Nährstoffzufuhr!B23)","v":""},{"$f":"IF(Nährstoffzufuhr!C23=\"\",\"\",Nährstoffzufuhr!C23)","v":""},{"$f":"IF(Nährstoffzufuhr!D23=\"\",\"\",Nährstoffzufuhr!D23)","v":""},{"$f":"Nährstoffzufuhr!E23","v":0},{"$f":"IF(Nährstoffzufuhr!F23=\"\",\"\",Nährstoffzufuhr!F23)","v":15},{"$f":"IF(Nährstoffzufuhr!G23=\"\",\"\",Nährstoffzufuhr!G23)","v":5},{"$f":"IF(Nährstoffzufuhr!H23=\"\",\"\",Nährstoffzufuhr!H23)","v":20},{"$f":"IF(Nährstoffzufuhr!I23=\"\",\"\",Nährstoffzufuhr!I23)","v":2},{"$f":"IF(Nährstoffzufuhr!J23=\"\",\"\",Nährstoffzufuhr!J23)","v":0},{"$f":"IF(Nährstoffzufuhr!K23=\"\",\"\",Nährstoffzufuhr!K23)","v":0},{"$f":"IF(Nährstoffzufuhr!L23=\"\",\"\",Nährstoffzufuhr!L23)","v":0},{"$f":"IF(Nährstoffzufuhr!M23=\"\",\"\",Nährstoffzufuhr!M23)","v":0}]
[{"$f":"IF(Nährstoffzufuhr!A24=\"\",\"\",Nährstoffzufuhr!A24)","v":"Harnstoff"},{"$f":"IF(Nährstoffzufuhr!B24=\"\",\"\",Nährstoffzufuhr!B24)","v":""},{"$f":"IF(Nährstoffzufuhr!C24=\"\",\"\",Nährstoffzufuhr!C24)","v":""},{"$f":"IF(Nährstoffzufuhr!D24=\"\",\"\",Nährstoffzufuhr!D24)","v":""},{"$f":"Nährstoffzufuhr!E24","v":0},{"$f":"IF(Nährstoffzufuhr!F24=\"\",\"\",Nährstoffzufuhr!F24)","v":46},{"$f":"IF(Nährstoffzufuhr!G24=\"\",\"\",Nährstoffzufuhr!G24)","v":0},{"$f":"IF(Nährstoffzufuhr!H24=\"\",\"\",Nährstoffzufuhr!H24)","v":0},{"$f":"IF(Nährstoffzufuhr!I24=\"\",\"\",Nährstoffzufuhr!I24)","v":0},{"$f":"IF(Nährstoffzufuhr!J24=\"\",\"\",Nährstoffzufuhr!J24)","v":0},{"$f":"IF(Nährstoffzufuhr!K24=\"\",\"\",Nährstoffzufuhr!K24)","v":0},{"$f":"IF(Nährstoffzufuhr!L24=\"\",\"\",Nährstoffzufuhr!L24)","v":0},{"$f":"IF(Nährstoffzufuhr!M24=\"\",\"\",Nährstoffzufuhr!M24)","v":0}]
[{"$f":"IF(Nährstoffzufuhr!A25=\"\",\"\",Nährstoffzufuhr!A25)","v":"Kalisalpeter"},{"$f":"IF(Nährstoffzufuhr!B25=\"\",\"\",Nährstoffzufuhr!B25)","v":""},{"$f":"IF(Nährstoffzufuhr!C25=\"\",\"\",Nährstoffzufuhr!C25)","v":""},{"$f":"IF(Nährstoffzufuhr!D25=\"\",\"\",Nährstoffzufuhr!D25)","v":""},{"$f":"Nährstoffzufuhr!E25","v":0},{"$f":"IF(Nährstoffzufuhr!F25=\"\",\"\",Nährstoffzufuhr!F25)","v":13},{"$f":"IF(Nährstoffzufuhr!G25=\"\",\"\",Nährstoffzufuhr!G25)","v":0},{"$f":"IF(Nährstoffzufuhr!H25=\"\",\"\",Nährstoffzufuhr!H25)","v":46},{"$f":"IF(Nährstoffzufuhr!I25=\"\",\"\",Nährstoffzufuhr!I25)","v":0},{"$f":"IF(Nährstoffzufuhr!J25=\"\",\"\",Nährstoffzufuhr!J25)","v":0},{"$f":"IF(Nährstoffzufuhr!K25=\"\",\"\",Nährstoffzufuhr!K25)","v":0},{"$f":"IF(Nährstoffzufuhr!L25=\"\",\"\",Nährstoffzufuhr!L25)","v":0},{"$f":"IF(Nährstoffzufuhr!M25=\"\",\"\",Nährstoffzufuhr!M25)","v":0}]
[{"$f":"IF(Nährstoffzufuhr!A26=\"\",\"\",Nährstoffzufuhr!A26)","v":"Kalisulfat"},{"$f":"IF(Nährstoffzufuhr!B26=\"\",\"\",Nährstoffzufuhr!B26)","v":""},{"$f":"IF(Nährstoffzufuhr!C26=\"\",\"\",Nährstoffzufuhr!C26)","v":""},{"$f":"IF(Nährstoffzufuhr!D26=\"\",\"\",Nährstoffzufuhr!D26)","v":""},{"$f":"Nährstoffzufuhr!E26","v":0},{"$f":"IF(Nährstoffzufuhr!F26=\"\",\"\",Nährstoffzufuhr!F26)","v":0},{"$f":"IF(Nährstoffzufuhr!G26=\"\",\"\",Nährstoffzufuhr!G26)","v":0},{"$f":"IF(Nährstoffzufuhr!H26=\"\",\"\",Nährstoffzufuhr!H26)","v":50},{"$f":"IF(Nährstoffzufuhr!I26=\"\",\"\",Nährstoffzufuhr!I26)","v":0},{"$f":"IF(Nährstoffzufuhr!J26=\"\",\"\",Nährstoffzufuhr!J26)","v":0},{"$f":"IF(Nährstoffzufuhr!K26=\"\",\"\",Nährstoffzufuhr!K26)","v":0},{"$f":"IF(Nährstoffzufuhr!L26=\"\",\"\",Nährstoffzufuhr!L26)","v":0},{"$f":"IF(Nährstoffzufuhr!M26=\"\",\"\",Nährstoffzufuhr!M26)","v":0}]
[{"$f":"IF(Nährstoffzufuhr!A27=\"\",\"\",Nährstoffzufuhr!A27)","v":"Kalksalpeter"},{"$f":"IF(Nährstoffzufuhr!B27=\"\",\"\",Nährstoffzufuhr!B27)","v":""},{"$f":"IF(Nährstoffzufuhr!C27=\"\",\"\",Nährstoffzufuhr!C27)","v":""},{"$f":"IF(Nährstoffzufuhr!D27=\"\",\"\",Nährstoffzufuhr!D27)","v":""},{"$f":"Nährstoffzufuhr!E27","v":0},{"$f":"IF(Nährstoffzufuhr!F27=\"\",\"\",Nährstoffzufuhr!F27)","v":15.5},{"$f":"IF(Nährstoffzufuhr!G27=\"\",\"\",Nährstoffzufuhr!G27)","v":0},{"$f":"IF(Nährstoffzufuhr!H27=\"\",\"\",Nährstoffzufuhr!H27)","v":0},{"$f":"IF(Nährstoffzufuhr!I27=\"\",\"\",Nährstoffzufuhr!I27)","v":0},{"$f":"IF(Nährstoffzufuhr!J27=\"\",\"\",Nährstoffzufuhr!J27)","v":0},{"$f":"IF(Nährstoffzufuhr!K27=\"\",\"\",Nährstoffzufuhr!K27)","v":0},{"$f":"IF(Nährstoffzufuhr!L27=\"\",\"\",Nährstoffzufuhr!L27)","v":0},{"$f":"IF(Nährstoffzufuhr!M27=\"\",\"\",Nährstoffzufuhr!M27)","v":0}]
[{"$f":"IF(Nährstoffzufuhr!A28=\"\",\"\",Nährstoffzufuhr!A28)","v":"Kalkstickstoff"},{"$f":"IF(Nährstoffzufuhr!B28=\"\",\"\",Nährstoffzufuhr!B28)","v":""},{"$f":"IF(Nährstoffzufuhr!C28=\"\",\"\",Nährstoffzufuhr!C28)","v":""},{"$f":"IF(Nährstoffzufuhr!D28=\"\",\"\",Nährstoffzufuhr!D28)","v":""},{"$f":"Nährstoffzufuhr!E28","v":0},{"$f":"IF(Nährstoffzufuhr!F28=\"\",\"\",Nährstoffzufuhr!F28)","v":19.8},{"$f":"IF(Nährstoffzufuhr!G28=\"\",\"\",Nährstoffzufuhr!G28)","v":0},{"$f":"IF(Nährstoffzufuhr!H28=\"\",\"\",Nährstoffzufuhr!H28)","v":0},{"$f":"IF(Nährstoffzufuhr!I28=\"\",\"\",Nährstoffzufuhr!I28)","v":0},{"$f":"IF(Nährstoffzufuhr!J28=\"\",\"\",Nährstoffzufuhr!J28)","v":0},{"$f":"IF(Nährstoffzufuhr!K28=\"\",\"\",Nährstoffzufuhr!K28)","v":0},{"$f":"IF(Nährstoffzufuhr!L28=\"\",\"\",Nährstoffzufuhr!L28)","v":0},{"$f":"IF(Nährstoffzufuhr!M28=\"\",\"\",Nährstoffzufuhr!M28)","v":0}]
[{"$f":"IF(Nährstoffzufuhr!A29=\"\",\"\",Nährstoffzufuhr!A29)","v":"Kalkammonsalpeter KAS"},{"$f":"IF(Nährstoffzufuhr!B29=\"\",\"\",Nährstoffzufuhr!B29)","v":""},{"$f":"IF(Nährstoffzufuhr!C29=\"\",\"\",Nährstoffzufuhr!C29)","v":""},{"$f":"IF(Nährstoffzufuhr!D29=\"\",\"\",Nährstoffzufuhr!D29)","v":""},{"$f":"Nährstoffzufuhr!E29","v":0},{"$f":"IF(Nährstoffzufuhr!F29=\"\",\"\",Nährstoffzufuhr!F29)","v":27},{"$f":"IF(Nährstoffzufuhr!G29=\"\",\"\",Nährstoffzufuhr!G29)","v":0},{"$f":"IF(Nährstoffzufuhr!H29=\"\",\"\",Nährstoffzufuhr!H29)","v":0},{"$f":"IF(Nährstoffzufuhr!I29=\"\",\"\",Nährstoffzufuhr!I29)","v":4},{"$f":"IF(Nährstoffzufuhr!J29=\"\",\"\",Nährstoffzufuhr!J29)","v":0},{"$f":"IF(Nährstoffzufuhr!K29=\"\",\"\",Nährstoffzufuhr!K29)","v":0},{"$f":"IF(Nährstoffzufuhr!L29=\"\",\"\",Nährstoffzufuhr!L29)","v":0},{"$f":"IF(Nährstoffzufuhr!M29=\"\",\"\",Nährstoffzufuhr!M29)","v":0}]
[{"$f":"IF(Nährstoffzufuhr!A30=\"\",\"\",Nährstoffzufuhr!A30)","v":"Kieserit"},{"$f":"IF(Nährstoffzufuhr!B30=\"\",\"\",Nährstoffzufuhr!B30)","v":""},{"$f":"IF(Nährstoffzufuhr!C30=\"\",\"\",Nährstoffzufuhr!C30)","v":""},{"$f":"IF(Nährstoffzufuhr!D30=\"\",\"\",Nährstoffzufuhr!D30)","v":""},{"$f":"Nährstoffzufuhr!E30","v":0},{"$f":"IF(Nährstoffzufuhr!F30=\"\",\"\",Nährstoffzufuhr!F30)","v":0},{"$f":"IF(Nährstoffzufuhr!G30=\"\",\"\",Nährstoffzufuhr!G30)","v":0},{"$f":"IF(Nährstoffzufuhr!H30=\"\",\"\",Nährstoffzufuhr!H30)","v":0},{"$f":"IF(Nährstoffzufuhr!I30=\"\",\"\",Nährstoffzufuhr!I30)","v":25},{"$f":"IF(Nährstoffzufuhr!J30=\"\",\"\",Nährstoffzufuhr!J30)","v":0},{"$f":"IF(Nährstoffzufuhr!K30=\"\",\"\",Nährstoffzufuhr!K30)","v":0},{"$f":"IF(Nährstoffzufuhr!L30=\"\",\"\",Nährstoffzufuhr!L30)","v":0},{"$f":"IF(Nährstoffzufuhr!M30=\"\",\"\",Nährstoffzufuhr!M30)","v":0}]
[{"$f":"IF(Nährstoffzufuhr!A31=\"\",\"\",Nährstoffzufuhr!A31)","v":"Kornkali mit MgO"},{"$f":"IF(Nährstoffzufuhr!B31=\"\",\"\",Nährstoffzufuhr!B31)","v":""},{"$f":"IF(Nährstoffzufuhr!C31=\"\",\"\",Nährstoffzufuhr!C31)","v":""},{"$f":"IF(Nährstoffzufuhr!D31=\"\",\"\",Nährstoffzufuhr!D31)","v":""},{"$f":"Nährstoffzufuhr!E31","v":0},{"$f":"IF(Nährstoffzufuhr!F31=\"\",\"\",Nährstoffzufuhr!F31)","v":0},{"$f":"IF(Nährstoffzufuhr!G31=\"\",\"\",Nährstoffzufuhr!G31)","v":0},{"$f":"IF(Nährstoffzufuhr!H31=\"\",\"\",Nährstoffzufuhr!H31)","v":40},{"$f":"IF(Nährstoffzufuhr!I31=\"\",\"\",Nährstoffzufuhr!I31)","v":6},{"$f":"IF(Nährstoffzufuhr!J31=\"\",\"\",Nährstoffzufuhr!J31)","v":0},{"$f":"IF(Nährstoffzufuhr!K31=\"\",\"\",Nährstoffzufuhr!K31)","v":0},{"$f":"IF(Nährstoffzufuhr!L31=\"\",\"\",Nährstoffzufuhr!L31)","v":0},{"$f":"IF(Nährstoffzufuhr!M31=\"\",\"\",Nährstoffzufuhr!M31)","v":0}]
[{"$f":"IF(Nährstoffzufuhr!A32=\"\",\"\",Nährstoffzufuhr!A32)","v":"Nitrophoska blau"},{"$f":"IF(Nährstoffzufuhr!B32=\"\",\"\",Nährstoffzufuhr!B32)","v":""},{"$f":"IF(Nährstoffzufuhr!C32=\"\",\"\",Nährstoffzufuhr!C32)","v":""},{"$f":"IF(Nährstoffzufuhr!D32=\"\",\"\",Nährstoffzufuhr!D32)","v":""},{"$f":"Nährstoffzufuhr!E32","v":0},{"$f":"IF(Nährstoffzufuhr!F32=\"\",\"\",Nährstoffzufuhr!F32)","v":12},{"$f":"IF(Nährstoffzufuhr!G32=\"\",\"\",Nährstoffzufuhr!G32)","v":12},{"$f":"IF(Nährstoffzufuhr!H32=\"\",\"\",Nährstoffzufuhr!H32)","v":17},{"$f":"IF(Nährstoffzufuhr!I32=\"\",\"\",Nährstoffzufuhr!I32)","v":2},{"$f":"IF(Nährstoffzufuhr!J32=\"\",\"\",Nährstoffzufuhr!J32)","v":0},{"$f":"IF(Nährstoffzufuhr!K32=\"\",\"\",Nährstoffzufuhr!K32)","v":0},{"$f":"IF(Nährstoffzufuhr!L32=\"\",\"\",Nährstoffzufuhr!L32)","v":0},{"$f":"IF(Nährstoffzufuhr!M32=\"\",\"\",Nährstoffzufuhr!M32)","v":0}]
[{"$f":"IF(Nährstoffzufuhr!A33=\"\",\"\",Nährstoffzufuhr!A33)","v":"Nitrophoska perfekt"},{"$f":"IF(Nährstoffzufuhr!B33=\"\",\"\",Nährstoffzufuhr!B33)","v":""},{"$f":"IF(Nährstoffzufuhr!C33=\"\",\"\",Nährstoffzufuhr!C33)","v":""},{"$f":"IF(Nährstoffzufuhr!D33=\"\",\"\",Nährstoffzufuhr!D33)","v":""},{"$f":"Nährstoffzufuhr!E33","v":0},{"$f":"IF(Nährstoffzufuhr!F33=\"\",\"\",Nährstoffzufuhr!F33)","v":15},{"$f":"IF(Nährstoffzufuhr!G33=\"\",\"\",Nährstoffzufuhr!G33)","v":5},{"$f":"IF(Nährstoffzufuhr!H33=\"\",\"\",Nährstoffzufuhr!H33)","v":20},{"$f":"IF(Nährstoffzufuhr!I33=\"\",\"\",Nährstoffzufuhr!I33)","v":2},{"$f":"IF(Nährstoffzufuhr!J33=\"\",\"\",Nährstoffzufuhr!J33)","v":0},{"$f":"IF(Nährstoffzufuhr!K33=\"\",\"\",Nährstoffzufuhr!K33)","v":0},{"$f":"IF(Nährstoffzufuhr!L33=\"\",\"\",Nährstoffzufuhr!L33)","v":0},{"$f":"IF(Nährstoffzufuhr!M33=\"\",\"\",Nährstoffzufuhr!M33)","v":0}]
[{"$f":"IF(Nährstoffzufuhr!A34=\"\",\"\",Nährstoffzufuhr!A34)","v":"Nitrophoska rot "},{"$f":"IF(Nährstoffzufuhr!B34=\"\",\"\",Nährstoffzufuhr!B34)","v":""},{"$f":"IF(Nährstoffzufuhr!C34=\"\",\"\",Nährstoffzufuhr!C34)","v":""},{"$f":"IF(Nährstoffzufuhr!D34=\"\",\"\",Nährstoffzufuhr!D34)","v":""},{"$f":"Nährstoffzufuhr!E34","v":0},{"$f":"IF(Nährstoffzufuhr!F34=\"\",\"\",Nährstoffzufuhr!F34)","v":13},{"$f":"IF(Nährstoffzufuhr!G34=\"\",\"\",Nährstoffzufuhr!G34)","v":13},{"$f":"IF(Nährstoffzufuhr!H34=\"\",\"\",Nährstoffzufuhr!H34)","v":21},{"$f":"IF(Nährstoffzufuhr!I34=\"\",\"\",Nährstoffzufuhr!I34)","v":0},{"$f":"IF(Nährstoffzufuhr!J34=\"\",\"\",Nährstoffzufuhr!J34)","v":0},{"$f":"IF(Nährstoffzufuhr!K34=\"\",\"\",Nährstoffzufuhr!K34)","v":0},{"$f":"IF(Nährstoffzufuhr!L34=\"\",\"\",Nährstoffzufuhr!L34)","v":0},{"$f":"IF(Nährstoffzufuhr!M34=\"\",\"\",Nährstoffzufuhr!M34)","v":0}]
[{"$f":"IF(Nährstoffzufuhr!A35=\"\",\"\",Nährstoffzufuhr!A35)","v":"Patentkali (Kalimagnesia)"},{"$f":"IF(Nährstoffzufuhr!B35=\"\",\"\",Nährstoffzufuhr!B35)","v":""},{"$f":"IF(Nährstoffzufuhr!C35=\"\",\"\",Nährstoffzufuhr!C35)","v":""},{"$f":"IF(Nährstoffzufuhr!D35=\"\",\"\",Nährstoffzufuhr!D35)","v":""},{"$f":"Nährstoffzufuhr!E35","v":0},{"$f":"IF(Nährstoffzufuhr!F35=\"\",\"\",Nährstoffzufuhr!F35)","v":0},{"$f":"IF(Nährstoffzufuhr!G35=\"\",\"\",Nährstoffzufuhr!G35)","v":0},{"$f":"IF(Nährstoffzufuhr!H35=\"\",\"\",Nährstoffzufuhr!H35)","v":30},{"$f":"IF(Nährstoffzufuhr!I35=\"\",\"\",Nährstoffzufuhr!I35)","v":10},{"$f":"IF(Nährstoffzufuhr!J35=\"\",\"\",Nährstoffzufuhr!J35)","v":0},{"$f":"IF(Nährstoffzufuhr!K35=\"\",\"\",Nährstoffzufuhr!K35)","v":0},{"$f":"IF(Nährstoffzufuhr!L35=\"\",\"\",Nährstoffzufuhr!L35)","v":0},{"$f":"IF(Nährstoffzufuhr!M35=\"\",\"\",Nährstoffzufuhr!M35)","v":0}]
[{"$f":"IF(Nährstoffzufuhr!A36=\"\",\"\",Nährstoffzufuhr!A36)","v":"Phospatkali"},{"$f":"IF(Nährstoffzufuhr!B36=\"\",\"\",Nährstoffzufuhr!B36)","v":""},{"$f":"IF(Nährstoffzufuhr!C36=\"\",\"\",Nährstoffzufuhr!C36)","v":""},{"$f":"IF(Nährstoffzufuhr!D36=\"\",\"\",Nährstoffzufuhr!D36)","v":""},{"$f":"Nährstoffzufuhr!E36","v":0},{"$f":"IF(Nährstoffzufuhr!F36=\"\",\"\",Nährstoffzufuhr!F36)","v":0},{"$f":"IF(Nährstoffzufuhr!G36=\"\",\"\",Nährstoffzufuhr!G36)","v":10},{"$f":"IF(Nährstoffzufuhr!H36=\"\",\"\",Nährstoffzufuhr!H36)","v":25},{"$f":"IF(Nährstoffzufuhr!I36=\"\",\"\",Nährstoffzufuhr!I36)","v":4},{"$f":"IF(Nährstoffzufuhr!J36=\"\",\"\",Nährstoffzufuhr!J36)","v":0},{"$f":"IF(Nährstoffzufuhr!K36=\"\",\"\",Nährstoffzufuhr!K36)","v":0},{"$f":"IF(Nährstoffzufuhr!L36=\"\",\"\",Nährstoffzufuhr!L36)","v":0},{"$f":"IF(Nährstoffzufuhr!M36=\"\",\"\",Nährstoffzufuhr!M36)","v":0}]
[{"$f":"IF(Nährstoffzufuhr!A37=\"\",\"\",Nährstoffzufuhr!A37)","v":"Schwefelsaures Ammoniak SSA"},{"$f":"IF(Nährstoffzufuhr!B37=\"\",\"\",Nährstoffzufuhr!B37)","v":""},{"$f":"IF(Nährstoffzufuhr!C37=\"\",\"\",Nährstoffzufuhr!C37)","v":""},{"$f":"IF(Nährstoffzufuhr!D37=\"\",\"\",Nährstoffzufuhr!D37)","v":""},{"$f":"Nährstoffzufuhr!E37","v":0},{"$f":"IF(Nährstoffzufuhr!F37=\"\",\"\",Nährstoffzufuhr!F37)","v":21},{"$f":"IF(Nährstoffzufuhr!G37=\"\",\"\",Nährstoffzufuhr!G37)","v":0},{"$f":"IF(Nährstoffzufuhr!H37=\"\",\"\",Nährstoffzufuhr!H37)","v":0},{"$f":"IF(Nährstoffzufuhr!I37=\"\",\"\",Nährstoffzufuhr!I37)","v":0},{"$f":"IF(Nährstoffzufuhr!J37=\"\",\"\",Nährstoffzufuhr!J37)","v":0},{"$f":"IF(Nährstoffzufuhr!K37=\"\",\"\",Nährstoffzufuhr!K37)","v":0},{"$f":"IF(Nährstoffzufuhr!L37=\"\",\"\",Nährstoffzufuhr!L37)","v":0},{"$f":"IF(Nährstoffzufuhr!M37=\"\",\"\",Nährstoffzufuhr!M37)","v":0}]
[{"$f":"IF(Nährstoffzufuhr!A38=\"\",\"\",Nährstoffzufuhr!A38)","v":"Superphosphat"},{"$f":"IF(Nährstoffzufuhr!B38=\"\",\"\",Nährstoffzufuhr!B38)","v":""},{"$f":"IF(Nährstoffzufuhr!C38=\"\",\"\",Nährstoffzufuhr!C38)","v":""},{"$f":"IF(Nährstoffzufuhr!D38=\"\",\"\",Nährstoffzufuhr!D38)","v":""},{"$f":"Nährstoffzufuhr!E38","v":0},{"$f":"IF(Nährstoffzufuhr!F38=\"\",\"\",Nährstoffzufuhr!F38)","v":0},{"$f":"IF(Nährstoffzufuhr!G38=\"\",\"\",Nährstoffzufuhr!G38)","v":18},{"$f":"IF(Nährstoffzufuhr!H38=\"\",\"\",Nährstoffzufuhr!H38)","v":0},{"$f":"IF(Nährstoffzufuhr!I38=\"\",\"\",Nährstoffzufuhr!I38)","v":0},{"$f":"IF(Nährstoffzufuhr!J38=\"\",\"\",Nährstoffzufuhr!J38)","v":0},{"$f":"IF(Nährstoffzufuhr!K38=\"\",\"\",Nährstoffzufuhr!K38)","v":0},{"$f":"IF(Nährstoffzufuhr!L38=\"\",\"\",Nährstoffzufuhr!L38)","v":0},{"$f":"IF(Nährstoffzufuhr!M38=\"\",\"\",Nährstoffzufuhr!M38)","v":0}]
[{"$f":"IF(Nährstoffzufuhr!A39=\"\",\"\",Nährstoffzufuhr!A39)","v":"Thomaskali"},{"$f":"IF(Nährstoffzufuhr!B39=\"\",\"\",Nährstoffzufuhr!B39)","v":""},{"$f":"IF(Nährstoffzufuhr!C39=\"\",\"\",Nährstoffzufuhr!C39)","v":""},{"$f":"IF(Nährstoffzufuhr!D39=\"\",\"\",Nährstoffzufuhr!D39)","v":""},{"$f":"Nährstoffzufuhr!E39","v":0},{"$f":"IF(Nährstoffzufuhr!F39=\"\",\"\",Nährstoffzufuhr!F39)","v":0},{"$f":"IF(Nährstoffzufuhr!G39=\"\",\"\",Nährstoffzufuhr!G39)","v":10},{"$f":"IF(Nährstoffzufuhr!H39=\"\",\"\",Nährstoffzufuhr!H39)","v":20},{"$f":"IF(Nährstoffzufuhr!I39=\"\",\"\",Nährstoffzufuhr!I39)","v":0},{"$f":"IF(Nährstoffzufuhr!J39=\"\",\"\",Nährstoffzufuhr!J39)","v":0},{"$f":"IF(Nährstoffzufuhr!K39=\"\",\"\",Nährstoffzufuhr!K39)","v":0},{"$f":"IF(Nährstoffzufuhr!L39=\"\",\"\",Nährstoffzufuhr!L39)","v":0},{"$f":"IF(Nährstoffzufuhr!M39=\"\",\"\",Nährstoffzufuhr!M39)","v":0}]
[{"$f":"IF(Nährstoffzufuhr!A40=\"\",\"\",Nährstoffzufuhr!A40)","v":"Thomasphosphatkali"},{"$f":"IF(Nährstoffzufuhr!B40=\"\",\"\",Nährstoffzufuhr!B40)","v":""},{"$f":"IF(Nährstoffzufuhr!C40=\"\",\"\",Nährstoffzufuhr!C40)","v":""},{"$f":"IF(Nährstoffzufuhr!D40=\"\",\"\",Nährstoffzufuhr!D40)","v":""},{"$f":"Nährstoffzufuhr!E40","v":0},{"$f":"IF(Nährstoffzufuhr!F40=\"\",\"\",Nährstoffzufuhr!F40)","v":0},{"$f":"IF(Nährstoffzufuhr!G40=\"\",\"\",Nährstoffzufuhr!G40)","v":7},{"$f":"IF(Nährstoffzufuhr!H40=\"\",\"\",Nährstoffzufuhr!H40)","v":21},{"$f":"IF(Nährstoffzufuhr!I40=\"\",\"\",Nährstoffzufuhr!I40)","v":0},{"$f":"IF(Nährstoffzufuhr!J40=\"\",\"\",Nährstoffzufuhr!J40)","v":0},{"$f":"IF(Nährstoffzufuhr!K40=\"\",\"\",Nährstoffzufuhr!K40)","v":0},{"$f":"IF(Nährstoffzufuhr!L40=\"\",\"\",Nährstoffzufuhr!L40)","v":0},{"$f":"IF(Nährstoffzufuhr!M40=\"\",\"\",Nährstoffzufuhr!M40)","v":0}]
[{"$f":"IF(Nährstoffzufuhr!A41=\"\",\"\",Nährstoffzufuhr!A41)","v":"Triplephosphat TSP"},{"$f":"IF(Nährstoffzufuhr!B41=\"\",\"\",Nährstoffzufuhr!B41)","v":""},{"$f":"IF(Nährstoffzufuhr!C41=\"\",\"\",Nährstoffzufuhr!C41)","v":""},{"$f":"IF(Nährstoffzufuhr!D41=\"\",\"\",Nährstoffzufuhr!D41)","v":""},{"$f":"Nährstoffzufuhr!E41","v":0},{"$f":"IF(Nährstoffzufuhr!F41=\"\",\"\",Nährstoffzufuhr!F41)","v":0},{"$f":"IF(Nährstoffzufuhr!G41=\"\",\"\",Nährstoffzufuhr!G41)","v":45},{"$f":"IF(Nährstoffzufuhr!H41=\"\",\"\",Nährstoffzufuhr!H41)","v":0},{"$f":"IF(Nährstoffzufuhr!I41=\"\",\"\",Nährstoffzufuhr!I41)","v":0},{"$f":"IF(Nährstoffzufuhr!J41=\"\",\"\",Nährstoffzufuhr!J41)","v":0},{"$f":"IF(Nährstoffzufuhr!K41=\"\",\"\",Nährstoffzufuhr!K41)","v":0},{"$f":"IF(Nährstoffzufuhr!L41=\"\",\"\",Nährstoffzufuhr!L41)","v":0},{"$f":"IF(Nährstoffzufuhr!M41=\"\",\"\",Nährstoffzufuhr!M41)","v":0}]
[{"$f":"IF(Nährstoffzufuhr!A42=\"\",\"\",Nährstoffzufuhr!A42)","v":""},{"$f":"IF(Nährstoffzufuhr!B42=\"\",\"\",Nährstoffzufuhr!B42)","v":""},{"$f":"IF(Nährstoffzufuhr!C42=\"\",\"\",Nährstoffzufuhr!C42)","v":""},{"$f":"IF(Nährstoffzufuhr!D42=\"\",\"\",Nährstoffzufuhr!D42)","v":""},{"$f":"Nährstoffzufuhr!E42","v":0},{"$f":"IF(Nährstoffzufuhr!F42=\"\",\"\",Nährstoffzufuhr!F42)","v":""},{"$f":"IF(Nährstoffzufuhr!G42=\"\",\"\",Nährstoffzufuhr!G42)","v":""},{"$f":"IF(Nährstoffzufuhr!H42=\"\",\"\",Nährstoffzufuhr!H42)","v":""},{"$f":"IF(Nährstoffzufuhr!I42=\"\",\"\",Nährstoffzufuhr!I42)","v":""},{"$f":"IF(Nährstoffzufuhr!J42=\"\",\"\",Nährstoffzufuhr!J42)","v":0},{"$f":"IF(Nährstoffzufuhr!K42=\"\",\"\",Nährstoffzufuhr!K42)","v":0},{"$f":"IF(Nährstoffzufuhr!L42=\"\",\"\",Nährstoffzufuhr!L42)","v":0},{"$f":"IF(Nährstoffzufuhr!M42=\"\",\"\",Nährstoffzufuhr!M42)","v":0}]
[{"$f":"IF(Nährstoffzufuhr!A43=\"\",\"\",Nährstoffzufuhr!A43)","v":""},{"$f":"IF(Nährstoffzufuhr!B43=\"\",\"\",Nährstoffzufuhr!B43)","v":""},{"$f":"IF(Nährstoffzufuhr!C43=\"\",\"\",Nährstoffzufuhr!C43)","v":""},{"$f":"IF(Nährstoffzufuhr!D43=\"\",\"\",Nährstoffzufuhr!D43)","v":""},{"$f":"Nährstoffzufuhr!E43","v":0},{"$f":"IF(Nährstoffzufuhr!F43=\"\",\"\",Nährstoffzufuhr!F43)","v":""},{"$f":"IF(Nährstoffzufuhr!G43=\"\",\"\",Nährstoffzufuhr!G43)","v":""},{"$f":"IF(Nährstoffzufuhr!H43=\"\",\"\",Nährstoffzufuhr!H43)","v":""},{"$f":"IF(Nährstoffzufuhr!I43=\"\",\"\",Nährstoffzufuhr!I43)","v":""},{"$f":"IF(Nährstoffzufuhr!J43=\"\",\"\",Nährstoffzufuhr!J43)","v":0},{"$f":"IF(Nährstoffzufuhr!K43=\"\",\"\",Nährstoffzufuhr!K43)","v":0},{"$f":"IF(Nährstoffzufuhr!L43=\"\",\"\",Nährstoffzufuhr!L43)","v":0},{"$f":"IF(Nährstoffzufuhr!M43=\"\",\"\",Nährstoffzufuhr!M43)","v":0}]
[{"$f":"IF(Nährstoffzufuhr!A44=\"\",\"\",Nährstoffzufuhr!A44)","v":""},{"$f":"IF(Nährstoffzufuhr!B44=\"\",\"\",Nährstoffzufuhr!B44)","v":""},{"$f":"IF(Nährstoffzufuhr!C44=\"\",\"\",Nährstoffzufuhr!C44)","v":""},{"$f":"IF(Nährstoffzufuhr!D44=\"\",\"\",Nährstoffzufuhr!D44)","v":""},{"$f":"Nährstoffzufuhr!E44","v":0},{"$f":"IF(Nährstoffzufuhr!F44=\"\",\"\",Nährstoffzufuhr!F44)","v":""},{"$f":"IF(Nährstoffzufuhr!G44=\"\",\"\",Nährstoffzufuhr!G44)","v":""},{"$f":"IF(Nährstoffzufuhr!H44=\"\",\"\",Nährstoffzufuhr!H44)","v":""},{"$f":"IF(Nährstoffzufuhr!I44=\"\",\"\",Nährstoffzufuhr!I44)","v":""},{"$f":"IF(Nährstoffzufuhr!J44=\"\",\"\",Nährstoffzufuhr!J44)","v":0},{"$f":"IF(Nährstoffzufuhr!K44=\"\",\"\",Nährstoffzufuhr!K44)","v":0},{"$f":"IF(Nährstoffzufuhr!L44=\"\",\"\",Nährstoffzufuhr!L44)","v":0},{"$f":"IF(Nährstoffzufuhr!M44=\"\",\"\",Nährstoffzufuhr!M44)","v":0}]
[{"$f":"IF(Nährstoffzufuhr!A45=\"\",\"\",Nährstoffzufuhr!A45)","v":""},{"$f":"IF(Nährstoffzufuhr!B45=\"\",\"\",Nährstoffzufuhr!B45)","v":""},{"$f":"IF(Nährstoffzufuhr!C45=\"\",\"\",Nährstoffzufuhr!C45)","v":""},{"$f":"IF(Nährstoffzufuhr!D45=\"\",\"\",Nährstoffzufuhr!D45)","v":""},{"$f":"Nährstoffzufuhr!E45","v":0},{"$f":"IF(Nährstoffzufuhr!F45=\"\",\"\",Nährstoffzufuhr!F45)","v":""},{"$f":"IF(Nährstoffzufuhr!G45=\"\",\"\",Nährstoffzufuhr!G45)","v":""},{"$f":"IF(Nährstoffzufuhr!H45=\"\",\"\",Nährstoffzufuhr!H45)","v":""},{"$f":"IF(Nährstoffzufuhr!I45=\"\",\"\",Nährstoffzufuhr!I45)","v":""},{"$f":"IF(Nährstoffzufuhr!J45=\"\",\"\",Nährstoffzufuhr!J45)","v":0},{"$f":"IF(Nährstoffzufuhr!K45=\"\",\"\",Nährstoffzufuhr!K45)","v":0},{"$f":"IF(Nährstoffzufuhr!L45=\"\",\"\",Nährstoffzufuhr!L45)","v":0},{"$f":"IF(Nährstoffzufuhr!M45=\"\",\"\",Nährstoffzufuhr!M45)","v":0}]
[{"$f":"IF(Nährstoffzufuhr!A46=\"\",\"\",Nährstoffzufuhr!A46)","v":""},{"$f":"IF(Nährstoffzufuhr!B46=\"\",\"\",Nährstoffzufuhr!B46)","v":""},{"$f":"IF(Nährstoffzufuhr!C46=\"\",\"\",Nährstoffzufuhr!C46)","v":""},{"$f":"IF(Nährstoffzufuhr!D46=\"\",\"\",Nährstoffzufuhr!D46)","v":""},{"$f":"Nährstoffzufuhr!E46","v":0},{"$f":"IF(Nährstoffzufuhr!F46=\"\",\"\",Nährstoffzufuhr!F46)","v":""},{"$f":"IF(Nährstoffzufuhr!G46=\"\",\"\",Nährstoffzufuhr!G46)","v":""},{"$f":"IF(Nährstoffzufuhr!H46=\"\",\"\",Nährstoffzufuhr!H46)","v":""},{"$f":"IF(Nährstoffzufuhr!I46=\"\",\"\",Nährstoffzufuhr!I46)","v":""},{"$f":"IF(Nährstoffzufuhr!J46=\"\",\"\",Nährstoffzufuhr!J46)","v":0},{"$f":"IF(Nährstoffzufuhr!K46=\"\",\"\",Nährstoffzufuhr!K46)","v":0},{"$f":"IF(Nährstoffzufuhr!L46=\"\",\"\",Nährstoffzufuhr!L46)","v":0},{"$f":"IF(Nährstoffzufuhr!M46=\"\",\"\",Nährstoffzufuhr!M46)","v":0}]
[{"$f":"IF(Nährstoffzufuhr!A47=\"\",\"\",Nährstoffzufuhr!A47)","v":""},{"$f":"IF(Nährstoffzufuhr!B47=\"\",\"\",Nährstoffzufuhr!B47)","v":""},{"$f":"IF(Nährstoffzufuhr!C47=\"\",\"\",Nährstoffzufuhr!C47)","v":""},{"$f":"IF(Nährstoffzufuhr!D47=\"\",\"\",Nährstoffzufuhr!D47)","v":""},{"$f":"Nährstoffzufuhr!E47","v":0},{"$f":"IF(Nährstoffzufuhr!F47=\"\",\"\",Nährstoffzufuhr!F47)","v":""},{"$f":"IF(Nährstoffzufuhr!G47=\"\",\"\",Nährstoffzufuhr!G47)","v":""},{"$f":"IF(Nährstoffzufuhr!H47=\"\",\"\",Nährstoffzufuhr!H47)","v":""},{"$f":"IF(Nährstoffzufuhr!I47=\"\",\"\",Nährstoffzufuhr!I47)","v":""},{"$f":"IF(Nährstoffzufuhr!J47=\"\",\"\",Nährstoffzufuhr!J47)","v":0},{"$f":"IF(Nährstoffzufuhr!K47=\"\",\"\",Nährstoffzufuhr!K47)","v":0},{"$f":"IF(Nährstoffzufuhr!L47=\"\",\"\",Nährstoffzufuhr!L47)","v":0},{"$f":"IF(Nährstoffzufuhr!M47=\"\",\"\",Nährstoffzufuhr!M47)","v":0}]
[{"$f":"IF(Nährstoffzufuhr!A48=\"\",\"\",Nährstoffzufuhr!A48)","v":""},{"$f":"IF(Nährstoffzufuhr!B48=\"\",\"\",Nährstoffzufuhr!B48)","v":""},{"$f":"IF(Nährstoffzufuhr!C48=\"\",\"\",Nährstoffzufuhr!C48)","v":""},{"$f":"IF(Nährstoffzufuhr!D48=\"\",\"\",Nährstoffzufuhr!D48)","v":""},{"$f":"Nährstoffzufuhr!E48","v":0},{"$f":"IF(Nährstoffzufuhr!F48=\"\",\"\",Nährstoffzufuhr!F48)","v":""},{"$f":"IF(Nährstoffzufuhr!G48=\"\",\"\",Nährstoffzufuhr!G48)","v":""},{"$f":"IF(Nährstoffzufuhr!H48=\"\",\"\",Nährstoffzufuhr!H48)","v":""},{"$f":"IF(Nährstoffzufuhr!I48=\"\",\"\",Nährstoffzufuhr!I48)","v":""},{"$f":"IF(Nährstoffzufuhr!J48=\"\",\"\",Nährstoffzufuhr!J48)","v":0},{"$f":"IF(Nährstoffzufuhr!K48=\"\",\"\",Nährstoffzufuhr!K48)","v":0},{"$f":"IF(Nährstoffzufuhr!L48=\"\",\"\",Nährstoffzufuhr!L48)","v":0},{"$f":"IF(Nährstoffzufuhr!M48=\"\",\"\",Nährstoffzufuhr!M48)","v":0}]
[{"$f":"IF(Nährstoffzufuhr!A49=\"\",\"\",Nährstoffzufuhr!A49)","v":""},{"$f":"IF(Nährstoffzufuhr!B49=\"\",\"\",Nährstoffzufuhr!B49)","v":""},{"$f":"IF(Nährstoffzufuhr!C49=\"\",\"\",Nährstoffzufuhr!C49)","v":""},{"$f":"IF(Nährstoffzufuhr!D49=\"\",\"\",Nährstoffzufuhr!D49)","v":""},{"$f":"Nährstoffzufuhr!E49","v":0},{"$f":"IF(Nährstoffzufuhr!F49=\"\",\"\",Nährstoffzufuhr!F49)","v":""},{"$f":"IF(Nährstoffzufuhr!G49=\"\",\"\",Nährstoffzufuhr!G49)","v":""},{"$f":"IF(Nährstoffzufuhr!H49=\"\",\"\",Nährstoffzufuhr!H49)","v":""},{"$f":"IF(Nährstoffzufuhr!I49=\"\",\"\",Nährstoffzufuhr!I49)","v":""},{"$f":"IF(Nährstoffzufuhr!J49=\"\",\"\",Nährstoffzufuhr!J49)","v":0},{"$f":"IF(Nährstoffzufuhr!K49=\"\",\"\",Nährstoffzufuhr!K49)","v":0},{"$f":"IF(Nährstoffzufuhr!L49=\"\",\"\",Nährstoffzufuhr!L49)","v":0},{"$f":"IF(Nährstoffzufuhr!M49=\"\",\"\",Nährstoffzufuhr!M49)","v":0}]
[{"$f":"IF(Nährstoffzufuhr!A50=\"\",\"\",Nährstoffzufuhr!A50)","v":""},{"$f":"IF(Nährstoffzufuhr!B50=\"\",\"\",Nährstoffzufuhr!B50)","v":""},{"$f":"IF(Nährstoffzufuhr!C50=\"\",\"\",Nährstoffzufuhr!C50)","v":""},{"$f":"IF(Nährstoffzufuhr!D50=\"\",\"\",Nährstoffzufuhr!D50)","v":""},{"$f":"Nährstoffzufuhr!E50","v":0},{"$f":"IF(Nährstoffzufuhr!F50=\"\",\"\",Nährstoffzufuhr!F50)","v":""},{"$f":"IF(Nährstoffzufuhr!G50=\"\",\"\",Nährstoffzufuhr!G50)","v":""},{"$f":"IF(Nährstoffzufuhr!H50=\"\",\"\",Nährstoffzufuhr!H50)","v":""},{"$f":"IF(Nährstoffzufuhr!I50=\"\",\"\",Nährstoffzufuhr!I50)","v":""},{"$f":"IF(Nährstoffzufuhr!J50=\"\",\"\",Nährstoffzufuhr!J50)","v":0},{"$f":"IF(Nährstoffzufuhr!K50=\"\",\"\",Nährstoffzufuhr!K50)","v":0},{"$f":"IF(Nährstoffzufuhr!L50=\"\",\"\",Nährstoffzufuhr!L50)","v":0},{"$f":"IF(Nährstoffzufuhr!M50=\"\",\"\",Nährstoffzufuhr!M50)","v":0}]
[{"$f":"IF(Nährstoffzufuhr!A51=\"\",\"\",Nährstoffzufuhr!A51)","v":""},{"$f":"IF(Nährstoffzufuhr!B51=\"\",\"\",Nährstoffzufuhr!B51)","v":""},{"$f":"IF(Nährstoffzufuhr!C51=\"\",\"\",Nährstoffzufuhr!C51)","v":""},{"$f":"IF(Nährstoffzufuhr!D51=\"\",\"\",Nährstoffzufuhr!D51)","v":""},{"$f":"Nährstoffzufuhr!E51","v":0},{"$f":"IF(Nährstoffzufuhr!F51=\"\",\"\",Nährstoffzufuhr!F51)","v":""},{"$f":"IF(Nährstoffzufuhr!G51=\"\",\"\",Nährstoffzufuhr!G51)","v":""},{"$f":"IF(Nährstoffzufuhr!H51=\"\",\"\",Nährstoffzufuhr!H51)","v":""},{"$f":"IF(Nährstoffzufuhr!I51=\"\",\"\",Nährstoffzufuhr!I51)","v":""},{"$f":"IF(Nährstoffzufuhr!J51=\"\",\"\",Nährstoffzufuhr!J51)","v":0},{"$f":"IF(Nährstoffzufuhr!K51=\"\",\"\",Nährstoffzufuhr!K51)","v":0},{"$f":"IF(Nährstoffzufuhr!L51=\"\",\"\",Nährstoffzufuhr!L51)","v":0},{"$f":"IF(Nährstoffzufuhr!M51=\"\",\"\",Nährstoffzufuhr!M51)","v":0}]
[{"$f":"IF(Nährstoffzufuhr!A52=\"\",\"\",Nährstoffzufuhr!A52)","v":""},{"$f":"IF(Nährstoffzufuhr!B52=\"\",\"\",Nährstoffzufuhr!B52)","v":""},{"$f":"IF(Nährstoffzufuhr!C52=\"\",\"\",Nährstoffzufuhr!C52)","v":""},{"$f":"IF(Nährstoffzufuhr!D52=\"\",\"\",Nährstoffzufuhr!D52)","v":""},{"$f":"Nährstoffzufuhr!E52","v":0},{"$f":"IF(Nährstoffzufuhr!F52=\"\",\"\",Nährstoffzufuhr!F52)","v":""},{"$f":"IF(Nährstoffzufuhr!G52=\"\",\"\",Nährstoffzufuhr!G52)","v":""},{"$f":"IF(Nährstoffzufuhr!H52=\"\",\"\",Nährstoffzufuhr!H52)","v":""},{"$f":"IF(Nährstoffzufuhr!I52=\"\",\"\",Nährstoffzufuhr!I52)","v":""},{"$f":"IF(Nährstoffzufuhr!J52=\"\",\"\",Nährstoffzufuhr!J52)","v":0},{"$f":"IF(Nährstoffzufuhr!K52=\"\",\"\",Nährstoffzufuhr!K52)","v":0},{"$f":"IF(Nährstoffzufuhr!L52=\"\",\"\",Nährstoffzufuhr!L52)","v":0},{"$f":"IF(Nährstoffzufuhr!M52=\"\",\"\",Nährstoffzufuhr!M52)","v":0}]
[{"$f":"IF(Nährstoffzufuhr!A53=\"\",\"\",Nährstoffzufuhr!A53)","v":""},{"$f":"IF(Nährstoffzufuhr!B53=\"\",\"\",Nährstoffzufuhr!B53)","v":""},{"$f":"IF(Nährstoffzufuhr!C53=\"\",\"\",Nährstoffzufuhr!C53)","v":""},{"$f":"IF(Nährstoffzufuhr!D53=\"\",\"\",Nährstoffzufuhr!D53)","v":""},{"$f":"Nährstoffzufuhr!E53","v":0},{"$f":"IF(Nährstoffzufuhr!F53=\"\",\"\",Nährstoffzufuhr!F53)","v":""},{"$f":"IF(Nährstoffzufuhr!G53=\"\",\"\",Nährstoffzufuhr!G53)","v":""},{"$f":"IF(Nährstoffzufuhr!H53=\"\",\"\",Nährstoffzufuhr!H53)","v":""},{"$f":"IF(Nährstoffzufuhr!I53=\"\",\"\",Nährstoffzufuhr!I53)","v":""},{"$f":"IF(Nährstoffzufuhr!J53=\"\",\"\",Nährstoffzufuhr!J53)","v":0},{"$f":"IF(Nährstoffzufuhr!K53=\"\",\"\",Nährstoffzufuhr!K53)","v":0},{"$f":"IF(Nährstoffzufuhr!L53=\"\",\"\",Nährstoffzufuhr!L53)","v":0},{"$f":"IF(Nährstoffzufuhr!M53=\"\",\"\",Nährstoffzufuhr!M53)","v":0}]
[{"$f":"IF(Nährstoffzufuhr!A54=\"\",\"\",Nährstoffzufuhr!A54)","v":""},{"$f":"IF(Nährstoffzufuhr!B54=\"\",\"\",Nährstoffzufuhr!B54)","v":""},{"$f":"IF(Nährstoffzufuhr!C54=\"\",\"\",Nährstoffzufuhr!C54)","v":""},{"$f":"IF(Nährstoffzufuhr!D54=\"\",\"\",Nährstoffzufuhr!D54)","v":""},{"$f":"Nährstoffzufuhr!E54","v":0},{"$f":"IF(Nährstoffzufuhr!F54=\"\",\"\",Nährstoffzufuhr!F54)","v":""},{"$f":"IF(Nährstoffzufuhr!G54=\"\",\"\",Nährstoffzufuhr!G54)","v":""},{"$f":"IF(Nährstoffzufuhr!H54=\"\",\"\",Nährstoffzufuhr!H54)","v":""},{"$f":"IF(Nährstoffzufuhr!I54=\"\",\"\",Nährstoffzufuhr!I54)","v":""},{"$f":"IF(Nährstoffzufuhr!J54=\"\",\"\",Nährstoffzufuhr!J54)","v":0},{"$f":"IF(Nährstoffzufuhr!K54=\"\",\"\",Nährstoffzufuhr!K54)","v":0},{"$f":"IF(Nährstoffzufuhr!L54=\"\",\"\",Nährstoffzufuhr!L54)","v":0},{"$f":"IF(Nährstoffzufuhr!M54=\"\",\"\",Nährstoffzufuhr!M54)","v":0}]
[{"$f":"IF(Nährstoffzufuhr!A55=\"\",\"\",Nährstoffzufuhr!A55)","v":""},{"$f":"IF(Nährstoffzufuhr!B55=\"\",\"\",Nährstoffzufuhr!B55)","v":""},{"$f":"IF(Nährstoffzufuhr!C55=\"\",\"\",Nährstoffzufuhr!C55)","v":""},{"$f":"IF(Nährstoffzufuhr!D55=\"\",\"\",Nährstoffzufuhr!D55)","v":""},{"$f":"Nährstoffzufuhr!E55","v":0},{"$f":"IF(Nährstoffzufuhr!F55=\"\",\"\",Nährstoffzufuhr!F55)","v":""},{"$f":"IF(Nährstoffzufuhr!G55=\"\",\"\",Nährstoffzufuhr!G55)","v":""},{"$f":"IF(Nährstoffzufuhr!H55=\"\",\"\",Nährstoffzufuhr!H55)","v":""},{"$f":"IF(Nährstoffzufuhr!I55=\"\",\"\",Nährstoffzufuhr!I55)","v":""},{"$f":"IF(Nährstoffzufuhr!J55=\"\",\"\",Nährstoffzufuhr!J55)","v":0},{"$f":"IF(Nährstoffzufuhr!K55=\"\",\"\",Nährstoffzufuhr!K55)","v":0},{"$f":"IF(Nährstoffzufuhr!L55=\"\",\"\",Nährstoffzufuhr!L55)","v":0},{"$f":"IF(Nährstoffzufuhr!M55=\"\",\"\",Nährstoffzufuhr!M55)","v":0}]
[{"$f":"IF(Nährstoffzufuhr!A56=\"\",\"\",Nährstoffzufuhr!A56)","v":""},{"$f":"IF(Nährstoffzufuhr!B56=\"\",\"\",Nährstoffzufuhr!B56)","v":""},{"$f":"IF(Nährstoffzufuhr!C56=\"\",\"\",Nährstoffzufuhr!C56)","v":""},{"$f":"IF(Nährstoffzufuhr!D56=\"\",\"\",Nährstoffzufuhr!D56)","v":""},{"$f":"Nährstoffzufuhr!E56","v":0},{"$f":"IF(Nährstoffzufuhr!F56=\"\",\"\",Nährstoffzufuhr!F56)","v":""},{"$f":"IF(Nährstoffzufuhr!G56=\"\",\"\",Nährstoffzufuhr!G56)","v":""},{"$f":"IF(Nährstoffzufuhr!H56=\"\",\"\",Nährstoffzufuhr!H56)","v":""},{"$f":"IF(Nährstoffzufuhr!I56=\"\",\"\",Nährstoffzufuhr!I56)","v":""},{"$f":"IF(Nährstoffzufuhr!J56=\"\",\"\",Nährstoffzufuhr!J56)","v":0},{"$f":"IF(Nährstoffzufuhr!K56=\"\",\"\",Nährstoffzufuhr!K56)","v":0},{"$f":"IF(Nährstoffzufuhr!L56=\"\",\"\",Nährstoffzufuhr!L56)","v":0},{"$f":"IF(Nährstoffzufuhr!M56=\"\",\"\",Nährstoffzufuhr!M56)","v":0}]
[{"$f":"IF(Nährstoffzufuhr!A57=\"\",\"\",Nährstoffzufuhr!A57)","v":""},{"$f":"IF(Nährstoffzufuhr!B57=\"\",\"\",Nährstoffzufuhr!B57)","v":""},{"$f":"IF(Nährstoffzufuhr!C57=\"\",\"\",Nährstoffzufuhr!C57)","v":""},{"$f":"IF(Nährstoffzufuhr!D57=\"\",\"\",Nährstoffzufuhr!D57)","v":""},{"$f":"Nährstoffzufuhr!E57","v":0},{"$f":"IF(Nährstoffzufuhr!F57=\"\",\"\",Nährstoffzufuhr!F57)","v":""},{"$f":"IF(Nährstoffzufuhr!G57=\"\",\"\",Nährstoffzufuhr!G57)","v":""},{"$f":"IF(Nährstoffzufuhr!H57=\"\",\"\",Nährstoffzufuhr!H57)","v":""},{"$f":"IF(Nährstoffzufuhr!I57=\"\",\"\",Nährstoffzufuhr!I57)","v":""},{"$f":"IF(Nährstoffzufuhr!J57=\"\",\"\",Nährstoffzufuhr!J57)","v":0},{"$f":"IF(Nährstoffzufuhr!K57=\"\",\"\",Nährstoffzufuhr!K57)","v":0},{"$f":"IF(Nährstoffzufuhr!L57=\"\",\"\",Nährstoffzufuhr!L57)","v":0},{"$f":"IF(Nährstoffzufuhr!M57=\"\",\"\",Nährstoffzufuhr!M57)","v":0}]
[{"$f":"IF(Nährstoffzufuhr!A58=\"\",\"\",Nährstoffzufuhr!A58)","v":""},{"$f":"IF(Nährstoffzufuhr!B58=\"\",\"\",Nährstoffzufuhr!B58)","v":""},{"$f":"IF(Nährstoffzufuhr!C58=\"\",\"\",Nährstoffzufuhr!C58)","v":""},{"$f":"IF(Nährstoffzufuhr!D58=\"\",\"\",Nährstoffzufuhr!D58)","v":""},{"$f":"Nährstoffzufuhr!E58","v":0},{"$f":"IF(Nährstoffzufuhr!F58=\"\",\"\",Nährstoffzufuhr!F58)","v":""},{"$f":"IF(Nährstoffzufuhr!G58=\"\",\"\",Nährstoffzufuhr!G58)","v":""},{"$f":"IF(Nährstoffzufuhr!H58=\"\",\"\",Nährstoffzufuhr!H58)","v":""},{"$f":"IF(Nährstoffzufuhr!I58=\"\",\"\",Nährstoffzufuhr!I58)","v":""},{"$f":"IF(Nährstoffzufuhr!J58=\"\",\"\",Nährstoffzufuhr!J58)","v":0},{"$f":"IF(Nährstoffzufuhr!K58=\"\",\"\",Nährstoffzufuhr!K58)","v":0},{"$f":"IF(Nährstoffzufuhr!L58=\"\",\"\",Nährstoffzufuhr!L58)","v":0},{"$f":"IF(Nährstoffzufuhr!M58=\"\",\"\",Nährstoffzufuhr!M58)","v":0}]
[{"$f":"IF(Nährstoffzufuhr!A59=\"\",\"\",Nährstoffzufuhr!A59)","v":""},{"$f":"IF(Nährstoffzufuhr!B59=\"\",\"\",Nährstoffzufuhr!B59)","v":""},{"$f":"IF(Nährstoffzufuhr!C59=\"\",\"\",Nährstoffzufuhr!C59)","v":""},{"$f":"IF(Nährstoffzufuhr!D59=\"\",\"\",Nährstoffzufuhr!D59)","v":""},{"$f":"Nährstoffzufuhr!E59","v":0},{"$f":"IF(Nährstoffzufuhr!F59=\"\",\"\",Nährstoffzufuhr!F59)","v":""},{"$f":"IF(Nährstoffzufuhr!G59=\"\",\"\",Nährstoffzufuhr!G59)","v":""},{"$f":"IF(Nährstoffzufuhr!H59=\"\",\"\",Nährstoffzufuhr!H59)","v":""},{"$f":"IF(Nährstoffzufuhr!I59=\"\",\"\",Nährstoffzufuhr!I59)","v":""},{"$f":"IF(Nährstoffzufuhr!J59=\"\",\"\",Nährstoffzufuhr!J59)","v":0},{"$f":"IF(Nährstoffzufuhr!K59=\"\",\"\",Nährstoffzufuhr!K59)","v":0},{"$f":"IF(Nährstoffzufuhr!L59=\"\",\"\",Nährstoffzufuhr!L59)","v":0},{"$f":"IF(Nährstoffzufuhr!M59=\"\",\"\",Nährstoffzufuhr!M59)","v":0}]
[{"$f":"IF(Nährstoffzufuhr!A60=\"\",\"\",Nährstoffzufuhr!A60)","v":""},{"$f":"IF(Nährstoffzufuhr!B60=\"\",\"\",Nährstoffzufuhr!B60)","v":""},{"$f":"IF(Nährstoffzufuhr!C60=\"\",\"\",Nährstoffzufuhr!C60)","v":""},{"$f":"IF(Nährstoffzufuhr!D60=\"\",\"\",Nährstoffzufuhr!D60)","v":""},{"$f":"Nährstoffzufuhr!E60","v":0},{"$f":"IF(Nährstoffzufuhr!F60=\"\",\"\",Nährstoffzufuhr!F60)","v":""},{"$f":"IF(Nährstoffzufuhr!G60=\"\",\"\",Nährstoffzufuhr!G60)","v":""},{"$f":"IF(Nährstoffzufuhr!H60=\"\",\"\",Nährstoffzufuhr!H60)","v":""},{"$f":"IF(Nährstoffzufuhr!I60=\"\",\"\",Nährstoffzufuhr!I60)","v":""},{"$f":"IF(Nährstoffzufuhr!J60=\"\",\"\",Nährstoffzufuhr!J60)","v":0},{"$f":"IF(Nährstoffzufuhr!K60=\"\",\"\",Nährstoffzufuhr!K60)","v":0},{"$f":"IF(Nährstoffzufuhr!L60=\"\",\"\",Nährstoffzufuhr!L60)","v":0},{"$f":"IF(Nährstoffzufuhr!M60=\"\",\"\",Nährstoffzufuhr!M60)","v":0}]
[{"$f":"IF(Nährstoffzufuhr!A61=\"\",\"\",Nährstoffzufuhr!A61)","v":"Summe"},{"$f":"IF(Nährstoffzufuhr!B61=\"\",\"\",Nährstoffzufuhr!B61)","v":""},{"$f":"IF(Nährstoffzufuhr!C61=\"\",\"\",Nährstoffzufuhr!C61)","v":""},{"$f":"IF(Nährstoffzufuhr!D61=\"\",\"\",Nährstoffzufuhr!D61)","v":""},{"$f":"IF(Nährstoffzufuhr!E61=\"\",\"\",Nährstoffzufuhr!E61)","v":0},{"$f":"IF(Nährstoffzufuhr!F61=\"\",\"\",Nährstoffzufuhr!F61)","v":""},{"$f":"IF(Nährstoffzufuhr!G61=\"\",\"\",Nährstoffzufuhr!G61)","v":""},{"$f":"IF(Nährstoffzufuhr!H61=\"\",\"\",Nährstoffzufuhr!H61)","v":""},{"$f":"IF(Nährstoffzufuhr!I61=\"\",\"\",Nährstoffzufuhr!I61)","v":""},{"$f":"IF(Nährstoffzufuhr!J61=\"\",\"\",Nährstoffzufuhr!J61)","v":0},{"$f":"IF(Nährstoffzufuhr!K61=\"\",\"\",Nährstoffzufuhr!K61)","v":0},{"$f":"IF(Nährstoffzufuhr!L61=\"\",\"\",Nährstoffzufuhr!L61)","v":0},{"$f":"IF(Nährstoffzufuhr!M61=\"\",\"\",Nährstoffzufuhr!M61)","v":0}]
[{"$f":"IF(Nährstoffzufuhr!A62=\"\",\"\",Nährstoffzufuhr!A62)","v":""},{"$f":"IF(Nährstoffzufuhr!B62=\"\",\"\",Nährstoffzufuhr!B62)","v":""},{"$f":"IF(Nährstoffzufuhr!C62=\"\",\"\",Nährstoffzufuhr!C62)","v":""},{"$f":"IF(Nährstoffzufuhr!D62=\"\",\"\",Nährstoffzufuhr!D62)","v":""},{"$f":"IF(Nährstoffzufuhr!E62=\"\",\"\",Nährstoffzufuhr!E62)","v":""},{"$f":"IF(Nährstoffzufuhr!F62=\"\",\"\",Nährstoffzufuhr!F62)","v":""},{"$f":"IF(Nährstoffzufuhr!G62=\"\",\"\",Nährstoffzufuhr!G62)","v":""},{"$f":"IF(Nährstoffzufuhr!H62=\"\",\"\",Nährstoffzufuhr!H62)","v":""},{"$f":"IF(Nährstoffzufuhr!I62=\"\",\"\",Nährstoffzufuhr!I62)","v":""},{"$f":"IF(Nährstoffzufuhr!J62=\"\",\"\",Nährstoffzufuhr!J62)","v":""},{"$f":"IF(Nährstoffzufuhr!K62=\"\",\"\",Nährstoffzufuhr!K62)","v":""},{"$f":"IF(Nährstoffzufuhr!L62=\"\",\"\",Nährstoffzufuhr!L62)","v":""},{"$f":"IF(Nährstoffzufuhr!M62=\"\",\"\",Nährstoffzufuhr!M62)","v":""}]
[{"$f":"IF(Nährstoffzufuhr!A63=\"\",\"\",Nährstoffzufuhr!A63)","v":"Wirtschaftsdünger aus Zukauf/Aufnahme"},{"$f":"IF(Nährstoffzufuhr!B63=\"\",\"\",Nährstoffzufuhr!B63)","v":""},{"$f":"IF(Nährstoffzufuhr!C63=\"\",\"\",Nährstoffzufuhr!C63)","v":""},{"$f":"IF(Nährstoffzufuhr!D63=\"\",\"\",Nährstoffzufuhr!D63)","v":""},{"$f":"IF(Nährstoffzufuhr!E63=\"\",\"\",Nährstoffzufuhr!E63)","v":"Menge dt"},{"$f":"IF(Nährstoffzufuhr!F63=\"\",\"\",Nährstoffzufuhr!F63)","v":"Nährstoffgehalt %, kg/dt FM"},{"$f":"IF([1]Nährstoffzufuhr!G63=\"\",\"\",[1]Nährstoffzufuhr!G63)","v":0},{"$f":"IF([1]Nährstoffzufuhr!H63=\"\",\"\",[1]Nährstoffzufuhr!H63)","v":0},{"$f":"IF([1]Nährstoffzufuhr!I63=\"\",\"\",[1]Nährstoffzufuhr!I63)","v":0},{"$f":"IF(Nährstoffzufuhr!J63=\"\",\"\",Nährstoffzufuhr!J63)","v":"Nährstoffe kg "},{"$f":"IF([1]Nährstoffzufuhr!K63=\"\",\"\",[1]Nährstoffzufuhr!K63)","v":0},{"$f":"IF([1]Nährstoffzufuhr!L63=\"\",\"\",[1]Nährstoffzufuhr!L63)","v":0},{"$f":"IF([1]Nährstoffzufuhr!M63=\"\",\"\",[1]Nährstoffzufuhr!M63)","v":0}]
[{"$f":"IF([1]Nährstoffzufuhr!A64=\"\",\"\",[1]Nährstoffzufuhr!A64)","v":0},{"$f":"IF(Nährstoffzufuhr!B64=\"\",\"\",Nährstoffzufuhr!B64)","v":"% TM"},{"$f":"IF(Nährstoffzufuhr!C64=\"\",\"\",Nährstoffzufuhr!C64)","v":""},{"$f":"IF(Nährstoffzufuhr!D64=\"\",\"\",Nährstoffzufuhr!D64)","v":""},{"$f":"IF(Nährstoffzufuhr!E64=\"\",\"\",Nährstoffzufuhr!E64)","v":"1 m³ flüssig = 10 dt"},{"$f":"IF(Nährstoffzufuhr!F64=\"\",\"\",Nährstoffzufuhr!F64)","v":"N"},{"$f":"IF(Nährstoffzufuhr!G64=\"\",\"\",Nährstoffzufuhr!G64)","v":"P2O5"},{"$f":"IF(Nährstoffzufuhr!H64=\"\",\"\",Nährstoffzufuhr!H64)","v":"K2O"},{"$f":"IF(Nährstoffzufuhr!I64=\"\",\"\",Nährstoffzufuhr!I64)","v":"MgO"},{"$f":"IF(Nährstoffzufuhr!J64=\"\",\"\",Nährstoffzufuhr!J64)","v":"N"},{"$f":"IF(Nährstoffzufuhr!K64=\"\",\"\",Nährstoffzufuhr!K64)","v":"P2O5"},{"$f":"IF(Nährstoffzufuhr!L64=\"\",\"\",Nährstoffzufuhr!L64)","v":"K2O"},{"$f":"IF(Nährstoffzufuhr!M64=\"\",\"\",Nährstoffzufuhr!M64)","v":"MgO"}]
[{"$f":"IF(Nährstoffzufuhr!A65=\"\",\"\",Nährstoffzufuhr!A65)","v":"Gülle"},{"$f":"IF(Nährstoffzufuhr!B65=\"\",\"\",Nährstoffzufuhr!B65)","v":""},{"$f":"IF(Nährstoffzufuhr!C65=\"\",\"\",Nährstoffzufuhr!C65)","v":""},{"$f":"IF(Nährstoffzufuhr!D65=\"\",\"\",Nährstoffzufuhr!D65)","v":""},{"$f":"Nährstoffzufuhr!E65","v":0},{"$f":"IF(Nährstoffzufuhr!F65=\"\",\"\",Nährstoffzufuhr!F65)","v":""},{"$f":"IF(Nährstoffzufuhr!G65=\"\",\"\",Nährstoffzufuhr!G65)","v":""},{"$f":"IF(Nährstoffzufuhr!H65=\"\",\"\",Nährstoffzufuhr!H65)","v":""},{"$f":"IF(Nährstoffzufuhr!I65=\"\",\"\",Nährstoffzufuhr!I65)","v":""},{"$f":"IF(Nährstoffzufuhr!J65=\"\",\"\",Nährstoffzufuhr!J65)","v":""},{"$f":"IF(Nährstoffzufuhr!K65=\"\",\"\",Nährstoffzufuhr!K65)","v":""},{"$f":"IF(Nährstoffzufuhr!L65=\"\",\"\",Nährstoffzufuhr!L65)","v":""},{"$f":"IF(Nährstoffzufuhr!M65=\"\",\"\",Nährstoffzufuhr!M65)","v":""}]
[{"$f":"IF(Nährstoffzufuhr!A66=\"\",\"\",Nährstoffzufuhr!A66)","v":"Rindergülle"},{"$f":"IF(Nährstoffzufuhr!B66=\"\",\"\",Nährstoffzufuhr!B66)","v":7.5},{"$f":"IF(Nährstoffzufuhr!C66=\"\",\"\",Nährstoffzufuhr!C66)","v":""},{"$f":"IF(Nährstoffzufuhr!D66=\"\",\"\",Nährstoffzufuhr!D66)","v":""},{"$f":"Nährstoffzufuhr!E66","v":0},{"$f":"IF(Nährstoffzufuhr!F66=\"\",\"\",Nährstoffzufuhr!F66)","v":0.36},{"$f":"IF(Nährstoffzufuhr!G66=\"\",\"\",Nährstoffzufuhr!G66)","v":0.15},{"$f":"IF(Nährstoffzufuhr!H66=\"\",\"\",Nährstoffzufuhr!H66)","v":0.47},{"$f":"IF(Nährstoffzufuhr!I66=\"\",\"\",Nährstoffzufuhr!I66)","v":0.13},{"$f":"IF(Nährstoffzufuhr!J66=\"\",\"\",Nährstoffzufuhr!J66)","v":0},{"$f":"IF(Nährstoffzufuhr!K66=\"\",\"\",Nährstoffzufuhr!K66)","v":0},{"$f":"IF(Nährstoffzufuhr!L66=\"\",\"\",Nährstoffzufuhr!L66)","v":0},{"$f":"IF(Nährstoffzufuhr!M66=\"\",\"\",Nährstoffzufuhr!M66)","v":0}]
[{"$f":"IF(Nährstoffzufuhr!A67=\"\",\"\",Nährstoffzufuhr!A67)","v":"Gülle mit Eigenanalyse"},{"$f":"IF(Nährstoffzufuhr!B67=\"\",\"\",Nährstoffzufuhr!B67)","v":""},{"$f":"IF(Nährstoffzufuhr!C67=\"\",\"\",Nährstoffzufuhr!C67)","v":""},{"$f":"IF(Nährstoffzufuhr!D67=\"\",\"\",Nährstoffzufuhr!D67)","v":""},{"$f":"Nährstoffzufuhr!E67","v":0},{"$f":"IF(Nährstoffzufuhr!F67=\"\",\"\",Nährstoffzufuhr!F67)","v":""},{"$f":"IF(Nährstoffzufuhr!G67=\"\",\"\",Nährstoffzufuhr!G67)","v":""},{"$f":"IF(Nährstoffzufuhr!H67=\"\",\"\",Nährstoffzufuhr!H67)","v":""},{"$f":"IF(Nährstoffzufuhr!I67=\"\",\"\",Nährstoffzufuhr!I67)","v":""},{"$f":"IF(Nährstoffzufuhr!J67=\"\",\"\",Nährstoffzufuhr!J67)","v":0},{"$f":"IF(Nährstoffzufuhr!K67=\"\",\"\",Nährstoffzufuhr!K67)","v":0},{"$f":"IF(Nährstoffzufuhr!L67=\"\",\"\",Nährstoffzufuhr!L67)","v":0},{"$f":"IF(Nährstoffzufuhr!M67=\"\",\"\",Nährstoffzufuhr!M67)","v":0}]
[{"$f":"IF(Nährstoffzufuhr!A68=\"\",\"\",Nährstoffzufuhr!A68)","v":"Gülle mit Eigenanalyse"},{"$f":"IF(Nährstoffzufuhr!B68=\"\",\"\",Nährstoffzufuhr!B68)","v":""},{"$f":"IF(Nährstoffzufuhr!C68=\"\",\"\",Nährstoffzufuhr!C68)","v":""},{"$f":"IF(Nährstoffzufuhr!D68=\"\",\"\",Nährstoffzufuhr!D68)","v":""},{"$f":"Nährstoffzufuhr!E68","v":0},{"$f":"IF(Nährstoffzufuhr!F68=\"\",\"\",Nährstoffzufuhr!F68)","v":""},{"$f":"IF(Nährstoffzufuhr!G68=\"\",\"\",Nährstoffzufuhr!G68)","v":""},{"$f":"IF(Nährstoffzufuhr!H68=\"\",\"\",Nährstoffzufuhr!H68)","v":""},{"$f":"IF(Nährstoffzufuhr!I68=\"\",\"\",Nährstoffzufuhr!I68)","v":""},{"$f":"IF(Nährstoffzufuhr!J68=\"\",\"\",Nährstoffzufuhr!J68)","v":0},{"$f":"IF(Nährstoffzufuhr!K68=\"\",\"\",Nährstoffzufuhr!K68)","v":0},{"$f":"IF(Nährstoffzufuhr!L68=\"\",\"\",Nährstoffzufuhr!L68)","v":0},{"$f":"IF(Nährstoffzufuhr!M68=\"\",\"\",Nährstoffzufuhr!M68)","v":0}]
[{"$f":"IF(Nährstoffzufuhr!A69=\"\",\"\",Nährstoffzufuhr!A69)","v":"Gülle mit Eigenanalyse"},{"$f":"IF(Nährstoffzufuhr!B69=\"\",\"\",Nährstoffzufuhr!B69)","v":""},{"$f":"IF(Nährstoffzufuhr!C69=\"\",\"\",Nährstoffzufuhr!C69)","v":""},{"$f":"IF(Nährstoffzufuhr!D69=\"\",\"\",Nährstoffzufuhr!D69)","v":""},{"$f":"Nährstoffzufuhr!E69","v":0},{"$f":"IF(Nährstoffzufuhr!F69=\"\",\"\",Nährstoffzufuhr!F69)","v":""},{"$f":"IF(Nährstoffzufuhr!G69=\"\",\"\",Nährstoffzufuhr!G69)","v":""},{"$f":"IF(Nährstoffzufuhr!H69=\"\",\"\",Nährstoffzufuhr!H69)","v":""},{"$f":"IF(Nährstoffzufuhr!I69=\"\",\"\",Nährstoffzufuhr!I69)","v":""},{"$f":"IF(Nährstoffzufuhr!J69=\"\",\"\",Nährstoffzufuhr!J69)","v":0},{"$f":"IF(Nährstoffzufuhr!K69=\"\",\"\",Nährstoffzufuhr!K69)","v":0},{"$f":"IF(Nährstoffzufuhr!L69=\"\",\"\",Nährstoffzufuhr!L69)","v":0},{"$f":"IF(Nährstoffzufuhr!M69=\"\",\"\",Nährstoffzufuhr!M69)","v":0}]
[{"$f":"IF(Nährstoffzufuhr!A70=\"\",\"\",Nährstoffzufuhr!A70)","v":"Schweinegülle"},{"$f":"IF(Nährstoffzufuhr!B70=\"\",\"\",Nährstoffzufuhr!B70)","v":5},{"$f":"IF(Nährstoffzufuhr!C70=\"\",\"\",Nährstoffzufuhr!C70)","v":""},{"$f":"IF(Nährstoffzufuhr!D70=\"\",\"\",Nährstoffzufuhr!D70)","v":""},{"$f":"Nährstoffzufuhr!E70","v":0},{"$f":"IF(Nährstoffzufuhr!F70=\"\",\"\",Nährstoffzufuhr!F70)","v":0.47},{"$f":"IF(Nährstoffzufuhr!G70=\"\",\"\",Nährstoffzufuhr!G70)","v":0.28000000000000003},{"$f":"IF(Nährstoffzufuhr!H70=\"\",\"\",Nährstoffzufuhr!H70)","v":0.31},{"$f":"IF(Nährstoffzufuhr!I70=\"\",\"\",Nährstoffzufuhr!I70)","v":0.1},{"$f":"IF(Nährstoffzufuhr!J70=\"\",\"\",Nährstoffzufuhr!J70)","v":0},{"$f":"IF(Nährstoffzufuhr!K70=\"\",\"\",Nährstoffzufuhr!K70)","v":0},{"$f":"IF(Nährstoffzufuhr!L70=\"\",\"\",Nährstoffzufuhr!L70)","v":0},{"$f":"IF(Nährstoffzufuhr!M70=\"\",\"\",Nährstoffzufuhr!M70)","v":0}]
[{"$f":"IF(Nährstoffzufuhr!A71=\"\",\"\",Nährstoffzufuhr!A71)","v":"Hühnertrockenkot"},{"$f":"IF(Nährstoffzufuhr!B71=\"\",\"\",Nährstoffzufuhr!B71)","v":40},{"$f":"IF(Nährstoffzufuhr!C71=\"\",\"\",Nährstoffzufuhr!C71)","v":""},{"$f":"IF(Nährstoffzufuhr!D71=\"\",\"\",Nährstoffzufuhr!D71)","v":""},{"$f":"Nährstoffzufuhr!E71","v":0},{"$f":"IF(Nährstoffzufuhr!F71=\"\",\"\",Nährstoffzufuhr!F71)","v":2},{"$f":"IF(Nährstoffzufuhr!G71=\"\",\"\",Nährstoffzufuhr!G71)","v":1.65},{"$f":"IF(Nährstoffzufuhr!H71=\"\",\"\",Nährstoffzufuhr!H71)","v":1.4},{"$f":"IF(Nährstoffzufuhr!I71=\"\",\"\",Nährstoffzufuhr!I71)","v":0.65},{"$f":"IF(Nährstoffzufuhr!J71=\"\",\"\",Nährstoffzufuhr!J71)","v":0},{"$f":"IF(Nährstoffzufuhr!K71=\"\",\"\",Nährstoffzufuhr!K71)","v":0},{"$f":"IF(Nährstoffzufuhr!L71=\"\",\"\",Nährstoffzufuhr!L71)","v":0},{"$f":"IF(Nährstoffzufuhr!M71=\"\",\"\",Nährstoffzufuhr!M71)","v":0}]
[{"$f":"IF(Nährstoffzufuhr!A72=\"\",\"\",Nährstoffzufuhr!A72)","v":"Hühnertrockenkot"},{"$f":"IF(Nährstoffzufuhr!B72=\"\",\"\",Nährstoffzufuhr!B72)","v":55},{"$f":"IF(Nährstoffzufuhr!C72=\"\",\"\",Nährstoffzufuhr!C72)","v":""},{"$f":"IF(Nährstoffzufuhr!D72=\"\",\"\",Nährstoffzufuhr!D72)","v":""},{"$f":"Nährstoffzufuhr!E72","v":0},{"$f":"IF(Nährstoffzufuhr!F72=\"\",\"\",Nährstoffzufuhr!F72)","v":2.6},{"$f":"IF(Nährstoffzufuhr!G72=\"\",\"\",Nährstoffzufuhr!G72)","v":2.1},{"$f":"IF(Nährstoffzufuhr!H72=\"\",\"\",Nährstoffzufuhr!H72)","v":1.8},{"$f":"IF(Nährstoffzufuhr!I72=\"\",\"\",Nährstoffzufuhr!I72)","v":0.8},{"$f":"IF(Nährstoffzufuhr!J72=\"\",\"\",Nährstoffzufuhr!J72)","v":0},{"$f":"IF(Nährstoffzufuhr!K72=\"\",\"\",Nährstoffzufuhr!K72)","v":0},{"$f":"IF(Nährstoffzufuhr!L72=\"\",\"\",Nährstoffzufuhr!L72)","v":0},{"$f":"IF(Nährstoffzufuhr!M72=\"\",\"\",Nährstoffzufuhr!M72)","v":0}]
[{"$f":"IF(Nährstoffzufuhr!A73=\"\",\"\",Nährstoffzufuhr!A73)","v":"Hühnertrockenkot"},{"$f":"IF(Nährstoffzufuhr!B73=\"\",\"\",Nährstoffzufuhr!B73)","v":70},{"$f":"IF(Nährstoffzufuhr!C73=\"\",\"\",Nährstoffzufuhr!C73)","v":""},{"$f":"IF(Nährstoffzufuhr!D73=\"\",\"\",Nährstoffzufuhr!D73)","v":""},{"$f":"Nährstoffzufuhr!E73","v":0},{"$f":"IF(Nährstoffzufuhr!F73=\"\",\"\",Nährstoffzufuhr!F73)","v":3},{"$f":"IF(Nährstoffzufuhr!G73=\"\",\"\",Nährstoffzufuhr!G73)","v":2.5},{"$f":"IF(Nährstoffzufuhr!H73=\"\",\"\",Nährstoffzufuhr!H73)","v":2.2000000000000002},{"$f":"IF(Nährstoffzufuhr!I73=\"\",\"\",Nährstoffzufuhr!I73)","v":0.95},{"$f":"IF(Nährstoffzufuhr!J73=\"\",\"\",Nährstoffzufuhr!J73)","v":0},{"$f":"IF(Nährstoffzufuhr!K73=\"\",\"\",Nährstoffzufuhr!K73)","v":0},{"$f":"IF(Nährstoffzufuhr!L73=\"\",\"\",Nährstoffzufuhr!L73)","v":0},{"$f":"IF(Nährstoffzufuhr!M73=\"\",\"\",Nährstoffzufuhr!M73)","v":0}]
[{"$f":"IF(Nährstoffzufuhr!A74=\"\",\"\",Nährstoffzufuhr!A74)","v":"Festmist"},{"$f":"IF(Nährstoffzufuhr!B74=\"\",\"\",Nährstoffzufuhr!B74)","v":""},{"$f":"IF(Nährstoffzufuhr!C74=\"\",\"\",Nährstoffzufuhr!C74)","v":""},{"$f":"IF(Nährstoffzufuhr!D74=\"\",\"\",Nährstoffzufuhr!D74)","v":""},{"$f":"Nährstoffzufuhr!E74","v":0},{"$f":"IF(Nährstoffzufuhr!F74=\"\",\"\",Nährstoffzufuhr!F74)","v":""},{"$f":"IF(Nährstoffzufuhr!G74=\"\",\"\",Nährstoffzufuhr!G74)","v":""},{"$f":"IF(Nährstoffzufuhr!H74=\"\",\"\",Nährstoffzufuhr!H74)","v":""},{"$f":"IF(Nährstoffzufuhr!I74=\"\",\"\",Nährstoffzufuhr!I74)","v":""},{"$f":"IF(Nährstoffzufuhr!J74=\"\",\"\",Nährstoffzufuhr!J74)","v":""},{"$f":"IF(Nährstoffzufuhr!K74=\"\",\"\",Nährstoffzufuhr!K74)","v":""},{"$f":"IF(Nährstoffzufuhr!L74=\"\",\"\",Nährstoffzufuhr!L74)","v":""},{"$f":"IF(Nährstoffzufuhr!M74=\"\",\"\",Nährstoffzufuhr!M74)","v":""}]
[{"$f":"IF(Nährstoffzufuhr!A75=\"\",\"\",Nährstoffzufuhr!A75)","v":"Rindermist"},{"$f":"IF(Nährstoffzufuhr!B75=\"\",\"\",Nährstoffzufuhr!B75)","v":25},{"$f":"IF(Nährstoffzufuhr!C75=\"\",\"\",Nährstoffzufuhr!C75)","v":""},{"$f":"IF(Nährstoffzufuhr!D75=\"\",\"\",Nährstoffzufuhr!D75)","v":""},{"$f":"Nährstoffzufuhr!E75","v":0},{"$f":"IF(Nährstoffzufuhr!F75=\"\",\"\",Nährstoffzufuhr!F75)","v":0.61},{"$f":"IF(Nährstoffzufuhr!G75=\"\",\"\",Nährstoffzufuhr!G75)","v":0.33},{"$f":"IF(Nährstoffzufuhr!H75=\"\",\"\",Nährstoffzufuhr!H75)","v":1},{"$f":"IF(Nährstoffzufuhr!I75=\"\",\"\",Nährstoffzufuhr!I75)","v":0.2},{"$f":"IF(Nährstoffzufuhr!J75=\"\",\"\",Nährstoffzufuhr!J75)","v":0},{"$f":"IF(Nährstoffzufuhr!K75=\"\",\"\",Nährstoffzufuhr!K75)","v":0},{"$f":"IF(Nährstoffzufuhr!L75=\"\",\"\",Nährstoffzufuhr!L75)","v":0},{"$f":"IF(Nährstoffzufuhr!M75=\"\",\"\",Nährstoffzufuhr!M75)","v":0}]
[{"$f":"IF(Nährstoffzufuhr!A76=\"\",\"\",Nährstoffzufuhr!A76)","v":"Schweinemist"},{"$f":"IF(Nährstoffzufuhr!B76=\"\",\"\",Nährstoffzufuhr!B76)","v":25},{"$f":"IF(Nährstoffzufuhr!C76=\"\",\"\",Nährstoffzufuhr!C76)","v":""},{"$f":"IF(Nährstoffzufuhr!D76=\"\",\"\",Nährstoffzufuhr!D76)","v":""},{"$f":"Nährstoffzufuhr!E76","v":0},{"$f":"IF(Nährstoffzufuhr!F76=\"\",\"\",Nährstoffzufuhr!F76)","v":0.76},{"$f":"IF(Nährstoffzufuhr!G76=\"\",\"\",Nährstoffzufuhr!G76)","v":0.66},{"$f":"IF(Nährstoffzufuhr!H76=\"\",\"\",Nährstoffzufuhr!H76)","v":0.65},{"$f":"IF(Nährstoffzufuhr!I76=\"\",\"\",Nährstoffzufuhr!I76)","v":0.2},{"$f":"IF(Nährstoffzufuhr!J76=\"\",\"\",Nährstoffzufuhr!J76)","v":0},{"$f":"IF(Nährstoffzufuhr!K76=\"\",\"\",Nährstoffzufuhr!K76)","v":0},{"$f":"IF(Nährstoffzufuhr!L76=\"\",\"\",Nährstoffzufuhr!L76)","v":0},{"$f":"IF(Nährstoffzufuhr!M76=\"\",\"\",Nährstoffzufuhr!M76)","v":0}]
[{"$f":"IF(Nährstoffzufuhr!A77=\"\",\"\",Nährstoffzufuhr!A77)","v":"Schafmist"},{"$f":"IF(Nährstoffzufuhr!B77=\"\",\"\",Nährstoffzufuhr!B77)","v":30},{"$f":"IF(Nährstoffzufuhr!C77=\"\",\"\",Nährstoffzufuhr!C77)","v":""},{"$f":"IF(Nährstoffzufuhr!D77=\"\",\"\",Nährstoffzufuhr!D77)","v":""},{"$f":"Nährstoffzufuhr!E77","v":0},{"$f":"IF(Nährstoffzufuhr!F77=\"\",\"\",Nährstoffzufuhr!F77)","v":0.83},{"$f":"IF(Nährstoffzufuhr!G77=\"\",\"\",Nährstoffzufuhr!G77)","v":0.43},{"$f":"IF(Nährstoffzufuhr!H77=\"\",\"\",Nährstoffzufuhr!H77)","v":1.34},{"$f":"IF(Nährstoffzufuhr!I77=\"\",\"\",Nährstoffzufuhr!I77)","v":0.2},{"$f":"IF(Nährstoffzufuhr!J77=\"\",\"\",Nährstoffzufuhr!J77)","v":0},{"$f":"IF(Nährstoffzufuhr!K77=\"\",\"\",Nährstoffzufuhr!K77)","v":0},{"$f":"IF(Nährstoffzufuhr!L77=\"\",\"\",Nährstoffzufuhr!L77)","v":0},{"$f":"IF(Nährstoffzufuhr!M77=\"\",\"\",Nährstoffzufuhr!M77)","v":0}]
[{"$f":"IF(Nährstoffzufuhr!A78=\"\",\"\",Nährstoffzufuhr!A78)","v":"Pferdemist"},{"$f":"IF(Nährstoffzufuhr!B78=\"\",\"\",Nährstoffzufuhr!B78)","v":30},{"$f":"IF(Nährstoffzufuhr!C78=\"\",\"\",Nährstoffzufuhr!C78)","v":""},{"$f":"IF(Nährstoffzufuhr!D78=\"\",\"\",Nährstoffzufuhr!D78)","v":""},{"$f":"Nährstoffzufuhr!E78","v":0},{"$f":"IF(Nährstoffzufuhr!F78=\"\",\"\",Nährstoffzufuhr!F78)","v":0.45},{"$f":"IF(Nährstoffzufuhr!G78=\"\",\"\",Nährstoffzufuhr!G78)","v":0.3},{"$f":"IF(Nährstoffzufuhr!H78=\"\",\"\",Nährstoffzufuhr!H78)","v":0.72},{"$f":"IF(Nährstoffzufuhr!I78=\"\",\"\",Nährstoffzufuhr!I78)","v":0.15},{"$f":"IF(Nährstoffzufuhr!J78=\"\",\"\",Nährstoffzufuhr!J78)","v":0},{"$f":"IF(Nährstoffzufuhr!K78=\"\",\"\",Nährstoffzufuhr!K78)","v":0},{"$f":"IF(Nährstoffzufuhr!L78=\"\",\"\",Nährstoffzufuhr!L78)","v":0},{"$f":"IF(Nährstoffzufuhr!M78=\"\",\"\",Nährstoffzufuhr!M78)","v":0}]
[{"$f":"IF(Nährstoffzufuhr!A79=\"\",\"\",Nährstoffzufuhr!A79)","v":"Geflügelmist"},{"$f":"IF(Nährstoffzufuhr!B79=\"\",\"\",Nährstoffzufuhr!B79)","v":50},{"$f":"IF(Nährstoffzufuhr!C79=\"\",\"\",Nährstoffzufuhr!C79)","v":""},{"$f":"IF(Nährstoffzufuhr!D79=\"\",\"\",Nährstoffzufuhr!D79)","v":""},{"$f":"Nährstoffzufuhr!E79","v":0},{"$f":"IF(Nährstoffzufuhr!F79=\"\",\"\",Nährstoffzufuhr!F79)","v":2},{"$f":"IF(Nährstoffzufuhr!G79=\"\",\"\",Nährstoffzufuhr!G79)","v":1.62},{"$f":"IF(Nährstoffzufuhr!H79=\"\",\"\",Nährstoffzufuhr!H79)","v":1.8},{"$f":"IF(Nährstoffzufuhr!I79=\"\",\"\",Nährstoffzufuhr!I79)","v":0.5},{"$f":"IF(Nährstoffzufuhr!J79=\"\",\"\",Nährstoffzufuhr!J79)","v":0},{"$f":"IF(Nährstoffzufuhr!K79=\"\",\"\",Nährstoffzufuhr!K79)","v":0},{"$f":"IF(Nährstoffzufuhr!L79=\"\",\"\",Nährstoffzufuhr!L79)","v":0},{"$f":"IF(Nährstoffzufuhr!M79=\"\",\"\",Nährstoffzufuhr!M79)","v":0}]
[{"$f":"IF(Nährstoffzufuhr!A80=\"\",\"\",Nährstoffzufuhr!A80)","v":"Festmist mit Eigenanalyse"},{"$f":"IF(Nährstoffzufuhr!B80=\"\",\"\",Nährstoffzufuhr!B80)","v":""},{"$f":"IF(Nährstoffzufuhr!C80=\"\",\"\",Nährstoffzufuhr!C80)","v":""},{"$f":"IF(Nährstoffzufuhr!D80=\"\",\"\",Nährstoffzufuhr!D80)","v":""},{"$f":"Nährstoffzufuhr!E80","v":0},{"$f":"IF(Nährstoffzufuhr!F80=\"\",\"\",Nährstoffzufuhr!F80)","v":""},{"$f":"IF(Nährstoffzufuhr!G80=\"\",\"\",Nährstoffzufuhr!G80)","v":""},{"$f":"IF(Nährstoffzufuhr!H80=\"\",\"\",Nährstoffzufuhr!H80)","v":""},{"$f":"IF(Nährstoffzufuhr!I80=\"\",\"\",Nährstoffzufuhr!I80)","v":""},{"$f":"IF(Nährstoffzufuhr!J80=\"\",\"\",Nährstoffzufuhr!J80)","v":0},{"$f":"IF(Nährstoffzufuhr!K80=\"\",\"\",Nährstoffzufuhr!K80)","v":0},{"$f":"IF(Nährstoffzufuhr!L80=\"\",\"\",Nährstoffzufuhr!L80)","v":0},{"$f":"IF(Nährstoffzufuhr!M80=\"\",\"\",Nährstoffzufuhr!M80)","v":0}]
[{"$f":"IF(Nährstoffzufuhr!A81=\"\",\"\",Nährstoffzufuhr!A81)","v":"Festmist mit Eigenanalyse"},{"$f":"IF(Nährstoffzufuhr!B81=\"\",\"\",Nährstoffzufuhr!B81)","v":""},{"$f":"IF(Nährstoffzufuhr!C81=\"\",\"\",Nährstoffzufuhr!C81)","v":""},{"$f":"IF(Nährstoffzufuhr!D81=\"\",\"\",Nährstoffzufuhr!D81)","v":""},{"$f":"Nährstoffzufuhr!E81","v":0},{"$f":"IF(Nährstoffzufuhr!F81=\"\",\"\",Nährstoffzufuhr!F81)","v":""},{"$f":"IF(Nährstoffzufuhr!G81=\"\",\"\",Nährstoffzufuhr!G81)","v":""},{"$f":"IF(Nährstoffzufuhr!H81=\"\",\"\",Nährstoffzufuhr!H81)","v":""},{"$f":"IF(Nährstoffzufuhr!I81=\"\",\"\",Nährstoffzufuhr!I81)","v":""},{"$f":"IF(Nährstoffzufuhr!J81=\"\",\"\",Nährstoffzufuhr!J81)","v":0},{"$f":"IF(Nährstoffzufuhr!K81=\"\",\"\",Nährstoffzufuhr!K81)","v":0},{"$f":"IF(Nährstoffzufuhr!L81=\"\",\"\",Nährstoffzufuhr!L81)","v":0},{"$f":"IF(Nährstoffzufuhr!M81=\"\",\"\",Nährstoffzufuhr!M81)","v":0}]
[{"$f":"IF(Nährstoffzufuhr!A82=\"\",\"\",Nährstoffzufuhr!A82)","v":"Jauche"},{"$f":"IF(Nährstoffzufuhr!B82=\"\",\"\",Nährstoffzufuhr!B82)","v":""},{"$f":"IF(Nährstoffzufuhr!C82=\"\",\"\",Nährstoffzufuhr!C82)","v":""},{"$f":"IF(Nährstoffzufuhr!D82=\"\",\"\",Nährstoffzufuhr!D82)","v":""},{"$f":"Nährstoffzufuhr!E82","v":0},{"$f":"IF(Nährstoffzufuhr!F82=\"\",\"\",Nährstoffzufuhr!F82)","v":""},{"$f":"IF(Nährstoffzufuhr!G82=\"\",\"\",Nährstoffzufuhr!G82)","v":""},{"$f":"IF(Nährstoffzufuhr!H82=\"\",\"\",Nährstoffzufuhr!H82)","v":""},{"$f":"IF(Nährstoffzufuhr!I82=\"\",\"\",Nährstoffzufuhr!I82)","v":""},{"$f":"IF(Nährstoffzufuhr!J82=\"\",\"\",Nährstoffzufuhr!J82)","v":""},{"$f":"IF(Nährstoffzufuhr!K82=\"\",\"\",Nährstoffzufuhr!K82)","v":""},{"$f":"IF(Nährstoffzufuhr!L82=\"\",\"\",Nährstoffzufuhr!L82)","v":""},{"$f":"IF(Nährstoffzufuhr!M82=\"\",\"\",Nährstoffzufuhr!M82)","v":""}]
[{"$f":"IF(Nährstoffzufuhr!A83=\"\",\"\",Nährstoffzufuhr!A83)","v":"Rinderjauche"},{"$f":"IF(Nährstoffzufuhr!B83=\"\",\"\",Nährstoffzufuhr!B83)","v":2},{"$f":"IF(Nährstoffzufuhr!C83=\"\",\"\",Nährstoffzufuhr!C83)","v":""},{"$f":"IF(Nährstoffzufuhr!D83=\"\",\"\",Nährstoffzufuhr!D83)","v":""},{"$f":"Nährstoffzufuhr!E83","v":0},{"$f":"IF(Nährstoffzufuhr!F83=\"\",\"\",Nährstoffzufuhr!F83)","v":0.26},{"$f":"IF(Nährstoffzufuhr!G83=\"\",\"\",Nährstoffzufuhr!G83)","v":0.02},{"$f":"IF(Nährstoffzufuhr!H83=\"\",\"\",Nährstoffzufuhr!H83)","v":0.79},{"$f":"IF(Nährstoffzufuhr!I83=\"\",\"\",Nährstoffzufuhr!I83)","v":0.02},{"$f":"IF(Nährstoffzufuhr!J83=\"\",\"\",Nährstoffzufuhr!J83)","v":0},{"$f":"IF(Nährstoffzufuhr!K83=\"\",\"\",Nährstoffzufuhr!K83)","v":0},{"$f":"IF(Nährstoffzufuhr!L83=\"\",\"\",Nährstoffzufuhr!L83)","v":0},{"$f":"IF(Nährstoffzufuhr!M83=\"\",\"\",Nährstoffzufuhr!M83)","v":0}]
[{"$f":"IF(Nährstoffzufuhr!A84=\"\",\"\",Nährstoffzufuhr!A84)","v":"Jauche mit Eigenanalyse"},{"$f":"IF(Nährstoffzufuhr!B84=\"\",\"\",Nährstoffzufuhr!B84)","v":""},{"$f":"IF(Nährstoffzufuhr!C84=\"\",\"\",Nährstoffzufuhr!C84)","v":""},{"$f":"IF(Nährstoffzufuhr!D84=\"\",\"\",Nährstoffzufuhr!D84)","v":""},{"$f":"Nährstoffzufuhr!E84","v":0},{"$f":"IF(Nährstoffzufuhr!F84=\"\",\"\",Nährstoffzufuhr!F84)","v":""},{"$f":"IF(Nährstoffzufuhr!G84=\"\",\"\",Nährstoffzufuhr!G84)","v":""},{"$f":"IF(Nährstoffzufuhr!H84=\"\",\"\",Nährstoffzufuhr!H84)","v":""},{"$f":"IF(Nährstoffzufuhr!I84=\"\",\"\",Nährstoffzufuhr!I84)","v":""},{"$f":"IF(Nährstoffzufuhr!J84=\"\",\"\",Nährstoffzufuhr!J84)","v":0},{"$f":"IF(Nährstoffzufuhr!K84=\"\",\"\",Nährstoffzufuhr!K84)","v":0},{"$f":"IF(Nährstoffzufuhr!L84=\"\",\"\",Nährstoffzufuhr!L84)","v":0},{"$f":"IF(Nährstoffzufuhr!M84=\"\",\"\",Nährstoffzufuhr!M84)","v":0}]
[{"$f":"IF(Nährstoffzufuhr!A85=\"\",\"\",Nährstoffzufuhr!A85)","v":"Jauche mit Eigenanalyse"},{"$f":"IF(Nährstoffzufuhr!B85=\"\",\"\",Nährstoffzufuhr!B85)","v":""},{"$f":"IF(Nährstoffzufuhr!C85=\"\",\"\",Nährstoffzufuhr!C85)","v":""},{"$f":"IF(Nährstoffzufuhr!D85=\"\",\"\",Nährstoffzufuhr!D85)","v":""},{"$f":"Nährstoffzufuhr!E85","v":0},{"$f":"IF(Nährstoffzufuhr!F85=\"\",\"\",Nährstoffzufuhr!F85)","v":""},{"$f":"IF(Nährstoffzufuhr!G85=\"\",\"\",Nährstoffzufuhr!G85)","v":""},{"$f":"IF(Nährstoffzufuhr!H85=\"\",\"\",Nährstoffzufuhr!H85)","v":""},{"$f":"IF(Nährstoffzufuhr!I85=\"\",\"\",Nährstoffzufuhr!I85)","v":""},{"$f":"IF(Nährstoffzufuhr!J85=\"\",\"\",Nährstoffzufuhr!J85)","v":0},{"$f":"IF(Nährstoffzufuhr!K85=\"\",\"\",Nährstoffzufuhr!K85)","v":0},{"$f":"IF(Nährstoffzufuhr!L85=\"\",\"\",Nährstoffzufuhr!L85)","v":0},{"$f":"IF(Nährstoffzufuhr!M85=\"\",\"\",Nährstoffzufuhr!M85)","v":0}]
[{"$f":"IF(Nährstoffzufuhr!A86=\"\",\"\",Nährstoffzufuhr!A86)","v":"Biogasgärreste"},{"$f":"IF(Nährstoffzufuhr!B86=\"\",\"\",Nährstoffzufuhr!B86)","v":""},{"$f":"IF(Nährstoffzufuhr!C86=\"\",\"\",Nährstoffzufuhr!C86)","v":""},{"$f":"IF(Nährstoffzufuhr!D86=\"\",\"\",Nährstoffzufuhr!D86)","v":""},{"$f":"Nährstoffzufuhr!E86","v":0},{"$f":"IF(Nährstoffzufuhr!F86=\"\",\"\",Nährstoffzufuhr!F86)","v":""},{"$f":"IF(Nährstoffzufuhr!G86=\"\",\"\",Nährstoffzufuhr!G86)","v":""},{"$f":"IF(Nährstoffzufuhr!H86=\"\",\"\",Nährstoffzufuhr!H86)","v":""},{"$f":"IF(Nährstoffzufuhr!I86=\"\",\"\",Nährstoffzufuhr!I86)","v":""},{"$f":"IF(Nährstoffzufuhr!J86=\"\",\"\",Nährstoffzufuhr!J86)","v":""},{"$f":"IF(Nährstoffzufuhr!K86=\"\",\"\",Nährstoffzufuhr!K86)","v":""},{"$f":"IF(Nährstoffzufuhr!L86=\"\",\"\",Nährstoffzufuhr!L86)","v":""},{"$f":"IF(Nährstoffzufuhr!M86=\"\",\"\",Nährstoffzufuhr!M86)","v":""}]
[{"$f":"IF(Nährstoffzufuhr!A87=\"\",\"\",Nährstoffzufuhr!A87)","v":"Gärsubstrat flüssig"},{"$f":"IF(Nährstoffzufuhr!B87=\"\",\"\",Nährstoffzufuhr!B87)","v":6},{"$f":"IF(Nährstoffzufuhr!C87=\"\",\"\",Nährstoffzufuhr!C87)","v":""},{"$f":"IF(Nährstoffzufuhr!D87=\"\",\"\",Nährstoffzufuhr!D87)","v":""},{"$f":"Nährstoffzufuhr!E87","v":0},{"$f":"IF(Nährstoffzufuhr!F87=\"\",\"\",Nährstoffzufuhr!F87)","v":0.8},{"$f":"IF(Nährstoffzufuhr!G87=\"\",\"\",Nährstoffzufuhr!G87)","v":0.34},{"$f":"IF(Nährstoffzufuhr!H87=\"\",\"\",Nährstoffzufuhr!H87)","v":0.6},{"$f":"IF(Nährstoffzufuhr!I87=\"\",\"\",Nährstoffzufuhr!I87)","v":0.1},{"$f":"IF(Nährstoffzufuhr!J87=\"\",\"\",Nährstoffzufuhr!J87)","v":0},{"$f":"IF(Nährstoffzufuhr!K87=\"\",\"\",Nährstoffzufuhr!K87)","v":0},{"$f":"IF(Nährstoffzufuhr!L87=\"\",\"\",Nährstoffzufuhr!L87)","v":0},{"$f":"IF(Nährstoffzufuhr!M87=\"\",\"\",Nährstoffzufuhr!M87)","v":0}]
[{"$f":"IF(Nährstoffzufuhr!A88=\"\",\"\",Nährstoffzufuhr!A88)","v":"Gärsubstrat fest"},{"$f":"IF(Nährstoffzufuhr!B88=\"\",\"\",Nährstoffzufuhr!B88)","v":""},{"$f":"IF(Nährstoffzufuhr!C88=\"\",\"\",Nährstoffzufuhr!C88)","v":""},{"$f":"IF(Nährstoffzufuhr!D88=\"\",\"\",Nährstoffzufuhr!D88)","v":""},{"$f":"Nährstoffzufuhr!E88","v":0},{"$f":"IF(Nährstoffzufuhr!F88=\"\",\"\",Nährstoffzufuhr!F88)","v":0.6},{"$f":"IF(Nährstoffzufuhr!G88=\"\",\"\",Nährstoffzufuhr!G88)","v":0.4},{"$f":"IF(Nährstoffzufuhr!H88=\"\",\"\",Nährstoffzufuhr!H88)","v":0.4},{"$f":"IF(Nährstoffzufuhr!I88=\"\",\"\",Nährstoffzufuhr!I88)","v":7.0000000000000007E-2},{"$f":"IF(Nährstoffzufuhr!J88=\"\",\"\",Nährstoffzufuhr!J88)","v":0},{"$f":"IF(Nährstoffzufuhr!K88=\"\",\"\",Nährstoffzufuhr!K88)","v":0},{"$f":"IF(Nährstoffzufuhr!L88=\"\",\"\",Nährstoffzufuhr!L88)","v":0},{"$f":"IF(Nährstoffzufuhr!M88=\"\",\"\",Nährstoffzufuhr!M88)","v":0}]
[{"$f":"IF(Nährstoffzufuhr!A89=\"\",\"\",Nährstoffzufuhr!A89)","v":"Gärsubstrat mit Eigenanalyse flüssig"},{"$f":"IF(Nährstoffzufuhr!B89=\"\",\"\",Nährstoffzufuhr!B89)","v":""},{"$f":"IF(Nährstoffzufuhr!C89=\"\",\"\",Nährstoffzufuhr!C89)","v":""},{"$f":"IF(Nährstoffzufuhr!D89=\"\",\"\",Nährstoffzufuhr!D89)","v":""},{"$f":"Nährstoffzufuhr!E89","v":0},{"$f":"IF(Nährstoffzufuhr!F89=\"\",\"\",Nährstoffzufuhr!F89)","v":""},{"$f":"IF(Nährstoffzufuhr!G89=\"\",\"\",Nährstoffzufuhr!G89)","v":""},{"$f":"IF(Nährstoffzufuhr!H89=\"\",\"\",Nährstoffzufuhr!H89)","v":""},{"$f":"IF(Nährstoffzufuhr!I89=\"\",\"\",Nährstoffzufuhr!I89)","v":""},{"$f":"IF(Nährstoffzufuhr!J89=\"\",\"\",Nährstoffzufuhr!J89)","v":0},{"$f":"IF(Nährstoffzufuhr!K89=\"\",\"\",Nährstoffzufuhr!K89)","v":0},{"$f":"IF(Nährstoffzufuhr!L89=\"\",\"\",Nährstoffzufuhr!L89)","v":0},{"$f":"IF(Nährstoffzufuhr!M89=\"\",\"\",Nährstoffzufuhr!M89)","v":0}]
[{"$f":"IF(Nährstoffzufuhr!A90=\"\",\"\",Nährstoffzufuhr!A90)","v":"Gärsubstrat mit Eigenanalyse fest"},{"$f":"IF(Nährstoffzufuhr!B90=\"\",\"\",Nährstoffzufuhr!B90)","v":""},{"$f":"IF(Nährstoffzufuhr!C90=\"\",\"\",Nährstoffzufuhr!C90)","v":""},{"$f":"IF(Nährstoffzufuhr!D90=\"\",\"\",Nährstoffzufuhr!D90)","v":""},{"$f":"Nährstoffzufuhr!E90","v":0},{"$f":"IF(Nährstoffzufuhr!F90=\"\",\"\",Nährstoffzufuhr!F90)","v":""},{"$f":"IF(Nährstoffzufuhr!G90=\"\",\"\",Nährstoffzufuhr!G90)","v":""},{"$f":"IF(Nährstoffzufuhr!H90=\"\",\"\",Nährstoffzufuhr!H90)","v":""},{"$f":"IF(Nährstoffzufuhr!I90=\"\",\"\",Nährstoffzufuhr!I90)","v":""},{"$f":"IF(Nährstoffzufuhr!J90=\"\",\"\",Nährstoffzufuhr!J90)","v":0},{"$f":"IF(Nährstoffzufuhr!K90=\"\",\"\",Nährstoffzufuhr!K90)","v":0},{"$f":"IF(Nährstoffzufuhr!L90=\"\",\"\",Nährstoffzufuhr!L90)","v":0},{"$f":"IF(Nährstoffzufuhr!M90=\"\",\"\",Nährstoffzufuhr!M90)","v":0}]
[{"$f":"IF(Nährstoffzufuhr!A91=\"\",\"\",Nährstoffzufuhr!A91)","v":"Gärsubstrat mit Eigenanalyse"},{"$f":"IF(Nährstoffzufuhr!B91=\"\",\"\",Nährstoffzufuhr!B91)","v":""},{"$f":"IF(Nährstoffzufuhr!C91=\"\",\"\",Nährstoffzufuhr!C91)","v":""},{"$f":"IF(Nährstoffzufuhr!D91=\"\",\"\",Nährstoffzufuhr!D91)","v":""},{"$f":"Nährstoffzufuhr!E91","v":0},{"$f":"IF(Nährstoffzufuhr!F91=\"\",\"\",Nährstoffzufuhr!F91)","v":""},{"$f":"IF(Nährstoffzufuhr!G91=\"\",\"\",Nährstoffzufuhr!G91)","v":""},{"$f":"IF(Nährstoffzufuhr!H91=\"\",\"\",Nährstoffzufuhr!H91)","v":""},{"$f":"IF(Nährstoffzufuhr!I91=\"\",\"\",Nährstoffzufuhr!I91)","v":""},{"$f":"IF(Nährstoffzufuhr!J91=\"\",\"\",Nährstoffzufuhr!J91)","v":0},{"$f":"IF(Nährstoffzufuhr!K91=\"\",\"\",Nährstoffzufuhr!K91)","v":0},{"$f":"IF(Nährstoffzufuhr!L91=\"\",\"\",Nährstoffzufuhr!L91)","v":0},{"$f":"IF(Nährstoffzufuhr!M91=\"\",\"\",Nährstoffzufuhr!M91)","v":0}]
[{"$f":"IF(Nährstoffzufuhr!A92=\"\",\"\",Nährstoffzufuhr!A92)","v":"Sonstige"},{"$f":"IF(Nährstoffzufuhr!B92=\"\",\"\",Nährstoffzufuhr!B92)","v":""},{"$f":"IF(Nährstoffzufuhr!C92=\"\",\"\",Nährstoffzufuhr!C92)","v":""},{"$f":"IF(Nährstoffzufuhr!D92=\"\",\"\",Nährstoffzufuhr!D92)","v":""},{"$f":"Nährstoffzufuhr!E92","v":0},{"$f":"IF(Nährstoffzufuhr!F92=\"\",\"\",Nährstoffzufuhr!F92)","v":""},{"$f":"IF(Nährstoffzufuhr!G92=\"\",\"\",Nährstoffzufuhr!G92)","v":""},{"$f":"IF(Nährstoffzufuhr!H92=\"\",\"\",Nährstoffzufuhr!H92)","v":""},{"$f":"IF(Nährstoffzufuhr!I92=\"\",\"\",Nährstoffzufuhr!I92)","v":""},{"$f":"IF(Nährstoffzufuhr!J92=\"\",\"\",Nährstoffzufuhr!J92)","v":""},{"$f":"IF(Nährstoffzufuhr!K92=\"\",\"\",Nährstoffzufuhr!K92)","v":""},{"$f":"IF(Nährstoffzufuhr!L92=\"\",\"\",Nährstoffzufuhr!L92)","v":""},{"$f":"IF(Nährstoffzufuhr!M92=\"\",\"\",Nährstoffzufuhr!M92)","v":""}]
[{"$f":"IF(Nährstoffzufuhr!A93=\"\",\"\",Nährstoffzufuhr!A93)","v":""},{"$f":"IF(Nährstoffzufuhr!B93=\"\",\"\",Nährstoffzufuhr!B93)","v":""},{"$f":"IF(Nährstoffzufuhr!C93=\"\",\"\",Nährstoffzufuhr!C93)","v":""},{"$f":"IF(Nährstoffzufuhr!D93=\"\",\"\",Nährstoffzufuhr!D93)","v":""},{"$f":"Nährstoffzufuhr!E93","v":0},{"$f":"IF(Nährstoffzufuhr!F93=\"\",\"\",Nährstoffzufuhr!F93)","v":""},{"$f":"IF(Nährstoffzufuhr!G93=\"\",\"\",Nährstoffzufuhr!G93)","v":""},{"$f":"IF(Nährstoffzufuhr!H93=\"\",\"\",Nährstoffzufuhr!H93)","v":""},{"$f":"IF(Nährstoffzufuhr!I93=\"\",\"\",Nährstoffzufuhr!I93)","v":""},{"$f":"IF(Nährstoffzufuhr!J93=\"\",\"\",Nährstoffzufuhr!J93)","v":0},{"$f":"IF(Nährstoffzufuhr!K93=\"\",\"\",Nährstoffzufuhr!K93)","v":0},{"$f":"IF(Nährstoffzufuhr!L93=\"\",\"\",Nährstoffzufuhr!L93)","v":0},{"$f":"IF(Nährstoffzufuhr!M93=\"\",\"\",Nährstoffzufuhr!M93)","v":0}]
[{"$f":"IF(Nährstoffzufuhr!A94=\"\",\"\",Nährstoffzufuhr!A94)","v":""},{"$f":"IF(Nährstoffzufuhr!B94=\"\",\"\",Nährstoffzufuhr!B94)","v":""},{"$f":"IF(Nährstoffzufuhr!C94=\"\",\"\",Nährstoffzufuhr!C94)","v":""},{"$f":"IF(Nährstoffzufuhr!D94=\"\",\"\",Nährstoffzufuhr!D94)","v":""},{"$f":"Nährstoffzufuhr!E94","v":0},{"$f":"IF(Nährstoffzufuhr!F94=\"\",\"\",Nährstoffzufuhr!F94)","v":""},{"$f":"IF(Nährstoffzufuhr!G94=\"\",\"\",Nährstoffzufuhr!G94)","v":""},{"$f":"IF(Nährstoffzufuhr!H94=\"\",\"\",Nährstoffzufuhr!H94)","v":""},{"$f":"IF(Nährstoffzufuhr!I94=\"\",\"\",Nährstoffzufuhr!I94)","v":""},{"$f":"IF(Nährstoffzufuhr!J94=\"\",\"\",Nährstoffzufuhr!J94)","v":0},{"$f":"IF(Nährstoffzufuhr!K94=\"\",\"\",Nährstoffzufuhr!K94)","v":0},{"$f":"IF(Nährstoffzufuhr!L94=\"\",\"\",Nährstoffzufuhr!L94)","v":0},{"$f":"IF(Nährstoffzufuhr!M94=\"\",\"\",Nährstoffzufuhr!M94)","v":0}]
[{"$f":"IF(Nährstoffzufuhr!A95=\"\",\"\",Nährstoffzufuhr!A95)","v":""},{"$f":"IF(Nährstoffzufuhr!B95=\"\",\"\",Nährstoffzufuhr!B95)","v":""},{"$f":"IF(Nährstoffzufuhr!C95=\"\",\"\",Nährstoffzufuhr!C95)","v":""},{"$f":"IF(Nährstoffzufuhr!D95=\"\",\"\",Nährstoffzufuhr!D95)","v":""},{"$f":"Nährstoffzufuhr!E95","v":0},{"$f":"IF(Nährstoffzufuhr!F95=\"\",\"\",Nährstoffzufuhr!F95)","v":""},{"$f":"IF(Nährstoffzufuhr!G95=\"\",\"\",Nährstoffzufuhr!G95)","v":""},{"$f":"IF(Nährstoffzufuhr!H95=\"\",\"\",Nährstoffzufuhr!H95)","v":""},{"$f":"IF(Nährstoffzufuhr!I95=\"\",\"\",Nährstoffzufuhr!I95)","v":""},{"$f":"IF(Nährstoffzufuhr!J95=\"\",\"\",Nährstoffzufuhr!J95)","v":0},{"$f":"IF(Nährstoffzufuhr!K95=\"\",\"\",Nährstoffzufuhr!K95)","v":0},{"$f":"IF(Nährstoffzufuhr!L95=\"\",\"\",Nährstoffzufuhr!L95)","v":0},{"$f":"IF(Nährstoffzufuhr!M95=\"\",\"\",Nährstoffzufuhr!M95)","v":0}]
[{"$f":"IF(Nährstoffzufuhr!A96=\"\",\"\",Nährstoffzufuhr!A96)","v":""},{"$f":"IF(Nährstoffzufuhr!B96=\"\",\"\",Nährstoffzufuhr!B96)","v":""},{"$f":"IF(Nährstoffzufuhr!C96=\"\",\"\",Nährstoffzufuhr!C96)","v":""},{"$f":"IF(Nährstoffzufuhr!D96=\"\",\"\",Nährstoffzufuhr!D96)","v":""},{"$f":"Nährstoffzufuhr!E96","v":0},{"$f":"IF(Nährstoffzufuhr!F96=\"\",\"\",Nährstoffzufuhr!F96)","v":""},{"$f":"IF(Nährstoffzufuhr!G96=\"\",\"\",Nährstoffzufuhr!G96)","v":""},{"$f":"IF(Nährstoffzufuhr!H96=\"\",\"\",Nährstoffzufuhr!H96)","v":""},{"$f":"IF(Nährstoffzufuhr!I96=\"\",\"\",Nährstoffzufuhr!I96)","v":""},{"$f":"IF(Nährstoffzufuhr!J96=\"\",\"\",Nährstoffzufuhr!J96)","v":0},{"$f":"IF(Nährstoffzufuhr!K96=\"\",\"\",Nährstoffzufuhr!K96)","v":0},{"$f":"IF(Nährstoffzufuhr!L96=\"\",\"\",Nährstoffzufuhr!L96)","v":0},{"$f":"IF(Nährstoffzufuhr!M96=\"\",\"\",Nährstoffzufuhr!M96)","v":0}]
[{"$f":"IF(Nährstoffzufuhr!A97=\"\",\"\",Nährstoffzufuhr!A97)","v":""},{"$f":"IF(Nährstoffzufuhr!B97=\"\",\"\",Nährstoffzufuhr!B97)","v":""},{"$f":"IF(Nährstoffzufuhr!C97=\"\",\"\",Nährstoffzufuhr!C97)","v":""},{"$f":"IF(Nährstoffzufuhr!D97=\"\",\"\",Nährstoffzufuhr!D97)","v":""},{"$f":"Nährstoffzufuhr!E97","v":0},{"$f":"IF(Nährstoffzufuhr!F97=\"\",\"\",Nährstoffzufuhr!F97)","v":0.6},{"$f":"IF(Nährstoffzufuhr!G97=\"\",\"\",Nährstoffzufuhr!G97)","v":0.4},{"$f":"IF(Nährstoffzufuhr!H97=\"\",\"\",Nährstoffzufuhr!H97)","v":0.4},{"$f":"IF(Nährstoffzufuhr!I97=\"\",\"\",Nährstoffzufuhr!I97)","v":7.0000000000000007E-2},{"$f":"IF(Nährstoffzufuhr!J97=\"\",\"\",Nährstoffzufuhr!J97)","v":0},{"$f":"IF(Nährstoffzufuhr!K97=\"\",\"\",Nährstoffzufuhr!K97)","v":0},{"$f":"IF(Nährstoffzufuhr!L97=\"\",\"\",Nährstoffzufuhr!L97)","v":0},{"$f":"IF(Nährstoffzufuhr!M97=\"\",\"\",Nährstoffzufuhr!M97)","v":0}]
[{"$f":"IF(Nährstoffzufuhr!A98=\"\",\"\",Nährstoffzufuhr!A98)","v":"Summe"},{"$f":"IF(Nährstoffzufuhr!B98=\"\",\"\",Nährstoffzufuhr!B98)","v":""},{"$f":"IF(Nährstoffzufuhr!C98=\"\",\"\",Nährstoffzufuhr!C98)","v":""},{"$f":"IF(Nährstoffzufuhr!D98=\"\",\"\",Nährstoffzufuhr!D98)","v":""},{"$f":"IF(Nährstoffzufuhr!E98=\"\",\"\",Nährstoffzufuhr!E98)","v":0},{"$f":"IF(Nährstoffzufuhr!F98=\"\",\"\",Nährstoffzufuhr!F98)","v":""},{"$f":"IF([1]Nährstoffzufuhr!G98=\"\",\"\",[1]Nährstoffzufuhr!G98)","v":0},{"$f":"IF([1]Nährstoffzufuhr!H98=\"\",\"\",[1]Nährstoffzufuhr!H98)","v":0},{"$f":"IF([1]Nährstoffzufuhr!I98=\"\",\"\",[1]Nährstoffzufuhr!I98)","v":0},{"$f":"IF(Nährstoffzufuhr!J98=\"\",\"\",Nährstoffzufuhr!J98)","v":0},{"$f":"IF(Nährstoffzufuhr!K98=\"\",\"\",Nährstoffzufuhr!K98)","v":0},{"$f":"IF(Nährstoffzufuhr!L98=\"\",\"\",Nährstoffzufuhr!L98)","v":0},{"$f":"IF(Nährstoffzufuhr!M98=\"\",\"\",Nährstoffzufuhr!M98)","v":0}]
[{"$f":"IF(Nährstoffzufuhr!A99=\"\",\"\",Nährstoffzufuhr!A99)","v":""},{"$f":"IF(Nährstoffzufuhr!B99=\"\",\"\",Nährstoffzufuhr!B99)","v":""},{"$f":"IF(Nährstoffzufuhr!C99=\"\",\"\",Nährstoffzufuhr!C99)","v":""},{"$f":"IF(Nährstoffzufuhr!D99=\"\",\"\",Nährstoffzufuhr!D99)","v":""},{"$f":"IF(Nährstoffzufuhr!E99=\"\",\"\",Nährstoffzufuhr!E99)","v":""},{"$f":"IF(Nährstoffzufuhr!F99=\"\",\"\",Nährstoffzufuhr!F99)","v":""},{"$f":"IF(Nährstoffzufuhr!G99=\"\",\"\",Nährstoffzufuhr!G99)","v":""},{"$f":"IF(Nährstoffzufuhr!H99=\"\",\"\",Nährstoffzufuhr!H99)","v":""},{"$f":"IF(Nährstoffzufuhr!I99=\"\",\"\",Nährstoffzufuhr!I99)","v":""},{"$f":"IF(Nährstoffzufuhr!J99=\"\",\"\",Nährstoffzufuhr!J99)","v":""},{"$f":"IF(Nährstoffzufuhr!K99=\"\",\"\",Nährstoffzufuhr!K99)","v":""},{"$f":"IF(Nährstoffzufuhr!L99=\"\",\"\",Nährstoffzufuhr!L99)","v":""},{"$f":"IF(Nährstoffzufuhr!M99=\"\",\"\",Nährstoffzufuhr!M99)","v":""}]
[{"$f":"IF(Nährstoffzufuhr!A100=\"\",\"\",Nährstoffzufuhr!A100)","v":"Organische Dünger aus Zukauf/Aufnahme"},{"$f":"IF(Nährstoffzufuhr!B100=\"\",\"\",Nährstoffzufuhr!B100)","v":""},{"$f":"IF(Nährstoffzufuhr!C100=\"\",\"\",Nährstoffzufuhr!C100)","v":""},{"$f":"IF(Nährstoffzufuhr!D100=\"\",\"\",Nährstoffzufuhr!D100)","v":""},{"$f":"IF(Nährstoffzufuhr!E100=\"\",\"\",Nährstoffzufuhr!E100)","v":"Menge"},{"$f":"IF(Nährstoffzufuhr!F100=\"\",\"\",Nährstoffzufuhr!F100)","v":"Nährstoffgehalt %, kg/dt"},{"$f":"IF([1]Nährstoffzufuhr!G100=\"\",\"\",[1]Nährstoffzufuhr!G100)","v":0},{"$f":"IF([1]Nährstoffzufuhr!H100=\"\",\"\",[1]Nährstoffzufuhr!H100)","v":0},{"$f":"IF([1]Nährstoffzufuhr!I100=\"\",\"\",[1]Nährstoffzufuhr!I100)","v":0},{"$f":"IF(Nährstoffzufuhr!J100=\"\",\"\",Nährstoffzufuhr!J100)","v":"Nährstoffe kg "},{"$f":"IF([1]Nährstoffzufuhr!K100=\"\",\"\",[1]Nährstoffzufuhr!K100)","v":0},{"$f":"IF([1]Nährstoffzufuhr!L100=\"\",\"\",[1]Nährstoffzufuhr!L100)","v":0},{"$f":"IF([1]Nährstoffzufuhr!M100=\"\",\"\",[1]Nährstoffzufuhr!M100)","v":0}]
[{"$f":"IF([1]Nährstoffzufuhr!A101=\"\",\"\",[1]Nährstoffzufuhr!A101)","v":0},{"$f":"IF(Nährstoffzufuhr!B101=\"\",\"\",Nährstoffzufuhr!B101)","v":"% TM"},{"$f":"IF(Nährstoffzufuhr!C101=\"\",\"\",Nährstoffzufuhr!C101)","v":""},{"$f":"IF(Nährstoffzufuhr!D101=\"\",\"\",Nährstoffzufuhr!D101)","v":""},{"$f":"IF(Nährstoffzufuhr!E101=\"\",\"\",Nährstoffzufuhr!E101)","v":"dt"},{"$f":"IF(Nährstoffzufuhr!F101=\"\",\"\",Nährstoffzufuhr!F101)","v":"N"},{"$f":"IF(Nährstoffzufuhr!G101=\"\",\"\",Nährstoffzufuhr!G101)","v":"P2O5"},{"$f":"IF(Nährstoffzufuhr!H101=\"\",\"\",Nährstoffzufuhr!H101)","v":"K2O"},{"$f":"IF(Nährstoffzufuhr!I101=\"\",\"\",Nährstoffzufuhr!I101)","v":"MgO"},{"$f":"IF(Nährstoffzufuhr!J101=\"\",\"\",Nährstoffzufuhr!J101)","v":"N"},{"$f":"IF(Nährstoffzufuhr!K101=\"\",\"\",Nährstoffzufuhr!K101)","v":"P2O5"},{"$f":"IF(Nährstoffzufuhr!L101=\"\",\"\",Nährstoffzufuhr!L101)","v":"K2O"},{"$f":"IF(Nährstoffzufuhr!M101=\"\",\"\",Nährstoffzufuhr!M101)","v":"MgO"}]
[{"$f":"IF(Nährstoffzufuhr!A102=\"\",\"\",Nährstoffzufuhr!A102)","v":"Hornmehl, -grieß, -späne"},{"$f":"IF(Nährstoffzufuhr!B102=\"\",\"\",Nährstoffzufuhr!B102)","v":90},{"$f":"IF(Nährstoffzufuhr!C102=\"\",\"\",Nährstoffzufuhr!C102)","v":""},{"$f":"IF(Nährstoffzufuhr!D102=\"\",\"\",Nährstoffzufuhr!D102)","v":""},{"$f":"Nährstoffzufuhr!E102","v":0},{"$f":"IF(Nährstoffzufuhr!F102=\"\",\"\",Nährstoffzufuhr!F102)","v":14},{"$f":"IF(Nährstoffzufuhr!G102=\"\",\"\",Nährstoffzufuhr!G102)","v":5},{"$f":"IF(Nährstoffzufuhr!H102=\"\",\"\",Nährstoffzufuhr!H102)","v":1},{"$f":"IF(Nährstoffzufuhr!I102=\"\",\"\",Nährstoffzufuhr!I102)","v":0.28000000000000003},{"$f":"IF(Nährstoffzufuhr!J102=\"\",\"\",Nährstoffzufuhr!J102)","v":0},{"$f":"IF(Nährstoffzufuhr!K102=\"\",\"\",Nährstoffzufuhr!K102)","v":0},{"$f":"IF(Nährstoffzufuhr!L102=\"\",\"\",Nährstoffzufuhr!L102)","v":0},{"$f":"IF(Nährstoffzufuhr!M102=\"\",\"\",Nährstoffzufuhr!M102)","v":0}]
[{"$f":"IF(Nährstoffzufuhr!A103=\"\",\"\",Nährstoffzufuhr!A103)","v":"Eigene organische Dünger"},{"$f":"IF(Nährstoffzufuhr!B103=\"\",\"\",Nährstoffzufuhr!B103)","v":""},{"$f":"IF(Nährstoffzufuhr!C103=\"\",\"\",Nährstoffzufuhr!C103)","v":""},{"$f":"IF(Nährstoffzufuhr!D103=\"\",\"\",Nährstoffzufuhr!D103)","v":""},{"$f":"Nährstoffzufuhr!E103","v":0},{"$f":"IF(Nährstoffzufuhr!F103=\"\",\"\",Nährstoffzufuhr!F103)","v":""},{"$f":"IF(Nährstoffzufuhr!G103=\"\",\"\",Nährstoffzufuhr!G103)","v":""},{"$f":"IF(Nährstoffzufuhr!H103=\"\",\"\",Nährstoffzufuhr!H103)","v":""},{"$f":"IF(Nährstoffzufuhr!I103=\"\",\"\",Nährstoffzufuhr!I103)","v":""},{"$f":"IF(Nährstoffzufuhr!J103=\"\",\"\",Nährstoffzufuhr!J103)","v":0},{"$f":"IF(Nährstoffzufuhr!K103=\"\",\"\",Nährstoffzufuhr!K103)","v":0},{"$f":"IF(Nährstoffzufuhr!L103=\"\",\"\",Nährstoffzufuhr!L103)","v":0},{"$f":"IF(Nährstoffzufuhr!M103=\"\",\"\",Nährstoffzufuhr!M103)","v":0}]
[{"$f":"IF(Nährstoffzufuhr!A104=\"\",\"\",Nährstoffzufuhr!A104)","v":""},{"$f":"IF(Nährstoffzufuhr!B104=\"\",\"\",Nährstoffzufuhr!B104)","v":""},{"$f":"IF(Nährstoffzufuhr!C104=\"\",\"\",Nährstoffzufuhr!C104)","v":""},{"$f":"IF(Nährstoffzufuhr!D104=\"\",\"\",Nährstoffzufuhr!D104)","v":""},{"$f":"Nährstoffzufuhr!E104","v":0},{"$f":"IF(Nährstoffzufuhr!F104=\"\",\"\",Nährstoffzufuhr!F104)","v":""},{"$f":"IF(Nährstoffzufuhr!G104=\"\",\"\",Nährstoffzufuhr!G104)","v":""},{"$f":"IF(Nährstoffzufuhr!H104=\"\",\"\",Nährstoffzufuhr!H104)","v":""},{"$f":"IF(Nährstoffzufuhr!I104=\"\",\"\",Nährstoffzufuhr!I104)","v":""},{"$f":"IF(Nährstoffzufuhr!J104=\"\",\"\",Nährstoffzufuhr!J104)","v":0},{"$f":"IF(Nährstoffzufuhr!K104=\"\",\"\",Nährstoffzufuhr!K104)","v":0},{"$f":"IF(Nährstoffzufuhr!L104=\"\",\"\",Nährstoffzufuhr!L104)","v":0},{"$f":"IF(Nährstoffzufuhr!M104=\"\",\"\",Nährstoffzufuhr!M104)","v":0}]
[{"$f":"IF(Nährstoffzufuhr!A105=\"\",\"\",Nährstoffzufuhr!A105)","v":""},{"$f":"IF(Nährstoffzufuhr!B105=\"\",\"\",Nährstoffzufuhr!B105)","v":""},{"$f":"IF(Nährstoffzufuhr!C105=\"\",\"\",Nährstoffzufuhr!C105)","v":""},{"$f":"IF(Nährstoffzufuhr!D105=\"\",\"\",Nährstoffzufuhr!D105)","v":""},{"$f":"Nährstoffzufuhr!E105","v":0},{"$f":"IF(Nährstoffzufuhr!F105=\"\",\"\",Nährstoffzufuhr!F105)","v":""},{"$f":"IF(Nährstoffzufuhr!G105=\"\",\"\",Nährstoffzufuhr!G105)","v":""},{"$f":"IF(Nährstoffzufuhr!H105=\"\",\"\",Nährstoffzufuhr!H105)","v":""},{"$f":"IF(Nährstoffzufuhr!I105=\"\",\"\",Nährstoffzufuhr!I105)","v":""},{"$f":"IF(Nährstoffzufuhr!J105=\"\",\"\",Nährstoffzufuhr!J105)","v":0},{"$f":"IF(Nährstoffzufuhr!K105=\"\",\"\",Nährstoffzufuhr!K105)","v":0},{"$f":"IF(Nährstoffzufuhr!L105=\"\",\"\",Nährstoffzufuhr!L105)","v":0},{"$f":"IF(Nährstoffzufuhr!M105=\"\",\"\",Nährstoffzufuhr!M105)","v":0}]
[{"$f":"IF(Nährstoffzufuhr!A106=\"\",\"\",Nährstoffzufuhr!A106)","v":""},{"$f":"IF(Nährstoffzufuhr!B106=\"\",\"\",Nährstoffzufuhr!B106)","v":""},{"$f":"IF(Nährstoffzufuhr!C106=\"\",\"\",Nährstoffzufuhr!C106)","v":""},{"$f":"IF(Nährstoffzufuhr!D106=\"\",\"\",Nährstoffzufuhr!D106)","v":""},{"$f":"Nährstoffzufuhr!E106","v":0},{"$f":"IF(Nährstoffzufuhr!F106=\"\",\"\",Nährstoffzufuhr!F106)","v":""},{"$f":"IF(Nährstoffzufuhr!G106=\"\",\"\",Nährstoffzufuhr!G106)","v":""},{"$f":"IF(Nährstoffzufuhr!H106=\"\",\"\",Nährstoffzufuhr!H106)","v":""},{"$f":"IF(Nährstoffzufuhr!I106=\"\",\"\",Nährstoffzufuhr!I106)","v":""},{"$f":"IF(Nährstoffzufuhr!J106=\"\",\"\",Nährstoffzufuhr!J106)","v":0},{"$f":"IF(Nährstoffzufuhr!K106=\"\",\"\",Nährstoffzufuhr!K106)","v":0},{"$f":"IF(Nährstoffzufuhr!L106=\"\",\"\",Nährstoffzufuhr!L106)","v":0},{"$f":"IF(Nährstoffzufuhr!M106=\"\",\"\",Nährstoffzufuhr!M106)","v":0}]
[{"$f":"IF(Nährstoffzufuhr!A107=\"\",\"\",Nährstoffzufuhr!A107)","v":""},{"$f":"IF(Nährstoffzufuhr!B107=\"\",\"\",Nährstoffzufuhr!B107)","v":""},{"$f":"IF(Nährstoffzufuhr!C107=\"\",\"\",Nährstoffzufuhr!C107)","v":""},{"$f":"IF(Nährstoffzufuhr!D107=\"\",\"\",Nährstoffzufuhr!D107)","v":""},{"$f":"Nährstoffzufuhr!E107","v":0},{"$f":"IF(Nährstoffzufuhr!F107=\"\",\"\",Nährstoffzufuhr!F107)","v":""},{"$f":"IF(Nährstoffzufuhr!G107=\"\",\"\",Nährstoffzufuhr!G107)","v":""},{"$f":"IF(Nährstoffzufuhr!H107=\"\",\"\",Nährstoffzufuhr!H107)","v":""},{"$f":"IF(Nährstoffzufuhr!I107=\"\",\"\",Nährstoffzufuhr!I107)","v":""},{"$f":"IF(Nährstoffzufuhr!J107=\"\",\"\",Nährstoffzufuhr!J107)","v":0},{"$f":"IF(Nährstoffzufuhr!K107=\"\",\"\",Nährstoffzufuhr!K107)","v":0},{"$f":"IF(Nährstoffzufuhr!L107=\"\",\"\",Nährstoffzufuhr!L107)","v":0},{"$f":"IF(Nährstoffzufuhr!M107=\"\",\"\",Nährstoffzufuhr!M107)","v":0}]
[{"$f":"IF(Nährstoffzufuhr!A108=\"\",\"\",Nährstoffzufuhr!A108)","v":"Sedumin-Haarmehl-Pellets (Beispiel)"},{"$f":"IF(Nährstoffzufuhr!B108=\"\",\"\",Nährstoffzufuhr!B108)","v":""},{"$f":"IF(Nährstoffzufuhr!C108=\"\",\"\",Nährstoffzufuhr!C108)","v":""},{"$f":"IF(Nährstoffzufuhr!D108=\"\",\"\",Nährstoffzufuhr!D108)","v":""},{"$f":"Nährstoffzufuhr!E108","v":0},{"$f":"IF(Nährstoffzufuhr!F108=\"\",\"\",Nährstoffzufuhr!F108)","v":14},{"$f":"IF(Nährstoffzufuhr!G108=\"\",\"\",Nährstoffzufuhr!G108)","v":1.8},{"$f":"IF(Nährstoffzufuhr!H108=\"\",\"\",Nährstoffzufuhr!H108)","v":0.36},{"$f":"IF(Nährstoffzufuhr!I108=\"\",\"\",Nährstoffzufuhr!I108)","v":0.1},{"$f":"IF(Nährstoffzufuhr!J108=\"\",\"\",Nährstoffzufuhr!J108)","v":0},{"$f":"IF(Nährstoffzufuhr!K108=\"\",\"\",Nährstoffzufuhr!K108)","v":0},{"$f":"IF(Nährstoffzufuhr!L108=\"\",\"\",Nährstoffzufuhr!L108)","v":0},{"$f":"IF(Nährstoffzufuhr!M108=\"\",\"\",Nährstoffzufuhr!M108)","v":0}]
[{"$f":"IF(Nährstoffzufuhr!A109=\"\",\"\",Nährstoffzufuhr!A109)","v":"Haarmehl-Pellets, eigene Herkünfte"},{"$f":"IF(Nährstoffzufuhr!B109=\"\",\"\",Nährstoffzufuhr!B109)","v":""},{"$f":"IF(Nährstoffzufuhr!C109=\"\",\"\",Nährstoffzufuhr!C109)","v":""},{"$f":"IF(Nährstoffzufuhr!D109=\"\",\"\",Nährstoffzufuhr!D109)","v":""},{"$f":"Nährstoffzufuhr!E109","v":0},{"$f":"IF(Nährstoffzufuhr!F109=\"\",\"\",Nährstoffzufuhr!F109)","v":""},{"$f":"IF(Nährstoffzufuhr!G109=\"\",\"\",Nährstoffzufuhr!G109)","v":""},{"$f":"IF(Nährstoffzufuhr!H109=\"\",\"\",Nährstoffzufuhr!H109)","v":""},{"$f":"IF(Nährstoffzufuhr!I109=\"\",\"\",Nährstoffzufuhr!I109)","v":""},{"$f":"IF(Nährstoffzufuhr!J109=\"\",\"\",Nährstoffzufuhr!J109)","v":0},{"$f":"IF(Nährstoffzufuhr!K109=\"\",\"\",Nährstoffzufuhr!K109)","v":0},{"$f":"IF(Nährstoffzufuhr!L109=\"\",\"\",Nährstoffzufuhr!L109)","v":0},{"$f":"IF(Nährstoffzufuhr!M109=\"\",\"\",Nährstoffzufuhr!M109)","v":0}]
[{"$f":"IF(Nährstoffzufuhr!A110=\"\",\"\",Nährstoffzufuhr!A110)","v":""},{"$f":"IF(Nährstoffzufuhr!B110=\"\",\"\",Nährstoffzufuhr!B110)","v":""},{"$f":"IF(Nährstoffzufuhr!C110=\"\",\"\",Nährstoffzufuhr!C110)","v":""},{"$f":"IF(Nährstoffzufuhr!D110=\"\",\"\",Nährstoffzufuhr!D110)","v":""},{"$f":"Nährstoffzufuhr!E110","v":0},{"$f":"IF(Nährstoffzufuhr!F110=\"\",\"\",Nährstoffzufuhr!F110)","v":""},{"$f":"IF(Nährstoffzufuhr!G110=\"\",\"\",Nährstoffzufuhr!G110)","v":""},{"$f":"IF(Nährstoffzufuhr!H110=\"\",\"\",Nährstoffzufuhr!H110)","v":""},{"$f":"IF(Nährstoffzufuhr!I110=\"\",\"\",Nährstoffzufuhr!I110)","v":""},{"$f":"IF(Nährstoffzufuhr!J110=\"\",\"\",Nährstoffzufuhr!J110)","v":0},{"$f":"IF(Nährstoffzufuhr!K110=\"\",\"\",Nährstoffzufuhr!K110)","v":0},{"$f":"IF(Nährstoffzufuhr!L110=\"\",\"\",Nährstoffzufuhr!L110)","v":0},{"$f":"IF(Nährstoffzufuhr!M110=\"\",\"\",Nährstoffzufuhr!M110)","v":0}]
[{"$f":"IF(Nährstoffzufuhr!A111=\"\",\"\",Nährstoffzufuhr!A111)","v":"Rapsschrot"},{"$f":"IF(Nährstoffzufuhr!B111=\"\",\"\",Nährstoffzufuhr!B111)","v":""},{"$f":"IF(Nährstoffzufuhr!C111=\"\",\"\",Nährstoffzufuhr!C111)","v":""},{"$f":"IF(Nährstoffzufuhr!D111=\"\",\"\",Nährstoffzufuhr!D111)","v":""},{"$f":"Nährstoffzufuhr!E111","v":0},{"$f":"IF(Nährstoffzufuhr!F111=\"\",\"\",Nährstoffzufuhr!F111)","v":5.5},{"$f":"IF(Nährstoffzufuhr!G111=\"\",\"\",Nährstoffzufuhr!G111)","v":2.2999999999999998},{"$f":"IF(Nährstoffzufuhr!H111=\"\",\"\",Nährstoffzufuhr!H111)","v":1.6},{"$f":"IF(Nährstoffzufuhr!I111=\"\",\"\",Nährstoffzufuhr!I111)","v":0.73},{"$f":"IF(Nährstoffzufuhr!J111=\"\",\"\",Nährstoffzufuhr!J111)","v":0},{"$f":"IF(Nährstoffzufuhr!K111=\"\",\"\",Nährstoffzufuhr!K111)","v":0},{"$f":"IF(Nährstoffzufuhr!L111=\"\",\"\",Nährstoffzufuhr!L111)","v":0},{"$f":"IF(Nährstoffzufuhr!M111=\"\",\"\",Nährstoffzufuhr!M111)","v":0}]
[{"$f":"IF(Nährstoffzufuhr!A112=\"\",\"\",Nährstoffzufuhr!A112)","v":"Rhizinusschrot"},{"$f":"IF(Nährstoffzufuhr!B112=\"\",\"\",Nährstoffzufuhr!B112)","v":70},{"$f":"IF(Nährstoffzufuhr!C112=\"\",\"\",Nährstoffzufuhr!C112)","v":""},{"$f":"IF(Nährstoffzufuhr!D112=\"\",\"\",Nährstoffzufuhr!D112)","v":""},{"$f":"Nährstoffzufuhr!E112","v":0},{"$f":"IF(Nährstoffzufuhr!F112=\"\",\"\",Nährstoffzufuhr!F112)","v":5.7},{"$f":"IF(Nährstoffzufuhr!G112=\"\",\"\",Nährstoffzufuhr!G112)","v":2.4},{"$f":"IF(Nährstoffzufuhr!H112=\"\",\"\",Nährstoffzufuhr!H112)","v":1.4},{"$f":"IF(Nährstoffzufuhr!I112=\"\",\"\",Nährstoffzufuhr!I112)","v":0.8},{"$f":"IF(Nährstoffzufuhr!J112=\"\",\"\",Nährstoffzufuhr!J112)","v":0},{"$f":"IF(Nährstoffzufuhr!K112=\"\",\"\",Nährstoffzufuhr!K112)","v":0},{"$f":"IF(Nährstoffzufuhr!L112=\"\",\"\",Nährstoffzufuhr!L112)","v":0},{"$f":"IF(Nährstoffzufuhr!M112=\"\",\"\",Nährstoffzufuhr!M112)","v":0}]
[{"$f":"IF(Nährstoffzufuhr!A113=\"\",\"\",Nährstoffzufuhr!A113)","v":"Maltaflor"},{"$f":"IF(Nährstoffzufuhr!B113=\"\",\"\",Nährstoffzufuhr!B113)","v":""},{"$f":"IF(Nährstoffzufuhr!C113=\"\",\"\",Nährstoffzufuhr!C113)","v":""},{"$f":"IF(Nährstoffzufuhr!D113=\"\",\"\",Nährstoffzufuhr!D113)","v":""},{"$f":"Nährstoffzufuhr!E113","v":0},{"$f":"IF(Nährstoffzufuhr!F113=\"\",\"\",Nährstoffzufuhr!F113)","v":4},{"$f":"IF(Nährstoffzufuhr!G113=\"\",\"\",Nährstoffzufuhr!G113)","v":1},{"$f":"IF(Nährstoffzufuhr!H113=\"\",\"\",Nährstoffzufuhr!H113)","v":5},{"$f":"IF(Nährstoffzufuhr!I113=\"\",\"\",Nährstoffzufuhr!I113)","v":0.04},{"$f":"IF(Nährstoffzufuhr!J113=\"\",\"\",Nährstoffzufuhr!J113)","v":0},{"$f":"IF(Nährstoffzufuhr!K113=\"\",\"\",Nährstoffzufuhr!K113)","v":0},{"$f":"IF(Nährstoffzufuhr!L113=\"\",\"\",Nährstoffzufuhr!L113)","v":0},{"$f":"IF(Nährstoffzufuhr!M113=\"\",\"\",Nährstoffzufuhr!M113)","v":0}]
[{"$f":"IF(Nährstoffzufuhr!A114=\"\",\"\",Nährstoffzufuhr!A114)","v":"Vinasse"},{"$f":"IF(Nährstoffzufuhr!B114=\"\",\"\",Nährstoffzufuhr!B114)","v":""},{"$f":"IF(Nährstoffzufuhr!C114=\"\",\"\",Nährstoffzufuhr!C114)","v":""},{"$f":"IF(Nährstoffzufuhr!D114=\"\",\"\",Nährstoffzufuhr!D114)","v":""},{"$f":"Nährstoffzufuhr!E114","v":0},{"$f":"IF(Nährstoffzufuhr!F114=\"\",\"\",Nährstoffzufuhr!F114)","v":3.5},{"$f":"IF(Nährstoffzufuhr!G114=\"\",\"\",Nährstoffzufuhr!G114)","v":0.2},{"$f":"IF(Nährstoffzufuhr!H114=\"\",\"\",Nährstoffzufuhr!H114)","v":8},{"$f":"IF(Nährstoffzufuhr!I114=\"\",\"\",Nährstoffzufuhr!I114)","v":0.3},{"$f":"IF(Nährstoffzufuhr!J114=\"\",\"\",Nährstoffzufuhr!J114)","v":0},{"$f":"IF(Nährstoffzufuhr!K114=\"\",\"\",Nährstoffzufuhr!K114)","v":0},{"$f":"IF(Nährstoffzufuhr!L114=\"\",\"\",Nährstoffzufuhr!L114)","v":0},{"$f":"IF(Nährstoffzufuhr!M114=\"\",\"\",Nährstoffzufuhr!M114)","v":0}]
[{"$f":"IF(Nährstoffzufuhr!A115=\"\",\"\",Nährstoffzufuhr!A115)","v":"Erbsenschrot"},{"$f":"IF(Nährstoffzufuhr!B115=\"\",\"\",Nährstoffzufuhr!B115)","v":""},{"$f":"IF(Nährstoffzufuhr!C115=\"\",\"\",Nährstoffzufuhr!C115)","v":""},{"$f":"IF(Nährstoffzufuhr!D115=\"\",\"\",Nährstoffzufuhr!D115)","v":""},{"$f":"Nährstoffzufuhr!E115","v":0},{"$f":"IF(Nährstoffzufuhr!F115=\"\",\"\",Nährstoffzufuhr!F115)","v":3.5},{"$f":"IF(Nährstoffzufuhr!G115=\"\",\"\",Nährstoffzufuhr!G115)","v":1},{"$f":"IF(Nährstoffzufuhr!H115=\"\",\"\",Nährstoffzufuhr!H115)","v":1.5},{"$f":"IF(Nährstoffzufuhr!I115=\"\",\"\",Nährstoffzufuhr!I115)","v":0.13},{"$f":"IF(Nährstoffzufuhr!J115=\"\",\"\",Nährstoffzufuhr!J115)","v":0},{"$f":"IF(Nährstoffzufuhr!K115=\"\",\"\",Nährstoffzufuhr!K115)","v":0},{"$f":"IF(Nährstoffzufuhr!L115=\"\",\"\",Nährstoffzufuhr!L115)","v":0},{"$f":"IF(Nährstoffzufuhr!M115=\"\",\"\",Nährstoffzufuhr!M115)","v":0}]
[{"$f":"IF(Nährstoffzufuhr!A116=\"\",\"\",Nährstoffzufuhr!A116)","v":"Ackerbohnenschrot"},{"$f":"IF(Nährstoffzufuhr!B116=\"\",\"\",Nährstoffzufuhr!B116)","v":""},{"$f":"IF(Nährstoffzufuhr!C116=\"\",\"\",Nährstoffzufuhr!C116)","v":""},{"$f":"IF(Nährstoffzufuhr!D116=\"\",\"\",Nährstoffzufuhr!D116)","v":""},{"$f":"Nährstoffzufuhr!E116","v":0},{"$f":"IF(Nährstoffzufuhr!F116=\"\",\"\",Nährstoffzufuhr!F116)","v":4.5},{"$f":"IF(Nährstoffzufuhr!G116=\"\",\"\",Nährstoffzufuhr!G116)","v":1},{"$f":"IF(Nährstoffzufuhr!H116=\"\",\"\",Nährstoffzufuhr!H116)","v":1.5},{"$f":"IF(Nährstoffzufuhr!I116=\"\",\"\",Nährstoffzufuhr!I116)","v":0.28999999999999998},{"$f":"IF(Nährstoffzufuhr!J116=\"\",\"\",Nährstoffzufuhr!J116)","v":0},{"$f":"IF(Nährstoffzufuhr!K116=\"\",\"\",Nährstoffzufuhr!K116)","v":0},{"$f":"IF(Nährstoffzufuhr!L116=\"\",\"\",Nährstoffzufuhr!L116)","v":0},{"$f":"IF(Nährstoffzufuhr!M116=\"\",\"\",Nährstoffzufuhr!M116)","v":0}]
[{"$f":"IF(Nährstoffzufuhr!A117=\"\",\"\",Nährstoffzufuhr!A117)","v":"Lupinenschrot"},{"$f":"IF(Nährstoffzufuhr!B117=\"\",\"\",Nährstoffzufuhr!B117)","v":""},{"$f":"IF(Nährstoffzufuhr!C117=\"\",\"\",Nährstoffzufuhr!C117)","v":""},{"$f":"IF(Nährstoffzufuhr!D117=\"\",\"\",Nährstoffzufuhr!D117)","v":""},{"$f":"Nährstoffzufuhr!E117","v":0},{"$f":"IF(Nährstoffzufuhr!F117=\"\",\"\",Nährstoffzufuhr!F117)","v":5.5},{"$f":"IF(Nährstoffzufuhr!G117=\"\",\"\",Nährstoffzufuhr!G117)","v":1},{"$f":"IF(Nährstoffzufuhr!H117=\"\",\"\",Nährstoffzufuhr!H117)","v":1.5},{"$f":"IF(Nährstoffzufuhr!I117=\"\",\"\",Nährstoffzufuhr!I117)","v":0.27},{"$f":"IF(Nährstoffzufuhr!J117=\"\",\"\",Nährstoffzufuhr!J117)","v":0},{"$f":"IF(Nährstoffzufuhr!K117=\"\",\"\",Nährstoffzufuhr!K117)","v":0},{"$f":"IF(Nährstoffzufuhr!L117=\"\",\"\",Nährstoffzufuhr!L117)","v":0},{"$f":"IF(Nährstoffzufuhr!M117=\"\",\"\",Nährstoffzufuhr!M117)","v":0}]
[{"$f":"IF(Nährstoffzufuhr!A118=\"\",\"\",Nährstoffzufuhr!A118)","v":""},{"$f":"IF(Nährstoffzufuhr!B118=\"\",\"\",Nährstoffzufuhr!B118)","v":""},{"$f":"IF(Nährstoffzufuhr!C118=\"\",\"\",Nährstoffzufuhr!C118)","v":""},{"$f":"IF(Nährstoffzufuhr!D118=\"\",\"\",Nährstoffzufuhr!D118)","v":""},{"$f":"Nährstoffzufuhr!E118","v":0},{"$f":"IF(Nährstoffzufuhr!F118=\"\",\"\",Nährstoffzufuhr!F118)","v":""},{"$f":"IF(Nährstoffzufuhr!G118=\"\",\"\",Nährstoffzufuhr!G118)","v":""},{"$f":"IF(Nährstoffzufuhr!H118=\"\",\"\",Nährstoffzufuhr!H118)","v":""},{"$f":"IF(Nährstoffzufuhr!I118=\"\",\"\",Nährstoffzufuhr!I118)","v":""},{"$f":"IF(Nährstoffzufuhr!J118=\"\",\"\",Nährstoffzufuhr!J118)","v":0},{"$f":"IF(Nährstoffzufuhr!K118=\"\",\"\",Nährstoffzufuhr!K118)","v":0},{"$f":"IF(Nährstoffzufuhr!L118=\"\",\"\",Nährstoffzufuhr!L118)","v":0},{"$f":"IF(Nährstoffzufuhr!M118=\"\",\"\",Nährstoffzufuhr!M118)","v":0}]
[{"$f":"IF(Nährstoffzufuhr!A119=\"\",\"\",Nährstoffzufuhr!A119)","v":""},{"$f":"IF(Nährstoffzufuhr!B119=\"\",\"\",Nährstoffzufuhr!B119)","v":""},{"$f":"IF(Nährstoffzufuhr!C119=\"\",\"\",Nährstoffzufuhr!C119)","v":""},{"$f":"IF(Nährstoffzufuhr!D119=\"\",\"\",Nährstoffzufuhr!D119)","v":""},{"$f":"Nährstoffzufuhr!E119","v":0},{"$f":"IF(Nährstoffzufuhr!F119=\"\",\"\",Nährstoffzufuhr!F119)","v":""},{"$f":"IF(Nährstoffzufuhr!G119=\"\",\"\",Nährstoffzufuhr!G119)","v":""},{"$f":"IF(Nährstoffzufuhr!H119=\"\",\"\",Nährstoffzufuhr!H119)","v":""},{"$f":"IF(Nährstoffzufuhr!I119=\"\",\"\",Nährstoffzufuhr!I119)","v":""},{"$f":"IF(Nährstoffzufuhr!J119=\"\",\"\",Nährstoffzufuhr!J119)","v":0},{"$f":"IF(Nährstoffzufuhr!K119=\"\",\"\",Nährstoffzufuhr!K119)","v":0},{"$f":"IF(Nährstoffzufuhr!L119=\"\",\"\",Nährstoffzufuhr!L119)","v":0},{"$f":"IF(Nährstoffzufuhr!M119=\"\",\"\",Nährstoffzufuhr!M119)","v":0}]
[{"$f":"IF(Nährstoffzufuhr!A120=\"\",\"\",Nährstoffzufuhr!A120)","v":"Summe"},{"$f":"IF(Nährstoffzufuhr!B120=\"\",\"\",Nährstoffzufuhr!B120)","v":""},{"$f":"IF(Nährstoffzufuhr!C120=\"\",\"\",Nährstoffzufuhr!C120)","v":""},{"$f":"IF(Nährstoffzufuhr!D120=\"\",\"\",Nährstoffzufuhr!D120)","v":""},{"$f":"IF(Nährstoffzufuhr!E120=\"\",\"\",Nährstoffzufuhr!E120)","v":0},{"$f":"IF(Nährstoffzufuhr!F120=\"\",\"\",Nährstoffzufuhr!F120)","v":""},{"$f":"IF([1]Nährstoffzufuhr!G120=\"\",\"\",[1]Nährstoffzufuhr!G120)","v":0},{"$f":"IF([1]Nährstoffzufuhr!H120=\"\",\"\",[1]Nährstoffzufuhr!H120)","v":0},{"$f":"IF([1]Nährstoffzufuhr!I120=\"\",\"\",[1]Nährstoffzufuhr!I120)","v":0},{"$f":"IF(Nährstoffzufuhr!J120=\"\",\"\",Nährstoffzufuhr!J120)","v":0},{"$f":"IF(Nährstoffzufuhr!K120=\"\",\"\",Nährstoffzufuhr!K120)","v":0},{"$f":"IF(Nährstoffzufuhr!L120=\"\",\"\",Nährstoffzufuhr!L120)","v":0},{"$f":"IF(Nährstoffzufuhr!M120=\"\",\"\",Nährstoffzufuhr!M120)","v":0}]
[{"$f":"IF(Nährstoffzufuhr!A121=\"\",\"\",Nährstoffzufuhr!A121)","v":""},{"$f":"IF(Nährstoffzufuhr!B121=\"\",\"\",Nährstoffzufuhr!B121)","v":""},{"$f":"IF(Nährstoffzufuhr!C121=\"\",\"\",Nährstoffzufuhr!C121)","v":""},{"$f":"IF(Nährstoffzufuhr!D121=\"\",\"\",Nährstoffzufuhr!D121)","v":""},{"$f":"IF(Nährstoffzufuhr!E121=\"\",\"\",Nährstoffzufuhr!E121)","v":""},{"$f":"IF(Nährstoffzufuhr!F121=\"\",\"\",Nährstoffzufuhr!F121)","v":""},{"$f":"IF(Nährstoffzufuhr!G121=\"\",\"\",Nährstoffzufuhr!G121)","v":""},{"$f":"IF(Nährstoffzufuhr!H121=\"\",\"\",Nährstoffzufuhr!H121)","v":""},{"$f":"IF(Nährstoffzufuhr!I121=\"\",\"\",Nährstoffzufuhr!I121)","v":""},{"$f":"IF(Nährstoffzufuhr!J121=\"\",\"\",Nährstoffzufuhr!J121)","v":""},{"$f":"IF(Nährstoffzufuhr!K121=\"\",\"\",Nährstoffzufuhr!K121)","v":""},{"$f":"IF(Nährstoffzufuhr!L121=\"\",\"\",Nährstoffzufuhr!L121)","v":""},{"$f":"IF(Nährstoffzufuhr!M121=\"\",\"\",Nährstoffzufuhr!M121)","v":""}]
[{"$f":"IF(Nährstoffzufuhr!A122=\"\",\"\",Nährstoffzufuhr!A122)","v":"Komposte, Bioabfälle, Pilzsubstrate aus Zukauf/Aufnahme"},{"$f":"IF(Nährstoffzufuhr!B122=\"\",\"\",Nährstoffzufuhr!B122)","v":""},{"$f":"IF(Nährstoffzufuhr!C122=\"\",\"\",Nährstoffzufuhr!C122)","v":""},{"$f":"IF(Nährstoffzufuhr!D122=\"\",\"\",Nährstoffzufuhr!D122)","v":""},{"$f":"IF(Nährstoffzufuhr!E122=\"\",\"\",Nährstoffzufuhr!E122)","v":"Menge"},{"$f":"IF(Nährstoffzufuhr!F122=\"\",\"\",Nährstoffzufuhr!F122)","v":"Nährstoffgehalt %, kg/dt FM"},{"$f":"IF([1]Nährstoffzufuhr!G122=\"\",\"\",[1]Nährstoffzufuhr!G122)","v":0},{"$f":"IF([1]Nährstoffzufuhr!H122=\"\",\"\",[1]Nährstoffzufuhr!H122)","v":0},{"$f":"IF([1]Nährstoffzufuhr!I122=\"\",\"\",[1]Nährstoffzufuhr!I122)","v":0},{"$f":"IF(Nährstoffzufuhr!J122=\"\",\"\",Nährstoffzufuhr!J122)","v":"Nährstoffe kg "},{"$f":"IF([1]Nährstoffzufuhr!K122=\"\",\"\",[1]Nährstoffzufuhr!K122)","v":0},{"$f":"IF([1]Nährstoffzufuhr!L122=\"\",\"\",[1]Nährstoffzufuhr!L122)","v":0},{"$f":"IF([1]Nährstoffzufuhr!M122=\"\",\"\",[1]Nährstoffzufuhr!M122)","v":0}]
[{"$f":"IF([1]Nährstoffzufuhr!A123=\"\",\"\",[1]Nährstoffzufuhr!A123)","v":0},{"$f":"IF(Nährstoffzufuhr!B123=\"\",\"\",Nährstoffzufuhr!B123)","v":"% TM"},{"$f":"IF(Nährstoffzufuhr!C123=\"\",\"\",Nährstoffzufuhr!C123)","v":""},{"$f":"IF(Nährstoffzufuhr!D123=\"\",\"\",Nährstoffzufuhr!D123)","v":""},{"$f":"IF(Nährstoffzufuhr!E123=\"\",\"\",Nährstoffzufuhr!E123)","v":"dt"},{"$f":"IF(Nährstoffzufuhr!F123=\"\",\"\",Nährstoffzufuhr!F123)","v":"N"},{"$f":"IF(Nährstoffzufuhr!G123=\"\",\"\",Nährstoffzufuhr!G123)","v":"P2O5"},{"$f":"IF(Nährstoffzufuhr!H123=\"\",\"\",Nährstoffzufuhr!H123)","v":"K2O"},{"$f":"IF(Nährstoffzufuhr!I123=\"\",\"\",Nährstoffzufuhr!I123)","v":"MgO"},{"$f":"IF(Nährstoffzufuhr!J123=\"\",\"\",Nährstoffzufuhr!J123)","v":"N"},{"$f":"IF(Nährstoffzufuhr!K123=\"\",\"\",Nährstoffzufuhr!K123)","v":"P2O5"},{"$f":"IF(Nährstoffzufuhr!L123=\"\",\"\",Nährstoffzufuhr!L123)","v":"K2O"},{"$f":"IF(Nährstoffzufuhr!M123=\"\",\"\",Nährstoffzufuhr!M123)","v":"MgO"}]
[{"$f":"IF(Nährstoffzufuhr!A124=\"\",\"\",Nährstoffzufuhr!A124)","v":"Kompost"},{"$f":"IF(Nährstoffzufuhr!B124=\"\",\"\",Nährstoffzufuhr!B124)","v":""},{"$f":"IF(Nährstoffzufuhr!C124=\"\",\"\",Nährstoffzufuhr!C124)","v":""},{"$f":"IF(Nährstoffzufuhr!D124=\"\",\"\",Nährstoffzufuhr!D124)","v":""},{"$f":"Nährstoffzufuhr!E124","v":0},{"$f":"IF(Nährstoffzufuhr!F124=\"\",\"\",Nährstoffzufuhr!F124)","v":""},{"$f":"IF(Nährstoffzufuhr!G124=\"\",\"\",Nährstoffzufuhr!G124)","v":""},{"$f":"IF(Nährstoffzufuhr!H124=\"\",\"\",Nährstoffzufuhr!H124)","v":""},{"$f":"IF(Nährstoffzufuhr!I124=\"\",\"\",Nährstoffzufuhr!I124)","v":""},{"$f":"IF(Nährstoffzufuhr!J124=\"\",\"\",Nährstoffzufuhr!J124)","v":""},{"$f":"IF(Nährstoffzufuhr!K124=\"\",\"\",Nährstoffzufuhr!K124)","v":""},{"$f":"IF(Nährstoffzufuhr!L124=\"\",\"\",Nährstoffzufuhr!L124)","v":""},{"$f":"IF(Nährstoffzufuhr!M124=\"\",\"\",Nährstoffzufuhr!M124)","v":""}]
[{"$f":"IF(Nährstoffzufuhr!A125=\"\",\"\",Nährstoffzufuhr!A125)","v":"Grüngut-Kompost"},{"$f":"IF(Nährstoffzufuhr!B125=\"\",\"\",Nährstoffzufuhr!B125)","v":50},{"$f":"IF(Nährstoffzufuhr!C125=\"\",\"\",Nährstoffzufuhr!C125)","v":""},{"$f":"IF(Nährstoffzufuhr!D125=\"\",\"\",Nährstoffzufuhr!D125)","v":""},{"$f":"Nährstoffzufuhr!E125","v":0},{"$f":"IF(Nährstoffzufuhr!F125=\"\",\"\",Nährstoffzufuhr!F125)","v":0.66},{"$f":"IF(Nährstoffzufuhr!G125=\"\",\"\",Nährstoffzufuhr!G125)","v":0.39},{"$f":"IF(Nährstoffzufuhr!H125=\"\",\"\",Nährstoffzufuhr!H125)","v":0.51},{"$f":"IF(Nährstoffzufuhr!I125=\"\",\"\",Nährstoffzufuhr!I125)","v":0.08},{"$f":"IF(Nährstoffzufuhr!J125=\"\",\"\",Nährstoffzufuhr!J125)","v":0},{"$f":"IF(Nährstoffzufuhr!K125=\"\",\"\",Nährstoffzufuhr!K125)","v":0},{"$f":"IF(Nährstoffzufuhr!L125=\"\",\"\",Nährstoffzufuhr!L125)","v":0},{"$f":"IF(Nährstoffzufuhr!M125=\"\",\"\",Nährstoffzufuhr!M125)","v":0}]
[{"$f":"IF(Nährstoffzufuhr!A126=\"\",\"\",Nährstoffzufuhr!A126)","v":"Grüngut-Häcksel"},{"$f":"IF(Nährstoffzufuhr!B126=\"\",\"\",Nährstoffzufuhr!B126)","v":50},{"$f":"IF(Nährstoffzufuhr!C126=\"\",\"\",Nährstoffzufuhr!C126)","v":""},{"$f":"IF(Nährstoffzufuhr!D126=\"\",\"\",Nährstoffzufuhr!D126)","v":""},{"$f":"Nährstoffzufuhr!E126","v":0},{"$f":"IF(Nährstoffzufuhr!F126=\"\",\"\",Nährstoffzufuhr!F126)","v":0.52},{"$f":"IF(Nährstoffzufuhr!G126=\"\",\"\",Nährstoffzufuhr!G126)","v":0.26},{"$f":"IF(Nährstoffzufuhr!H126=\"\",\"\",Nährstoffzufuhr!H126)","v":0.54},{"$f":"IF(Nährstoffzufuhr!I126=\"\",\"\",Nährstoffzufuhr!I126)","v":0.28999999999999998},{"$f":"IF(Nährstoffzufuhr!J126=\"\",\"\",Nährstoffzufuhr!J126)","v":0},{"$f":"IF(Nährstoffzufuhr!K126=\"\",\"\",Nährstoffzufuhr!K126)","v":0},{"$f":"IF(Nährstoffzufuhr!L126=\"\",\"\",Nährstoffzufuhr!L126)","v":0},{"$f":"IF(Nährstoffzufuhr!M126=\"\",\"\",Nährstoffzufuhr!M126)","v":0}]
[{"$f":"IF(Nährstoffzufuhr!A127=\"\",\"\",Nährstoffzufuhr!A127)","v":"Landschaftspflege Kompost"},{"$f":"IF(Nährstoffzufuhr!B127=\"\",\"\",Nährstoffzufuhr!B127)","v":40},{"$f":"IF(Nährstoffzufuhr!C127=\"\",\"\",Nährstoffzufuhr!C127)","v":""},{"$f":"IF(Nährstoffzufuhr!D127=\"\",\"\",Nährstoffzufuhr!D127)","v":""},{"$f":"Nährstoffzufuhr!E127","v":0},{"$f":"IF(Nährstoffzufuhr!F127=\"\",\"\",Nährstoffzufuhr!F127)","v":0.63},{"$f":"IF(Nährstoffzufuhr!G127=\"\",\"\",Nährstoffzufuhr!G127)","v":0.21},{"$f":"IF(Nährstoffzufuhr!H127=\"\",\"\",Nährstoffzufuhr!H127)","v":0.67},{"$f":"IF(Nährstoffzufuhr!I127=\"\",\"\",Nährstoffzufuhr!I127)","v":0.28999999999999998},{"$f":"IF(Nährstoffzufuhr!J127=\"\",\"\",Nährstoffzufuhr!J127)","v":0},{"$f":"IF(Nährstoffzufuhr!K127=\"\",\"\",Nährstoffzufuhr!K127)","v":0},{"$f":"IF(Nährstoffzufuhr!L127=\"\",\"\",Nährstoffzufuhr!L127)","v":0},{"$f":"IF(Nährstoffzufuhr!M127=\"\",\"\",Nährstoffzufuhr!M127)","v":0}]
[{"$f":"IF(Nährstoffzufuhr!A128=\"\",\"\",Nährstoffzufuhr!A128)","v":"Bioabfallkompost"},{"$f":"IF(Nährstoffzufuhr!B128=\"\",\"\",Nährstoffzufuhr!B128)","v":60},{"$f":"IF(Nährstoffzufuhr!C128=\"\",\"\",Nährstoffzufuhr!C128)","v":""},{"$f":"IF(Nährstoffzufuhr!D128=\"\",\"\",Nährstoffzufuhr!D128)","v":""},{"$f":"Nährstoffzufuhr!E128","v":0},{"$f":"IF(Nährstoffzufuhr!F128=\"\",\"\",Nährstoffzufuhr!F128)","v":1.28},{"$f":"IF(Nährstoffzufuhr!G128=\"\",\"\",Nährstoffzufuhr!G128)","v":0.56999999999999995},{"$f":"IF(Nährstoffzufuhr!H128=\"\",\"\",Nährstoffzufuhr!H128)","v":1.1000000000000001},{"$f":"IF(Nährstoffzufuhr!I128=\"\",\"\",Nährstoffzufuhr!I128)","v":0.48},{"$f":"IF(Nährstoffzufuhr!J128=\"\",\"\",Nährstoffzufuhr!J128)","v":0},{"$f":"IF(Nährstoffzufuhr!K128=\"\",\"\",Nährstoffzufuhr!K128)","v":0},{"$f":"IF(Nährstoffzufuhr!L128=\"\",\"\",Nährstoffzufuhr!L128)","v":0},{"$f":"IF(Nährstoffzufuhr!M128=\"\",\"\",Nährstoffzufuhr!M128)","v":0}]
[{"$f":"IF(Nährstoffzufuhr!A129=\"\",\"\",Nährstoffzufuhr!A129)","v":"Pilzsubstrat (Champignonkompost, Champost)"},{"$f":"IF(Nährstoffzufuhr!B129=\"\",\"\",Nährstoffzufuhr!B129)","v":30},{"$f":"IF(Nährstoffzufuhr!C129=\"\",\"\",Nährstoffzufuhr!C129)","v":""},{"$f":"IF(Nährstoffzufuhr!D129=\"\",\"\",Nährstoffzufuhr!D129)","v":""},{"$f":"Nährstoffzufuhr!E129","v":0},{"$f":"IF(Nährstoffzufuhr!F129=\"\",\"\",Nährstoffzufuhr!F129)","v":0.8},{"$f":"IF(Nährstoffzufuhr!G129=\"\",\"\",Nährstoffzufuhr!G129)","v":0.47},{"$f":"IF(Nährstoffzufuhr!H129=\"\",\"\",Nährstoffzufuhr!H129)","v":0.6},{"$f":"IF(Nährstoffzufuhr!I129=\"\",\"\",Nährstoffzufuhr!I129)","v":0.2},{"$f":"IF(Nährstoffzufuhr!J129=\"\",\"\",Nährstoffzufuhr!J129)","v":0},{"$f":"IF(Nährstoffzufuhr!K129=\"\",\"\",Nährstoffzufuhr!K129)","v":0},{"$f":"IF(Nährstoffzufuhr!L129=\"\",\"\",Nährstoffzufuhr!L129)","v":0},{"$f":"IF(Nährstoffzufuhr!M129=\"\",\"\",Nährstoffzufuhr!M129)","v":0}]
[{"$f":"IF(Nährstoffzufuhr!A130=\"\",\"\",Nährstoffzufuhr!A130)","v":"Pilzsubstrat mit eigenen Nährstoffangaben"},{"$f":"IF(Nährstoffzufuhr!B130=\"\",\"\",Nährstoffzufuhr!B130)","v":""},{"$f":"IF(Nährstoffzufuhr!C130=\"\",\"\",Nährstoffzufuhr!C130)","v":""},{"$f":"IF(Nährstoffzufuhr!D130=\"\",\"\",Nährstoffzufuhr!D130)","v":""},{"$f":"Nährstoffzufuhr!E130","v":0},{"$f":"IF(Nährstoffzufuhr!F130=\"\",\"\",Nährstoffzufuhr!F130)","v":""},{"$f":"IF(Nährstoffzufuhr!G130=\"\",\"\",Nährstoffzufuhr!G130)","v":""},{"$f":"IF(Nährstoffzufuhr!H130=\"\",\"\",Nährstoffzufuhr!H130)","v":""},{"$f":"IF(Nährstoffzufuhr!I130=\"\",\"\",Nährstoffzufuhr!I130)","v":""},{"$f":"IF(Nährstoffzufuhr!J130=\"\",\"\",Nährstoffzufuhr!J130)","v":0},{"$f":"IF(Nährstoffzufuhr!K130=\"\",\"\",Nährstoffzufuhr!K130)","v":0},{"$f":"IF(Nährstoffzufuhr!L130=\"\",\"\",Nährstoffzufuhr!L130)","v":0},{"$f":"IF(Nährstoffzufuhr!M130=\"\",\"\",Nährstoffzufuhr!M130)","v":0}]
[{"$f":"IF(Nährstoffzufuhr!A131=\"\",\"\",Nährstoffzufuhr!A131)","v":"Pilzsubstrat mit eigenen Nährstoffangaben"},{"$f":"IF(Nährstoffzufuhr!B131=\"\",\"\",Nährstoffzufuhr!B131)","v":""},{"$f":"IF(Nährstoffzufuhr!C131=\"\",\"\",Nährstoffzufuhr!C131)","v":""},{"$f":"IF(Nährstoffzufuhr!D131=\"\",\"\",Nährstoffzufuhr!D131)","v":""},{"$f":"Nährstoffzufuhr!E131","v":0},{"$f":"IF(Nährstoffzufuhr!F131=\"\",\"\",Nährstoffzufuhr!F131)","v":""},{"$f":"IF(Nährstoffzufuhr!G131=\"\",\"\",Nährstoffzufuhr!G131)","v":""},{"$f":"IF(Nährstoffzufuhr!H131=\"\",\"\",Nährstoffzufuhr!H131)","v":""},{"$f":"IF(Nährstoffzufuhr!I131=\"\",\"\",Nährstoffzufuhr!I131)","v":""},{"$f":"IF(Nährstoffzufuhr!J131=\"\",\"\",Nährstoffzufuhr!J131)","v":0},{"$f":"IF(Nährstoffzufuhr!K131=\"\",\"\",Nährstoffzufuhr!K131)","v":0},{"$f":"IF(Nährstoffzufuhr!L131=\"\",\"\",Nährstoffzufuhr!L131)","v":0},{"$f":"IF(Nährstoffzufuhr!M131=\"\",\"\",Nährstoffzufuhr!M131)","v":0}]
[{"$f":"IF(Nährstoffzufuhr!A132=\"\",\"\",Nährstoffzufuhr!A132)","v":"Tresterkompost"},{"$f":"IF(Nährstoffzufuhr!B132=\"\",\"\",Nährstoffzufuhr!B132)","v":40},{"$f":"IF(Nährstoffzufuhr!C132=\"\",\"\",Nährstoffzufuhr!C132)","v":""},{"$f":"IF(Nährstoffzufuhr!D132=\"\",\"\",Nährstoffzufuhr!D132)","v":""},{"$f":"Nährstoffzufuhr!E132","v":0},{"$f":"IF(Nährstoffzufuhr!F132=\"\",\"\",Nährstoffzufuhr!F132)","v":1.2},{"$f":"IF(Nährstoffzufuhr!G132=\"\",\"\",Nährstoffzufuhr!G132)","v":0.5},{"$f":"IF(Nährstoffzufuhr!H132=\"\",\"\",Nährstoffzufuhr!H132)","v":1.7},{"$f":"IF(Nährstoffzufuhr!I132=\"\",\"\",Nährstoffzufuhr!I132)","v":0.2},{"$f":"IF(Nährstoffzufuhr!J132=\"\",\"\",Nährstoffzufuhr!J132)","v":0},{"$f":"IF(Nährstoffzufuhr!K132=\"\",\"\",Nährstoffzufuhr!K132)","v":0},{"$f":"IF(Nährstoffzufuhr!L132=\"\",\"\",Nährstoffzufuhr!L132)","v":0},{"$f":"IF(Nährstoffzufuhr!M132=\"\",\"\",Nährstoffzufuhr!M132)","v":0}]
[{"$f":"IF(Nährstoffzufuhr!A133=\"\",\"\",Nährstoffzufuhr!A133)","v":"Kompost mit eigenen Nährstoffangaben"},{"$f":"IF(Nährstoffzufuhr!B133=\"\",\"\",Nährstoffzufuhr!B133)","v":""},{"$f":"IF(Nährstoffzufuhr!C133=\"\",\"\",Nährstoffzufuhr!C133)","v":""},{"$f":"IF(Nährstoffzufuhr!D133=\"\",\"\",Nährstoffzufuhr!D133)","v":""},{"$f":"Nährstoffzufuhr!E133","v":0},{"$f":"IF(Nährstoffzufuhr!F133=\"\",\"\",Nährstoffzufuhr!F133)","v":""},{"$f":"IF(Nährstoffzufuhr!G133=\"\",\"\",Nährstoffzufuhr!G133)","v":""},{"$f":"IF(Nährstoffzufuhr!H133=\"\",\"\",Nährstoffzufuhr!H133)","v":""},{"$f":"IF(Nährstoffzufuhr!I133=\"\",\"\",Nährstoffzufuhr!I133)","v":""},{"$f":"IF(Nährstoffzufuhr!J133=\"\",\"\",Nährstoffzufuhr!J133)","v":0},{"$f":"IF(Nährstoffzufuhr!K133=\"\",\"\",Nährstoffzufuhr!K133)","v":0},{"$f":"IF(Nährstoffzufuhr!L133=\"\",\"\",Nährstoffzufuhr!L133)","v":0},{"$f":"IF(Nährstoffzufuhr!M133=\"\",\"\",Nährstoffzufuhr!M133)","v":0}]
[{"$f":"IF(Nährstoffzufuhr!A134=\"\",\"\",Nährstoffzufuhr!A134)","v":"Kompost mit eigenen Nährstoffangaben"},{"$f":"IF(Nährstoffzufuhr!B134=\"\",\"\",Nährstoffzufuhr!B134)","v":""},{"$f":"IF(Nährstoffzufuhr!C134=\"\",\"\",Nährstoffzufuhr!C134)","v":""},{"$f":"IF(Nährstoffzufuhr!D134=\"\",\"\",Nährstoffzufuhr!D134)","v":""},{"$f":"Nährstoffzufuhr!E134","v":0},{"$f":"IF(Nährstoffzufuhr!F134=\"\",\"\",Nährstoffzufuhr!F134)","v":""},{"$f":"IF(Nährstoffzufuhr!G134=\"\",\"\",Nährstoffzufuhr!G134)","v":""},{"$f":"IF(Nährstoffzufuhr!H134=\"\",\"\",Nährstoffzufuhr!H134)","v":""},{"$f":"IF(Nährstoffzufuhr!I134=\"\",\"\",Nährstoffzufuhr!I134)","v":""},{"$f":"IF(Nährstoffzufuhr!J134=\"\",\"\",Nährstoffzufuhr!J134)","v":0},{"$f":"IF(Nährstoffzufuhr!K134=\"\",\"\",Nährstoffzufuhr!K134)","v":0},{"$f":"IF(Nährstoffzufuhr!L134=\"\",\"\",Nährstoffzufuhr!L134)","v":0},{"$f":"IF(Nährstoffzufuhr!M134=\"\",\"\",Nährstoffzufuhr!M134)","v":0}]
[{"$f":"IF(Nährstoffzufuhr!A135=\"\",\"\",Nährstoffzufuhr!A135)","v":"Sonstige organische Substrate u. Stoffe "},{"$f":"IF(Nährstoffzufuhr!B135=\"\",\"\",Nährstoffzufuhr!B135)","v":""},{"$f":"IF(Nährstoffzufuhr!C135=\"\",\"\",Nährstoffzufuhr!C135)","v":""},{"$f":"IF(Nährstoffzufuhr!D135=\"\",\"\",Nährstoffzufuhr!D135)","v":""},{"$f":"Nährstoffzufuhr!E135","v":0},{"$f":"IF(Nährstoffzufuhr!F135=\"\",\"\",Nährstoffzufuhr!F135)","v":""},{"$f":"IF(Nährstoffzufuhr!G135=\"\",\"\",Nährstoffzufuhr!G135)","v":""},{"$f":"IF(Nährstoffzufuhr!H135=\"\",\"\",Nährstoffzufuhr!H135)","v":""},{"$f":"IF(Nährstoffzufuhr!I135=\"\",\"\",Nährstoffzufuhr!I135)","v":""},{"$f":"IF(Nährstoffzufuhr!J135=\"\",\"\",Nährstoffzufuhr!J135)","v":0},{"$f":"IF(Nährstoffzufuhr!K135=\"\",\"\",Nährstoffzufuhr!K135)","v":0},{"$f":"IF(Nährstoffzufuhr!L135=\"\",\"\",Nährstoffzufuhr!L135)","v":0},{"$f":"IF(Nährstoffzufuhr!M135=\"\",\"\",Nährstoffzufuhr!M135)","v":0}]
[{"$f":"IF(Nährstoffzufuhr!A136=\"\",\"\",Nährstoffzufuhr!A136)","v":"Grüngut frisch"},{"$f":"IF(Nährstoffzufuhr!B136=\"\",\"\",Nährstoffzufuhr!B136)","v":20},{"$f":"IF(Nährstoffzufuhr!C136=\"\",\"\",Nährstoffzufuhr!C136)","v":""},{"$f":"IF(Nährstoffzufuhr!D136=\"\",\"\",Nährstoffzufuhr!D136)","v":""},{"$f":"Nährstoffzufuhr!E136","v":0},{"$f":"IF(Nährstoffzufuhr!F136=\"\",\"\",Nährstoffzufuhr!F136)","v":5.2},{"$f":"IF(Nährstoffzufuhr!G136=\"\",\"\",Nährstoffzufuhr!G136)","v":2.1},{"$f":"IF(Nährstoffzufuhr!H136=\"\",\"\",Nährstoffzufuhr!H136)","v":6.1},{"$f":"IF(Nährstoffzufuhr!I136=\"\",\"\",Nährstoffzufuhr!I136)","v":0.9},{"$f":"IF(Nährstoffzufuhr!J136=\"\",\"\",Nährstoffzufuhr!J136)","v":0},{"$f":"IF(Nährstoffzufuhr!K136=\"\",\"\",Nährstoffzufuhr!K136)","v":0},{"$f":"IF(Nährstoffzufuhr!L136=\"\",\"\",Nährstoffzufuhr!L136)","v":0},{"$f":"IF(Nährstoffzufuhr!M136=\"\",\"\",Nährstoffzufuhr!M136)","v":0}]
[{"$f":"IF(Nährstoffzufuhr!A137=\"\",\"\",Nährstoffzufuhr!A137)","v":"Gemüseputzreste (Ø über alle Gemüsearten)"},{"$f":"IF(Nährstoffzufuhr!B137=\"\",\"\",Nährstoffzufuhr!B137)","v":10},{"$f":"IF(Nährstoffzufuhr!C137=\"\",\"\",Nährstoffzufuhr!C137)","v":""},{"$f":"IF(Nährstoffzufuhr!D137=\"\",\"\",Nährstoffzufuhr!D137)","v":""},{"$f":"Nährstoffzufuhr!E137","v":0},{"$f":"IF(Nährstoffzufuhr!F137=\"\",\"\",Nährstoffzufuhr!F137)","v":0.28514018691588788},{"$f":"IF(Nährstoffzufuhr!G137=\"\",\"\",Nährstoffzufuhr!G137)","v":9.9967245283018896E-2},{"$f":"IF(Nährstoffzufuhr!H137=\"\",\"\",Nährstoffzufuhr!H137)","v":0.45279773584905664},{"$f":"IF(Nährstoffzufuhr!I137=\"\",\"\",Nährstoffzufuhr!I137)","v":3.7609811320754673E-2},{"$f":"IF(Nährstoffzufuhr!J137=\"\",\"\",Nährstoffzufuhr!J137)","v":0},{"$f":"IF(Nährstoffzufuhr!K137=\"\",\"\",Nährstoffzufuhr!K137)","v":0},{"$f":"IF(Nährstoffzufuhr!L137=\"\",\"\",Nährstoffzufuhr!L137)","v":0},{"$f":"IF(Nährstoffzufuhr!M137=\"\",\"\",Nährstoffzufuhr!M137)","v":0}]
[{"$f":"IF(Nährstoffzufuhr!A138=\"\",\"\",Nährstoffzufuhr!A138)","v":"Weizenstroheinlage (für Erdbeeren ...), Rundballen (ca. 250 kg)"},{"$f":"IF(Nährstoffzufuhr!B138=\"\",\"\",Nährstoffzufuhr!B138)","v":""},{"$f":"IF(Nährstoffzufuhr!C138=\"\",\"\",Nährstoffzufuhr!C138)","v":""},{"$f":"IF(Nährstoffzufuhr!D138=\"\",\"\",Nährstoffzufuhr!D138)","v":""},{"$f":"Nährstoffzufuhr!E138","v":0},{"$f":"IF(Nährstoffzufuhr!F138=\"\",\"\",Nährstoffzufuhr!F138)","v":0.5},{"$f":"IF(Nährstoffzufuhr!G138=\"\",\"\",Nährstoffzufuhr!G138)","v":0.3},{"$f":"IF(Nährstoffzufuhr!H138=\"\",\"\",Nährstoffzufuhr!H138)","v":0.12},{"$f":"IF(Nährstoffzufuhr!I138=\"\",\"\",Nährstoffzufuhr!I138)","v":0.2},{"$f":"IF(Nährstoffzufuhr!J138=\"\",\"\",Nährstoffzufuhr!J138)","v":0},{"$f":"IF(Nährstoffzufuhr!K138=\"\",\"\",Nährstoffzufuhr!K138)","v":0},{"$f":"IF(Nährstoffzufuhr!L138=\"\",\"\",Nährstoffzufuhr!L138)","v":0},{"$f":"IF(Nährstoffzufuhr!M138=\"\",\"\",Nährstoffzufuhr!M138)","v":0}]
[{"$f":"IF(Nährstoffzufuhr!A139=\"\",\"\",Nährstoffzufuhr!A139)","v":"Trester frisch 40% TM, "},{"$f":"IF(Nährstoffzufuhr!B139=\"\",\"\",Nährstoffzufuhr!B139)","v":"0,50 t/m³"},{"$f":"IF(Nährstoffzufuhr!C139=\"\",\"\",Nährstoffzufuhr!C139)","v":""},{"$f":"IF(Nährstoffzufuhr!D139=\"\",\"\",Nährstoffzufuhr!D139)","v":""},{"$f":"Nährstoffzufuhr!E139","v":0},{"$f":"IF(Nährstoffzufuhr!F139=\"\",\"\",Nährstoffzufuhr!F139)","v":0.74},{"$f":"IF(Nährstoffzufuhr!G139=\"\",\"\",Nährstoffzufuhr!G139)","v":0.23},{"$f":"IF(Nährstoffzufuhr!H139=\"\",\"\",Nährstoffzufuhr!H139)","v":0.78},{"$f":"IF(Nährstoffzufuhr!I139=\"\",\"\",Nährstoffzufuhr!I139)","v":7.0000000000000007E-2},{"$f":"IF(Nährstoffzufuhr!J139=\"\",\"\",Nährstoffzufuhr!J139)","v":0},{"$f":"IF(Nährstoffzufuhr!K139=\"\",\"\",Nährstoffzufuhr!K139)","v":0},{"$f":"IF(Nährstoffzufuhr!L139=\"\",\"\",Nährstoffzufuhr!L139)","v":0},{"$f":"IF(Nährstoffzufuhr!M139=\"\",\"\",Nährstoffzufuhr!M139)","v":0}]
[{"$f":"IF(Nährstoffzufuhr!A140=\"\",\"\",Nährstoffzufuhr!A140)","v":"Sägemehl"},{"$f":"IF(Nährstoffzufuhr!B140=\"\",\"\",Nährstoffzufuhr!B140)","v":70},{"$f":"IF(Nährstoffzufuhr!C140=\"\",\"\",Nährstoffzufuhr!C140)","v":""},{"$f":"IF(Nährstoffzufuhr!D140=\"\",\"\",Nährstoffzufuhr!D140)","v":""},{"$f":"Nährstoffzufuhr!E140","v":0},{"$f":"IF(Nährstoffzufuhr!F140=\"\",\"\",Nährstoffzufuhr!F140)","v":0.05},{"$f":"IF(Nährstoffzufuhr!G140=\"\",\"\",Nährstoffzufuhr!G140)","v":0.02},{"$f":"IF(Nährstoffzufuhr!H140=\"\",\"\",Nährstoffzufuhr!H140)","v":0.05},{"$f":"IF(Nährstoffzufuhr!I140=\"\",\"\",Nährstoffzufuhr!I140)","v":0.04},{"$f":"IF(Nährstoffzufuhr!J140=\"\",\"\",Nährstoffzufuhr!J140)","v":0},{"$f":"IF(Nährstoffzufuhr!K140=\"\",\"\",Nährstoffzufuhr!K140)","v":0},{"$f":"IF(Nährstoffzufuhr!L140=\"\",\"\",Nährstoffzufuhr!L140)","v":0},{"$f":"IF(Nährstoffzufuhr!M140=\"\",\"\",Nährstoffzufuhr!M140)","v":0}]
[{"$f":"IF(Nährstoffzufuhr!A141=\"\",\"\",Nährstoffzufuhr!A141)","v":"Baumrinde (1 m³ = 1 t)"},{"$f":"IF(Nährstoffzufuhr!B141=\"\",\"\",Nährstoffzufuhr!B141)","v":"0,4 t/m³"},{"$f":"IF(Nährstoffzufuhr!C141=\"\",\"\",Nährstoffzufuhr!C141)","v":""},{"$f":"IF(Nährstoffzufuhr!D141=\"\",\"\",Nährstoffzufuhr!D141)","v":""},{"$f":"Nährstoffzufuhr!E141","v":0},{"$f":"IF(Nährstoffzufuhr!F141=\"\",\"\",Nährstoffzufuhr!F141)","v":0.3},{"$f":"IF(Nährstoffzufuhr!G141=\"\",\"\",Nährstoffzufuhr!G141)","v":0.1},{"$f":"IF(Nährstoffzufuhr!H141=\"\",\"\",Nährstoffzufuhr!H141)","v":0.2},{"$f":"IF(Nährstoffzufuhr!I141=\"\",\"\",Nährstoffzufuhr!I141)","v":0.1},{"$f":"IF(Nährstoffzufuhr!J141=\"\",\"\",Nährstoffzufuhr!J141)","v":0},{"$f":"IF(Nährstoffzufuhr!K141=\"\",\"\",Nährstoffzufuhr!K141)","v":0},{"$f":"IF(Nährstoffzufuhr!L141=\"\",\"\",Nährstoffzufuhr!L141)","v":0},{"$f":"IF(Nährstoffzufuhr!M141=\"\",\"\",Nährstoffzufuhr!M141)","v":0}]
[{"$f":"IF(Nährstoffzufuhr!A142=\"\",\"\",Nährstoffzufuhr!A142)","v":"Kartoffelschlempe"},{"$f":"IF(Nährstoffzufuhr!B142=\"\",\"\",Nährstoffzufuhr!B142)","v":5},{"$f":"IF(Nährstoffzufuhr!C142=\"\",\"\",Nährstoffzufuhr!C142)","v":""},{"$f":"IF(Nährstoffzufuhr!D142=\"\",\"\",Nährstoffzufuhr!D142)","v":""},{"$f":"Nährstoffzufuhr!E142","v":0},{"$f":"IF(Nährstoffzufuhr!F142=\"\",\"\",Nährstoffzufuhr!F142)","v":0.28000000000000003},{"$f":"IF(Nährstoffzufuhr!G142=\"\",\"\",Nährstoffzufuhr!G142)","v":0.11},{"$f":"IF(Nährstoffzufuhr!H142=\"\",\"\",Nährstoffzufuhr!H142)","v":0.48},{"$f":"IF(Nährstoffzufuhr!I142=\"\",\"\",Nährstoffzufuhr!I142)","v":0.05},{"$f":"IF(Nährstoffzufuhr!J142=\"\",\"\",Nährstoffzufuhr!J142)","v":0},{"$f":"IF(Nährstoffzufuhr!K142=\"\",\"\",Nährstoffzufuhr!K142)","v":0},{"$f":"IF(Nährstoffzufuhr!L142=\"\",\"\",Nährstoffzufuhr!L142)","v":0},{"$f":"IF(Nährstoffzufuhr!M142=\"\",\"\",Nährstoffzufuhr!M142)","v":0}]
[{"$f":"IF(Nährstoffzufuhr!A143=\"\",\"\",Nährstoffzufuhr!A143)","v":"Weitere Stoffe mit eigenen Nährstoffangaben"},{"$f":"IF(Nährstoffzufuhr!B143=\"\",\"\",Nährstoffzufuhr!B143)","v":""},{"$f":"IF(Nährstoffzufuhr!C143=\"\",\"\",Nährstoffzufuhr!C143)","v":""},{"$f":"IF(Nährstoffzufuhr!D143=\"\",\"\",Nährstoffzufuhr!D143)","v":""},{"$f":"Nährstoffzufuhr!E143","v":0},{"$f":"IF(Nährstoffzufuhr!F143=\"\",\"\",Nährstoffzufuhr!F143)","v":""},{"$f":"IF(Nährstoffzufuhr!G143=\"\",\"\",Nährstoffzufuhr!G143)","v":""},{"$f":"IF(Nährstoffzufuhr!H143=\"\",\"\",Nährstoffzufuhr!H143)","v":""},{"$f":"IF(Nährstoffzufuhr!I143=\"\",\"\",Nährstoffzufuhr!I143)","v":""},{"$f":"IF(Nährstoffzufuhr!J143=\"\",\"\",Nährstoffzufuhr!J143)","v":0},{"$f":"IF(Nährstoffzufuhr!K143=\"\",\"\",Nährstoffzufuhr!K143)","v":0},{"$f":"IF(Nährstoffzufuhr!L143=\"\",\"\",Nährstoffzufuhr!L143)","v":0},{"$f":"IF(Nährstoffzufuhr!M143=\"\",\"\",Nährstoffzufuhr!M143)","v":0}]
[{"$f":"IF(Nährstoffzufuhr!A144=\"\",\"\",Nährstoffzufuhr!A144)","v":"Weitere Stoffe mit eigenen Nährstoffangaben"},{"$f":"IF(Nährstoffzufuhr!B144=\"\",\"\",Nährstoffzufuhr!B144)","v":""},{"$f":"IF(Nährstoffzufuhr!C144=\"\",\"\",Nährstoffzufuhr!C144)","v":""},{"$f":"IF(Nährstoffzufuhr!D144=\"\",\"\",Nährstoffzufuhr!D144)","v":""},{"$f":"Nährstoffzufuhr!E144","v":0},{"$f":"IF(Nährstoffzufuhr!F144=\"\",\"\",Nährstoffzufuhr!F144)","v":""},{"$f":"IF(Nährstoffzufuhr!G144=\"\",\"\",Nährstoffzufuhr!G144)","v":""},{"$f":"IF(Nährstoffzufuhr!H144=\"\",\"\",Nährstoffzufuhr!H144)","v":""},{"$f":"IF(Nährstoffzufuhr!I144=\"\",\"\",Nährstoffzufuhr!I144)","v":""},{"$f":"IF(Nährstoffzufuhr!J144=\"\",\"\",Nährstoffzufuhr!J144)","v":0},{"$f":"IF(Nährstoffzufuhr!K144=\"\",\"\",Nährstoffzufuhr!K144)","v":0},{"$f":"IF(Nährstoffzufuhr!L144=\"\",\"\",Nährstoffzufuhr!L144)","v":0},{"$f":"IF(Nährstoffzufuhr!M144=\"\",\"\",Nährstoffzufuhr!M144)","v":0}]
[{"$f":"IF(Nährstoffzufuhr!A145=\"\",\"\",Nährstoffzufuhr!A145)","v":""},{"$f":"IF(Nährstoffzufuhr!B145=\"\",\"\",Nährstoffzufuhr!B145)","v":""},{"$f":"IF(Nährstoffzufuhr!C145=\"\",\"\",Nährstoffzufuhr!C145)","v":""},{"$f":"IF(Nährstoffzufuhr!D145=\"\",\"\",Nährstoffzufuhr!D145)","v":""},{"$f":"Nährstoffzufuhr!E145","v":0},{"$f":"IF(Nährstoffzufuhr!F145=\"\",\"\",Nährstoffzufuhr!F145)","v":""},{"$f":"IF(Nährstoffzufuhr!G145=\"\",\"\",Nährstoffzufuhr!G145)","v":""},{"$f":"IF(Nährstoffzufuhr!H145=\"\",\"\",Nährstoffzufuhr!H145)","v":""},{"$f":"IF(Nährstoffzufuhr!I145=\"\",\"\",Nährstoffzufuhr!I145)","v":""},{"$f":"IF(Nährstoffzufuhr!J145=\"\",\"\",Nährstoffzufuhr!J145)","v":0},{"$f":"IF(Nährstoffzufuhr!K145=\"\",\"\",Nährstoffzufuhr!K145)","v":0},{"$f":"IF(Nährstoffzufuhr!L145=\"\",\"\",Nährstoffzufuhr!L145)","v":0},{"$f":"IF(Nährstoffzufuhr!M145=\"\",\"\",Nährstoffzufuhr!M145)","v":0}]
[{"$f":"IF(Nährstoffzufuhr!A146=\"\",\"\",Nährstoffzufuhr!A146)","v":""},{"$f":"IF(Nährstoffzufuhr!B146=\"\",\"\",Nährstoffzufuhr!B146)","v":""},{"$f":"IF(Nährstoffzufuhr!C146=\"\",\"\",Nährstoffzufuhr!C146)","v":""},{"$f":"IF(Nährstoffzufuhr!D146=\"\",\"\",Nährstoffzufuhr!D146)","v":""},{"$f":"Nährstoffzufuhr!E146","v":0},{"$f":"IF(Nährstoffzufuhr!F146=\"\",\"\",Nährstoffzufuhr!F146)","v":""},{"$f":"IF(Nährstoffzufuhr!G146=\"\",\"\",Nährstoffzufuhr!G146)","v":""},{"$f":"IF(Nährstoffzufuhr!H146=\"\",\"\",Nährstoffzufuhr!H146)","v":""},{"$f":"IF(Nährstoffzufuhr!I146=\"\",\"\",Nährstoffzufuhr!I146)","v":""},{"$f":"IF(Nährstoffzufuhr!J146=\"\",\"\",Nährstoffzufuhr!J146)","v":0},{"$f":"IF(Nährstoffzufuhr!K146=\"\",\"\",Nährstoffzufuhr!K146)","v":0},{"$f":"IF(Nährstoffzufuhr!L146=\"\",\"\",Nährstoffzufuhr!L146)","v":0},{"$f":"IF(Nährstoffzufuhr!M146=\"\",\"\",Nährstoffzufuhr!M146)","v":0}]
[{"$f":"IF(Nährstoffzufuhr!A147=\"\",\"\",Nährstoffzufuhr!A147)","v":"Kellereiabfälle"},{"$f":"IF(Nährstoffzufuhr!B147=\"\",\"\",Nährstoffzufuhr!B147)","v":""},{"$f":"IF(Nährstoffzufuhr!C147=\"\",\"\",Nährstoffzufuhr!C147)","v":""},{"$f":"IF(Nährstoffzufuhr!D147=\"\",\"\",Nährstoffzufuhr!D147)","v":""},{"$f":"Nährstoffzufuhr!E147","v":0},{"$f":"IF(Nährstoffzufuhr!F147=\"\",\"\",Nährstoffzufuhr!F147)","v":""},{"$f":"IF(Nährstoffzufuhr!G147=\"\",\"\",Nährstoffzufuhr!G147)","v":""},{"$f":"IF(Nährstoffzufuhr!H147=\"\",\"\",Nährstoffzufuhr!H147)","v":""},{"$f":"IF(Nährstoffzufuhr!I147=\"\",\"\",Nährstoffzufuhr!I147)","v":""},{"$f":"IF(Nährstoffzufuhr!J147=\"\",\"\",Nährstoffzufuhr!J147)","v":0},{"$f":"IF(Nährstoffzufuhr!K147=\"\",\"\",Nährstoffzufuhr!K147)","v":0},{"$f":"IF(Nährstoffzufuhr!L147=\"\",\"\",Nährstoffzufuhr!L147)","v":0},{"$f":"IF(Nährstoffzufuhr!M147=\"\",\"\",Nährstoffzufuhr!M147)","v":0}]
[{"$f":"IF(Nährstoffzufuhr!A148=\"\",\"\",Nährstoffzufuhr!A148)","v":"Mosttrub flüssig (1 m³= 10 dt)"},{"$f":"IF(Nährstoffzufuhr!B148=\"\",\"\",Nährstoffzufuhr!B148)","v":"-"},{"$f":"IF(Nährstoffzufuhr!C148=\"\",\"\",Nährstoffzufuhr!C148)","v":""},{"$f":"IF(Nährstoffzufuhr!D148=\"\",\"\",Nährstoffzufuhr!D148)","v":""},{"$f":"Nährstoffzufuhr!E148","v":0},{"$f":"IF(Nährstoffzufuhr!F148=\"\",\"\",Nährstoffzufuhr!F148)","v":0.5},{"$f":"IF(Nährstoffzufuhr!G148=\"\",\"\",Nährstoffzufuhr!G148)","v":0.03},{"$f":"IF(Nährstoffzufuhr!H148=\"\",\"\",Nährstoffzufuhr!H148)","v":0.3},{"$f":"IF(Nährstoffzufuhr!I148=\"\",\"\",Nährstoffzufuhr!I148)","v":0.01},{"$f":"IF(Nährstoffzufuhr!J148=\"\",\"\",Nährstoffzufuhr!J148)","v":0},{"$f":"IF(Nährstoffzufuhr!K148=\"\",\"\",Nährstoffzufuhr!K148)","v":0},{"$f":"IF(Nährstoffzufuhr!L148=\"\",\"\",Nährstoffzufuhr!L148)","v":0},{"$f":"IF(Nährstoffzufuhr!M148=\"\",\"\",Nährstoffzufuhr!M148)","v":0}]
[{"$f":"IF(Nährstoffzufuhr!A149=\"\",\"\",Nährstoffzufuhr!A149)","v":"Weinhefe flüssig (1 m³= 10 dt)"},{"$f":"IF(Nährstoffzufuhr!B149=\"\",\"\",Nährstoffzufuhr!B149)","v":20},{"$f":"IF(Nährstoffzufuhr!C149=\"\",\"\",Nährstoffzufuhr!C149)","v":""},{"$f":"IF(Nährstoffzufuhr!D149=\"\",\"\",Nährstoffzufuhr!D149)","v":""},{"$f":"Nährstoffzufuhr!E149","v":0},{"$f":"IF(Nährstoffzufuhr!F149=\"\",\"\",Nährstoffzufuhr!F149)","v":0.8},{"$f":"IF(Nährstoffzufuhr!G149=\"\",\"\",Nährstoffzufuhr!G149)","v":0.3},{"$f":"IF(Nährstoffzufuhr!H149=\"\",\"\",Nährstoffzufuhr!H149)","v":1.2},{"$f":"IF(Nährstoffzufuhr!I149=\"\",\"\",Nährstoffzufuhr!I149)","v":0.03},{"$f":"IF(Nährstoffzufuhr!J149=\"\",\"\",Nährstoffzufuhr!J149)","v":0},{"$f":"IF(Nährstoffzufuhr!K149=\"\",\"\",Nährstoffzufuhr!K149)","v":0},{"$f":"IF(Nährstoffzufuhr!L149=\"\",\"\",Nährstoffzufuhr!L149)","v":0},{"$f":"IF(Nährstoffzufuhr!M149=\"\",\"\",Nährstoffzufuhr!M149)","v":0}]
[{"$f":"IF(Nährstoffzufuhr!A150=\"\",\"\",Nährstoffzufuhr!A150)","v":"Weinhefe filtriert (1 m³= 7 dt)"},{"$f":"IF(Nährstoffzufuhr!B150=\"\",\"\",Nährstoffzufuhr!B150)","v":40},{"$f":"IF(Nährstoffzufuhr!C150=\"\",\"\",Nährstoffzufuhr!C150)","v":""},{"$f":"IF(Nährstoffzufuhr!D150=\"\",\"\",Nährstoffzufuhr!D150)","v":""},{"$f":"Nährstoffzufuhr!E150","v":0},{"$f":"IF(Nährstoffzufuhr!F150=\"\",\"\",Nährstoffzufuhr!F150)","v":1.6},{"$f":"IF(Nährstoffzufuhr!G150=\"\",\"\",Nährstoffzufuhr!G150)","v":0.6},{"$f":"IF(Nährstoffzufuhr!H150=\"\",\"\",Nährstoffzufuhr!H150)","v":2.4},{"$f":"IF(Nährstoffzufuhr!I150=\"\",\"\",Nährstoffzufuhr!I150)","v":7.0000000000000007E-2},{"$f":"IF(Nährstoffzufuhr!J150=\"\",\"\",Nährstoffzufuhr!J150)","v":0},{"$f":"IF(Nährstoffzufuhr!K150=\"\",\"\",Nährstoffzufuhr!K150)","v":0},{"$f":"IF(Nährstoffzufuhr!L150=\"\",\"\",Nährstoffzufuhr!L150)","v":0},{"$f":"IF(Nährstoffzufuhr!M150=\"\",\"\",Nährstoffzufuhr!M150)","v":0}]
[{"$f":"IF(Nährstoffzufuhr!A151=\"\",\"\",Nährstoffzufuhr!A151)","v":"Klärschlamm  (Im Gemüsebau verboten!!)"},{"$f":"IF(Nährstoffzufuhr!B151=\"\",\"\",Nährstoffzufuhr!B151)","v":""},{"$f":"IF(Nährstoffzufuhr!C151=\"\",\"\",Nährstoffzufuhr!C151)","v":""},{"$f":"IF(Nährstoffzufuhr!D151=\"\",\"\",Nährstoffzufuhr!D151)","v":""},{"$f":"Nährstoffzufuhr!E151","v":0},{"$f":"IF(Nährstoffzufuhr!F151=\"\",\"\",Nährstoffzufuhr!F151)","v":""},{"$f":"IF(Nährstoffzufuhr!G151=\"\",\"\",Nährstoffzufuhr!G151)","v":""},{"$f":"IF(Nährstoffzufuhr!H151=\"\",\"\",Nährstoffzufuhr!H151)","v":""},{"$f":"IF(Nährstoffzufuhr!I151=\"\",\"\",Nährstoffzufuhr!I151)","v":""},{"$f":"IF(Nährstoffzufuhr!J151=\"\",\"\",Nährstoffzufuhr!J151)","v":0},{"$f":"IF(Nährstoffzufuhr!K151=\"\",\"\",Nährstoffzufuhr!K151)","v":0},{"$f":"IF(Nährstoffzufuhr!L151=\"\",\"\",Nährstoffzufuhr!L151)","v":0},{"$f":"IF(Nährstoffzufuhr!M151=\"\",\"\",Nährstoffzufuhr!M151)","v":0}]
[{"$f":"IF(Nährstoffzufuhr!A152=\"\",\"\",Nährstoffzufuhr!A152)","v":"Klärschlamm  (Im Gemüsebau verboten!)"},{"$f":"IF(Nährstoffzufuhr!B152=\"\",\"\",Nährstoffzufuhr!B152)","v":5},{"$f":"IF(Nährstoffzufuhr!C152=\"\",\"\",Nährstoffzufuhr!C152)","v":""},{"$f":"IF(Nährstoffzufuhr!D152=\"\",\"\",Nährstoffzufuhr!D152)","v":""},{"$f":"Nährstoffzufuhr!E152","v":0},{"$f":"IF(Nährstoffzufuhr!F152=\"\",\"\",Nährstoffzufuhr!F152)","v":0.18},{"$f":"IF(Nährstoffzufuhr!G152=\"\",\"\",Nährstoffzufuhr!G152)","v":0.16},{"$f":"IF(Nährstoffzufuhr!H152=\"\",\"\",Nährstoffzufuhr!H152)","v":0.02},{"$f":"IF(Nährstoffzufuhr!I152=\"\",\"\",Nährstoffzufuhr!I152)","v":""},{"$f":"IF(Nährstoffzufuhr!J152=\"\",\"\",Nährstoffzufuhr!J152)","v":0},{"$f":"IF(Nährstoffzufuhr!K152=\"\",\"\",Nährstoffzufuhr!K152)","v":0},{"$f":"IF(Nährstoffzufuhr!L152=\"\",\"\",Nährstoffzufuhr!L152)","v":0},{"$f":"IF(Nährstoffzufuhr!M152=\"\",\"\",Nährstoffzufuhr!M152)","v":0}]
[{"$f":"IF(Nährstoffzufuhr!A153=\"\",\"\",Nährstoffzufuhr!A153)","v":"Klärschlamm  (Im Gemüsebau verboten!)"},{"$f":"IF(Nährstoffzufuhr!B153=\"\",\"\",Nährstoffzufuhr!B153)","v":25},{"$f":"IF(Nährstoffzufuhr!C153=\"\",\"\",Nährstoffzufuhr!C153)","v":""},{"$f":"IF(Nährstoffzufuhr!D153=\"\",\"\",Nährstoffzufuhr!D153)","v":""},{"$f":"Nährstoffzufuhr!E153","v":0},{"$f":"IF(Nährstoffzufuhr!F153=\"\",\"\",Nährstoffzufuhr!F153)","v":0.45},{"$f":"IF(Nährstoffzufuhr!G153=\"\",\"\",Nährstoffzufuhr!G153)","v":0.65},{"$f":"IF(Nährstoffzufuhr!H153=\"\",\"\",Nährstoffzufuhr!H153)","v":0.08},{"$f":"IF(Nährstoffzufuhr!I153=\"\",\"\",Nährstoffzufuhr!I153)","v":""},{"$f":"IF(Nährstoffzufuhr!J153=\"\",\"\",Nährstoffzufuhr!J153)","v":0},{"$f":"IF(Nährstoffzufuhr!K153=\"\",\"\",Nährstoffzufuhr!K153)","v":0},{"$f":"IF(Nährstoffzufuhr!L153=\"\",\"\",Nährstoffzufuhr!L153)","v":0},{"$f":"IF(Nährstoffzufuhr!M153=\"\",\"\",Nährstoffzufuhr!M153)","v":0}]
[{"$f":"IF(Nährstoffzufuhr!A154=\"\",\"\",Nährstoffzufuhr!A154)","v":"Klärschlamm  (Im Gemüsebau verboten!)"},{"$f":"IF(Nährstoffzufuhr!B154=\"\",\"\",Nährstoffzufuhr!B154)","v":50},{"$f":"IF(Nährstoffzufuhr!C154=\"\",\"\",Nährstoffzufuhr!C154)","v":""},{"$f":"IF(Nährstoffzufuhr!D154=\"\",\"\",Nährstoffzufuhr!D154)","v":""},{"$f":"Nährstoffzufuhr!E154","v":0},{"$f":"IF(Nährstoffzufuhr!F154=\"\",\"\",Nährstoffzufuhr!F154)","v":0.75},{"$f":"IF(Nährstoffzufuhr!G154=\"\",\"\",Nährstoffzufuhr!G154)","v":1.2},{"$f":"IF(Nährstoffzufuhr!H154=\"\",\"\",Nährstoffzufuhr!H154)","v":0.1},{"$f":"IF(Nährstoffzufuhr!I154=\"\",\"\",Nährstoffzufuhr!I154)","v":""},{"$f":"IF(Nährstoffzufuhr!J154=\"\",\"\",Nährstoffzufuhr!J154)","v":0},{"$f":"IF(Nährstoffzufuhr!K154=\"\",\"\",Nährstoffzufuhr!K154)","v":0},{"$f":"IF(Nährstoffzufuhr!L154=\"\",\"\",Nährstoffzufuhr!L154)","v":0},{"$f":"IF(Nährstoffzufuhr!M154=\"\",\"\",Nährstoffzufuhr!M154)","v":0}]
[{"$f":"IF(Nährstoffzufuhr!A155=\"\",\"\",Nährstoffzufuhr!A155)","v":"Summe"},{"$f":"IF(Nährstoffzufuhr!B155=\"\",\"\",Nährstoffzufuhr!B155)","v":""},{"$f":"IF(Nährstoffzufuhr!C155=\"\",\"\",Nährstoffzufuhr!C155)","v":""},{"$f":"IF(Nährstoffzufuhr!D155=\"\",\"\",Nährstoffzufuhr!D155)","v":""},{"$f":"IF(Nährstoffzufuhr!E155=\"\",\"\",Nährstoffzufuhr!E155)","v":0},{"$f":"IF(Nährstoffzufuhr!F155=\"\",\"\",Nährstoffzufuhr!F155)","v":""},{"$f":"IF([1]Nährstoffzufuhr!G155=\"\",\"\",[1]Nährstoffzufuhr!G155)","v":0},{"$f":"IF([1]Nährstoffzufuhr!H155=\"\",\"\",[1]Nährstoffzufuhr!H155)","v":0},{"$f":"IF([1]Nährstoffzufuhr!I155=\"\",\"\",[1]Nährstoffzufuhr!I155)","v":0},{"$f":"IF(Nährstoffzufuhr!J155=\"\",\"\",Nährstoffzufuhr!J155)","v":0},{"$f":"IF(Nährstoffzufuhr!K155=\"\",\"\",Nährstoffzufuhr!K155)","v":0},{"$f":"IF(Nährstoffzufuhr!L155=\"\",\"\",Nährstoffzufuhr!L155)","v":0},{"$f":"IF(Nährstoffzufuhr!M155=\"\",\"\",Nährstoffzufuhr!M155)","v":0}]
[{"$f":"IF(Nährstoffzufuhr!A156=\"\",\"\",Nährstoffzufuhr!A156)","v":""},{"$f":"IF(Nährstoffzufuhr!B156=\"\",\"\",Nährstoffzufuhr!B156)","v":""},{"$f":"IF(Nährstoffzufuhr!C156=\"\",\"\",Nährstoffzufuhr!C156)","v":""},{"$f":"IF(Nährstoffzufuhr!D156=\"\",\"\",Nährstoffzufuhr!D156)","v":""},{"$f":"IF(Nährstoffzufuhr!E156=\"\",\"\",Nährstoffzufuhr!E156)","v":""},{"$f":"IF(Nährstoffzufuhr!F156=\"\",\"\",Nährstoffzufuhr!F156)","v":""},{"$f":"IF(Nährstoffzufuhr!G156=\"\",\"\",Nährstoffzufuhr!G156)","v":""},{"$f":"IF(Nährstoffzufuhr!H156=\"\",\"\",Nährstoffzufuhr!H156)","v":""},{"$f":"IF(Nährstoffzufuhr!I156=\"\",\"\",Nährstoffzufuhr!I156)","v":""},{"$f":"IF(Nährstoffzufuhr!J156=\"\",\"\",Nährstoffzufuhr!J156)","v":""},{"$f":"IF(Nährstoffzufuhr!K156=\"\",\"\",Nährstoffzufuhr!K156)","v":""},{"$f":"IF(Nährstoffzufuhr!L156=\"\",\"\",Nährstoffzufuhr!L156)","v":""},{"$f":"IF(Nährstoffzufuhr!M156=\"\",\"\",Nährstoffzufuhr!M156)","v":""}]
[{"$f":"IF(Nährstoffzufuhr!A157=\"\",\"\",Nährstoffzufuhr!A157)","v":"Bodenhilfsstoffe"},{"$f":"IF(Nährstoffzufuhr!B157=\"\",\"\",Nährstoffzufuhr!B157)","v":""},{"$f":"IF(Nährstoffzufuhr!C157=\"\",\"\",Nährstoffzufuhr!C157)","v":""},{"$f":"IF(Nährstoffzufuhr!D157=\"\",\"\",Nährstoffzufuhr!D157)","v":""},{"$f":"IF(Nährstoffzufuhr!E157=\"\",\"\",Nährstoffzufuhr!E157)","v":"Menge"},{"$f":"IF(Nährstoffzufuhr!F157=\"\",\"\",Nährstoffzufuhr!F157)","v":"Nährstoffgehalt %, kg/dt"},{"$f":"IF([1]Nährstoffzufuhr!G157=\"\",\"\",[1]Nährstoffzufuhr!G157)","v":0},{"$f":"IF([1]Nährstoffzufuhr!H157=\"\",\"\",[1]Nährstoffzufuhr!H157)","v":0},{"$f":"IF([1]Nährstoffzufuhr!I157=\"\",\"\",[1]Nährstoffzufuhr!I157)","v":0},{"$f":"IF(Nährstoffzufuhr!J157=\"\",\"\",Nährstoffzufuhr!J157)","v":"Nährstoffe kg"},{"$f":"IF([1]Nährstoffzufuhr!K157=\"\",\"\",[1]Nährstoffzufuhr!K157)","v":0},{"$f":"IF([1]Nährstoffzufuhr!L157=\"\",\"\",[1]Nährstoffzufuhr!L157)","v":0},{"$f":"IF([1]Nährstoffzufuhr!M157=\"\",\"\",[1]Nährstoffzufuhr!M157)","v":0}]
[null,{"$f":"IF(Nährstoffzufuhr!B158=\"\",\"\",Nährstoffzufuhr!B158)","v":""},{"$f":"IF(Nährstoffzufuhr!C158=\"\",\"\",Nährstoffzufuhr!C158)","v":""},{"$f":"IF(Nährstoffzufuhr!D158=\"\",\"\",Nährstoffzufuhr!D158)","v":""},{"$f":"IF(Nährstoffzufuhr!E158=\"\",\"\",Nährstoffzufuhr!E158)","v":"dt"},{"$f":"IF(Nährstoffzufuhr!F158=\"\",\"\",Nährstoffzufuhr!F158)","v":"N"},{"$f":"IF(Nährstoffzufuhr!G158=\"\",\"\",Nährstoffzufuhr!G158)","v":"P2O5"},{"$f":"IF(Nährstoffzufuhr!H158=\"\",\"\",Nährstoffzufuhr!H158)","v":"K2O"},{"$f":"IF(Nährstoffzufuhr!I158=\"\",\"\",Nährstoffzufuhr!I158)","v":"MgO"},{"$f":"IF(Nährstoffzufuhr!J158=\"\",\"\",Nährstoffzufuhr!J158)","v":"N"},{"$f":"IF(Nährstoffzufuhr!K158=\"\",\"\",Nährstoffzufuhr!K158)","v":"P2O5"},{"$f":"IF(Nährstoffzufuhr!L158=\"\",\"\",Nährstoffzufuhr!L158)","v":"K2O"},{"$f":"IF(Nährstoffzufuhr!M158=\"\",\"\",Nährstoffzufuhr!M158)","v":"MgO"}]
[{"$f":"IF(Nährstoffzufuhr!A159=\"\",\"\",Nährstoffzufuhr!A159)","v":"Quanterna® Bio Terra"},{"$f":"IF(Nährstoffzufuhr!B159=\"\",\"\",Nährstoffzufuhr!B159)","v":""},{"$f":"IF(Nährstoffzufuhr!C159=\"\",\"\",Nährstoffzufuhr!C159)","v":""},{"$f":"IF(Nährstoffzufuhr!D159=\"\",\"\",Nährstoffzufuhr!D159)","v":""},{"$f":"Nährstoffzufuhr!E159","v":0},{"$f":"IF(Nährstoffzufuhr!F159=\"\",\"\",Nährstoffzufuhr!F159)","v":1.5},{"$f":"IF(Nährstoffzufuhr!G159=\"\",\"\",Nährstoffzufuhr!G159)","v":0.2},{"$f":"IF(Nährstoffzufuhr!H159=\"\",\"\",Nährstoffzufuhr!H159)","v":0.7},{"$f":"IF(Nährstoffzufuhr!I159=\"\",\"\",Nährstoffzufuhr!I159)","v":0},{"$f":"IF(Nährstoffzufuhr!J159=\"\",\"\",Nährstoffzufuhr!J159)","v":0},{"$f":"IF(Nährstoffzufuhr!K159=\"\",\"\",Nährstoffzufuhr!K159)","v":0},{"$f":"IF(Nährstoffzufuhr!L159=\"\",\"\",Nährstoffzufuhr!L159)","v":0},{"$f":"IF(Nährstoffzufuhr!M159=\"\",\"\",Nährstoffzufuhr!M159)","v":0}]
[{"$f":"IF(Nährstoffzufuhr!A160=\"\",\"\",Nährstoffzufuhr!A160)","v":"Phytoamin"},{"$f":"IF(Nährstoffzufuhr!B160=\"\",\"\",Nährstoffzufuhr!B160)","v":""},{"$f":"IF(Nährstoffzufuhr!C160=\"\",\"\",Nährstoffzufuhr!C160)","v":""},{"$f":"IF(Nährstoffzufuhr!D160=\"\",\"\",Nährstoffzufuhr!D160)","v":""},{"$f":"Nährstoffzufuhr!E160","v":0},{"$f":"IF(Nährstoffzufuhr!F160=\"\",\"\",Nährstoffzufuhr!F160)","v":0.06},{"$f":"IF(Nährstoffzufuhr!G160=\"\",\"\",Nährstoffzufuhr!G160)","v":0},{"$f":"IF(Nährstoffzufuhr!H160=\"\",\"\",Nährstoffzufuhr!H160)","v":1.6},{"$f":"IF(Nährstoffzufuhr!I160=\"\",\"\",Nährstoffzufuhr!I160)","v":0},{"$f":"IF(Nährstoffzufuhr!J160=\"\",\"\",Nährstoffzufuhr!J160)","v":0},{"$f":"IF(Nährstoffzufuhr!K160=\"\",\"\",Nährstoffzufuhr!K160)","v":0},{"$f":"IF(Nährstoffzufuhr!L160=\"\",\"\",Nährstoffzufuhr!L160)","v":0},{"$f":"IF(Nährstoffzufuhr!M160=\"\",\"\",Nährstoffzufuhr!M160)","v":0}]
[{"$f":"IF(Nährstoffzufuhr!A161=\"\",\"\",Nährstoffzufuhr!A161)","v":""},{"$f":"IF(Nährstoffzufuhr!B161=\"\",\"\",Nährstoffzufuhr!B161)","v":""},{"$f":"IF(Nährstoffzufuhr!C161=\"\",\"\",Nährstoffzufuhr!C161)","v":""},{"$f":"IF(Nährstoffzufuhr!D161=\"\",\"\",Nährstoffzufuhr!D161)","v":""},{"$f":"Nährstoffzufuhr!E161","v":0},{"$f":"IF(Nährstoffzufuhr!F161=\"\",\"\",Nährstoffzufuhr!F161)","v":""},{"$f":"IF(Nährstoffzufuhr!G161=\"\",\"\",Nährstoffzufuhr!G161)","v":""},{"$f":"IF(Nährstoffzufuhr!H161=\"\",\"\",Nährstoffzufuhr!H161)","v":""},{"$f":"IF(Nährstoffzufuhr!I161=\"\",\"\",Nährstoffzufuhr!I161)","v":""},{"$f":"IF(Nährstoffzufuhr!J161=\"\",\"\",Nährstoffzufuhr!J161)","v":0},{"$f":"IF(Nährstoffzufuhr!K161=\"\",\"\",Nährstoffzufuhr!K161)","v":0},{"$f":"IF(Nährstoffzufuhr!L161=\"\",\"\",Nährstoffzufuhr!L161)","v":0},{"$f":"IF(Nährstoffzufuhr!M161=\"\",\"\",Nährstoffzufuhr!M161)","v":0}]
[{"$f":"IF(Nährstoffzufuhr!A162=\"\",\"\",Nährstoffzufuhr!A162)","v":""},{"$f":"IF(Nährstoffzufuhr!B162=\"\",\"\",Nährstoffzufuhr!B162)","v":""},{"$f":"IF(Nährstoffzufuhr!C162=\"\",\"\",Nährstoffzufuhr!C162)","v":""},{"$f":"IF(Nährstoffzufuhr!D162=\"\",\"\",Nährstoffzufuhr!D162)","v":""},{"$f":"Nährstoffzufuhr!E162","v":0},{"$f":"IF(Nährstoffzufuhr!F162=\"\",\"\",Nährstoffzufuhr!F162)","v":""},{"$f":"IF(Nährstoffzufuhr!G162=\"\",\"\",Nährstoffzufuhr!G162)","v":""},{"$f":"IF(Nährstoffzufuhr!H162=\"\",\"\",Nährstoffzufuhr!H162)","v":""},{"$f":"IF(Nährstoffzufuhr!I162=\"\",\"\",Nährstoffzufuhr!I162)","v":""},{"$f":"IF(Nährstoffzufuhr!J162=\"\",\"\",Nährstoffzufuhr!J162)","v":0},{"$f":"IF(Nährstoffzufuhr!K162=\"\",\"\",Nährstoffzufuhr!K162)","v":0},{"$f":"IF(Nährstoffzufuhr!L162=\"\",\"\",Nährstoffzufuhr!L162)","v":0},{"$f":"IF(Nährstoffzufuhr!M162=\"\",\"\",Nährstoffzufuhr!M162)","v":0}]
[{"$f":"IF(Nährstoffzufuhr!A163=\"\",\"\",Nährstoffzufuhr!A163)","v":""},{"$f":"IF(Nährstoffzufuhr!B163=\"\",\"\",Nährstoffzufuhr!B163)","v":""},{"$f":"IF(Nährstoffzufuhr!C163=\"\",\"\",Nährstoffzufuhr!C163)","v":""},{"$f":"IF(Nährstoffzufuhr!D163=\"\",\"\",Nährstoffzufuhr!D163)","v":""},{"$f":"Nährstoffzufuhr!E163","v":0},{"$f":"IF(Nährstoffzufuhr!F163=\"\",\"\",Nährstoffzufuhr!F163)","v":""},{"$f":"IF(Nährstoffzufuhr!G163=\"\",\"\",Nährstoffzufuhr!G163)","v":""},{"$f":"IF(Nährstoffzufuhr!H163=\"\",\"\",Nährstoffzufuhr!H163)","v":""},{"$f":"IF(Nährstoffzufuhr!I163=\"\",\"\",Nährstoffzufuhr!I163)","v":""},{"$f":"IF(Nährstoffzufuhr!J163=\"\",\"\",Nährstoffzufuhr!J163)","v":0},{"$f":"IF(Nährstoffzufuhr!K163=\"\",\"\",Nährstoffzufuhr!K163)","v":0},{"$f":"IF(Nährstoffzufuhr!L163=\"\",\"\",Nährstoffzufuhr!L163)","v":0},{"$f":"IF(Nährstoffzufuhr!M163=\"\",\"\",Nährstoffzufuhr!M163)","v":0}]
[{"$f":"IF(Nährstoffzufuhr!A164=\"\",\"\",Nährstoffzufuhr!A164)","v":""},{"$f":"IF(Nährstoffzufuhr!B164=\"\",\"\",Nährstoffzufuhr!B164)","v":""},{"$f":"IF(Nährstoffzufuhr!C164=\"\",\"\",Nährstoffzufuhr!C164)","v":""},{"$f":"IF(Nährstoffzufuhr!D164=\"\",\"\",Nährstoffzufuhr!D164)","v":""},{"$f":"Nährstoffzufuhr!E164","v":0},{"$f":"IF(Nährstoffzufuhr!F164=\"\",\"\",Nährstoffzufuhr!F164)","v":""},{"$f":"IF(Nährstoffzufuhr!G164=\"\",\"\",Nährstoffzufuhr!G164)","v":""},{"$f":"IF(Nährstoffzufuhr!H164=\"\",\"\",Nährstoffzufuhr!H164)","v":""},{"$f":"IF(Nährstoffzufuhr!I164=\"\",\"\",Nährstoffzufuhr!I164)","v":""},{"$f":"IF(Nährstoffzufuhr!J164=\"\",\"\",Nährstoffzufuhr!J164)","v":0},{"$f":"IF(Nährstoffzufuhr!K164=\"\",\"\",Nährstoffzufuhr!K164)","v":0},{"$f":"IF(Nährstoffzufuhr!L164=\"\",\"\",Nährstoffzufuhr!L164)","v":0},{"$f":"IF(Nährstoffzufuhr!M164=\"\",\"\",Nährstoffzufuhr!M164)","v":0}]
[{"$f":"IF(Nährstoffzufuhr!A165=\"\",\"\",Nährstoffzufuhr!A165)","v":""},{"$f":"IF(Nährstoffzufuhr!B165=\"\",\"\",Nährstoffzufuhr!B165)","v":""},{"$f":"IF(Nährstoffzufuhr!C165=\"\",\"\",Nährstoffzufuhr!C165)","v":""},{"$f":"IF(Nährstoffzufuhr!D165=\"\",\"\",Nährstoffzufuhr!D165)","v":""},{"$f":"Nährstoffzufuhr!E165","v":0},{"$f":"IF(Nährstoffzufuhr!F165=\"\",\"\",Nährstoffzufuhr!F165)","v":""},{"$f":"IF(Nährstoffzufuhr!G165=\"\",\"\",Nährstoffzufuhr!G165)","v":""},{"$f":"IF(Nährstoffzufuhr!H165=\"\",\"\",Nährstoffzufuhr!H165)","v":""},{"$f":"IF(Nährstoffzufuhr!I165=\"\",\"\",Nährstoffzufuhr!I165)","v":""},{"$f":"IF(Nährstoffzufuhr!J165=\"\",\"\",Nährstoffzufuhr!J165)","v":0},{"$f":"IF(Nährstoffzufuhr!K165=\"\",\"\",Nährstoffzufuhr!K165)","v":0},{"$f":"IF(Nährstoffzufuhr!L165=\"\",\"\",Nährstoffzufuhr!L165)","v":0},{"$f":"IF(Nährstoffzufuhr!M165=\"\",\"\",Nährstoffzufuhr!M165)","v":0}]
[{"$f":"IF(Nährstoffzufuhr!A166=\"\",\"\",Nährstoffzufuhr!A166)","v":"Summe"},{"$f":"IF(Nährstoffzufuhr!B166=\"\",\"\",Nährstoffzufuhr!B166)","v":""},{"$f":"IF(Nährstoffzufuhr!C166=\"\",\"\",Nährstoffzufuhr!C166)","v":""},{"$f":"IF(Nährstoffzufuhr!D166=\"\",\"\",Nährstoffzufuhr!D166)","v":""},{"$f":"IF(Nährstoffzufuhr!E166=\"\",\"\",Nährstoffzufuhr!E166)","v":0},{"$f":"IF(Nährstoffzufuhr!F166=\"\",\"\",Nährstoffzufuhr!F166)","v":""},{"$f":"IF([1]Nährstoffzufuhr!G166=\"\",\"\",[1]Nährstoffzufuhr!G166)","v":0},{"$f":"IF([1]Nährstoffzufuhr!H166=\"\",\"\",[1]Nährstoffzufuhr!H166)","v":0},{"$f":"IF([1]Nährstoffzufuhr!I166=\"\",\"\",[1]Nährstoffzufuhr!I166)","v":0},{"$f":"IF(Nährstoffzufuhr!J166=\"\",\"\",Nährstoffzufuhr!J166)","v":0},{"$f":"IF(Nährstoffzufuhr!K166=\"\",\"\",Nährstoffzufuhr!K166)","v":0},{"$f":"IF(Nährstoffzufuhr!L166=\"\",\"\",Nährstoffzufuhr!L166)","v":0},{"$f":"IF(Nährstoffzufuhr!M166=\"\",\"\",Nährstoffzufuhr!M166)","v":0}]
[{"$f":"IF(Nährstoffzufuhr!A167=\"\",\"\",Nährstoffzufuhr!A167)","v":""},{"$f":"IF(Nährstoffzufuhr!B167=\"\",\"\",Nährstoffzufuhr!B167)","v":""},{"$f":"IF(Nährstoffzufuhr!C167=\"\",\"\",Nährstoffzufuhr!C167)","v":""},{"$f":"IF(Nährstoffzufuhr!D167=\"\",\"\",Nährstoffzufuhr!D167)","v":""},{"$f":"IF(Nährstoffzufuhr!E167=\"\",\"\",Nährstoffzufuhr!E167)","v":""},{"$f":"IF(Nährstoffzufuhr!F167=\"\",\"\",Nährstoffzufuhr!F167)","v":""},{"$f":"IF(Nährstoffzufuhr!G167=\"\",\"\",Nährstoffzufuhr!G167)","v":""},{"$f":"IF(Nährstoffzufuhr!H167=\"\",\"\",Nährstoffzufuhr!H167)","v":""},{"$f":"IF(Nährstoffzufuhr!I167=\"\",\"\",Nährstoffzufuhr!I167)","v":""},{"$f":"IF(Nährstoffzufuhr!J167=\"\",\"\",Nährstoffzufuhr!J167)","v":""},{"$f":"IF(Nährstoffzufuhr!K167=\"\",\"\",Nährstoffzufuhr!K167)","v":""},{"$f":"IF(Nährstoffzufuhr!L167=\"\",\"\",Nährstoffzufuhr!L167)","v":""},{"$f":"IF(Nährstoffzufuhr!M167=\"\",\"\",Nährstoffzufuhr!M167)","v":""}]
[{"$f":"IF(Nährstoffzufuhr!A168=\"\",\"\",Nährstoffzufuhr!A168)","v":"Pflanzenhilfsmittel"},{"$f":"IF(Nährstoffzufuhr!B168=\"\",\"\",Nährstoffzufuhr!B168)","v":""},{"$f":"IF(Nährstoffzufuhr!C168=\"\",\"\",Nährstoffzufuhr!C168)","v":""},{"$f":"IF(Nährstoffzufuhr!D168=\"\",\"\",Nährstoffzufuhr!D168)","v":""},{"$f":"IF(Nährstoffzufuhr!E168=\"\",\"\",Nährstoffzufuhr!E168)","v":"Menge"},{"$f":"IF(Nährstoffzufuhr!F168=\"\",\"\",Nährstoffzufuhr!F168)","v":"Nährstoffgehalt %, kg/dt"},{"$f":"IF([1]Nährstoffzufuhr!G168=\"\",\"\",[1]Nährstoffzufuhr!G168)","v":0},{"$f":"IF([1]Nährstoffzufuhr!H168=\"\",\"\",[1]Nährstoffzufuhr!H168)","v":0},{"$f":"IF([1]Nährstoffzufuhr!I168=\"\",\"\",[1]Nährstoffzufuhr!I168)","v":0},{"$f":"IF(Nährstoffzufuhr!J168=\"\",\"\",Nährstoffzufuhr!J168)","v":"Nährstoffe kg"},{"$f":"IF([1]Nährstoffzufuhr!K168=\"\",\"\",[1]Nährstoffzufuhr!K168)","v":0},{"$f":"IF([1]Nährstoffzufuhr!L168=\"\",\"\",[1]Nährstoffzufuhr!L168)","v":0},{"$f":"IF([1]Nährstoffzufuhr!M168=\"\",\"\",[1]Nährstoffzufuhr!M168)","v":0}]
[null,{"$f":"IF(Nährstoffzufuhr!B169=\"\",\"\",Nährstoffzufuhr!B169)","v":""},{"$f":"IF(Nährstoffzufuhr!C169=\"\",\"\",Nährstoffzufuhr!C169)","v":""},{"$f":"IF(Nährstoffzufuhr!D169=\"\",\"\",Nährstoffzufuhr!D169)","v":""},{"$f":"IF(Nährstoffzufuhr!E169=\"\",\"\",Nährstoffzufuhr!E169)","v":"dt"},{"$f":"IF(Nährstoffzufuhr!F169=\"\",\"\",Nährstoffzufuhr!F169)","v":"N"},{"$f":"IF(Nährstoffzufuhr!G169=\"\",\"\",Nährstoffzufuhr!G169)","v":"P2O5"},{"$f":"IF(Nährstoffzufuhr!H169=\"\",\"\",Nährstoffzufuhr!H169)","v":"K2O"},{"$f":"IF(Nährstoffzufuhr!I169=\"\",\"\",Nährstoffzufuhr!I169)","v":"MgO"},{"$f":"IF(Nährstoffzufuhr!J169=\"\",\"\",Nährstoffzufuhr!J169)","v":"N"},{"$f":"IF(Nährstoffzufuhr!K169=\"\",\"\",Nährstoffzufuhr!K169)","v":"P2O5"},{"$f":"IF(Nährstoffzufuhr!L169=\"\",\"\",Nährstoffzufuhr!L169)","v":"K2O"},{"$f":"IF(Nährstoffzufuhr!M169=\"\",\"\",Nährstoffzufuhr!M169)","v":"MgO"}]
[{"$f":"IF(Nährstoffzufuhr!A170=\"\",\"\",Nährstoffzufuhr!A170)","v":"Happy Green"},{"$f":"IF(Nährstoffzufuhr!B170=\"\",\"\",Nährstoffzufuhr!B170)","v":""},{"$f":"IF(Nährstoffzufuhr!C170=\"\",\"\",Nährstoffzufuhr!C170)","v":""},{"$f":"IF(Nährstoffzufuhr!D170=\"\",\"\",Nährstoffzufuhr!D170)","v":""},{"$f":"Nährstoffzufuhr!E170","v":0},{"$f":"IF(Nährstoffzufuhr!F170=\"\",\"\",Nährstoffzufuhr!F170)","v":""},{"$f":"IF(Nährstoffzufuhr!G170=\"\",\"\",Nährstoffzufuhr!G170)","v":""},{"$f":"IF(Nährstoffzufuhr!H170=\"\",\"\",Nährstoffzufuhr!H170)","v":""},{"$f":"IF(Nährstoffzufuhr!I170=\"\",\"\",Nährstoffzufuhr!I170)","v":""},{"$f":"IF(Nährstoffzufuhr!J170=\"\",\"\",Nährstoffzufuhr!J170)","v":0},{"$f":"IF(Nährstoffzufuhr!K170=\"\",\"\",Nährstoffzufuhr!K170)","v":0},{"$f":"IF(Nährstoffzufuhr!L170=\"\",\"\",Nährstoffzufuhr!L170)","v":0},{"$f":"IF(Nährstoffzufuhr!M170=\"\",\"\",Nährstoffzufuhr!M170)","v":0}]
[{"$f":"IF(Nährstoffzufuhr!A171=\"\",\"\",Nährstoffzufuhr!A171)","v":"Terralyt Plus"},{"$f":"IF(Nährstoffzufuhr!B171=\"\",\"\",Nährstoffzufuhr!B171)","v":""},{"$f":"IF(Nährstoffzufuhr!C171=\"\",\"\",Nährstoffzufuhr!C171)","v":""},{"$f":"IF(Nährstoffzufuhr!D171=\"\",\"\",Nährstoffzufuhr!D171)","v":""},{"$f":"Nährstoffzufuhr!E171","v":0},{"$f":"IF(Nährstoffzufuhr!F171=\"\",\"\",Nährstoffzufuhr!F171)","v":""},{"$f":"IF(Nährstoffzufuhr!G171=\"\",\"\",Nährstoffzufuhr!G171)","v":""},{"$f":"IF(Nährstoffzufuhr!H171=\"\",\"\",Nährstoffzufuhr!H171)","v":""},{"$f":"IF(Nährstoffzufuhr!I171=\"\",\"\",Nährstoffzufuhr!I171)","v":""},{"$f":"IF(Nährstoffzufuhr!J171=\"\",\"\",Nährstoffzufuhr!J171)","v":0},{"$f":"IF(Nährstoffzufuhr!K171=\"\",\"\",Nährstoffzufuhr!K171)","v":0},{"$f":"IF(Nährstoffzufuhr!L171=\"\",\"\",Nährstoffzufuhr!L171)","v":0},{"$f":"IF(Nährstoffzufuhr!M171=\"\",\"\",Nährstoffzufuhr!M171)","v":0}]
[{"$f":"IF(Nährstoffzufuhr!A172=\"\",\"\",Nährstoffzufuhr!A172)","v":""},{"$f":"IF(Nährstoffzufuhr!B172=\"\",\"\",Nährstoffzufuhr!B172)","v":""},{"$f":"IF(Nährstoffzufuhr!C172=\"\",\"\",Nährstoffzufuhr!C172)","v":""},{"$f":"IF(Nährstoffzufuhr!D172=\"\",\"\",Nährstoffzufuhr!D172)","v":""},{"$f":"Nährstoffzufuhr!E172","v":0},{"$f":"IF(Nährstoffzufuhr!F172=\"\",\"\",Nährstoffzufuhr!F172)","v":""},{"$f":"IF(Nährstoffzufuhr!G172=\"\",\"\",Nährstoffzufuhr!G172)","v":""},{"$f":"IF(Nährstoffzufuhr!H172=\"\",\"\",Nährstoffzufuhr!H172)","v":""},{"$f":"IF(Nährstoffzufuhr!I172=\"\",\"\",Nährstoffzufuhr!I172)","v":""},{"$f":"IF(Nährstoffzufuhr!J172=\"\",\"\",Nährstoffzufuhr!J172)","v":0},{"$f":"IF(Nährstoffzufuhr!K172=\"\",\"\",Nährstoffzufuhr!K172)","v":0},{"$f":"IF(Nährstoffzufuhr!L172=\"\",\"\",Nährstoffzufuhr!L172)","v":0},{"$f":"IF(Nährstoffzufuhr!M172=\"\",\"\",Nährstoffzufuhr!M172)","v":0}]
[{"$f":"IF(Nährstoffzufuhr!A173=\"\",\"\",Nährstoffzufuhr!A173)","v":""},{"$f":"IF(Nährstoffzufuhr!B173=\"\",\"\",Nährstoffzufuhr!B173)","v":""},{"$f":"IF(Nährstoffzufuhr!C173=\"\",\"\",Nährstoffzufuhr!C173)","v":""},{"$f":"IF(Nährstoffzufuhr!D173=\"\",\"\",Nährstoffzufuhr!D173)","v":""},{"$f":"Nährstoffzufuhr!E173","v":0},{"$f":"IF(Nährstoffzufuhr!F173=\"\",\"\",Nährstoffzufuhr!F173)","v":""},{"$f":"IF(Nährstoffzufuhr!G173=\"\",\"\",Nährstoffzufuhr!G173)","v":""},{"$f":"IF(Nährstoffzufuhr!H173=\"\",\"\",Nährstoffzufuhr!H173)","v":""},{"$f":"IF(Nährstoffzufuhr!I173=\"\",\"\",Nährstoffzufuhr!I173)","v":""},{"$f":"IF(Nährstoffzufuhr!J173=\"\",\"\",Nährstoffzufuhr!J173)","v":0},{"$f":"IF(Nährstoffzufuhr!K173=\"\",\"\",Nährstoffzufuhr!K173)","v":0},{"$f":"IF(Nährstoffzufuhr!L173=\"\",\"\",Nährstoffzufuhr!L173)","v":0},{"$f":"IF(Nährstoffzufuhr!M173=\"\",\"\",Nährstoffzufuhr!M173)","v":0},null," "]
[{"$f":"IF(Nährstoffzufuhr!A174=\"\",\"\",Nährstoffzufuhr!A174)","v":""},{"$f":"IF(Nährstoffzufuhr!B174=\"\",\"\",Nährstoffzufuhr!B174)","v":""},{"$f":"IF(Nährstoffzufuhr!C174=\"\",\"\",Nährstoffzufuhr!C174)","v":""},{"$f":"IF(Nährstoffzufuhr!D174=\"\",\"\",Nährstoffzufuhr!D174)","v":""},{"$f":"Nährstoffzufuhr!E174","v":0},{"$f":"IF(Nährstoffzufuhr!F174=\"\",\"\",Nährstoffzufuhr!F174)","v":""},{"$f":"IF(Nährstoffzufuhr!G174=\"\",\"\",Nährstoffzufuhr!G174)","v":""},{"$f":"IF(Nährstoffzufuhr!H174=\"\",\"\",Nährstoffzufuhr!H174)","v":""},{"$f":"IF(Nährstoffzufuhr!I174=\"\",\"\",Nährstoffzufuhr!I174)","v":""},{"$f":"IF(Nährstoffzufuhr!J174=\"\",\"\",Nährstoffzufuhr!J174)","v":0},{"$f":"IF(Nährstoffzufuhr!K174=\"\",\"\",Nährstoffzufuhr!K174)","v":0},{"$f":"IF(Nährstoffzufuhr!L174=\"\",\"\",Nährstoffzufuhr!L174)","v":0},{"$f":"IF(Nährstoffzufuhr!M174=\"\",\"\",Nährstoffzufuhr!M174)","v":0}]
[{"$f":"IF(Nährstoffzufuhr!A175=\"\",\"\",Nährstoffzufuhr!A175)","v":""},{"$f":"IF(Nährstoffzufuhr!B175=\"\",\"\",Nährstoffzufuhr!B175)","v":""},{"$f":"IF(Nährstoffzufuhr!C175=\"\",\"\",Nährstoffzufuhr!C175)","v":""},{"$f":"IF(Nährstoffzufuhr!D175=\"\",\"\",Nährstoffzufuhr!D175)","v":""},{"$f":"Nährstoffzufuhr!E175","v":0},{"$f":"IF(Nährstoffzufuhr!F175=\"\",\"\",Nährstoffzufuhr!F175)","v":""},{"$f":"IF(Nährstoffzufuhr!G175=\"\",\"\",Nährstoffzufuhr!G175)","v":""},{"$f":"IF(Nährstoffzufuhr!H175=\"\",\"\",Nährstoffzufuhr!H175)","v":""},{"$f":"IF(Nährstoffzufuhr!I175=\"\",\"\",Nährstoffzufuhr!I175)","v":""},{"$f":"IF(Nährstoffzufuhr!J175=\"\",\"\",Nährstoffzufuhr!J175)","v":0},{"$f":"IF(Nährstoffzufuhr!K175=\"\",\"\",Nährstoffzufuhr!K175)","v":0},{"$f":"IF(Nährstoffzufuhr!L175=\"\",\"\",Nährstoffzufuhr!L175)","v":0},{"$f":"IF(Nährstoffzufuhr!M175=\"\",\"\",Nährstoffzufuhr!M175)","v":0}]
[{"$f":"IF(Nährstoffzufuhr!A176=\"\",\"\",Nährstoffzufuhr!A176)","v":""},{"$f":"IF(Nährstoffzufuhr!B176=\"\",\"\",Nährstoffzufuhr!B176)","v":""},{"$f":"IF(Nährstoffzufuhr!C176=\"\",\"\",Nährstoffzufuhr!C176)","v":""},{"$f":"IF(Nährstoffzufuhr!D176=\"\",\"\",Nährstoffzufuhr!D176)","v":""},{"$f":"Nährstoffzufuhr!E176","v":0},{"$f":"IF(Nährstoffzufuhr!F176=\"\",\"\",Nährstoffzufuhr!F176)","v":""},{"$f":"IF(Nährstoffzufuhr!G176=\"\",\"\",Nährstoffzufuhr!G176)","v":""},{"$f":"IF(Nährstoffzufuhr!H176=\"\",\"\",Nährstoffzufuhr!H176)","v":""},{"$f":"IF(Nährstoffzufuhr!I176=\"\",\"\",Nährstoffzufuhr!I176)","v":""},{"$f":"IF(Nährstoffzufuhr!J176=\"\",\"\",Nährstoffzufuhr!J176)","v":0},{"$f":"IF(Nährstoffzufuhr!K176=\"\",\"\",Nährstoffzufuhr!K176)","v":0},{"$f":"IF(Nährstoffzufuhr!L176=\"\",\"\",Nährstoffzufuhr!L176)","v":0},{"$f":"IF(Nährstoffzufuhr!M176=\"\",\"\",Nährstoffzufuhr!M176)","v":0}]
[{"$f":"IF(Nährstoffzufuhr!A177=\"\",\"\",Nährstoffzufuhr!A177)","v":"Summe"},{"$f":"IF(Nährstoffzufuhr!B177=\"\",\"\",Nährstoffzufuhr!B177)","v":""},{"$f":"IF(Nährstoffzufuhr!C177=\"\",\"\",Nährstoffzufuhr!C177)","v":""},{"$f":"IF(Nährstoffzufuhr!D177=\"\",\"\",Nährstoffzufuhr!D177)","v":""},{"$f":"IF(Nährstoffzufuhr!E177=\"\",\"\",Nährstoffzufuhr!E177)","v":0},{"$f":"IF(Nährstoffzufuhr!F177=\"\",\"\",Nährstoffzufuhr!F177)","v":""},{"$f":"IF([1]Nährstoffzufuhr!G177=\"\",\"\",[1]Nährstoffzufuhr!G177)","v":0},{"$f":"IF([1]Nährstoffzufuhr!H177=\"\",\"\",[1]Nährstoffzufuhr!H177)","v":0},{"$f":"IF([1]Nährstoffzufuhr!I177=\"\",\"\",[1]Nährstoffzufuhr!I177)","v":0},{"$f":"IF(Nährstoffzufuhr!J177=\"\",\"\",Nährstoffzufuhr!J177)","v":0},{"$f":"IF(Nährstoffzufuhr!K177=\"\",\"\",Nährstoffzufuhr!K177)","v":0},{"$f":"IF(Nährstoffzufuhr!L177=\"\",\"\",Nährstoffzufuhr!L177)","v":0},{"$f":"IF(Nährstoffzufuhr!M177=\"\",\"\",Nährstoffzufuhr!M177)","v":0}]
[{"$f":"IF(Nährstoffzufuhr!A178=\"\",\"\",Nährstoffzufuhr!A178)","v":""},{"$f":"IF(Nährstoffzufuhr!B178=\"\",\"\",Nährstoffzufuhr!B178)","v":""},{"$f":"IF(Nährstoffzufuhr!C178=\"\",\"\",Nährstoffzufuhr!C178)","v":""},{"$f":"IF(Nährstoffzufuhr!D178=\"\",\"\",Nährstoffzufuhr!D178)","v":""},{"$f":"IF(Nährstoffzufuhr!E178=\"\",\"\",Nährstoffzufuhr!E178)","v":""},{"$f":"IF(Nährstoffzufuhr!F178=\"\",\"\",Nährstoffzufuhr!F178)","v":""},{"$f":"IF(Nährstoffzufuhr!G178=\"\",\"\",Nährstoffzufuhr!G178)","v":""},{"$f":"IF(Nährstoffzufuhr!H178=\"\",\"\",Nährstoffzufuhr!H178)","v":""},{"$f":"IF(Nährstoffzufuhr!I178=\"\",\"\",Nährstoffzufuhr!I178)","v":""},{"$f":"IF(Nährstoffzufuhr!J178=\"\",\"\",Nährstoffzufuhr!J178)","v":""},{"$f":"IF(Nährstoffzufuhr!K178=\"\",\"\",Nährstoffzufuhr!K178)","v":""},{"$f":"IF(Nährstoffzufuhr!L178=\"\",\"\",Nährstoffzufuhr!L178)","v":""},{"$f":"IF(Nährstoffzufuhr!M178=\"\",\"\",Nährstoffzufuhr!M178)","v":""}]
[{"$f":"IF(Nährstoffzufuhr!A179=\"\",\"\",Nährstoffzufuhr!A179)","v":"Kultursubstrate"},{"$f":"IF(Nährstoffzufuhr!B179=\"\",\"\",Nährstoffzufuhr!B179)","v":""},{"$f":"IF(Nährstoffzufuhr!C179=\"\",\"\",Nährstoffzufuhr!C179)","v":""},{"$f":"IF(Nährstoffzufuhr!D179=\"\",\"\",Nährstoffzufuhr!D179)","v":""},{"$f":"IF(Nährstoffzufuhr!E179=\"\",\"\",Nährstoffzufuhr!E179)","v":"Menge"},{"$f":"IF(Nährstoffzufuhr!F179=\"\",\"\",Nährstoffzufuhr!F179)","v":"Nährstoffgehalt %, kg/dt"},{"$f":"IF([1]Nährstoffzufuhr!G179=\"\",\"\",[1]Nährstoffzufuhr!G179)","v":0},{"$f":"IF([1]Nährstoffzufuhr!H179=\"\",\"\",[1]Nährstoffzufuhr!H179)","v":0},{"$f":"IF([1]Nährstoffzufuhr!I179=\"\",\"\",[1]Nährstoffzufuhr!I179)","v":0},{"$f":"IF(Nährstoffzufuhr!J179=\"\",\"\",Nährstoffzufuhr!J179)","v":"Nährstoffe kg"},{"$f":"IF([1]Nährstoffzufuhr!K179=\"\",\"\",[1]Nährstoffzufuhr!K179)","v":0},{"$f":"IF([1]Nährstoffzufuhr!L179=\"\",\"\",[1]Nährstoffzufuhr!L179)","v":0},{"$f":"IF([1]Nährstoffzufuhr!M179=\"\",\"\",[1]Nährstoffzufuhr!M179)","v":0}]
[null,{"$f":"IF(Nährstoffzufuhr!B180=\"\",\"\",Nährstoffzufuhr!B180)","v":""},{"$f":"IF(Nährstoffzufuhr!C180=\"\",\"\",Nährstoffzufuhr!C180)","v":""},{"$f":"IF(Nährstoffzufuhr!D180=\"\",\"\",Nährstoffzufuhr!D180)","v":""},{"$f":"IF(Nährstoffzufuhr!E180=\"\",\"\",Nährstoffzufuhr!E180)","v":"dt"},{"$f":"IF(Nährstoffzufuhr!F180=\"\",\"\",Nährstoffzufuhr!F180)","v":"N"},{"$f":"IF(Nährstoffzufuhr!G180=\"\",\"\",Nährstoffzufuhr!G180)","v":"P2O5"},{"$f":"IF(Nährstoffzufuhr!H180=\"\",\"\",Nährstoffzufuhr!H180)","v":"K2O"},{"$f":"IF(Nährstoffzufuhr!I180=\"\",\"\",Nährstoffzufuhr!I180)","v":"MgO"},{"$f":"IF(Nährstoffzufuhr!J180=\"\",\"\",Nährstoffzufuhr!J180)","v":"N"},{"$f":"IF(Nährstoffzufuhr!K180=\"\",\"\",Nährstoffzufuhr!K180)","v":"P2O5"},{"$f":"IF(Nährstoffzufuhr!L180=\"\",\"\",Nährstoffzufuhr!L180)","v":"K2O"},{"$f":"IF(Nährstoffzufuhr!M180=\"\",\"\",Nährstoffzufuhr!M180)","v":"MgO"}]
[{"$f":"IF(Nährstoffzufuhr!A181=\"\",\"\",Nährstoffzufuhr!A181)","v":"Derzeit keine veröffentlichten Daten vorhanden"},{"$f":"IF(Nährstoffzufuhr!B181=\"\",\"\",Nährstoffzufuhr!B181)","v":""},{"$f":"IF(Nährstoffzufuhr!C181=\"\",\"\",Nährstoffzufuhr!C181)","v":""},{"$f":"IF(Nährstoffzufuhr!D181=\"\",\"\",Nährstoffzufuhr!D181)","v":""},{"$f":"Nährstoffzufuhr!E181","v":0},{"$f":"IF(Nährstoffzufuhr!F181=\"\",\"\",Nährstoffzufuhr!F181)","v":""},{"$f":"IF(Nährstoffzufuhr!G181=\"\",\"\",Nährstoffzufuhr!G181)","v":""},{"$f":"IF(Nährstoffzufuhr!H181=\"\",\"\",Nährstoffzufuhr!H181)","v":""},{"$f":"IF(Nährstoffzufuhr!I181=\"\",\"\",Nährstoffzufuhr!I181)","v":""},{"$f":"IF(Nährstoffzufuhr!J181=\"\",\"\",Nährstoffzufuhr!J181)","v":0},{"$f":"IF(Nährstoffzufuhr!K181=\"\",\"\",Nährstoffzufuhr!K181)","v":0},{"$f":"IF(Nährstoffzufuhr!L181=\"\",\"\",Nährstoffzufuhr!L181)","v":0},{"$f":"IF(Nährstoffzufuhr!M181=\"\",\"\",Nährstoffzufuhr!M181)","v":0}]
[{"$f":"IF(Nährstoffzufuhr!A182=\"\",\"\",Nährstoffzufuhr!A182)","v":""},{"$f":"IF(Nährstoffzufuhr!B182=\"\",\"\",Nährstoffzufuhr!B182)","v":""},{"$f":"IF(Nährstoffzufuhr!C182=\"\",\"\",Nährstoffzufuhr!C182)","v":""},{"$f":"IF(Nährstoffzufuhr!D182=\"\",\"\",Nährstoffzufuhr!D182)","v":""},{"$f":"Nährstoffzufuhr!E182","v":0},{"$f":"IF(Nährstoffzufuhr!F182=\"\",\"\",Nährstoffzufuhr!F182)","v":""},{"$f":"IF(Nährstoffzufuhr!G182=\"\",\"\",Nährstoffzufuhr!G182)","v":""},{"$f":"IF(Nährstoffzufuhr!H182=\"\",\"\",Nährstoffzufuhr!H182)","v":""},{"$f":"IF(Nährstoffzufuhr!I182=\"\",\"\",Nährstoffzufuhr!I182)","v":""},{"$f":"IF(Nährstoffzufuhr!J182=\"\",\"\",Nährstoffzufuhr!J182)","v":0},{"$f":"IF(Nährstoffzufuhr!K182=\"\",\"\",Nährstoffzufuhr!K182)","v":0},{"$f":"IF(Nährstoffzufuhr!L182=\"\",\"\",Nährstoffzufuhr!L182)","v":0},{"$f":"IF(Nährstoffzufuhr!M182=\"\",\"\",Nährstoffzufuhr!M182)","v":0}]
[{"$f":"IF(Nährstoffzufuhr!A183=\"\",\"\",Nährstoffzufuhr!A183)","v":""},{"$f":"IF(Nährstoffzufuhr!B183=\"\",\"\",Nährstoffzufuhr!B183)","v":""},{"$f":"IF(Nährstoffzufuhr!C183=\"\",\"\",Nährstoffzufuhr!C183)","v":""},{"$f":"IF(Nährstoffzufuhr!D183=\"\",\"\",Nährstoffzufuhr!D183)","v":""},{"$f":"Nährstoffzufuhr!E183","v":0},{"$f":"IF(Nährstoffzufuhr!F183=\"\",\"\",Nährstoffzufuhr!F183)","v":""},{"$f":"IF(Nährstoffzufuhr!G183=\"\",\"\",Nährstoffzufuhr!G183)","v":""},{"$f":"IF(Nährstoffzufuhr!H183=\"\",\"\",Nährstoffzufuhr!H183)","v":""},{"$f":"IF(Nährstoffzufuhr!I183=\"\",\"\",Nährstoffzufuhr!I183)","v":""},{"$f":"IF(Nährstoffzufuhr!J183=\"\",\"\",Nährstoffzufuhr!J183)","v":0},{"$f":"IF(Nährstoffzufuhr!K183=\"\",\"\",Nährstoffzufuhr!K183)","v":0},{"$f":"IF(Nährstoffzufuhr!L183=\"\",\"\",Nährstoffzufuhr!L183)","v":0},{"$f":"IF(Nährstoffzufuhr!M183=\"\",\"\",Nährstoffzufuhr!M183)","v":0}]
[{"$f":"IF(Nährstoffzufuhr!A184=\"\",\"\",Nährstoffzufuhr!A184)","v":""},{"$f":"IF(Nährstoffzufuhr!B184=\"\",\"\",Nährstoffzufuhr!B184)","v":""},{"$f":"IF(Nährstoffzufuhr!C184=\"\",\"\",Nährstoffzufuhr!C184)","v":""},{"$f":"IF(Nährstoffzufuhr!D184=\"\",\"\",Nährstoffzufuhr!D184)","v":""},{"$f":"Nährstoffzufuhr!E184","v":0},{"$f":"IF(Nährstoffzufuhr!F184=\"\",\"\",Nährstoffzufuhr!F184)","v":""},{"$f":"IF(Nährstoffzufuhr!G184=\"\",\"\",Nährstoffzufuhr!G184)","v":""},{"$f":"IF(Nährstoffzufuhr!H184=\"\",\"\",Nährstoffzufuhr!H184)","v":""},{"$f":"IF(Nährstoffzufuhr!I184=\"\",\"\",Nährstoffzufuhr!I184)","v":""},{"$f":"IF(Nährstoffzufuhr!J184=\"\",\"\",Nährstoffzufuhr!J184)","v":0},{"$f":"IF(Nährstoffzufuhr!K184=\"\",\"\",Nährstoffzufuhr!K184)","v":0},{"$f":"IF(Nährstoffzufuhr!L184=\"\",\"\",Nährstoffzufuhr!L184)","v":0},{"$f":"IF(Nährstoffzufuhr!M184=\"\",\"\",Nährstoffzufuhr!M184)","v":0}]
[{"$f":"IF(Nährstoffzufuhr!A185=\"\",\"\",Nährstoffzufuhr!A185)","v":""},{"$f":"IF(Nährstoffzufuhr!B185=\"\",\"\",Nährstoffzufuhr!B185)","v":""},{"$f":"IF(Nährstoffzufuhr!C185=\"\",\"\",Nährstoffzufuhr!C185)","v":""},{"$f":"IF(Nährstoffzufuhr!D185=\"\",\"\",Nährstoffzufuhr!D185)","v":""},{"$f":"Nährstoffzufuhr!E185","v":0},{"$f":"IF(Nährstoffzufuhr!F185=\"\",\"\",Nährstoffzufuhr!F185)","v":""},{"$f":"IF(Nährstoffzufuhr!G185=\"\",\"\",Nährstoffzufuhr!G185)","v":""},{"$f":"IF(Nährstoffzufuhr!H185=\"\",\"\",Nährstoffzufuhr!H185)","v":""},{"$f":"IF(Nährstoffzufuhr!I185=\"\",\"\",Nährstoffzufuhr!I185)","v":""},{"$f":"IF(Nährstoffzufuhr!J185=\"\",\"\",Nährstoffzufuhr!J185)","v":0},{"$f":"IF(Nährstoffzufuhr!K185=\"\",\"\",Nährstoffzufuhr!K185)","v":0},{"$f":"IF(Nährstoffzufuhr!L185=\"\",\"\",Nährstoffzufuhr!L185)","v":0},{"$f":"IF(Nährstoffzufuhr!M185=\"\",\"\",Nährstoffzufuhr!M185)","v":0}]
[{"$f":"IF(Nährstoffzufuhr!A186=\"\",\"\",Nährstoffzufuhr!A186)","v":""},{"$f":"IF(Nährstoffzufuhr!B186=\"\",\"\",Nährstoffzufuhr!B186)","v":""},{"$f":"IF(Nährstoffzufuhr!C186=\"\",\"\",Nährstoffzufuhr!C186)","v":""},{"$f":"IF(Nährstoffzufuhr!D186=\"\",\"\",Nährstoffzufuhr!D186)","v":""},{"$f":"Nährstoffzufuhr!E186","v":0},{"$f":"IF(Nährstoffzufuhr!F186=\"\",\"\",Nährstoffzufuhr!F186)","v":""},{"$f":"IF(Nährstoffzufuhr!G186=\"\",\"\",Nährstoffzufuhr!G186)","v":""},{"$f":"IF(Nährstoffzufuhr!H186=\"\",\"\",Nährstoffzufuhr!H186)","v":""},{"$f":"IF(Nährstoffzufuhr!I186=\"\",\"\",Nährstoffzufuhr!I186)","v":""},{"$f":"IF(Nährstoffzufuhr!J186=\"\",\"\",Nährstoffzufuhr!J186)","v":0},{"$f":"IF(Nährstoffzufuhr!K186=\"\",\"\",Nährstoffzufuhr!K186)","v":0},{"$f":"IF(Nährstoffzufuhr!L186=\"\",\"\",Nährstoffzufuhr!L186)","v":0},{"$f":"IF(Nährstoffzufuhr!M186=\"\",\"\",Nährstoffzufuhr!M186)","v":0}]
[{"$f":"IF(Nährstoffzufuhr!A187=\"\",\"\",Nährstoffzufuhr!A187)","v":""},{"$f":"IF(Nährstoffzufuhr!B187=\"\",\"\",Nährstoffzufuhr!B187)","v":""},{"$f":"IF(Nährstoffzufuhr!C187=\"\",\"\",Nährstoffzufuhr!C187)","v":""},{"$f":"IF(Nährstoffzufuhr!D187=\"\",\"\",Nährstoffzufuhr!D187)","v":""},{"$f":"Nährstoffzufuhr!E187","v":0},{"$f":"IF(Nährstoffzufuhr!F187=\"\",\"\",Nährstoffzufuhr!F187)","v":""},{"$f":"IF(Nährstoffzufuhr!G187=\"\",\"\",Nährstoffzufuhr!G187)","v":""},{"$f":"IF(Nährstoffzufuhr!H187=\"\",\"\",Nährstoffzufuhr!H187)","v":""},{"$f":"IF(Nährstoffzufuhr!I187=\"\",\"\",Nährstoffzufuhr!I187)","v":""},{"$f":"IF(Nährstoffzufuhr!J187=\"\",\"\",Nährstoffzufuhr!J187)","v":0},{"$f":"IF(Nährstoffzufuhr!K187=\"\",\"\",Nährstoffzufuhr!K187)","v":0},{"$f":"IF(Nährstoffzufuhr!L187=\"\",\"\",Nährstoffzufuhr!L187)","v":0},{"$f":"IF(Nährstoffzufuhr!M187=\"\",\"\",Nährstoffzufuhr!M187)","v":0}]
[{"$f":"IF(Nährstoffzufuhr!A188=\"\",\"\",Nährstoffzufuhr!A188)","v":"Summe"},{"$f":"IF(Nährstoffzufuhr!B188=\"\",\"\",Nährstoffzufuhr!B188)","v":""},{"$f":"IF(Nährstoffzufuhr!C188=\"\",\"\",Nährstoffzufuhr!C188)","v":""},{"$f":"IF(Nährstoffzufuhr!D188=\"\",\"\",Nährstoffzufuhr!D188)","v":""},{"$f":"IF(Nährstoffzufuhr!E188=\"\",\"\",Nährstoffzufuhr!E188)","v":0},{"$f":"IF(Nährstoffzufuhr!F188=\"\",\"\",Nährstoffzufuhr!F188)","v":""},{"$f":"IF([1]Nährstoffzufuhr!G188=\"\",\"\",[1]Nährstoffzufuhr!G188)","v":0},{"$f":"IF([1]Nährstoffzufuhr!H188=\"\",\"\",[1]Nährstoffzufuhr!H188)","v":0},{"$f":"IF([1]Nährstoffzufuhr!I188=\"\",\"\",[1]Nährstoffzufuhr!I188)","v":0},{"$f":"IF(Nährstoffzufuhr!J188=\"\",\"\",Nährstoffzufuhr!J188)","v":0},{"$f":"IF(Nährstoffzufuhr!K188=\"\",\"\",Nährstoffzufuhr!K188)","v":0},{"$f":"IF(Nährstoffzufuhr!L188=\"\",\"\",Nährstoffzufuhr!L188)","v":0},{"$f":"IF(Nährstoffzufuhr!M188=\"\",\"\",Nährstoffzufuhr!M188)","v":0}]
[{"$f":"IF(Nährstoffzufuhr!A189=\"\",\"\",Nährstoffzufuhr!A189)","v":""},{"$f":"IF(Nährstoffzufuhr!B189=\"\",\"\",Nährstoffzufuhr!B189)","v":""},{"$f":"IF(Nährstoffzufuhr!C189=\"\",\"\",Nährstoffzufuhr!C189)","v":""},{"$f":"IF(Nährstoffzufuhr!D189=\"\",\"\",Nährstoffzufuhr!D189)","v":""},{"$f":"IF(Nährstoffzufuhr!E189=\"\",\"\",Nährstoffzufuhr!E189)","v":""},{"$f":"IF(Nährstoffzufuhr!F189=\"\",\"\",Nährstoffzufuhr!F189)","v":""},{"$f":"IF(Nährstoffzufuhr!G189=\"\",\"\",Nährstoffzufuhr!G189)","v":""},{"$f":"IF(Nährstoffzufuhr!H189=\"\",\"\",Nährstoffzufuhr!H189)","v":""},{"$f":"IF(Nährstoffzufuhr!I189=\"\",\"\",Nährstoffzufuhr!I189)","v":""},{"$f":"IF(Nährstoffzufuhr!J189=\"\",\"\",Nährstoffzufuhr!J189)","v":""},{"$f":"IF(Nährstoffzufuhr!K189=\"\",\"\",Nährstoffzufuhr!K189)","v":""},{"$f":"IF(Nährstoffzufuhr!L189=\"\",\"\",Nährstoffzufuhr!L189)","v":""},{"$f":"IF(Nährstoffzufuhr!M189=\"\",\"\",Nährstoffzufuhr!M189)","v":""}]
[{"$f":"IF(Nährstoffzufuhr!A190=\"\",\"\",Nährstoffzufuhr!A190)","v":"Saatgut, Pflanzgut, Vermehrungsmaterial"},{"$f":"IF(Nährstoffzufuhr!B190=\"\",\"\",Nährstoffzufuhr!B190)","v":""},{"$f":"IF(Nährstoffzufuhr!C190=\"\",\"\",Nährstoffzufuhr!C190)","v":""},{"$f":"IF(Nährstoffzufuhr!D190=\"\",\"\",Nährstoffzufuhr!D190)","v":""},{"$f":"IF(Nährstoffzufuhr!E190=\"\",\"\",Nährstoffzufuhr!E190)","v":"Menge"},{"$f":"IF(Nährstoffzufuhr!F190=\"\",\"\",Nährstoffzufuhr!F190)","v":"Nährstoffgehalt %, kg/dt"},{"$f":"IF([1]Nährstoffzufuhr!G190=\"\",\"\",[1]Nährstoffzufuhr!G190)","v":0},{"$f":"IF([1]Nährstoffzufuhr!H190=\"\",\"\",[1]Nährstoffzufuhr!H190)","v":0},{"$f":"IF([1]Nährstoffzufuhr!I190=\"\",\"\",[1]Nährstoffzufuhr!I190)","v":0},{"$f":"IF(Nährstoffzufuhr!J190=\"\",\"\",Nährstoffzufuhr!J190)","v":"Nährstoffe kg"},{"$f":"IF([1]Nährstoffzufuhr!K190=\"\",\"\",[1]Nährstoffzufuhr!K190)","v":0},{"$f":"IF([1]Nährstoffzufuhr!L190=\"\",\"\",[1]Nährstoffzufuhr!L190)","v":0},{"$f":"IF([1]Nährstoffzufuhr!M190=\"\",\"\",[1]Nährstoffzufuhr!M190)","v":0}]
[null,{"$f":"IF(Nährstoffzufuhr!B191=\"\",\"\",Nährstoffzufuhr!B191)","v":""},{"$f":"IF(Nährstoffzufuhr!C191=\"\",\"\",Nährstoffzufuhr!C191)","v":"Vorschlag  dt/ha"},{"$f":"IF(Nährstoffzufuhr!D191=\"\",\"\",Nährstoffzufuhr!D191)","v":""},{"$f":"IF(Nährstoffzufuhr!E191=\"\",\"\",Nährstoffzufuhr!E191)","v":"dt"},{"$f":"IF(Nährstoffzufuhr!F191=\"\",\"\",Nährstoffzufuhr!F191)","v":"N"},{"$f":"IF(Nährstoffzufuhr!G191=\"\",\"\",Nährstoffzufuhr!G191)","v":"P2O5"},{"$f":"IF(Nährstoffzufuhr!H191=\"\",\"\",Nährstoffzufuhr!H191)","v":"K2O"},{"$f":"IF(Nährstoffzufuhr!I191=\"\",\"\",Nährstoffzufuhr!I191)","v":"MgO"},{"$f":"IF(Nährstoffzufuhr!J191=\"\",\"\",Nährstoffzufuhr!J191)","v":"N"},{"$f":"IF(Nährstoffzufuhr!K191=\"\",\"\",Nährstoffzufuhr!K191)","v":"P2O5"},{"$f":"IF(Nährstoffzufuhr!L191=\"\",\"\",Nährstoffzufuhr!L191)","v":"K2O"},{"$f":"IF(Nährstoffzufuhr!M191=\"\",\"\",Nährstoffzufuhr!M191)","v":"MgO"}]
[{"$f":"IF(Nährstoffzufuhr!A192=\"\",\"\",Nährstoffzufuhr!A192)","v":"Getreide"},{"$f":"IF(Nährstoffzufuhr!B192=\"\",\"\",Nährstoffzufuhr!B192)","v":""},{"$f":"IF(Nährstoffzufuhr!C192=\"\",\"\",Nährstoffzufuhr!C192)","v":1.8},{"$f":"IF(Nährstoffzufuhr!D192=\"\",\"\",Nährstoffzufuhr!D192)","v":""},{"$f":"Nährstoffzufuhr!E192","v":0},{"$f":"IF(Nährstoffzufuhr!F192=\"\",\"\",Nährstoffzufuhr!F192)","v":1.8},{"$f":"IF(Nährstoffzufuhr!G192=\"\",\"\",Nährstoffzufuhr!G192)","v":0.8},{"$f":"IF(Nährstoffzufuhr!H192=\"\",\"\",Nährstoffzufuhr!H192)","v":0.6},{"$f":"IF(Nährstoffzufuhr!I192=\"\",\"\",Nährstoffzufuhr!I192)","v":0.2},{"$f":"IF(Nährstoffzufuhr!J192=\"\",\"\",Nährstoffzufuhr!J192)","v":0},{"$f":"IF(Nährstoffzufuhr!K192=\"\",\"\",Nährstoffzufuhr!K192)","v":0},{"$f":"IF(Nährstoffzufuhr!L192=\"\",\"\",Nährstoffzufuhr!L192)","v":0},{"$f":"IF(Nährstoffzufuhr!M192=\"\",\"\",Nährstoffzufuhr!M192)","v":0}]
[{"$f":"IF(Nährstoffzufuhr!A193=\"\",\"\",Nährstoffzufuhr!A193)","v":"Mais"},{"$f":"IF(Nährstoffzufuhr!B193=\"\",\"\",Nährstoffzufuhr!B193)","v":""},{"$f":"IF(Nährstoffzufuhr!C193=\"\",\"\",Nährstoffzufuhr!C193)","v":0.3},{"$f":"IF(Nährstoffzufuhr!D193=\"\",\"\",Nährstoffzufuhr!D193)","v":""},{"$f":"Nährstoffzufuhr!E193","v":0},{"$f":"IF(Nährstoffzufuhr!F193=\"\",\"\",Nährstoffzufuhr!F193)","v":1.4},{"$f":"IF(Nährstoffzufuhr!G193=\"\",\"\",Nährstoffzufuhr!G193)","v":0.8},{"$f":"IF(Nährstoffzufuhr!H193=\"\",\"\",Nährstoffzufuhr!H193)","v":0.5},{"$f":"IF(Nährstoffzufuhr!I193=\"\",\"\",Nährstoffzufuhr!I193)","v":0.2},{"$f":"IF(Nährstoffzufuhr!J193=\"\",\"\",Nährstoffzufuhr!J193)","v":0},{"$f":"IF(Nährstoffzufuhr!K193=\"\",\"\",Nährstoffzufuhr!K193)","v":0},{"$f":"IF(Nährstoffzufuhr!L193=\"\",\"\",Nährstoffzufuhr!L193)","v":0},{"$f":"IF(Nährstoffzufuhr!M193=\"\",\"\",Nährstoffzufuhr!M193)","v":0}]
[{"$f":"IF(Nährstoffzufuhr!A194=\"\",\"\",Nährstoffzufuhr!A194)","v":"Ackerbohnen"},{"$f":"IF(Nährstoffzufuhr!B194=\"\",\"\",Nährstoffzufuhr!B194)","v":""},{"$f":"IF(Nährstoffzufuhr!C194=\"\",\"\",Nährstoffzufuhr!C194)","v":1.8},{"$f":"IF(Nährstoffzufuhr!D194=\"\",\"\",Nährstoffzufuhr!D194)","v":""},{"$f":"Nährstoffzufuhr!E194","v":0},{"$f":"IF(Nährstoffzufuhr!F194=\"\",\"\",Nährstoffzufuhr!F194)","v":4.0999999999999996},{"$f":"IF(Nährstoffzufuhr!G194=\"\",\"\",Nährstoffzufuhr!G194)","v":1.2},{"$f":"IF(Nährstoffzufuhr!H194=\"\",\"\",Nährstoffzufuhr!H194)","v":1.4},{"$f":"IF(Nährstoffzufuhr!I194=\"\",\"\",Nährstoffzufuhr!I194)","v":0.2},{"$f":"IF(Nährstoffzufuhr!J194=\"\",\"\",Nährstoffzufuhr!J194)","v":0},{"$f":"IF(Nährstoffzufuhr!K194=\"\",\"\",Nährstoffzufuhr!K194)","v":0},{"$f":"IF(Nährstoffzufuhr!L194=\"\",\"\",Nährstoffzufuhr!L194)","v":0},{"$f":"IF(Nährstoffzufuhr!M194=\"\",\"\",Nährstoffzufuhr!M194)","v":0}]
[{"$f":"IF(Nährstoffzufuhr!A195=\"\",\"\",Nährstoffzufuhr!A195)","v":"Erbsen"},{"$f":"IF(Nährstoffzufuhr!B195=\"\",\"\",Nährstoffzufuhr!B195)","v":""},{"$f":"IF(Nährstoffzufuhr!C195=\"\",\"\",Nährstoffzufuhr!C195)","v":1.6},{"$f":"IF(Nährstoffzufuhr!D195=\"\",\"\",Nährstoffzufuhr!D195)","v":""},{"$f":"Nährstoffzufuhr!E195","v":0},{"$f":"IF(Nährstoffzufuhr!F195=\"\",\"\",Nährstoffzufuhr!F195)","v":3.6},{"$f":"IF(Nährstoffzufuhr!G195=\"\",\"\",Nährstoffzufuhr!G195)","v":1.1000000000000001},{"$f":"IF(Nährstoffzufuhr!H195=\"\",\"\",Nährstoffzufuhr!H195)","v":1.4},{"$f":"IF(Nährstoffzufuhr!I195=\"\",\"\",Nährstoffzufuhr!I195)","v":0.2},{"$f":"IF(Nährstoffzufuhr!J195=\"\",\"\",Nährstoffzufuhr!J195)","v":0},{"$f":"IF(Nährstoffzufuhr!K195=\"\",\"\",Nährstoffzufuhr!K195)","v":0},{"$f":"IF(Nährstoffzufuhr!L195=\"\",\"\",Nährstoffzufuhr!L195)","v":0},{"$f":"IF(Nährstoffzufuhr!M195=\"\",\"\",Nährstoffzufuhr!M195)","v":0}]
[{"$f":"IF(Nährstoffzufuhr!A196=\"\",\"\",Nährstoffzufuhr!A196)","v":"Sojabohnen"},{"$f":"IF(Nährstoffzufuhr!B196=\"\",\"\",Nährstoffzufuhr!B196)","v":""},{"$f":"IF(Nährstoffzufuhr!C196=\"\",\"\",Nährstoffzufuhr!C196)","v":1},{"$f":"IF(Nährstoffzufuhr!D196=\"\",\"\",Nährstoffzufuhr!D196)","v":""},{"$f":"Nährstoffzufuhr!E196","v":0},{"$f":"IF(Nährstoffzufuhr!F196=\"\",\"\",Nährstoffzufuhr!F196)","v":4.4000000000000004},{"$f":"IF(Nährstoffzufuhr!G196=\"\",\"\",Nährstoffzufuhr!G196)","v":1.5},{"$f":"IF(Nährstoffzufuhr!H196=\"\",\"\",Nährstoffzufuhr!H196)","v":1.94},{"$f":"IF(Nährstoffzufuhr!I196=\"\",\"\",Nährstoffzufuhr!I196)","v":0.33},{"$f":"IF(Nährstoffzufuhr!J196=\"\",\"\",Nährstoffzufuhr!J196)","v":0},{"$f":"IF(Nährstoffzufuhr!K196=\"\",\"\",Nährstoffzufuhr!K196)","v":0},{"$f":"IF(Nährstoffzufuhr!L196=\"\",\"\",Nährstoffzufuhr!L196)","v":0},{"$f":"IF(Nährstoffzufuhr!M196=\"\",\"\",Nährstoffzufuhr!M196)","v":0}]
[{"$f":"IF(Nährstoffzufuhr!A197=\"\",\"\",Nährstoffzufuhr!A197)","v":"Lupinen blau"},{"$f":"IF(Nährstoffzufuhr!B197=\"\",\"\",Nährstoffzufuhr!B197)","v":""},{"$f":"IF(Nährstoffzufuhr!C197=\"\",\"\",Nährstoffzufuhr!C197)","v":1.5},{"$f":"IF(Nährstoffzufuhr!D197=\"\",\"\",Nährstoffzufuhr!D197)","v":""},{"$f":"Nährstoffzufuhr!E197","v":0},{"$f":"IF(Nährstoffzufuhr!F197=\"\",\"\",Nährstoffzufuhr!F197)","v":4.4800000000000004},{"$f":"IF(Nährstoffzufuhr!G197=\"\",\"\",Nährstoffzufuhr!G197)","v":1.02},{"$f":"IF(Nährstoffzufuhr!H197=\"\",\"\",Nährstoffzufuhr!H197)","v":0.99},{"$f":"IF(Nährstoffzufuhr!I197=\"\",\"\",Nährstoffzufuhr!I197)","v":0.2},{"$f":"IF(Nährstoffzufuhr!J197=\"\",\"\",Nährstoffzufuhr!J197)","v":0},{"$f":"IF(Nährstoffzufuhr!K197=\"\",\"\",Nährstoffzufuhr!K197)","v":0},{"$f":"IF(Nährstoffzufuhr!L197=\"\",\"\",Nährstoffzufuhr!L197)","v":0},{"$f":"IF(Nährstoffzufuhr!M197=\"\",\"\",Nährstoffzufuhr!M197)","v":0}]
[{"$f":"IF(Nährstoffzufuhr!A198=\"\",\"\",Nährstoffzufuhr!A198)","v":"Kartoffeln"},{"$f":"IF(Nährstoffzufuhr!B198=\"\",\"\",Nährstoffzufuhr!B198)","v":""},{"$f":"IF(Nährstoffzufuhr!C198=\"\",\"\",Nährstoffzufuhr!C198)","v":25},{"$f":"IF(Nährstoffzufuhr!D198=\"\",\"\",Nährstoffzufuhr!D198)","v":""},{"$f":"Nährstoffzufuhr!E198","v":0},{"$f":"IF(Nährstoffzufuhr!F198=\"\",\"\",Nährstoffzufuhr!F198)","v":0.35},{"$f":"IF(Nährstoffzufuhr!G198=\"\",\"\",Nährstoffzufuhr!G198)","v":0.14000000000000001},{"$f":"IF(Nährstoffzufuhr!H198=\"\",\"\",Nährstoffzufuhr!H198)","v":0.6},{"$f":"IF(Nährstoffzufuhr!I198=\"\",\"\",Nährstoffzufuhr!I198)","v":0.04},{"$f":"IF(Nährstoffzufuhr!J198=\"\",\"\",Nährstoffzufuhr!J198)","v":0},{"$f":"IF(Nährstoffzufuhr!K198=\"\",\"\",Nährstoffzufuhr!K198)","v":0},{"$f":"IF(Nährstoffzufuhr!L198=\"\",\"\",Nährstoffzufuhr!L198)","v":0},{"$f":"IF(Nährstoffzufuhr!M198=\"\",\"\",Nährstoffzufuhr!M198)","v":0}]
[{"$f":"IF(Nährstoffzufuhr!A199=\"\",\"\",Nährstoffzufuhr!A199)","v":"Summe"},{"$f":"IF(Nährstoffzufuhr!B199=\"\",\"\",Nährstoffzufuhr!B199)","v":""},{"$f":"IF(Nährstoffzufuhr!C199=\"\",\"\",Nährstoffzufuhr!C199)","v":""},{"$f":"IF(Nährstoffzufuhr!D199=\"\",\"\",Nährstoffzufuhr!D199)","v":""},{"$f":"IF(Nährstoffzufuhr!E199=\"\",\"\",Nährstoffzufuhr!E199)","v":0},{"$f":"IF(Nährstoffzufuhr!F199=\"\",\"\",Nährstoffzufuhr!F199)","v":""},{"$f":"IF([1]Nährstoffzufuhr!G199=\"\",\"\",[1]Nährstoffzufuhr!G199)","v":0},{"$f":"IF([1]Nährstoffzufuhr!H199=\"\",\"\",[1]Nährstoffzufuhr!H199)","v":0},{"$f":"IF([1]Nährstoffzufuhr!I199=\"\",\"\",[1]Nährstoffzufuhr!I199)","v":0},{"$f":"IF(Nährstoffzufuhr!J199=\"\",\"\",Nährstoffzufuhr!J199)","v":0},{"$f":"IF(Nährstoffzufuhr!K199=\"\",\"\",Nährstoffzufuhr!K199)","v":0},{"$f":"IF(Nährstoffzufuhr!L199=\"\",\"\",Nährstoffzufuhr!L199)","v":0},{"$f":"IF(Nährstoffzufuhr!M199=\"\",\"\",Nährstoffzufuhr!M199)","v":0}]
[{"$f":"IF(Nährstoffzufuhr!A200=\"\",\"\",Nährstoffzufuhr!A200)","v":""},{"$f":"IF(Nährstoffzufuhr!B200=\"\",\"\",Nährstoffzufuhr!B200)","v":""},{"$f":"IF(Nährstoffzufuhr!C200=\"\",\"\",Nährstoffzufuhr!C200)","v":""},{"$f":"IF(Nährstoffzufuhr!D200=\"\",\"\",Nährstoffzufuhr!D200)","v":""},{"$f":"IF(Nährstoffzufuhr!E200=\"\",\"\",Nährstoffzufuhr!E200)","v":""},{"$f":"IF(Nährstoffzufuhr!F200=\"\",\"\",Nährstoffzufuhr!F200)","v":""},{"$f":"IF(Nährstoffzufuhr!G200=\"\",\"\",Nährstoffzufuhr!G200)","v":""},{"$f":"IF(Nährstoffzufuhr!H200=\"\",\"\",Nährstoffzufuhr!H200)","v":""},{"$f":"IF(Nährstoffzufuhr!I200=\"\",\"\",Nährstoffzufuhr!I200)","v":""},{"$f":"IF(Nährstoffzufuhr!J200=\"\",\"\",Nährstoffzufuhr!J200)","v":""},{"$f":"IF(Nährstoffzufuhr!K200=\"\",\"\",Nährstoffzufuhr!K200)","v":""},{"$f":"IF(Nährstoffzufuhr!L200=\"\",\"\",Nährstoffzufuhr!L200)","v":""},{"$f":"IF(Nährstoffzufuhr!M200=\"\",\"\",Nährstoffzufuhr!M200)","v":""}]
[{"$f":"IF(Nährstoffzufuhr!A201=\"\",\"\",Nährstoffzufuhr!A201)","v":"N-Bindung Leguminosen"},{"$f":"IF(Nährstoffzufuhr!B201=\"\",\"\",Nährstoffzufuhr!B201)","v":""},{"$f":"IF(Nährstoffzufuhr!C201=\"\",\"\",Nährstoffzufuhr!C201)","v":"Ertrag"},{"$f":"IF([1]Nährstoffzufuhr!D201=\"\",\"\",[1]Nährstoffzufuhr!D201)","v":0},{"$f":"IF(Nährstoffzufuhr!E201=\"\",\"\",Nährstoffzufuhr!E201)","v":"Anbau-\nfläche"},{"$f":"IF(Nährstoffzufuhr!F201=\"\",\"\",Nährstoffzufuhr!F201)","v":"N-\nBindung"},{"$f":"IF(Nährstoffzufuhr!G201=\"\",\"\",Nährstoffzufuhr!G201)","v":"Symbiontische \nN-Bindung"},{"$f":"IF([1]Nährstoffzufuhr!H201=\"\",\"\",[1]Nährstoffzufuhr!H201)","v":0},{"$f":"IF(Nährstoffzufuhr!I201=\"\",\"\",Nährstoffzufuhr!I201)","v":""},{"$f":"IF(Nährstoffzufuhr!J201=\"\",\"\",Nährstoffzufuhr!J201)","v":""},{"$f":"IF(Nährstoffzufuhr!K201=\"\",\"\",Nährstoffzufuhr!K201)","v":""},{"$f":"IF(Nährstoffzufuhr!L201=\"\",\"\",Nährstoffzufuhr!L201)","v":""},{"$f":"IF(Nährstoffzufuhr!M201=\"\",\"\",Nährstoffzufuhr!M201)","v":""}]
[null,{"$f":"IF(Nährstoffzufuhr!B202=\"\",\"\",Nährstoffzufuhr!B202)","v":""},{"$f":"IF(Nährstoffzufuhr!C202=\"\",\"\",Nährstoffzufuhr!C202)","v":"Vorschlag"},{"$f":"IF(Nährstoffzufuhr!D202=\"\",\"\",Nährstoffzufuhr!D202)","v":"dt FM/ha"},{"$f":"IF(Nährstoffzufuhr!E202=\"\",\"\",Nährstoffzufuhr!E202)","v":"ha"},{"$f":"IF(Nährstoffzufuhr!F202=\"\",\"\",Nährstoffzufuhr!F202)","v":"kg"},{"$f":"IF(Nährstoffzufuhr!G202=\"\",\"\",Nährstoffzufuhr!G202)","v":"kg/ha"},{"$f":"IF(Nährstoffzufuhr!H202=\"\",\"\",Nährstoffzufuhr!H202)","v":"kg/dt FM"},{"$f":"IF(Nährstoffzufuhr!I202=\"\",\"\",Nährstoffzufuhr!I202)","v":""},{"$f":"IF(Nährstoffzufuhr!J202=\"\",\"\",Nährstoffzufuhr!J202)","v":""},{"$f":"IF(Nährstoffzufuhr!K202=\"\",\"\",Nährstoffzufuhr!K202)","v":""},{"$f":"IF(Nährstoffzufuhr!L202=\"\",\"\",Nährstoffzufuhr!L202)","v":""},{"$f":"IF(Nährstoffzufuhr!M202=\"\",\"\",Nährstoffzufuhr!M202)","v":""}]
[{"$f":"IF(Nährstoffzufuhr!A203=\"\",\"\",Nährstoffzufuhr!A203)","v":"Gemüse"},{"$f":"IF(Nährstoffzufuhr!B203=\"\",\"\",Nährstoffzufuhr!B203)","v":""},{"$f":"IF(Nährstoffzufuhr!C203=\"\",\"\",Nährstoffzufuhr!C203)","v":""},{"$f":"IF(Nährstoffzufuhr!D203=\"\",\"\",Nährstoffzufuhr!D203)","v":""},{"$f":"Nährstoffzufuhr!E203","v":0},{"$f":"IF(Nährstoffzufuhr!F203=\"\",\"\",Nährstoffzufuhr!F203)","v":""},{"$f":"IF(Nährstoffzufuhr!G203=\"\",\"\",Nährstoffzufuhr!G203)","v":""},{"$f":"IF(Nährstoffzufuhr!H203=\"\",\"\",Nährstoffzufuhr!H203)","v":""},{"$f":"IF(Nährstoffzufuhr!I203=\"\",\"\",Nährstoffzufuhr!I203)","v":""},{"$f":"IF(Nährstoffzufuhr!J203=\"\",\"\",Nährstoffzufuhr!J203)","v":""},{"$f":"IF(Nährstoffzufuhr!K203=\"\",\"\",Nährstoffzufuhr!K203)","v":""},{"$f":"IF(Nährstoffzufuhr!L203=\"\",\"\",Nährstoffzufuhr!L203)","v":""},{"$f":"IF(Nährstoffzufuhr!M203=\"\",\"\",Nährstoffzufuhr!M203)","v":""}]
[{"$f":"IF(Nährstoffzufuhr!A204=\"\",\"\",Nährstoffzufuhr!A204)","v":"Buschbohnen, frisch"},{"$f":"IF(Nährstoffzufuhr!B204=\"\",\"\",Nährstoffzufuhr!B204)","v":""},{"$f":"IF(Nährstoffzufuhr!C204=\"\",\"\",Nährstoffzufuhr!C204)","v":120},{"$f":"IF(Nährstoffzufuhr!D204=\"\",\"\",Nährstoffzufuhr!D204)","v":""},{"$f":"Nährstoffzufuhr!E204","v":0},{"$f":"IF(Nährstoffzufuhr!F204=\"\",\"\",Nährstoffzufuhr!F204)","v":0},{"$f":"IF(Nährstoffzufuhr!G204=\"\",\"\",Nährstoffzufuhr!G204)","v":36},{"$f":"IF(Nährstoffzufuhr!H204=\"\",\"\",Nährstoffzufuhr!H204)","v":0.3},{"$f":"IF(Nährstoffzufuhr!I204=\"\",\"\",Nährstoffzufuhr!I204)","v":""},{"$f":"IF(Nährstoffzufuhr!J204=\"\",\"\",Nährstoffzufuhr!J204)","v":""},{"$f":"IF(Nährstoffzufuhr!K204=\"\",\"\",Nährstoffzufuhr!K204)","v":""},{"$f":"IF(Nährstoffzufuhr!L204=\"\",\"\",Nährstoffzufuhr!L204)","v":""},{"$f":"IF(Nährstoffzufuhr!M204=\"\",\"\",Nährstoffzufuhr!M204)","v":""}]
[{"$f":"IF(Nährstoffzufuhr!A205=\"\",\"\",Nährstoffzufuhr!A205)","v":"Stangenbohnen, frisch "},{"$f":"IF(Nährstoffzufuhr!B205=\"\",\"\",Nährstoffzufuhr!B205)","v":""},{"$f":"IF(Nährstoffzufuhr!C205=\"\",\"\",Nährstoffzufuhr!C205)","v":250},{"$f":"IF(Nährstoffzufuhr!D205=\"\",\"\",Nährstoffzufuhr!D205)","v":""},{"$f":"Nährstoffzufuhr!E205","v":0},{"$f":"IF(Nährstoffzufuhr!F205=\"\",\"\",Nährstoffzufuhr!F205)","v":0},{"$f":"IF(Nährstoffzufuhr!G205=\"\",\"\",Nährstoffzufuhr!G205)","v":25},{"$f":"IF(Nährstoffzufuhr!H205=\"\",\"\",Nährstoffzufuhr!H205)","v":0.1},{"$f":"IF(Nährstoffzufuhr!I205=\"\",\"\",Nährstoffzufuhr!I205)","v":""},{"$f":"IF(Nährstoffzufuhr!J205=\"\",\"\",Nährstoffzufuhr!J205)","v":""},{"$f":"IF(Nährstoffzufuhr!K205=\"\",\"\",Nährstoffzufuhr!K205)","v":""},{"$f":"IF(Nährstoffzufuhr!L205=\"\",\"\",Nährstoffzufuhr!L205)","v":""},{"$f":"IF(Nährstoffzufuhr!M205=\"\",\"\",Nährstoffzufuhr!M205)","v":""}]
[{"$f":"IF(Nährstoffzufuhr!A206=\"\",\"\",Nährstoffzufuhr!A206)","v":"Markerbse, frisch"},{"$f":"IF(Nährstoffzufuhr!B206=\"\",\"\",Nährstoffzufuhr!B206)","v":""},{"$f":"IF(Nährstoffzufuhr!C206=\"\",\"\",Nährstoffzufuhr!C206)","v":60},{"$f":"IF(Nährstoffzufuhr!D206=\"\",\"\",Nährstoffzufuhr!D206)","v":""},{"$f":"Nährstoffzufuhr!E206","v":0},{"$f":"IF(Nährstoffzufuhr!F206=\"\",\"\",Nährstoffzufuhr!F206)","v":0},{"$f":"IF(Nährstoffzufuhr!G206=\"\",\"\",Nährstoffzufuhr!G206)","v":24},{"$f":"IF(Nährstoffzufuhr!H206=\"\",\"\",Nährstoffzufuhr!H206)","v":0.4},{"$f":"IF(Nährstoffzufuhr!I206=\"\",\"\",Nährstoffzufuhr!I206)","v":""},{"$f":"IF(Nährstoffzufuhr!J206=\"\",\"\",Nährstoffzufuhr!J206)","v":""},{"$f":"IF(Nährstoffzufuhr!K206=\"\",\"\",Nährstoffzufuhr!K206)","v":""},{"$f":"IF(Nährstoffzufuhr!L206=\"\",\"\",Nährstoffzufuhr!L206)","v":""},{"$f":"IF(Nährstoffzufuhr!M206=\"\",\"\",Nährstoffzufuhr!M206)","v":""}]
[{"$f":"IF(Nährstoffzufuhr!A207=\"\",\"\",Nährstoffzufuhr!A207)","v":"Körner, Landwirtschaft"},{"$f":"IF(Nährstoffzufuhr!B207=\"\",\"\",Nährstoffzufuhr!B207)","v":""},{"$f":"IF(Nährstoffzufuhr!C207=\"\",\"\",Nährstoffzufuhr!C207)","v":""},{"$f":"IF(Nährstoffzufuhr!D207=\"\",\"\",Nährstoffzufuhr!D207)","v":""},{"$f":"Nährstoffzufuhr!E207","v":0},{"$f":"IF(Nährstoffzufuhr!F207=\"\",\"\",Nährstoffzufuhr!F207)","v":""},{"$f":"IF(Nährstoffzufuhr!G207=\"\",\"\",Nährstoffzufuhr!G207)","v":""},{"$f":"IF(Nährstoffzufuhr!H207=\"\",\"\",Nährstoffzufuhr!H207)","v":""},{"$f":"IF(Nährstoffzufuhr!I207=\"\",\"\",Nährstoffzufuhr!I207)","v":""},{"$f":"IF(Nährstoffzufuhr!J207=\"\",\"\",Nährstoffzufuhr!J207)","v":""},{"$f":"IF(Nährstoffzufuhr!K207=\"\",\"\",Nährstoffzufuhr!K207)","v":""},{"$f":"IF(Nährstoffzufuhr!L207=\"\",\"\",Nährstoffzufuhr!L207)","v":""},{"$f":"IF(Nährstoffzufuhr!M207=\"\",\"\",Nährstoffzufuhr!M207)","v":""}]
[{"$f":"IF(Nährstoffzufuhr!A208=\"\",\"\",Nährstoffzufuhr!A208)","v":"Ackerbohne (30% RP, 86% TM)"},{"$f":"IF(Nährstoffzufuhr!B208=\"\",\"\",Nährstoffzufuhr!B208)","v":""},{"$f":"IF(Nährstoffzufuhr!C208=\"\",\"\",Nährstoffzufuhr!C208)","v":35},{"$f":"IF(Nährstoffzufuhr!D208=\"\",\"\",Nährstoffzufuhr!D208)","v":""},{"$f":"Nährstoffzufuhr!E208","v":0},{"$f":"IF(Nährstoffzufuhr!F208=\"\",\"\",Nährstoffzufuhr!F208)","v":0},{"$f":"IF(Nährstoffzufuhr!G208=\"\",\"\",Nährstoffzufuhr!G208)","v":175},{"$f":"IF(Nährstoffzufuhr!H208=\"\",\"\",Nährstoffzufuhr!H208)","v":5},{"$f":"IF(Nährstoffzufuhr!I208=\"\",\"\",Nährstoffzufuhr!I208)","v":""},{"$f":"IF(Nährstoffzufuhr!J208=\"\",\"\",Nährstoffzufuhr!J208)","v":""},{"$f":"IF(Nährstoffzufuhr!K208=\"\",\"\",Nährstoffzufuhr!K208)","v":""},{"$f":"IF(Nährstoffzufuhr!L208=\"\",\"\",Nährstoffzufuhr!L208)","v":""},{"$f":"IF(Nährstoffzufuhr!M208=\"\",\"\",Nährstoffzufuhr!M208)","v":""}]
[{"$f":"IF(Nährstoffzufuhr!A209=\"\",\"\",Nährstoffzufuhr!A209)","v":"Körnererbse (30% RP, 86% TM)"},{"$f":"IF(Nährstoffzufuhr!B209=\"\",\"\",Nährstoffzufuhr!B209)","v":""},{"$f":"IF(Nährstoffzufuhr!C209=\"\",\"\",Nährstoffzufuhr!C209)","v":35},{"$f":"IF(Nährstoffzufuhr!D209=\"\",\"\",Nährstoffzufuhr!D209)","v":""},{"$f":"Nährstoffzufuhr!E209","v":0},{"$f":"IF(Nährstoffzufuhr!F209=\"\",\"\",Nährstoffzufuhr!F209)","v":0},{"$f":"IF(Nährstoffzufuhr!G209=\"\",\"\",Nährstoffzufuhr!G209)","v":154},{"$f":"IF(Nährstoffzufuhr!H209=\"\",\"\",Nährstoffzufuhr!H209)","v":4.4000000000000004},{"$f":"IF(Nährstoffzufuhr!I209=\"\",\"\",Nährstoffzufuhr!I209)","v":""},{"$f":"IF(Nährstoffzufuhr!J209=\"\",\"\",Nährstoffzufuhr!J209)","v":""},{"$f":"IF(Nährstoffzufuhr!K209=\"\",\"\",Nährstoffzufuhr!K209)","v":""},{"$f":"IF(Nährstoffzufuhr!L209=\"\",\"\",Nährstoffzufuhr!L209)","v":""},{"$f":"IF(Nährstoffzufuhr!M209=\"\",\"\",Nährstoffzufuhr!M209)","v":""}]
[{"$f":"IF(Nährstoffzufuhr!A210=\"\",\"\",Nährstoffzufuhr!A210)","v":"Kleevermehrung"},{"$f":"IF(Nährstoffzufuhr!B210=\"\",\"\",Nährstoffzufuhr!B210)","v":""},{"$f":"IF(Nährstoffzufuhr!C210=\"\",\"\",Nährstoffzufuhr!C210)","v":6},{"$f":"IF(Nährstoffzufuhr!D210=\"\",\"\",Nährstoffzufuhr!D210)","v":""},{"$f":"Nährstoffzufuhr!E210","v":0},{"$f":"IF(Nährstoffzufuhr!F210=\"\",\"\",Nährstoffzufuhr!F210)","v":0},{"$f":"IF(Nährstoffzufuhr!G210=\"\",\"\",Nährstoffzufuhr!G210)","v":165},{"$f":"IF(Nährstoffzufuhr!H210=\"\",\"\",Nährstoffzufuhr!H210)","v":27.5},{"$f":"IF(Nährstoffzufuhr!I210=\"\",\"\",Nährstoffzufuhr!I210)","v":""},{"$f":"IF(Nährstoffzufuhr!J210=\"\",\"\",Nährstoffzufuhr!J210)","v":""},{"$f":"IF(Nährstoffzufuhr!K210=\"\",\"\",Nährstoffzufuhr!K210)","v":""},{"$f":"IF(Nährstoffzufuhr!L210=\"\",\"\",Nährstoffzufuhr!L210)","v":""},{"$f":"IF(Nährstoffzufuhr!M210=\"\",\"\",Nährstoffzufuhr!M210)","v":""}]
[{"$f":"IF(Nährstoffzufuhr!A211=\"\",\"\",Nährstoffzufuhr!A211)","v":"Luzernevermehrung"},{"$f":"IF(Nährstoffzufuhr!B211=\"\",\"\",Nährstoffzufuhr!B211)","v":""},{"$f":"IF(Nährstoffzufuhr!C211=\"\",\"\",Nährstoffzufuhr!C211)","v":6},{"$f":"IF(Nährstoffzufuhr!D211=\"\",\"\",Nährstoffzufuhr!D211)","v":""},{"$f":"Nährstoffzufuhr!E211","v":0},{"$f":"IF(Nährstoffzufuhr!F211=\"\",\"\",Nährstoffzufuhr!F211)","v":0},{"$f":"IF(Nährstoffzufuhr!G211=\"\",\"\",Nährstoffzufuhr!G211)","v":171},{"$f":"IF(Nährstoffzufuhr!H211=\"\",\"\",Nährstoffzufuhr!H211)","v":28.5},{"$f":"IF(Nährstoffzufuhr!I211=\"\",\"\",Nährstoffzufuhr!I211)","v":""},{"$f":"IF(Nährstoffzufuhr!J211=\"\",\"\",Nährstoffzufuhr!J211)","v":""},{"$f":"IF(Nährstoffzufuhr!K211=\"\",\"\",Nährstoffzufuhr!K211)","v":""},{"$f":"IF(Nährstoffzufuhr!L211=\"\",\"\",Nährstoffzufuhr!L211)","v":""},{"$f":"IF(Nährstoffzufuhr!M211=\"\",\"\",Nährstoffzufuhr!M211)","v":""}]
[{"$f":"IF(Nährstoffzufuhr!A212=\"\",\"\",Nährstoffzufuhr!A212)","v":"Linse (30% RP, 86% TM)"},{"$f":"IF(Nährstoffzufuhr!B212=\"\",\"\",Nährstoffzufuhr!B212)","v":""},{"$f":"IF(Nährstoffzufuhr!C212=\"\",\"\",Nährstoffzufuhr!C212)","v":15},{"$f":"IF(Nährstoffzufuhr!D212=\"\",\"\",Nährstoffzufuhr!D212)","v":""},{"$f":"Nährstoffzufuhr!E212","v":0},{"$f":"IF(Nährstoffzufuhr!F212=\"\",\"\",Nährstoffzufuhr!F212)","v":0},{"$f":"IF(Nährstoffzufuhr!G212=\"\",\"\",Nährstoffzufuhr!G212)","v":65.25},{"$f":"IF(Nährstoffzufuhr!H212=\"\",\"\",Nährstoffzufuhr!H212)","v":4.3499999999999996},{"$f":"IF(Nährstoffzufuhr!I212=\"\",\"\",Nährstoffzufuhr!I212)","v":""},{"$f":"IF(Nährstoffzufuhr!J212=\"\",\"\",Nährstoffzufuhr!J212)","v":""},{"$f":"IF(Nährstoffzufuhr!K212=\"\",\"\",Nährstoffzufuhr!K212)","v":""},{"$f":"IF(Nährstoffzufuhr!L212=\"\",\"\",Nährstoffzufuhr!L212)","v":""},{"$f":"IF(Nährstoffzufuhr!M212=\"\",\"\",Nährstoffzufuhr!M212)","v":""}]
[{"$f":"IF(Nährstoffzufuhr!A213=\"\",\"\",Nährstoffzufuhr!A213)","v":"Lupine blau (33% RP, 86% TM)"},{"$f":"IF(Nährstoffzufuhr!B213=\"\",\"\",Nährstoffzufuhr!B213)","v":""},{"$f":"IF(Nährstoffzufuhr!C213=\"\",\"\",Nährstoffzufuhr!C213)","v":30},{"$f":"IF(Nährstoffzufuhr!D213=\"\",\"\",Nährstoffzufuhr!D213)","v":""},{"$f":"Nährstoffzufuhr!E213","v":0},{"$f":"IF(Nährstoffzufuhr!F213=\"\",\"\",Nährstoffzufuhr!F213)","v":0},{"$f":"IF(Nährstoffzufuhr!G213=\"\",\"\",Nährstoffzufuhr!G213)","v":150},{"$f":"IF(Nährstoffzufuhr!H213=\"\",\"\",Nährstoffzufuhr!H213)","v":5},{"$f":"IF(Nährstoffzufuhr!I213=\"\",\"\",Nährstoffzufuhr!I213)","v":""},{"$f":"IF(Nährstoffzufuhr!J213=\"\",\"\",Nährstoffzufuhr!J213)","v":""},{"$f":"IF(Nährstoffzufuhr!K213=\"\",\"\",Nährstoffzufuhr!K213)","v":""},{"$f":"IF(Nährstoffzufuhr!L213=\"\",\"\",Nährstoffzufuhr!L213)","v":""},{"$f":"IF(Nährstoffzufuhr!M213=\"\",\"\",Nährstoffzufuhr!M213)","v":""}]
[{"$f":"IF(Nährstoffzufuhr!A214=\"\",\"\",Nährstoffzufuhr!A214)","v":"Sojabohne (32% RP, 86% TM)"},{"$f":"IF(Nährstoffzufuhr!B214=\"\",\"\",Nährstoffzufuhr!B214)","v":""},{"$f":"IF(Nährstoffzufuhr!C214=\"\",\"\",Nährstoffzufuhr!C214)","v":20},{"$f":"IF(Nährstoffzufuhr!D214=\"\",\"\",Nährstoffzufuhr!D214)","v":""},{"$f":"Nährstoffzufuhr!E214","v":0},{"$f":"IF(Nährstoffzufuhr!F214=\"\",\"\",Nährstoffzufuhr!F214)","v":0},{"$f":"IF(Nährstoffzufuhr!G214=\"\",\"\",Nährstoffzufuhr!G214)","v":106},{"$f":"IF(Nährstoffzufuhr!H214=\"\",\"\",Nährstoffzufuhr!H214)","v":5.3},{"$f":"IF(Nährstoffzufuhr!I214=\"\",\"\",Nährstoffzufuhr!I214)","v":""},{"$f":"IF(Nährstoffzufuhr!J214=\"\",\"\",Nährstoffzufuhr!J214)","v":""},{"$f":"IF(Nährstoffzufuhr!K214=\"\",\"\",Nährstoffzufuhr!K214)","v":""},{"$f":"IF(Nährstoffzufuhr!L214=\"\",\"\",Nährstoffzufuhr!L214)","v":""},{"$f":"IF(Nährstoffzufuhr!M214=\"\",\"\",Nährstoffzufuhr!M214)","v":""}]
[{"$f":"IF(Nährstoffzufuhr!A215=\"\",\"\",Nährstoffzufuhr!A215)","v":"Trockenspeiseerbse (26% RP, 86% TM)"},{"$f":"IF(Nährstoffzufuhr!B215=\"\",\"\",Nährstoffzufuhr!B215)","v":""},{"$f":"IF(Nährstoffzufuhr!C215=\"\",\"\",Nährstoffzufuhr!C215)","v":35},{"$f":"IF(Nährstoffzufuhr!D215=\"\",\"\",Nährstoffzufuhr!D215)","v":""},{"$f":"Nährstoffzufuhr!E215","v":0},{"$f":"IF(Nährstoffzufuhr!F215=\"\",\"\",Nährstoffzufuhr!F215)","v":0},{"$f":"IF(Nährstoffzufuhr!G215=\"\",\"\",Nährstoffzufuhr!G215)","v":152.25},{"$f":"IF(Nährstoffzufuhr!H215=\"\",\"\",Nährstoffzufuhr!H215)","v":4.3499999999999996},{"$f":"IF(Nährstoffzufuhr!I215=\"\",\"\",Nährstoffzufuhr!I215)","v":""},{"$f":"IF(Nährstoffzufuhr!J215=\"\",\"\",Nährstoffzufuhr!J215)","v":""},{"$f":"IF(Nährstoffzufuhr!K215=\"\",\"\",Nährstoffzufuhr!K215)","v":""},{"$f":"IF(Nährstoffzufuhr!L215=\"\",\"\",Nährstoffzufuhr!L215)","v":""},{"$f":"IF(Nährstoffzufuhr!M215=\"\",\"\",Nährstoffzufuhr!M215)","v":""}]
[{"$f":"IF(Nährstoffzufuhr!A216=\"\",\"\",Nährstoffzufuhr!A216)","v":"Wicke (26% RP, 86% TM)"},{"$f":"IF(Nährstoffzufuhr!B216=\"\",\"\",Nährstoffzufuhr!B216)","v":""},{"$f":"IF(Nährstoffzufuhr!C216=\"\",\"\",Nährstoffzufuhr!C216)","v":15},{"$f":"IF(Nährstoffzufuhr!D216=\"\",\"\",Nährstoffzufuhr!D216)","v":""},{"$f":"Nährstoffzufuhr!E216","v":0},{"$f":"IF(Nährstoffzufuhr!F216=\"\",\"\",Nährstoffzufuhr!F216)","v":0},{"$f":"IF(Nährstoffzufuhr!G216=\"\",\"\",Nährstoffzufuhr!G216)","v":65.849999999999994},{"$f":"IF(Nährstoffzufuhr!H216=\"\",\"\",Nährstoffzufuhr!H216)","v":4.3899999999999997},{"$f":"IF(Nährstoffzufuhr!I216=\"\",\"\",Nährstoffzufuhr!I216)","v":""},{"$f":"IF(Nährstoffzufuhr!J216=\"\",\"\",Nährstoffzufuhr!J216)","v":""},{"$f":"IF(Nährstoffzufuhr!K216=\"\",\"\",Nährstoffzufuhr!K216)","v":""},{"$f":"IF(Nährstoffzufuhr!L216=\"\",\"\",Nährstoffzufuhr!L216)","v":""},{"$f":"IF(Nährstoffzufuhr!M216=\"\",\"\",Nährstoffzufuhr!M216)","v":""}]
[{"$f":"IF(Nährstoffzufuhr!A217=\"\",\"\",Nährstoffzufuhr!A217)","v":"Ganzpflanze Landwirtschaft, Zwischenfrüchte"},{"$f":"IF(Nährstoffzufuhr!B217=\"\",\"\",Nährstoffzufuhr!B217)","v":""},{"$f":"IF(Nährstoffzufuhr!C217=\"\",\"\",Nährstoffzufuhr!C217)","v":""},{"$f":"IF(Nährstoffzufuhr!D217=\"\",\"\",Nährstoffzufuhr!D217)","v":""},{"$f":"Nährstoffzufuhr!E217","v":0},{"$f":"IF(Nährstoffzufuhr!F217=\"\",\"\",Nährstoffzufuhr!F217)","v":""},{"$f":"IF(Nährstoffzufuhr!G217=\"\",\"\",Nährstoffzufuhr!G217)","v":""},{"$f":"IF(Nährstoffzufuhr!H217=\"\",\"\",Nährstoffzufuhr!H217)","v":""},{"$f":"IF(Nährstoffzufuhr!I217=\"\",\"\",Nährstoffzufuhr!I217)","v":""},{"$f":"IF(Nährstoffzufuhr!J217=\"\",\"\",Nährstoffzufuhr!J217)","v":""},{"$f":"IF(Nährstoffzufuhr!K217=\"\",\"\",Nährstoffzufuhr!K217)","v":""},{"$f":"IF(Nährstoffzufuhr!L217=\"\",\"\",Nährstoffzufuhr!L217)","v":""},{"$f":"IF(Nährstoffzufuhr!M217=\"\",\"\",Nährstoffzufuhr!M217)","v":""}]
[{"$f":"IF(Nährstoffzufuhr!A218=\"\",\"\",Nährstoffzufuhr!A218)","v":"Ackerbohne (20% TM)"},{"$f":"IF(Nährstoffzufuhr!B218=\"\",\"\",Nährstoffzufuhr!B218)","v":""},{"$f":"IF(Nährstoffzufuhr!C218=\"\",\"\",Nährstoffzufuhr!C218)","v":250},{"$f":"IF(Nährstoffzufuhr!D218=\"\",\"\",Nährstoffzufuhr!D218)","v":""},{"$f":"Nährstoffzufuhr!E218","v":0},{"$f":"IF(Nährstoffzufuhr!F218=\"\",\"\",Nährstoffzufuhr!F218)","v":0},{"$f":"IF(Nährstoffzufuhr!G218=\"\",\"\",Nährstoffzufuhr!G218)","v":95},{"$f":"IF(Nährstoffzufuhr!H218=\"\",\"\",Nährstoffzufuhr!H218)","v":0.38},{"$f":"IF(Nährstoffzufuhr!I218=\"\",\"\",Nährstoffzufuhr!I218)","v":""},{"$f":"IF(Nährstoffzufuhr!J218=\"\",\"\",Nährstoffzufuhr!J218)","v":""},{"$f":"IF(Nährstoffzufuhr!K218=\"\",\"\",Nährstoffzufuhr!K218)","v":""},{"$f":"IF(Nährstoffzufuhr!L218=\"\",\"\",Nährstoffzufuhr!L218)","v":""},{"$f":"IF(Nährstoffzufuhr!M218=\"\",\"\",Nährstoffzufuhr!M218)","v":""}]
[{"$f":"IF(Nährstoffzufuhr!A219=\"\",\"\",Nährstoffzufuhr!A219)","v":"Esparsette (20% TM)"},{"$f":"IF(Nährstoffzufuhr!B219=\"\",\"\",Nährstoffzufuhr!B219)","v":""},{"$f":"IF(Nährstoffzufuhr!C219=\"\",\"\",Nährstoffzufuhr!C219)","v":200},{"$f":"IF(Nährstoffzufuhr!D219=\"\",\"\",Nährstoffzufuhr!D219)","v":""},{"$f":"Nährstoffzufuhr!E219","v":0},{"$f":"IF(Nährstoffzufuhr!F219=\"\",\"\",Nährstoffzufuhr!F219)","v":0},{"$f":"IF(Nährstoffzufuhr!G219=\"\",\"\",Nährstoffzufuhr!G219)","v":94},{"$f":"IF(Nährstoffzufuhr!H219=\"\",\"\",Nährstoffzufuhr!H219)","v":0.47},{"$f":"IF(Nährstoffzufuhr!I219=\"\",\"\",Nährstoffzufuhr!I219)","v":""},{"$f":"IF(Nährstoffzufuhr!J219=\"\",\"\",Nährstoffzufuhr!J219)","v":""},{"$f":"IF(Nährstoffzufuhr!K219=\"\",\"\",Nährstoffzufuhr!K219)","v":""},{"$f":"IF(Nährstoffzufuhr!L219=\"\",\"\",Nährstoffzufuhr!L219)","v":""},{"$f":"IF(Nährstoffzufuhr!M219=\"\",\"\",Nährstoffzufuhr!M219)","v":""}]
[{"$f":"IF(Nährstoffzufuhr!A220=\"\",\"\",Nährstoffzufuhr!A220)","v":"Futtererbse (20% TM)"},{"$f":"IF(Nährstoffzufuhr!B220=\"\",\"\",Nährstoffzufuhr!B220)","v":""},{"$f":"IF(Nährstoffzufuhr!C220=\"\",\"\",Nährstoffzufuhr!C220)","v":250},{"$f":"IF(Nährstoffzufuhr!D220=\"\",\"\",Nährstoffzufuhr!D220)","v":""},{"$f":"Nährstoffzufuhr!E220","v":0},{"$f":"IF(Nährstoffzufuhr!F220=\"\",\"\",Nährstoffzufuhr!F220)","v":0},{"$f":"IF(Nährstoffzufuhr!G220=\"\",\"\",Nährstoffzufuhr!G220)","v":95},{"$f":"IF(Nährstoffzufuhr!H220=\"\",\"\",Nährstoffzufuhr!H220)","v":0.38},{"$f":"IF(Nährstoffzufuhr!I220=\"\",\"\",Nährstoffzufuhr!I220)","v":""},{"$f":"IF(Nährstoffzufuhr!J220=\"\",\"\",Nährstoffzufuhr!J220)","v":""},{"$f":"IF(Nährstoffzufuhr!K220=\"\",\"\",Nährstoffzufuhr!K220)","v":""},{"$f":"IF(Nährstoffzufuhr!L220=\"\",\"\",Nährstoffzufuhr!L220)","v":""},{"$f":"IF(Nährstoffzufuhr!M220=\"\",\"\",Nährstoffzufuhr!M220)","v":""}]
[{"$f":"IF(Nährstoffzufuhr!A221=\"\",\"\",Nährstoffzufuhr!A221)","v":"Klee (20% TM)"},{"$f":"IF(Nährstoffzufuhr!B221=\"\",\"\",Nährstoffzufuhr!B221)","v":""},{"$f":"IF(Nährstoffzufuhr!C221=\"\",\"\",Nährstoffzufuhr!C221)","v":450},{"$f":"IF(Nährstoffzufuhr!D221=\"\",\"\",Nährstoffzufuhr!D221)","v":""},{"$f":"Nährstoffzufuhr!E221","v":0},{"$f":"IF(Nährstoffzufuhr!F221=\"\",\"\",Nährstoffzufuhr!F221)","v":0},{"$f":"IF(Nährstoffzufuhr!G221=\"\",\"\",Nährstoffzufuhr!G221)","v":292.5},{"$f":"IF(Nährstoffzufuhr!H221=\"\",\"\",Nährstoffzufuhr!H221)","v":0.65},{"$f":"IF(Nährstoffzufuhr!I221=\"\",\"\",Nährstoffzufuhr!I221)","v":""},{"$f":"IF(Nährstoffzufuhr!J221=\"\",\"\",Nährstoffzufuhr!J221)","v":""},{"$f":"IF(Nährstoffzufuhr!K221=\"\",\"\",Nährstoffzufuhr!K221)","v":""},{"$f":"IF(Nährstoffzufuhr!L221=\"\",\"\",Nährstoffzufuhr!L221)","v":""},{"$f":"IF(Nährstoffzufuhr!M221=\"\",\"\",Nährstoffzufuhr!M221)","v":""}]
[{"$f":"IF(Nährstoffzufuhr!A222=\"\",\"\",Nährstoffzufuhr!A222)","v":"Klee : Gras (50 : 50)"},{"$f":"IF(Nährstoffzufuhr!B222=\"\",\"\",Nährstoffzufuhr!B222)","v":""},{"$f":"IF(Nährstoffzufuhr!C222=\"\",\"\",Nährstoffzufuhr!C222)","v":500},{"$f":"IF(Nährstoffzufuhr!D222=\"\",\"\",Nährstoffzufuhr!D222)","v":""},{"$f":"Nährstoffzufuhr!E222","v":0},{"$f":"IF(Nährstoffzufuhr!F222=\"\",\"\",Nährstoffzufuhr!F222)","v":0},{"$f":"IF(Nährstoffzufuhr!G222=\"\",\"\",Nährstoffzufuhr!G222)","v":165},{"$f":"IF(Nährstoffzufuhr!H222=\"\",\"\",Nährstoffzufuhr!H222)","v":0.33},{"$f":"IF(Nährstoffzufuhr!I222=\"\",\"\",Nährstoffzufuhr!I222)","v":""},{"$f":"IF(Nährstoffzufuhr!J222=\"\",\"\",Nährstoffzufuhr!J222)","v":""},{"$f":"IF(Nährstoffzufuhr!K222=\"\",\"\",Nährstoffzufuhr!K222)","v":""},{"$f":"IF(Nährstoffzufuhr!L222=\"\",\"\",Nährstoffzufuhr!L222)","v":""},{"$f":"IF(Nährstoffzufuhr!M222=\"\",\"\",Nährstoffzufuhr!M222)","v":""}]
[{"$f":"IF(Nährstoffzufuhr!A223=\"\",\"\",Nährstoffzufuhr!A223)","v":"Klee : Gras (70 : 30)"},{"$f":"IF(Nährstoffzufuhr!B223=\"\",\"\",Nährstoffzufuhr!B223)","v":""},{"$f":"IF(Nährstoffzufuhr!C223=\"\",\"\",Nährstoffzufuhr!C223)","v":500},{"$f":"IF(Nährstoffzufuhr!D223=\"\",\"\",Nährstoffzufuhr!D223)","v":""},{"$f":"Nährstoffzufuhr!E223","v":0},{"$f":"IF(Nährstoffzufuhr!F223=\"\",\"\",Nährstoffzufuhr!F223)","v":0},{"$f":"IF(Nährstoffzufuhr!G223=\"\",\"\",Nährstoffzufuhr!G223)","v":230},{"$f":"IF(Nährstoffzufuhr!H223=\"\",\"\",Nährstoffzufuhr!H223)","v":0.46},{"$f":"IF(Nährstoffzufuhr!I223=\"\",\"\",Nährstoffzufuhr!I223)","v":""},{"$f":"IF(Nährstoffzufuhr!J223=\"\",\"\",Nährstoffzufuhr!J223)","v":""},{"$f":"IF(Nährstoffzufuhr!K223=\"\",\"\",Nährstoffzufuhr!K223)","v":""},{"$f":"IF(Nährstoffzufuhr!L223=\"\",\"\",Nährstoffzufuhr!L223)","v":""},{"$f":"IF(Nährstoffzufuhr!M223=\"\",\"\",Nährstoffzufuhr!M223)","v":""}]
[{"$f":"IF(Nährstoffzufuhr!A224=\"\",\"\",Nährstoffzufuhr!A224)","v":"Kleegras (30 : 70)"},{"$f":"IF(Nährstoffzufuhr!B224=\"\",\"\",Nährstoffzufuhr!B224)","v":""},{"$f":"IF(Nährstoffzufuhr!C224=\"\",\"\",Nährstoffzufuhr!C224)","v":450},{"$f":"IF(Nährstoffzufuhr!D224=\"\",\"\",Nährstoffzufuhr!D224)","v":""},{"$f":"Nährstoffzufuhr!E224","v":0},{"$f":"IF(Nährstoffzufuhr!F224=\"\",\"\",Nährstoffzufuhr!F224)","v":0},{"$f":"IF(Nährstoffzufuhr!G224=\"\",\"\",Nährstoffzufuhr!G224)","v":90},{"$f":"IF(Nährstoffzufuhr!H224=\"\",\"\",Nährstoffzufuhr!H224)","v":0.2},{"$f":"IF(Nährstoffzufuhr!I224=\"\",\"\",Nährstoffzufuhr!I224)","v":""},{"$f":"IF(Nährstoffzufuhr!J224=\"\",\"\",Nährstoffzufuhr!J224)","v":""},{"$f":"IF(Nährstoffzufuhr!K224=\"\",\"\",Nährstoffzufuhr!K224)","v":""},{"$f":"IF(Nährstoffzufuhr!L224=\"\",\"\",Nährstoffzufuhr!L224)","v":""},{"$f":"IF(Nährstoffzufuhr!M224=\"\",\"\",Nährstoffzufuhr!M224)","v":""}]
[{"$f":"IF(Nährstoffzufuhr!A225=\"\",\"\",Nährstoffzufuhr!A225)","v":"Lupine Futter (20% TM)"},{"$f":"IF(Nährstoffzufuhr!B225=\"\",\"\",Nährstoffzufuhr!B225)","v":""},{"$f":"IF(Nährstoffzufuhr!C225=\"\",\"\",Nährstoffzufuhr!C225)","v":250},{"$f":"IF(Nährstoffzufuhr!D225=\"\",\"\",Nährstoffzufuhr!D225)","v":""},{"$f":"Nährstoffzufuhr!E225","v":0},{"$f":"IF(Nährstoffzufuhr!F225=\"\",\"\",Nährstoffzufuhr!F225)","v":0},{"$f":"IF(Nährstoffzufuhr!G225=\"\",\"\",Nährstoffzufuhr!G225)","v":95},{"$f":"IF(Nährstoffzufuhr!H225=\"\",\"\",Nährstoffzufuhr!H225)","v":0.38},{"$f":"IF(Nährstoffzufuhr!I225=\"\",\"\",Nährstoffzufuhr!I225)","v":""},{"$f":"IF(Nährstoffzufuhr!J225=\"\",\"\",Nährstoffzufuhr!J225)","v":""},{"$f":"IF(Nährstoffzufuhr!K225=\"\",\"\",Nährstoffzufuhr!K225)","v":""},{"$f":"IF(Nährstoffzufuhr!L225=\"\",\"\",Nährstoffzufuhr!L225)","v":""},{"$f":"IF(Nährstoffzufuhr!M225=\"\",\"\",Nährstoffzufuhr!M225)","v":""}]
[{"$f":"IF(Nährstoffzufuhr!A226=\"\",\"\",Nährstoffzufuhr!A226)","v":"Alexandrinerklee"},{"$f":"IF(Nährstoffzufuhr!B226=\"\",\"\",Nährstoffzufuhr!B226)","v":""},{"$f":"IF(Nährstoffzufuhr!C226=\"\",\"\",Nährstoffzufuhr!C226)","v":250},{"$f":"IF(Nährstoffzufuhr!D226=\"\",\"\",Nährstoffzufuhr!D226)","v":""},{"$f":"Nährstoffzufuhr!E226","v":0},{"$f":"IF(Nährstoffzufuhr!F226=\"\",\"\",Nährstoffzufuhr!F226)","v":0},{"$f":"IF(Nährstoffzufuhr!G226=\"\",\"\",Nährstoffzufuhr!G226)","v":60},{"$f":"IF(Nährstoffzufuhr!H226=\"\",\"\",Nährstoffzufuhr!H226)","v":0.24},{"$f":"IF(Nährstoffzufuhr!I226=\"\",\"\",Nährstoffzufuhr!I226)","v":""},{"$f":"IF(Nährstoffzufuhr!J226=\"\",\"\",Nährstoffzufuhr!J226)","v":""},{"$f":"IF(Nährstoffzufuhr!K226=\"\",\"\",Nährstoffzufuhr!K226)","v":""},{"$f":"IF(Nährstoffzufuhr!L226=\"\",\"\",Nährstoffzufuhr!L226)","v":""},{"$f":"IF(Nährstoffzufuhr!M226=\"\",\"\",Nährstoffzufuhr!M226)","v":""}]
[{"$f":"IF(Nährstoffzufuhr!A227=\"\",\"\",Nährstoffzufuhr!A227)","v":"Luzerne  (20% TM)"},{"$f":"IF(Nährstoffzufuhr!B227=\"\",\"\",Nährstoffzufuhr!B227)","v":""},{"$f":"IF(Nährstoffzufuhr!C227=\"\",\"\",Nährstoffzufuhr!C227)","v":400},{"$f":"IF(Nährstoffzufuhr!D227=\"\",\"\",Nährstoffzufuhr!D227)","v":""},{"$f":"Nährstoffzufuhr!E227","v":0},{"$f":"IF(Nährstoffzufuhr!F227=\"\",\"\",Nährstoffzufuhr!F227)","v":0},{"$f":"IF(Nährstoffzufuhr!G227=\"\",\"\",Nährstoffzufuhr!G227)","v":260},{"$f":"IF(Nährstoffzufuhr!H227=\"\",\"\",Nährstoffzufuhr!H227)","v":0.65},{"$f":"IF(Nährstoffzufuhr!I227=\"\",\"\",Nährstoffzufuhr!I227)","v":""},{"$f":"IF(Nährstoffzufuhr!J227=\"\",\"\",Nährstoffzufuhr!J227)","v":""},{"$f":"IF(Nährstoffzufuhr!K227=\"\",\"\",Nährstoffzufuhr!K227)","v":""},{"$f":"IF(Nährstoffzufuhr!L227=\"\",\"\",Nährstoffzufuhr!L227)","v":""},{"$f":"IF(Nährstoffzufuhr!M227=\"\",\"\",Nährstoffzufuhr!M227)","v":""}]
[{"$f":"IF(Nährstoffzufuhr!A228=\"\",\"\",Nährstoffzufuhr!A228)","v":"Luzerne : Gras (50 : 50)"},{"$f":"IF(Nährstoffzufuhr!B228=\"\",\"\",Nährstoffzufuhr!B228)","v":""},{"$f":"IF(Nährstoffzufuhr!C228=\"\",\"\",Nährstoffzufuhr!C228)","v":500},{"$f":"IF(Nährstoffzufuhr!D228=\"\",\"\",Nährstoffzufuhr!D228)","v":""},{"$f":"Nährstoffzufuhr!E228","v":0},{"$f":"IF(Nährstoffzufuhr!F228=\"\",\"\",Nährstoffzufuhr!F228)","v":0},{"$f":"IF(Nährstoffzufuhr!G228=\"\",\"\",Nährstoffzufuhr!G228)","v":165},{"$f":"IF(Nährstoffzufuhr!H228=\"\",\"\",Nährstoffzufuhr!H228)","v":0.33},{"$f":"IF(Nährstoffzufuhr!I228=\"\",\"\",Nährstoffzufuhr!I228)","v":""},{"$f":"IF(Nährstoffzufuhr!J228=\"\",\"\",Nährstoffzufuhr!J228)","v":""},{"$f":"IF(Nährstoffzufuhr!K228=\"\",\"\",Nährstoffzufuhr!K228)","v":""},{"$f":"IF(Nährstoffzufuhr!L228=\"\",\"\",Nährstoffzufuhr!L228)","v":""},{"$f":"IF(Nährstoffzufuhr!M228=\"\",\"\",Nährstoffzufuhr!M228)","v":""}]
[{"$f":"IF(Nährstoffzufuhr!A229=\"\",\"\",Nährstoffzufuhr!A229)","v":"Luzerne : Gras (70 : 30)"},{"$f":"IF(Nährstoffzufuhr!B229=\"\",\"\",Nährstoffzufuhr!B229)","v":""},{"$f":"IF(Nährstoffzufuhr!C229=\"\",\"\",Nährstoffzufuhr!C229)","v":500},{"$f":"IF(Nährstoffzufuhr!D229=\"\",\"\",Nährstoffzufuhr!D229)","v":""},{"$f":"Nährstoffzufuhr!E229","v":0},{"$f":"IF(Nährstoffzufuhr!F229=\"\",\"\",Nährstoffzufuhr!F229)","v":0},{"$f":"IF(Nährstoffzufuhr!G229=\"\",\"\",Nährstoffzufuhr!G229)","v":230},{"$f":"IF(Nährstoffzufuhr!H229=\"\",\"\",Nährstoffzufuhr!H229)","v":0.46},{"$f":"IF(Nährstoffzufuhr!I229=\"\",\"\",Nährstoffzufuhr!I229)","v":""},{"$f":"IF(Nährstoffzufuhr!J229=\"\",\"\",Nährstoffzufuhr!J229)","v":""},{"$f":"IF(Nährstoffzufuhr!K229=\"\",\"\",Nährstoffzufuhr!K229)","v":""},{"$f":"IF(Nährstoffzufuhr!L229=\"\",\"\",Nährstoffzufuhr!L229)","v":""},{"$f":"IF(Nährstoffzufuhr!M229=\"\",\"\",Nährstoffzufuhr!M229)","v":""}]
[{"$f":"IF(Nährstoffzufuhr!A230=\"\",\"\",Nährstoffzufuhr!A230)","v":"Luzernegras (30 : 70)"},{"$f":"IF(Nährstoffzufuhr!B230=\"\",\"\",Nährstoffzufuhr!B230)","v":""},{"$f":"IF(Nährstoffzufuhr!C230=\"\",\"\",Nährstoffzufuhr!C230)","v":530},{"$f":"IF(Nährstoffzufuhr!D230=\"\",\"\",Nährstoffzufuhr!D230)","v":""},{"$f":"Nährstoffzufuhr!E230","v":0},{"$f":"IF(Nährstoffzufuhr!F230=\"\",\"\",Nährstoffzufuhr!F230)","v":0},{"$f":"IF(Nährstoffzufuhr!G230=\"\",\"\",Nährstoffzufuhr!G230)","v":106},{"$f":"IF(Nährstoffzufuhr!H230=\"\",\"\",Nährstoffzufuhr!H230)","v":0.2},{"$f":"IF(Nährstoffzufuhr!I230=\"\",\"\",Nährstoffzufuhr!I230)","v":""},{"$f":"IF(Nährstoffzufuhr!J230=\"\",\"\",Nährstoffzufuhr!J230)","v":""},{"$f":"IF(Nährstoffzufuhr!K230=\"\",\"\",Nährstoffzufuhr!K230)","v":""},{"$f":"IF(Nährstoffzufuhr!L230=\"\",\"\",Nährstoffzufuhr!L230)","v":""},{"$f":"IF(Nährstoffzufuhr!M230=\"\",\"\",Nährstoffzufuhr!M230)","v":""}]
[{"$f":"IF(Nährstoffzufuhr!A231=\"\",\"\",Nährstoffzufuhr!A231)","v":"Seradella"},{"$f":"IF(Nährstoffzufuhr!B231=\"\",\"\",Nährstoffzufuhr!B231)","v":""},{"$f":"IF(Nährstoffzufuhr!C231=\"\",\"\",Nährstoffzufuhr!C231)","v":150},{"$f":"IF(Nährstoffzufuhr!D231=\"\",\"\",Nährstoffzufuhr!D231)","v":""},{"$f":"Nährstoffzufuhr!E231","v":0},{"$f":"IF(Nährstoffzufuhr!F231=\"\",\"\",Nährstoffzufuhr!F231)","v":0},{"$f":"IF(Nährstoffzufuhr!G231=\"\",\"\",Nährstoffzufuhr!G231)","v":57},{"$f":"IF(Nährstoffzufuhr!H231=\"\",\"\",Nährstoffzufuhr!H231)","v":0.38},{"$f":"IF(Nährstoffzufuhr!I231=\"\",\"\",Nährstoffzufuhr!I231)","v":""},{"$f":"IF(Nährstoffzufuhr!J231=\"\",\"\",Nährstoffzufuhr!J231)","v":""},{"$f":"IF(Nährstoffzufuhr!K231=\"\",\"\",Nährstoffzufuhr!K231)","v":""},{"$f":"IF(Nährstoffzufuhr!L231=\"\",\"\",Nährstoffzufuhr!L231)","v":""},{"$f":"IF(Nährstoffzufuhr!M231=\"\",\"\",Nährstoffzufuhr!M231)","v":""}]
[{"$f":"IF(Nährstoffzufuhr!A232=\"\",\"\",Nährstoffzufuhr!A232)","v":"Sonst. Einjährige Leguminosenfutterpflanzen"},{"$f":"IF(Nährstoffzufuhr!B232=\"\",\"\",Nährstoffzufuhr!B232)","v":""},{"$f":"IF(Nährstoffzufuhr!C232=\"\",\"\",Nährstoffzufuhr!C232)","v":250},{"$f":"IF(Nährstoffzufuhr!D232=\"\",\"\",Nährstoffzufuhr!D232)","v":""},{"$f":"Nährstoffzufuhr!E232","v":0},{"$f":"IF(Nährstoffzufuhr!F232=\"\",\"\",Nährstoffzufuhr!F232)","v":0},{"$f":"IF(Nährstoffzufuhr!G232=\"\",\"\",Nährstoffzufuhr!G232)","v":95},{"$f":"IF(Nährstoffzufuhr!H232=\"\",\"\",Nährstoffzufuhr!H232)","v":0.38},{"$f":"IF(Nährstoffzufuhr!I232=\"\",\"\",Nährstoffzufuhr!I232)","v":""},{"$f":"IF(Nährstoffzufuhr!J232=\"\",\"\",Nährstoffzufuhr!J232)","v":""},{"$f":"IF(Nährstoffzufuhr!K232=\"\",\"\",Nährstoffzufuhr!K232)","v":""},{"$f":"IF(Nährstoffzufuhr!L232=\"\",\"\",Nährstoffzufuhr!L232)","v":""},{"$f":"IF(Nährstoffzufuhr!M232=\"\",\"\",Nährstoffzufuhr!M232)","v":""}]
[{"$f":"IF(Nährstoffzufuhr!A233=\"\",\"\",Nährstoffzufuhr!A233)","v":"Wicke, Futter (20% TM)"},{"$f":"IF(Nährstoffzufuhr!B233=\"\",\"\",Nährstoffzufuhr!B233)","v":""},{"$f":"IF(Nährstoffzufuhr!C233=\"\",\"\",Nährstoffzufuhr!C233)","v":200},{"$f":"IF(Nährstoffzufuhr!D233=\"\",\"\",Nährstoffzufuhr!D233)","v":""},{"$f":"Nährstoffzufuhr!E233","v":0},{"$f":"IF(Nährstoffzufuhr!F233=\"\",\"\",Nährstoffzufuhr!F233)","v":0},{"$f":"IF(Nährstoffzufuhr!G233=\"\",\"\",Nährstoffzufuhr!G233)","v":76},{"$f":"IF(Nährstoffzufuhr!H233=\"\",\"\",Nährstoffzufuhr!H233)","v":0.38},{"$f":"IF(Nährstoffzufuhr!I233=\"\",\"\",Nährstoffzufuhr!I233)","v":""},{"$f":"IF(Nährstoffzufuhr!J233=\"\",\"\",Nährstoffzufuhr!J233)","v":""},{"$f":"IF(Nährstoffzufuhr!K233=\"\",\"\",Nährstoffzufuhr!K233)","v":""},{"$f":"IF(Nährstoffzufuhr!L233=\"\",\"\",Nährstoffzufuhr!L233)","v":""},{"$f":"IF(Nährstoffzufuhr!M233=\"\",\"\",Nährstoffzufuhr!M233)","v":""}]
[{"$f":"IF(Nährstoffzufuhr!A234=\"\",\"\",Nährstoffzufuhr!A234)","v":"Wicke, Sommer"},{"$f":"IF(Nährstoffzufuhr!B234=\"\",\"\",Nährstoffzufuhr!B234)","v":""},{"$f":"IF(Nährstoffzufuhr!C234=\"\",\"\",Nährstoffzufuhr!C234)","v":250},{"$f":"IF(Nährstoffzufuhr!D234=\"\",\"\",Nährstoffzufuhr!D234)","v":""},{"$f":"Nährstoffzufuhr!E234","v":0},{"$f":"IF(Nährstoffzufuhr!F234=\"\",\"\",Nährstoffzufuhr!F234)","v":0},{"$f":"IF(Nährstoffzufuhr!G234=\"\",\"\",Nährstoffzufuhr!G234)","v":60},{"$f":"IF(Nährstoffzufuhr!H234=\"\",\"\",Nährstoffzufuhr!H234)","v":0.24},{"$f":"IF(Nährstoffzufuhr!I234=\"\",\"\",Nährstoffzufuhr!I234)","v":""},{"$f":"IF(Nährstoffzufuhr!J234=\"\",\"\",Nährstoffzufuhr!J234)","v":""},{"$f":"IF(Nährstoffzufuhr!K234=\"\",\"\",Nährstoffzufuhr!K234)","v":""},{"$f":"IF(Nährstoffzufuhr!L234=\"\",\"\",Nährstoffzufuhr!L234)","v":""},{"$f":"IF(Nährstoffzufuhr!M234=\"\",\"\",Nährstoffzufuhr!M234)","v":""}]
[{"$f":"IF(Nährstoffzufuhr!A235=\"\",\"\",Nährstoffzufuhr!A235)","v":"Erbsen/Wicken/Sonnenblumen"},{"$f":"IF(Nährstoffzufuhr!B235=\"\",\"\",Nährstoffzufuhr!B235)","v":""},{"$f":"IF(Nährstoffzufuhr!C235=\"\",\"\",Nährstoffzufuhr!C235)","v":250},{"$f":"IF(Nährstoffzufuhr!D235=\"\",\"\",Nährstoffzufuhr!D235)","v":""},{"$f":"Nährstoffzufuhr!E235","v":0},{"$f":"IF(Nährstoffzufuhr!F235=\"\",\"\",Nährstoffzufuhr!F235)","v":0},{"$f":"IF(Nährstoffzufuhr!G235=\"\",\"\",Nährstoffzufuhr!G235)","v":60},{"$f":"IF(Nährstoffzufuhr!H235=\"\",\"\",Nährstoffzufuhr!H235)","v":0.24},{"$f":"IF(Nährstoffzufuhr!I235=\"\",\"\",Nährstoffzufuhr!I235)","v":""},{"$f":"IF(Nährstoffzufuhr!J235=\"\",\"\",Nährstoffzufuhr!J235)","v":""},{"$f":"IF(Nährstoffzufuhr!K235=\"\",\"\",Nährstoffzufuhr!K235)","v":""},{"$f":"IF(Nährstoffzufuhr!L235=\"\",\"\",Nährstoffzufuhr!L235)","v":""},{"$f":"IF(Nährstoffzufuhr!M235=\"\",\"\",Nährstoffzufuhr!M235)","v":""}]
[{"$f":"IF(Nährstoffzufuhr!A236=\"\",\"\",Nährstoffzufuhr!A236)","v":"Untersaat mit Leguminosen"},{"$f":"IF(Nährstoffzufuhr!B236=\"\",\"\",Nährstoffzufuhr!B236)","v":""},{"$f":"IF(Nährstoffzufuhr!C236=\"\",\"\",Nährstoffzufuhr!C236)","v":150},{"$f":"IF(Nährstoffzufuhr!D236=\"\",\"\",Nährstoffzufuhr!D236)","v":""},{"$f":"Nährstoffzufuhr!E236","v":0},{"$f":"IF(Nährstoffzufuhr!F236=\"\",\"\",Nährstoffzufuhr!F236)","v":0},{"$f":"IF(Nährstoffzufuhr!G236=\"\",\"\",Nährstoffzufuhr!G236)","v":36},{"$f":"IF(Nährstoffzufuhr!H236=\"\",\"\",Nährstoffzufuhr!H236)","v":0.24},{"$f":"IF(Nährstoffzufuhr!I236=\"\",\"\",Nährstoffzufuhr!I236)","v":""},{"$f":"IF(Nährstoffzufuhr!J236=\"\",\"\",Nährstoffzufuhr!J236)","v":""},{"$f":"IF(Nährstoffzufuhr!K236=\"\",\"\",Nährstoffzufuhr!K236)","v":""},{"$f":"IF(Nährstoffzufuhr!L236=\"\",\"\",Nährstoffzufuhr!L236)","v":""},{"$f":"IF(Nährstoffzufuhr!M236=\"\",\"\",Nährstoffzufuhr!M236)","v":""}]
[{"$f":"IF(Nährstoffzufuhr!A237=\"\",\"\",Nährstoffzufuhr!A237)","v":"zusätzl. Zwischenfrucht (Leguminosen)"},{"$f":"IF(Nährstoffzufuhr!B237=\"\",\"\",Nährstoffzufuhr!B237)","v":""},{"$f":"IF(Nährstoffzufuhr!C237=\"\",\"\",Nährstoffzufuhr!C237)","v":250},{"$f":"IF(Nährstoffzufuhr!D237=\"\",\"\",Nährstoffzufuhr!D237)","v":""},{"$f":"Nährstoffzufuhr!E237","v":0},{"$f":"IF(Nährstoffzufuhr!F237=\"\",\"\",Nährstoffzufuhr!F237)","v":0},{"$f":"IF(Nährstoffzufuhr!G237=\"\",\"\",Nährstoffzufuhr!G237)","v":60},{"$f":"IF(Nährstoffzufuhr!H237=\"\",\"\",Nährstoffzufuhr!H237)","v":0.24},{"$f":"IF(Nährstoffzufuhr!I237=\"\",\"\",Nährstoffzufuhr!I237)","v":""},{"$f":"IF(Nährstoffzufuhr!J237=\"\",\"\",Nährstoffzufuhr!J237)","v":""},{"$f":"IF(Nährstoffzufuhr!K237=\"\",\"\",Nährstoffzufuhr!K237)","v":""},{"$f":"IF(Nährstoffzufuhr!L237=\"\",\"\",Nährstoffzufuhr!L237)","v":""},{"$f":"IF(Nährstoffzufuhr!M237=\"\",\"\",Nährstoffzufuhr!M237)","v":""}]
[{"$f":"IF(Nährstoffzufuhr!A238=\"\",\"\",Nährstoffzufuhr!A238)","v":"zusätzl. Zwischenfrucht (Gemenge Leg./Nichtleg.)"},{"$f":"IF(Nährstoffzufuhr!B238=\"\",\"\",Nährstoffzufuhr!B238)","v":""},{"$f":"IF(Nährstoffzufuhr!C238=\"\",\"\",Nährstoffzufuhr!C238)","v":250},{"$f":"IF(Nährstoffzufuhr!D238=\"\",\"\",Nährstoffzufuhr!D238)","v":""},{"$f":"Nährstoffzufuhr!E238","v":0},{"$f":"IF(Nährstoffzufuhr!F238=\"\",\"\",Nährstoffzufuhr!F238)","v":0},{"$f":"IF(Nährstoffzufuhr!G238=\"\",\"\",Nährstoffzufuhr!G238)","v":50},{"$f":"IF(Nährstoffzufuhr!H238=\"\",\"\",Nährstoffzufuhr!H238)","v":0.2},{"$f":"IF(Nährstoffzufuhr!I238=\"\",\"\",Nährstoffzufuhr!I238)","v":""},{"$f":"IF(Nährstoffzufuhr!J238=\"\",\"\",Nährstoffzufuhr!J238)","v":""},{"$f":"IF(Nährstoffzufuhr!K238=\"\",\"\",Nährstoffzufuhr!K238)","v":""},{"$f":"IF(Nährstoffzufuhr!L238=\"\",\"\",Nährstoffzufuhr!L238)","v":""},{"$f":"IF(Nährstoffzufuhr!M238=\"\",\"\",Nährstoffzufuhr!M238)","v":""}]
[{"$f":"IF(Nährstoffzufuhr!A239=\"\",\"\",Nährstoffzufuhr!A239)","v":""},{"$f":"IF(Nährstoffzufuhr!B239=\"\",\"\",Nährstoffzufuhr!B239)","v":""},{"$f":"IF(Nährstoffzufuhr!C239=\"\",\"\",Nährstoffzufuhr!C239)","v":""},{"$f":"IF(Nährstoffzufuhr!D239=\"\",\"\",Nährstoffzufuhr!D239)","v":""},{"$f":"Nährstoffzufuhr!E239","v":0},{"$f":"IF(Nährstoffzufuhr!F239=\"\",\"\",Nährstoffzufuhr!F239)","v":0},{"$f":"IF(Nährstoffzufuhr!G239=\"\",\"\",Nährstoffzufuhr!G239)","v":0},{"$f":"IF(Nährstoffzufuhr!H239=\"\",\"\",Nährstoffzufuhr!H239)","v":""},{"$f":"IF(Nährstoffzufuhr!I239=\"\",\"\",Nährstoffzufuhr!I239)","v":""},{"$f":"IF(Nährstoffzufuhr!J239=\"\",\"\",Nährstoffzufuhr!J239)","v":""},{"$f":"IF(Nährstoffzufuhr!K239=\"\",\"\",Nährstoffzufuhr!K239)","v":""},{"$f":"IF(Nährstoffzufuhr!L239=\"\",\"\",Nährstoffzufuhr!L239)","v":""},{"$f":"IF(Nährstoffzufuhr!M239=\"\",\"\",Nährstoffzufuhr!M239)","v":""}]
[{"$f":"IF(Nährstoffzufuhr!A240=\"\",\"\",Nährstoffzufuhr!A240)","v":""},{"$f":"IF(Nährstoffzufuhr!B240=\"\",\"\",Nährstoffzufuhr!B240)","v":""},{"$f":"IF(Nährstoffzufuhr!C240=\"\",\"\",Nährstoffzufuhr!C240)","v":""},{"$f":"IF(Nährstoffzufuhr!D240=\"\",\"\",Nährstoffzufuhr!D240)","v":""},{"$f":"Nährstoffzufuhr!E240","v":0},{"$f":"IF(Nährstoffzufuhr!F240=\"\",\"\",Nährstoffzufuhr!F240)","v":0},{"$f":"IF(Nährstoffzufuhr!G240=\"\",\"\",Nährstoffzufuhr!G240)","v":0},{"$f":"IF(Nährstoffzufuhr!H240=\"\",\"\",Nährstoffzufuhr!H240)","v":""},{"$f":"IF(Nährstoffzufuhr!I240=\"\",\"\",Nährstoffzufuhr!I240)","v":""},{"$f":"IF(Nährstoffzufuhr!J240=\"\",\"\",Nährstoffzufuhr!J240)","v":""},{"$f":"IF(Nährstoffzufuhr!K240=\"\",\"\",Nährstoffzufuhr!K240)","v":""},{"$f":"IF(Nährstoffzufuhr!L240=\"\",\"\",Nährstoffzufuhr!L240)","v":""},{"$f":"IF(Nährstoffzufuhr!M240=\"\",\"\",Nährstoffzufuhr!M240)","v":""}]
[{"$f":"IF(Nährstoffzufuhr!A241=\"\",\"\",Nährstoffzufuhr!A241)","v":""},{"$f":"IF(Nährstoffzufuhr!B241=\"\",\"\",Nährstoffzufuhr!B241)","v":""},{"$f":"IF(Nährstoffzufuhr!C241=\"\",\"\",Nährstoffzufuhr!C241)","v":""},{"$f":"IF(Nährstoffzufuhr!D241=\"\",\"\",Nährstoffzufuhr!D241)","v":""},{"$f":"Nährstoffzufuhr!E241","v":0},{"$f":"IF(Nährstoffzufuhr!F241=\"\",\"\",Nährstoffzufuhr!F241)","v":0},{"$f":"IF(Nährstoffzufuhr!G241=\"\",\"\",Nährstoffzufuhr!G241)","v":0},{"$f":"IF(Nährstoffzufuhr!H241=\"\",\"\",Nährstoffzufuhr!H241)","v":""},{"$f":"IF(Nährstoffzufuhr!I241=\"\",\"\",Nährstoffzufuhr!I241)","v":""},{"$f":"IF(Nährstoffzufuhr!J241=\"\",\"\",Nährstoffzufuhr!J241)","v":""},{"$f":"IF(Nährstoffzufuhr!K241=\"\",\"\",Nährstoffzufuhr!K241)","v":""},{"$f":"IF(Nährstoffzufuhr!L241=\"\",\"\",Nährstoffzufuhr!L241)","v":""},{"$f":"IF(Nährstoffzufuhr!M241=\"\",\"\",Nährstoffzufuhr!M241)","v":""}]
[{"$f":"IF(Nährstoffzufuhr!A242=\"\",\"\",Nährstoffzufuhr!A242)","v":""},{"$f":"IF(Nährstoffzufuhr!B242=\"\",\"\",Nährstoffzufuhr!B242)","v":""},{"$f":"IF(Nährstoffzufuhr!C242=\"\",\"\",Nährstoffzufuhr!C242)","v":""},{"$f":"IF(Nährstoffzufuhr!D242=\"\",\"\",Nährstoffzufuhr!D242)","v":""},{"$f":"Nährstoffzufuhr!E242","v":0},{"$f":"IF(Nährstoffzufuhr!F242=\"\",\"\",Nährstoffzufuhr!F242)","v":0},{"$f":"IF(Nährstoffzufuhr!G242=\"\",\"\",Nährstoffzufuhr!G242)","v":0},{"$f":"IF(Nährstoffzufuhr!H242=\"\",\"\",Nährstoffzufuhr!H242)","v":""},{"$f":"IF(Nährstoffzufuhr!I242=\"\",\"\",Nährstoffzufuhr!I242)","v":""},{"$f":"IF(Nährstoffzufuhr!J242=\"\",\"\",Nährstoffzufuhr!J242)","v":""},{"$f":"IF(Nährstoffzufuhr!K242=\"\",\"\",Nährstoffzufuhr!K242)","v":""},{"$f":"IF(Nährstoffzufuhr!L242=\"\",\"\",Nährstoffzufuhr!L242)","v":""},{"$f":"IF(Nährstoffzufuhr!M242=\"\",\"\",Nährstoffzufuhr!M242)","v":""},null," "]
[{"$f":"IF(Nährstoffzufuhr!A243=\"\",\"\",Nährstoffzufuhr!A243)","v":""},{"$f":"IF(Nährstoffzufuhr!B243=\"\",\"\",Nährstoffzufuhr!B243)","v":""},{"$f":"IF(Nährstoffzufuhr!C243=\"\",\"\",Nährstoffzufuhr!C243)","v":""},{"$f":"IF(Nährstoffzufuhr!D243=\"\",\"\",Nährstoffzufuhr!D243)","v":""},{"$f":"Nährstoffzufuhr!E243","v":0},{"$f":"IF(Nährstoffzufuhr!F243=\"\",\"\",Nährstoffzufuhr!F243)","v":0},{"$f":"IF(Nährstoffzufuhr!G243=\"\",\"\",Nährstoffzufuhr!G243)","v":0},{"$f":"IF(Nährstoffzufuhr!H243=\"\",\"\",Nährstoffzufuhr!H243)","v":""},{"$f":"IF(Nährstoffzufuhr!I243=\"\",\"\",Nährstoffzufuhr!I243)","v":""},{"$f":"IF(Nährstoffzufuhr!J243=\"\",\"\",Nährstoffzufuhr!J243)","v":""},{"$f":"IF(Nährstoffzufuhr!K243=\"\",\"\",Nährstoffzufuhr!K243)","v":""},{"$f":"IF(Nährstoffzufuhr!L243=\"\",\"\",Nährstoffzufuhr!L243)","v":""},{"$f":"IF(Nährstoffzufuhr!M243=\"\",\"\",Nährstoffzufuhr!M243)","v":""}]
[{"$f":"IF(Nährstoffzufuhr!A244=\"\",\"\",Nährstoffzufuhr!A244)","v":""},{"$f":"IF(Nährstoffzufuhr!B244=\"\",\"\",Nährstoffzufuhr!B244)","v":""},{"$f":"IF(Nährstoffzufuhr!C244=\"\",\"\",Nährstoffzufuhr!C244)","v":""},{"$f":"IF(Nährstoffzufuhr!D244=\"\",\"\",Nährstoffzufuhr!D244)","v":""},{"$f":"Nährstoffzufuhr!E244","v":0},{"$f":"IF(Nährstoffzufuhr!F244=\"\",\"\",Nährstoffzufuhr!F244)","v":0},{"$f":"IF(Nährstoffzufuhr!G244=\"\",\"\",Nährstoffzufuhr!G244)","v":0},{"$f":"IF(Nährstoffzufuhr!H244=\"\",\"\",Nährstoffzufuhr!H244)","v":""},{"$f":"IF(Nährstoffzufuhr!I244=\"\",\"\",Nährstoffzufuhr!I244)","v":""},{"$f":"IF(Nährstoffzufuhr!J244=\"\",\"\",Nährstoffzufuhr!J244)","v":""},{"$f":"IF(Nährstoffzufuhr!K244=\"\",\"\",Nährstoffzufuhr!K244)","v":""},{"$f":"IF(Nährstoffzufuhr!L244=\"\",\"\",Nährstoffzufuhr!L244)","v":""},{"$f":"IF(Nährstoffzufuhr!M244=\"\",\"\",Nährstoffzufuhr!M244)","v":""}]
[{"$f":"IF(Nährstoffzufuhr!A245=\"\",\"\",Nährstoffzufuhr!A245)","v":""},{"$f":"IF(Nährstoffzufuhr!B245=\"\",\"\",Nährstoffzufuhr!B245)","v":""},{"$f":"IF(Nährstoffzufuhr!C245=\"\",\"\",Nährstoffzufuhr!C245)","v":""},{"$f":"IF(Nährstoffzufuhr!D245=\"\",\"\",Nährstoffzufuhr!D245)","v":""},{"$f":"Nährstoffzufuhr!E245","v":0},{"$f":"IF(Nährstoffzufuhr!F245=\"\",\"\",Nährstoffzufuhr!F245)","v":0},{"$f":"IF(Nährstoffzufuhr!G245=\"\",\"\",Nährstoffzufuhr!G245)","v":0},{"$f":"IF(Nährstoffzufuhr!H245=\"\",\"\",Nährstoffzufuhr!H245)","v":""},{"$f":"IF(Nährstoffzufuhr!I245=\"\",\"\",Nährstoffzufuhr!I245)","v":""},{"$f":"IF(Nährstoffzufuhr!J245=\"\",\"\",Nährstoffzufuhr!J245)","v":""},{"$f":"IF(Nährstoffzufuhr!K245=\"\",\"\",Nährstoffzufuhr!K245)","v":""},{"$f":"IF(Nährstoffzufuhr!L245=\"\",\"\",Nährstoffzufuhr!L245)","v":""},{"$f":"IF(Nährstoffzufuhr!M245=\"\",\"\",Nährstoffzufuhr!M245)","v":""},null,null,null," "]
[{"$f":"IF(Nährstoffzufuhr!A246=\"\",\"\",Nährstoffzufuhr!A246)","v":"Summe"},{"$f":"IF(Nährstoffzufuhr!B246=\"\",\"\",Nährstoffzufuhr!B246)","v":""},{"$f":"IF(Nährstoffzufuhr!C246=\"\",\"\",Nährstoffzufuhr!C246)","v":""},{"$f":"IF(Nährstoffzufuhr!D246=\"\",\"\",Nährstoffzufuhr!D246)","v":""},{"$f":"IF(Nährstoffzufuhr!E246=\"\",\"\",Nährstoffzufuhr!E246)","v":0},{"$f":"IF(Nährstoffzufuhr!F246=\"\",\"\",Nährstoffzufuhr!F246)","v":0},{"$f":"IF(Nährstoffzufuhr!G246=\"\",\"\",Nährstoffzufuhr!G246)","v":""},{"$f":"IF(Nährstoffzufuhr!H246=\"\",\"\",Nährstoffzufuhr!H246)","v":""},{"$f":"IF(Nährstoffzufuhr!I246=\"\",\"\",Nährstoffzufuhr!I246)","v":""},{"$f":"IF(Nährstoffzufuhr!J246=\"\",\"\",Nährstoffzufuhr!J246)","v":""},{"$f":"IF(Nährstoffzufuhr!K246=\"\",\"\",Nährstoffzufuhr!K246)","v":""},{"$f":"IF(Nährstoffzufuhr!L246=\"\",\"\",Nährstoffzufuhr!L246)","v":""},{"$f":"IF(Nährstoffzufuhr!M246=\"\",\"\",Nährstoffzufuhr!M246)","v":""}]
[{"$f":"IF(Nährstoffzufuhr!A247=\"\",\"\",Nährstoffzufuhr!A247)","v":""},{"$f":"IF(Nährstoffzufuhr!B247=\"\",\"\",Nährstoffzufuhr!B247)","v":""},{"$f":"IF(Nährstoffzufuhr!C247=\"\",\"\",Nährstoffzufuhr!C247)","v":""},{"$f":"IF(Nährstoffzufuhr!D247=\"\",\"\",Nährstoffzufuhr!D247)","v":""},{"$f":"IF(Nährstoffzufuhr!E247=\"\",\"\",Nährstoffzufuhr!E247)","v":""},{"$f":"IF(Nährstoffzufuhr!F247=\"\",\"\",Nährstoffzufuhr!F247)","v":""},{"$f":"IF(Nährstoffzufuhr!G247=\"\",\"\",Nährstoffzufuhr!G247)","v":""},{"$f":"IF(Nährstoffzufuhr!H247=\"\",\"\",Nährstoffzufuhr!H247)","v":""},{"$f":"IF(Nährstoffzufuhr!I247=\"\",\"\",Nährstoffzufuhr!I247)","v":""},{"$f":"IF(Nährstoffzufuhr!J247=\"\",\"\",Nährstoffzufuhr!J247)","v":""},{"$f":"IF(Nährstoffzufuhr!K247=\"\",\"\",Nährstoffzufuhr!K247)","v":""},{"$f":"IF(Nährstoffzufuhr!L247=\"\",\"\",Nährstoffzufuhr!L247)","v":""},{"$f":"IF(Nährstoffzufuhr!M247=\"\",\"\",Nährstoffzufuhr!M247)","v":""}]
[{"$f":"IF(Nährstoffzufuhr!A248=\"\",\"\",Nährstoffzufuhr!A248)","v":""},{"$f":"IF(Nährstoffzufuhr!B248=\"\",\"\",Nährstoffzufuhr!B248)","v":""},{"$f":"IF(Nährstoffzufuhr!C248=\"\",\"\",Nährstoffzufuhr!C248)","v":""},{"$f":"IF(Nährstoffzufuhr!D248=\"\",\"\",Nährstoffzufuhr!D248)","v":""},{"$f":"IF(Nährstoffzufuhr!E248=\"\",\"\",Nährstoffzufuhr!E248)","v":""},{"$f":"IF(Nährstoffzufuhr!F248=\"\",\"\",Nährstoffzufuhr!F248)","v":""},{"$f":"IF(Nährstoffzufuhr!G248=\"\",\"\",Nährstoffzufuhr!G248)","v":""},{"$f":"IF(Nährstoffzufuhr!H248=\"\",\"\",Nährstoffzufuhr!H248)","v":""}]
[{"$f":"IF(Nährstoffzufuhr!A249=\"\",\"\",Nährstoffzufuhr!A249)","v":""},{"$f":"IF(Nährstoffzufuhr!B249=\"\",\"\",Nährstoffzufuhr!B249)","v":""},{"$f":"IF(Nährstoffzufuhr!C249=\"\",\"\",Nährstoffzufuhr!C249)","v":""},{"$f":"IF(Nährstoffzufuhr!D249=\"\",\"\",Nährstoffzufuhr!D249)","v":""},{"$f":"IF(Nährstoffzufuhr!E249=\"\",\"\",Nährstoffzufuhr!E249)","v":""},{"$f":"IF(Nährstoffzufuhr!F249=\"\",\"\",Nährstoffzufuhr!F249)","v":""},{"$f":"IF(Nährstoffzufuhr!G249=\"\",\"\",Nährstoffzufuhr!G249)","v":""},{"$f":"IF(Nährstoffzufuhr!H249=\"\",\"\",Nährstoffzufuhr!H249)","v":""}]
[{"$f":"IF(Nährstoffzufuhr!A250=\"\",\"\",Nährstoffzufuhr!A250)","v":""},{"$f":"IF(Nährstoffzufuhr!B250=\"\",\"\",Nährstoffzufuhr!B250)","v":""},{"$f":"IF(Nährstoffzufuhr!C250=\"\",\"\",Nährstoffzufuhr!C250)","v":""},{"$f":"IF(Nährstoffzufuhr!D250=\"\",\"\",Nährstoffzufuhr!D250)","v":""},{"$f":"IF(Nährstoffzufuhr!E250=\"\",\"\",Nährstoffzufuhr!E250)","v":""},{"$f":"IF(Nährstoffzufuhr!F250=\"\",\"\",Nährstoffzufuhr!F250)","v":""},{"$f":"IF(Nährstoffzufuhr!G250=\"\",\"\",Nährstoffzufuhr!G250)","v":""},{"$f":"IF(Nährstoffzufuhr!H250=\"\",\"\",Nährstoffzufuhr!H250)","v":""}]
[]
[]
[]
["Nährstoffabgabe",{"$f":"Betriebsangaben_Vorgehensweise!F8","v":0}]
[]
["Betrieb:",{"$f":"Betriebsangaben_Vorgehensweise!B4","v":0},null,null,null,null,{"$f":"IF(Nährstoffabgabe!G622=\"\",\"\",Nährstoffabgabe!G622)","v":"Anbaufläche"},{"$f":"IF([1]Nährstoffabgabe!H3=\"\",\"\",[1]Nährstoffabgabe!H3)","v":0},{"$f":"IF(Nährstoffabgabe!I622=\"\",\"\",Nährstoffabgabe!I622)","v":"Nährstoffabgabe kg/Betrieb"},{"$f":"IF([1]Nährstoffabgabe!J3=\"\",\"\",[1]Nährstoffabgabe!J3)","v":0},{"$f":"IF([1]Nährstoffabgabe!K3=\"\",\"\",[1]Nährstoffabgabe!K3)","v":"Datum:"},{"$f":"IF([1]Nährstoffabgabe!L3=\"\",\"\",[1]Nährstoffabgabe!L3)","v":0},{"$f":"IF([1]Nährstoffabgabe!M3=\"\",\"\",[1]Nährstoffabgabe!M3)","v":45306}]
[null,{"$f":"Betriebsangaben_Vorgehensweise!B5","v":0},null,null,null,null,{"$f":"IF(Nährstoffabgabe!G623=\"\",\"\",Nährstoffabgabe!G623)","v":0},{"$f":"IF([1]Nährstoffabgabe!H4=\"\",\"\",[1]Nährstoffabgabe!H4)","v":""},{"$f":"IF(Nährstoffabgabe!I623=\"\",\"\",Nährstoffabgabe!I623)","v":"Gesamt"},{"$f":"IF(Nährstoffabgabe!J623=\"\",\"\",Nährstoffabgabe!J623)","v":"N"},{"$f":"IF(Nährstoffabgabe!K623=\"\",\"\",Nährstoffabgabe!K623)","v":"P2O5"},{"$f":"IF(Nährstoffabgabe!L623=\"\",\"\",Nährstoffabgabe!L623)","v":"K2O"},{"$f":"IF(Nährstoffabgabe!M623=\"\",\"\",Nährstoffabgabe!M623)","v":"MgO"}]
[null,{"$f":"Betriebsangaben_Vorgehensweise!B6","v":0},null,null,null,null,{"$f":"IF([1]Nährstoffabgabe!G5=\"\",\"\",[1]Nährstoffabgabe!G5)","v":""},{"$f":"IF([1]Nährstoffabgabe!H5=\"\",\"\",[1]Nährstoffabgabe!H5)","v":""},{"$f":"IF([1]Nährstoffabgabe!I5=\"\",\"\",[1]Nährstoffabgabe!I5)","v":""},{"$f":"IF(Nährstoffabgabe!J624=\"\",\"\",Nährstoffabgabe!J624)","v":0},{"$f":"IF(Nährstoffabgabe!K624=\"\",\"\",Nährstoffabgabe!K624)","v":0},{"$f":"IF(Nährstoffabgabe!L624=\"\",\"\",Nährstoffabgabe!L624)","v":0},{"$f":"IF(Nährstoffabgabe!M624=\"\",\"\",Nährstoffabgabe!M624)","v":0}]
[]
[]
[]
[]
[]
[]
[{"$f":"IF(Nährstoffabgabe!A12=\"\",\"\",Nährstoffabgabe!A12)","v":"Gemüse"},{"$f":"IF(Nährstoffabgabe!B12=\"\",\"\",Nährstoffabgabe!B12)","v":"Marktertrag \ndt/ha FM"},{"$f":"IF(Nährstoffabgabe!C12=\"\",\"\",Nährstoffabgabe!C12)","v":""},null,{"$f":"IF(Nährstoffabgabe!E12=\"\",\"\",Nährstoffabgabe!E12)","v":"Abgabemenge"},{"$f":"IF(Nährstoffabgabe!F12=\"\",\"\",Nährstoffabgabe!F12)","v":"Nährstoffgehalt kg/dt FM"},null,null,null,{"$f":"IF(Nährstoffabgabe!J12=\"\",\"\",Nährstoffabgabe!J12)","v":"Nährstoffabgabe kg/Betrieb\n(inkl. Nährstofffestlegung)"}]
[null,{"$f":"IF(Nährstoffabgabe!B13=\"\",\"\",Nährstoffabgabe!B13)","v":"Vorschlag"},{"$f":"IF(Nährstoffabgabe!C13=\"\",\"\",Nährstoffabgabe!C13)","v":"Betrieb"},{"$f":"IF(Nährstoffabgabe!D13=\"\",\"\",Nährstoffabgabe!D13)","v":"ha"},{"$f":"IF(Nährstoffabgabe!E13=\"\",\"\",Nährstoffabgabe!E13)","v":"dt FM"},{"$f":"IF(Nährstoffabgabe!F13=\"\",\"\",Nährstoffabgabe!F13)","v":"N"},{"$f":"IF(Nährstoffabgabe!G13=\"\",\"\",Nährstoffabgabe!G13)","v":"P2O5"},{"$f":"IF(Nährstoffabgabe!H13=\"\",\"\",Nährstoffabgabe!H13)","v":"K2O"},{"$f":"IF(Nährstoffabgabe!I13=\"\",\"\",Nährstoffabgabe!I13)","v":"MgO"},{"$f":"IF(Nährstoffabgabe!J13=\"\",\"\",Nährstoffabgabe!J13)","v":"N"},{"$f":"IF(Nährstoffabgabe!K13=\"\",\"\",Nährstoffabgabe!K13)","v":"P2O5"},{"$f":"IF(Nährstoffabgabe!L13=\"\",\"\",Nährstoffabgabe!L13)","v":"K2O"},{"$f":"IF(Nährstoffabgabe!M13=\"\",\"\",Nährstoffabgabe!M13)","v":"MgO"}]
[{"$f":"IF(Nährstoffabgabe!A14=\"\",\"\",Nährstoffabgabe!A14)","v":"Artischocke"},{"$f":"IF(Nährstoffabgabe!B14=\"\",\"\",Nährstoffabgabe!B14)","v":160},{"$f":"IF(Nährstoffabgabe!C14=\"\",\"\",Nährstoffabgabe!C14)","v":""},{"$f":"IF(Nährstoffabgabe!D14=\"\",\"\",Nährstoffabgabe!D14)","v":""},{"$f":"Nährstoffabgabe!E14","v":0},{"$f":"IF(Nährstoffabgabe!F14=\"\",\"\",Nährstoffabgabe!F14)","v":0.19},{"$f":"IF(Nährstoffabgabe!G14=\"\",\"\",Nährstoffabgabe!G14)","v":0.25},{"$f":"IF(Nährstoffabgabe!H14=\"\",\"\",Nährstoffabgabe!H14)","v":0.88},{"$f":"IF(Nährstoffabgabe!I14=\"\",\"\",Nährstoffabgabe!I14)","v":0.13},{"$f":"IF(Nährstoffabgabe!J14=\"\",\"\",Nährstoffabgabe!J14)","v":0},{"$f":"IF(Nährstoffabgabe!K14=\"\",\"\",Nährstoffabgabe!K14)","v":0},{"$f":"IF(Nährstoffabgabe!L14=\"\",\"\",Nährstoffabgabe!L14)","v":0},{"$f":"IF(Nährstoffabgabe!M14=\"\",\"\",Nährstoffabgabe!M14)","v":0}]
[{"$f":"IF(Nährstoffabgabe!A15=\"\",\"\",Nährstoffabgabe!A15)","v":"Aubergine"},{"$f":"IF(Nährstoffabgabe!B15=\"\",\"\",Nährstoffabgabe!B15)","v":600},{"$f":"IF(Nährstoffabgabe!C15=\"\",\"\",Nährstoffabgabe!C15)","v":""},{"$f":"IF(Nährstoffabgabe!D15=\"\",\"\",Nährstoffabgabe!D15)","v":""},{"$f":"Nährstoffabgabe!E15","v":0},{"$f":"IF(Nährstoffabgabe!F15=\"\",\"\",Nährstoffabgabe!F15)","v":0.28000000000000003},{"$f":"IF(Nährstoffabgabe!G15=\"\",\"\",Nährstoffabgabe!G15)","v":0.05},{"$f":"IF(Nährstoffabgabe!H15=\"\",\"\",Nährstoffabgabe!H15)","v":0.3},{"$f":"IF(Nährstoffabgabe!I15=\"\",\"\",Nährstoffabgabe!I15)","v":0.06},{"$f":"IF(Nährstoffabgabe!J15=\"\",\"\",Nährstoffabgabe!J15)","v":0},{"$f":"IF(Nährstoffabgabe!K15=\"\",\"\",Nährstoffabgabe!K15)","v":0},{"$f":"IF(Nährstoffabgabe!L15=\"\",\"\",Nährstoffabgabe!L15)","v":0},{"$f":"IF(Nährstoffabgabe!M15=\"\",\"\",Nährstoffabgabe!M15)","v":0}]
[{"$f":"IF(Nährstoffabgabe!A16=\"\",\"\",Nährstoffabgabe!A16)","v":"Blumenkohl"},{"$f":"IF(Nährstoffabgabe!B16=\"\",\"\",Nährstoffabgabe!B16)","v":350},{"$f":"IF(Nährstoffabgabe!C16=\"\",\"\",Nährstoffabgabe!C16)","v":""},{"$f":"IF(Nährstoffabgabe!D16=\"\",\"\",Nährstoffabgabe!D16)","v":""},{"$f":"Nährstoffabgabe!E16","v":0},{"$f":"IF(Nährstoffabgabe!F16=\"\",\"\",Nährstoffabgabe!F16)","v":0.28000000000000003},{"$f":"IF(Nährstoffabgabe!G16=\"\",\"\",Nährstoffabgabe!G16)","v":0.10309499999999999},{"$f":"IF(Nährstoffabgabe!H16=\"\",\"\",Nährstoffabgabe!H16)","v":0.36119999999999997},{"$f":"IF(Nährstoffabgabe!I16=\"\",\"\",Nährstoffabgabe!I16)","v":1.6580000000000001E-2},{"$f":"IF(Nährstoffabgabe!J16=\"\",\"\",Nährstoffabgabe!J16)","v":0},{"$f":"IF(Nährstoffabgabe!K16=\"\",\"\",Nährstoffabgabe!K16)","v":0},{"$f":"IF(Nährstoffabgabe!L16=\"\",\"\",Nährstoffabgabe!L16)","v":0},{"$f":"IF(Nährstoffabgabe!M16=\"\",\"\",Nährstoffabgabe!M16)","v":0}]
[{"$f":"IF(Nährstoffabgabe!A17=\"\",\"\",Nährstoffabgabe!A17)","v":"Brokkoli"},{"$f":"IF(Nährstoffabgabe!B17=\"\",\"\",Nährstoffabgabe!B17)","v":150},{"$f":"IF(Nährstoffabgabe!C17=\"\",\"\",Nährstoffabgabe!C17)","v":""},{"$f":"IF(Nährstoffabgabe!D17=\"\",\"\",Nährstoffabgabe!D17)","v":""},{"$f":"Nährstoffabgabe!E17","v":0},{"$f":"IF(Nährstoffabgabe!F17=\"\",\"\",Nährstoffabgabe!F17)","v":0.45},{"$f":"IF(Nährstoffabgabe!G17=\"\",\"\",Nährstoffabgabe!G17)","v":0.14891499999999999},{"$f":"IF(Nährstoffabgabe!H17=\"\",\"\",Nährstoffabgabe!H17)","v":0.45751999999999998},{"$f":"IF(Nährstoffabgabe!I17=\"\",\"\",Nährstoffabgabe!I17)","v":3.3160000000000002E-2},{"$f":"IF(Nährstoffabgabe!J17=\"\",\"\",Nährstoffabgabe!J17)","v":0},{"$f":"IF(Nährstoffabgabe!K17=\"\",\"\",Nährstoffabgabe!K17)","v":0},{"$f":"IF(Nährstoffabgabe!L17=\"\",\"\",Nährstoffabgabe!L17)","v":0},{"$f":"IF(Nährstoffabgabe!M17=\"\",\"\",Nährstoffabgabe!M17)","v":0}]
[{"$f":"IF(Nährstoffabgabe!A18=\"\",\"\",Nährstoffabgabe!A18)","v":"Buschbohne"},{"$f":"IF(Nährstoffabgabe!B18=\"\",\"\",Nährstoffabgabe!B18)","v":120},{"$f":"IF(Nährstoffabgabe!C18=\"\",\"\",Nährstoffabgabe!C18)","v":""},{"$f":"IF(Nährstoffabgabe!D18=\"\",\"\",Nährstoffabgabe!D18)","v":""},{"$f":"Nährstoffabgabe!E18","v":0},{"$f":"IF(Nährstoffabgabe!F18=\"\",\"\",Nährstoffabgabe!F18)","v":0.25},{"$f":"IF(Nährstoffabgabe!G18=\"\",\"\",Nährstoffabgabe!G18)","v":9.1639999999999999E-2},{"$f":"IF(Nährstoffabgabe!H18=\"\",\"\",Nährstoffabgabe!H18)","v":0.30099999999999999},{"$f":"IF(Nährstoffabgabe!I18=\"\",\"\",Nährstoffabgabe!I18)","v":0.04},{"$f":"IF(Nährstoffabgabe!J18=\"\",\"\",Nährstoffabgabe!J18)","v":0},{"$f":"IF(Nährstoffabgabe!K18=\"\",\"\",Nährstoffabgabe!K18)","v":0},{"$f":"IF(Nährstoffabgabe!L18=\"\",\"\",Nährstoffabgabe!L18)","v":0},{"$f":"IF(Nährstoffabgabe!M18=\"\",\"\",Nährstoffabgabe!M18)","v":0}]
[{"$f":"IF(Nährstoffabgabe!A19=\"\",\"\",Nährstoffabgabe!A19)","v":"Chicoree-Rüben"},{"$f":"IF(Nährstoffabgabe!B19=\"\",\"\",Nährstoffabgabe!B19)","v":450},{"$f":"IF(Nährstoffabgabe!C19=\"\",\"\",Nährstoffabgabe!C19)","v":""},{"$f":"IF(Nährstoffabgabe!D19=\"\",\"\",Nährstoffabgabe!D19)","v":""},{"$f":"Nährstoffabgabe!E19","v":0},{"$f":"IF(Nährstoffabgabe!F19=\"\",\"\",Nährstoffabgabe!F19)","v":0.25},{"$f":"IF(Nährstoffabgabe!G19=\"\",\"\",Nährstoffabgabe!G19)","v":0.12142299999999999},{"$f":"IF(Nährstoffabgabe!H19=\"\",\"\",Nährstoffabgabe!H19)","v":0.54179999999999995},{"$f":"IF(Nährstoffabgabe!I19=\"\",\"\",Nährstoffabgabe!I19)","v":6.6320000000000004E-2},{"$f":"IF(Nährstoffabgabe!J19=\"\",\"\",Nährstoffabgabe!J19)","v":0},{"$f":"IF(Nährstoffabgabe!K19=\"\",\"\",Nährstoffabgabe!K19)","v":0},{"$f":"IF(Nährstoffabgabe!L19=\"\",\"\",Nährstoffabgabe!L19)","v":0},{"$f":"IF(Nährstoffabgabe!M19=\"\",\"\",Nährstoffabgabe!M19)","v":0}]
[{"$f":"IF(Nährstoffabgabe!A20=\"\",\"\",Nährstoffabgabe!A20)","v":"Chinakohl"},{"$f":"IF(Nährstoffabgabe!B20=\"\",\"\",Nährstoffabgabe!B20)","v":700},{"$f":"IF(Nährstoffabgabe!C20=\"\",\"\",Nährstoffabgabe!C20)","v":""},{"$f":"IF(Nährstoffabgabe!D20=\"\",\"\",Nährstoffabgabe!D20)","v":""},{"$f":"Nährstoffabgabe!E20","v":0},{"$f":"IF(Nährstoffabgabe!F20=\"\",\"\",Nährstoffabgabe!F20)","v":0.15},{"$f":"IF(Nährstoffabgabe!G20=\"\",\"\",Nährstoffabgabe!G20)","v":9.1639999999999999E-2},{"$f":"IF(Nährstoffabgabe!H20=\"\",\"\",Nährstoffabgabe!H20)","v":0.3},{"$f":"IF(Nährstoffabgabe!I20=\"\",\"\",Nährstoffabgabe!I20)","v":1.6580000000000001E-2},{"$f":"IF(Nährstoffabgabe!J20=\"\",\"\",Nährstoffabgabe!J20)","v":0},{"$f":"IF(Nährstoffabgabe!K20=\"\",\"\",Nährstoffabgabe!K20)","v":0},{"$f":"IF(Nährstoffabgabe!L20=\"\",\"\",Nährstoffabgabe!L20)","v":0},{"$f":"IF(Nährstoffabgabe!M20=\"\",\"\",Nährstoffabgabe!M20)","v":0}]
[{"$f":"IF(Nährstoffabgabe!A21=\"\",\"\",Nährstoffabgabe!A21)","v":"Dicke Bohne, Korn"},{"$f":"IF(Nährstoffabgabe!B21=\"\",\"\",Nährstoffabgabe!B21)","v":65},{"$f":"IF(Nährstoffabgabe!C21=\"\",\"\",Nährstoffabgabe!C21)","v":""},{"$f":"IF(Nährstoffabgabe!D21=\"\",\"\",Nährstoffabgabe!D21)","v":""},{"$f":"Nährstoffabgabe!E21","v":0},{"$f":"IF(Nährstoffabgabe!F21=\"\",\"\",Nährstoffabgabe!F21)","v":1.1000000000000001},{"$f":"IF(Nährstoffabgabe!G21=\"\",\"\",Nährstoffabgabe!G21)","v":0.25},{"$f":"IF(Nährstoffabgabe!H21=\"\",\"\",Nährstoffabgabe!H21)","v":0.4},{"$f":"IF(Nährstoffabgabe!I21=\"\",\"\",Nährstoffabgabe!I21)","v":0.05},{"$f":"IF(Nährstoffabgabe!J21=\"\",\"\",Nährstoffabgabe!J21)","v":0},{"$f":"IF(Nährstoffabgabe!K21=\"\",\"\",Nährstoffabgabe!K21)","v":0},{"$f":"IF(Nährstoffabgabe!L21=\"\",\"\",Nährstoffabgabe!L21)","v":0},{"$f":"IF(Nährstoffabgabe!M21=\"\",\"\",Nährstoffabgabe!M21)","v":0}]
[{"$f":"IF(Nährstoffabgabe!A22=\"\",\"\",Nährstoffabgabe!A22)","v":"Dill, Industrie"},{"$f":"IF(Nährstoffabgabe!B22=\"\",\"\",Nährstoffabgabe!B22)","v":250},{"$f":"IF(Nährstoffabgabe!C22=\"\",\"\",Nährstoffabgabe!C22)","v":""},{"$f":"IF(Nährstoffabgabe!D22=\"\",\"\",Nährstoffabgabe!D22)","v":""},{"$f":"Nährstoffabgabe!E22","v":0},{"$f":"IF(Nährstoffabgabe!F22=\"\",\"\",Nährstoffabgabe!F22)","v":0.3},{"$f":"IF(Nährstoffabgabe!G22=\"\",\"\",Nährstoffabgabe!G22)","v":9.1639999999999999E-2},{"$f":"IF(Nährstoffabgabe!H22=\"\",\"\",Nährstoffabgabe!H22)","v":0.60199999999999998},{"$f":"IF(Nährstoffabgabe!I22=\"\",\"\",Nährstoffabgabe!I22)","v":0.04},{"$f":"IF(Nährstoffabgabe!J22=\"\",\"\",Nährstoffabgabe!J22)","v":0},{"$f":"IF(Nährstoffabgabe!K22=\"\",\"\",Nährstoffabgabe!K22)","v":0},{"$f":"IF(Nährstoffabgabe!L22=\"\",\"\",Nährstoffabgabe!L22)","v":0},{"$f":"IF(Nährstoffabgabe!M22=\"\",\"\",Nährstoffabgabe!M22)","v":0}]
[{"$f":"IF(Nährstoffabgabe!A23=\"\",\"\",Nährstoffabgabe!A23)","v":"Dill, Frischmarkt"},{"$f":"IF(Nährstoffabgabe!B23=\"\",\"\",Nährstoffabgabe!B23)","v":200},{"$f":"IF(Nährstoffabgabe!C23=\"\",\"\",Nährstoffabgabe!C23)","v":""},{"$f":"IF(Nährstoffabgabe!D23=\"\",\"\",Nährstoffabgabe!D23)","v":""},{"$f":"Nährstoffabgabe!E23","v":0},{"$f":"IF(Nährstoffabgabe!F23=\"\",\"\",Nährstoffabgabe!F23)","v":0.3},{"$f":"IF(Nährstoffabgabe!G23=\"\",\"\",Nährstoffabgabe!G23)","v":9.1639999999999999E-2},{"$f":"IF(Nährstoffabgabe!H23=\"\",\"\",Nährstoffabgabe!H23)","v":0.60199999999999998},{"$f":"IF(Nährstoffabgabe!I23=\"\",\"\",Nährstoffabgabe!I23)","v":0.04},{"$f":"IF(Nährstoffabgabe!J23=\"\",\"\",Nährstoffabgabe!J23)","v":0},{"$f":"IF(Nährstoffabgabe!K23=\"\",\"\",Nährstoffabgabe!K23)","v":0},{"$f":"IF(Nährstoffabgabe!L23=\"\",\"\",Nährstoffabgabe!L23)","v":0},{"$f":"IF(Nährstoffabgabe!M23=\"\",\"\",Nährstoffabgabe!M23)","v":0}]
[{"$f":"IF(Nährstoffabgabe!A24=\"\",\"\",Nährstoffabgabe!A24)","v":"Edamame"},{"$f":"IF(Nährstoffabgabe!B24=\"\",\"\",Nährstoffabgabe!B24)","v":180},{"$f":"IF(Nährstoffabgabe!C24=\"\",\"\",Nährstoffabgabe!C24)","v":""},{"$f":"IF(Nährstoffabgabe!D24=\"\",\"\",Nährstoffabgabe!D24)","v":""},{"$f":"Nährstoffabgabe!E24","v":0},{"$f":"IF(Nährstoffabgabe!F24=\"\",\"\",Nährstoffabgabe!F24)","v":1},{"$f":"IF(Nährstoffabgabe!G24=\"\",\"\",Nährstoffabgabe!G24)","v":0.27},{"$f":"IF(Nährstoffabgabe!H24=\"\",\"\",Nährstoffabgabe!H24)","v":0.5},{"$f":"IF(Nährstoffabgabe!I24=\"\",\"\",Nährstoffabgabe!I24)","v":0.11},{"$f":"IF(Nährstoffabgabe!J24=\"\",\"\",Nährstoffabgabe!J24)","v":0},{"$f":"IF(Nährstoffabgabe!K24=\"\",\"\",Nährstoffabgabe!K24)","v":0},{"$f":"IF(Nährstoffabgabe!L24=\"\",\"\",Nährstoffabgabe!L24)","v":0},{"$f":"IF(Nährstoffabgabe!M24=\"\",\"\",Nährstoffabgabe!M24)","v":0}]
[{"$f":"IF(Nährstoffabgabe!A25=\"\",\"\",Nährstoffabgabe!A25)","v":"Erbsen (Gemüseerbse)"},{"$f":"IF(Nährstoffabgabe!B25=\"\",\"\",Nährstoffabgabe!B25)","v":80},{"$f":"IF(Nährstoffabgabe!C25=\"\",\"\",Nährstoffabgabe!C25)","v":""},{"$f":"IF(Nährstoffabgabe!D25=\"\",\"\",Nährstoffabgabe!D25)","v":""},{"$f":"Nährstoffabgabe!E25","v":0},{"$f":"IF(Nährstoffabgabe!F25=\"\",\"\",Nährstoffabgabe!F25)","v":1},{"$f":"IF(Nährstoffabgabe!G25=\"\",\"\",Nährstoffabgabe!G25)","v":0.2291},{"$f":"IF(Nährstoffabgabe!H25=\"\",\"\",Nährstoffabgabe!H25)","v":0.36119999999999997},{"$f":"IF(Nährstoffabgabe!I25=\"\",\"\",Nährstoffabgabe!I25)","v":0.06},{"$f":"IF(Nährstoffabgabe!J25=\"\",\"\",Nährstoffabgabe!J25)","v":0},{"$f":"IF(Nährstoffabgabe!K25=\"\",\"\",Nährstoffabgabe!K25)","v":0},{"$f":"IF(Nährstoffabgabe!L25=\"\",\"\",Nährstoffabgabe!L25)","v":0},{"$f":"IF(Nährstoffabgabe!M25=\"\",\"\",Nährstoffabgabe!M25)","v":0}]
[{"$f":"IF(Nährstoffabgabe!A26=\"\",\"\",Nährstoffabgabe!A26)","v":"Feldsalat"},{"$f":"IF(Nährstoffabgabe!B26=\"\",\"\",Nährstoffabgabe!B26)","v":80},{"$f":"IF(Nährstoffabgabe!C26=\"\",\"\",Nährstoffabgabe!C26)","v":""},{"$f":"IF(Nährstoffabgabe!D26=\"\",\"\",Nährstoffabgabe!D26)","v":""},{"$f":"Nährstoffabgabe!E26","v":0},{"$f":"IF(Nährstoffabgabe!F26=\"\",\"\",Nährstoffabgabe!F26)","v":0.45},{"$f":"IF(Nährstoffabgabe!G26=\"\",\"\",Nährstoffabgabe!G26)","v":9.8512999999999989E-2},{"$f":"IF(Nährstoffabgabe!H26=\"\",\"\",Nährstoffabgabe!H26)","v":0.65016000000000007},{"$f":"IF(Nährstoffabgabe!I26=\"\",\"\",Nährstoffabgabe!I26)","v":6.6320000000000004E-2},{"$f":"IF(Nährstoffabgabe!J26=\"\",\"\",Nährstoffabgabe!J26)","v":0},{"$f":"IF(Nährstoffabgabe!K26=\"\",\"\",Nährstoffabgabe!K26)","v":0},{"$f":"IF(Nährstoffabgabe!L26=\"\",\"\",Nährstoffabgabe!L26)","v":0},{"$f":"IF(Nährstoffabgabe!M26=\"\",\"\",Nährstoffabgabe!M26)","v":0}]
[{"$f":"IF(Nährstoffabgabe!A27=\"\",\"\",Nährstoffabgabe!A27)","v":"Feldsalat, großblättrig"},{"$f":"IF(Nährstoffabgabe!B27=\"\",\"\",Nährstoffabgabe!B27)","v":130},{"$f":"IF(Nährstoffabgabe!C27=\"\",\"\",Nährstoffabgabe!C27)","v":""},{"$f":"IF(Nährstoffabgabe!D27=\"\",\"\",Nährstoffabgabe!D27)","v":""},{"$f":"Nährstoffabgabe!E27","v":0},{"$f":"IF(Nährstoffabgabe!F27=\"\",\"\",Nährstoffabgabe!F27)","v":0.45},{"$f":"IF(Nährstoffabgabe!G27=\"\",\"\",Nährstoffabgabe!G27)","v":9.8512999999999989E-2},{"$f":"IF(Nährstoffabgabe!H27=\"\",\"\",Nährstoffabgabe!H27)","v":0.65016000000000007},{"$f":"IF(Nährstoffabgabe!I27=\"\",\"\",Nährstoffabgabe!I27)","v":6.6320000000000004E-2},{"$f":"IF(Nährstoffabgabe!J27=\"\",\"\",Nährstoffabgabe!J27)","v":0},{"$f":"IF(Nährstoffabgabe!K27=\"\",\"\",Nährstoffabgabe!K27)","v":0},{"$f":"IF(Nährstoffabgabe!L27=\"\",\"\",Nährstoffabgabe!L27)","v":0},{"$f":"IF(Nährstoffabgabe!M27=\"\",\"\",Nährstoffabgabe!M27)","v":0}]
[{"$f":"IF(Nährstoffabgabe!A28=\"\",\"\",Nährstoffabgabe!A28)","v":"Grünkohl"},{"$f":"IF(Nährstoffabgabe!B28=\"\",\"\",Nährstoffabgabe!B28)","v":400},{"$f":"IF(Nährstoffabgabe!C28=\"\",\"\",Nährstoffabgabe!C28)","v":""},{"$f":"IF(Nährstoffabgabe!D28=\"\",\"\",Nährstoffabgabe!D28)","v":""},{"$f":"Nährstoffabgabe!E28","v":0},{"$f":"IF(Nährstoffabgabe!F28=\"\",\"\",Nährstoffabgabe!F28)","v":0.49},{"$f":"IF(Nährstoffabgabe!G28=\"\",\"\",Nährstoffabgabe!G28)","v":0.16300000000000001},{"$f":"IF(Nährstoffabgabe!H28=\"\",\"\",Nährstoffabgabe!H28)","v":0.54179999999999995},{"$f":"IF(Nährstoffabgabe!I28=\"\",\"\",Nährstoffabgabe!I28)","v":0.04},{"$f":"IF(Nährstoffabgabe!J28=\"\",\"\",Nährstoffabgabe!J28)","v":0},{"$f":"IF(Nährstoffabgabe!K28=\"\",\"\",Nährstoffabgabe!K28)","v":0},{"$f":"IF(Nährstoffabgabe!L28=\"\",\"\",Nährstoffabgabe!L28)","v":0},{"$f":"IF(Nährstoffabgabe!M28=\"\",\"\",Nährstoffabgabe!M28)","v":0}]
[{"$f":"IF(Nährstoffabgabe!A29=\"\",\"\",Nährstoffabgabe!A29)","v":"Gurke, Einleger"},{"$f":"IF(Nährstoffabgabe!B29=\"\",\"\",Nährstoffabgabe!B29)","v":800},{"$f":"IF(Nährstoffabgabe!C29=\"\",\"\",Nährstoffabgabe!C29)","v":""},{"$f":"IF(Nährstoffabgabe!D29=\"\",\"\",Nährstoffabgabe!D29)","v":""},{"$f":"Nährstoffabgabe!E29","v":0},{"$f":"IF(Nährstoffabgabe!F29=\"\",\"\",Nährstoffabgabe!F29)","v":0.15},{"$f":"IF(Nährstoffabgabe!G29=\"\",\"\",Nährstoffabgabe!G29)","v":6.8729999999999999E-2},{"$f":"IF(Nährstoffabgabe!H29=\"\",\"\",Nährstoffabgabe!H29)","v":0.24080000000000001},{"$f":"IF(Nährstoffabgabe!I29=\"\",\"\",Nährstoffabgabe!I29)","v":0.02},{"$f":"IF(Nährstoffabgabe!J29=\"\",\"\",Nährstoffabgabe!J29)","v":0},{"$f":"IF(Nährstoffabgabe!K29=\"\",\"\",Nährstoffabgabe!K29)","v":0},{"$f":"IF(Nährstoffabgabe!L29=\"\",\"\",Nährstoffabgabe!L29)","v":0},{"$f":"IF(Nährstoffabgabe!M29=\"\",\"\",Nährstoffabgabe!M29)","v":0}]
[{"$f":"IF(Nährstoffabgabe!A30=\"\",\"\",Nährstoffabgabe!A30)","v":"Gurke, Salat"},{"$f":"IF(Nährstoffabgabe!B30=\"\",\"\",Nährstoffabgabe!B30)","v":3000},{"$f":"IF(Nährstoffabgabe!C30=\"\",\"\",Nährstoffabgabe!C30)","v":""},{"$f":"IF(Nährstoffabgabe!D30=\"\",\"\",Nährstoffabgabe!D30)","v":""},{"$f":"Nährstoffabgabe!E30","v":0},{"$f":"IF(Nährstoffabgabe!F30=\"\",\"\",Nährstoffabgabe!F30)","v":0.15},{"$f":"IF(Nährstoffabgabe!G30=\"\",\"\",Nährstoffabgabe!G30)","v":6.8729999999999999E-2},{"$f":"IF(Nährstoffabgabe!H30=\"\",\"\",Nährstoffabgabe!H30)","v":0.24080000000000001},{"$f":"IF(Nährstoffabgabe!I30=\"\",\"\",Nährstoffabgabe!I30)","v":0.02},{"$f":"IF(Nährstoffabgabe!J30=\"\",\"\",Nährstoffabgabe!J30)","v":0},{"$f":"IF(Nährstoffabgabe!K30=\"\",\"\",Nährstoffabgabe!K30)","v":0},{"$f":"IF(Nährstoffabgabe!L30=\"\",\"\",Nährstoffabgabe!L30)","v":0},{"$f":"IF(Nährstoffabgabe!M30=\"\",\"\",Nährstoffabgabe!M30)","v":0}]
[{"$f":"IF(Nährstoffabgabe!A31=\"\",\"\",Nährstoffabgabe!A31)","v":"Knoblauch, trocken"},{"$f":"IF(Nährstoffabgabe!B31=\"\",\"\",Nährstoffabgabe!B31)","v":140},{"$f":"IF(Nährstoffabgabe!C31=\"\",\"\",Nährstoffabgabe!C31)","v":""},{"$f":"IF(Nährstoffabgabe!D31=\"\",\"\",Nährstoffabgabe!D31)","v":""},{"$f":"Nährstoffabgabe!E31","v":0},{"$f":"IF(Nährstoffabgabe!F31=\"\",\"\",Nährstoffabgabe!F31)","v":0.45},{"$f":"IF(Nährstoffabgabe!G31=\"\",\"\",Nährstoffabgabe!G31)","v":0.3},{"$f":"IF(Nährstoffabgabe!H31=\"\",\"\",Nährstoffabgabe!H31)","v":0.5},{"$f":"IF(Nährstoffabgabe!I31=\"\",\"\",Nährstoffabgabe!I31)","v":4.4999999999999998E-2},{"$f":"IF(Nährstoffabgabe!J31=\"\",\"\",Nährstoffabgabe!J31)","v":0},{"$f":"IF(Nährstoffabgabe!K31=\"\",\"\",Nährstoffabgabe!K31)","v":0},{"$f":"IF(Nährstoffabgabe!L31=\"\",\"\",Nährstoffabgabe!L31)","v":0},{"$f":"IF(Nährstoffabgabe!M31=\"\",\"\",Nährstoffabgabe!M31)","v":0}]
[{"$f":"IF(Nährstoffabgabe!A32=\"\",\"\",Nährstoffabgabe!A32)","v":"Knollenfenchel"},{"$f":"IF(Nährstoffabgabe!B32=\"\",\"\",Nährstoffabgabe!B32)","v":400},{"$f":"IF(Nährstoffabgabe!C32=\"\",\"\",Nährstoffabgabe!C32)","v":""},{"$f":"IF(Nährstoffabgabe!D32=\"\",\"\",Nährstoffabgabe!D32)","v":""},{"$f":"Nährstoffabgabe!E32","v":0},{"$f":"IF(Nährstoffabgabe!F32=\"\",\"\",Nährstoffabgabe!F32)","v":0.2},{"$f":"IF(Nährstoffabgabe!G32=\"\",\"\",Nährstoffabgabe!G32)","v":6.8729999999999999E-2},{"$f":"IF(Nährstoffabgabe!H32=\"\",\"\",Nährstoffabgabe!H32)","v":0.48160000000000003},{"$f":"IF(Nährstoffabgabe!I32=\"\",\"\",Nährstoffabgabe!I32)","v":3.3160000000000002E-2},{"$f":"IF(Nährstoffabgabe!J32=\"\",\"\",Nährstoffabgabe!J32)","v":0},{"$f":"IF(Nährstoffabgabe!K32=\"\",\"\",Nährstoffabgabe!K32)","v":0},{"$f":"IF(Nährstoffabgabe!L32=\"\",\"\",Nährstoffabgabe!L32)","v":0},{"$f":"IF(Nährstoffabgabe!M32=\"\",\"\",Nährstoffabgabe!M32)","v":0}]
[{"$f":"IF(Nährstoffabgabe!A33=\"\",\"\",Nährstoffabgabe!A33)","v":"Kohlrabi"},{"$f":"IF(Nährstoffabgabe!B33=\"\",\"\",Nährstoffabgabe!B33)","v":450},{"$f":"IF(Nährstoffabgabe!C33=\"\",\"\",Nährstoffabgabe!C33)","v":""},{"$f":"IF(Nährstoffabgabe!D33=\"\",\"\",Nährstoffabgabe!D33)","v":""},{"$f":"Nährstoffabgabe!E33","v":0},{"$f":"IF(Nährstoffabgabe!F33=\"\",\"\",Nährstoffabgabe!F33)","v":0.28000000000000003},{"$f":"IF(Nährstoffabgabe!G33=\"\",\"\",Nährstoffabgabe!G33)","v":0.10309499999999999},{"$f":"IF(Nährstoffabgabe!H33=\"\",\"\",Nährstoffabgabe!H33)","v":0.42139999999999994},{"$f":"IF(Nährstoffabgabe!I33=\"\",\"\",Nährstoffabgabe!I33)","v":0.03},{"$f":"IF(Nährstoffabgabe!J33=\"\",\"\",Nährstoffabgabe!J33)","v":0},{"$f":"IF(Nährstoffabgabe!K33=\"\",\"\",Nährstoffabgabe!K33)","v":0},{"$f":"IF(Nährstoffabgabe!L33=\"\",\"\",Nährstoffabgabe!L33)","v":0},{"$f":"IF(Nährstoffabgabe!M33=\"\",\"\",Nährstoffabgabe!M33)","v":0}]
[{"$f":"IF(Nährstoffabgabe!A34=\"\",\"\",Nährstoffabgabe!A34)","v":"Kohlrübe"},{"$f":"IF(Nährstoffabgabe!B34=\"\",\"\",Nährstoffabgabe!B34)","v":500},{"$f":"IF(Nährstoffabgabe!C34=\"\",\"\",Nährstoffabgabe!C34)","v":""},{"$f":"IF(Nährstoffabgabe!D34=\"\",\"\",Nährstoffabgabe!D34)","v":""},{"$f":"Nährstoffabgabe!E34","v":0},{"$f":"IF(Nährstoffabgabe!F34=\"\",\"\",Nährstoffabgabe!F34)","v":0.26},{"$f":"IF(Nährstoffabgabe!G34=\"\",\"\",Nährstoffabgabe!G34)","v":0.16},{"$f":"IF(Nährstoffabgabe!H34=\"\",\"\",Nährstoffabgabe!H34)","v":0.65},{"$f":"IF(Nährstoffabgabe!I34=\"\",\"\",Nährstoffabgabe!I34)","v":0.08},{"$f":"IF(Nährstoffabgabe!J34=\"\",\"\",Nährstoffabgabe!J34)","v":0},{"$f":"IF(Nährstoffabgabe!K34=\"\",\"\",Nährstoffabgabe!K34)","v":0},{"$f":"IF(Nährstoffabgabe!L34=\"\",\"\",Nährstoffabgabe!L34)","v":0},{"$f":"IF(Nährstoffabgabe!M34=\"\",\"\",Nährstoffabgabe!M34)","v":0}]
[{"$f":"IF(Nährstoffabgabe!A35=\"\",\"\",Nährstoffabgabe!A35)","v":"Kürbis"},{"$f":"IF(Nährstoffabgabe!B35=\"\",\"\",Nährstoffabgabe!B35)","v":400},{"$f":"IF(Nährstoffabgabe!C35=\"\",\"\",Nährstoffabgabe!C35)","v":""},{"$f":"IF(Nährstoffabgabe!D35=\"\",\"\",Nährstoffabgabe!D35)","v":""},{"$f":"Nährstoffabgabe!E35","v":0},{"$f":"IF(Nährstoffabgabe!F35=\"\",\"\",Nährstoffabgabe!F35)","v":0.25},{"$f":"IF(Nährstoffabgabe!G35=\"\",\"\",Nährstoffabgabe!G35)","v":0.20599999999999999},{"$f":"IF(Nährstoffabgabe!H35=\"\",\"\",Nährstoffabgabe!H35)","v":0.55000000000000004},{"$f":"IF(Nährstoffabgabe!I35=\"\",\"\",Nährstoffabgabe!I35)","v":0.06},{"$f":"IF(Nährstoffabgabe!J35=\"\",\"\",Nährstoffabgabe!J35)","v":0},{"$f":"IF(Nährstoffabgabe!K35=\"\",\"\",Nährstoffabgabe!K35)","v":0},{"$f":"IF(Nährstoffabgabe!L35=\"\",\"\",Nährstoffabgabe!L35)","v":0},{"$f":"IF(Nährstoffabgabe!M35=\"\",\"\",Nährstoffabgabe!M35)","v":0}]
[{"$f":"IF(Nährstoffabgabe!A36=\"\",\"\",Nährstoffabgabe!A36)","v":"Mairübe mit Laub"},{"$f":"IF(Nährstoffabgabe!B36=\"\",\"\",Nährstoffabgabe!B36)","v":650},{"$f":"IF(Nährstoffabgabe!C36=\"\",\"\",Nährstoffabgabe!C36)","v":""},{"$f":"IF(Nährstoffabgabe!D36=\"\",\"\",Nährstoffabgabe!D36)","v":""},{"$f":"Nährstoffabgabe!E36","v":0},{"$f":"IF(Nährstoffabgabe!F36=\"\",\"\",Nährstoffabgabe!F36)","v":0.17},{"$f":"IF(Nährstoffabgabe!G36=\"\",\"\",Nährstoffabgabe!G36)","v":0.1031},{"$f":"IF(Nährstoffabgabe!H36=\"\",\"\",Nährstoffabgabe!H36)","v":0.4214},{"$f":"IF(Nährstoffabgabe!I36=\"\",\"\",Nährstoffabgabe!I36)","v":3.5999999999999997E-2},{"$f":"IF(Nährstoffabgabe!J36=\"\",\"\",Nährstoffabgabe!J36)","v":0},{"$f":"IF(Nährstoffabgabe!K36=\"\",\"\",Nährstoffabgabe!K36)","v":0},{"$f":"IF(Nährstoffabgabe!L36=\"\",\"\",Nährstoffabgabe!L36)","v":0},{"$f":"IF(Nährstoffabgabe!M36=\"\",\"\",Nährstoffabgabe!M36)","v":0}]
[{"$f":"IF(Nährstoffabgabe!A37=\"\",\"\",Nährstoffabgabe!A37)","v":"Mangold"},{"$f":"IF(Nährstoffabgabe!B37=\"\",\"\",Nährstoffabgabe!B37)","v":180},{"$f":"IF(Nährstoffabgabe!C37=\"\",\"\",Nährstoffabgabe!C37)","v":""},{"$f":"IF(Nährstoffabgabe!D37=\"\",\"\",Nährstoffabgabe!D37)","v":""},{"$f":"Nährstoffabgabe!E37","v":0},{"$f":"IF(Nährstoffabgabe!F37=\"\",\"\",Nährstoffabgabe!F37)","v":0.32},{"$f":"IF(Nährstoffabgabe!G37=\"\",\"\",Nährstoffabgabe!G37)","v":0.09},{"$f":"IF(Nährstoffabgabe!H37=\"\",\"\",Nährstoffabgabe!H37)","v":0.48},{"$f":"IF(Nährstoffabgabe!I37=\"\",\"\",Nährstoffabgabe!I37)","v":7.0000000000000007E-2},{"$f":"IF(Nährstoffabgabe!J37=\"\",\"\",Nährstoffabgabe!J37)","v":0},{"$f":"IF(Nährstoffabgabe!K37=\"\",\"\",Nährstoffabgabe!K37)","v":0},{"$f":"IF(Nährstoffabgabe!L37=\"\",\"\",Nährstoffabgabe!L37)","v":0},{"$f":"IF(Nährstoffabgabe!M37=\"\",\"\",Nährstoffabgabe!M37)","v":0}]
[{"$f":"IF(Nährstoffabgabe!A38=\"\",\"\",Nährstoffabgabe!A38)","v":"Meerrettich"},{"$f":"IF(Nährstoffabgabe!B38=\"\",\"\",Nährstoffabgabe!B38)","v":200},{"$f":"IF(Nährstoffabgabe!C38=\"\",\"\",Nährstoffabgabe!C38)","v":""},{"$f":"IF(Nährstoffabgabe!D38=\"\",\"\",Nährstoffabgabe!D38)","v":""},{"$f":"Nährstoffabgabe!E38","v":0},{"$f":"IF(Nährstoffabgabe!F38=\"\",\"\",Nährstoffabgabe!F38)","v":0.69},{"$f":"IF(Nährstoffabgabe!G38=\"\",\"\",Nährstoffabgabe!G38)","v":0.22},{"$f":"IF(Nährstoffabgabe!H38=\"\",\"\",Nährstoffabgabe!H38)","v":0.72},{"$f":"IF(Nährstoffabgabe!I38=\"\",\"\",Nährstoffabgabe!I38)","v":7.0000000000000007E-2},{"$f":"IF(Nährstoffabgabe!J38=\"\",\"\",Nährstoffabgabe!J38)","v":0},{"$f":"IF(Nährstoffabgabe!K38=\"\",\"\",Nährstoffabgabe!K38)","v":0},{"$f":"IF(Nährstoffabgabe!L38=\"\",\"\",Nährstoffabgabe!L38)","v":0},{"$f":"IF(Nährstoffabgabe!M38=\"\",\"\",Nährstoffabgabe!M38)","v":0}]
[{"$f":"IF(Nährstoffabgabe!A39=\"\",\"\",Nährstoffabgabe!A39)","v":"Melone, Wasser-"},{"$f":"IF(Nährstoffabgabe!B39=\"\",\"\",Nährstoffabgabe!B39)","v":200},{"$f":"IF(Nährstoffabgabe!C39=\"\",\"\",Nährstoffabgabe!C39)","v":""},{"$f":"IF(Nährstoffabgabe!D39=\"\",\"\",Nährstoffabgabe!D39)","v":""},{"$f":"Nährstoffabgabe!E39","v":0},{"$f":"IF(Nährstoffabgabe!F39=\"\",\"\",Nährstoffabgabe!F39)","v":0.15},{"$f":"IF(Nährstoffabgabe!G39=\"\",\"\",Nährstoffabgabe!G39)","v":7.0000000000000007E-2},{"$f":"IF(Nährstoffabgabe!H39=\"\",\"\",Nährstoffabgabe!H39)","v":0.3},{"$f":"IF(Nährstoffabgabe!I39=\"\",\"\",Nährstoffabgabe!I39)","v":0.05},{"$f":"IF(Nährstoffabgabe!J39=\"\",\"\",Nährstoffabgabe!J39)","v":0},{"$f":"IF(Nährstoffabgabe!K39=\"\",\"\",Nährstoffabgabe!K39)","v":0},{"$f":"IF(Nährstoffabgabe!L39=\"\",\"\",Nährstoffabgabe!L39)","v":0},{"$f":"IF(Nährstoffabgabe!M39=\"\",\"\",Nährstoffabgabe!M39)","v":0}]
[{"$f":"IF(Nährstoffabgabe!A40=\"\",\"\",Nährstoffabgabe!A40)","v":"Melone, Zucker-"},{"$f":"IF(Nährstoffabgabe!B40=\"\",\"\",Nährstoffabgabe!B40)","v":200},{"$f":"IF(Nährstoffabgabe!C40=\"\",\"\",Nährstoffabgabe!C40)","v":""},{"$f":"IF(Nährstoffabgabe!D40=\"\",\"\",Nährstoffabgabe!D40)","v":""},{"$f":"Nährstoffabgabe!E40","v":0},{"$f":"IF(Nährstoffabgabe!F40=\"\",\"\",Nährstoffabgabe!F40)","v":0.15},{"$f":"IF(Nährstoffabgabe!G40=\"\",\"\",Nährstoffabgabe!G40)","v":7.0000000000000007E-2},{"$f":"IF(Nährstoffabgabe!H40=\"\",\"\",Nährstoffabgabe!H40)","v":0.3},{"$f":"IF(Nährstoffabgabe!I40=\"\",\"\",Nährstoffabgabe!I40)","v":0.05},{"$f":"IF(Nährstoffabgabe!J40=\"\",\"\",Nährstoffabgabe!J40)","v":0},{"$f":"IF(Nährstoffabgabe!K40=\"\",\"\",Nährstoffabgabe!K40)","v":0},{"$f":"IF(Nährstoffabgabe!L40=\"\",\"\",Nährstoffabgabe!L40)","v":0},{"$f":"IF(Nährstoffabgabe!M40=\"\",\"\",Nährstoffabgabe!M40)","v":0}]
[{"$f":"IF(Nährstoffabgabe!A41=\"\",\"\",Nährstoffabgabe!A41)","v":"Möhre, Bund"},{"$f":"IF(Nährstoffabgabe!B41=\"\",\"\",Nährstoffabgabe!B41)","v":600},{"$f":"IF(Nährstoffabgabe!C41=\"\",\"\",Nährstoffabgabe!C41)","v":""},{"$f":"IF(Nährstoffabgabe!D41=\"\",\"\",Nährstoffabgabe!D41)","v":""},{"$f":"Nährstoffabgabe!E41","v":0},{"$f":"IF(Nährstoffabgabe!F41=\"\",\"\",Nährstoffabgabe!F41)","v":0.17},{"$f":"IF(Nährstoffabgabe!G41=\"\",\"\",Nährstoffabgabe!G41)","v":8.2475999999999994E-2},{"$f":"IF(Nährstoffabgabe!H41=\"\",\"\",Nährstoffabgabe!H41)","v":0.52976000000000001},{"$f":"IF(Nährstoffabgabe!I41=\"\",\"\",Nährstoffabgabe!I41)","v":0.05},{"$f":"IF(Nährstoffabgabe!J41=\"\",\"\",Nährstoffabgabe!J41)","v":0},{"$f":"IF(Nährstoffabgabe!K41=\"\",\"\",Nährstoffabgabe!K41)","v":0},{"$f":"IF(Nährstoffabgabe!L41=\"\",\"\",Nährstoffabgabe!L41)","v":0},{"$f":"IF(Nährstoffabgabe!M41=\"\",\"\",Nährstoffabgabe!M41)","v":0}]
[{"$f":"IF(Nährstoffabgabe!A42=\"\",\"\",Nährstoffabgabe!A42)","v":"Möhre, Wasch"},{"$f":"IF(Nährstoffabgabe!B42=\"\",\"\",Nährstoffabgabe!B42)","v":700},{"$f":"IF(Nährstoffabgabe!C42=\"\",\"\",Nährstoffabgabe!C42)","v":""},{"$f":"IF(Nährstoffabgabe!D42=\"\",\"\",Nährstoffabgabe!D42)","v":""},{"$f":"Nährstoffabgabe!E42","v":0},{"$f":"IF(Nährstoffabgabe!F42=\"\",\"\",Nährstoffabgabe!F42)","v":0.13},{"$f":"IF(Nährstoffabgabe!G42=\"\",\"\",Nährstoffabgabe!G42)","v":0.08},{"$f":"IF(Nährstoffabgabe!H42=\"\",\"\",Nährstoffabgabe!H42)","v":0.42139999999999994},{"$f":"IF(Nährstoffabgabe!I42=\"\",\"\",Nährstoffabgabe!I42)","v":0.03},{"$f":"IF(Nährstoffabgabe!J42=\"\",\"\",Nährstoffabgabe!J42)","v":0},{"$f":"IF(Nährstoffabgabe!K42=\"\",\"\",Nährstoffabgabe!K42)","v":0},{"$f":"IF(Nährstoffabgabe!L42=\"\",\"\",Nährstoffabgabe!L42)","v":0},{"$f":"IF(Nährstoffabgabe!M42=\"\",\"\",Nährstoffabgabe!M42)","v":0}]
[{"$f":"IF(Nährstoffabgabe!A43=\"\",\"\",Nährstoffabgabe!A43)","v":"Möhre. Industrie"},{"$f":"IF(Nährstoffabgabe!B43=\"\",\"\",Nährstoffabgabe!B43)","v":900},{"$f":"IF(Nährstoffabgabe!C43=\"\",\"\",Nährstoffabgabe!C43)","v":""},{"$f":"IF(Nährstoffabgabe!D43=\"\",\"\",Nährstoffabgabe!D43)","v":""},{"$f":"Nährstoffabgabe!E43","v":0},{"$f":"IF(Nährstoffabgabe!F43=\"\",\"\",Nährstoffabgabe!F43)","v":0.13},{"$f":"IF(Nährstoffabgabe!G43=\"\",\"\",Nährstoffabgabe!G43)","v":0.08},{"$f":"IF(Nährstoffabgabe!H43=\"\",\"\",Nährstoffabgabe!H43)","v":0.42139999999999994},{"$f":"IF(Nährstoffabgabe!I43=\"\",\"\",Nährstoffabgabe!I43)","v":0.03},{"$f":"IF(Nährstoffabgabe!J43=\"\",\"\",Nährstoffabgabe!J43)","v":0},{"$f":"IF(Nährstoffabgabe!K43=\"\",\"\",Nährstoffabgabe!K43)","v":0},{"$f":"IF(Nährstoffabgabe!L43=\"\",\"\",Nährstoffabgabe!L43)","v":0},{"$f":"IF(Nährstoffabgabe!M43=\"\",\"\",Nährstoffabgabe!M43)","v":0}]
[{"$f":"IF(Nährstoffabgabe!A44=\"\",\"\",Nährstoffabgabe!A44)","v":"Pak Choi "},{"$f":"IF(Nährstoffabgabe!B44=\"\",\"\",Nährstoffabgabe!B44)","v":700},{"$f":"IF(Nährstoffabgabe!C44=\"\",\"\",Nährstoffabgabe!C44)","v":""},{"$f":"IF(Nährstoffabgabe!D44=\"\",\"\",Nährstoffabgabe!D44)","v":""},{"$f":"Nährstoffabgabe!E44","v":0},{"$f":"IF(Nährstoffabgabe!F44=\"\",\"\",Nährstoffabgabe!F44)","v":0.22},{"$f":"IF(Nährstoffabgabe!G44=\"\",\"\",Nährstoffabgabe!G44)","v":6.9000000000000006E-2},{"$f":"IF(Nährstoffabgabe!H44=\"\",\"\",Nährstoffabgabe!H44)","v":0.42},{"$f":"IF(Nährstoffabgabe!I44=\"\",\"\",Nährstoffabgabe!I44)","v":1.7000000000000001E-2},{"$f":"IF(Nährstoffabgabe!J44=\"\",\"\",Nährstoffabgabe!J44)","v":0},{"$f":"IF(Nährstoffabgabe!K44=\"\",\"\",Nährstoffabgabe!K44)","v":0},{"$f":"IF(Nährstoffabgabe!L44=\"\",\"\",Nährstoffabgabe!L44)","v":0},{"$f":"IF(Nährstoffabgabe!M44=\"\",\"\",Nährstoffabgabe!M44)","v":0}]
[{"$f":"IF(Nährstoffabgabe!A45=\"\",\"\",Nährstoffabgabe!A45)","v":"Pak Choi, mini"},{"$f":"IF(Nährstoffabgabe!B45=\"\",\"\",Nährstoffabgabe!B45)","v":600},{"$f":"IF(Nährstoffabgabe!C45=\"\",\"\",Nährstoffabgabe!C45)","v":""},{"$f":"IF(Nährstoffabgabe!D45=\"\",\"\",Nährstoffabgabe!D45)","v":""},{"$f":"Nährstoffabgabe!E45","v":0},{"$f":"IF(Nährstoffabgabe!F45=\"\",\"\",Nährstoffabgabe!F45)","v":0.22},{"$f":"IF(Nährstoffabgabe!G45=\"\",\"\",Nährstoffabgabe!G45)","v":6.9000000000000006E-2},{"$f":"IF(Nährstoffabgabe!H45=\"\",\"\",Nährstoffabgabe!H45)","v":0.42},{"$f":"IF(Nährstoffabgabe!I45=\"\",\"\",Nährstoffabgabe!I45)","v":1.7000000000000001E-2},{"$f":"IF(Nährstoffabgabe!J45=\"\",\"\",Nährstoffabgabe!J45)","v":0},{"$f":"IF(Nährstoffabgabe!K45=\"\",\"\",Nährstoffabgabe!K45)","v":0},{"$f":"IF(Nährstoffabgabe!L45=\"\",\"\",Nährstoffabgabe!L45)","v":0},{"$f":"IF(Nährstoffabgabe!M45=\"\",\"\",Nährstoffabgabe!M45)","v":0}]
[{"$f":"IF(Nährstoffabgabe!A46=\"\",\"\",Nährstoffabgabe!A46)","v":"Paprika"},{"$f":"IF(Nährstoffabgabe!B46=\"\",\"\",Nährstoffabgabe!B46)","v":600},{"$f":"IF(Nährstoffabgabe!C46=\"\",\"\",Nährstoffabgabe!C46)","v":""},{"$f":"IF(Nährstoffabgabe!D46=\"\",\"\",Nährstoffabgabe!D46)","v":""},{"$f":"Nährstoffabgabe!E46","v":0},{"$f":"IF(Nährstoffabgabe!F46=\"\",\"\",Nährstoffabgabe!F46)","v":0.17},{"$f":"IF(Nährstoffabgabe!G46=\"\",\"\",Nährstoffabgabe!G46)","v":7.0000000000000007E-2},{"$f":"IF(Nährstoffabgabe!H46=\"\",\"\",Nährstoffabgabe!H46)","v":0.28999999999999998},{"$f":"IF(Nährstoffabgabe!I46=\"\",\"\",Nährstoffabgabe!I46)","v":0.02},{"$f":"IF(Nährstoffabgabe!J46=\"\",\"\",Nährstoffabgabe!J46)","v":0},{"$f":"IF(Nährstoffabgabe!K46=\"\",\"\",Nährstoffabgabe!K46)","v":0},{"$f":"IF(Nährstoffabgabe!L46=\"\",\"\",Nährstoffabgabe!L46)","v":0},{"$f":"IF(Nährstoffabgabe!M46=\"\",\"\",Nährstoffabgabe!M46)","v":0}]
[{"$f":"IF(Nährstoffabgabe!A47=\"\",\"\",Nährstoffabgabe!A47)","v":"Pastinake"},{"$f":"IF(Nährstoffabgabe!B47=\"\",\"\",Nährstoffabgabe!B47)","v":400},{"$f":"IF(Nährstoffabgabe!C47=\"\",\"\",Nährstoffabgabe!C47)","v":""},{"$f":"IF(Nährstoffabgabe!D47=\"\",\"\",Nährstoffabgabe!D47)","v":""},{"$f":"Nährstoffabgabe!E47","v":0},{"$f":"IF(Nährstoffabgabe!F47=\"\",\"\",Nährstoffabgabe!F47)","v":0.25},{"$f":"IF(Nährstoffabgabe!G47=\"\",\"\",Nährstoffabgabe!G47)","v":0.23597299999999999},{"$f":"IF(Nährstoffabgabe!H47=\"\",\"\",Nährstoffabgabe!H47)","v":0.72239999999999993},{"$f":"IF(Nährstoffabgabe!I47=\"\",\"\",Nährstoffabgabe!I47)","v":0.09},{"$f":"IF(Nährstoffabgabe!J47=\"\",\"\",Nährstoffabgabe!J47)","v":0},{"$f":"IF(Nährstoffabgabe!K47=\"\",\"\",Nährstoffabgabe!K47)","v":0},{"$f":"IF(Nährstoffabgabe!L47=\"\",\"\",Nährstoffabgabe!L47)","v":0},{"$f":"IF(Nährstoffabgabe!M47=\"\",\"\",Nährstoffabgabe!M47)","v":0}]
[{"$f":"IF(Nährstoffabgabe!A48=\"\",\"\",Nährstoffabgabe!A48)","v":"Petersilie, Blatt-, 1. Schnitt"},{"$f":"IF(Nährstoffabgabe!B48=\"\",\"\",Nährstoffabgabe!B48)","v":240},{"$f":"IF(Nährstoffabgabe!C48=\"\",\"\",Nährstoffabgabe!C48)","v":""},{"$f":"IF(Nährstoffabgabe!D48=\"\",\"\",Nährstoffabgabe!D48)","v":""},{"$f":"Nährstoffabgabe!E48","v":0},{"$f":"IF(Nährstoffabgabe!F48=\"\",\"\",Nährstoffabgabe!F48)","v":0.45},{"$f":"IF(Nährstoffabgabe!G48=\"\",\"\",Nährstoffabgabe!G48)","v":0.11455},{"$f":"IF(Nährstoffabgabe!H48=\"\",\"\",Nährstoffabgabe!H48)","v":0.66220000000000001},{"$f":"IF(Nährstoffabgabe!I48=\"\",\"\",Nährstoffabgabe!I48)","v":0.04},{"$f":"IF(Nährstoffabgabe!J48=\"\",\"\",Nährstoffabgabe!J48)","v":0},{"$f":"IF(Nährstoffabgabe!K48=\"\",\"\",Nährstoffabgabe!K48)","v":0},{"$f":"IF(Nährstoffabgabe!L48=\"\",\"\",Nährstoffabgabe!L48)","v":0},{"$f":"IF(Nährstoffabgabe!M48=\"\",\"\",Nährstoffabgabe!M48)","v":0}]
[{"$f":"IF(Nährstoffabgabe!A49=\"\",\"\",Nährstoffabgabe!A49)","v":"Petersilie, Blatt-, weiterer Schnitt"},{"$f":"IF(Nährstoffabgabe!B49=\"\",\"\",Nährstoffabgabe!B49)","v":160},{"$f":"IF(Nährstoffabgabe!C49=\"\",\"\",Nährstoffabgabe!C49)","v":""},{"$f":"IF(Nährstoffabgabe!D49=\"\",\"\",Nährstoffabgabe!D49)","v":""},{"$f":"Nährstoffabgabe!E49","v":0},{"$f":"IF(Nährstoffabgabe!F49=\"\",\"\",Nährstoffabgabe!F49)","v":0.45},{"$f":"IF(Nährstoffabgabe!G49=\"\",\"\",Nährstoffabgabe!G49)","v":0.11455},{"$f":"IF(Nährstoffabgabe!H49=\"\",\"\",Nährstoffabgabe!H49)","v":0.66220000000000001},{"$f":"IF(Nährstoffabgabe!I49=\"\",\"\",Nährstoffabgabe!I49)","v":0.04},{"$f":"IF(Nährstoffabgabe!J49=\"\",\"\",Nährstoffabgabe!J49)","v":0},{"$f":"IF(Nährstoffabgabe!K49=\"\",\"\",Nährstoffabgabe!K49)","v":0},{"$f":"IF(Nährstoffabgabe!L49=\"\",\"\",Nährstoffabgabe!L49)","v":0},{"$f":"IF(Nährstoffabgabe!M49=\"\",\"\",Nährstoffabgabe!M49)","v":0}]
[{"$f":"IF(Nährstoffabgabe!A50=\"\",\"\",Nährstoffabgabe!A50)","v":"Petersilie, Wurzel-"},{"$f":"IF(Nährstoffabgabe!B50=\"\",\"\",Nährstoffabgabe!B50)","v":400},{"$f":"IF(Nährstoffabgabe!C50=\"\",\"\",Nährstoffabgabe!C50)","v":""},{"$f":"IF(Nährstoffabgabe!D50=\"\",\"\",Nährstoffabgabe!D50)","v":""},{"$f":"Nährstoffabgabe!E50","v":0},{"$f":"IF(Nährstoffabgabe!F50=\"\",\"\",Nährstoffabgabe!F50)","v":0.42},{"$f":"IF(Nährstoffabgabe!G50=\"\",\"\",Nährstoffabgabe!G50)","v":0.13746},{"$f":"IF(Nährstoffabgabe!H50=\"\",\"\",Nährstoffabgabe!H50)","v":0.84279999999999988},{"$f":"IF(Nährstoffabgabe!I50=\"\",\"\",Nährstoffabgabe!I50)","v":0.09},{"$f":"IF(Nährstoffabgabe!J50=\"\",\"\",Nährstoffabgabe!J50)","v":0},{"$f":"IF(Nährstoffabgabe!K50=\"\",\"\",Nährstoffabgabe!K50)","v":0},{"$f":"IF(Nährstoffabgabe!L50=\"\",\"\",Nährstoffabgabe!L50)","v":0},{"$f":"IF(Nährstoffabgabe!M50=\"\",\"\",Nährstoffabgabe!M50)","v":0}]
[{"$f":"IF(Nährstoffabgabe!A51=\"\",\"\",Nährstoffabgabe!A51)","v":"Porree (Lauch)"},{"$f":"IF(Nährstoffabgabe!B51=\"\",\"\",Nährstoffabgabe!B51)","v":600},{"$f":"IF(Nährstoffabgabe!C51=\"\",\"\",Nährstoffabgabe!C51)","v":""},{"$f":"IF(Nährstoffabgabe!D51=\"\",\"\",Nährstoffabgabe!D51)","v":""},{"$f":"Nährstoffabgabe!E51","v":0},{"$f":"IF(Nährstoffabgabe!F51=\"\",\"\",Nährstoffabgabe!F51)","v":0.25},{"$f":"IF(Nährstoffabgabe!G51=\"\",\"\",Nährstoffabgabe!G51)","v":8.0185000000000006E-2},{"$f":"IF(Nährstoffabgabe!H51=\"\",\"\",Nährstoffabgabe!H51)","v":0.36119999999999997},{"$f":"IF(Nährstoffabgabe!I51=\"\",\"\",Nährstoffabgabe!I51)","v":3.3160000000000002E-2},{"$f":"IF(Nährstoffabgabe!J51=\"\",\"\",Nährstoffabgabe!J51)","v":0},{"$f":"IF(Nährstoffabgabe!K51=\"\",\"\",Nährstoffabgabe!K51)","v":0},{"$f":"IF(Nährstoffabgabe!L51=\"\",\"\",Nährstoffabgabe!L51)","v":0},{"$f":"IF(Nährstoffabgabe!M51=\"\",\"\",Nährstoffabgabe!M51)","v":0}]
[{"$f":"IF(Nährstoffabgabe!A52=\"\",\"\",Nährstoffabgabe!A52)","v":"Portulak, Sommer bis 1. Schnitt"},{"$f":"IF(Nährstoffabgabe!B52=\"\",\"\",Nährstoffabgabe!B52)","v":150},{"$f":"IF(Nährstoffabgabe!C52=\"\",\"\",Nährstoffabgabe!C52)","v":""},{"$f":"IF(Nährstoffabgabe!D52=\"\",\"\",Nährstoffabgabe!D52)","v":""},{"$f":"Nährstoffabgabe!E52","v":0},{"$f":"IF(Nährstoffabgabe!F52=\"\",\"\",Nährstoffabgabe!F52)","v":0.33},{"$f":"IF(Nährstoffabgabe!G52=\"\",\"\",Nährstoffabgabe!G52)","v":0.11},{"$f":"IF(Nährstoffabgabe!H52=\"\",\"\",Nährstoffabgabe!H52)","v":0.53},{"$f":"IF(Nährstoffabgabe!I52=\"\",\"\",Nährstoffabgabe!I52)","v":0.02},{"$f":"IF(Nährstoffabgabe!J52=\"\",\"\",Nährstoffabgabe!J52)","v":0},{"$f":"IF(Nährstoffabgabe!K52=\"\",\"\",Nährstoffabgabe!K52)","v":0},{"$f":"IF(Nährstoffabgabe!L52=\"\",\"\",Nährstoffabgabe!L52)","v":0},{"$f":"IF(Nährstoffabgabe!M52=\"\",\"\",Nährstoffabgabe!M52)","v":0}]
[{"$f":"IF(Nährstoffabgabe!A53=\"\",\"\",Nährstoffabgabe!A53)","v":"Portulak, Sommer nach einem Schnitt"},{"$f":"IF(Nährstoffabgabe!B53=\"\",\"\",Nährstoffabgabe!B53)","v":100},{"$f":"IF(Nährstoffabgabe!C53=\"\",\"\",Nährstoffabgabe!C53)","v":""},{"$f":"IF(Nährstoffabgabe!D53=\"\",\"\",Nährstoffabgabe!D53)","v":""},{"$f":"Nährstoffabgabe!E53","v":0},{"$f":"IF(Nährstoffabgabe!F53=\"\",\"\",Nährstoffabgabe!F53)","v":0.33},{"$f":"IF(Nährstoffabgabe!G53=\"\",\"\",Nährstoffabgabe!G53)","v":0.11},{"$f":"IF(Nährstoffabgabe!H53=\"\",\"\",Nährstoffabgabe!H53)","v":0.53},{"$f":"IF(Nährstoffabgabe!I53=\"\",\"\",Nährstoffabgabe!I53)","v":0.02},{"$f":"IF(Nährstoffabgabe!J53=\"\",\"\",Nährstoffabgabe!J53)","v":0},{"$f":"IF(Nährstoffabgabe!K53=\"\",\"\",Nährstoffabgabe!K53)","v":0},{"$f":"IF(Nährstoffabgabe!L53=\"\",\"\",Nährstoffabgabe!L53)","v":0},{"$f":"IF(Nährstoffabgabe!M53=\"\",\"\",Nährstoffabgabe!M53)","v":0}]
[{"$f":"IF(Nährstoffabgabe!A54=\"\",\"\",Nährstoffabgabe!A54)","v":"Portulak, Winter- (Postelein) bis 1. Schnitt"},{"$f":"IF(Nährstoffabgabe!B54=\"\",\"\",Nährstoffabgabe!B54)","v":150},{"$f":"IF(Nährstoffabgabe!C54=\"\",\"\",Nährstoffabgabe!C54)","v":""},{"$f":"IF(Nährstoffabgabe!D54=\"\",\"\",Nährstoffabgabe!D54)","v":""},{"$f":"Nährstoffabgabe!E54","v":0},{"$f":"IF(Nährstoffabgabe!F54=\"\",\"\",Nährstoffabgabe!F54)","v":0.33},{"$f":"IF(Nährstoffabgabe!G54=\"\",\"\",Nährstoffabgabe!G54)","v":0.11},{"$f":"IF(Nährstoffabgabe!H54=\"\",\"\",Nährstoffabgabe!H54)","v":0.53},{"$f":"IF(Nährstoffabgabe!I54=\"\",\"\",Nährstoffabgabe!I54)","v":0.02},{"$f":"IF(Nährstoffabgabe!J54=\"\",\"\",Nährstoffabgabe!J54)","v":0},{"$f":"IF(Nährstoffabgabe!K54=\"\",\"\",Nährstoffabgabe!K54)","v":0},{"$f":"IF(Nährstoffabgabe!L54=\"\",\"\",Nährstoffabgabe!L54)","v":0},{"$f":"IF(Nährstoffabgabe!M54=\"\",\"\",Nährstoffabgabe!M54)","v":0}]
[{"$f":"IF(Nährstoffabgabe!A55=\"\",\"\",Nährstoffabgabe!A55)","v":"Portulak, Winter- (Postelein) nach einem Schnitt"},{"$f":"IF(Nährstoffabgabe!B55=\"\",\"\",Nährstoffabgabe!B55)","v":100},{"$f":"IF(Nährstoffabgabe!C55=\"\",\"\",Nährstoffabgabe!C55)","v":""},{"$f":"IF(Nährstoffabgabe!D55=\"\",\"\",Nährstoffabgabe!D55)","v":""},{"$f":"Nährstoffabgabe!E55","v":0},{"$f":"IF(Nährstoffabgabe!F55=\"\",\"\",Nährstoffabgabe!F55)","v":0.33},{"$f":"IF(Nährstoffabgabe!G55=\"\",\"\",Nährstoffabgabe!G55)","v":0.11},{"$f":"IF(Nährstoffabgabe!H55=\"\",\"\",Nährstoffabgabe!H55)","v":0.53},{"$f":"IF(Nährstoffabgabe!I55=\"\",\"\",Nährstoffabgabe!I55)","v":0.02},{"$f":"IF(Nährstoffabgabe!J55=\"\",\"\",Nährstoffabgabe!J55)","v":0},{"$f":"IF(Nährstoffabgabe!K55=\"\",\"\",Nährstoffabgabe!K55)","v":0},{"$f":"IF(Nährstoffabgabe!L55=\"\",\"\",Nährstoffabgabe!L55)","v":0},{"$f":"IF(Nährstoffabgabe!M55=\"\",\"\",Nährstoffabgabe!M55)","v":0}]
[{"$f":"IF(Nährstoffabgabe!A56=\"\",\"\",Nährstoffabgabe!A56)","v":"Radieschen"},{"$f":"IF(Nährstoffabgabe!B56=\"\",\"\",Nährstoffabgabe!B56)","v":300},{"$f":"IF(Nährstoffabgabe!C56=\"\",\"\",Nährstoffabgabe!C56)","v":""},{"$f":"IF(Nährstoffabgabe!D56=\"\",\"\",Nährstoffabgabe!D56)","v":""},{"$f":"Nährstoffabgabe!E56","v":0},{"$f":"IF(Nährstoffabgabe!F56=\"\",\"\",Nährstoffabgabe!F56)","v":0.2},{"$f":"IF(Nährstoffabgabe!G56=\"\",\"\",Nährstoffabgabe!G56)","v":6.8729999999999999E-2},{"$f":"IF(Nährstoffabgabe!H56=\"\",\"\",Nährstoffabgabe!H56)","v":0.33712000000000003},{"$f":"IF(Nährstoffabgabe!I56=\"\",\"\",Nährstoffabgabe!I56)","v":3.3160000000000002E-2},{"$f":"IF(Nährstoffabgabe!J56=\"\",\"\",Nährstoffabgabe!J56)","v":0},{"$f":"IF(Nährstoffabgabe!K56=\"\",\"\",Nährstoffabgabe!K56)","v":0},{"$f":"IF(Nährstoffabgabe!L56=\"\",\"\",Nährstoffabgabe!L56)","v":0},{"$f":"IF(Nährstoffabgabe!M56=\"\",\"\",Nährstoffabgabe!M56)","v":0}]
[{"$f":"IF(Nährstoffabgabe!A57=\"\",\"\",Nährstoffabgabe!A57)","v":"Rettich, Bund "},{"$f":"IF(Nährstoffabgabe!B57=\"\",\"\",Nährstoffabgabe!B57)","v":500},{"$f":"IF(Nährstoffabgabe!C57=\"\",\"\",Nährstoffabgabe!C57)","v":""},{"$f":"IF(Nährstoffabgabe!D57=\"\",\"\",Nährstoffabgabe!D57)","v":""},{"$f":"Nährstoffabgabe!E57","v":0},{"$f":"IF(Nährstoffabgabe!F57=\"\",\"\",Nährstoffabgabe!F57)","v":0.17},{"$f":"IF(Nährstoffabgabe!G57=\"\",\"\",Nährstoffabgabe!G57)","v":7.5603000000000004E-2},{"$f":"IF(Nährstoffabgabe!H57=\"\",\"\",Nährstoffabgabe!H57)","v":0.36119999999999997},{"$f":"IF(Nährstoffabgabe!I57=\"\",\"\",Nährstoffabgabe!I57)","v":3.3160000000000002E-2},{"$f":"IF(Nährstoffabgabe!J57=\"\",\"\",Nährstoffabgabe!J57)","v":0},{"$f":"IF(Nährstoffabgabe!K57=\"\",\"\",Nährstoffabgabe!K57)","v":0},{"$f":"IF(Nährstoffabgabe!L57=\"\",\"\",Nährstoffabgabe!L57)","v":0},{"$f":"IF(Nährstoffabgabe!M57=\"\",\"\",Nährstoffabgabe!M57)","v":0}]
[{"$f":"IF(Nährstoffabgabe!A58=\"\",\"\",Nährstoffabgabe!A58)","v":"Rettich, deutsch"},{"$f":"IF(Nährstoffabgabe!B58=\"\",\"\",Nährstoffabgabe!B58)","v":550},{"$f":"IF(Nährstoffabgabe!C58=\"\",\"\",Nährstoffabgabe!C58)","v":""},{"$f":"IF(Nährstoffabgabe!D58=\"\",\"\",Nährstoffabgabe!D58)","v":""},{"$f":"Nährstoffabgabe!E58","v":0},{"$f":"IF(Nährstoffabgabe!F58=\"\",\"\",Nährstoffabgabe!F58)","v":0.14000000000000001},{"$f":"IF(Nährstoffabgabe!G58=\"\",\"\",Nährstoffabgabe!G58)","v":8.0185000000000006E-2},{"$f":"IF(Nährstoffabgabe!H58=\"\",\"\",Nährstoffabgabe!H58)","v":0.39732000000000001},{"$f":"IF(Nährstoffabgabe!I58=\"\",\"\",Nährstoffabgabe!I58)","v":1.6580000000000001E-2},{"$f":"IF(Nährstoffabgabe!J58=\"\",\"\",Nährstoffabgabe!J58)","v":0},{"$f":"IF(Nährstoffabgabe!K58=\"\",\"\",Nährstoffabgabe!K58)","v":0},{"$f":"IF(Nährstoffabgabe!L58=\"\",\"\",Nährstoffabgabe!L58)","v":0},{"$f":"IF(Nährstoffabgabe!M58=\"\",\"\",Nährstoffabgabe!M58)","v":0}]
[{"$f":"IF(Nährstoffabgabe!A59=\"\",\"\",Nährstoffabgabe!A59)","v":"Rettich, japanisch"},{"$f":"IF(Nährstoffabgabe!B59=\"\",\"\",Nährstoffabgabe!B59)","v":1000},{"$f":"IF(Nährstoffabgabe!C59=\"\",\"\",Nährstoffabgabe!C59)","v":""},{"$f":"IF(Nährstoffabgabe!D59=\"\",\"\",Nährstoffabgabe!D59)","v":""},{"$f":"Nährstoffabgabe!E59","v":0},{"$f":"IF(Nährstoffabgabe!F59=\"\",\"\",Nährstoffabgabe!F59)","v":0.1},{"$f":"IF(Nährstoffabgabe!G59=\"\",\"\",Nährstoffabgabe!G59)","v":5.9565999999999994E-2},{"$f":"IF(Nährstoffabgabe!H59=\"\",\"\",Nährstoffabgabe!H59)","v":0.33712000000000003},{"$f":"IF(Nährstoffabgabe!I59=\"\",\"\",Nährstoffabgabe!I59)","v":1.6580000000000001E-2},{"$f":"IF(Nährstoffabgabe!J59=\"\",\"\",Nährstoffabgabe!J59)","v":0},{"$f":"IF(Nährstoffabgabe!K59=\"\",\"\",Nährstoffabgabe!K59)","v":0},{"$f":"IF(Nährstoffabgabe!L59=\"\",\"\",Nährstoffabgabe!L59)","v":0},{"$f":"IF(Nährstoffabgabe!M59=\"\",\"\",Nährstoffabgabe!M59)","v":0}]
[{"$f":"IF(Nährstoffabgabe!A60=\"\",\"\",Nährstoffabgabe!A60)","v":"Rhabarber, 1. Standjahr (Pflanzjahr), 10.000 Pfl./ha"},{"$f":"IF(Nährstoffabgabe!B60=\"\",\"\",Nährstoffabgabe!B60)","v":0},{"$f":"IF(Nährstoffabgabe!C60=\"\",\"\",Nährstoffabgabe!C60)","v":""},{"$f":"IF(Nährstoffabgabe!D60=\"\",\"\",Nährstoffabgabe!D60)","v":""},{"$f":"Nährstoffabgabe!E60","v":0},{"$f":"IF(Nährstoffabgabe!F60=\"\",\"\",Nährstoffabgabe!F60)","v":0.18},{"$f":"IF(Nährstoffabgabe!G60=\"\",\"\",Nährstoffabgabe!G60)","v":9.1999999999999998E-2},{"$f":"IF(Nährstoffabgabe!H60=\"\",\"\",Nährstoffabgabe!H60)","v":0.48},{"$f":"IF(Nährstoffabgabe!I60=\"\",\"\",Nährstoffabgabe!I60)","v":2.5000000000000001E-2},{"$f":"IF(Nährstoffabgabe!J60=\"\",\"\",Nährstoffabgabe!J60)","v":0},{"$f":"IF(Nährstoffabgabe!K60=\"\",\"\",Nährstoffabgabe!K60)","v":0},{"$f":"IF(Nährstoffabgabe!L60=\"\",\"\",Nährstoffabgabe!L60)","v":0},{"$f":"IF(Nährstoffabgabe!M60=\"\",\"\",Nährstoffabgabe!M60)","v":0}]
[{"$f":"IF(Nährstoffabgabe!A61=\"\",\"\",Nährstoffabgabe!A61)","v":"Rhabarber, 2. Standjahr, 10.000 Pfl./ha"},{"$f":"IF(Nährstoffabgabe!B61=\"\",\"\",Nährstoffabgabe!B61)","v":100},{"$f":"IF(Nährstoffabgabe!C61=\"\",\"\",Nährstoffabgabe!C61)","v":""},{"$f":"IF(Nährstoffabgabe!D61=\"\",\"\",Nährstoffabgabe!D61)","v":""},{"$f":"Nährstoffabgabe!E61","v":0},{"$f":"IF(Nährstoffabgabe!F61=\"\",\"\",Nährstoffabgabe!F61)","v":0.18},{"$f":"IF(Nährstoffabgabe!G61=\"\",\"\",Nährstoffabgabe!G61)","v":9.1999999999999998E-2},{"$f":"IF(Nährstoffabgabe!H61=\"\",\"\",Nährstoffabgabe!H61)","v":0.48},{"$f":"IF(Nährstoffabgabe!I61=\"\",\"\",Nährstoffabgabe!I61)","v":2.5000000000000001E-2},{"$f":"IF(Nährstoffabgabe!J61=\"\",\"\",Nährstoffabgabe!J61)","v":0},{"$f":"IF(Nährstoffabgabe!K61=\"\",\"\",Nährstoffabgabe!K61)","v":0},{"$f":"IF(Nährstoffabgabe!L61=\"\",\"\",Nährstoffabgabe!L61)","v":0},{"$f":"IF(Nährstoffabgabe!M61=\"\",\"\",Nährstoffabgabe!M61)","v":0}]
[{"$f":"IF(Nährstoffabgabe!A62=\"\",\"\",Nährstoffabgabe!A62)","v":"Rhabarber, 3. Standjahr, 10.000 Pfl./ha"},{"$f":"IF(Nährstoffabgabe!B62=\"\",\"\",Nährstoffabgabe!B62)","v":200},{"$f":"IF(Nährstoffabgabe!C62=\"\",\"\",Nährstoffabgabe!C62)","v":""},{"$f":"IF(Nährstoffabgabe!D62=\"\",\"\",Nährstoffabgabe!D62)","v":""},{"$f":"Nährstoffabgabe!E62","v":0},{"$f":"IF(Nährstoffabgabe!F62=\"\",\"\",Nährstoffabgabe!F62)","v":0.18},{"$f":"IF(Nährstoffabgabe!G62=\"\",\"\",Nährstoffabgabe!G62)","v":9.1999999999999998E-2},{"$f":"IF(Nährstoffabgabe!H62=\"\",\"\",Nährstoffabgabe!H62)","v":0.48},{"$f":"IF(Nährstoffabgabe!I62=\"\",\"\",Nährstoffabgabe!I62)","v":2.5000000000000001E-2},{"$f":"IF(Nährstoffabgabe!J62=\"\",\"\",Nährstoffabgabe!J62)","v":0},{"$f":"IF(Nährstoffabgabe!K62=\"\",\"\",Nährstoffabgabe!K62)","v":0},{"$f":"IF(Nährstoffabgabe!L62=\"\",\"\",Nährstoffabgabe!L62)","v":0},{"$f":"IF(Nährstoffabgabe!M62=\"\",\"\",Nährstoffabgabe!M62)","v":0}]
[{"$f":"IF(Nährstoffabgabe!A63=\"\",\"\",Nährstoffabgabe!A63)","v":"Rhabarber, ab 4. Standjahr, 10.000 Pfl./ha"},{"$f":"IF(Nährstoffabgabe!B63=\"\",\"\",Nährstoffabgabe!B63)","v":350},{"$f":"IF(Nährstoffabgabe!C63=\"\",\"\",Nährstoffabgabe!C63)","v":""},{"$f":"IF(Nährstoffabgabe!D63=\"\",\"\",Nährstoffabgabe!D63)","v":""},{"$f":"Nährstoffabgabe!E63","v":0},{"$f":"IF(Nährstoffabgabe!F63=\"\",\"\",Nährstoffabgabe!F63)","v":0.18},{"$f":"IF(Nährstoffabgabe!G63=\"\",\"\",Nährstoffabgabe!G63)","v":9.1999999999999998E-2},{"$f":"IF(Nährstoffabgabe!H63=\"\",\"\",Nährstoffabgabe!H63)","v":0.48},{"$f":"IF(Nährstoffabgabe!I63=\"\",\"\",Nährstoffabgabe!I63)","v":2.5000000000000001E-2},{"$f":"IF(Nährstoffabgabe!J63=\"\",\"\",Nährstoffabgabe!J63)","v":0},{"$f":"IF(Nährstoffabgabe!K63=\"\",\"\",Nährstoffabgabe!K63)","v":0},{"$f":"IF(Nährstoffabgabe!L63=\"\",\"\",Nährstoffabgabe!L63)","v":0},{"$f":"IF(Nährstoffabgabe!M63=\"\",\"\",Nährstoffabgabe!M63)","v":0}]
[{"$f":"IF(Nährstoffabgabe!A64=\"\",\"\",Nährstoffabgabe!A64)","v":"Rosenkohl, Röschen"},{"$f":"IF(Nährstoffabgabe!B64=\"\",\"\",Nährstoffabgabe!B64)","v":250},{"$f":"IF(Nährstoffabgabe!C64=\"\",\"\",Nährstoffabgabe!C64)","v":""},{"$f":"IF(Nährstoffabgabe!D64=\"\",\"\",Nährstoffabgabe!D64)","v":""},{"$f":"Nährstoffabgabe!E64","v":0},{"$f":"IF(Nährstoffabgabe!F64=\"\",\"\",Nährstoffabgabe!F64)","v":0.65},{"$f":"IF(Nährstoffabgabe!G64=\"\",\"\",Nährstoffabgabe!G64)","v":0.19473500000000002},{"$f":"IF(Nährstoffabgabe!H64=\"\",\"\",Nährstoffabgabe!H64)","v":0.66220000000000001},{"$f":"IF(Nährstoffabgabe!I64=\"\",\"\",Nährstoffabgabe!I64)","v":0.04},{"$f":"IF(Nährstoffabgabe!J64=\"\",\"\",Nährstoffabgabe!J64)","v":0},{"$f":"IF(Nährstoffabgabe!K64=\"\",\"\",Nährstoffabgabe!K64)","v":0},{"$f":"IF(Nährstoffabgabe!L64=\"\",\"\",Nährstoffabgabe!L64)","v":0},{"$f":"IF(Nährstoffabgabe!M64=\"\",\"\",Nährstoffabgabe!M64)","v":0}]
[{"$f":"IF(Nährstoffabgabe!A65=\"\",\"\",Nährstoffabgabe!A65)","v":"Rote Rübe, Bund"},{"$f":"IF(Nährstoffabgabe!B65=\"\",\"\",Nährstoffabgabe!B65)","v":500},{"$f":"IF(Nährstoffabgabe!C65=\"\",\"\",Nährstoffabgabe!C65)","v":""},{"$f":"IF(Nährstoffabgabe!D65=\"\",\"\",Nährstoffabgabe!D65)","v":""},{"$f":"Nährstoffabgabe!E65","v":0},{"$f":"IF(Nährstoffabgabe!F65=\"\",\"\",Nährstoffabgabe!F65)","v":0.27},{"$f":"IF(Nährstoffabgabe!G65=\"\",\"\",Nährstoffabgabe!G65)","v":0.1},{"$f":"IF(Nährstoffabgabe!H65=\"\",\"\",Nährstoffabgabe!H65)","v":0.55000000000000004},{"$f":"IF(Nährstoffabgabe!I65=\"\",\"\",Nährstoffabgabe!I65)","v":8.3000000000000004E-2},{"$f":"IF(Nährstoffabgabe!J65=\"\",\"\",Nährstoffabgabe!J65)","v":0},{"$f":"IF(Nährstoffabgabe!K65=\"\",\"\",Nährstoffabgabe!K65)","v":0},{"$f":"IF(Nährstoffabgabe!L65=\"\",\"\",Nährstoffabgabe!L65)","v":0},{"$f":"IF(Nährstoffabgabe!M65=\"\",\"\",Nährstoffabgabe!M65)","v":0}]
[{"$f":"IF(Nährstoffabgabe!A66=\"\",\"\",Nährstoffabgabe!A66)","v":"Rote Rübe, Knolle"},{"$f":"IF(Nährstoffabgabe!B66=\"\",\"\",Nährstoffabgabe!B66)","v":600},{"$f":"IF(Nährstoffabgabe!C66=\"\",\"\",Nährstoffabgabe!C66)","v":""},{"$f":"IF(Nährstoffabgabe!D66=\"\",\"\",Nährstoffabgabe!D66)","v":""},{"$f":"Nährstoffabgabe!E66","v":0},{"$f":"IF(Nährstoffabgabe!F66=\"\",\"\",Nährstoffabgabe!F66)","v":0.28000000000000003},{"$f":"IF(Nährstoffabgabe!G66=\"\",\"\",Nährstoffabgabe!G66)","v":0.11455},{"$f":"IF(Nährstoffabgabe!H66=\"\",\"\",Nährstoffabgabe!H66)","v":0.48160000000000003},{"$f":"IF(Nährstoffabgabe!I66=\"\",\"\",Nährstoffabgabe!I66)","v":4.9739999999999993E-2},{"$f":"IF(Nährstoffabgabe!J66=\"\",\"\",Nährstoffabgabe!J66)","v":0},{"$f":"IF(Nährstoffabgabe!K66=\"\",\"\",Nährstoffabgabe!K66)","v":0},{"$f":"IF(Nährstoffabgabe!L66=\"\",\"\",Nährstoffabgabe!L66)","v":0},{"$f":"IF(Nährstoffabgabe!M66=\"\",\"\",Nährstoffabgabe!M66)","v":0}]
[{"$f":"IF(Nährstoffabgabe!A67=\"\",\"\",Nährstoffabgabe!A67)","v":"Rote Rüben, Baby Beet"},{"$f":"IF(Nährstoffabgabe!B67=\"\",\"\",Nährstoffabgabe!B67)","v":400},{"$f":"IF(Nährstoffabgabe!C67=\"\",\"\",Nährstoffabgabe!C67)","v":""},{"$f":"IF(Nährstoffabgabe!D67=\"\",\"\",Nährstoffabgabe!D67)","v":""},{"$f":"Nährstoffabgabe!E67","v":0},{"$f":"IF(Nährstoffabgabe!F67=\"\",\"\",Nährstoffabgabe!F67)","v":0.28000000000000003},{"$f":"IF(Nährstoffabgabe!G67=\"\",\"\",Nährstoffabgabe!G67)","v":0.115},{"$f":"IF(Nährstoffabgabe!H67=\"\",\"\",Nährstoffabgabe!H67)","v":0.48160000000000003},{"$f":"IF(Nährstoffabgabe!I67=\"\",\"\",Nährstoffabgabe!I67)","v":4.9739999999999993E-2},{"$f":"IF(Nährstoffabgabe!J67=\"\",\"\",Nährstoffabgabe!J67)","v":0},{"$f":"IF(Nährstoffabgabe!K67=\"\",\"\",Nährstoffabgabe!K67)","v":0},{"$f":"IF(Nährstoffabgabe!L67=\"\",\"\",Nährstoffabgabe!L67)","v":0},{"$f":"IF(Nährstoffabgabe!M67=\"\",\"\",Nährstoffabgabe!M67)","v":0}]
[{"$f":"IF(Nährstoffabgabe!A68=\"\",\"\",Nährstoffabgabe!A68)","v":"Rotkohl"},{"$f":"IF(Nährstoffabgabe!B68=\"\",\"\",Nährstoffabgabe!B68)","v":600},{"$f":"IF(Nährstoffabgabe!C68=\"\",\"\",Nährstoffabgabe!C68)","v":""},{"$f":"IF(Nährstoffabgabe!D68=\"\",\"\",Nährstoffabgabe!D68)","v":""},{"$f":"Nährstoffabgabe!E68","v":0},{"$f":"IF(Nährstoffabgabe!F68=\"\",\"\",Nährstoffabgabe!F68)","v":0.22},{"$f":"IF(Nährstoffabgabe!G68=\"\",\"\",Nährstoffabgabe!G68)","v":8.0185000000000006E-2},{"$f":"IF(Nährstoffabgabe!H68=\"\",\"\",Nährstoffabgabe!H68)","v":0.36119999999999997},{"$f":"IF(Nährstoffabgabe!I68=\"\",\"\",Nährstoffabgabe!I68)","v":0.03},{"$f":"IF(Nährstoffabgabe!J68=\"\",\"\",Nährstoffabgabe!J68)","v":0},{"$f":"IF(Nährstoffabgabe!K68=\"\",\"\",Nährstoffabgabe!K68)","v":0},{"$f":"IF(Nährstoffabgabe!L68=\"\",\"\",Nährstoffabgabe!L68)","v":0},{"$f":"IF(Nährstoffabgabe!M68=\"\",\"\",Nährstoffabgabe!M68)","v":0}]
[{"$f":"IF(Nährstoffabgabe!A69=\"\",\"\",Nährstoffabgabe!A69)","v":"Rucola, Feinware, alle Kulturverfahren"},{"$f":"IF(Nährstoffabgabe!B69=\"\",\"\",Nährstoffabgabe!B69)","v":175},{"$f":"IF(Nährstoffabgabe!C69=\"\",\"\",Nährstoffabgabe!C69)","v":""},{"$f":"IF(Nährstoffabgabe!D69=\"\",\"\",Nährstoffabgabe!D69)","v":""},{"$f":"Nährstoffabgabe!E69","v":0},{"$f":"IF(Nährstoffabgabe!F69=\"\",\"\",Nährstoffabgabe!F69)","v":0.4},{"$f":"IF(Nährstoffabgabe!G69=\"\",\"\",Nährstoffabgabe!G69)","v":0.10309499999999999},{"$f":"IF(Nährstoffabgabe!H69=\"\",\"\",Nährstoffabgabe!H69)","v":0.52976000000000001},{"$f":"IF(Nährstoffabgabe!I69=\"\",\"\",Nährstoffabgabe!I69)","v":4.9739999999999993E-2},{"$f":"IF(Nährstoffabgabe!J69=\"\",\"\",Nährstoffabgabe!J69)","v":0},{"$f":"IF(Nährstoffabgabe!K69=\"\",\"\",Nährstoffabgabe!K69)","v":0},{"$f":"IF(Nährstoffabgabe!L69=\"\",\"\",Nährstoffabgabe!L69)","v":0},{"$f":"IF(Nährstoffabgabe!M69=\"\",\"\",Nährstoffabgabe!M69)","v":0}]
[{"$f":"IF(Nährstoffabgabe!A70=\"\",\"\",Nährstoffabgabe!A70)","v":"Rucola, Grobware, alle Kulturverfahren"},{"$f":"IF(Nährstoffabgabe!B70=\"\",\"\",Nährstoffabgabe!B70)","v":300},{"$f":"IF(Nährstoffabgabe!C70=\"\",\"\",Nährstoffabgabe!C70)","v":""},{"$f":"IF(Nährstoffabgabe!D70=\"\",\"\",Nährstoffabgabe!D70)","v":""},{"$f":"Nährstoffabgabe!E70","v":0},{"$f":"IF(Nährstoffabgabe!F70=\"\",\"\",Nährstoffabgabe!F70)","v":0.4},{"$f":"IF(Nährstoffabgabe!G70=\"\",\"\",Nährstoffabgabe!G70)","v":0.1},{"$f":"IF(Nährstoffabgabe!H70=\"\",\"\",Nährstoffabgabe!H70)","v":0.53},{"$f":"IF(Nährstoffabgabe!I70=\"\",\"\",Nährstoffabgabe!I70)","v":0.05},{"$f":"IF(Nährstoffabgabe!J70=\"\",\"\",Nährstoffabgabe!J70)","v":0},{"$f":"IF(Nährstoffabgabe!K70=\"\",\"\",Nährstoffabgabe!K70)","v":0},{"$f":"IF(Nährstoffabgabe!L70=\"\",\"\",Nährstoffabgabe!L70)","v":0},{"$f":"IF(Nährstoffabgabe!M70=\"\",\"\",Nährstoffabgabe!M70)","v":0}]
[{"$f":"IF(Nährstoffabgabe!A71=\"\",\"\",Nährstoffabgabe!A71)","v":"Salate, Baby Leaf"},{"$f":"IF(Nährstoffabgabe!B71=\"\",\"\",Nährstoffabgabe!B71)","v":140},{"$f":"IF(Nährstoffabgabe!C71=\"\",\"\",Nährstoffabgabe!C71)","v":""},{"$f":"IF(Nährstoffabgabe!D71=\"\",\"\",Nährstoffabgabe!D71)","v":""},{"$f":"Nährstoffabgabe!E71","v":0},{"$f":"IF(Nährstoffabgabe!F71=\"\",\"\",Nährstoffabgabe!F71)","v":0.35},{"$f":"IF(Nährstoffabgabe!G71=\"\",\"\",Nährstoffabgabe!G71)","v":8.0185000000000006E-2},{"$f":"IF(Nährstoffabgabe!H71=\"\",\"\",Nährstoffabgabe!H71)","v":0.60199999999999998},{"$f":"IF(Nährstoffabgabe!I71=\"\",\"\",Nährstoffabgabe!I71)","v":0.05},{"$f":"IF(Nährstoffabgabe!J71=\"\",\"\",Nährstoffabgabe!J71)","v":0},{"$f":"IF(Nährstoffabgabe!K71=\"\",\"\",Nährstoffabgabe!K71)","v":0},{"$f":"IF(Nährstoffabgabe!L71=\"\",\"\",Nährstoffabgabe!L71)","v":0},{"$f":"IF(Nährstoffabgabe!M71=\"\",\"\",Nährstoffabgabe!M71)","v":0}]
[{"$f":"IF(Nährstoffabgabe!A72=\"\",\"\",Nährstoffabgabe!A72)","v":"Salate, Blatt grün (Lollo, Eichblatt, Krull)"},{"$f":"IF(Nährstoffabgabe!B72=\"\",\"\",Nährstoffabgabe!B72)","v":350},{"$f":"IF(Nährstoffabgabe!C72=\"\",\"\",Nährstoffabgabe!C72)","v":""},{"$f":"IF(Nährstoffabgabe!D72=\"\",\"\",Nährstoffabgabe!D72)","v":""},{"$f":"Nährstoffabgabe!E72","v":0},{"$f":"IF(Nährstoffabgabe!F72=\"\",\"\",Nährstoffabgabe!F72)","v":0.19},{"$f":"IF(Nährstoffabgabe!G72=\"\",\"\",Nährstoffabgabe!G72)","v":6.8729999999999999E-2},{"$f":"IF(Nährstoffabgabe!H72=\"\",\"\",Nährstoffabgabe!H72)","v":0.44547999999999999},{"$f":"IF(Nährstoffabgabe!I72=\"\",\"\",Nährstoffabgabe!I72)","v":1.6580000000000001E-2},{"$f":"IF(Nährstoffabgabe!J72=\"\",\"\",Nährstoffabgabe!J72)","v":0},{"$f":"IF(Nährstoffabgabe!K72=\"\",\"\",Nährstoffabgabe!K72)","v":0},{"$f":"IF(Nährstoffabgabe!L72=\"\",\"\",Nährstoffabgabe!L72)","v":0},{"$f":"IF(Nährstoffabgabe!M72=\"\",\"\",Nährstoffabgabe!M72)","v":0}]
[{"$f":"IF(Nährstoffabgabe!A73=\"\",\"\",Nährstoffabgabe!A73)","v":"Salate, Blatt rot (Lollo, Eichblatt, Krull)"},{"$f":"IF(Nährstoffabgabe!B73=\"\",\"\",Nährstoffabgabe!B73)","v":300},{"$f":"IF(Nährstoffabgabe!C73=\"\",\"\",Nährstoffabgabe!C73)","v":""},{"$f":"IF(Nährstoffabgabe!D73=\"\",\"\",Nährstoffabgabe!D73)","v":""},{"$f":"Nährstoffabgabe!E73","v":0},{"$f":"IF(Nährstoffabgabe!F73=\"\",\"\",Nährstoffabgabe!F73)","v":0.19},{"$f":"IF(Nährstoffabgabe!G73=\"\",\"\",Nährstoffabgabe!G73)","v":6.8729999999999999E-2},{"$f":"IF(Nährstoffabgabe!H73=\"\",\"\",Nährstoffabgabe!H73)","v":0.44547999999999999},{"$f":"IF(Nährstoffabgabe!I73=\"\",\"\",Nährstoffabgabe!I73)","v":1.6580000000000001E-2},{"$f":"IF(Nährstoffabgabe!J73=\"\",\"\",Nährstoffabgabe!J73)","v":0},{"$f":"IF(Nährstoffabgabe!K73=\"\",\"\",Nährstoffabgabe!K73)","v":0},{"$f":"IF(Nährstoffabgabe!L73=\"\",\"\",Nährstoffabgabe!L73)","v":0},{"$f":"IF(Nährstoffabgabe!M73=\"\",\"\",Nährstoffabgabe!M73)","v":0}]
[{"$f":"IF(Nährstoffabgabe!A74=\"\",\"\",Nährstoffabgabe!A74)","v":"Salate, Eissalat"},{"$f":"IF(Nährstoffabgabe!B74=\"\",\"\",Nährstoffabgabe!B74)","v":600},{"$f":"IF(Nährstoffabgabe!C74=\"\",\"\",Nährstoffabgabe!C74)","v":""},{"$f":"IF(Nährstoffabgabe!D74=\"\",\"\",Nährstoffabgabe!D74)","v":""},{"$f":"Nährstoffabgabe!E74","v":0},{"$f":"IF(Nährstoffabgabe!F74=\"\",\"\",Nährstoffabgabe!F74)","v":0.14000000000000001},{"$f":"IF(Nährstoffabgabe!G74=\"\",\"\",Nährstoffabgabe!G74)","v":5.7000000000000002E-2},{"$f":"IF(Nährstoffabgabe!H74=\"\",\"\",Nährstoffabgabe!H74)","v":0.3},{"$f":"IF(Nährstoffabgabe!I74=\"\",\"\",Nährstoffabgabe!I74)","v":0.02},{"$f":"IF(Nährstoffabgabe!J74=\"\",\"\",Nährstoffabgabe!J74)","v":0},{"$f":"IF(Nährstoffabgabe!K74=\"\",\"\",Nährstoffabgabe!K74)","v":0},{"$f":"IF(Nährstoffabgabe!L74=\"\",\"\",Nährstoffabgabe!L74)","v":0},{"$f":"IF(Nährstoffabgabe!M74=\"\",\"\",Nährstoffabgabe!M74)","v":0}]
[{"$f":"IF(Nährstoffabgabe!A75=\"\",\"\",Nährstoffabgabe!A75)","v":"Salate, Eissalat x Romana, Crunchy Cos"},{"$f":"IF(Nährstoffabgabe!B75=\"\",\"\",Nährstoffabgabe!B75)","v":600},{"$f":"IF(Nährstoffabgabe!C75=\"\",\"\",Nährstoffabgabe!C75)","v":""},{"$f":"IF(Nährstoffabgabe!D75=\"\",\"\",Nährstoffabgabe!D75)","v":""},{"$f":"Nährstoffabgabe!E75","v":0},{"$f":"IF(Nährstoffabgabe!F75=\"\",\"\",Nährstoffabgabe!F75)","v":0.2},{"$f":"IF(Nährstoffabgabe!G75=\"\",\"\",Nährstoffabgabe!G75)","v":9.1999999999999998E-2},{"$f":"IF(Nährstoffabgabe!H75=\"\",\"\",Nährstoffabgabe!H75)","v":0.4},{"$f":"IF(Nährstoffabgabe!I75=\"\",\"\",Nährstoffabgabe!I75)","v":2.1999999999999999E-2},{"$f":"IF(Nährstoffabgabe!J75=\"\",\"\",Nährstoffabgabe!J75)","v":0},{"$f":"IF(Nährstoffabgabe!K75=\"\",\"\",Nährstoffabgabe!K75)","v":0},{"$f":"IF(Nährstoffabgabe!L75=\"\",\"\",Nährstoffabgabe!L75)","v":0},{"$f":"IF(Nährstoffabgabe!M75=\"\",\"\",Nährstoffabgabe!M75)","v":0}]
[{"$f":"IF(Nährstoffabgabe!A76=\"\",\"\",Nährstoffabgabe!A76)","v":"Salate, Endivien, Frisee"},{"$f":"IF(Nährstoffabgabe!B76=\"\",\"\",Nährstoffabgabe!B76)","v":350},{"$f":"IF(Nährstoffabgabe!C76=\"\",\"\",Nährstoffabgabe!C76)","v":""},{"$f":"IF(Nährstoffabgabe!D76=\"\",\"\",Nährstoffabgabe!D76)","v":""},{"$f":"Nährstoffabgabe!E76","v":0},{"$f":"IF(Nährstoffabgabe!F76=\"\",\"\",Nährstoffabgabe!F76)","v":0.25},{"$f":"IF(Nährstoffabgabe!G76=\"\",\"\",Nährstoffabgabe!G76)","v":0.06},{"$f":"IF(Nährstoffabgabe!H76=\"\",\"\",Nährstoffabgabe!H76)","v":0.55000000000000004},{"$f":"IF(Nährstoffabgabe!I76=\"\",\"\",Nährstoffabgabe!I76)","v":0.03},{"$f":"IF(Nährstoffabgabe!J76=\"\",\"\",Nährstoffabgabe!J76)","v":0},{"$f":"IF(Nährstoffabgabe!K76=\"\",\"\",Nährstoffabgabe!K76)","v":0},{"$f":"IF(Nährstoffabgabe!L76=\"\",\"\",Nährstoffabgabe!L76)","v":0},{"$f":"IF(Nährstoffabgabe!M76=\"\",\"\",Nährstoffabgabe!M76)","v":0}]
[{"$f":"IF(Nährstoffabgabe!A77=\"\",\"\",Nährstoffabgabe!A77)","v":"Salate, Endivien, glattblättrig"},{"$f":"IF(Nährstoffabgabe!B77=\"\",\"\",Nährstoffabgabe!B77)","v":600},{"$f":"IF(Nährstoffabgabe!C77=\"\",\"\",Nährstoffabgabe!C77)","v":""},{"$f":"IF(Nährstoffabgabe!D77=\"\",\"\",Nährstoffabgabe!D77)","v":""},{"$f":"Nährstoffabgabe!E77","v":0},{"$f":"IF(Nährstoffabgabe!F77=\"\",\"\",Nährstoffabgabe!F77)","v":0.2},{"$f":"IF(Nährstoffabgabe!G77=\"\",\"\",Nährstoffabgabe!G77)","v":0.06},{"$f":"IF(Nährstoffabgabe!H77=\"\",\"\",Nährstoffabgabe!H77)","v":0.55000000000000004},{"$f":"IF(Nährstoffabgabe!I77=\"\",\"\",Nährstoffabgabe!I77)","v":0.03},{"$f":"IF(Nährstoffabgabe!J77=\"\",\"\",Nährstoffabgabe!J77)","v":0},{"$f":"IF(Nährstoffabgabe!K77=\"\",\"\",Nährstoffabgabe!K77)","v":0},{"$f":"IF(Nährstoffabgabe!L77=\"\",\"\",Nährstoffabgabe!L77)","v":0},{"$f":"IF(Nährstoffabgabe!M77=\"\",\"\",Nährstoffabgabe!M77)","v":0}]
[{"$f":"IF(Nährstoffabgabe!A78=\"\",\"\",Nährstoffabgabe!A78)","v":"Salate, Kopfsalat"},{"$f":"IF(Nährstoffabgabe!B78=\"\",\"\",Nährstoffabgabe!B78)","v":500},{"$f":"IF(Nährstoffabgabe!C78=\"\",\"\",Nährstoffabgabe!C78)","v":""},{"$f":"IF(Nährstoffabgabe!D78=\"\",\"\",Nährstoffabgabe!D78)","v":""},{"$f":"Nährstoffabgabe!E78","v":0},{"$f":"IF(Nährstoffabgabe!F78=\"\",\"\",Nährstoffabgabe!F78)","v":0.18},{"$f":"IF(Nährstoffabgabe!G78=\"\",\"\",Nährstoffabgabe!G78)","v":6.8729999999999999E-2},{"$f":"IF(Nährstoffabgabe!H78=\"\",\"\",Nährstoffabgabe!H78)","v":0.36119999999999997},{"$f":"IF(Nährstoffabgabe!I78=\"\",\"\",Nährstoffabgabe!I78)","v":0.03},{"$f":"IF(Nährstoffabgabe!J78=\"\",\"\",Nährstoffabgabe!J78)","v":0},{"$f":"IF(Nährstoffabgabe!K78=\"\",\"\",Nährstoffabgabe!K78)","v":0},{"$f":"IF(Nährstoffabgabe!L78=\"\",\"\",Nährstoffabgabe!L78)","v":0},{"$f":"IF(Nährstoffabgabe!M78=\"\",\"\",Nährstoffabgabe!M78)","v":0}]
[{"$f":"IF(Nährstoffabgabe!A79=\"\",\"\",Nährstoffabgabe!A79)","v":"Salate, Radicchio"},{"$f":"IF(Nährstoffabgabe!B79=\"\",\"\",Nährstoffabgabe!B79)","v":280},{"$f":"IF(Nährstoffabgabe!C79=\"\",\"\",Nährstoffabgabe!C79)","v":""},{"$f":"IF(Nährstoffabgabe!D79=\"\",\"\",Nährstoffabgabe!D79)","v":""},{"$f":"Nährstoffabgabe!E79","v":0},{"$f":"IF(Nährstoffabgabe!F79=\"\",\"\",Nährstoffabgabe!F79)","v":0.25},{"$f":"IF(Nährstoffabgabe!G79=\"\",\"\",Nährstoffabgabe!G79)","v":9.1999999999999998E-2},{"$f":"IF(Nährstoffabgabe!H79=\"\",\"\",Nährstoffabgabe!H79)","v":0.48},{"$f":"IF(Nährstoffabgabe!I79=\"\",\"\",Nährstoffabgabe!I79)","v":0.03},{"$f":"IF(Nährstoffabgabe!J79=\"\",\"\",Nährstoffabgabe!J79)","v":0},{"$f":"IF(Nährstoffabgabe!K79=\"\",\"\",Nährstoffabgabe!K79)","v":0},{"$f":"IF(Nährstoffabgabe!L79=\"\",\"\",Nährstoffabgabe!L79)","v":0},{"$f":"IF(Nährstoffabgabe!M79=\"\",\"\",Nährstoffabgabe!M79)","v":0}]
[{"$f":"IF(Nährstoffabgabe!A80=\"\",\"\",Nährstoffabgabe!A80)","v":"Salate, Romana"},{"$f":"IF(Nährstoffabgabe!B80=\"\",\"\",Nährstoffabgabe!B80)","v":450},{"$f":"IF(Nährstoffabgabe!C80=\"\",\"\",Nährstoffabgabe!C80)","v":""},{"$f":"IF(Nährstoffabgabe!D80=\"\",\"\",Nährstoffabgabe!D80)","v":""},{"$f":"Nährstoffabgabe!E80","v":0},{"$f":"IF(Nährstoffabgabe!F80=\"\",\"\",Nährstoffabgabe!F80)","v":0.2},{"$f":"IF(Nährstoffabgabe!G80=\"\",\"\",Nährstoffabgabe!G80)","v":9.1999999999999998E-2},{"$f":"IF(Nährstoffabgabe!H80=\"\",\"\",Nährstoffabgabe!H80)","v":0.4},{"$f":"IF(Nährstoffabgabe!I80=\"\",\"\",Nährstoffabgabe!I80)","v":2.1999999999999999E-2},{"$f":"IF(Nährstoffabgabe!J80=\"\",\"\",Nährstoffabgabe!J80)","v":0},{"$f":"IF(Nährstoffabgabe!K80=\"\",\"\",Nährstoffabgabe!K80)","v":0},{"$f":"IF(Nährstoffabgabe!L80=\"\",\"\",Nährstoffabgabe!L80)","v":0},{"$f":"IF(Nährstoffabgabe!M80=\"\",\"\",Nährstoffabgabe!M80)","v":0}]
[{"$f":"IF(Nährstoffabgabe!A81=\"\",\"\",Nährstoffabgabe!A81)","v":"Salate, Romana, Herzen-"},{"$f":"IF(Nährstoffabgabe!B81=\"\",\"\",Nährstoffabgabe!B81)","v":300},{"$f":"IF(Nährstoffabgabe!C81=\"\",\"\",Nährstoffabgabe!C81)","v":""},{"$f":"IF(Nährstoffabgabe!D81=\"\",\"\",Nährstoffabgabe!D81)","v":""},{"$f":"Nährstoffabgabe!E81","v":0},{"$f":"IF(Nährstoffabgabe!F81=\"\",\"\",Nährstoffabgabe!F81)","v":0.24},{"$f":"IF(Nährstoffabgabe!G81=\"\",\"\",Nährstoffabgabe!G81)","v":9.1999999999999998E-2},{"$f":"IF(Nährstoffabgabe!H81=\"\",\"\",Nährstoffabgabe!H81)","v":0.4},{"$f":"IF(Nährstoffabgabe!I81=\"\",\"\",Nährstoffabgabe!I81)","v":2.1999999999999999E-2},{"$f":"IF(Nährstoffabgabe!J81=\"\",\"\",Nährstoffabgabe!J81)","v":0},{"$f":"IF(Nährstoffabgabe!K81=\"\",\"\",Nährstoffabgabe!K81)","v":0},{"$f":"IF(Nährstoffabgabe!L81=\"\",\"\",Nährstoffabgabe!L81)","v":0},{"$f":"IF(Nährstoffabgabe!M81=\"\",\"\",Nährstoffabgabe!M81)","v":0}]
[{"$f":"IF(Nährstoffabgabe!A82=\"\",\"\",Nährstoffabgabe!A82)","v":"Salate, verschiedene Arten"},{"$f":"IF(Nährstoffabgabe!B82=\"\",\"\",Nährstoffabgabe!B82)","v":400},{"$f":"IF(Nährstoffabgabe!C82=\"\",\"\",Nährstoffabgabe!C82)","v":""},{"$f":"IF(Nährstoffabgabe!D82=\"\",\"\",Nährstoffabgabe!D82)","v":""},{"$f":"Nährstoffabgabe!E82","v":0},{"$f":"IF(Nährstoffabgabe!F82=\"\",\"\",Nährstoffabgabe!F82)","v":0.19},{"$f":"IF(Nährstoffabgabe!G82=\"\",\"\",Nährstoffabgabe!G82)","v":6.9000000000000006E-2},{"$f":"IF(Nährstoffabgabe!H82=\"\",\"\",Nährstoffabgabe!H82)","v":0.36119999999999997},{"$f":"IF(Nährstoffabgabe!I82=\"\",\"\",Nährstoffabgabe!I82)","v":0.03},{"$f":"IF(Nährstoffabgabe!J82=\"\",\"\",Nährstoffabgabe!J82)","v":0},{"$f":"IF(Nährstoffabgabe!K82=\"\",\"\",Nährstoffabgabe!K82)","v":0},{"$f":"IF(Nährstoffabgabe!L82=\"\",\"\",Nährstoffabgabe!L82)","v":0},{"$f":"IF(Nährstoffabgabe!M82=\"\",\"\",Nährstoffabgabe!M82)","v":0}]
[{"$f":"IF(Nährstoffabgabe!A83=\"\",\"\",Nährstoffabgabe!A83)","v":"Salate, Zuckerhut"},{"$f":"IF(Nährstoffabgabe!B83=\"\",\"\",Nährstoffabgabe!B83)","v":600},{"$f":"IF(Nährstoffabgabe!C83=\"\",\"\",Nährstoffabgabe!C83)","v":""},{"$f":"IF(Nährstoffabgabe!D83=\"\",\"\",Nährstoffabgabe!D83)","v":""},{"$f":"Nährstoffabgabe!E83","v":0},{"$f":"IF(Nährstoffabgabe!F83=\"\",\"\",Nährstoffabgabe!F83)","v":0.2},{"$f":"IF(Nährstoffabgabe!G83=\"\",\"\",Nährstoffabgabe!G83)","v":0.11455},{"$f":"IF(Nährstoffabgabe!H83=\"\",\"\",Nährstoffabgabe!H83)","v":0.30099999999999999},{"$f":"IF(Nährstoffabgabe!I83=\"\",\"\",Nährstoffabgabe!I83)","v":1.6580000000000001E-2},{"$f":"IF(Nährstoffabgabe!J83=\"\",\"\",Nährstoffabgabe!J83)","v":0},{"$f":"IF(Nährstoffabgabe!K83=\"\",\"\",Nährstoffabgabe!K83)","v":0},{"$f":"IF(Nährstoffabgabe!L83=\"\",\"\",Nährstoffabgabe!L83)","v":0},{"$f":"IF(Nährstoffabgabe!M83=\"\",\"\",Nährstoffabgabe!M83)","v":0}]
[{"$f":"IF(Nährstoffabgabe!A84=\"\",\"\",Nährstoffabgabe!A84)","v":"Schnittlauch, 1. Schnitt"},{"$f":"IF(Nährstoffabgabe!B84=\"\",\"\",Nährstoffabgabe!B84)","v":300},{"$f":"IF(Nährstoffabgabe!C84=\"\",\"\",Nährstoffabgabe!C84)","v":""},{"$f":"IF(Nährstoffabgabe!D84=\"\",\"\",Nährstoffabgabe!D84)","v":""},{"$f":"Nährstoffabgabe!E84","v":0},{"$f":"IF(Nährstoffabgabe!F84=\"\",\"\",Nährstoffabgabe!F84)","v":0.5},{"$f":"IF(Nährstoffabgabe!G84=\"\",\"\",Nährstoffabgabe!G84)","v":0.13746},{"$f":"IF(Nährstoffabgabe!H84=\"\",\"\",Nährstoffabgabe!H84)","v":0.54179999999999995},{"$f":"IF(Nährstoffabgabe!I84=\"\",\"\",Nährstoffabgabe!I84)","v":0.06},{"$f":"IF(Nährstoffabgabe!J84=\"\",\"\",Nährstoffabgabe!J84)","v":0},{"$f":"IF(Nährstoffabgabe!K84=\"\",\"\",Nährstoffabgabe!K84)","v":0},{"$f":"IF(Nährstoffabgabe!L84=\"\",\"\",Nährstoffabgabe!L84)","v":0},{"$f":"IF(Nährstoffabgabe!M84=\"\",\"\",Nährstoffabgabe!M84)","v":0}]
[{"$f":"IF(Nährstoffabgabe!A85=\"\",\"\",Nährstoffabgabe!A85)","v":"Schnittlauch, Anbau für Treiberei"},{"$f":"IF(Nährstoffabgabe!B85=\"\",\"\",Nährstoffabgabe!B85)","v":280},{"$f":"IF(Nährstoffabgabe!C85=\"\",\"\",Nährstoffabgabe!C85)","v":""},{"$f":"IF(Nährstoffabgabe!D85=\"\",\"\",Nährstoffabgabe!D85)","v":""},{"$f":"Nährstoffabgabe!E85","v":0},{"$f":"IF(Nährstoffabgabe!F85=\"\",\"\",Nährstoffabgabe!F85)","v":0.5},{"$f":"IF(Nährstoffabgabe!G85=\"\",\"\",Nährstoffabgabe!G85)","v":0.14000000000000001},{"$f":"IF(Nährstoffabgabe!H85=\"\",\"\",Nährstoffabgabe!H85)","v":0.54},{"$f":"IF(Nährstoffabgabe!I85=\"\",\"\",Nährstoffabgabe!I85)","v":5.8000000000000003E-2},{"$f":"IF(Nährstoffabgabe!J85=\"\",\"\",Nährstoffabgabe!J85)","v":0},{"$f":"IF(Nährstoffabgabe!K85=\"\",\"\",Nährstoffabgabe!K85)","v":0},{"$f":"IF(Nährstoffabgabe!L85=\"\",\"\",Nährstoffabgabe!L85)","v":0},{"$f":"IF(Nährstoffabgabe!M85=\"\",\"\",Nährstoffabgabe!M85)","v":0}]
[{"$f":"IF(Nährstoffabgabe!A86=\"\",\"\",Nährstoffabgabe!A86)","v":"Schnittlauch, weiterer Schnitt"},{"$f":"IF(Nährstoffabgabe!B86=\"\",\"\",Nährstoffabgabe!B86)","v":200},{"$f":"IF(Nährstoffabgabe!C86=\"\",\"\",Nährstoffabgabe!C86)","v":""},{"$f":"IF(Nährstoffabgabe!D86=\"\",\"\",Nährstoffabgabe!D86)","v":""},{"$f":"Nährstoffabgabe!E86","v":0},{"$f":"IF(Nährstoffabgabe!F86=\"\",\"\",Nährstoffabgabe!F86)","v":0.5},{"$f":"IF(Nährstoffabgabe!G86=\"\",\"\",Nährstoffabgabe!G86)","v":0.13746},{"$f":"IF(Nährstoffabgabe!H86=\"\",\"\",Nährstoffabgabe!H86)","v":0.54179999999999995},{"$f":"IF(Nährstoffabgabe!I86=\"\",\"\",Nährstoffabgabe!I86)","v":0.06},{"$f":"IF(Nährstoffabgabe!J86=\"\",\"\",Nährstoffabgabe!J86)","v":0},{"$f":"IF(Nährstoffabgabe!K86=\"\",\"\",Nährstoffabgabe!K86)","v":0},{"$f":"IF(Nährstoffabgabe!L86=\"\",\"\",Nährstoffabgabe!L86)","v":0},{"$f":"IF(Nährstoffabgabe!M86=\"\",\"\",Nährstoffabgabe!M86)","v":0}]
[{"$f":"IF(Nährstoffabgabe!A87=\"\",\"\",Nährstoffabgabe!A87)","v":"Schwarzwurzel"},{"$f":"IF(Nährstoffabgabe!B87=\"\",\"\",Nährstoffabgabe!B87)","v":200},{"$f":"IF(Nährstoffabgabe!C87=\"\",\"\",Nährstoffabgabe!C87)","v":""},{"$f":"IF(Nährstoffabgabe!D87=\"\",\"\",Nährstoffabgabe!D87)","v":""},{"$f":"Nährstoffabgabe!E87","v":0},{"$f":"IF(Nährstoffabgabe!F87=\"\",\"\",Nährstoffabgabe!F87)","v":0.23},{"$f":"IF(Nährstoffabgabe!G87=\"\",\"\",Nährstoffabgabe!G87)","v":0.16},{"$f":"IF(Nährstoffabgabe!H87=\"\",\"\",Nährstoffabgabe!H87)","v":0.38500000000000001},{"$f":"IF(Nährstoffabgabe!I87=\"\",\"\",Nährstoffabgabe!I87)","v":4.1000000000000002E-2},{"$f":"IF(Nährstoffabgabe!J87=\"\",\"\",Nährstoffabgabe!J87)","v":0},{"$f":"IF(Nährstoffabgabe!K87=\"\",\"\",Nährstoffabgabe!K87)","v":0},{"$f":"IF(Nährstoffabgabe!L87=\"\",\"\",Nährstoffabgabe!L87)","v":0},{"$f":"IF(Nährstoffabgabe!M87=\"\",\"\",Nährstoffabgabe!M87)","v":0}]
[{"$f":"IF(Nährstoffabgabe!A88=\"\",\"\",Nährstoffabgabe!A88)","v":"Sellerie, Bund-"},{"$f":"IF(Nährstoffabgabe!B88=\"\",\"\",Nährstoffabgabe!B88)","v":600},{"$f":"IF(Nährstoffabgabe!C88=\"\",\"\",Nährstoffabgabe!C88)","v":""},{"$f":"IF(Nährstoffabgabe!D88=\"\",\"\",Nährstoffabgabe!D88)","v":""},{"$f":"Nährstoffabgabe!E88","v":0},{"$f":"IF(Nährstoffabgabe!F88=\"\",\"\",Nährstoffabgabe!F88)","v":0.27},{"$f":"IF(Nährstoffabgabe!G88=\"\",\"\",Nährstoffabgabe!G88)","v":0.126},{"$f":"IF(Nährstoffabgabe!H88=\"\",\"\",Nährstoffabgabe!H88)","v":0.56999999999999995},{"$f":"IF(Nährstoffabgabe!I88=\"\",\"\",Nährstoffabgabe!I88)","v":3.3000000000000002E-2},{"$f":"IF(Nährstoffabgabe!J88=\"\",\"\",Nährstoffabgabe!J88)","v":0},{"$f":"IF(Nährstoffabgabe!K88=\"\",\"\",Nährstoffabgabe!K88)","v":0},{"$f":"IF(Nährstoffabgabe!L88=\"\",\"\",Nährstoffabgabe!L88)","v":0},{"$f":"IF(Nährstoffabgabe!M88=\"\",\"\",Nährstoffabgabe!M88)","v":0}]
[{"$f":"IF(Nährstoffabgabe!A89=\"\",\"\",Nährstoffabgabe!A89)","v":"Sellerie, Knollen-"},{"$f":"IF(Nährstoffabgabe!B89=\"\",\"\",Nährstoffabgabe!B89)","v":650},{"$f":"IF(Nährstoffabgabe!C89=\"\",\"\",Nährstoffabgabe!C89)","v":""},{"$f":"IF(Nährstoffabgabe!D89=\"\",\"\",Nährstoffabgabe!D89)","v":""},{"$f":"Nährstoffabgabe!E89","v":0},{"$f":"IF(Nährstoffabgabe!F89=\"\",\"\",Nährstoffabgabe!F89)","v":0.25},{"$f":"IF(Nährstoffabgabe!G89=\"\",\"\",Nährstoffabgabe!G89)","v":0.14891499999999999},{"$f":"IF(Nährstoffabgabe!H89=\"\",\"\",Nährstoffabgabe!H89)","v":0.54179999999999995},{"$f":"IF(Nährstoffabgabe!I89=\"\",\"\",Nährstoffabgabe!I89)","v":2.5000000000000001E-2},{"$f":"IF(Nährstoffabgabe!J89=\"\",\"\",Nährstoffabgabe!J89)","v":0},{"$f":"IF(Nährstoffabgabe!K89=\"\",\"\",Nährstoffabgabe!K89)","v":0},{"$f":"IF(Nährstoffabgabe!L89=\"\",\"\",Nährstoffabgabe!L89)","v":0},{"$f":"IF(Nährstoffabgabe!M89=\"\",\"\",Nährstoffabgabe!M89)","v":0}]
[{"$f":"IF(Nährstoffabgabe!A90=\"\",\"\",Nährstoffabgabe!A90)","v":"Sellerie, Stangen-"},{"$f":"IF(Nährstoffabgabe!B90=\"\",\"\",Nährstoffabgabe!B90)","v":500},{"$f":"IF(Nährstoffabgabe!C90=\"\",\"\",Nährstoffabgabe!C90)","v":""},{"$f":"IF(Nährstoffabgabe!D90=\"\",\"\",Nährstoffabgabe!D90)","v":""},{"$f":"Nährstoffabgabe!E90","v":0},{"$f":"IF(Nährstoffabgabe!F90=\"\",\"\",Nährstoffabgabe!F90)","v":0.25},{"$f":"IF(Nährstoffabgabe!G90=\"\",\"\",Nährstoffabgabe!G90)","v":0.11455},{"$f":"IF(Nährstoffabgabe!H90=\"\",\"\",Nährstoffabgabe!H90)","v":0.54179999999999995},{"$f":"IF(Nährstoffabgabe!I90=\"\",\"\",Nährstoffabgabe!I90)","v":3.3160000000000002E-2},{"$f":"IF(Nährstoffabgabe!J90=\"\",\"\",Nährstoffabgabe!J90)","v":0},{"$f":"IF(Nährstoffabgabe!K90=\"\",\"\",Nährstoffabgabe!K90)","v":0},{"$f":"IF(Nährstoffabgabe!L90=\"\",\"\",Nährstoffabgabe!L90)","v":0},{"$f":"IF(Nährstoffabgabe!M90=\"\",\"\",Nährstoffabgabe!M90)","v":0}]
[{"$f":"IF(Nährstoffabgabe!A91=\"\",\"\",Nährstoffabgabe!A91)","v":"Spargel, 1. Standjahr (Pflanzjahr), ≥20.000 Pfl./ha"},{"$f":"IF(Nährstoffabgabe!B91=\"\",\"\",Nährstoffabgabe!B91)","v":0},{"$f":"IF(Nährstoffabgabe!C91=\"\",\"\",Nährstoffabgabe!C91)","v":""},{"$f":"IF(Nährstoffabgabe!D91=\"\",\"\",Nährstoffabgabe!D91)","v":""},{"$f":"Nährstoffabgabe!E91","v":0},{"$f":"IF(Nährstoffabgabe!F91=\"\",\"\",Nährstoffabgabe!F91)","v":0.26},{"$f":"IF(Nährstoffabgabe!G91=\"\",\"\",Nährstoffabgabe!G91)","v":8.2000000000000003E-2},{"$f":"IF(Nährstoffabgabe!H91=\"\",\"\",Nährstoffabgabe!H91)","v":0.24},{"$f":"IF(Nährstoffabgabe!I91=\"\",\"\",Nährstoffabgabe!I91)","v":1.7999999999999999E-2},{"$f":"IF(Nährstoffabgabe!J91=\"\",\"\",Nährstoffabgabe!J91)","v":0},{"$f":"IF(Nährstoffabgabe!K91=\"\",\"\",Nährstoffabgabe!K91)","v":0},{"$f":"IF(Nährstoffabgabe!L91=\"\",\"\",Nährstoffabgabe!L91)","v":0},{"$f":"IF(Nährstoffabgabe!M91=\"\",\"\",Nährstoffabgabe!M91)","v":0}]
[{"$f":"IF(Nährstoffabgabe!A92=\"\",\"\",Nährstoffabgabe!A92)","v":"Spargel, 10. Standjahr, ≥20.000 Pfl./ha"},{"$f":"IF(Nährstoffabgabe!B92=\"\",\"\",Nährstoffabgabe!B92)","v":100},{"$f":"IF(Nährstoffabgabe!C92=\"\",\"\",Nährstoffabgabe!C92)","v":""},{"$f":"IF(Nährstoffabgabe!D92=\"\",\"\",Nährstoffabgabe!D92)","v":""},{"$f":"Nährstoffabgabe!E92","v":0},{"$f":"IF(Nährstoffabgabe!F92=\"\",\"\",Nährstoffabgabe!F92)","v":0.26},{"$f":"IF(Nährstoffabgabe!G92=\"\",\"\",Nährstoffabgabe!G92)","v":8.2000000000000003E-2},{"$f":"IF(Nährstoffabgabe!H92=\"\",\"\",Nährstoffabgabe!H92)","v":0.24},{"$f":"IF(Nährstoffabgabe!I92=\"\",\"\",Nährstoffabgabe!I92)","v":1.7999999999999999E-2},{"$f":"IF(Nährstoffabgabe!J92=\"\",\"\",Nährstoffabgabe!J92)","v":0},{"$f":"IF(Nährstoffabgabe!K92=\"\",\"\",Nährstoffabgabe!K92)","v":0},{"$f":"IF(Nährstoffabgabe!L92=\"\",\"\",Nährstoffabgabe!L92)","v":0},{"$f":"IF(Nährstoffabgabe!M92=\"\",\"\",Nährstoffabgabe!M92)","v":0}]
[{"$f":"IF(Nährstoffabgabe!A93=\"\",\"\",Nährstoffabgabe!A93)","v":"Spargel, 2. Standjahr, ≥20.000 Pfl./ha, mit Ernte"},{"$f":"IF(Nährstoffabgabe!B93=\"\",\"\",Nährstoffabgabe!B93)","v":20},{"$f":"IF(Nährstoffabgabe!C93=\"\",\"\",Nährstoffabgabe!C93)","v":""},{"$f":"IF(Nährstoffabgabe!D93=\"\",\"\",Nährstoffabgabe!D93)","v":""},{"$f":"Nährstoffabgabe!E93","v":0},{"$f":"IF(Nährstoffabgabe!F93=\"\",\"\",Nährstoffabgabe!F93)","v":0.26},{"$f":"IF(Nährstoffabgabe!G93=\"\",\"\",Nährstoffabgabe!G93)","v":8.2000000000000003E-2},{"$f":"IF(Nährstoffabgabe!H93=\"\",\"\",Nährstoffabgabe!H93)","v":0.24},{"$f":"IF(Nährstoffabgabe!I93=\"\",\"\",Nährstoffabgabe!I93)","v":1.7999999999999999E-2},{"$f":"IF(Nährstoffabgabe!J93=\"\",\"\",Nährstoffabgabe!J93)","v":0},{"$f":"IF(Nährstoffabgabe!K93=\"\",\"\",Nährstoffabgabe!K93)","v":0},{"$f":"IF(Nährstoffabgabe!L93=\"\",\"\",Nährstoffabgabe!L93)","v":0},{"$f":"IF(Nährstoffabgabe!M93=\"\",\"\",Nährstoffabgabe!M93)","v":0}]
[{"$f":"IF(Nährstoffabgabe!A94=\"\",\"\",Nährstoffabgabe!A94)","v":"Spargel, 2. Standjahr, ≥20.000 Pfl./ha, ohne Ernte"},{"$f":"IF(Nährstoffabgabe!B94=\"\",\"\",Nährstoffabgabe!B94)","v":0},{"$f":"IF(Nährstoffabgabe!C94=\"\",\"\",Nährstoffabgabe!C94)","v":""},{"$f":"IF(Nährstoffabgabe!D94=\"\",\"\",Nährstoffabgabe!D94)","v":""},{"$f":"Nährstoffabgabe!E94","v":0},{"$f":"IF(Nährstoffabgabe!F94=\"\",\"\",Nährstoffabgabe!F94)","v":0.26},{"$f":"IF(Nährstoffabgabe!G94=\"\",\"\",Nährstoffabgabe!G94)","v":8.2000000000000003E-2},{"$f":"IF(Nährstoffabgabe!H94=\"\",\"\",Nährstoffabgabe!H94)","v":0.24},{"$f":"IF(Nährstoffabgabe!I94=\"\",\"\",Nährstoffabgabe!I94)","v":1.7999999999999999E-2},{"$f":"IF(Nährstoffabgabe!J94=\"\",\"\",Nährstoffabgabe!J94)","v":0},{"$f":"IF(Nährstoffabgabe!K94=\"\",\"\",Nährstoffabgabe!K94)","v":0},{"$f":"IF(Nährstoffabgabe!L94=\"\",\"\",Nährstoffabgabe!L94)","v":0},{"$f":"IF(Nährstoffabgabe!M94=\"\",\"\",Nährstoffabgabe!M94)","v":0}]
[{"$f":"IF(Nährstoffabgabe!A95=\"\",\"\",Nährstoffabgabe!A95)","v":"Spargel, 3. Standjahr, ≥20.000 Pfl./ha"},{"$f":"IF(Nährstoffabgabe!B95=\"\",\"\",Nährstoffabgabe!B95)","v":80},{"$f":"IF(Nährstoffabgabe!C95=\"\",\"\",Nährstoffabgabe!C95)","v":""},{"$f":"IF(Nährstoffabgabe!D95=\"\",\"\",Nährstoffabgabe!D95)","v":""},{"$f":"Nährstoffabgabe!E95","v":0},{"$f":"IF(Nährstoffabgabe!F95=\"\",\"\",Nährstoffabgabe!F95)","v":0.26},{"$f":"IF(Nährstoffabgabe!G95=\"\",\"\",Nährstoffabgabe!G95)","v":8.2000000000000003E-2},{"$f":"IF(Nährstoffabgabe!H95=\"\",\"\",Nährstoffabgabe!H95)","v":0.24},{"$f":"IF(Nährstoffabgabe!I95=\"\",\"\",Nährstoffabgabe!I95)","v":1.7999999999999999E-2},{"$f":"IF(Nährstoffabgabe!J95=\"\",\"\",Nährstoffabgabe!J95)","v":0},{"$f":"IF(Nährstoffabgabe!K95=\"\",\"\",Nährstoffabgabe!K95)","v":0},{"$f":"IF(Nährstoffabgabe!L95=\"\",\"\",Nährstoffabgabe!L95)","v":0},{"$f":"IF(Nährstoffabgabe!M95=\"\",\"\",Nährstoffabgabe!M95)","v":0}]
[{"$f":"IF(Nährstoffabgabe!A96=\"\",\"\",Nährstoffabgabe!A96)","v":"Spargel, 4. Standjahr, ≥20.000 Pfl./ha"},{"$f":"IF(Nährstoffabgabe!B96=\"\",\"\",Nährstoffabgabe!B96)","v":100},{"$f":"IF(Nährstoffabgabe!C96=\"\",\"\",Nährstoffabgabe!C96)","v":""},{"$f":"IF(Nährstoffabgabe!D96=\"\",\"\",Nährstoffabgabe!D96)","v":""},{"$f":"Nährstoffabgabe!E96","v":0},{"$f":"IF(Nährstoffabgabe!F96=\"\",\"\",Nährstoffabgabe!F96)","v":0.26},{"$f":"IF(Nährstoffabgabe!G96=\"\",\"\",Nährstoffabgabe!G96)","v":8.2000000000000003E-2},{"$f":"IF(Nährstoffabgabe!H96=\"\",\"\",Nährstoffabgabe!H96)","v":0.24},{"$f":"IF(Nährstoffabgabe!I96=\"\",\"\",Nährstoffabgabe!I96)","v":1.7999999999999999E-2},{"$f":"IF(Nährstoffabgabe!J96=\"\",\"\",Nährstoffabgabe!J96)","v":0},{"$f":"IF(Nährstoffabgabe!K96=\"\",\"\",Nährstoffabgabe!K96)","v":0},{"$f":"IF(Nährstoffabgabe!L96=\"\",\"\",Nährstoffabgabe!L96)","v":0},{"$f":"IF(Nährstoffabgabe!M96=\"\",\"\",Nährstoffabgabe!M96)","v":0}]
[{"$f":"IF(Nährstoffabgabe!A97=\"\",\"\",Nährstoffabgabe!A97)","v":"Spargel, 5. Standjahr, ≥20.000 Pfl./ha"},{"$f":"IF(Nährstoffabgabe!B97=\"\",\"\",Nährstoffabgabe!B97)","v":100},{"$f":"IF(Nährstoffabgabe!C97=\"\",\"\",Nährstoffabgabe!C97)","v":""},{"$f":"IF(Nährstoffabgabe!D97=\"\",\"\",Nährstoffabgabe!D97)","v":""},{"$f":"Nährstoffabgabe!E97","v":0},{"$f":"IF(Nährstoffabgabe!F97=\"\",\"\",Nährstoffabgabe!F97)","v":0.26},{"$f":"IF(Nährstoffabgabe!G97=\"\",\"\",Nährstoffabgabe!G97)","v":8.2000000000000003E-2},{"$f":"IF(Nährstoffabgabe!H97=\"\",\"\",Nährstoffabgabe!H97)","v":0.24},{"$f":"IF(Nährstoffabgabe!I97=\"\",\"\",Nährstoffabgabe!I97)","v":1.7999999999999999E-2},{"$f":"IF(Nährstoffabgabe!J97=\"\",\"\",Nährstoffabgabe!J97)","v":0},{"$f":"IF(Nährstoffabgabe!K97=\"\",\"\",Nährstoffabgabe!K97)","v":0},{"$f":"IF(Nährstoffabgabe!L97=\"\",\"\",Nährstoffabgabe!L97)","v":0},{"$f":"IF(Nährstoffabgabe!M97=\"\",\"\",Nährstoffabgabe!M97)","v":0}]
[{"$f":"IF(Nährstoffabgabe!A98=\"\",\"\",Nährstoffabgabe!A98)","v":"Spargel, 6. Standjahr, ≥20.000 Pfl./ha"},{"$f":"IF(Nährstoffabgabe!B98=\"\",\"\",Nährstoffabgabe!B98)","v":100},{"$f":"IF(Nährstoffabgabe!C98=\"\",\"\",Nährstoffabgabe!C98)","v":""},{"$f":"IF(Nährstoffabgabe!D98=\"\",\"\",Nährstoffabgabe!D98)","v":""},{"$f":"Nährstoffabgabe!E98","v":0},{"$f":"IF(Nährstoffabgabe!F98=\"\",\"\",Nährstoffabgabe!F98)","v":0.26},{"$f":"IF(Nährstoffabgabe!G98=\"\",\"\",Nährstoffabgabe!G98)","v":8.2000000000000003E-2},{"$f":"IF(Nährstoffabgabe!H98=\"\",\"\",Nährstoffabgabe!H98)","v":0.24},{"$f":"IF(Nährstoffabgabe!I98=\"\",\"\",Nährstoffabgabe!I98)","v":1.7999999999999999E-2},{"$f":"IF(Nährstoffabgabe!J98=\"\",\"\",Nährstoffabgabe!J98)","v":0},{"$f":"IF(Nährstoffabgabe!K98=\"\",\"\",Nährstoffabgabe!K98)","v":0},{"$f":"IF(Nährstoffabgabe!L98=\"\",\"\",Nährstoffabgabe!L98)","v":0},{"$f":"IF(Nährstoffabgabe!M98=\"\",\"\",Nährstoffabgabe!M98)","v":0}]
[{"$f":"IF(Nährstoffabgabe!A99=\"\",\"\",Nährstoffabgabe!A99)","v":"Spargel, 7. Standjahr, ≥20.000 Pfl./ha"},{"$f":"IF(Nährstoffabgabe!B99=\"\",\"\",Nährstoffabgabe!B99)","v":100},{"$f":"IF(Nährstoffabgabe!C99=\"\",\"\",Nährstoffabgabe!C99)","v":""},{"$f":"IF(Nährstoffabgabe!D99=\"\",\"\",Nährstoffabgabe!D99)","v":""},{"$f":"Nährstoffabgabe!E99","v":0},{"$f":"IF(Nährstoffabgabe!F99=\"\",\"\",Nährstoffabgabe!F99)","v":0.26},{"$f":"IF(Nährstoffabgabe!G99=\"\",\"\",Nährstoffabgabe!G99)","v":8.2000000000000003E-2},{"$f":"IF(Nährstoffabgabe!H99=\"\",\"\",Nährstoffabgabe!H99)","v":0.24},{"$f":"IF(Nährstoffabgabe!I99=\"\",\"\",Nährstoffabgabe!I99)","v":1.7999999999999999E-2},{"$f":"IF(Nährstoffabgabe!J99=\"\",\"\",Nährstoffabgabe!J99)","v":0},{"$f":"IF(Nährstoffabgabe!K99=\"\",\"\",Nährstoffabgabe!K99)","v":0},{"$f":"IF(Nährstoffabgabe!L99=\"\",\"\",Nährstoffabgabe!L99)","v":0},{"$f":"IF(Nährstoffabgabe!M99=\"\",\"\",Nährstoffabgabe!M99)","v":0}]
[{"$f":"IF(Nährstoffabgabe!A100=\"\",\"\",Nährstoffabgabe!A100)","v":"Spargel, 8. Standjahr, ≥20.000 Pfl./ha"},{"$f":"IF(Nährstoffabgabe!B100=\"\",\"\",Nährstoffabgabe!B100)","v":100},{"$f":"IF(Nährstoffabgabe!C100=\"\",\"\",Nährstoffabgabe!C100)","v":""},{"$f":"IF(Nährstoffabgabe!D100=\"\",\"\",Nährstoffabgabe!D100)","v":""},{"$f":"Nährstoffabgabe!E100","v":0},{"$f":"IF(Nährstoffabgabe!F100=\"\",\"\",Nährstoffabgabe!F100)","v":0.26},{"$f":"IF(Nährstoffabgabe!G100=\"\",\"\",Nährstoffabgabe!G100)","v":8.2000000000000003E-2},{"$f":"IF(Nährstoffabgabe!H100=\"\",\"\",Nährstoffabgabe!H100)","v":0.24},{"$f":"IF(Nährstoffabgabe!I100=\"\",\"\",Nährstoffabgabe!I100)","v":1.7999999999999999E-2},{"$f":"IF(Nährstoffabgabe!J100=\"\",\"\",Nährstoffabgabe!J100)","v":0},{"$f":"IF(Nährstoffabgabe!K100=\"\",\"\",Nährstoffabgabe!K100)","v":0},{"$f":"IF(Nährstoffabgabe!L100=\"\",\"\",Nährstoffabgabe!L100)","v":0},{"$f":"IF(Nährstoffabgabe!M100=\"\",\"\",Nährstoffabgabe!M100)","v":0}]
[{"$f":"IF(Nährstoffabgabe!A101=\"\",\"\",Nährstoffabgabe!A101)","v":"Spargel, 9. Standjahr, ≥20.000 Pfl./ha"},{"$f":"IF(Nährstoffabgabe!B101=\"\",\"\",Nährstoffabgabe!B101)","v":100},{"$f":"IF(Nährstoffabgabe!C101=\"\",\"\",Nährstoffabgabe!C101)","v":""},{"$f":"IF(Nährstoffabgabe!D101=\"\",\"\",Nährstoffabgabe!D101)","v":""},{"$f":"Nährstoffabgabe!E101","v":0},{"$f":"IF(Nährstoffabgabe!F101=\"\",\"\",Nährstoffabgabe!F101)","v":0.26},{"$f":"IF(Nährstoffabgabe!G101=\"\",\"\",Nährstoffabgabe!G101)","v":8.2000000000000003E-2},{"$f":"IF(Nährstoffabgabe!H101=\"\",\"\",Nährstoffabgabe!H101)","v":0.24},{"$f":"IF(Nährstoffabgabe!I101=\"\",\"\",Nährstoffabgabe!I101)","v":1.7999999999999999E-2},{"$f":"IF(Nährstoffabgabe!J101=\"\",\"\",Nährstoffabgabe!J101)","v":0},{"$f":"IF(Nährstoffabgabe!K101=\"\",\"\",Nährstoffabgabe!K101)","v":0},{"$f":"IF(Nährstoffabgabe!L101=\"\",\"\",Nährstoffabgabe!L101)","v":0},{"$f":"IF(Nährstoffabgabe!M101=\"\",\"\",Nährstoffabgabe!M101)","v":0}]
[{"$f":"IF(Nährstoffabgabe!A102=\"\",\"\",Nährstoffabgabe!A102)","v":"Spargel, Umbruchjahr, ≥20.000 Pfl./ha"},{"$f":"IF(Nährstoffabgabe!B102=\"\",\"\",Nährstoffabgabe!B102)","v":100},{"$f":"IF(Nährstoffabgabe!C102=\"\",\"\",Nährstoffabgabe!C102)","v":""},{"$f":"IF(Nährstoffabgabe!D102=\"\",\"\",Nährstoffabgabe!D102)","v":""},{"$f":"Nährstoffabgabe!E102","v":0},{"$f":"IF(Nährstoffabgabe!F102=\"\",\"\",Nährstoffabgabe!F102)","v":0.26},{"$f":"IF(Nährstoffabgabe!G102=\"\",\"\",Nährstoffabgabe!G102)","v":8.2000000000000003E-2},{"$f":"IF(Nährstoffabgabe!H102=\"\",\"\",Nährstoffabgabe!H102)","v":0.24},{"$f":"IF(Nährstoffabgabe!I102=\"\",\"\",Nährstoffabgabe!I102)","v":1.7999999999999999E-2},{"$f":"IF(Nährstoffabgabe!J102=\"\",\"\",Nährstoffabgabe!J102)","v":0},{"$f":"IF(Nährstoffabgabe!K102=\"\",\"\",Nährstoffabgabe!K102)","v":0},{"$f":"IF(Nährstoffabgabe!L102=\"\",\"\",Nährstoffabgabe!L102)","v":0},{"$f":"IF(Nährstoffabgabe!M102=\"\",\"\",Nährstoffabgabe!M102)","v":0}]
[{"$f":"IF(Nährstoffabgabe!A103=\"\",\"\",Nährstoffabgabe!A103)","v":"Spinat, Blatt-, Frischmarkt, Babyleaf"},{"$f":"IF(Nährstoffabgabe!B103=\"\",\"\",Nährstoffabgabe!B103)","v":130},{"$f":"IF(Nährstoffabgabe!C103=\"\",\"\",Nährstoffabgabe!C103)","v":""},{"$f":"IF(Nährstoffabgabe!D103=\"\",\"\",Nährstoffabgabe!D103)","v":""},{"$f":"Nährstoffabgabe!E103","v":0},{"$f":"IF(Nährstoffabgabe!F103=\"\",\"\",Nährstoffabgabe!F103)","v":0.45},{"$f":"IF(Nährstoffabgabe!G103=\"\",\"\",Nährstoffabgabe!G103)","v":0.11},{"$f":"IF(Nährstoffabgabe!H103=\"\",\"\",Nährstoffabgabe!H103)","v":0.66},{"$f":"IF(Nährstoffabgabe!I103=\"\",\"\",Nährstoffabgabe!I103)","v":8.3000000000000004E-2},{"$f":"IF(Nährstoffabgabe!J103=\"\",\"\",Nährstoffabgabe!J103)","v":0},{"$f":"IF(Nährstoffabgabe!K103=\"\",\"\",Nährstoffabgabe!K103)","v":0},{"$f":"IF(Nährstoffabgabe!L103=\"\",\"\",Nährstoffabgabe!L103)","v":0},{"$f":"IF(Nährstoffabgabe!M103=\"\",\"\",Nährstoffabgabe!M103)","v":0}]
[{"$f":"IF(Nährstoffabgabe!A104=\"\",\"\",Nährstoffabgabe!A104)","v":"Spinat, Blatt-, Standard"},{"$f":"IF(Nährstoffabgabe!B104=\"\",\"\",Nährstoffabgabe!B104)","v":250},{"$f":"IF(Nährstoffabgabe!C104=\"\",\"\",Nährstoffabgabe!C104)","v":""},{"$f":"IF(Nährstoffabgabe!D104=\"\",\"\",Nährstoffabgabe!D104)","v":""},{"$f":"Nährstoffabgabe!E104","v":0},{"$f":"IF(Nährstoffabgabe!F104=\"\",\"\",Nährstoffabgabe!F104)","v":0.4},{"$f":"IF(Nährstoffabgabe!G104=\"\",\"\",Nährstoffabgabe!G104)","v":0.11455},{"$f":"IF(Nährstoffabgabe!H104=\"\",\"\",Nährstoffabgabe!H104)","v":0.66220000000000001},{"$f":"IF(Nährstoffabgabe!I104=\"\",\"\",Nährstoffabgabe!I104)","v":8.3000000000000004E-2},{"$f":"IF(Nährstoffabgabe!J104=\"\",\"\",Nährstoffabgabe!J104)","v":0},{"$f":"IF(Nährstoffabgabe!K104=\"\",\"\",Nährstoffabgabe!K104)","v":0},{"$f":"IF(Nährstoffabgabe!L104=\"\",\"\",Nährstoffabgabe!L104)","v":0},{"$f":"IF(Nährstoffabgabe!M104=\"\",\"\",Nährstoffabgabe!M104)","v":0}]
[{"$f":"IF(Nährstoffabgabe!A105=\"\",\"\",Nährstoffabgabe!A105)","v":"Spinat, Hack-, Standard"},{"$f":"IF(Nährstoffabgabe!B105=\"\",\"\",Nährstoffabgabe!B105)","v":300},{"$f":"IF(Nährstoffabgabe!C105=\"\",\"\",Nährstoffabgabe!C105)","v":""},{"$f":"IF(Nährstoffabgabe!D105=\"\",\"\",Nährstoffabgabe!D105)","v":""},{"$f":"Nährstoffabgabe!E105","v":0},{"$f":"IF(Nährstoffabgabe!F105=\"\",\"\",Nährstoffabgabe!F105)","v":0.36},{"$f":"IF(Nährstoffabgabe!G105=\"\",\"\",Nährstoffabgabe!G105)","v":0.11455},{"$f":"IF(Nährstoffabgabe!H105=\"\",\"\",Nährstoffabgabe!H105)","v":0.66},{"$f":"IF(Nährstoffabgabe!I105=\"\",\"\",Nährstoffabgabe!I105)","v":8.3000000000000004E-2},{"$f":"IF(Nährstoffabgabe!J105=\"\",\"\",Nährstoffabgabe!J105)","v":0},{"$f":"IF(Nährstoffabgabe!K105=\"\",\"\",Nährstoffabgabe!K105)","v":0},{"$f":"IF(Nährstoffabgabe!L105=\"\",\"\",Nährstoffabgabe!L105)","v":0},{"$f":"IF(Nährstoffabgabe!M105=\"\",\"\",Nährstoffabgabe!M105)","v":0}]
[{"$f":"IF(Nährstoffabgabe!A106=\"\",\"\",Nährstoffabgabe!A106)","v":"Spinat, Winter, früh*"},{"$f":"IF(Nährstoffabgabe!B106=\"\",\"\",Nährstoffabgabe!B106)","v":310},{"$f":"IF(Nährstoffabgabe!C106=\"\",\"\",Nährstoffabgabe!C106)","v":""},{"$f":"IF(Nährstoffabgabe!D106=\"\",\"\",Nährstoffabgabe!D106)","v":""},{"$f":"Nährstoffabgabe!E106","v":0},{"$f":"IF(Nährstoffabgabe!F106=\"\",\"\",Nährstoffabgabe!F106)","v":0.49},{"$f":"IF(Nährstoffabgabe!G106=\"\",\"\",Nährstoffabgabe!G106)","v":0.115},{"$f":"IF(Nährstoffabgabe!H106=\"\",\"\",Nährstoffabgabe!H106)","v":0.66},{"$f":"IF(Nährstoffabgabe!I106=\"\",\"\",Nährstoffabgabe!I106)","v":8.3000000000000004E-2},{"$f":"IF(Nährstoffabgabe!J106=\"\",\"\",Nährstoffabgabe!J106)","v":0},{"$f":"IF(Nährstoffabgabe!K106=\"\",\"\",Nährstoffabgabe!K106)","v":0},{"$f":"IF(Nährstoffabgabe!L106=\"\",\"\",Nährstoffabgabe!L106)","v":0},{"$f":"IF(Nährstoffabgabe!M106=\"\",\"\",Nährstoffabgabe!M106)","v":0}]
[{"$f":"IF(Nährstoffabgabe!A107=\"\",\"\",Nährstoffabgabe!A107)","v":"Spinat, Winter, spät/mittel*"},{"$f":"IF(Nährstoffabgabe!B107=\"\",\"\",Nährstoffabgabe!B107)","v":360},{"$f":"IF(Nährstoffabgabe!C107=\"\",\"\",Nährstoffabgabe!C107)","v":""},{"$f":"IF(Nährstoffabgabe!D107=\"\",\"\",Nährstoffabgabe!D107)","v":""},{"$f":"Nährstoffabgabe!E107","v":0},{"$f":"IF(Nährstoffabgabe!F107=\"\",\"\",Nährstoffabgabe!F107)","v":0.51},{"$f":"IF(Nährstoffabgabe!G107=\"\",\"\",Nährstoffabgabe!G107)","v":0.115},{"$f":"IF(Nährstoffabgabe!H107=\"\",\"\",Nährstoffabgabe!H107)","v":0.66},{"$f":"IF(Nährstoffabgabe!I107=\"\",\"\",Nährstoffabgabe!I107)","v":8.3000000000000004E-2},{"$f":"IF(Nährstoffabgabe!J107=\"\",\"\",Nährstoffabgabe!J107)","v":0},{"$f":"IF(Nährstoffabgabe!K107=\"\",\"\",Nährstoffabgabe!K107)","v":0},{"$f":"IF(Nährstoffabgabe!L107=\"\",\"\",Nährstoffabgabe!L107)","v":0},{"$f":"IF(Nährstoffabgabe!M107=\"\",\"\",Nährstoffabgabe!M107)","v":0}]
[{"$f":"IF(Nährstoffabgabe!A108=\"\",\"\",Nährstoffabgabe!A108)","v":"Stangenbohne "},{"$f":"IF(Nährstoffabgabe!B108=\"\",\"\",Nährstoffabgabe!B108)","v":250},{"$f":"IF(Nährstoffabgabe!C108=\"\",\"\",Nährstoffabgabe!C108)","v":""},{"$f":"IF(Nährstoffabgabe!D108=\"\",\"\",Nährstoffabgabe!D108)","v":""},{"$f":"Nährstoffabgabe!E108","v":0},{"$f":"IF(Nährstoffabgabe!F108=\"\",\"\",Nährstoffabgabe!F108)","v":0.25},{"$f":"IF(Nährstoffabgabe!G108=\"\",\"\",Nährstoffabgabe!G108)","v":9.1639999999999999E-2},{"$f":"IF(Nährstoffabgabe!H108=\"\",\"\",Nährstoffabgabe!H108)","v":0.30099999999999999},{"$f":"IF(Nährstoffabgabe!I108=\"\",\"\",Nährstoffabgabe!I108)","v":0.04},{"$f":"IF(Nährstoffabgabe!J108=\"\",\"\",Nährstoffabgabe!J108)","v":0},{"$f":"IF(Nährstoffabgabe!K108=\"\",\"\",Nährstoffabgabe!K108)","v":0},{"$f":"IF(Nährstoffabgabe!L108=\"\",\"\",Nährstoffabgabe!L108)","v":0},{"$f":"IF(Nährstoffabgabe!M108=\"\",\"\",Nährstoffabgabe!M108)","v":0}]
[{"$f":"IF(Nährstoffabgabe!A109=\"\",\"\",Nährstoffabgabe!A109)","v":"Süßkartoffel Knolle"},{"$f":"IF(Nährstoffabgabe!B109=\"\",\"\",Nährstoffabgabe!B109)","v":400},{"$f":"IF(Nährstoffabgabe!C109=\"\",\"\",Nährstoffabgabe!C109)","v":""},{"$f":"IF(Nährstoffabgabe!D109=\"\",\"\",Nährstoffabgabe!D109)","v":""},{"$f":"Nährstoffabgabe!E109","v":0},{"$f":"IF(Nährstoffabgabe!F109=\"\",\"\",Nährstoffabgabe!F109)","v":0.39},{"$f":"IF(Nährstoffabgabe!G109=\"\",\"\",Nährstoffabgabe!G109)","v":0.15},{"$f":"IF(Nährstoffabgabe!H109=\"\",\"\",Nährstoffabgabe!H109)","v":0.67},{"$f":"IF(Nährstoffabgabe!I109=\"\",\"\",Nährstoffabgabe!I109)","v":0.06},{"$f":"IF(Nährstoffabgabe!J109=\"\",\"\",Nährstoffabgabe!J109)","v":0},{"$f":"IF(Nährstoffabgabe!K109=\"\",\"\",Nährstoffabgabe!K109)","v":0},{"$f":"IF(Nährstoffabgabe!L109=\"\",\"\",Nährstoffabgabe!L109)","v":0},{"$f":"IF(Nährstoffabgabe!M109=\"\",\"\",Nährstoffabgabe!M109)","v":0}]
[{"$f":"IF(Nährstoffabgabe!A110=\"\",\"\",Nährstoffabgabe!A110)","v":"Teltower Rübchen (Herbstanbau)"},{"$f":"IF(Nährstoffabgabe!B110=\"\",\"\",Nährstoffabgabe!B110)","v":150},{"$f":"IF(Nährstoffabgabe!C110=\"\",\"\",Nährstoffabgabe!C110)","v":""},{"$f":"IF(Nährstoffabgabe!D110=\"\",\"\",Nährstoffabgabe!D110)","v":""},{"$f":"Nährstoffabgabe!E110","v":0},{"$f":"IF(Nährstoffabgabe!F110=\"\",\"\",Nährstoffabgabe!F110)","v":0.45},{"$f":"IF(Nährstoffabgabe!G110=\"\",\"\",Nährstoffabgabe!G110)","v":0.24060000000000001},{"$f":"IF(Nährstoffabgabe!H110=\"\",\"\",Nährstoffabgabe!H110)","v":0.66220000000000001},{"$f":"IF(Nährstoffabgabe!I110=\"\",\"\",Nährstoffabgabe!I110)","v":8.3000000000000004E-2},{"$f":"IF(Nährstoffabgabe!J110=\"\",\"\",Nährstoffabgabe!J110)","v":0},{"$f":"IF(Nährstoffabgabe!K110=\"\",\"\",Nährstoffabgabe!K110)","v":0},{"$f":"IF(Nährstoffabgabe!L110=\"\",\"\",Nährstoffabgabe!L110)","v":0},{"$f":"IF(Nährstoffabgabe!M110=\"\",\"\",Nährstoffabgabe!M110)","v":0}]
[{"$f":"IF(Nährstoffabgabe!A111=\"\",\"\",Nährstoffabgabe!A111)","v":"Tomate"},{"$f":"IF(Nährstoffabgabe!B111=\"\",\"\",Nährstoffabgabe!B111)","v":2000},{"$f":"IF(Nährstoffabgabe!C111=\"\",\"\",Nährstoffabgabe!C111)","v":""},{"$f":"IF(Nährstoffabgabe!D111=\"\",\"\",Nährstoffabgabe!D111)","v":""},{"$f":"Nährstoffabgabe!E111","v":0},{"$f":"IF(Nährstoffabgabe!F111=\"\",\"\",Nährstoffabgabe!F111)","v":0.17},{"$f":"IF(Nährstoffabgabe!G111=\"\",\"\",Nährstoffabgabe!G111)","v":0.05},{"$f":"IF(Nährstoffabgabe!H111=\"\",\"\",Nährstoffabgabe!H111)","v":0.39},{"$f":"IF(Nährstoffabgabe!I111=\"\",\"\",Nährstoffabgabe!I111)","v":0.02},{"$f":"IF(Nährstoffabgabe!J111=\"\",\"\",Nährstoffabgabe!J111)","v":0},{"$f":"IF(Nährstoffabgabe!K111=\"\",\"\",Nährstoffabgabe!K111)","v":0},{"$f":"IF(Nährstoffabgabe!L111=\"\",\"\",Nährstoffabgabe!L111)","v":0},{"$f":"IF(Nährstoffabgabe!M111=\"\",\"\",Nährstoffabgabe!M111)","v":0}]
[{"$f":"IF(Nährstoffabgabe!A112=\"\",\"\",Nährstoffabgabe!A112)","v":"Weißkohl, Frischmarkt (inkl. spitz, flach)"},{"$f":"IF(Nährstoffabgabe!B112=\"\",\"\",Nährstoffabgabe!B112)","v":700},{"$f":"IF(Nährstoffabgabe!C112=\"\",\"\",Nährstoffabgabe!C112)","v":""},{"$f":"IF(Nährstoffabgabe!D112=\"\",\"\",Nährstoffabgabe!D112)","v":""},{"$f":"Nährstoffabgabe!E112","v":0},{"$f":"IF(Nährstoffabgabe!F112=\"\",\"\",Nährstoffabgabe!F112)","v":0.2},{"$f":"IF(Nährstoffabgabe!G112=\"\",\"\",Nährstoffabgabe!G112)","v":7.3312000000000002E-2},{"$f":"IF(Nährstoffabgabe!H112=\"\",\"\",Nährstoffabgabe!H112)","v":0.31303999999999998},{"$f":"IF(Nährstoffabgabe!I112=\"\",\"\",Nährstoffabgabe!I112)","v":2.5000000000000001E-2},{"$f":"IF(Nährstoffabgabe!J112=\"\",\"\",Nährstoffabgabe!J112)","v":0},{"$f":"IF(Nährstoffabgabe!K112=\"\",\"\",Nährstoffabgabe!K112)","v":0},{"$f":"IF(Nährstoffabgabe!L112=\"\",\"\",Nährstoffabgabe!L112)","v":0},{"$f":"IF(Nährstoffabgabe!M112=\"\",\"\",Nährstoffabgabe!M112)","v":0}]
[{"$f":"IF(Nährstoffabgabe!A113=\"\",\"\",Nährstoffabgabe!A113)","v":"Weißkohl, Industrie (inkl. spitz, flach)"},{"$f":"IF(Nährstoffabgabe!B113=\"\",\"\",Nährstoffabgabe!B113)","v":1000},{"$f":"IF(Nährstoffabgabe!C113=\"\",\"\",Nährstoffabgabe!C113)","v":""},{"$f":"IF(Nährstoffabgabe!D113=\"\",\"\",Nährstoffabgabe!D113)","v":""},{"$f":"Nährstoffabgabe!E113","v":0},{"$f":"IF(Nährstoffabgabe!F113=\"\",\"\",Nährstoffabgabe!F113)","v":0.2},{"$f":"IF(Nährstoffabgabe!G113=\"\",\"\",Nährstoffabgabe!G113)","v":7.3312000000000002E-2},{"$f":"IF(Nährstoffabgabe!H113=\"\",\"\",Nährstoffabgabe!H113)","v":0.31303999999999998},{"$f":"IF(Nährstoffabgabe!I113=\"\",\"\",Nährstoffabgabe!I113)","v":2.5000000000000001E-2},{"$f":"IF(Nährstoffabgabe!J113=\"\",\"\",Nährstoffabgabe!J113)","v":0},{"$f":"IF(Nährstoffabgabe!K113=\"\",\"\",Nährstoffabgabe!K113)","v":0},{"$f":"IF(Nährstoffabgabe!L113=\"\",\"\",Nährstoffabgabe!L113)","v":0},{"$f":"IF(Nährstoffabgabe!M113=\"\",\"\",Nährstoffabgabe!M113)","v":0}]
[{"$f":"IF(Nährstoffabgabe!A114=\"\",\"\",Nährstoffabgabe!A114)","v":"Wirsing"},{"$f":"IF(Nährstoffabgabe!B114=\"\",\"\",Nährstoffabgabe!B114)","v":400},{"$f":"IF(Nährstoffabgabe!C114=\"\",\"\",Nährstoffabgabe!C114)","v":""},{"$f":"IF(Nährstoffabgabe!D114=\"\",\"\",Nährstoffabgabe!D114)","v":""},{"$f":"Nährstoffabgabe!E114","v":0},{"$f":"IF(Nährstoffabgabe!F114=\"\",\"\",Nährstoffabgabe!F114)","v":0.35},{"$f":"IF(Nährstoffabgabe!G114=\"\",\"\",Nährstoffabgabe!G114)","v":0.11455},{"$f":"IF(Nährstoffabgabe!H114=\"\",\"\",Nährstoffabgabe!H114)","v":0.38528000000000001},{"$f":"IF(Nährstoffabgabe!I114=\"\",\"\",Nährstoffabgabe!I114)","v":2.5000000000000001E-2},{"$f":"IF(Nährstoffabgabe!J114=\"\",\"\",Nährstoffabgabe!J114)","v":0},{"$f":"IF(Nährstoffabgabe!K114=\"\",\"\",Nährstoffabgabe!K114)","v":0},{"$f":"IF(Nährstoffabgabe!L114=\"\",\"\",Nährstoffabgabe!L114)","v":0},{"$f":"IF(Nährstoffabgabe!M114=\"\",\"\",Nährstoffabgabe!M114)","v":0}]
[{"$f":"IF(Nährstoffabgabe!A115=\"\",\"\",Nährstoffabgabe!A115)","v":"Zucchini"},{"$f":"IF(Nährstoffabgabe!B115=\"\",\"\",Nährstoffabgabe!B115)","v":650},{"$f":"IF(Nährstoffabgabe!C115=\"\",\"\",Nährstoffabgabe!C115)","v":""},{"$f":"IF(Nährstoffabgabe!D115=\"\",\"\",Nährstoffabgabe!D115)","v":""},{"$f":"Nährstoffabgabe!E115","v":0},{"$f":"IF(Nährstoffabgabe!F115=\"\",\"\",Nährstoffabgabe!F115)","v":0.16},{"$f":"IF(Nährstoffabgabe!G115=\"\",\"\",Nährstoffabgabe!G115)","v":5.9565999999999994E-2},{"$f":"IF(Nährstoffabgabe!H115=\"\",\"\",Nährstoffabgabe!H115)","v":0.20468},{"$f":"IF(Nährstoffabgabe!I115=\"\",\"\",Nährstoffabgabe!I115)","v":2.7E-2},{"$f":"IF(Nährstoffabgabe!J115=\"\",\"\",Nährstoffabgabe!J115)","v":0},{"$f":"IF(Nährstoffabgabe!K115=\"\",\"\",Nährstoffabgabe!K115)","v":0},{"$f":"IF(Nährstoffabgabe!L115=\"\",\"\",Nährstoffabgabe!L115)","v":0},{"$f":"IF(Nährstoffabgabe!M115=\"\",\"\",Nährstoffabgabe!M115)","v":0}]
[{"$f":"IF(Nährstoffabgabe!A116=\"\",\"\",Nährstoffabgabe!A116)","v":"Zuckermais"},{"$f":"IF(Nährstoffabgabe!B116=\"\",\"\",Nährstoffabgabe!B116)","v":200},{"$f":"IF(Nährstoffabgabe!C116=\"\",\"\",Nährstoffabgabe!C116)","v":""},{"$f":"IF(Nährstoffabgabe!D116=\"\",\"\",Nährstoffabgabe!D116)","v":""},{"$f":"Nährstoffabgabe!E116","v":0},{"$f":"IF(Nährstoffabgabe!F116=\"\",\"\",Nährstoffabgabe!F116)","v":0.35},{"$f":"IF(Nährstoffabgabe!G116=\"\",\"\",Nährstoffabgabe!G116)","v":0.16037000000000001},{"$f":"IF(Nährstoffabgabe!H116=\"\",\"\",Nährstoffabgabe!H116)","v":0.26488},{"$f":"IF(Nährstoffabgabe!I116=\"\",\"\",Nährstoffabgabe!I116)","v":5.8000000000000003E-2},{"$f":"IF(Nährstoffabgabe!J116=\"\",\"\",Nährstoffabgabe!J116)","v":0},{"$f":"IF(Nährstoffabgabe!K116=\"\",\"\",Nährstoffabgabe!K116)","v":0},{"$f":"IF(Nährstoffabgabe!L116=\"\",\"\",Nährstoffabgabe!L116)","v":0},{"$f":"IF(Nährstoffabgabe!M116=\"\",\"\",Nährstoffabgabe!M116)","v":0}]
[{"$f":"IF(Nährstoffabgabe!A117=\"\",\"\",Nährstoffabgabe!A117)","v":"Zwiebel, Bund"},{"$f":"IF(Nährstoffabgabe!B117=\"\",\"\",Nährstoffabgabe!B117)","v":680},{"$f":"IF(Nährstoffabgabe!C117=\"\",\"\",Nährstoffabgabe!C117)","v":""},{"$f":"IF(Nährstoffabgabe!D117=\"\",\"\",Nährstoffabgabe!D117)","v":""},{"$f":"Nährstoffabgabe!E117","v":0},{"$f":"IF(Nährstoffabgabe!F117=\"\",\"\",Nährstoffabgabe!F117)","v":0.2},{"$f":"IF(Nährstoffabgabe!G117=\"\",\"\",Nährstoffabgabe!G117)","v":0.06},{"$f":"IF(Nährstoffabgabe!H117=\"\",\"\",Nährstoffabgabe!H117)","v":0.24080000000000001},{"$f":"IF(Nährstoffabgabe!I117=\"\",\"\",Nährstoffabgabe!I117)","v":3.3160000000000002E-2},{"$f":"IF(Nährstoffabgabe!J117=\"\",\"\",Nährstoffabgabe!J117)","v":0},{"$f":"IF(Nährstoffabgabe!K117=\"\",\"\",Nährstoffabgabe!K117)","v":0},{"$f":"IF(Nährstoffabgabe!L117=\"\",\"\",Nährstoffabgabe!L117)","v":0},{"$f":"IF(Nährstoffabgabe!M117=\"\",\"\",Nährstoffabgabe!M117)","v":0}]
[{"$f":"IF(Nährstoffabgabe!A118=\"\",\"\",Nährstoffabgabe!A118)","v":"Zwiebel, Schalotte"},{"$f":"IF(Nährstoffabgabe!B118=\"\",\"\",Nährstoffabgabe!B118)","v":450},{"$f":"IF(Nährstoffabgabe!C118=\"\",\"\",Nährstoffabgabe!C118)","v":""},{"$f":"IF(Nährstoffabgabe!D118=\"\",\"\",Nährstoffabgabe!D118)","v":""},{"$f":"Nährstoffabgabe!E118","v":0},{"$f":"IF(Nährstoffabgabe!F118=\"\",\"\",Nährstoffabgabe!F118)","v":0.27},{"$f":"IF(Nährstoffabgabe!G118=\"\",\"\",Nährstoffabgabe!G118)","v":0.105},{"$f":"IF(Nährstoffabgabe!H118=\"\",\"\",Nährstoffabgabe!H118)","v":0.3},{"$f":"IF(Nährstoffabgabe!I118=\"\",\"\",Nährstoffabgabe!I118)","v":2.9000000000000001E-2},{"$f":"IF(Nährstoffabgabe!J118=\"\",\"\",Nährstoffabgabe!J118)","v":0},{"$f":"IF(Nährstoffabgabe!K118=\"\",\"\",Nährstoffabgabe!K118)","v":0},{"$f":"IF(Nährstoffabgabe!L118=\"\",\"\",Nährstoffabgabe!L118)","v":0},{"$f":"IF(Nährstoffabgabe!M118=\"\",\"\",Nährstoffabgabe!M118)","v":0}]
[{"$f":"IF(Nährstoffabgabe!A119=\"\",\"\",Nährstoffabgabe!A119)","v":"Zwiebel, Trocken"},{"$f":"IF(Nährstoffabgabe!B119=\"\",\"\",Nährstoffabgabe!B119)","v":600},{"$f":"IF(Nährstoffabgabe!C119=\"\",\"\",Nährstoffabgabe!C119)","v":""},{"$f":"IF(Nährstoffabgabe!D119=\"\",\"\",Nährstoffabgabe!D119)","v":""},{"$f":"Nährstoffabgabe!E119","v":0},{"$f":"IF(Nährstoffabgabe!F119=\"\",\"\",Nährstoffabgabe!F119)","v":0.18},{"$f":"IF(Nährstoffabgabe!G119=\"\",\"\",Nährstoffabgabe!G119)","v":0.08},{"$f":"IF(Nährstoffabgabe!H119=\"\",\"\",Nährstoffabgabe!H119)","v":0.24},{"$f":"IF(Nährstoffabgabe!I119=\"\",\"\",Nährstoffabgabe!I119)","v":2.5000000000000001E-2},{"$f":"IF(Nährstoffabgabe!J119=\"\",\"\",Nährstoffabgabe!J119)","v":0},{"$f":"IF(Nährstoffabgabe!K119=\"\",\"\",Nährstoffabgabe!K119)","v":0},{"$f":"IF(Nährstoffabgabe!L119=\"\",\"\",Nährstoffabgabe!L119)","v":0},{"$f":"IF(Nährstoffabgabe!M119=\"\",\"\",Nährstoffabgabe!M119)","v":0}]
[{"$f":"IF(Nährstoffabgabe!A120=\"\",\"\",Nährstoffabgabe!A120)","v":""},{"$f":"IF(Nährstoffabgabe!B120=\"\",\"\",Nährstoffabgabe!B120)","v":""},{"$f":"IF(Nährstoffabgabe!C120=\"\",\"\",Nährstoffabgabe!C120)","v":""},{"$f":"IF(Nährstoffabgabe!D120=\"\",\"\",Nährstoffabgabe!D120)","v":""},{"$f":"Nährstoffabgabe!E120","v":0},{"$f":"IF(Nährstoffabgabe!F120=\"\",\"\",Nährstoffabgabe!F120)","v":""},{"$f":"IF(Nährstoffabgabe!G120=\"\",\"\",Nährstoffabgabe!G120)","v":""},{"$f":"IF(Nährstoffabgabe!H120=\"\",\"\",Nährstoffabgabe!H120)","v":""},{"$f":"IF(Nährstoffabgabe!I120=\"\",\"\",Nährstoffabgabe!I120)","v":""},{"$f":"IF(Nährstoffabgabe!J120=\"\",\"\",Nährstoffabgabe!J120)","v":0},{"$f":"IF(Nährstoffabgabe!K120=\"\",\"\",Nährstoffabgabe!K120)","v":0},{"$f":"IF(Nährstoffabgabe!L120=\"\",\"\",Nährstoffabgabe!L120)","v":0},{"$f":"IF(Nährstoffabgabe!M120=\"\",\"\",Nährstoffabgabe!M120)","v":0}]
[{"$f":"IF(Nährstoffabgabe!A121=\"\",\"\",Nährstoffabgabe!A121)","v":""},{"$f":"IF(Nährstoffabgabe!B121=\"\",\"\",Nährstoffabgabe!B121)","v":""},{"$f":"IF(Nährstoffabgabe!C121=\"\",\"\",Nährstoffabgabe!C121)","v":""},{"$f":"IF(Nährstoffabgabe!D121=\"\",\"\",Nährstoffabgabe!D121)","v":""},{"$f":"Nährstoffabgabe!E121","v":0},{"$f":"IF(Nährstoffabgabe!F121=\"\",\"\",Nährstoffabgabe!F121)","v":""},{"$f":"IF(Nährstoffabgabe!G121=\"\",\"\",Nährstoffabgabe!G121)","v":""},{"$f":"IF(Nährstoffabgabe!H121=\"\",\"\",Nährstoffabgabe!H121)","v":""},{"$f":"IF(Nährstoffabgabe!I121=\"\",\"\",Nährstoffabgabe!I121)","v":""},{"$f":"IF(Nährstoffabgabe!J121=\"\",\"\",Nährstoffabgabe!J121)","v":0},{"$f":"IF(Nährstoffabgabe!K121=\"\",\"\",Nährstoffabgabe!K121)","v":0},{"$f":"IF(Nährstoffabgabe!L121=\"\",\"\",Nährstoffabgabe!L121)","v":0},{"$f":"IF(Nährstoffabgabe!M121=\"\",\"\",Nährstoffabgabe!M121)","v":0}]
[{"$f":"IF(Nährstoffabgabe!A122=\"\",\"\",Nährstoffabgabe!A122)","v":""},{"$f":"IF(Nährstoffabgabe!B122=\"\",\"\",Nährstoffabgabe!B122)","v":""},{"$f":"IF(Nährstoffabgabe!C122=\"\",\"\",Nährstoffabgabe!C122)","v":""},{"$f":"IF(Nährstoffabgabe!D122=\"\",\"\",Nährstoffabgabe!D122)","v":""},{"$f":"Nährstoffabgabe!E122","v":0},{"$f":"IF(Nährstoffabgabe!F122=\"\",\"\",Nährstoffabgabe!F122)","v":""},{"$f":"IF(Nährstoffabgabe!G122=\"\",\"\",Nährstoffabgabe!G122)","v":""},{"$f":"IF(Nährstoffabgabe!H122=\"\",\"\",Nährstoffabgabe!H122)","v":""},{"$f":"IF(Nährstoffabgabe!I122=\"\",\"\",Nährstoffabgabe!I122)","v":""},{"$f":"IF(Nährstoffabgabe!J122=\"\",\"\",Nährstoffabgabe!J122)","v":0},{"$f":"IF(Nährstoffabgabe!K122=\"\",\"\",Nährstoffabgabe!K122)","v":0},{"$f":"IF(Nährstoffabgabe!L122=\"\",\"\",Nährstoffabgabe!L122)","v":0},{"$f":"IF(Nährstoffabgabe!M122=\"\",\"\",Nährstoffabgabe!M122)","v":0}]
[{"$f":"IF(Nährstoffabgabe!A123=\"\",\"\",Nährstoffabgabe!A123)","v":""},{"$f":"IF(Nährstoffabgabe!B123=\"\",\"\",Nährstoffabgabe!B123)","v":""},{"$f":"IF(Nährstoffabgabe!C123=\"\",\"\",Nährstoffabgabe!C123)","v":""},{"$f":"IF(Nährstoffabgabe!D123=\"\",\"\",Nährstoffabgabe!D123)","v":""},{"$f":"Nährstoffabgabe!E123","v":0},{"$f":"IF(Nährstoffabgabe!F123=\"\",\"\",Nährstoffabgabe!F123)","v":""},{"$f":"IF(Nährstoffabgabe!G123=\"\",\"\",Nährstoffabgabe!G123)","v":""},{"$f":"IF(Nährstoffabgabe!H123=\"\",\"\",Nährstoffabgabe!H123)","v":""},{"$f":"IF(Nährstoffabgabe!I123=\"\",\"\",Nährstoffabgabe!I123)","v":""},{"$f":"IF(Nährstoffabgabe!J123=\"\",\"\",Nährstoffabgabe!J123)","v":0},{"$f":"IF(Nährstoffabgabe!K123=\"\",\"\",Nährstoffabgabe!K123)","v":0},{"$f":"IF(Nährstoffabgabe!L123=\"\",\"\",Nährstoffabgabe!L123)","v":0},{"$f":"IF(Nährstoffabgabe!M123=\"\",\"\",Nährstoffabgabe!M123)","v":0}]
[{"$f":"IF(Nährstoffabgabe!A124=\"\",\"\",Nährstoffabgabe!A124)","v":""},{"$f":"IF(Nährstoffabgabe!B124=\"\",\"\",Nährstoffabgabe!B124)","v":""},{"$f":"IF(Nährstoffabgabe!C124=\"\",\"\",Nährstoffabgabe!C124)","v":""},{"$f":"IF(Nährstoffabgabe!D124=\"\",\"\",Nährstoffabgabe!D124)","v":""},{"$f":"Nährstoffabgabe!E124","v":0},{"$f":"IF(Nährstoffabgabe!F124=\"\",\"\",Nährstoffabgabe!F124)","v":""},{"$f":"IF(Nährstoffabgabe!G124=\"\",\"\",Nährstoffabgabe!G124)","v":""},{"$f":"IF(Nährstoffabgabe!H124=\"\",\"\",Nährstoffabgabe!H124)","v":""},{"$f":"IF(Nährstoffabgabe!I124=\"\",\"\",Nährstoffabgabe!I124)","v":""},{"$f":"IF(Nährstoffabgabe!J124=\"\",\"\",Nährstoffabgabe!J124)","v":0},{"$f":"IF(Nährstoffabgabe!K124=\"\",\"\",Nährstoffabgabe!K124)","v":0},{"$f":"IF(Nährstoffabgabe!L124=\"\",\"\",Nährstoffabgabe!L124)","v":0},{"$f":"IF(Nährstoffabgabe!M124=\"\",\"\",Nährstoffabgabe!M124)","v":0}]
[{"$f":"IF(Nährstoffabgabe!A125=\"\",\"\",Nährstoffabgabe!A125)","v":""},{"$f":"IF(Nährstoffabgabe!B125=\"\",\"\",Nährstoffabgabe!B125)","v":""},{"$f":"IF(Nährstoffabgabe!C125=\"\",\"\",Nährstoffabgabe!C125)","v":""},{"$f":"IF(Nährstoffabgabe!D125=\"\",\"\",Nährstoffabgabe!D125)","v":""},{"$f":"Nährstoffabgabe!E125","v":0},{"$f":"IF(Nährstoffabgabe!F125=\"\",\"\",Nährstoffabgabe!F125)","v":""},{"$f":"IF(Nährstoffabgabe!G125=\"\",\"\",Nährstoffabgabe!G125)","v":""},{"$f":"IF(Nährstoffabgabe!H125=\"\",\"\",Nährstoffabgabe!H125)","v":""},{"$f":"IF(Nährstoffabgabe!I125=\"\",\"\",Nährstoffabgabe!I125)","v":""},{"$f":"IF(Nährstoffabgabe!J125=\"\",\"\",Nährstoffabgabe!J125)","v":0},{"$f":"IF(Nährstoffabgabe!K125=\"\",\"\",Nährstoffabgabe!K125)","v":0},{"$f":"IF(Nährstoffabgabe!L125=\"\",\"\",Nährstoffabgabe!L125)","v":0},{"$f":"IF(Nährstoffabgabe!M125=\"\",\"\",Nährstoffabgabe!M125)","v":0}]
[{"$f":"IF(Nährstoffabgabe!A126=\"\",\"\",Nährstoffabgabe!A126)","v":""},{"$f":"IF(Nährstoffabgabe!B126=\"\",\"\",Nährstoffabgabe!B126)","v":""},{"$f":"IF(Nährstoffabgabe!C126=\"\",\"\",Nährstoffabgabe!C126)","v":""},{"$f":"IF(Nährstoffabgabe!D126=\"\",\"\",Nährstoffabgabe!D126)","v":""},{"$f":"Nährstoffabgabe!E126","v":0},{"$f":"IF(Nährstoffabgabe!F126=\"\",\"\",Nährstoffabgabe!F126)","v":""},{"$f":"IF(Nährstoffabgabe!G126=\"\",\"\",Nährstoffabgabe!G126)","v":""},{"$f":"IF(Nährstoffabgabe!H126=\"\",\"\",Nährstoffabgabe!H126)","v":""},{"$f":"IF(Nährstoffabgabe!I126=\"\",\"\",Nährstoffabgabe!I126)","v":""},{"$f":"IF(Nährstoffabgabe!J126=\"\",\"\",Nährstoffabgabe!J126)","v":0},{"$f":"IF(Nährstoffabgabe!K126=\"\",\"\",Nährstoffabgabe!K126)","v":0},{"$f":"IF(Nährstoffabgabe!L126=\"\",\"\",Nährstoffabgabe!L126)","v":0},{"$f":"IF(Nährstoffabgabe!M126=\"\",\"\",Nährstoffabgabe!M126)","v":0}]
[{"$f":"IF(Nährstoffabgabe!A127=\"\",\"\",Nährstoffabgabe!A127)","v":""},{"$f":"IF(Nährstoffabgabe!B127=\"\",\"\",Nährstoffabgabe!B127)","v":""},{"$f":"IF(Nährstoffabgabe!C127=\"\",\"\",Nährstoffabgabe!C127)","v":""},{"$f":"IF(Nährstoffabgabe!D127=\"\",\"\",Nährstoffabgabe!D127)","v":""},{"$f":"Nährstoffabgabe!E127","v":0},{"$f":"IF(Nährstoffabgabe!F127=\"\",\"\",Nährstoffabgabe!F127)","v":""},{"$f":"IF(Nährstoffabgabe!G127=\"\",\"\",Nährstoffabgabe!G127)","v":""},{"$f":"IF(Nährstoffabgabe!H127=\"\",\"\",Nährstoffabgabe!H127)","v":""},{"$f":"IF(Nährstoffabgabe!I127=\"\",\"\",Nährstoffabgabe!I127)","v":""},{"$f":"IF(Nährstoffabgabe!J127=\"\",\"\",Nährstoffabgabe!J127)","v":0},{"$f":"IF(Nährstoffabgabe!K127=\"\",\"\",Nährstoffabgabe!K127)","v":0},{"$f":"IF(Nährstoffabgabe!L127=\"\",\"\",Nährstoffabgabe!L127)","v":0},{"$f":"IF(Nährstoffabgabe!M127=\"\",\"\",Nährstoffabgabe!M127)","v":0}]
[{"$f":"IF(Nährstoffabgabe!A128=\"\",\"\",Nährstoffabgabe!A128)","v":""},{"$f":"IF(Nährstoffabgabe!B128=\"\",\"\",Nährstoffabgabe!B128)","v":""},{"$f":"IF(Nährstoffabgabe!C128=\"\",\"\",Nährstoffabgabe!C128)","v":""},{"$f":"IF(Nährstoffabgabe!D128=\"\",\"\",Nährstoffabgabe!D128)","v":""},{"$f":"Nährstoffabgabe!E128","v":0},{"$f":"IF(Nährstoffabgabe!F128=\"\",\"\",Nährstoffabgabe!F128)","v":""},{"$f":"IF(Nährstoffabgabe!G128=\"\",\"\",Nährstoffabgabe!G128)","v":""},{"$f":"IF(Nährstoffabgabe!H128=\"\",\"\",Nährstoffabgabe!H128)","v":""},{"$f":"IF(Nährstoffabgabe!I128=\"\",\"\",Nährstoffabgabe!I128)","v":""},{"$f":"IF(Nährstoffabgabe!J128=\"\",\"\",Nährstoffabgabe!J128)","v":0},{"$f":"IF(Nährstoffabgabe!K128=\"\",\"\",Nährstoffabgabe!K128)","v":0},{"$f":"IF(Nährstoffabgabe!L128=\"\",\"\",Nährstoffabgabe!L128)","v":0},{"$f":"IF(Nährstoffabgabe!M128=\"\",\"\",Nährstoffabgabe!M128)","v":0}]
[{"$f":"IF(Nährstoffabgabe!A129=\"\",\"\",Nährstoffabgabe!A129)","v":""},{"$f":"IF(Nährstoffabgabe!B129=\"\",\"\",Nährstoffabgabe!B129)","v":""},{"$f":"IF(Nährstoffabgabe!C129=\"\",\"\",Nährstoffabgabe!C129)","v":""},{"$f":"IF(Nährstoffabgabe!D129=\"\",\"\",Nährstoffabgabe!D129)","v":""},{"$f":"Nährstoffabgabe!E129","v":0},{"$f":"IF(Nährstoffabgabe!F129=\"\",\"\",Nährstoffabgabe!F129)","v":""},{"$f":"IF(Nährstoffabgabe!G129=\"\",\"\",Nährstoffabgabe!G129)","v":""},{"$f":"IF(Nährstoffabgabe!H129=\"\",\"\",Nährstoffabgabe!H129)","v":""},{"$f":"IF(Nährstoffabgabe!I129=\"\",\"\",Nährstoffabgabe!I129)","v":""},{"$f":"IF(Nährstoffabgabe!J129=\"\",\"\",Nährstoffabgabe!J129)","v":0},{"$f":"IF(Nährstoffabgabe!K129=\"\",\"\",Nährstoffabgabe!K129)","v":0},{"$f":"IF(Nährstoffabgabe!L129=\"\",\"\",Nährstoffabgabe!L129)","v":0},{"$f":"IF(Nährstoffabgabe!M129=\"\",\"\",Nährstoffabgabe!M129)","v":0}]
[{"$f":"IF(Nährstoffabgabe!A130=\"\",\"\",Nährstoffabgabe!A130)","v":"Summe"},{"$f":"IF(Nährstoffabgabe!B130=\"\",\"\",Nährstoffabgabe!B130)","v":""},{"$f":"IF(Nährstoffabgabe!C130=\"\",\"\",Nährstoffabgabe!C130)","v":""},{"$f":"IF(Nährstoffabgabe!D130=\"\",\"\",Nährstoffabgabe!D130)","v":0},{"$f":"IF(Nährstoffabgabe!E130=\"\",\"\",Nährstoffabgabe!E130)","v":0},{"$f":"IF(Nährstoffabgabe!F130=\"\",\"\",Nährstoffabgabe!F130)","v":""},{"$f":"IF([1]Nährstoffabgabe!G122=\"\",\"\",[1]Nährstoffabgabe!G122)","v":0},{"$f":"IF([1]Nährstoffabgabe!H122=\"\",\"\",[1]Nährstoffabgabe!H122)","v":0},{"$f":"IF([1]Nährstoffabgabe!I122=\"\",\"\",[1]Nährstoffabgabe!I122)","v":0},{"$f":"IF(Nährstoffabgabe!J130=\"\",\"\",Nährstoffabgabe!J130)","v":0},{"$f":"IF(Nährstoffabgabe!K130=\"\",\"\",Nährstoffabgabe!K130)","v":0},{"$f":"IF(Nährstoffabgabe!L130=\"\",\"\",Nährstoffabgabe!L130)","v":0},{"$f":"IF(Nährstoffabgabe!M130=\"\",\"\",Nährstoffabgabe!M130)","v":0}]
[{"$f":"IF(Nährstoffabgabe!A131=\"\",\"\",Nährstoffabgabe!A131)","v":"Bei zusätzlicher Ernte des Nebenernteproduktes (Stroh, Blatt, Ganzpfl.) ist der Marktertrag des Haupternteproduktes anzugeben! Gehaltsangaben der Nebenernteprodukte dienen nur zum Vergleich."},{"$f":"IF(Nährstoffabgabe!B131=\"\",\"\",Nährstoffabgabe!B131)","v":""},{"$f":"IF(Nährstoffabgabe!C131=\"\",\"\",Nährstoffabgabe!C131)","v":""},{"$f":"IF(Nährstoffabgabe!D131=\"\",\"\",Nährstoffabgabe!D131)","v":""},{"$f":"IF(Nährstoffabgabe!E131=\"\",\"\",Nährstoffabgabe!E131)","v":""},{"$f":"IF(Nährstoffabgabe!F131=\"\",\"\",Nährstoffabgabe!F131)","v":""},{"$f":"IF(Nährstoffabgabe!G131=\"\",\"\",Nährstoffabgabe!G131)","v":""},{"$f":"IF(Nährstoffabgabe!H131=\"\",\"\",Nährstoffabgabe!H131)","v":""},{"$f":"IF(Nährstoffabgabe!I131=\"\",\"\",Nährstoffabgabe!I131)","v":""},{"$f":"IF(Nährstoffabgabe!J131=\"\",\"\",Nährstoffabgabe!J131)","v":""},{"$f":"IF(Nährstoffabgabe!K131=\"\",\"\",Nährstoffabgabe!K131)","v":""},{"$f":"IF(Nährstoffabgabe!L131=\"\",\"\",Nährstoffabgabe!L131)","v":""},{"$f":"IF(Nährstoffabgabe!M131=\"\",\"\",Nährstoffabgabe!M131)","v":""}]
[{"$f":"IF(Nährstoffabgabe!A132=\"\",\"\",Nährstoffabgabe!A132)","v":"Ackerbau"},{"$f":"IF(Nährstoffabgabe!B132=\"\",\"\",Nährstoffabgabe!B132)","v":"Marktertrag \ndt/ha FM"},{"$f":"IF(Nährstoffabgabe!C132=\"\",\"\",Nährstoffabgabe!C132)","v":""},null,{"$f":"IF(Nährstoffabgabe!E132=\"\",\"\",Nährstoffabgabe!E132)","v":"Abgabemenge"},{"$f":"IF(Nährstoffabgabe!F132=\"\",\"\",Nährstoffabgabe!F132)","v":"Nährstoffgehalt kg/dt FM"},null,null,null,{"$f":"IF(Nährstoffabgabe!J132=\"\",\"\",Nährstoffabgabe!J132)","v":"Nährstoffabgabe kg/Betrieb"}]
[null,{"$f":"IF(Nährstoffabgabe!B133=\"\",\"\",Nährstoffabgabe!B133)","v":"Vorschlag"},{"$f":"IF(Nährstoffabgabe!C133=\"\",\"\",Nährstoffabgabe!C133)","v":"Betrieb"},{"$f":"IF(Nährstoffabgabe!D133=\"\",\"\",Nährstoffabgabe!D133)","v":"ha"},{"$f":"IF(Nährstoffabgabe!E133=\"\",\"\",Nährstoffabgabe!E133)","v":"dt FM"},{"$f":"IF(Nährstoffabgabe!F133=\"\",\"\",Nährstoffabgabe!F133)","v":"N"},{"$f":"IF(Nährstoffabgabe!G133=\"\",\"\",Nährstoffabgabe!G133)","v":"P2O5"},{"$f":"IF(Nährstoffabgabe!H133=\"\",\"\",Nährstoffabgabe!H133)","v":"K2O"},{"$f":"IF(Nährstoffabgabe!I133=\"\",\"\",Nährstoffabgabe!I133)","v":"MgO"},{"$f":"IF(Nährstoffabgabe!J133=\"\",\"\",Nährstoffabgabe!J133)","v":"N"},{"$f":"IF(Nährstoffabgabe!K133=\"\",\"\",Nährstoffabgabe!K133)","v":"P2O5"},{"$f":"IF(Nährstoffabgabe!L133=\"\",\"\",Nährstoffabgabe!L133)","v":"K2O"},{"$f":"IF(Nährstoffabgabe!M133=\"\",\"\",Nährstoffabgabe!M133)","v":"MgO"}]
[{"$f":"IF(Nährstoffabgabe!A134=\"\",\"\",Nährstoffabgabe!A134)","v":"Getreide, Körnermais"},{"$f":"IF(Nährstoffabgabe!B134=\"\",\"\",Nährstoffabgabe!B134)","v":""},{"$f":"IF(Nährstoffabgabe!C134=\"\",\"\",Nährstoffabgabe!C134)","v":""},{"$f":"IF(Nährstoffabgabe!D134=\"\",\"\",Nährstoffabgabe!D134)","v":""},{"$f":"Nährstoffabgabe!E134","v":0},{"$f":"IF(Nährstoffabgabe!F134=\"\",\"\",Nährstoffabgabe!F134)","v":""},{"$f":"IF(Nährstoffabgabe!G134=\"\",\"\",Nährstoffabgabe!G134)","v":""},{"$f":"IF(Nährstoffabgabe!H134=\"\",\"\",Nährstoffabgabe!H134)","v":""},{"$f":"IF(Nährstoffabgabe!I134=\"\",\"\",Nährstoffabgabe!I134)","v":""},{"$f":"IF(Nährstoffabgabe!J134=\"\",\"\",Nährstoffabgabe!J134)","v":""},{"$f":"IF(Nährstoffabgabe!K134=\"\",\"\",Nährstoffabgabe!K134)","v":""},{"$f":"IF(Nährstoffabgabe!L134=\"\",\"\",Nährstoffabgabe!L134)","v":""},{"$f":"IF(Nährstoffabgabe!M134=\"\",\"\",Nährstoffabgabe!M134)","v":""}]
[{"$f":"IF(Nährstoffabgabe!A135=\"\",\"\",Nährstoffabgabe!A135)","v":"Dinkel (mit Spelzen), 12 % RP in TM_Korn"},{"$f":"IF(Nährstoffabgabe!B135=\"\",\"\",Nährstoffabgabe!B135)","v":55},{"$f":"IF(Nährstoffabgabe!C135=\"\",\"\",Nährstoffabgabe!C135)","v":""},{"$f":"IF(Nährstoffabgabe!D135=\"\",\"\",Nährstoffabgabe!D135)","v":""},{"$f":"Nährstoffabgabe!E135","v":0},{"$f":"IF(Nährstoffabgabe!F135=\"\",\"\",Nährstoffabgabe!F135)","v":1.65},{"$f":"IF(Nährstoffabgabe!G135=\"\",\"\",Nährstoffabgabe!G135)","v":0.8},{"$f":"IF(Nährstoffabgabe!H135=\"\",\"\",Nährstoffabgabe!H135)","v":0.8},{"$f":"IF(Nährstoffabgabe!I135=\"\",\"\",Nährstoffabgabe!I135)","v":0.2},{"$f":"IF(Nährstoffabgabe!J135=\"\",\"\",Nährstoffabgabe!J135)","v":0},{"$f":"IF(Nährstoffabgabe!K135=\"\",\"\",Nährstoffabgabe!K135)","v":0},{"$f":"IF(Nährstoffabgabe!L135=\"\",\"\",Nährstoffabgabe!L135)","v":0},{"$f":"IF(Nährstoffabgabe!M135=\"\",\"\",Nährstoffabgabe!M135)","v":0}]
[{"$f":"IF(Nährstoffabgabe!A136=\"\",\"\",Nährstoffabgabe!A136)","v":"Dinkel (mit Spelzen), 12 % RP in TM_Korn + Stroh (1: 0,8)"},{"$f":"IF(Nährstoffabgabe!B136=\"\",\"\",Nährstoffabgabe!B136)","v":55},{"$f":"IF(Nährstoffabgabe!C136=\"\",\"\",Nährstoffabgabe!C136)","v":""},{"$f":"IF(Nährstoffabgabe!D136=\"\",\"\",Nährstoffabgabe!D136)","v":""},{"$f":"Nährstoffabgabe!E136","v":0},{"$f":"IF(Nährstoffabgabe!F136=\"\",\"\",Nährstoffabgabe!F136)","v":2.0499999999999998},{"$f":"IF(Nährstoffabgabe!G136=\"\",\"\",Nährstoffabgabe!G136)","v":1.04},{"$f":"IF(Nährstoffabgabe!H136=\"\",\"\",Nährstoffabgabe!H136)","v":1.92},{"$f":"IF(Nährstoffabgabe!I136=\"\",\"\",Nährstoffabgabe!I136)","v":0.36},{"$f":"IF(Nährstoffabgabe!J136=\"\",\"\",Nährstoffabgabe!J136)","v":0},{"$f":"IF(Nährstoffabgabe!K136=\"\",\"\",Nährstoffabgabe!K136)","v":0},{"$f":"IF(Nährstoffabgabe!L136=\"\",\"\",Nährstoffabgabe!L136)","v":0},{"$f":"IF(Nährstoffabgabe!M136=\"\",\"\",Nährstoffabgabe!M136)","v":0}]
[{"$f":"IF(Nährstoffabgabe!A137=\"\",\"\",Nährstoffabgabe!A137)","v":"Dinkel (mit Spelzen), 12 % RP in TM_Stroh"},{"$f":"IF(Nährstoffabgabe!B137=\"\",\"\",Nährstoffabgabe!B137)","v":44},{"$f":"IF(Nährstoffabgabe!C137=\"\",\"\",Nährstoffabgabe!C137)","v":""},{"$f":"IF(Nährstoffabgabe!D137=\"\",\"\",Nährstoffabgabe!D137)","v":""},{"$f":"Nährstoffabgabe!E137","v":0},{"$f":"IF(Nährstoffabgabe!F137=\"\",\"\",Nährstoffabgabe!F137)","v":0.5},{"$f":"IF(Nährstoffabgabe!G137=\"\",\"\",Nährstoffabgabe!G137)","v":0.3},{"$f":"IF(Nährstoffabgabe!H137=\"\",\"\",Nährstoffabgabe!H137)","v":1.4},{"$f":"IF(Nährstoffabgabe!I137=\"\",\"\",Nährstoffabgabe!I137)","v":0.2},{"$f":"IF(Nährstoffabgabe!J137=\"\",\"\",Nährstoffabgabe!J137)","v":0},{"$f":"IF(Nährstoffabgabe!K137=\"\",\"\",Nährstoffabgabe!K137)","v":0},{"$f":"IF(Nährstoffabgabe!L137=\"\",\"\",Nährstoffabgabe!L137)","v":0},{"$f":"IF(Nährstoffabgabe!M137=\"\",\"\",Nährstoffabgabe!M137)","v":0}]
[{"$f":"IF(Nährstoffabgabe!A138=\"\",\"\",Nährstoffabgabe!A138)","v":"Gerste, Brau 10 % RP in TM_Korn"},{"$f":"IF(Nährstoffabgabe!B138=\"\",\"\",Nährstoffabgabe!B138)","v":50},{"$f":"IF(Nährstoffabgabe!C138=\"\",\"\",Nährstoffabgabe!C138)","v":""},{"$f":"IF(Nährstoffabgabe!D138=\"\",\"\",Nährstoffabgabe!D138)","v":""},{"$f":"Nährstoffabgabe!E138","v":0},{"$f":"IF(Nährstoffabgabe!F138=\"\",\"\",Nährstoffabgabe!F138)","v":1.38},{"$f":"IF(Nährstoffabgabe!G138=\"\",\"\",Nährstoffabgabe!G138)","v":0.8},{"$f":"IF(Nährstoffabgabe!H138=\"\",\"\",Nährstoffabgabe!H138)","v":0.6},{"$f":"IF(Nährstoffabgabe!I138=\"\",\"\",Nährstoffabgabe!I138)","v":0.2},{"$f":"IF(Nährstoffabgabe!J138=\"\",\"\",Nährstoffabgabe!J138)","v":0},{"$f":"IF(Nährstoffabgabe!K138=\"\",\"\",Nährstoffabgabe!K138)","v":0},{"$f":"IF(Nährstoffabgabe!L138=\"\",\"\",Nährstoffabgabe!L138)","v":0},{"$f":"IF(Nährstoffabgabe!M138=\"\",\"\",Nährstoffabgabe!M138)","v":0}]
[{"$f":"IF(Nährstoffabgabe!A139=\"\",\"\",Nährstoffabgabe!A139)","v":"Gerste, Brau 10 % RP in TM_Korn + Stroh (1: 0,7)"},{"$f":"IF(Nährstoffabgabe!B139=\"\",\"\",Nährstoffabgabe!B139)","v":50},{"$f":"IF(Nährstoffabgabe!C139=\"\",\"\",Nährstoffabgabe!C139)","v":""},{"$f":"IF(Nährstoffabgabe!D139=\"\",\"\",Nährstoffabgabe!D139)","v":""},{"$f":"Nährstoffabgabe!E139","v":0},{"$f":"IF(Nährstoffabgabe!F139=\"\",\"\",Nährstoffabgabe!F139)","v":1.73},{"$f":"IF(Nährstoffabgabe!G139=\"\",\"\",Nährstoffabgabe!G139)","v":1.01},{"$f":"IF(Nährstoffabgabe!H139=\"\",\"\",Nährstoffabgabe!H139)","v":1.79},{"$f":"IF(Nährstoffabgabe!I139=\"\",\"\",Nährstoffabgabe!I139)","v":0.27},{"$f":"IF(Nährstoffabgabe!J139=\"\",\"\",Nährstoffabgabe!J139)","v":0},{"$f":"IF(Nährstoffabgabe!K139=\"\",\"\",Nährstoffabgabe!K139)","v":0},{"$f":"IF(Nährstoffabgabe!L139=\"\",\"\",Nährstoffabgabe!L139)","v":0},{"$f":"IF(Nährstoffabgabe!M139=\"\",\"\",Nährstoffabgabe!M139)","v":0}]
[{"$f":"IF(Nährstoffabgabe!A140=\"\",\"\",Nährstoffabgabe!A140)","v":"Gerste, Brau 10 % RP in TM_Stroh"},{"$f":"IF(Nährstoffabgabe!B140=\"\",\"\",Nährstoffabgabe!B140)","v":35},{"$f":"IF(Nährstoffabgabe!C140=\"\",\"\",Nährstoffabgabe!C140)","v":""},{"$f":"IF(Nährstoffabgabe!D140=\"\",\"\",Nährstoffabgabe!D140)","v":""},{"$f":"Nährstoffabgabe!E140","v":0},{"$f":"IF(Nährstoffabgabe!F140=\"\",\"\",Nährstoffabgabe!F140)","v":0.5},{"$f":"IF(Nährstoffabgabe!G140=\"\",\"\",Nährstoffabgabe!G140)","v":0.3},{"$f":"IF(Nährstoffabgabe!H140=\"\",\"\",Nährstoffabgabe!H140)","v":0.5},{"$f":"IF(Nährstoffabgabe!I140=\"\",\"\",Nährstoffabgabe!I140)","v":0.1},{"$f":"IF(Nährstoffabgabe!J140=\"\",\"\",Nährstoffabgabe!J140)","v":0},{"$f":"IF(Nährstoffabgabe!K140=\"\",\"\",Nährstoffabgabe!K140)","v":0},{"$f":"IF(Nährstoffabgabe!L140=\"\",\"\",Nährstoffabgabe!L140)","v":0},{"$f":"IF(Nährstoffabgabe!M140=\"\",\"\",Nährstoffabgabe!M140)","v":0}]
[{"$f":"IF(Nährstoffabgabe!A141=\"\",\"\",Nährstoffabgabe!A141)","v":"Gerste, Brau 11 % RP in TM_Korn"},{"$f":"IF(Nährstoffabgabe!B141=\"\",\"\",Nährstoffabgabe!B141)","v":50},{"$f":"IF(Nährstoffabgabe!C141=\"\",\"\",Nährstoffabgabe!C141)","v":""},{"$f":"IF(Nährstoffabgabe!D141=\"\",\"\",Nährstoffabgabe!D141)","v":""},{"$f":"Nährstoffabgabe!E141","v":0},{"$f":"IF(Nährstoffabgabe!F141=\"\",\"\",Nährstoffabgabe!F141)","v":1.51},{"$f":"IF(Nährstoffabgabe!G141=\"\",\"\",Nährstoffabgabe!G141)","v":0.8},{"$f":"IF(Nährstoffabgabe!H141=\"\",\"\",Nährstoffabgabe!H141)","v":0.6},{"$f":"IF(Nährstoffabgabe!I141=\"\",\"\",Nährstoffabgabe!I141)","v":0.1},{"$f":"IF(Nährstoffabgabe!J141=\"\",\"\",Nährstoffabgabe!J141)","v":0},{"$f":"IF(Nährstoffabgabe!K141=\"\",\"\",Nährstoffabgabe!K141)","v":0},{"$f":"IF(Nährstoffabgabe!L141=\"\",\"\",Nährstoffabgabe!L141)","v":0},{"$f":"IF(Nährstoffabgabe!M141=\"\",\"\",Nährstoffabgabe!M141)","v":0}]
[{"$f":"IF(Nährstoffabgabe!A142=\"\",\"\",Nährstoffabgabe!A142)","v":"Gerste, Brau 11 % RP in TM_Korn + Stroh (1: 0,7)"},{"$f":"IF(Nährstoffabgabe!B142=\"\",\"\",Nährstoffabgabe!B142)","v":50},{"$f":"IF(Nährstoffabgabe!C142=\"\",\"\",Nährstoffabgabe!C142)","v":""},{"$f":"IF(Nährstoffabgabe!D142=\"\",\"\",Nährstoffabgabe!D142)","v":""},{"$f":"Nährstoffabgabe!E142","v":0},{"$f":"IF(Nährstoffabgabe!F142=\"\",\"\",Nährstoffabgabe!F142)","v":1.86},{"$f":"IF(Nährstoffabgabe!G142=\"\",\"\",Nährstoffabgabe!G142)","v":1.01},{"$f":"IF(Nährstoffabgabe!H142=\"\",\"\",Nährstoffabgabe!H142)","v":1.79},{"$f":"IF(Nährstoffabgabe!I142=\"\",\"\",Nährstoffabgabe!I142)","v":0.27},{"$f":"IF(Nährstoffabgabe!J142=\"\",\"\",Nährstoffabgabe!J142)","v":0},{"$f":"IF(Nährstoffabgabe!K142=\"\",\"\",Nährstoffabgabe!K142)","v":0},{"$f":"IF(Nährstoffabgabe!L142=\"\",\"\",Nährstoffabgabe!L142)","v":0},{"$f":"IF(Nährstoffabgabe!M142=\"\",\"\",Nährstoffabgabe!M142)","v":0}]
[{"$f":"IF(Nährstoffabgabe!A143=\"\",\"\",Nährstoffabgabe!A143)","v":"Gerste, Brau 11 % RP in TM_Stroh"},{"$f":"IF(Nährstoffabgabe!B143=\"\",\"\",Nährstoffabgabe!B143)","v":35},{"$f":"IF(Nährstoffabgabe!C143=\"\",\"\",Nährstoffabgabe!C143)","v":""},{"$f":"IF(Nährstoffabgabe!D143=\"\",\"\",Nährstoffabgabe!D143)","v":""},{"$f":"Nährstoffabgabe!E143","v":0},{"$f":"IF(Nährstoffabgabe!F143=\"\",\"\",Nährstoffabgabe!F143)","v":0.5},{"$f":"IF(Nährstoffabgabe!G143=\"\",\"\",Nährstoffabgabe!G143)","v":0.3},{"$f":"IF(Nährstoffabgabe!H143=\"\",\"\",Nährstoffabgabe!H143)","v":0.5},{"$f":"IF(Nährstoffabgabe!I143=\"\",\"\",Nährstoffabgabe!I143)","v":0.1},{"$f":"IF(Nährstoffabgabe!J143=\"\",\"\",Nährstoffabgabe!J143)","v":0},{"$f":"IF(Nährstoffabgabe!K143=\"\",\"\",Nährstoffabgabe!K143)","v":0},{"$f":"IF(Nährstoffabgabe!L143=\"\",\"\",Nährstoffabgabe!L143)","v":0},{"$f":"IF(Nährstoffabgabe!M143=\"\",\"\",Nährstoffabgabe!M143)","v":0}]
[{"$f":"IF(Nährstoffabgabe!A144=\"\",\"\",Nährstoffabgabe!A144)","v":"Gerste, Sommerfutter 12 % RP in TM_Korn"},{"$f":"IF(Nährstoffabgabe!B144=\"\",\"\",Nährstoffabgabe!B144)","v":50},{"$f":"IF(Nährstoffabgabe!C144=\"\",\"\",Nährstoffabgabe!C144)","v":""},{"$f":"IF(Nährstoffabgabe!D144=\"\",\"\",Nährstoffabgabe!D144)","v":""},{"$f":"Nährstoffabgabe!E144","v":0},{"$f":"IF(Nährstoffabgabe!F144=\"\",\"\",Nährstoffabgabe!F144)","v":1.65},{"$f":"IF(Nährstoffabgabe!G144=\"\",\"\",Nährstoffabgabe!G144)","v":0.8},{"$f":"IF(Nährstoffabgabe!H144=\"\",\"\",Nährstoffabgabe!H144)","v":0.6},{"$f":"IF(Nährstoffabgabe!I144=\"\",\"\",Nährstoffabgabe!I144)","v":0.2},{"$f":"IF(Nährstoffabgabe!J144=\"\",\"\",Nährstoffabgabe!J144)","v":0},{"$f":"IF(Nährstoffabgabe!K144=\"\",\"\",Nährstoffabgabe!K144)","v":0},{"$f":"IF(Nährstoffabgabe!L144=\"\",\"\",Nährstoffabgabe!L144)","v":0},{"$f":"IF(Nährstoffabgabe!M144=\"\",\"\",Nährstoffabgabe!M144)","v":0}]
[{"$f":"IF(Nährstoffabgabe!A145=\"\",\"\",Nährstoffabgabe!A145)","v":"Gerste, Sommerfutter 12 % RP in TM_Korn + Stroh (1: 08)"},{"$f":"IF(Nährstoffabgabe!B145=\"\",\"\",Nährstoffabgabe!B145)","v":50},{"$f":"IF(Nährstoffabgabe!C145=\"\",\"\",Nährstoffabgabe!C145)","v":""},{"$f":"IF(Nährstoffabgabe!D145=\"\",\"\",Nährstoffabgabe!D145)","v":""},{"$f":"Nährstoffabgabe!E145","v":0},{"$f":"IF(Nährstoffabgabe!F145=\"\",\"\",Nährstoffabgabe!F145)","v":2.0499999999999998},{"$f":"IF(Nährstoffabgabe!G145=\"\",\"\",Nährstoffabgabe!G145)","v":1.04},{"$f":"IF(Nährstoffabgabe!H145=\"\",\"\",Nährstoffabgabe!H145)","v":1.96},{"$f":"IF(Nährstoffabgabe!I145=\"\",\"\",Nährstoffabgabe!I145)","v":0.28000000000000003},{"$f":"IF(Nährstoffabgabe!J145=\"\",\"\",Nährstoffabgabe!J145)","v":0},{"$f":"IF(Nährstoffabgabe!K145=\"\",\"\",Nährstoffabgabe!K145)","v":0},{"$f":"IF(Nährstoffabgabe!L145=\"\",\"\",Nährstoffabgabe!L145)","v":0},{"$f":"IF(Nährstoffabgabe!M145=\"\",\"\",Nährstoffabgabe!M145)","v":0}]
[{"$f":"IF(Nährstoffabgabe!A146=\"\",\"\",Nährstoffabgabe!A146)","v":"Gerste, Sommerfutter 12 % RP in TM_Stroh"},{"$f":"IF(Nährstoffabgabe!B146=\"\",\"\",Nährstoffabgabe!B146)","v":40},{"$f":"IF(Nährstoffabgabe!C146=\"\",\"\",Nährstoffabgabe!C146)","v":""},{"$f":"IF(Nährstoffabgabe!D146=\"\",\"\",Nährstoffabgabe!D146)","v":""},{"$f":"Nährstoffabgabe!E146","v":0},{"$f":"IF(Nährstoffabgabe!F146=\"\",\"\",Nährstoffabgabe!F146)","v":0.5},{"$f":"IF(Nährstoffabgabe!G146=\"\",\"\",Nährstoffabgabe!G146)","v":0.3},{"$f":"IF(Nährstoffabgabe!H146=\"\",\"\",Nährstoffabgabe!H146)","v":1.7},{"$f":"IF(Nährstoffabgabe!I146=\"\",\"\",Nährstoffabgabe!I146)","v":0.1},{"$f":"IF(Nährstoffabgabe!J146=\"\",\"\",Nährstoffabgabe!J146)","v":0},{"$f":"IF(Nährstoffabgabe!K146=\"\",\"\",Nährstoffabgabe!K146)","v":0},{"$f":"IF(Nährstoffabgabe!L146=\"\",\"\",Nährstoffabgabe!L146)","v":0},{"$f":"IF(Nährstoffabgabe!M146=\"\",\"\",Nährstoffabgabe!M146)","v":0}]
[{"$f":"IF(Nährstoffabgabe!A147=\"\",\"\",Nährstoffabgabe!A147)","v":"Gerste, Sommerfutter 13 % RP in TM_Korn"},{"$f":"IF(Nährstoffabgabe!B147=\"\",\"\",Nährstoffabgabe!B147)","v":50},{"$f":"IF(Nährstoffabgabe!C147=\"\",\"\",Nährstoffabgabe!C147)","v":""},{"$f":"IF(Nährstoffabgabe!D147=\"\",\"\",Nährstoffabgabe!D147)","v":""},{"$f":"Nährstoffabgabe!E147","v":0},{"$f":"IF(Nährstoffabgabe!F147=\"\",\"\",Nährstoffabgabe!F147)","v":1.79},{"$f":"IF(Nährstoffabgabe!G147=\"\",\"\",Nährstoffabgabe!G147)","v":0.8},{"$f":"IF(Nährstoffabgabe!H147=\"\",\"\",Nährstoffabgabe!H147)","v":0.6},{"$f":"IF(Nährstoffabgabe!I147=\"\",\"\",Nährstoffabgabe!I147)","v":0.2},{"$f":"IF(Nährstoffabgabe!J147=\"\",\"\",Nährstoffabgabe!J147)","v":0},{"$f":"IF(Nährstoffabgabe!K147=\"\",\"\",Nährstoffabgabe!K147)","v":0},{"$f":"IF(Nährstoffabgabe!L147=\"\",\"\",Nährstoffabgabe!L147)","v":0},{"$f":"IF(Nährstoffabgabe!M147=\"\",\"\",Nährstoffabgabe!M147)","v":0}]
[{"$f":"IF(Nährstoffabgabe!A148=\"\",\"\",Nährstoffabgabe!A148)","v":"Gerste, Sommerfutter 13 % RP in TM_Korn + Stroh (1: 0,8)"},{"$f":"IF(Nährstoffabgabe!B148=\"\",\"\",Nährstoffabgabe!B148)","v":50},{"$f":"IF(Nährstoffabgabe!C148=\"\",\"\",Nährstoffabgabe!C148)","v":""},{"$f":"IF(Nährstoffabgabe!D148=\"\",\"\",Nährstoffabgabe!D148)","v":""},{"$f":"Nährstoffabgabe!E148","v":0},{"$f":"IF(Nährstoffabgabe!F148=\"\",\"\",Nährstoffabgabe!F148)","v":2.19},{"$f":"IF(Nährstoffabgabe!G148=\"\",\"\",Nährstoffabgabe!G148)","v":1.04},{"$f":"IF(Nährstoffabgabe!H148=\"\",\"\",Nährstoffabgabe!H148)","v":1.96},{"$f":"IF(Nährstoffabgabe!I148=\"\",\"\",Nährstoffabgabe!I148)","v":0.28000000000000003},{"$f":"IF(Nährstoffabgabe!J148=\"\",\"\",Nährstoffabgabe!J148)","v":0},{"$f":"IF(Nährstoffabgabe!K148=\"\",\"\",Nährstoffabgabe!K148)","v":0},{"$f":"IF(Nährstoffabgabe!L148=\"\",\"\",Nährstoffabgabe!L148)","v":0},{"$f":"IF(Nährstoffabgabe!M148=\"\",\"\",Nährstoffabgabe!M148)","v":0}]
[{"$f":"IF(Nährstoffabgabe!A149=\"\",\"\",Nährstoffabgabe!A149)","v":"Gerste, Sommerfutter 13 % RP in TM_Stroh"},{"$f":"IF(Nährstoffabgabe!B149=\"\",\"\",Nährstoffabgabe!B149)","v":40},{"$f":"IF(Nährstoffabgabe!C149=\"\",\"\",Nährstoffabgabe!C149)","v":""},{"$f":"IF(Nährstoffabgabe!D149=\"\",\"\",Nährstoffabgabe!D149)","v":""},{"$f":"Nährstoffabgabe!E149","v":0},{"$f":"IF(Nährstoffabgabe!F149=\"\",\"\",Nährstoffabgabe!F149)","v":0.5},{"$f":"IF(Nährstoffabgabe!G149=\"\",\"\",Nährstoffabgabe!G149)","v":0.3},{"$f":"IF(Nährstoffabgabe!H149=\"\",\"\",Nährstoffabgabe!H149)","v":1.7},{"$f":"IF(Nährstoffabgabe!I149=\"\",\"\",Nährstoffabgabe!I149)","v":0.1},{"$f":"IF(Nährstoffabgabe!J149=\"\",\"\",Nährstoffabgabe!J149)","v":0},{"$f":"IF(Nährstoffabgabe!K149=\"\",\"\",Nährstoffabgabe!K149)","v":0},{"$f":"IF(Nährstoffabgabe!L149=\"\",\"\",Nährstoffabgabe!L149)","v":0},{"$f":"IF(Nährstoffabgabe!M149=\"\",\"\",Nährstoffabgabe!M149)","v":0}]
[{"$f":"IF(Nährstoffabgabe!A150=\"\",\"\",Nährstoffabgabe!A150)","v":"Gerste, Winter 12 % RP in TM_Korn"},{"$f":"IF(Nährstoffabgabe!B150=\"\",\"\",Nährstoffabgabe!B150)","v":60},{"$f":"IF(Nährstoffabgabe!C150=\"\",\"\",Nährstoffabgabe!C150)","v":""},{"$f":"IF(Nährstoffabgabe!D150=\"\",\"\",Nährstoffabgabe!D150)","v":""},{"$f":"Nährstoffabgabe!E150","v":0},{"$f":"IF(Nährstoffabgabe!F150=\"\",\"\",Nährstoffabgabe!F150)","v":1.65},{"$f":"IF(Nährstoffabgabe!G150=\"\",\"\",Nährstoffabgabe!G150)","v":0.8},{"$f":"IF(Nährstoffabgabe!H150=\"\",\"\",Nährstoffabgabe!H150)","v":0.6},{"$f":"IF(Nährstoffabgabe!I150=\"\",\"\",Nährstoffabgabe!I150)","v":0.2},{"$f":"IF(Nährstoffabgabe!J150=\"\",\"\",Nährstoffabgabe!J150)","v":0},{"$f":"IF(Nährstoffabgabe!K150=\"\",\"\",Nährstoffabgabe!K150)","v":0},{"$f":"IF(Nährstoffabgabe!L150=\"\",\"\",Nährstoffabgabe!L150)","v":0},{"$f":"IF(Nährstoffabgabe!M150=\"\",\"\",Nährstoffabgabe!M150)","v":0}]
[{"$f":"IF(Nährstoffabgabe!A151=\"\",\"\",Nährstoffabgabe!A151)","v":"Gerste, Winter 12 % RP in TM_Korn + Stroh (1: 0,7)"},{"$f":"IF(Nährstoffabgabe!B151=\"\",\"\",Nährstoffabgabe!B151)","v":60},{"$f":"IF(Nährstoffabgabe!C151=\"\",\"\",Nährstoffabgabe!C151)","v":""},{"$f":"IF(Nährstoffabgabe!D151=\"\",\"\",Nährstoffabgabe!D151)","v":""},{"$f":"Nährstoffabgabe!E151","v":0},{"$f":"IF(Nährstoffabgabe!F151=\"\",\"\",Nährstoffabgabe!F151)","v":2},{"$f":"IF(Nährstoffabgabe!G151=\"\",\"\",Nährstoffabgabe!G151)","v":1.01},{"$f":"IF(Nährstoffabgabe!H151=\"\",\"\",Nährstoffabgabe!H151)","v":1.79},{"$f":"IF(Nährstoffabgabe!I151=\"\",\"\",Nährstoffabgabe!I151)","v":0.27},{"$f":"IF(Nährstoffabgabe!J151=\"\",\"\",Nährstoffabgabe!J151)","v":0},{"$f":"IF(Nährstoffabgabe!K151=\"\",\"\",Nährstoffabgabe!K151)","v":0},{"$f":"IF(Nährstoffabgabe!L151=\"\",\"\",Nährstoffabgabe!L151)","v":0},{"$f":"IF(Nährstoffabgabe!M151=\"\",\"\",Nährstoffabgabe!M151)","v":0}]
[{"$f":"IF(Nährstoffabgabe!A152=\"\",\"\",Nährstoffabgabe!A152)","v":"Gerste, Winter 12 % RP in TM_Stroh"},{"$f":"IF(Nährstoffabgabe!B152=\"\",\"\",Nährstoffabgabe!B152)","v":42},{"$f":"IF(Nährstoffabgabe!C152=\"\",\"\",Nährstoffabgabe!C152)","v":""},{"$f":"IF(Nährstoffabgabe!D152=\"\",\"\",Nährstoffabgabe!D152)","v":""},{"$f":"Nährstoffabgabe!E152","v":0},{"$f":"IF(Nährstoffabgabe!F152=\"\",\"\",Nährstoffabgabe!F152)","v":0.5},{"$f":"IF(Nährstoffabgabe!G152=\"\",\"\",Nährstoffabgabe!G152)","v":0.3},{"$f":"IF(Nährstoffabgabe!H152=\"\",\"\",Nährstoffabgabe!H152)","v":1.7},{"$f":"IF(Nährstoffabgabe!I152=\"\",\"\",Nährstoffabgabe!I152)","v":0.1},{"$f":"IF(Nährstoffabgabe!J152=\"\",\"\",Nährstoffabgabe!J152)","v":0},{"$f":"IF(Nährstoffabgabe!K152=\"\",\"\",Nährstoffabgabe!K152)","v":0},{"$f":"IF(Nährstoffabgabe!L152=\"\",\"\",Nährstoffabgabe!L152)","v":0},{"$f":"IF(Nährstoffabgabe!M152=\"\",\"\",Nährstoffabgabe!M152)","v":0}]
[{"$f":"IF(Nährstoffabgabe!A153=\"\",\"\",Nährstoffabgabe!A153)","v":"Gerste, Winter 13 % RP in TM_Korn"},{"$f":"IF(Nährstoffabgabe!B153=\"\",\"\",Nährstoffabgabe!B153)","v":60},{"$f":"IF(Nährstoffabgabe!C153=\"\",\"\",Nährstoffabgabe!C153)","v":""},{"$f":"IF(Nährstoffabgabe!D153=\"\",\"\",Nährstoffabgabe!D153)","v":""},{"$f":"Nährstoffabgabe!E153","v":0},{"$f":"IF(Nährstoffabgabe!F153=\"\",\"\",Nährstoffabgabe!F153)","v":1.79},{"$f":"IF(Nährstoffabgabe!G153=\"\",\"\",Nährstoffabgabe!G153)","v":0.8},{"$f":"IF(Nährstoffabgabe!H153=\"\",\"\",Nährstoffabgabe!H153)","v":0.6},{"$f":"IF(Nährstoffabgabe!I153=\"\",\"\",Nährstoffabgabe!I153)","v":0.2},{"$f":"IF(Nährstoffabgabe!J153=\"\",\"\",Nährstoffabgabe!J153)","v":0},{"$f":"IF(Nährstoffabgabe!K153=\"\",\"\",Nährstoffabgabe!K153)","v":0},{"$f":"IF(Nährstoffabgabe!L153=\"\",\"\",Nährstoffabgabe!L153)","v":0},{"$f":"IF(Nährstoffabgabe!M153=\"\",\"\",Nährstoffabgabe!M153)","v":0}]
[{"$f":"IF(Nährstoffabgabe!A154=\"\",\"\",Nährstoffabgabe!A154)","v":"Gerste, Winter 13 % RP in TM_Korn + Stroh (1: 0,7)"},{"$f":"IF(Nährstoffabgabe!B154=\"\",\"\",Nährstoffabgabe!B154)","v":60},{"$f":"IF(Nährstoffabgabe!C154=\"\",\"\",Nährstoffabgabe!C154)","v":""},{"$f":"IF(Nährstoffabgabe!D154=\"\",\"\",Nährstoffabgabe!D154)","v":""},{"$f":"Nährstoffabgabe!E154","v":0},{"$f":"IF(Nährstoffabgabe!F154=\"\",\"\",Nährstoffabgabe!F154)","v":2.14},{"$f":"IF(Nährstoffabgabe!G154=\"\",\"\",Nährstoffabgabe!G154)","v":1.01},{"$f":"IF(Nährstoffabgabe!H154=\"\",\"\",Nährstoffabgabe!H154)","v":1.79},{"$f":"IF(Nährstoffabgabe!I154=\"\",\"\",Nährstoffabgabe!I154)","v":0.27},{"$f":"IF(Nährstoffabgabe!J154=\"\",\"\",Nährstoffabgabe!J154)","v":0},{"$f":"IF(Nährstoffabgabe!K154=\"\",\"\",Nährstoffabgabe!K154)","v":0},{"$f":"IF(Nährstoffabgabe!L154=\"\",\"\",Nährstoffabgabe!L154)","v":0},{"$f":"IF(Nährstoffabgabe!M154=\"\",\"\",Nährstoffabgabe!M154)","v":0}]
[{"$f":"IF(Nährstoffabgabe!A155=\"\",\"\",Nährstoffabgabe!A155)","v":"Gerste, Winter 13 % RP in TM_Stroh"},{"$f":"IF(Nährstoffabgabe!B155=\"\",\"\",Nährstoffabgabe!B155)","v":42},{"$f":"IF(Nährstoffabgabe!C155=\"\",\"\",Nährstoffabgabe!C155)","v":""},{"$f":"IF(Nährstoffabgabe!D155=\"\",\"\",Nährstoffabgabe!D155)","v":""},{"$f":"Nährstoffabgabe!E155","v":0},{"$f":"IF(Nährstoffabgabe!F155=\"\",\"\",Nährstoffabgabe!F155)","v":0.5},{"$f":"IF(Nährstoffabgabe!G155=\"\",\"\",Nährstoffabgabe!G155)","v":0.3},{"$f":"IF(Nährstoffabgabe!H155=\"\",\"\",Nährstoffabgabe!H155)","v":1.7},{"$f":"IF(Nährstoffabgabe!I155=\"\",\"\",Nährstoffabgabe!I155)","v":0.1},{"$f":"IF(Nährstoffabgabe!J155=\"\",\"\",Nährstoffabgabe!J155)","v":0},{"$f":"IF(Nährstoffabgabe!K155=\"\",\"\",Nährstoffabgabe!K155)","v":0},{"$f":"IF(Nährstoffabgabe!L155=\"\",\"\",Nährstoffabgabe!L155)","v":0},{"$f":"IF(Nährstoffabgabe!M155=\"\",\"\",Nährstoffabgabe!M155)","v":0}]
[{"$f":"IF(Nährstoffabgabe!A156=\"\",\"\",Nährstoffabgabe!A156)","v":"Getreide, Ganzpfl.nsilage (35 % TM)"},{"$f":"IF(Nährstoffabgabe!B156=\"\",\"\",Nährstoffabgabe!B156)","v":250},{"$f":"IF(Nährstoffabgabe!C156=\"\",\"\",Nährstoffabgabe!C156)","v":""},{"$f":"IF(Nährstoffabgabe!D156=\"\",\"\",Nährstoffabgabe!D156)","v":""},{"$f":"Nährstoffabgabe!E156","v":0},{"$f":"IF(Nährstoffabgabe!F156=\"\",\"\",Nährstoffabgabe!F156)","v":0.56000000000000005},{"$f":"IF(Nährstoffabgabe!G156=\"\",\"\",Nährstoffabgabe!G156)","v":0.23},{"$f":"IF(Nährstoffabgabe!H156=\"\",\"\",Nährstoffabgabe!H156)","v":0.47},{"$f":"IF(Nährstoffabgabe!I156=\"\",\"\",Nährstoffabgabe!I156)","v":0.1},{"$f":"IF(Nährstoffabgabe!J156=\"\",\"\",Nährstoffabgabe!J156)","v":0},{"$f":"IF(Nährstoffabgabe!K156=\"\",\"\",Nährstoffabgabe!K156)","v":0},{"$f":"IF(Nährstoffabgabe!L156=\"\",\"\",Nährstoffabgabe!L156)","v":0},{"$f":"IF(Nährstoffabgabe!M156=\"\",\"\",Nährstoffabgabe!M156)","v":0}]
[{"$f":"IF(Nährstoffabgabe!A157=\"\",\"\",Nährstoffabgabe!A157)","v":"Hafer 11 % RP in TM_Korn"},{"$f":"IF(Nährstoffabgabe!B157=\"\",\"\",Nährstoffabgabe!B157)","v":50},{"$f":"IF(Nährstoffabgabe!C157=\"\",\"\",Nährstoffabgabe!C157)","v":""},{"$f":"IF(Nährstoffabgabe!D157=\"\",\"\",Nährstoffabgabe!D157)","v":""},{"$f":"Nährstoffabgabe!E157","v":0},{"$f":"IF(Nährstoffabgabe!F157=\"\",\"\",Nährstoffabgabe!F157)","v":1.51},{"$f":"IF(Nährstoffabgabe!G157=\"\",\"\",Nährstoffabgabe!G157)","v":0.8},{"$f":"IF(Nährstoffabgabe!H157=\"\",\"\",Nährstoffabgabe!H157)","v":0.6},{"$f":"IF(Nährstoffabgabe!I157=\"\",\"\",Nährstoffabgabe!I157)","v":0.2},{"$f":"IF(Nährstoffabgabe!J157=\"\",\"\",Nährstoffabgabe!J157)","v":0},{"$f":"IF(Nährstoffabgabe!K157=\"\",\"\",Nährstoffabgabe!K157)","v":0},{"$f":"IF(Nährstoffabgabe!L157=\"\",\"\",Nährstoffabgabe!L157)","v":0},{"$f":"IF(Nährstoffabgabe!M157=\"\",\"\",Nährstoffabgabe!M157)","v":0}]
[{"$f":"IF(Nährstoffabgabe!A158=\"\",\"\",Nährstoffabgabe!A158)","v":"Hafer 11 % RP in TM_Korn + Stroh (1: 1,1)"},{"$f":"IF(Nährstoffabgabe!B158=\"\",\"\",Nährstoffabgabe!B158)","v":50},{"$f":"IF(Nährstoffabgabe!C158=\"\",\"\",Nährstoffabgabe!C158)","v":""},{"$f":"IF(Nährstoffabgabe!D158=\"\",\"\",Nährstoffabgabe!D158)","v":""},{"$f":"Nährstoffabgabe!E158","v":0},{"$f":"IF(Nährstoffabgabe!F158=\"\",\"\",Nährstoffabgabe!F158)","v":2.06},{"$f":"IF(Nährstoffabgabe!G158=\"\",\"\",Nährstoffabgabe!G158)","v":1.1299999999999999},{"$f":"IF(Nährstoffabgabe!H158=\"\",\"\",Nährstoffabgabe!H158)","v":2.4700000000000002},{"$f":"IF(Nährstoffabgabe!I158=\"\",\"\",Nährstoffabgabe!I158)","v":0.42},{"$f":"IF(Nährstoffabgabe!J158=\"\",\"\",Nährstoffabgabe!J158)","v":0},{"$f":"IF(Nährstoffabgabe!K158=\"\",\"\",Nährstoffabgabe!K158)","v":0},{"$f":"IF(Nährstoffabgabe!L158=\"\",\"\",Nährstoffabgabe!L158)","v":0},{"$f":"IF(Nährstoffabgabe!M158=\"\",\"\",Nährstoffabgabe!M158)","v":0}]
[{"$f":"IF(Nährstoffabgabe!A159=\"\",\"\",Nährstoffabgabe!A159)","v":"Hafer 11 % RP in TM_Stroh"},{"$f":"IF(Nährstoffabgabe!B159=\"\",\"\",Nährstoffabgabe!B159)","v":55.000000000000007},{"$f":"IF(Nährstoffabgabe!C159=\"\",\"\",Nährstoffabgabe!C159)","v":""},{"$f":"IF(Nährstoffabgabe!D159=\"\",\"\",Nährstoffabgabe!D159)","v":""},{"$f":"Nährstoffabgabe!E159","v":0},{"$f":"IF(Nährstoffabgabe!F159=\"\",\"\",Nährstoffabgabe!F159)","v":0.5},{"$f":"IF(Nährstoffabgabe!G159=\"\",\"\",Nährstoffabgabe!G159)","v":0.3},{"$f":"IF(Nährstoffabgabe!H159=\"\",\"\",Nährstoffabgabe!H159)","v":1.7},{"$f":"IF(Nährstoffabgabe!I159=\"\",\"\",Nährstoffabgabe!I159)","v":0.2},{"$f":"IF(Nährstoffabgabe!J159=\"\",\"\",Nährstoffabgabe!J159)","v":0},{"$f":"IF(Nährstoffabgabe!K159=\"\",\"\",Nährstoffabgabe!K159)","v":0},{"$f":"IF(Nährstoffabgabe!L159=\"\",\"\",Nährstoffabgabe!L159)","v":0},{"$f":"IF(Nährstoffabgabe!M159=\"\",\"\",Nährstoffabgabe!M159)","v":0}]
[{"$f":"IF(Nährstoffabgabe!A160=\"\",\"\",Nährstoffabgabe!A160)","v":"Hafer 12 % RP in TM_Korn"},{"$f":"IF(Nährstoffabgabe!B160=\"\",\"\",Nährstoffabgabe!B160)","v":55},{"$f":"IF(Nährstoffabgabe!C160=\"\",\"\",Nährstoffabgabe!C160)","v":""},{"$f":"IF(Nährstoffabgabe!D160=\"\",\"\",Nährstoffabgabe!D160)","v":""},{"$f":"Nährstoffabgabe!E160","v":0},{"$f":"IF(Nährstoffabgabe!F160=\"\",\"\",Nährstoffabgabe!F160)","v":1.65},{"$f":"IF(Nährstoffabgabe!G160=\"\",\"\",Nährstoffabgabe!G160)","v":0.8},{"$f":"IF(Nährstoffabgabe!H160=\"\",\"\",Nährstoffabgabe!H160)","v":0.6},{"$f":"IF(Nährstoffabgabe!I160=\"\",\"\",Nährstoffabgabe!I160)","v":0.1},{"$f":"IF(Nährstoffabgabe!J160=\"\",\"\",Nährstoffabgabe!J160)","v":0},{"$f":"IF(Nährstoffabgabe!K160=\"\",\"\",Nährstoffabgabe!K160)","v":0},{"$f":"IF(Nährstoffabgabe!L160=\"\",\"\",Nährstoffabgabe!L160)","v":0},{"$f":"IF(Nährstoffabgabe!M160=\"\",\"\",Nährstoffabgabe!M160)","v":0}]
[{"$f":"IF(Nährstoffabgabe!A161=\"\",\"\",Nährstoffabgabe!A161)","v":"Hafer 12 % RP in TM_Korn + Stroh (1: 1,1)"},{"$f":"IF(Nährstoffabgabe!B161=\"\",\"\",Nährstoffabgabe!B161)","v":55},{"$f":"IF(Nährstoffabgabe!C161=\"\",\"\",Nährstoffabgabe!C161)","v":""},{"$f":"IF(Nährstoffabgabe!D161=\"\",\"\",Nährstoffabgabe!D161)","v":""},{"$f":"Nährstoffabgabe!E161","v":0},{"$f":"IF(Nährstoffabgabe!F161=\"\",\"\",Nährstoffabgabe!F161)","v":2.2000000000000002},{"$f":"IF(Nährstoffabgabe!G161=\"\",\"\",Nährstoffabgabe!G161)","v":1.1299999999999999},{"$f":"IF(Nährstoffabgabe!H161=\"\",\"\",Nährstoffabgabe!H161)","v":2.4700000000000002},{"$f":"IF(Nährstoffabgabe!I161=\"\",\"\",Nährstoffabgabe!I161)","v":0.42},{"$f":"IF(Nährstoffabgabe!J161=\"\",\"\",Nährstoffabgabe!J161)","v":0},{"$f":"IF(Nährstoffabgabe!K161=\"\",\"\",Nährstoffabgabe!K161)","v":0},{"$f":"IF(Nährstoffabgabe!L161=\"\",\"\",Nährstoffabgabe!L161)","v":0},{"$f":"IF(Nährstoffabgabe!M161=\"\",\"\",Nährstoffabgabe!M161)","v":0}]
[{"$f":"IF(Nährstoffabgabe!A162=\"\",\"\",Nährstoffabgabe!A162)","v":"Hafer 12 % RP in TM_Stroh"},{"$f":"IF(Nährstoffabgabe!B162=\"\",\"\",Nährstoffabgabe!B162)","v":60.500000000000007},{"$f":"IF(Nährstoffabgabe!C162=\"\",\"\",Nährstoffabgabe!C162)","v":""},{"$f":"IF(Nährstoffabgabe!D162=\"\",\"\",Nährstoffabgabe!D162)","v":""},{"$f":"Nährstoffabgabe!E162","v":0},{"$f":"IF(Nährstoffabgabe!F162=\"\",\"\",Nährstoffabgabe!F162)","v":0.5},{"$f":"IF(Nährstoffabgabe!G162=\"\",\"\",Nährstoffabgabe!G162)","v":0.3},{"$f":"IF(Nährstoffabgabe!H162=\"\",\"\",Nährstoffabgabe!H162)","v":1.7},{"$f":"IF(Nährstoffabgabe!I162=\"\",\"\",Nährstoffabgabe!I162)","v":0.2},{"$f":"IF(Nährstoffabgabe!J162=\"\",\"\",Nährstoffabgabe!J162)","v":0},{"$f":"IF(Nährstoffabgabe!K162=\"\",\"\",Nährstoffabgabe!K162)","v":0},{"$f":"IF(Nährstoffabgabe!L162=\"\",\"\",Nährstoffabgabe!L162)","v":0},{"$f":"IF(Nährstoffabgabe!M162=\"\",\"\",Nährstoffabgabe!M162)","v":0}]
[{"$f":"IF(Nährstoffabgabe!A163=\"\",\"\",Nährstoffabgabe!A163)","v":"Hartweizen (Durum), 12 % RP in TM_Korn"},{"$f":"IF(Nährstoffabgabe!B163=\"\",\"\",Nährstoffabgabe!B163)","v":50},{"$f":"IF(Nährstoffabgabe!C163=\"\",\"\",Nährstoffabgabe!C163)","v":""},{"$f":"IF(Nährstoffabgabe!D163=\"\",\"\",Nährstoffabgabe!D163)","v":""},{"$f":"Nährstoffabgabe!E163","v":0},{"$f":"IF(Nährstoffabgabe!F163=\"\",\"\",Nährstoffabgabe!F163)","v":1.81},{"$f":"IF(Nährstoffabgabe!G163=\"\",\"\",Nährstoffabgabe!G163)","v":0.8},{"$f":"IF(Nährstoffabgabe!H163=\"\",\"\",Nährstoffabgabe!H163)","v":0.6},{"$f":"IF(Nährstoffabgabe!I163=\"\",\"\",Nährstoffabgabe!I163)","v":0.2},{"$f":"IF(Nährstoffabgabe!J163=\"\",\"\",Nährstoffabgabe!J163)","v":0},{"$f":"IF(Nährstoffabgabe!K163=\"\",\"\",Nährstoffabgabe!K163)","v":0},{"$f":"IF(Nährstoffabgabe!L163=\"\",\"\",Nährstoffabgabe!L163)","v":0},{"$f":"IF(Nährstoffabgabe!M163=\"\",\"\",Nährstoffabgabe!M163)","v":0}]
[{"$f":"IF(Nährstoffabgabe!A164=\"\",\"\",Nährstoffabgabe!A164)","v":"Hartweizen (Durum), 12 % RP in TM_Korn + Stroh (1: 0,8)"},{"$f":"IF(Nährstoffabgabe!B164=\"\",\"\",Nährstoffabgabe!B164)","v":50},{"$f":"IF(Nährstoffabgabe!C164=\"\",\"\",Nährstoffabgabe!C164)","v":""},{"$f":"IF(Nährstoffabgabe!D164=\"\",\"\",Nährstoffabgabe!D164)","v":""},{"$f":"Nährstoffabgabe!E164","v":0},{"$f":"IF(Nährstoffabgabe!F164=\"\",\"\",Nährstoffabgabe!F164)","v":2.21},{"$f":"IF(Nährstoffabgabe!G164=\"\",\"\",Nährstoffabgabe!G164)","v":1.04},{"$f":"IF(Nährstoffabgabe!H164=\"\",\"\",Nährstoffabgabe!H164)","v":1.72},{"$f":"IF(Nährstoffabgabe!I164=\"\",\"\",Nährstoffabgabe!I164)","v":0.36},{"$f":"IF(Nährstoffabgabe!J164=\"\",\"\",Nährstoffabgabe!J164)","v":0},{"$f":"IF(Nährstoffabgabe!K164=\"\",\"\",Nährstoffabgabe!K164)","v":0},{"$f":"IF(Nährstoffabgabe!L164=\"\",\"\",Nährstoffabgabe!L164)","v":0},{"$f":"IF(Nährstoffabgabe!M164=\"\",\"\",Nährstoffabgabe!M164)","v":0}]
[{"$f":"IF(Nährstoffabgabe!A165=\"\",\"\",Nährstoffabgabe!A165)","v":"Hartweizen (Durum), 12 % RP in TM_Stroh"},{"$f":"IF(Nährstoffabgabe!B165=\"\",\"\",Nährstoffabgabe!B165)","v":40},{"$f":"IF(Nährstoffabgabe!C165=\"\",\"\",Nährstoffabgabe!C165)","v":""},{"$f":"IF(Nährstoffabgabe!D165=\"\",\"\",Nährstoffabgabe!D165)","v":""},{"$f":"Nährstoffabgabe!E165","v":0},{"$f":"IF(Nährstoffabgabe!F165=\"\",\"\",Nährstoffabgabe!F165)","v":0.5},{"$f":"IF(Nährstoffabgabe!G165=\"\",\"\",Nährstoffabgabe!G165)","v":0.3},{"$f":"IF(Nährstoffabgabe!H165=\"\",\"\",Nährstoffabgabe!H165)","v":1.4},{"$f":"IF(Nährstoffabgabe!I165=\"\",\"\",Nährstoffabgabe!I165)","v":0.2},{"$f":"IF(Nährstoffabgabe!J165=\"\",\"\",Nährstoffabgabe!J165)","v":0},{"$f":"IF(Nährstoffabgabe!K165=\"\",\"\",Nährstoffabgabe!K165)","v":0},{"$f":"IF(Nährstoffabgabe!L165=\"\",\"\",Nährstoffabgabe!L165)","v":0},{"$f":"IF(Nährstoffabgabe!M165=\"\",\"\",Nährstoffabgabe!M165)","v":0}]
[{"$f":"IF(Nährstoffabgabe!A166=\"\",\"\",Nährstoffabgabe!A166)","v":"Mais, Körner 10 % RP in TM_Korn"},{"$f":"IF(Nährstoffabgabe!B166=\"\",\"\",Nährstoffabgabe!B166)","v":80},{"$f":"IF(Nährstoffabgabe!C166=\"\",\"\",Nährstoffabgabe!C166)","v":""},{"$f":"IF(Nährstoffabgabe!D166=\"\",\"\",Nährstoffabgabe!D166)","v":""},{"$f":"Nährstoffabgabe!E166","v":0},{"$f":"IF(Nährstoffabgabe!F166=\"\",\"\",Nährstoffabgabe!F166)","v":1.38},{"$f":"IF(Nährstoffabgabe!G166=\"\",\"\",Nährstoffabgabe!G166)","v":0.8},{"$f":"IF(Nährstoffabgabe!H166=\"\",\"\",Nährstoffabgabe!H166)","v":0.5},{"$f":"IF(Nährstoffabgabe!I166=\"\",\"\",Nährstoffabgabe!I166)","v":0.2},{"$f":"IF(Nährstoffabgabe!J166=\"\",\"\",Nährstoffabgabe!J166)","v":0},{"$f":"IF(Nährstoffabgabe!K166=\"\",\"\",Nährstoffabgabe!K166)","v":0},{"$f":"IF(Nährstoffabgabe!L166=\"\",\"\",Nährstoffabgabe!L166)","v":0},{"$f":"IF(Nährstoffabgabe!M166=\"\",\"\",Nährstoffabgabe!M166)","v":0}]
[{"$f":"IF(Nährstoffabgabe!A167=\"\",\"\",Nährstoffabgabe!A167)","v":"Mais, Körner 10 % RP in TM_Korn + Stroh (1: 1)"},{"$f":"IF(Nährstoffabgabe!B167=\"\",\"\",Nährstoffabgabe!B167)","v":80},{"$f":"IF(Nährstoffabgabe!C167=\"\",\"\",Nährstoffabgabe!C167)","v":""},{"$f":"IF(Nährstoffabgabe!D167=\"\",\"\",Nährstoffabgabe!D167)","v":""},{"$f":"Nährstoffabgabe!E167","v":0},{"$f":"IF(Nährstoffabgabe!F167=\"\",\"\",Nährstoffabgabe!F167)","v":2.2799999999999998},{"$f":"IF(Nährstoffabgabe!G167=\"\",\"\",Nährstoffabgabe!G167)","v":1.01},{"$f":"IF(Nährstoffabgabe!H167=\"\",\"\",Nährstoffabgabe!H167)","v":2.5},{"$f":"IF(Nährstoffabgabe!I167=\"\",\"\",Nährstoffabgabe!I167)","v":0.6},{"$f":"IF(Nährstoffabgabe!J167=\"\",\"\",Nährstoffabgabe!J167)","v":0},{"$f":"IF(Nährstoffabgabe!K167=\"\",\"\",Nährstoffabgabe!K167)","v":0},{"$f":"IF(Nährstoffabgabe!L167=\"\",\"\",Nährstoffabgabe!L167)","v":0},{"$f":"IF(Nährstoffabgabe!M167=\"\",\"\",Nährstoffabgabe!M167)","v":0}]
[{"$f":"IF(Nährstoffabgabe!A168=\"\",\"\",Nährstoffabgabe!A168)","v":"Mais, Körner 10 % RP in TM_Stroh"},{"$f":"IF(Nährstoffabgabe!B168=\"\",\"\",Nährstoffabgabe!B168)","v":80},{"$f":"IF(Nährstoffabgabe!C168=\"\",\"\",Nährstoffabgabe!C168)","v":""},{"$f":"IF(Nährstoffabgabe!D168=\"\",\"\",Nährstoffabgabe!D168)","v":""},{"$f":"Nährstoffabgabe!E168","v":0},{"$f":"IF(Nährstoffabgabe!F168=\"\",\"\",Nährstoffabgabe!F168)","v":0.9},{"$f":"IF(Nährstoffabgabe!G168=\"\",\"\",Nährstoffabgabe!G168)","v":0.2},{"$f":"IF(Nährstoffabgabe!H168=\"\",\"\",Nährstoffabgabe!H168)","v":2},{"$f":"IF(Nährstoffabgabe!I168=\"\",\"\",Nährstoffabgabe!I168)","v":0.4},{"$f":"IF(Nährstoffabgabe!J168=\"\",\"\",Nährstoffabgabe!J168)","v":0},{"$f":"IF(Nährstoffabgabe!K168=\"\",\"\",Nährstoffabgabe!K168)","v":0},{"$f":"IF(Nährstoffabgabe!L168=\"\",\"\",Nährstoffabgabe!L168)","v":0},{"$f":"IF(Nährstoffabgabe!M168=\"\",\"\",Nährstoffabgabe!M168)","v":0}]
[{"$f":"IF(Nährstoffabgabe!A169=\"\",\"\",Nährstoffabgabe!A169)","v":"Mais, Körner 11 % RP in TM_Korn"},{"$f":"IF(Nährstoffabgabe!B169=\"\",\"\",Nährstoffabgabe!B169)","v":80},{"$f":"IF(Nährstoffabgabe!C169=\"\",\"\",Nährstoffabgabe!C169)","v":""},{"$f":"IF(Nährstoffabgabe!D169=\"\",\"\",Nährstoffabgabe!D169)","v":""},{"$f":"Nährstoffabgabe!E169","v":0},{"$f":"IF(Nährstoffabgabe!F169=\"\",\"\",Nährstoffabgabe!F169)","v":1.51},{"$f":"IF(Nährstoffabgabe!G169=\"\",\"\",Nährstoffabgabe!G169)","v":0.8},{"$f":"IF(Nährstoffabgabe!H169=\"\",\"\",Nährstoffabgabe!H169)","v":0.5},{"$f":"IF(Nährstoffabgabe!I169=\"\",\"\",Nährstoffabgabe!I169)","v":0.2},{"$f":"IF(Nährstoffabgabe!J169=\"\",\"\",Nährstoffabgabe!J169)","v":0},{"$f":"IF(Nährstoffabgabe!K169=\"\",\"\",Nährstoffabgabe!K169)","v":0},{"$f":"IF(Nährstoffabgabe!L169=\"\",\"\",Nährstoffabgabe!L169)","v":0},{"$f":"IF(Nährstoffabgabe!M169=\"\",\"\",Nährstoffabgabe!M169)","v":0}]
[{"$f":"IF(Nährstoffabgabe!A170=\"\",\"\",Nährstoffabgabe!A170)","v":"Mais, Körner 11 % RP in TM_Korn + Stroh (1: 1)"},{"$f":"IF(Nährstoffabgabe!B170=\"\",\"\",Nährstoffabgabe!B170)","v":80},{"$f":"IF(Nährstoffabgabe!C170=\"\",\"\",Nährstoffabgabe!C170)","v":""},{"$f":"IF(Nährstoffabgabe!D170=\"\",\"\",Nährstoffabgabe!D170)","v":""},{"$f":"Nährstoffabgabe!E170","v":0},{"$f":"IF(Nährstoffabgabe!F170=\"\",\"\",Nährstoffabgabe!F170)","v":2.41},{"$f":"IF(Nährstoffabgabe!G170=\"\",\"\",Nährstoffabgabe!G170)","v":1},{"$f":"IF(Nährstoffabgabe!H170=\"\",\"\",Nährstoffabgabe!H170)","v":2.5},{"$f":"IF(Nährstoffabgabe!I170=\"\",\"\",Nährstoffabgabe!I170)","v":0.6},{"$f":"IF(Nährstoffabgabe!J170=\"\",\"\",Nährstoffabgabe!J170)","v":0},{"$f":"IF(Nährstoffabgabe!K170=\"\",\"\",Nährstoffabgabe!K170)","v":0},{"$f":"IF(Nährstoffabgabe!L170=\"\",\"\",Nährstoffabgabe!L170)","v":0},{"$f":"IF(Nährstoffabgabe!M170=\"\",\"\",Nährstoffabgabe!M170)","v":0}]
[{"$f":"IF(Nährstoffabgabe!A171=\"\",\"\",Nährstoffabgabe!A171)","v":"Mais, Körner 11 % RP in TM_Stroh"},{"$f":"IF(Nährstoffabgabe!B171=\"\",\"\",Nährstoffabgabe!B171)","v":80},{"$f":"IF(Nährstoffabgabe!C171=\"\",\"\",Nährstoffabgabe!C171)","v":""},{"$f":"IF(Nährstoffabgabe!D171=\"\",\"\",Nährstoffabgabe!D171)","v":""},{"$f":"Nährstoffabgabe!E171","v":0},{"$f":"IF(Nährstoffabgabe!F171=\"\",\"\",Nährstoffabgabe!F171)","v":0.9},{"$f":"IF(Nährstoffabgabe!G171=\"\",\"\",Nährstoffabgabe!G171)","v":0.2},{"$f":"IF(Nährstoffabgabe!H171=\"\",\"\",Nährstoffabgabe!H171)","v":2},{"$f":"IF(Nährstoffabgabe!I171=\"\",\"\",Nährstoffabgabe!I171)","v":0.4},{"$f":"IF(Nährstoffabgabe!J171=\"\",\"\",Nährstoffabgabe!J171)","v":0},{"$f":"IF(Nährstoffabgabe!K171=\"\",\"\",Nährstoffabgabe!K171)","v":0},{"$f":"IF(Nährstoffabgabe!L171=\"\",\"\",Nährstoffabgabe!L171)","v":0},{"$f":"IF(Nährstoffabgabe!M171=\"\",\"\",Nährstoffabgabe!M171)","v":0}]
[{"$f":"IF(Nährstoffabgabe!A172=\"\",\"\",Nährstoffabgabe!A172)","v":"Roggen 11 % RP in TM_Korn"},{"$f":"IF(Nährstoffabgabe!B172=\"\",\"\",Nährstoffabgabe!B172)","v":50},{"$f":"IF(Nährstoffabgabe!C172=\"\",\"\",Nährstoffabgabe!C172)","v":""},{"$f":"IF(Nährstoffabgabe!D172=\"\",\"\",Nährstoffabgabe!D172)","v":""},{"$f":"Nährstoffabgabe!E172","v":0},{"$f":"IF(Nährstoffabgabe!F172=\"\",\"\",Nährstoffabgabe!F172)","v":1.51},{"$f":"IF(Nährstoffabgabe!G172=\"\",\"\",Nährstoffabgabe!G172)","v":0.8},{"$f":"IF(Nährstoffabgabe!H172=\"\",\"\",Nährstoffabgabe!H172)","v":0.6},{"$f":"IF(Nährstoffabgabe!I172=\"\",\"\",Nährstoffabgabe!I172)","v":0.1},{"$f":"IF(Nährstoffabgabe!J172=\"\",\"\",Nährstoffabgabe!J172)","v":0},{"$f":"IF(Nährstoffabgabe!K172=\"\",\"\",Nährstoffabgabe!K172)","v":0},{"$f":"IF(Nährstoffabgabe!L172=\"\",\"\",Nährstoffabgabe!L172)","v":0},{"$f":"IF(Nährstoffabgabe!M172=\"\",\"\",Nährstoffabgabe!M172)","v":0}]
[{"$f":"IF(Nährstoffabgabe!A173=\"\",\"\",Nährstoffabgabe!A173)","v":"Roggen 11 % RP in TM_Korn + Stroh (1: 0,9)"},{"$f":"IF(Nährstoffabgabe!B173=\"\",\"\",Nährstoffabgabe!B173)","v":50},{"$f":"IF(Nährstoffabgabe!C173=\"\",\"\",Nährstoffabgabe!C173)","v":""},{"$f":"IF(Nährstoffabgabe!D173=\"\",\"\",Nährstoffabgabe!D173)","v":""},{"$f":"Nährstoffabgabe!E173","v":0},{"$f":"IF(Nährstoffabgabe!F173=\"\",\"\",Nährstoffabgabe!F173)","v":1.96},{"$f":"IF(Nährstoffabgabe!G173=\"\",\"\",Nährstoffabgabe!G173)","v":1.07},{"$f":"IF(Nährstoffabgabe!H173=\"\",\"\",Nährstoffabgabe!H173)","v":2.4},{"$f":"IF(Nährstoffabgabe!I173=\"\",\"\",Nährstoffabgabe!I173)","v":0.28000000000000003},{"$f":"IF(Nährstoffabgabe!J173=\"\",\"\",Nährstoffabgabe!J173)","v":0},{"$f":"IF(Nährstoffabgabe!K173=\"\",\"\",Nährstoffabgabe!K173)","v":0},{"$f":"IF(Nährstoffabgabe!L173=\"\",\"\",Nährstoffabgabe!L173)","v":0},{"$f":"IF(Nährstoffabgabe!M173=\"\",\"\",Nährstoffabgabe!M173)","v":0}]
[{"$f":"IF(Nährstoffabgabe!A174=\"\",\"\",Nährstoffabgabe!A174)","v":"Roggen 11 % RP in TM_Stroh"},{"$f":"IF(Nährstoffabgabe!B174=\"\",\"\",Nährstoffabgabe!B174)","v":45},{"$f":"IF(Nährstoffabgabe!C174=\"\",\"\",Nährstoffabgabe!C174)","v":""},{"$f":"IF(Nährstoffabgabe!D174=\"\",\"\",Nährstoffabgabe!D174)","v":""},{"$f":"Nährstoffabgabe!E174","v":0},{"$f":"IF(Nährstoffabgabe!F174=\"\",\"\",Nährstoffabgabe!F174)","v":0.5},{"$f":"IF(Nährstoffabgabe!G174=\"\",\"\",Nährstoffabgabe!G174)","v":0.3},{"$f":"IF(Nährstoffabgabe!H174=\"\",\"\",Nährstoffabgabe!H174)","v":2},{"$f":"IF(Nährstoffabgabe!I174=\"\",\"\",Nährstoffabgabe!I174)","v":0.2},{"$f":"IF(Nährstoffabgabe!J174=\"\",\"\",Nährstoffabgabe!J174)","v":0},{"$f":"IF(Nährstoffabgabe!K174=\"\",\"\",Nährstoffabgabe!K174)","v":0},{"$f":"IF(Nährstoffabgabe!L174=\"\",\"\",Nährstoffabgabe!L174)","v":0},{"$f":"IF(Nährstoffabgabe!M174=\"\",\"\",Nährstoffabgabe!M174)","v":0}]
[{"$f":"IF(Nährstoffabgabe!A175=\"\",\"\",Nährstoffabgabe!A175)","v":"Roggen 12 % RP in TM_Korn"},{"$f":"IF(Nährstoffabgabe!B175=\"\",\"\",Nährstoffabgabe!B175)","v":50},{"$f":"IF(Nährstoffabgabe!C175=\"\",\"\",Nährstoffabgabe!C175)","v":""},{"$f":"IF(Nährstoffabgabe!D175=\"\",\"\",Nährstoffabgabe!D175)","v":""},{"$f":"Nährstoffabgabe!E175","v":0},{"$f":"IF(Nährstoffabgabe!F175=\"\",\"\",Nährstoffabgabe!F175)","v":1.65},{"$f":"IF(Nährstoffabgabe!G175=\"\",\"\",Nährstoffabgabe!G175)","v":0.8},{"$f":"IF(Nährstoffabgabe!H175=\"\",\"\",Nährstoffabgabe!H175)","v":0.6},{"$f":"IF(Nährstoffabgabe!I175=\"\",\"\",Nährstoffabgabe!I175)","v":0.1},{"$f":"IF(Nährstoffabgabe!J175=\"\",\"\",Nährstoffabgabe!J175)","v":0},{"$f":"IF(Nährstoffabgabe!K175=\"\",\"\",Nährstoffabgabe!K175)","v":0},{"$f":"IF(Nährstoffabgabe!L175=\"\",\"\",Nährstoffabgabe!L175)","v":0},{"$f":"IF(Nährstoffabgabe!M175=\"\",\"\",Nährstoffabgabe!M175)","v":0}]
[{"$f":"IF(Nährstoffabgabe!A176=\"\",\"\",Nährstoffabgabe!A176)","v":"Roggen 12 % RP in TM_Korn + Stroh (1: 0,9)"},{"$f":"IF(Nährstoffabgabe!B176=\"\",\"\",Nährstoffabgabe!B176)","v":50},{"$f":"IF(Nährstoffabgabe!C176=\"\",\"\",Nährstoffabgabe!C176)","v":""},{"$f":"IF(Nährstoffabgabe!D176=\"\",\"\",Nährstoffabgabe!D176)","v":""},{"$f":"Nährstoffabgabe!E176","v":0},{"$f":"IF(Nährstoffabgabe!F176=\"\",\"\",Nährstoffabgabe!F176)","v":2.1},{"$f":"IF(Nährstoffabgabe!G176=\"\",\"\",Nährstoffabgabe!G176)","v":1.07},{"$f":"IF(Nährstoffabgabe!H176=\"\",\"\",Nährstoffabgabe!H176)","v":2.4},{"$f":"IF(Nährstoffabgabe!I176=\"\",\"\",Nährstoffabgabe!I176)","v":0.28000000000000003},{"$f":"IF(Nährstoffabgabe!J176=\"\",\"\",Nährstoffabgabe!J176)","v":0},{"$f":"IF(Nährstoffabgabe!K176=\"\",\"\",Nährstoffabgabe!K176)","v":0},{"$f":"IF(Nährstoffabgabe!L176=\"\",\"\",Nährstoffabgabe!L176)","v":0},{"$f":"IF(Nährstoffabgabe!M176=\"\",\"\",Nährstoffabgabe!M176)","v":0}]
[{"$f":"IF(Nährstoffabgabe!A177=\"\",\"\",Nährstoffabgabe!A177)","v":"Roggen 12 % RP in TM_Stroh"},{"$f":"IF(Nährstoffabgabe!B177=\"\",\"\",Nährstoffabgabe!B177)","v":45},{"$f":"IF(Nährstoffabgabe!C177=\"\",\"\",Nährstoffabgabe!C177)","v":""},{"$f":"IF(Nährstoffabgabe!D177=\"\",\"\",Nährstoffabgabe!D177)","v":""},{"$f":"Nährstoffabgabe!E177","v":0},{"$f":"IF(Nährstoffabgabe!F177=\"\",\"\",Nährstoffabgabe!F177)","v":0.5},{"$f":"IF(Nährstoffabgabe!G177=\"\",\"\",Nährstoffabgabe!G177)","v":0.3},{"$f":"IF(Nährstoffabgabe!H177=\"\",\"\",Nährstoffabgabe!H177)","v":2},{"$f":"IF(Nährstoffabgabe!I177=\"\",\"\",Nährstoffabgabe!I177)","v":0.2},{"$f":"IF(Nährstoffabgabe!J177=\"\",\"\",Nährstoffabgabe!J177)","v":0},{"$f":"IF(Nährstoffabgabe!K177=\"\",\"\",Nährstoffabgabe!K177)","v":0},{"$f":"IF(Nährstoffabgabe!L177=\"\",\"\",Nährstoffabgabe!L177)","v":0},{"$f":"IF(Nährstoffabgabe!M177=\"\",\"\",Nährstoffabgabe!M177)","v":0}]
[{"$f":"IF(Nährstoffabgabe!A178=\"\",\"\",Nährstoffabgabe!A178)","v":"Triticale, Winter 12 % RP in TM_Korn"},{"$f":"IF(Nährstoffabgabe!B178=\"\",\"\",Nährstoffabgabe!B178)","v":70},{"$f":"IF(Nährstoffabgabe!C178=\"\",\"\",Nährstoffabgabe!C178)","v":""},{"$f":"IF(Nährstoffabgabe!D178=\"\",\"\",Nährstoffabgabe!D178)","v":""},{"$f":"Nährstoffabgabe!E178","v":0},{"$f":"IF(Nährstoffabgabe!F178=\"\",\"\",Nährstoffabgabe!F178)","v":1.65},{"$f":"IF(Nährstoffabgabe!G178=\"\",\"\",Nährstoffabgabe!G178)","v":0.8},{"$f":"IF(Nährstoffabgabe!H178=\"\",\"\",Nährstoffabgabe!H178)","v":0.6},{"$f":"IF(Nährstoffabgabe!I178=\"\",\"\",Nährstoffabgabe!I178)","v":0.2},{"$f":"IF(Nährstoffabgabe!J178=\"\",\"\",Nährstoffabgabe!J178)","v":0},{"$f":"IF(Nährstoffabgabe!K178=\"\",\"\",Nährstoffabgabe!K178)","v":0},{"$f":"IF(Nährstoffabgabe!L178=\"\",\"\",Nährstoffabgabe!L178)","v":0},{"$f":"IF(Nährstoffabgabe!M178=\"\",\"\",Nährstoffabgabe!M178)","v":0}]
[{"$f":"IF(Nährstoffabgabe!A179=\"\",\"\",Nährstoffabgabe!A179)","v":"Triticale, Winter 12 % RP in TM_Korn + Stroh (1: 0,9)"},{"$f":"IF(Nährstoffabgabe!B179=\"\",\"\",Nährstoffabgabe!B179)","v":70},{"$f":"IF(Nährstoffabgabe!C179=\"\",\"\",Nährstoffabgabe!C179)","v":""},{"$f":"IF(Nährstoffabgabe!D179=\"\",\"\",Nährstoffabgabe!D179)","v":""},{"$f":"Nährstoffabgabe!E179","v":0},{"$f":"IF(Nährstoffabgabe!F179=\"\",\"\",Nährstoffabgabe!F179)","v":2.1},{"$f":"IF(Nährstoffabgabe!G179=\"\",\"\",Nährstoffabgabe!G179)","v":1.07},{"$f":"IF(Nährstoffabgabe!H179=\"\",\"\",Nährstoffabgabe!H179)","v":2.13},{"$f":"IF(Nährstoffabgabe!I179=\"\",\"\",Nährstoffabgabe!I179)","v":0.38},{"$f":"IF(Nährstoffabgabe!J179=\"\",\"\",Nährstoffabgabe!J179)","v":0},{"$f":"IF(Nährstoffabgabe!K179=\"\",\"\",Nährstoffabgabe!K179)","v":0},{"$f":"IF(Nährstoffabgabe!L179=\"\",\"\",Nährstoffabgabe!L179)","v":0},{"$f":"IF(Nährstoffabgabe!M179=\"\",\"\",Nährstoffabgabe!M179)","v":0}]
[{"$f":"IF(Nährstoffabgabe!A180=\"\",\"\",Nährstoffabgabe!A180)","v":"Triticale, Winter 12 % RP in TM_Stroh"},{"$f":"IF(Nährstoffabgabe!B180=\"\",\"\",Nährstoffabgabe!B180)","v":63},{"$f":"IF(Nährstoffabgabe!C180=\"\",\"\",Nährstoffabgabe!C180)","v":""},{"$f":"IF(Nährstoffabgabe!D180=\"\",\"\",Nährstoffabgabe!D180)","v":""},{"$f":"Nährstoffabgabe!E180","v":0},{"$f":"IF(Nährstoffabgabe!F180=\"\",\"\",Nährstoffabgabe!F180)","v":0.5},{"$f":"IF(Nährstoffabgabe!G180=\"\",\"\",Nährstoffabgabe!G180)","v":0.3},{"$f":"IF(Nährstoffabgabe!H180=\"\",\"\",Nährstoffabgabe!H180)","v":1.7},{"$f":"IF(Nährstoffabgabe!I180=\"\",\"\",Nährstoffabgabe!I180)","v":0.2},{"$f":"IF(Nährstoffabgabe!J180=\"\",\"\",Nährstoffabgabe!J180)","v":0},{"$f":"IF(Nährstoffabgabe!K180=\"\",\"\",Nährstoffabgabe!K180)","v":0},{"$f":"IF(Nährstoffabgabe!L180=\"\",\"\",Nährstoffabgabe!L180)","v":0},{"$f":"IF(Nährstoffabgabe!M180=\"\",\"\",Nährstoffabgabe!M180)","v":0}]
[{"$f":"IF(Nährstoffabgabe!A181=\"\",\"\",Nährstoffabgabe!A181)","v":"Triticale, Winter-, 13 % RP in TM_Korn"},{"$f":"IF(Nährstoffabgabe!B181=\"\",\"\",Nährstoffabgabe!B181)","v":70},{"$f":"IF(Nährstoffabgabe!C181=\"\",\"\",Nährstoffabgabe!C181)","v":""},{"$f":"IF(Nährstoffabgabe!D181=\"\",\"\",Nährstoffabgabe!D181)","v":""},{"$f":"Nährstoffabgabe!E181","v":0},{"$f":"IF(Nährstoffabgabe!F181=\"\",\"\",Nährstoffabgabe!F181)","v":1.79},{"$f":"IF(Nährstoffabgabe!G181=\"\",\"\",Nährstoffabgabe!G181)","v":0.8},{"$f":"IF(Nährstoffabgabe!H181=\"\",\"\",Nährstoffabgabe!H181)","v":0.6},{"$f":"IF(Nährstoffabgabe!I181=\"\",\"\",Nährstoffabgabe!I181)","v":0.2},{"$f":"IF(Nährstoffabgabe!J181=\"\",\"\",Nährstoffabgabe!J181)","v":0},{"$f":"IF(Nährstoffabgabe!K181=\"\",\"\",Nährstoffabgabe!K181)","v":0},{"$f":"IF(Nährstoffabgabe!L181=\"\",\"\",Nährstoffabgabe!L181)","v":0},{"$f":"IF(Nährstoffabgabe!M181=\"\",\"\",Nährstoffabgabe!M181)","v":0}]
[{"$f":"IF(Nährstoffabgabe!A182=\"\",\"\",Nährstoffabgabe!A182)","v":"Triticale, Winter-, 13 % RP in TM_Korn + Stroh (1: 0,9)"},{"$f":"IF(Nährstoffabgabe!B182=\"\",\"\",Nährstoffabgabe!B182)","v":70},{"$f":"IF(Nährstoffabgabe!C182=\"\",\"\",Nährstoffabgabe!C182)","v":""},{"$f":"IF(Nährstoffabgabe!D182=\"\",\"\",Nährstoffabgabe!D182)","v":""},{"$f":"Nährstoffabgabe!E182","v":0},{"$f":"IF(Nährstoffabgabe!F182=\"\",\"\",Nährstoffabgabe!F182)","v":2.2400000000000002},{"$f":"IF(Nährstoffabgabe!G182=\"\",\"\",Nährstoffabgabe!G182)","v":1.07},{"$f":"IF(Nährstoffabgabe!H182=\"\",\"\",Nährstoffabgabe!H182)","v":2.13},{"$f":"IF(Nährstoffabgabe!I182=\"\",\"\",Nährstoffabgabe!I182)","v":0.38},{"$f":"IF(Nährstoffabgabe!J182=\"\",\"\",Nährstoffabgabe!J182)","v":0},{"$f":"IF(Nährstoffabgabe!K182=\"\",\"\",Nährstoffabgabe!K182)","v":0},{"$f":"IF(Nährstoffabgabe!L182=\"\",\"\",Nährstoffabgabe!L182)","v":0},{"$f":"IF(Nährstoffabgabe!M182=\"\",\"\",Nährstoffabgabe!M182)","v":0}]
[{"$f":"IF(Nährstoffabgabe!A183=\"\",\"\",Nährstoffabgabe!A183)","v":"Triticale, Winter-, 13 % RP in TM_Stroh"},{"$f":"IF(Nährstoffabgabe!B183=\"\",\"\",Nährstoffabgabe!B183)","v":63},{"$f":"IF(Nährstoffabgabe!C183=\"\",\"\",Nährstoffabgabe!C183)","v":""},{"$f":"IF(Nährstoffabgabe!D183=\"\",\"\",Nährstoffabgabe!D183)","v":""},{"$f":"Nährstoffabgabe!E183","v":0},{"$f":"IF(Nährstoffabgabe!F183=\"\",\"\",Nährstoffabgabe!F183)","v":0.5},{"$f":"IF(Nährstoffabgabe!G183=\"\",\"\",Nährstoffabgabe!G183)","v":0.3},{"$f":"IF(Nährstoffabgabe!H183=\"\",\"\",Nährstoffabgabe!H183)","v":1.7},{"$f":"IF(Nährstoffabgabe!I183=\"\",\"\",Nährstoffabgabe!I183)","v":0.2},{"$f":"IF(Nährstoffabgabe!J183=\"\",\"\",Nährstoffabgabe!J183)","v":0},{"$f":"IF(Nährstoffabgabe!K183=\"\",\"\",Nährstoffabgabe!K183)","v":0},{"$f":"IF(Nährstoffabgabe!L183=\"\",\"\",Nährstoffabgabe!L183)","v":0},{"$f":"IF(Nährstoffabgabe!M183=\"\",\"\",Nährstoffabgabe!M183)","v":0}]
[{"$f":"IF(Nährstoffabgabe!A184=\"\",\"\",Nährstoffabgabe!A184)","v":"Weizen, Brau, Winter 12 % RP in TM_Korn"},{"$f":"IF(Nährstoffabgabe!B184=\"\",\"\",Nährstoffabgabe!B184)","v":70},{"$f":"IF(Nährstoffabgabe!C184=\"\",\"\",Nährstoffabgabe!C184)","v":""},{"$f":"IF(Nährstoffabgabe!D184=\"\",\"\",Nährstoffabgabe!D184)","v":""},{"$f":"Nährstoffabgabe!E184","v":0},{"$f":"IF(Nährstoffabgabe!F184=\"\",\"\",Nährstoffabgabe!F184)","v":1.81},{"$f":"IF(Nährstoffabgabe!G184=\"\",\"\",Nährstoffabgabe!G184)","v":0.75},{"$f":"IF(Nährstoffabgabe!H184=\"\",\"\",Nährstoffabgabe!H184)","v":0.55000000000000004},{"$f":"IF(Nährstoffabgabe!I184=\"\",\"\",Nährstoffabgabe!I184)","v":0.2},{"$f":"IF(Nährstoffabgabe!J184=\"\",\"\",Nährstoffabgabe!J184)","v":0},{"$f":"IF(Nährstoffabgabe!K184=\"\",\"\",Nährstoffabgabe!K184)","v":0},{"$f":"IF(Nährstoffabgabe!L184=\"\",\"\",Nährstoffabgabe!L184)","v":0},{"$f":"IF(Nährstoffabgabe!M184=\"\",\"\",Nährstoffabgabe!M184)","v":0}]
[{"$f":"IF(Nährstoffabgabe!A185=\"\",\"\",Nährstoffabgabe!A185)","v":"Weizen, Brau, Winter 12 % RP in TM_Korn + Stroh (1: 0,8)"},{"$f":"IF(Nährstoffabgabe!B185=\"\",\"\",Nährstoffabgabe!B185)","v":70},{"$f":"IF(Nährstoffabgabe!C185=\"\",\"\",Nährstoffabgabe!C185)","v":""},{"$f":"IF(Nährstoffabgabe!D185=\"\",\"\",Nährstoffabgabe!D185)","v":""},{"$f":"Nährstoffabgabe!E185","v":0},{"$f":"IF(Nährstoffabgabe!F185=\"\",\"\",Nährstoffabgabe!F185)","v":2.21},{"$f":"IF(Nährstoffabgabe!G185=\"\",\"\",Nährstoffabgabe!G185)","v":0.99},{"$f":"IF(Nährstoffabgabe!H185=\"\",\"\",Nährstoffabgabe!H185)","v":1.67},{"$f":"IF(Nährstoffabgabe!I185=\"\",\"\",Nährstoffabgabe!I185)","v":0.36},{"$f":"IF(Nährstoffabgabe!J185=\"\",\"\",Nährstoffabgabe!J185)","v":0},{"$f":"IF(Nährstoffabgabe!K185=\"\",\"\",Nährstoffabgabe!K185)","v":0},{"$f":"IF(Nährstoffabgabe!L185=\"\",\"\",Nährstoffabgabe!L185)","v":0},{"$f":"IF(Nährstoffabgabe!M185=\"\",\"\",Nährstoffabgabe!M185)","v":0}]
[{"$f":"IF(Nährstoffabgabe!A186=\"\",\"\",Nährstoffabgabe!A186)","v":"Weizen, Brau, Winter 12 % RP in TM_Stroh"},{"$f":"IF(Nährstoffabgabe!B186=\"\",\"\",Nährstoffabgabe!B186)","v":56},{"$f":"IF(Nährstoffabgabe!C186=\"\",\"\",Nährstoffabgabe!C186)","v":""},{"$f":"IF(Nährstoffabgabe!D186=\"\",\"\",Nährstoffabgabe!D186)","v":""},{"$f":"Nährstoffabgabe!E186","v":0},{"$f":"IF(Nährstoffabgabe!F186=\"\",\"\",Nährstoffabgabe!F186)","v":0.5},{"$f":"IF(Nährstoffabgabe!G186=\"\",\"\",Nährstoffabgabe!G186)","v":0.3},{"$f":"IF(Nährstoffabgabe!H186=\"\",\"\",Nährstoffabgabe!H186)","v":1.4},{"$f":"IF(Nährstoffabgabe!I186=\"\",\"\",Nährstoffabgabe!I186)","v":0.2},{"$f":"IF(Nährstoffabgabe!J186=\"\",\"\",Nährstoffabgabe!J186)","v":0},{"$f":"IF(Nährstoffabgabe!K186=\"\",\"\",Nährstoffabgabe!K186)","v":0},{"$f":"IF(Nährstoffabgabe!L186=\"\",\"\",Nährstoffabgabe!L186)","v":0},{"$f":"IF(Nährstoffabgabe!M186=\"\",\"\",Nährstoffabgabe!M186)","v":0}]
[{"$f":"IF(Nährstoffabgabe!A187=\"\",\"\",Nährstoffabgabe!A187)","v":"Weizen, Sommer 14 % RP in TM_Korn"},{"$f":"IF(Nährstoffabgabe!B187=\"\",\"\",Nährstoffabgabe!B187)","v":70},{"$f":"IF(Nährstoffabgabe!C187=\"\",\"\",Nährstoffabgabe!C187)","v":""},{"$f":"IF(Nährstoffabgabe!D187=\"\",\"\",Nährstoffabgabe!D187)","v":""},{"$f":"Nährstoffabgabe!E187","v":0},{"$f":"IF(Nährstoffabgabe!F187=\"\",\"\",Nährstoffabgabe!F187)","v":2.11},{"$f":"IF(Nährstoffabgabe!G187=\"\",\"\",Nährstoffabgabe!G187)","v":0.75},{"$f":"IF(Nährstoffabgabe!H187=\"\",\"\",Nährstoffabgabe!H187)","v":0.55000000000000004},{"$f":"IF(Nährstoffabgabe!I187=\"\",\"\",Nährstoffabgabe!I187)","v":0.2},{"$f":"IF(Nährstoffabgabe!J187=\"\",\"\",Nährstoffabgabe!J187)","v":0},{"$f":"IF(Nährstoffabgabe!K187=\"\",\"\",Nährstoffabgabe!K187)","v":0},{"$f":"IF(Nährstoffabgabe!L187=\"\",\"\",Nährstoffabgabe!L187)","v":0},{"$f":"IF(Nährstoffabgabe!M187=\"\",\"\",Nährstoffabgabe!M187)","v":0}]
[{"$f":"IF(Nährstoffabgabe!A188=\"\",\"\",Nährstoffabgabe!A188)","v":"Weizen, Sommer 14 % RP in TM_Korn + Stroh (1: 0,8)"},{"$f":"IF(Nährstoffabgabe!B188=\"\",\"\",Nährstoffabgabe!B188)","v":70},{"$f":"IF(Nährstoffabgabe!C188=\"\",\"\",Nährstoffabgabe!C188)","v":""},{"$f":"IF(Nährstoffabgabe!D188=\"\",\"\",Nährstoffabgabe!D188)","v":""},{"$f":"Nährstoffabgabe!E188","v":0},{"$f":"IF(Nährstoffabgabe!F188=\"\",\"\",Nährstoffabgabe!F188)","v":2.5099999999999998},{"$f":"IF(Nährstoffabgabe!G188=\"\",\"\",Nährstoffabgabe!G188)","v":0.99},{"$f":"IF(Nährstoffabgabe!H188=\"\",\"\",Nährstoffabgabe!H188)","v":1.67},{"$f":"IF(Nährstoffabgabe!I188=\"\",\"\",Nährstoffabgabe!I188)","v":0.36},{"$f":"IF(Nährstoffabgabe!J188=\"\",\"\",Nährstoffabgabe!J188)","v":0},{"$f":"IF(Nährstoffabgabe!K188=\"\",\"\",Nährstoffabgabe!K188)","v":0},{"$f":"IF(Nährstoffabgabe!L188=\"\",\"\",Nährstoffabgabe!L188)","v":0},{"$f":"IF(Nährstoffabgabe!M188=\"\",\"\",Nährstoffabgabe!M188)","v":0}]
[{"$f":"IF(Nährstoffabgabe!A189=\"\",\"\",Nährstoffabgabe!A189)","v":"Weizen, Sommer 14 % RP in TM_Stroh"},{"$f":"IF(Nährstoffabgabe!B189=\"\",\"\",Nährstoffabgabe!B189)","v":56},{"$f":"IF(Nährstoffabgabe!C189=\"\",\"\",Nährstoffabgabe!C189)","v":""},{"$f":"IF(Nährstoffabgabe!D189=\"\",\"\",Nährstoffabgabe!D189)","v":""},{"$f":"Nährstoffabgabe!E189","v":0},{"$f":"IF(Nährstoffabgabe!F189=\"\",\"\",Nährstoffabgabe!F189)","v":0.5},{"$f":"IF(Nährstoffabgabe!G189=\"\",\"\",Nährstoffabgabe!G189)","v":0.3},{"$f":"IF(Nährstoffabgabe!H189=\"\",\"\",Nährstoffabgabe!H189)","v":1.4},{"$f":"IF(Nährstoffabgabe!I189=\"\",\"\",Nährstoffabgabe!I189)","v":0.2},{"$f":"IF(Nährstoffabgabe!J189=\"\",\"\",Nährstoffabgabe!J189)","v":0},{"$f":"IF(Nährstoffabgabe!K189=\"\",\"\",Nährstoffabgabe!K189)","v":0},{"$f":"IF(Nährstoffabgabe!L189=\"\",\"\",Nährstoffabgabe!L189)","v":0},{"$f":"IF(Nährstoffabgabe!M189=\"\",\"\",Nährstoffabgabe!M189)","v":0}]
[{"$f":"IF(Nährstoffabgabe!A190=\"\",\"\",Nährstoffabgabe!A190)","v":"Weizen, Winter 12 % RP in TM_Korn"},{"$f":"IF(Nährstoffabgabe!B190=\"\",\"\",Nährstoffabgabe!B190)","v":70},{"$f":"IF(Nährstoffabgabe!C190=\"\",\"\",Nährstoffabgabe!C190)","v":""},{"$f":"IF(Nährstoffabgabe!D190=\"\",\"\",Nährstoffabgabe!D190)","v":""},{"$f":"Nährstoffabgabe!E190","v":0},{"$f":"IF(Nährstoffabgabe!F190=\"\",\"\",Nährstoffabgabe!F190)","v":1.81},{"$f":"IF(Nährstoffabgabe!G190=\"\",\"\",Nährstoffabgabe!G190)","v":0.8},{"$f":"IF(Nährstoffabgabe!H190=\"\",\"\",Nährstoffabgabe!H190)","v":0.6},{"$f":"IF(Nährstoffabgabe!I190=\"\",\"\",Nährstoffabgabe!I190)","v":0.2},{"$f":"IF(Nährstoffabgabe!J190=\"\",\"\",Nährstoffabgabe!J190)","v":0},{"$f":"IF(Nährstoffabgabe!K190=\"\",\"\",Nährstoffabgabe!K190)","v":0},{"$f":"IF(Nährstoffabgabe!L190=\"\",\"\",Nährstoffabgabe!L190)","v":0},{"$f":"IF(Nährstoffabgabe!M190=\"\",\"\",Nährstoffabgabe!M190)","v":0}]
[{"$f":"IF(Nährstoffabgabe!A191=\"\",\"\",Nährstoffabgabe!A191)","v":"Weizen, Winter 12 % RP in TM_Korn + Stroh (1: 0,8)"},{"$f":"IF(Nährstoffabgabe!B191=\"\",\"\",Nährstoffabgabe!B191)","v":70},{"$f":"IF(Nährstoffabgabe!C191=\"\",\"\",Nährstoffabgabe!C191)","v":""},{"$f":"IF(Nährstoffabgabe!D191=\"\",\"\",Nährstoffabgabe!D191)","v":""},{"$f":"Nährstoffabgabe!E191","v":0},{"$f":"IF(Nährstoffabgabe!F191=\"\",\"\",Nährstoffabgabe!F191)","v":2.21},{"$f":"IF(Nährstoffabgabe!G191=\"\",\"\",Nährstoffabgabe!G191)","v":1.04},{"$f":"IF(Nährstoffabgabe!H191=\"\",\"\",Nährstoffabgabe!H191)","v":1.72},{"$f":"IF(Nährstoffabgabe!I191=\"\",\"\",Nährstoffabgabe!I191)","v":0.36},{"$f":"IF(Nährstoffabgabe!J191=\"\",\"\",Nährstoffabgabe!J191)","v":0},{"$f":"IF(Nährstoffabgabe!K191=\"\",\"\",Nährstoffabgabe!K191)","v":0},{"$f":"IF(Nährstoffabgabe!L191=\"\",\"\",Nährstoffabgabe!L191)","v":0},{"$f":"IF(Nährstoffabgabe!M191=\"\",\"\",Nährstoffabgabe!M191)","v":0}]
[{"$f":"IF(Nährstoffabgabe!A192=\"\",\"\",Nährstoffabgabe!A192)","v":"Weizen, Winter 12 % RP in TM_Stroh"},{"$f":"IF(Nährstoffabgabe!B192=\"\",\"\",Nährstoffabgabe!B192)","v":56},{"$f":"IF(Nährstoffabgabe!C192=\"\",\"\",Nährstoffabgabe!C192)","v":""},{"$f":"IF(Nährstoffabgabe!D192=\"\",\"\",Nährstoffabgabe!D192)","v":""},{"$f":"Nährstoffabgabe!E192","v":0},{"$f":"IF(Nährstoffabgabe!F192=\"\",\"\",Nährstoffabgabe!F192)","v":0.5},{"$f":"IF(Nährstoffabgabe!G192=\"\",\"\",Nährstoffabgabe!G192)","v":0.3},{"$f":"IF(Nährstoffabgabe!H192=\"\",\"\",Nährstoffabgabe!H192)","v":1.4},{"$f":"IF(Nährstoffabgabe!I192=\"\",\"\",Nährstoffabgabe!I192)","v":0.2},{"$f":"IF(Nährstoffabgabe!J192=\"\",\"\",Nährstoffabgabe!J192)","v":0},{"$f":"IF(Nährstoffabgabe!K192=\"\",\"\",Nährstoffabgabe!K192)","v":0},{"$f":"IF(Nährstoffabgabe!L192=\"\",\"\",Nährstoffabgabe!L192)","v":0},{"$f":"IF(Nährstoffabgabe!M192=\"\",\"\",Nährstoffabgabe!M192)","v":0}]
[{"$f":"IF(Nährstoffabgabe!A193=\"\",\"\",Nährstoffabgabe!A193)","v":"Weizen, Winter 14 % RP in TM_Korn"},{"$f":"IF(Nährstoffabgabe!B193=\"\",\"\",Nährstoffabgabe!B193)","v":70},{"$f":"IF(Nährstoffabgabe!C193=\"\",\"\",Nährstoffabgabe!C193)","v":""},{"$f":"IF(Nährstoffabgabe!D193=\"\",\"\",Nährstoffabgabe!D193)","v":""},{"$f":"Nährstoffabgabe!E193","v":0},{"$f":"IF(Nährstoffabgabe!F193=\"\",\"\",Nährstoffabgabe!F193)","v":2.11},{"$f":"IF(Nährstoffabgabe!G193=\"\",\"\",Nährstoffabgabe!G193)","v":0.8},{"$f":"IF(Nährstoffabgabe!H193=\"\",\"\",Nährstoffabgabe!H193)","v":0.6},{"$f":"IF(Nährstoffabgabe!I193=\"\",\"\",Nährstoffabgabe!I193)","v":0.2},{"$f":"IF(Nährstoffabgabe!J193=\"\",\"\",Nährstoffabgabe!J193)","v":0},{"$f":"IF(Nährstoffabgabe!K193=\"\",\"\",Nährstoffabgabe!K193)","v":0},{"$f":"IF(Nährstoffabgabe!L193=\"\",\"\",Nährstoffabgabe!L193)","v":0},{"$f":"IF(Nährstoffabgabe!M193=\"\",\"\",Nährstoffabgabe!M193)","v":0}]
[{"$f":"IF(Nährstoffabgabe!A194=\"\",\"\",Nährstoffabgabe!A194)","v":"Weizen, Winter 14 % RP in TM_Korn + Stroh (1: 0,8)"},{"$f":"IF(Nährstoffabgabe!B194=\"\",\"\",Nährstoffabgabe!B194)","v":70},{"$f":"IF(Nährstoffabgabe!C194=\"\",\"\",Nährstoffabgabe!C194)","v":""},{"$f":"IF(Nährstoffabgabe!D194=\"\",\"\",Nährstoffabgabe!D194)","v":""},{"$f":"Nährstoffabgabe!E194","v":0},{"$f":"IF(Nährstoffabgabe!F194=\"\",\"\",Nährstoffabgabe!F194)","v":2.5099999999999998},{"$f":"IF(Nährstoffabgabe!G194=\"\",\"\",Nährstoffabgabe!G194)","v":1.04},{"$f":"IF(Nährstoffabgabe!H194=\"\",\"\",Nährstoffabgabe!H194)","v":1.72},{"$f":"IF(Nährstoffabgabe!I194=\"\",\"\",Nährstoffabgabe!I194)","v":0.36},{"$f":"IF(Nährstoffabgabe!J194=\"\",\"\",Nährstoffabgabe!J194)","v":0},{"$f":"IF(Nährstoffabgabe!K194=\"\",\"\",Nährstoffabgabe!K194)","v":0},{"$f":"IF(Nährstoffabgabe!L194=\"\",\"\",Nährstoffabgabe!L194)","v":0},{"$f":"IF(Nährstoffabgabe!M194=\"\",\"\",Nährstoffabgabe!M194)","v":0}]
[{"$f":"IF(Nährstoffabgabe!A195=\"\",\"\",Nährstoffabgabe!A195)","v":"Weizen, Winter 14 % RP in TM_Stroh"},{"$f":"IF(Nährstoffabgabe!B195=\"\",\"\",Nährstoffabgabe!B195)","v":56},{"$f":"IF(Nährstoffabgabe!C195=\"\",\"\",Nährstoffabgabe!C195)","v":""},{"$f":"IF(Nährstoffabgabe!D195=\"\",\"\",Nährstoffabgabe!D195)","v":""},{"$f":"Nährstoffabgabe!E195","v":0},{"$f":"IF(Nährstoffabgabe!F195=\"\",\"\",Nährstoffabgabe!F195)","v":0.5},{"$f":"IF(Nährstoffabgabe!G195=\"\",\"\",Nährstoffabgabe!G195)","v":0.3},{"$f":"IF(Nährstoffabgabe!H195=\"\",\"\",Nährstoffabgabe!H195)","v":1.4},{"$f":"IF(Nährstoffabgabe!I195=\"\",\"\",Nährstoffabgabe!I195)","v":0.2},{"$f":"IF(Nährstoffabgabe!J195=\"\",\"\",Nährstoffabgabe!J195)","v":0},{"$f":"IF(Nährstoffabgabe!K195=\"\",\"\",Nährstoffabgabe!K195)","v":0},{"$f":"IF(Nährstoffabgabe!L195=\"\",\"\",Nährstoffabgabe!L195)","v":0},{"$f":"IF(Nährstoffabgabe!M195=\"\",\"\",Nährstoffabgabe!M195)","v":0}]
[{"$f":"IF(Nährstoffabgabe!A196=\"\",\"\",Nährstoffabgabe!A196)","v":"Weizen, Winter 16 % RP in TM_Korn"},{"$f":"IF(Nährstoffabgabe!B196=\"\",\"\",Nährstoffabgabe!B196)","v":70},{"$f":"IF(Nährstoffabgabe!C196=\"\",\"\",Nährstoffabgabe!C196)","v":""},{"$f":"IF(Nährstoffabgabe!D196=\"\",\"\",Nährstoffabgabe!D196)","v":""},{"$f":"Nährstoffabgabe!E196","v":0},{"$f":"IF(Nährstoffabgabe!F196=\"\",\"\",Nährstoffabgabe!F196)","v":2.41},{"$f":"IF(Nährstoffabgabe!G196=\"\",\"\",Nährstoffabgabe!G196)","v":0.8},{"$f":"IF(Nährstoffabgabe!H196=\"\",\"\",Nährstoffabgabe!H196)","v":0.6},{"$f":"IF(Nährstoffabgabe!I196=\"\",\"\",Nährstoffabgabe!I196)","v":0.2},{"$f":"IF(Nährstoffabgabe!J196=\"\",\"\",Nährstoffabgabe!J196)","v":0},{"$f":"IF(Nährstoffabgabe!K196=\"\",\"\",Nährstoffabgabe!K196)","v":0},{"$f":"IF(Nährstoffabgabe!L196=\"\",\"\",Nährstoffabgabe!L196)","v":0},{"$f":"IF(Nährstoffabgabe!M196=\"\",\"\",Nährstoffabgabe!M196)","v":0}]
[{"$f":"IF(Nährstoffabgabe!A197=\"\",\"\",Nährstoffabgabe!A197)","v":"Weizen, Winter 16 % RP in TM_Korn + Stroh (1: 0,8)"},{"$f":"IF(Nährstoffabgabe!B197=\"\",\"\",Nährstoffabgabe!B197)","v":70},{"$f":"IF(Nährstoffabgabe!C197=\"\",\"\",Nährstoffabgabe!C197)","v":""},{"$f":"IF(Nährstoffabgabe!D197=\"\",\"\",Nährstoffabgabe!D197)","v":""},{"$f":"Nährstoffabgabe!E197","v":0},{"$f":"IF(Nährstoffabgabe!F197=\"\",\"\",Nährstoffabgabe!F197)","v":2.81},{"$f":"IF(Nährstoffabgabe!G197=\"\",\"\",Nährstoffabgabe!G197)","v":1.04},{"$f":"IF(Nährstoffabgabe!H197=\"\",\"\",Nährstoffabgabe!H197)","v":1.72},{"$f":"IF(Nährstoffabgabe!I197=\"\",\"\",Nährstoffabgabe!I197)","v":0.36},{"$f":"IF(Nährstoffabgabe!J197=\"\",\"\",Nährstoffabgabe!J197)","v":0},{"$f":"IF(Nährstoffabgabe!K197=\"\",\"\",Nährstoffabgabe!K197)","v":0},{"$f":"IF(Nährstoffabgabe!L197=\"\",\"\",Nährstoffabgabe!L197)","v":0},{"$f":"IF(Nährstoffabgabe!M197=\"\",\"\",Nährstoffabgabe!M197)","v":0}]
[{"$f":"IF(Nährstoffabgabe!A198=\"\",\"\",Nährstoffabgabe!A198)","v":"Weizen, Winter 16 % RP in TM_Stroh"},{"$f":"IF(Nährstoffabgabe!B198=\"\",\"\",Nährstoffabgabe!B198)","v":56},{"$f":"IF(Nährstoffabgabe!C198=\"\",\"\",Nährstoffabgabe!C198)","v":""},{"$f":"IF(Nährstoffabgabe!D198=\"\",\"\",Nährstoffabgabe!D198)","v":""},{"$f":"Nährstoffabgabe!E198","v":0},{"$f":"IF(Nährstoffabgabe!F198=\"\",\"\",Nährstoffabgabe!F198)","v":0.5},{"$f":"IF(Nährstoffabgabe!G198=\"\",\"\",Nährstoffabgabe!G198)","v":0.3},{"$f":"IF(Nährstoffabgabe!H198=\"\",\"\",Nährstoffabgabe!H198)","v":1.4},{"$f":"IF(Nährstoffabgabe!I198=\"\",\"\",Nährstoffabgabe!I198)","v":0.2},{"$f":"IF(Nährstoffabgabe!J198=\"\",\"\",Nährstoffabgabe!J198)","v":0},{"$f":"IF(Nährstoffabgabe!K198=\"\",\"\",Nährstoffabgabe!K198)","v":0},{"$f":"IF(Nährstoffabgabe!L198=\"\",\"\",Nährstoffabgabe!L198)","v":0},{"$f":"IF(Nährstoffabgabe!M198=\"\",\"\",Nährstoffabgabe!M198)","v":0}]
[{"$f":"IF(Nährstoffabgabe!A199=\"\",\"\",Nährstoffabgabe!A199)","v":""},{"$f":"IF(Nährstoffabgabe!B199=\"\",\"\",Nährstoffabgabe!B199)","v":""},{"$f":"IF(Nährstoffabgabe!C199=\"\",\"\",Nährstoffabgabe!C199)","v":""},{"$f":"IF(Nährstoffabgabe!D199=\"\",\"\",Nährstoffabgabe!D199)","v":""},{"$f":"Nährstoffabgabe!E199","v":0},{"$f":"IF(Nährstoffabgabe!F199=\"\",\"\",Nährstoffabgabe!F199)","v":""},{"$f":"IF(Nährstoffabgabe!G199=\"\",\"\",Nährstoffabgabe!G199)","v":""},{"$f":"IF(Nährstoffabgabe!H199=\"\",\"\",Nährstoffabgabe!H199)","v":""},{"$f":"IF(Nährstoffabgabe!I199=\"\",\"\",Nährstoffabgabe!I199)","v":""},{"$f":"IF(Nährstoffabgabe!J199=\"\",\"\",Nährstoffabgabe!J199)","v":0},{"$f":"IF(Nährstoffabgabe!K199=\"\",\"\",Nährstoffabgabe!K199)","v":0},{"$f":"IF(Nährstoffabgabe!L199=\"\",\"\",Nährstoffabgabe!L199)","v":0},{"$f":"IF(Nährstoffabgabe!M199=\"\",\"\",Nährstoffabgabe!M199)","v":0}]
[{"$f":"IF(Nährstoffabgabe!A200=\"\",\"\",Nährstoffabgabe!A200)","v":""},{"$f":"IF(Nährstoffabgabe!B200=\"\",\"\",Nährstoffabgabe!B200)","v":""},{"$f":"IF(Nährstoffabgabe!C200=\"\",\"\",Nährstoffabgabe!C200)","v":""},{"$f":"IF(Nährstoffabgabe!D200=\"\",\"\",Nährstoffabgabe!D200)","v":""},{"$f":"Nährstoffabgabe!E200","v":0},{"$f":"IF(Nährstoffabgabe!F200=\"\",\"\",Nährstoffabgabe!F200)","v":""},{"$f":"IF(Nährstoffabgabe!G200=\"\",\"\",Nährstoffabgabe!G200)","v":""},{"$f":"IF(Nährstoffabgabe!H200=\"\",\"\",Nährstoffabgabe!H200)","v":""},{"$f":"IF(Nährstoffabgabe!I200=\"\",\"\",Nährstoffabgabe!I200)","v":""},{"$f":"IF(Nährstoffabgabe!J200=\"\",\"\",Nährstoffabgabe!J200)","v":0},{"$f":"IF(Nährstoffabgabe!K200=\"\",\"\",Nährstoffabgabe!K200)","v":0},{"$f":"IF(Nährstoffabgabe!L200=\"\",\"\",Nährstoffabgabe!L200)","v":0},{"$f":"IF(Nährstoffabgabe!M200=\"\",\"\",Nährstoffabgabe!M200)","v":0}]
[{"$f":"IF(Nährstoffabgabe!A201=\"\",\"\",Nährstoffabgabe!A201)","v":""},{"$f":"IF(Nährstoffabgabe!B201=\"\",\"\",Nährstoffabgabe!B201)","v":""},{"$f":"IF(Nährstoffabgabe!C201=\"\",\"\",Nährstoffabgabe!C201)","v":""},{"$f":"IF(Nährstoffabgabe!D201=\"\",\"\",Nährstoffabgabe!D201)","v":""},{"$f":"Nährstoffabgabe!E201","v":0},{"$f":"IF(Nährstoffabgabe!F201=\"\",\"\",Nährstoffabgabe!F201)","v":""},{"$f":"IF(Nährstoffabgabe!G201=\"\",\"\",Nährstoffabgabe!G201)","v":""},{"$f":"IF(Nährstoffabgabe!H201=\"\",\"\",Nährstoffabgabe!H201)","v":""},{"$f":"IF(Nährstoffabgabe!I201=\"\",\"\",Nährstoffabgabe!I201)","v":""},{"$f":"IF(Nährstoffabgabe!J201=\"\",\"\",Nährstoffabgabe!J201)","v":0},{"$f":"IF(Nährstoffabgabe!K201=\"\",\"\",Nährstoffabgabe!K201)","v":0},{"$f":"IF(Nährstoffabgabe!L201=\"\",\"\",Nährstoffabgabe!L201)","v":0},{"$f":"IF(Nährstoffabgabe!M201=\"\",\"\",Nährstoffabgabe!M201)","v":0}]
[{"$f":"IF(Nährstoffabgabe!A202=\"\",\"\",Nährstoffabgabe!A202)","v":""},{"$f":"IF(Nährstoffabgabe!B202=\"\",\"\",Nährstoffabgabe!B202)","v":""},{"$f":"IF(Nährstoffabgabe!C202=\"\",\"\",Nährstoffabgabe!C202)","v":""},{"$f":"IF(Nährstoffabgabe!D202=\"\",\"\",Nährstoffabgabe!D202)","v":""},{"$f":"Nährstoffabgabe!E202","v":0},{"$f":"IF(Nährstoffabgabe!F202=\"\",\"\",Nährstoffabgabe!F202)","v":""},{"$f":"IF(Nährstoffabgabe!G202=\"\",\"\",Nährstoffabgabe!G202)","v":""},{"$f":"IF(Nährstoffabgabe!H202=\"\",\"\",Nährstoffabgabe!H202)","v":""},{"$f":"IF(Nährstoffabgabe!I202=\"\",\"\",Nährstoffabgabe!I202)","v":""},{"$f":"IF(Nährstoffabgabe!J202=\"\",\"\",Nährstoffabgabe!J202)","v":0},{"$f":"IF(Nährstoffabgabe!K202=\"\",\"\",Nährstoffabgabe!K202)","v":0},{"$f":"IF(Nährstoffabgabe!L202=\"\",\"\",Nährstoffabgabe!L202)","v":0},{"$f":"IF(Nährstoffabgabe!M202=\"\",\"\",Nährstoffabgabe!M202)","v":0}]
[{"$f":"IF(Nährstoffabgabe!A203=\"\",\"\",Nährstoffabgabe!A203)","v":""},{"$f":"IF(Nährstoffabgabe!B203=\"\",\"\",Nährstoffabgabe!B203)","v":""},{"$f":"IF(Nährstoffabgabe!C203=\"\",\"\",Nährstoffabgabe!C203)","v":""},{"$f":"IF(Nährstoffabgabe!D203=\"\",\"\",Nährstoffabgabe!D203)","v":""},{"$f":"Nährstoffabgabe!E203","v":0},{"$f":"IF(Nährstoffabgabe!F203=\"\",\"\",Nährstoffabgabe!F203)","v":""},{"$f":"IF(Nährstoffabgabe!G203=\"\",\"\",Nährstoffabgabe!G203)","v":""},{"$f":"IF(Nährstoffabgabe!H203=\"\",\"\",Nährstoffabgabe!H203)","v":""},{"$f":"IF(Nährstoffabgabe!I203=\"\",\"\",Nährstoffabgabe!I203)","v":""},{"$f":"IF(Nährstoffabgabe!J203=\"\",\"\",Nährstoffabgabe!J203)","v":0},{"$f":"IF(Nährstoffabgabe!K203=\"\",\"\",Nährstoffabgabe!K203)","v":0},{"$f":"IF(Nährstoffabgabe!L203=\"\",\"\",Nährstoffabgabe!L203)","v":0},{"$f":"IF(Nährstoffabgabe!M203=\"\",\"\",Nährstoffabgabe!M203)","v":0}]
[{"$f":"IF(Nährstoffabgabe!A204=\"\",\"\",Nährstoffabgabe!A204)","v":""},{"$f":"IF(Nährstoffabgabe!B204=\"\",\"\",Nährstoffabgabe!B204)","v":""},{"$f":"IF(Nährstoffabgabe!C204=\"\",\"\",Nährstoffabgabe!C204)","v":""},{"$f":"IF(Nährstoffabgabe!D204=\"\",\"\",Nährstoffabgabe!D204)","v":""},{"$f":"Nährstoffabgabe!E204","v":0},{"$f":"IF(Nährstoffabgabe!F204=\"\",\"\",Nährstoffabgabe!F204)","v":""},{"$f":"IF(Nährstoffabgabe!G204=\"\",\"\",Nährstoffabgabe!G204)","v":""},{"$f":"IF(Nährstoffabgabe!H204=\"\",\"\",Nährstoffabgabe!H204)","v":""},{"$f":"IF(Nährstoffabgabe!I204=\"\",\"\",Nährstoffabgabe!I204)","v":""},{"$f":"IF(Nährstoffabgabe!J204=\"\",\"\",Nährstoffabgabe!J204)","v":0},{"$f":"IF(Nährstoffabgabe!K204=\"\",\"\",Nährstoffabgabe!K204)","v":0},{"$f":"IF(Nährstoffabgabe!L204=\"\",\"\",Nährstoffabgabe!L204)","v":0},{"$f":"IF(Nährstoffabgabe!M204=\"\",\"\",Nährstoffabgabe!M204)","v":0}]
[{"$f":"IF(Nährstoffabgabe!A205=\"\",\"\",Nährstoffabgabe!A205)","v":"Einjährige Körnerleguminosen"},{"$f":"IF(Nährstoffabgabe!B205=\"\",\"\",Nährstoffabgabe!B205)","v":""},{"$f":"IF(Nährstoffabgabe!C205=\"\",\"\",Nährstoffabgabe!C205)","v":""},{"$f":"IF(Nährstoffabgabe!D205=\"\",\"\",Nährstoffabgabe!D205)","v":""},{"$f":"Nährstoffabgabe!E205","v":0},{"$f":"IF(Nährstoffabgabe!F205=\"\",\"\",Nährstoffabgabe!F205)","v":""},{"$f":"IF(Nährstoffabgabe!G205=\"\",\"\",Nährstoffabgabe!G205)","v":""},{"$f":"IF(Nährstoffabgabe!H205=\"\",\"\",Nährstoffabgabe!H205)","v":""},{"$f":"IF(Nährstoffabgabe!I205=\"\",\"\",Nährstoffabgabe!I205)","v":""},{"$f":"IF(Nährstoffabgabe!J205=\"\",\"\",Nährstoffabgabe!J205)","v":""},{"$f":"IF(Nährstoffabgabe!K205=\"\",\"\",Nährstoffabgabe!K205)","v":""},{"$f":"IF(Nährstoffabgabe!L205=\"\",\"\",Nährstoffabgabe!L205)","v":""},{"$f":"IF(Nährstoffabgabe!M205=\"\",\"\",Nährstoffabgabe!M205)","v":""}]
[{"$f":"IF(Nährstoffabgabe!A206=\"\",\"\",Nährstoffabgabe!A206)","v":"Ackerbohnen 30 % RP in TM_Korn"},{"$f":"IF(Nährstoffabgabe!B206=\"\",\"\",Nährstoffabgabe!B206)","v":35},{"$f":"IF(Nährstoffabgabe!C206=\"\",\"\",Nährstoffabgabe!C206)","v":""},{"$f":"IF(Nährstoffabgabe!D206=\"\",\"\",Nährstoffabgabe!D206)","v":""},{"$f":"Nährstoffabgabe!E206","v":0},{"$f":"IF(Nährstoffabgabe!F206=\"\",\"\",Nährstoffabgabe!F206)","v":4.0999999999999996},{"$f":"IF(Nährstoffabgabe!G206=\"\",\"\",Nährstoffabgabe!G206)","v":1.2},{"$f":"IF(Nährstoffabgabe!H206=\"\",\"\",Nährstoffabgabe!H206)","v":1.4},{"$f":"IF(Nährstoffabgabe!I206=\"\",\"\",Nährstoffabgabe!I206)","v":0.2},{"$f":"IF(Nährstoffabgabe!J206=\"\",\"\",Nährstoffabgabe!J206)","v":0},{"$f":"IF(Nährstoffabgabe!K206=\"\",\"\",Nährstoffabgabe!K206)","v":0},{"$f":"IF(Nährstoffabgabe!L206=\"\",\"\",Nährstoffabgabe!L206)","v":0},{"$f":"IF(Nährstoffabgabe!M206=\"\",\"\",Nährstoffabgabe!M206)","v":0}]
[{"$f":"IF(Nährstoffabgabe!A207=\"\",\"\",Nährstoffabgabe!A207)","v":"Ackerbohnen 30 % RP in TM_Korn + Stroh (1: 1)"},{"$f":"IF(Nährstoffabgabe!B207=\"\",\"\",Nährstoffabgabe!B207)","v":35},{"$f":"IF(Nährstoffabgabe!C207=\"\",\"\",Nährstoffabgabe!C207)","v":""},{"$f":"IF(Nährstoffabgabe!D207=\"\",\"\",Nährstoffabgabe!D207)","v":""},{"$f":"Nährstoffabgabe!E207","v":0},{"$f":"IF(Nährstoffabgabe!F207=\"\",\"\",Nährstoffabgabe!F207)","v":5.6},{"$f":"IF(Nährstoffabgabe!G207=\"\",\"\",Nährstoffabgabe!G207)","v":1.5},{"$f":"IF(Nährstoffabgabe!H207=\"\",\"\",Nährstoffabgabe!H207)","v":4},{"$f":"IF(Nährstoffabgabe!I207=\"\",\"\",Nährstoffabgabe!I207)","v":0.5},{"$f":"IF(Nährstoffabgabe!J207=\"\",\"\",Nährstoffabgabe!J207)","v":0},{"$f":"IF(Nährstoffabgabe!K207=\"\",\"\",Nährstoffabgabe!K207)","v":0},{"$f":"IF(Nährstoffabgabe!L207=\"\",\"\",Nährstoffabgabe!L207)","v":0},{"$f":"IF(Nährstoffabgabe!M207=\"\",\"\",Nährstoffabgabe!M207)","v":0}]
[{"$f":"IF(Nährstoffabgabe!A208=\"\",\"\",Nährstoffabgabe!A208)","v":"Ackerbohnen 30 % RP in TM_Stroh"},{"$f":"IF(Nährstoffabgabe!B208=\"\",\"\",Nährstoffabgabe!B208)","v":35},{"$f":"IF(Nährstoffabgabe!C208=\"\",\"\",Nährstoffabgabe!C208)","v":""},{"$f":"IF(Nährstoffabgabe!D208=\"\",\"\",Nährstoffabgabe!D208)","v":""},{"$f":"Nährstoffabgabe!E208","v":0},{"$f":"IF(Nährstoffabgabe!F208=\"\",\"\",Nährstoffabgabe!F208)","v":1.5},{"$f":"IF(Nährstoffabgabe!G208=\"\",\"\",Nährstoffabgabe!G208)","v":0.3},{"$f":"IF(Nährstoffabgabe!H208=\"\",\"\",Nährstoffabgabe!H208)","v":2.6},{"$f":"IF(Nährstoffabgabe!I208=\"\",\"\",Nährstoffabgabe!I208)","v":0.3},{"$f":"IF(Nährstoffabgabe!J208=\"\",\"\",Nährstoffabgabe!J208)","v":0},{"$f":"IF(Nährstoffabgabe!K208=\"\",\"\",Nährstoffabgabe!K208)","v":0},{"$f":"IF(Nährstoffabgabe!L208=\"\",\"\",Nährstoffabgabe!L208)","v":0},{"$f":"IF(Nährstoffabgabe!M208=\"\",\"\",Nährstoffabgabe!M208)","v":0}]
[{"$f":"IF(Nährstoffabgabe!A209=\"\",\"\",Nährstoffabgabe!A209)","v":"Erbsen 26 % RP in TM_Korn"},{"$f":"IF(Nährstoffabgabe!B209=\"\",\"\",Nährstoffabgabe!B209)","v":35},{"$f":"IF(Nährstoffabgabe!C209=\"\",\"\",Nährstoffabgabe!C209)","v":""},{"$f":"IF(Nährstoffabgabe!D209=\"\",\"\",Nährstoffabgabe!D209)","v":""},{"$f":"Nährstoffabgabe!E209","v":0},{"$f":"IF(Nährstoffabgabe!F209=\"\",\"\",Nährstoffabgabe!F209)","v":3.6},{"$f":"IF(Nährstoffabgabe!G209=\"\",\"\",Nährstoffabgabe!G209)","v":1.1000000000000001},{"$f":"IF(Nährstoffabgabe!H209=\"\",\"\",Nährstoffabgabe!H209)","v":1.4},{"$f":"IF(Nährstoffabgabe!I209=\"\",\"\",Nährstoffabgabe!I209)","v":0.2},{"$f":"IF(Nährstoffabgabe!J209=\"\",\"\",Nährstoffabgabe!J209)","v":0},{"$f":"IF(Nährstoffabgabe!K209=\"\",\"\",Nährstoffabgabe!K209)","v":0},{"$f":"IF(Nährstoffabgabe!L209=\"\",\"\",Nährstoffabgabe!L209)","v":0},{"$f":"IF(Nährstoffabgabe!M209=\"\",\"\",Nährstoffabgabe!M209)","v":0}]
[{"$f":"IF(Nährstoffabgabe!A210=\"\",\"\",Nährstoffabgabe!A210)","v":"Erbsen 26 % RP in TM_Korn + Stroh (1: 1)"},{"$f":"IF(Nährstoffabgabe!B210=\"\",\"\",Nährstoffabgabe!B210)","v":35},{"$f":"IF(Nährstoffabgabe!C210=\"\",\"\",Nährstoffabgabe!C210)","v":""},{"$f":"IF(Nährstoffabgabe!D210=\"\",\"\",Nährstoffabgabe!D210)","v":""},{"$f":"Nährstoffabgabe!E210","v":0},{"$f":"IF(Nährstoffabgabe!F210=\"\",\"\",Nährstoffabgabe!F210)","v":5.0999999999999996},{"$f":"IF(Nährstoffabgabe!G210=\"\",\"\",Nährstoffabgabe!G210)","v":1.4},{"$f":"IF(Nährstoffabgabe!H210=\"\",\"\",Nährstoffabgabe!H210)","v":4},{"$f":"IF(Nährstoffabgabe!I210=\"\",\"\",Nährstoffabgabe!I210)","v":0.5},{"$f":"IF(Nährstoffabgabe!J210=\"\",\"\",Nährstoffabgabe!J210)","v":0},{"$f":"IF(Nährstoffabgabe!K210=\"\",\"\",Nährstoffabgabe!K210)","v":0},{"$f":"IF(Nährstoffabgabe!L210=\"\",\"\",Nährstoffabgabe!L210)","v":0},{"$f":"IF(Nährstoffabgabe!M210=\"\",\"\",Nährstoffabgabe!M210)","v":0}]
[{"$f":"IF(Nährstoffabgabe!A211=\"\",\"\",Nährstoffabgabe!A211)","v":"Erbsen 26 % RP in TM_Stroh"},{"$f":"IF(Nährstoffabgabe!B211=\"\",\"\",Nährstoffabgabe!B211)","v":35},{"$f":"IF(Nährstoffabgabe!C211=\"\",\"\",Nährstoffabgabe!C211)","v":""},{"$f":"IF(Nährstoffabgabe!D211=\"\",\"\",Nährstoffabgabe!D211)","v":""},{"$f":"Nährstoffabgabe!E211","v":0},{"$f":"IF(Nährstoffabgabe!F211=\"\",\"\",Nährstoffabgabe!F211)","v":1.5},{"$f":"IF(Nährstoffabgabe!G211=\"\",\"\",Nährstoffabgabe!G211)","v":0.3},{"$f":"IF(Nährstoffabgabe!H211=\"\",\"\",Nährstoffabgabe!H211)","v":2.6},{"$f":"IF(Nährstoffabgabe!I211=\"\",\"\",Nährstoffabgabe!I211)","v":0.3},{"$f":"IF(Nährstoffabgabe!J211=\"\",\"\",Nährstoffabgabe!J211)","v":0},{"$f":"IF(Nährstoffabgabe!K211=\"\",\"\",Nährstoffabgabe!K211)","v":0},{"$f":"IF(Nährstoffabgabe!L211=\"\",\"\",Nährstoffabgabe!L211)","v":0},{"$f":"IF(Nährstoffabgabe!M211=\"\",\"\",Nährstoffabgabe!M211)","v":0}]
[{"$f":"IF(Nährstoffabgabe!A212=\"\",\"\",Nährstoffabgabe!A212)","v":"Lupine blau 33 % RP in TM_Korn"},{"$f":"IF(Nährstoffabgabe!B212=\"\",\"\",Nährstoffabgabe!B212)","v":30},{"$f":"IF(Nährstoffabgabe!C212=\"\",\"\",Nährstoffabgabe!C212)","v":""},{"$f":"IF(Nährstoffabgabe!D212=\"\",\"\",Nährstoffabgabe!D212)","v":""},{"$f":"Nährstoffabgabe!E212","v":0},{"$f":"IF(Nährstoffabgabe!F212=\"\",\"\",Nährstoffabgabe!F212)","v":4.4800000000000004},{"$f":"IF(Nährstoffabgabe!G212=\"\",\"\",Nährstoffabgabe!G212)","v":1.02},{"$f":"IF(Nährstoffabgabe!H212=\"\",\"\",Nährstoffabgabe!H212)","v":0.99},{"$f":"IF(Nährstoffabgabe!I212=\"\",\"\",Nährstoffabgabe!I212)","v":0.2},{"$f":"IF(Nährstoffabgabe!J212=\"\",\"\",Nährstoffabgabe!J212)","v":0},{"$f":"IF(Nährstoffabgabe!K212=\"\",\"\",Nährstoffabgabe!K212)","v":0},{"$f":"IF(Nährstoffabgabe!L212=\"\",\"\",Nährstoffabgabe!L212)","v":0},{"$f":"IF(Nährstoffabgabe!M212=\"\",\"\",Nährstoffabgabe!M212)","v":0}]
[{"$f":"IF(Nährstoffabgabe!A213=\"\",\"\",Nährstoffabgabe!A213)","v":"Lupine blau 33 % RP in TM_Korn + Stroh (1: 1)"},{"$f":"IF(Nährstoffabgabe!B213=\"\",\"\",Nährstoffabgabe!B213)","v":30},{"$f":"IF(Nährstoffabgabe!C213=\"\",\"\",Nährstoffabgabe!C213)","v":""},{"$f":"IF(Nährstoffabgabe!D213=\"\",\"\",Nährstoffabgabe!D213)","v":""},{"$f":"Nährstoffabgabe!E213","v":0},{"$f":"IF(Nährstoffabgabe!F213=\"\",\"\",Nährstoffabgabe!F213)","v":5.98},{"$f":"IF(Nährstoffabgabe!G213=\"\",\"\",Nährstoffabgabe!G213)","v":1.32},{"$f":"IF(Nährstoffabgabe!H213=\"\",\"\",Nährstoffabgabe!H213)","v":3.59},{"$f":"IF(Nährstoffabgabe!I213=\"\",\"\",Nährstoffabgabe!I213)","v":0.5},{"$f":"IF(Nährstoffabgabe!J213=\"\",\"\",Nährstoffabgabe!J213)","v":0},{"$f":"IF(Nährstoffabgabe!K213=\"\",\"\",Nährstoffabgabe!K213)","v":0},{"$f":"IF(Nährstoffabgabe!L213=\"\",\"\",Nährstoffabgabe!L213)","v":0},{"$f":"IF(Nährstoffabgabe!M213=\"\",\"\",Nährstoffabgabe!M213)","v":0}]
[{"$f":"IF(Nährstoffabgabe!A214=\"\",\"\",Nährstoffabgabe!A214)","v":"Lupine blau 33 % RP in TM_Stroh"},{"$f":"IF(Nährstoffabgabe!B214=\"\",\"\",Nährstoffabgabe!B214)","v":30},{"$f":"IF(Nährstoffabgabe!C214=\"\",\"\",Nährstoffabgabe!C214)","v":""},{"$f":"IF(Nährstoffabgabe!D214=\"\",\"\",Nährstoffabgabe!D214)","v":""},{"$f":"Nährstoffabgabe!E214","v":0},{"$f":"IF(Nährstoffabgabe!F214=\"\",\"\",Nährstoffabgabe!F214)","v":1.5},{"$f":"IF(Nährstoffabgabe!G214=\"\",\"\",Nährstoffabgabe!G214)","v":0.3},{"$f":"IF(Nährstoffabgabe!H214=\"\",\"\",Nährstoffabgabe!H214)","v":2.6},{"$f":"IF(Nährstoffabgabe!I214=\"\",\"\",Nährstoffabgabe!I214)","v":0.3},{"$f":"IF(Nährstoffabgabe!J214=\"\",\"\",Nährstoffabgabe!J214)","v":0},{"$f":"IF(Nährstoffabgabe!K214=\"\",\"\",Nährstoffabgabe!K214)","v":0},{"$f":"IF(Nährstoffabgabe!L214=\"\",\"\",Nährstoffabgabe!L214)","v":0},{"$f":"IF(Nährstoffabgabe!M214=\"\",\"\",Nährstoffabgabe!M214)","v":0}]
[{"$f":"IF(Nährstoffabgabe!A215=\"\",\"\",Nährstoffabgabe!A215)","v":"Sojabohne 32 % RP in TM_Korn"},{"$f":"IF(Nährstoffabgabe!B215=\"\",\"\",Nährstoffabgabe!B215)","v":20},{"$f":"IF(Nährstoffabgabe!C215=\"\",\"\",Nährstoffabgabe!C215)","v":""},{"$f":"IF(Nährstoffabgabe!D215=\"\",\"\",Nährstoffabgabe!D215)","v":""},{"$f":"Nährstoffabgabe!E215","v":0},{"$f":"IF(Nährstoffabgabe!F215=\"\",\"\",Nährstoffabgabe!F215)","v":4.4000000000000004},{"$f":"IF(Nährstoffabgabe!G215=\"\",\"\",Nährstoffabgabe!G215)","v":1.1000000000000001},{"$f":"IF(Nährstoffabgabe!H215=\"\",\"\",Nährstoffabgabe!H215)","v":1.4},{"$f":"IF(Nährstoffabgabe!I215=\"\",\"\",Nährstoffabgabe!I215)","v":0.33},{"$f":"IF(Nährstoffabgabe!J215=\"\",\"\",Nährstoffabgabe!J215)","v":0},{"$f":"IF(Nährstoffabgabe!K215=\"\",\"\",Nährstoffabgabe!K215)","v":0},{"$f":"IF(Nährstoffabgabe!L215=\"\",\"\",Nährstoffabgabe!L215)","v":0},{"$f":"IF(Nährstoffabgabe!M215=\"\",\"\",Nährstoffabgabe!M215)","v":0}]
[{"$f":"IF(Nährstoffabgabe!A216=\"\",\"\",Nährstoffabgabe!A216)","v":"Sojabohne 32 % RP in TM_Korn + Stroh (1: 1)"},{"$f":"IF(Nährstoffabgabe!B216=\"\",\"\",Nährstoffabgabe!B216)","v":20},{"$f":"IF(Nährstoffabgabe!C216=\"\",\"\",Nährstoffabgabe!C216)","v":""},{"$f":"IF(Nährstoffabgabe!D216=\"\",\"\",Nährstoffabgabe!D216)","v":""},{"$f":"Nährstoffabgabe!E216","v":0},{"$f":"IF(Nährstoffabgabe!F216=\"\",\"\",Nährstoffabgabe!F216)","v":5.9},{"$f":"IF(Nährstoffabgabe!G216=\"\",\"\",Nährstoffabgabe!G216)","v":1.4},{"$f":"IF(Nährstoffabgabe!H216=\"\",\"\",Nährstoffabgabe!H216)","v":4},{"$f":"IF(Nährstoffabgabe!I216=\"\",\"\",Nährstoffabgabe!I216)","v":0.63},{"$f":"IF(Nährstoffabgabe!J216=\"\",\"\",Nährstoffabgabe!J216)","v":0},{"$f":"IF(Nährstoffabgabe!K216=\"\",\"\",Nährstoffabgabe!K216)","v":0},{"$f":"IF(Nährstoffabgabe!L216=\"\",\"\",Nährstoffabgabe!L216)","v":0},{"$f":"IF(Nährstoffabgabe!M216=\"\",\"\",Nährstoffabgabe!M216)","v":0}]
[{"$f":"IF(Nährstoffabgabe!A217=\"\",\"\",Nährstoffabgabe!A217)","v":"Sojabohne 32 % RP in TM_Stroh"},{"$f":"IF(Nährstoffabgabe!B217=\"\",\"\",Nährstoffabgabe!B217)","v":20},{"$f":"IF(Nährstoffabgabe!C217=\"\",\"\",Nährstoffabgabe!C217)","v":""},{"$f":"IF(Nährstoffabgabe!D217=\"\",\"\",Nährstoffabgabe!D217)","v":""},{"$f":"Nährstoffabgabe!E217","v":0},{"$f":"IF(Nährstoffabgabe!F217=\"\",\"\",Nährstoffabgabe!F217)","v":1.5},{"$f":"IF(Nährstoffabgabe!G217=\"\",\"\",Nährstoffabgabe!G217)","v":0.3},{"$f":"IF(Nährstoffabgabe!H217=\"\",\"\",Nährstoffabgabe!H217)","v":2.6},{"$f":"IF(Nährstoffabgabe!I217=\"\",\"\",Nährstoffabgabe!I217)","v":0.3},{"$f":"IF(Nährstoffabgabe!J217=\"\",\"\",Nährstoffabgabe!J217)","v":0},{"$f":"IF(Nährstoffabgabe!K217=\"\",\"\",Nährstoffabgabe!K217)","v":0},{"$f":"IF(Nährstoffabgabe!L217=\"\",\"\",Nährstoffabgabe!L217)","v":0},{"$f":"IF(Nährstoffabgabe!M217=\"\",\"\",Nährstoffabgabe!M217)","v":0}]
[{"$f":"IF(Nährstoffabgabe!A218=\"\",\"\",Nährstoffabgabe!A218)","v":"Ölfrüchte"},{"$f":"IF(Nährstoffabgabe!B218=\"\",\"\",Nährstoffabgabe!B218)","v":""},{"$f":"IF(Nährstoffabgabe!C218=\"\",\"\",Nährstoffabgabe!C218)","v":""},{"$f":"IF(Nährstoffabgabe!D218=\"\",\"\",Nährstoffabgabe!D218)","v":""},{"$f":"Nährstoffabgabe!E218","v":0},{"$f":"IF(Nährstoffabgabe!F218=\"\",\"\",Nährstoffabgabe!F218)","v":""},{"$f":"IF(Nährstoffabgabe!G218=\"\",\"\",Nährstoffabgabe!G218)","v":""},{"$f":"IF(Nährstoffabgabe!H218=\"\",\"\",Nährstoffabgabe!H218)","v":""},{"$f":"IF(Nährstoffabgabe!I218=\"\",\"\",Nährstoffabgabe!I218)","v":""},{"$f":"IF(Nährstoffabgabe!J218=\"\",\"\",Nährstoffabgabe!J218)","v":""},{"$f":"IF(Nährstoffabgabe!K218=\"\",\"\",Nährstoffabgabe!K218)","v":""},{"$f":"IF(Nährstoffabgabe!L218=\"\",\"\",Nährstoffabgabe!L218)","v":""},{"$f":"IF(Nährstoffabgabe!M218=\"\",\"\",Nährstoffabgabe!M218)","v":""}]
[{"$f":"IF(Nährstoffabgabe!A219=\"\",\"\",Nährstoffabgabe!A219)","v":"Raps 23 % RP in TM_Korn (91 % TM)"},{"$f":"IF(Nährstoffabgabe!B219=\"\",\"\",Nährstoffabgabe!B219)","v":30},{"$f":"IF(Nährstoffabgabe!C219=\"\",\"\",Nährstoffabgabe!C219)","v":""},{"$f":"IF(Nährstoffabgabe!D219=\"\",\"\",Nährstoffabgabe!D219)","v":""},{"$f":"Nährstoffabgabe!E219","v":0},{"$f":"IF(Nährstoffabgabe!F219=\"\",\"\",Nährstoffabgabe!F219)","v":3.35},{"$f":"IF(Nährstoffabgabe!G219=\"\",\"\",Nährstoffabgabe!G219)","v":1.8},{"$f":"IF(Nährstoffabgabe!H219=\"\",\"\",Nährstoffabgabe!H219)","v":1},{"$f":"IF(Nährstoffabgabe!I219=\"\",\"\",Nährstoffabgabe!I219)","v":0.5},{"$f":"IF(Nährstoffabgabe!J219=\"\",\"\",Nährstoffabgabe!J219)","v":0},{"$f":"IF(Nährstoffabgabe!K219=\"\",\"\",Nährstoffabgabe!K219)","v":0},{"$f":"IF(Nährstoffabgabe!L219=\"\",\"\",Nährstoffabgabe!L219)","v":0},{"$f":"IF(Nährstoffabgabe!M219=\"\",\"\",Nährstoffabgabe!M219)","v":0}]
[{"$f":"IF(Nährstoffabgabe!A220=\"\",\"\",Nährstoffabgabe!A220)","v":"Raps 23 % RP in TM_Korn + Stroh (1: 1,7)"},{"$f":"IF(Nährstoffabgabe!B220=\"\",\"\",Nährstoffabgabe!B220)","v":30},{"$f":"IF(Nährstoffabgabe!C220=\"\",\"\",Nährstoffabgabe!C220)","v":""},{"$f":"IF(Nährstoffabgabe!D220=\"\",\"\",Nährstoffabgabe!D220)","v":""},{"$f":"Nährstoffabgabe!E220","v":0},{"$f":"IF(Nährstoffabgabe!F220=\"\",\"\",Nährstoffabgabe!F220)","v":4.54},{"$f":"IF(Nährstoffabgabe!G220=\"\",\"\",Nährstoffabgabe!G220)","v":2.48},{"$f":"IF(Nährstoffabgabe!H220=\"\",\"\",Nährstoffabgabe!H220)","v":5},{"$f":"IF(Nährstoffabgabe!I220=\"\",\"\",Nährstoffabgabe!I220)","v":1.2},{"$f":"IF(Nährstoffabgabe!J220=\"\",\"\",Nährstoffabgabe!J220)","v":0},{"$f":"IF(Nährstoffabgabe!K220=\"\",\"\",Nährstoffabgabe!K220)","v":0},{"$f":"IF(Nährstoffabgabe!L220=\"\",\"\",Nährstoffabgabe!L220)","v":0},{"$f":"IF(Nährstoffabgabe!M220=\"\",\"\",Nährstoffabgabe!M220)","v":0}]
[{"$f":"IF(Nährstoffabgabe!A221=\"\",\"\",Nährstoffabgabe!A221)","v":"Raps 23 % RP in TM_Stroh (86 % TM)"},{"$f":"IF(Nährstoffabgabe!B221=\"\",\"\",Nährstoffabgabe!B221)","v":51},{"$f":"IF(Nährstoffabgabe!C221=\"\",\"\",Nährstoffabgabe!C221)","v":""},{"$f":"IF(Nährstoffabgabe!D221=\"\",\"\",Nährstoffabgabe!D221)","v":""},{"$f":"Nährstoffabgabe!E221","v":0},{"$f":"IF(Nährstoffabgabe!F221=\"\",\"\",Nährstoffabgabe!F221)","v":0.7},{"$f":"IF(Nährstoffabgabe!G221=\"\",\"\",Nährstoffabgabe!G221)","v":0.4},{"$f":"IF(Nährstoffabgabe!H221=\"\",\"\",Nährstoffabgabe!H221)","v":2.35},{"$f":"IF(Nährstoffabgabe!I221=\"\",\"\",Nährstoffabgabe!I221)","v":0.41},{"$f":"IF(Nährstoffabgabe!J221=\"\",\"\",Nährstoffabgabe!J221)","v":0},{"$f":"IF(Nährstoffabgabe!K221=\"\",\"\",Nährstoffabgabe!K221)","v":0},{"$f":"IF(Nährstoffabgabe!L221=\"\",\"\",Nährstoffabgabe!L221)","v":0},{"$f":"IF(Nährstoffabgabe!M221=\"\",\"\",Nährstoffabgabe!M221)","v":0}]
[{"$f":"IF(Nährstoffabgabe!A222=\"\",\"\",Nährstoffabgabe!A222)","v":"Sonnenblumen 20 % RP in TM_Korn (91 % TM)"},{"$f":"IF(Nährstoffabgabe!B222=\"\",\"\",Nährstoffabgabe!B222)","v":30},{"$f":"IF(Nährstoffabgabe!C222=\"\",\"\",Nährstoffabgabe!C222)","v":""},{"$f":"IF(Nährstoffabgabe!D222=\"\",\"\",Nährstoffabgabe!D222)","v":""},{"$f":"Nährstoffabgabe!E222","v":0},{"$f":"IF(Nährstoffabgabe!F222=\"\",\"\",Nährstoffabgabe!F222)","v":2.91},{"$f":"IF(Nährstoffabgabe!G222=\"\",\"\",Nährstoffabgabe!G222)","v":1.6},{"$f":"IF(Nährstoffabgabe!H222=\"\",\"\",Nährstoffabgabe!H222)","v":2.4},{"$f":"IF(Nährstoffabgabe!I222=\"\",\"\",Nährstoffabgabe!I222)","v":0.6},{"$f":"IF(Nährstoffabgabe!J222=\"\",\"\",Nährstoffabgabe!J222)","v":0},{"$f":"IF(Nährstoffabgabe!K222=\"\",\"\",Nährstoffabgabe!K222)","v":0},{"$f":"IF(Nährstoffabgabe!L222=\"\",\"\",Nährstoffabgabe!L222)","v":0},{"$f":"IF(Nährstoffabgabe!M222=\"\",\"\",Nährstoffabgabe!M222)","v":0}]
[{"$f":"IF(Nährstoffabgabe!A223=\"\",\"\",Nährstoffabgabe!A223)","v":"Sonnenblumen 20 % RP in TM_Korn + Stroh (1: 2)"},{"$f":"IF(Nährstoffabgabe!B223=\"\",\"\",Nährstoffabgabe!B223)","v":30},{"$f":"IF(Nährstoffabgabe!C223=\"\",\"\",Nährstoffabgabe!C223)","v":""},{"$f":"IF(Nährstoffabgabe!D223=\"\",\"\",Nährstoffabgabe!D223)","v":""},{"$f":"Nährstoffabgabe!E223","v":0},{"$f":"IF(Nährstoffabgabe!F223=\"\",\"\",Nährstoffabgabe!F223)","v":4.91},{"$f":"IF(Nährstoffabgabe!G223=\"\",\"\",Nährstoffabgabe!G223)","v":3.4},{"$f":"IF(Nährstoffabgabe!H223=\"\",\"\",Nährstoffabgabe!H223)","v":11.4},{"$f":"IF(Nährstoffabgabe!I223=\"\",\"\",Nährstoffabgabe!I223)","v":1.2},{"$f":"IF(Nährstoffabgabe!J223=\"\",\"\",Nährstoffabgabe!J223)","v":0},{"$f":"IF(Nährstoffabgabe!K223=\"\",\"\",Nährstoffabgabe!K223)","v":0},{"$f":"IF(Nährstoffabgabe!L223=\"\",\"\",Nährstoffabgabe!L223)","v":0},{"$f":"IF(Nährstoffabgabe!M223=\"\",\"\",Nährstoffabgabe!M223)","v":0}]
[{"$f":"IF(Nährstoffabgabe!A224=\"\",\"\",Nährstoffabgabe!A224)","v":"Sonnenblumen 20 % RP in TM_Stroh (86 % TM)"},{"$f":"IF(Nährstoffabgabe!B224=\"\",\"\",Nährstoffabgabe!B224)","v":60},{"$f":"IF(Nährstoffabgabe!C224=\"\",\"\",Nährstoffabgabe!C224)","v":""},{"$f":"IF(Nährstoffabgabe!D224=\"\",\"\",Nährstoffabgabe!D224)","v":""},{"$f":"Nährstoffabgabe!E224","v":0},{"$f":"IF(Nährstoffabgabe!F224=\"\",\"\",Nährstoffabgabe!F224)","v":1},{"$f":"IF(Nährstoffabgabe!G224=\"\",\"\",Nährstoffabgabe!G224)","v":0.9},{"$f":"IF(Nährstoffabgabe!H224=\"\",\"\",Nährstoffabgabe!H224)","v":4.5},{"$f":"IF(Nährstoffabgabe!I224=\"\",\"\",Nährstoffabgabe!I224)","v":0.3},{"$f":"IF(Nährstoffabgabe!J224=\"\",\"\",Nährstoffabgabe!J224)","v":0},{"$f":"IF(Nährstoffabgabe!K224=\"\",\"\",Nährstoffabgabe!K224)","v":0},{"$f":"IF(Nährstoffabgabe!L224=\"\",\"\",Nährstoffabgabe!L224)","v":0},{"$f":"IF(Nährstoffabgabe!M224=\"\",\"\",Nährstoffabgabe!M224)","v":0}]
[{"$f":"IF(Nährstoffabgabe!A225=\"\",\"\",Nährstoffabgabe!A225)","v":"Senf_Korn (91 % TM)"},{"$f":"IF(Nährstoffabgabe!B225=\"\",\"\",Nährstoffabgabe!B225)","v":15},{"$f":"IF(Nährstoffabgabe!C225=\"\",\"\",Nährstoffabgabe!C225)","v":""},{"$f":"IF(Nährstoffabgabe!D225=\"\",\"\",Nährstoffabgabe!D225)","v":""},{"$f":"Nährstoffabgabe!E225","v":0},{"$f":"IF(Nährstoffabgabe!F225=\"\",\"\",Nährstoffabgabe!F225)","v":5.08},{"$f":"IF(Nährstoffabgabe!G225=\"\",\"\",Nährstoffabgabe!G225)","v":1.77},{"$f":"IF(Nährstoffabgabe!H225=\"\",\"\",Nährstoffabgabe!H225)","v":0.93},{"$f":"IF(Nährstoffabgabe!I225=\"\",\"\",Nährstoffabgabe!I225)","v":0.3},{"$f":"IF(Nährstoffabgabe!J225=\"\",\"\",Nährstoffabgabe!J225)","v":0},{"$f":"IF(Nährstoffabgabe!K225=\"\",\"\",Nährstoffabgabe!K225)","v":0},{"$f":"IF(Nährstoffabgabe!L225=\"\",\"\",Nährstoffabgabe!L225)","v":0},{"$f":"IF(Nährstoffabgabe!M225=\"\",\"\",Nährstoffabgabe!M225)","v":0}]
[{"$f":"IF(Nährstoffabgabe!A226=\"\",\"\",Nährstoffabgabe!A226)","v":"Senf_Korn + Stroh (1: 1,5)"},{"$f":"IF(Nährstoffabgabe!B226=\"\",\"\",Nährstoffabgabe!B226)","v":15},{"$f":"IF(Nährstoffabgabe!C226=\"\",\"\",Nährstoffabgabe!C226)","v":""},{"$f":"IF(Nährstoffabgabe!D226=\"\",\"\",Nährstoffabgabe!D226)","v":""},{"$f":"Nährstoffabgabe!E226","v":0},{"$f":"IF(Nährstoffabgabe!F226=\"\",\"\",Nährstoffabgabe!F226)","v":6.13},{"$f":"IF(Nährstoffabgabe!G226=\"\",\"\",Nährstoffabgabe!G226)","v":2.37},{"$f":"IF(Nährstoffabgabe!H226=\"\",\"\",Nährstoffabgabe!H226)","v":4.68},{"$f":"IF(Nährstoffabgabe!I226=\"\",\"\",Nährstoffabgabe!I226)","v":0.53},{"$f":"IF(Nährstoffabgabe!J226=\"\",\"\",Nährstoffabgabe!J226)","v":0},{"$f":"IF(Nährstoffabgabe!K226=\"\",\"\",Nährstoffabgabe!K226)","v":0},{"$f":"IF(Nährstoffabgabe!L226=\"\",\"\",Nährstoffabgabe!L226)","v":0},{"$f":"IF(Nährstoffabgabe!M226=\"\",\"\",Nährstoffabgabe!M226)","v":0}]
[{"$f":"IF(Nährstoffabgabe!A227=\"\",\"\",Nährstoffabgabe!A227)","v":"Senf_Stroh (86 % TM)"},{"$f":"IF(Nährstoffabgabe!B227=\"\",\"\",Nährstoffabgabe!B227)","v":22.5},{"$f":"IF(Nährstoffabgabe!C227=\"\",\"\",Nährstoffabgabe!C227)","v":""},{"$f":"IF(Nährstoffabgabe!D227=\"\",\"\",Nährstoffabgabe!D227)","v":""},{"$f":"Nährstoffabgabe!E227","v":0},{"$f":"IF(Nährstoffabgabe!F227=\"\",\"\",Nährstoffabgabe!F227)","v":0.7},{"$f":"IF(Nährstoffabgabe!G227=\"\",\"\",Nährstoffabgabe!G227)","v":0.4},{"$f":"IF(Nährstoffabgabe!H227=\"\",\"\",Nährstoffabgabe!H227)","v":2.5},{"$f":"IF(Nährstoffabgabe!I227=\"\",\"\",Nährstoffabgabe!I227)","v":0.15},{"$f":"IF(Nährstoffabgabe!J227=\"\",\"\",Nährstoffabgabe!J227)","v":0},{"$f":"IF(Nährstoffabgabe!K227=\"\",\"\",Nährstoffabgabe!K227)","v":0},{"$f":"IF(Nährstoffabgabe!L227=\"\",\"\",Nährstoffabgabe!L227)","v":0},{"$f":"IF(Nährstoffabgabe!M227=\"\",\"\",Nährstoffabgabe!M227)","v":0}]
[{"$f":"IF(Nährstoffabgabe!A228=\"\",\"\",Nährstoffabgabe!A228)","v":"Öllein_Korn (91 % TM)"},{"$f":"IF(Nährstoffabgabe!B228=\"\",\"\",Nährstoffabgabe!B228)","v":20},{"$f":"IF(Nährstoffabgabe!C228=\"\",\"\",Nährstoffabgabe!C228)","v":""},{"$f":"IF(Nährstoffabgabe!D228=\"\",\"\",Nährstoffabgabe!D228)","v":""},{"$f":"Nährstoffabgabe!E228","v":0},{"$f":"IF(Nährstoffabgabe!F228=\"\",\"\",Nährstoffabgabe!F228)","v":3.5},{"$f":"IF(Nährstoffabgabe!G228=\"\",\"\",Nährstoffabgabe!G228)","v":1.2},{"$f":"IF(Nährstoffabgabe!H228=\"\",\"\",Nährstoffabgabe!H228)","v":1},{"$f":"IF(Nährstoffabgabe!I228=\"\",\"\",Nährstoffabgabe!I228)","v":0.8},{"$f":"IF(Nährstoffabgabe!J228=\"\",\"\",Nährstoffabgabe!J228)","v":0},{"$f":"IF(Nährstoffabgabe!K228=\"\",\"\",Nährstoffabgabe!K228)","v":0},{"$f":"IF(Nährstoffabgabe!L228=\"\",\"\",Nährstoffabgabe!L228)","v":0},{"$f":"IF(Nährstoffabgabe!M228=\"\",\"\",Nährstoffabgabe!M228)","v":0}]
[{"$f":"IF(Nährstoffabgabe!A229=\"\",\"\",Nährstoffabgabe!A229)","v":"Öllein_Korn + Stroh (1: 1,5)"},{"$f":"IF(Nährstoffabgabe!B229=\"\",\"\",Nährstoffabgabe!B229)","v":20},{"$f":"IF(Nährstoffabgabe!C229=\"\",\"\",Nährstoffabgabe!C229)","v":""},{"$f":"IF(Nährstoffabgabe!D229=\"\",\"\",Nährstoffabgabe!D229)","v":""},{"$f":"Nährstoffabgabe!E229","v":0},{"$f":"IF(Nährstoffabgabe!F229=\"\",\"\",Nährstoffabgabe!F229)","v":4.3},{"$f":"IF(Nährstoffabgabe!G229=\"\",\"\",Nährstoffabgabe!G229)","v":1.5},{"$f":"IF(Nährstoffabgabe!H229=\"\",\"\",Nährstoffabgabe!H229)","v":3.1},{"$f":"IF(Nährstoffabgabe!I229=\"\",\"\",Nährstoffabgabe!I229)","v":0.95},{"$f":"IF(Nährstoffabgabe!J229=\"\",\"\",Nährstoffabgabe!J229)","v":0},{"$f":"IF(Nährstoffabgabe!K229=\"\",\"\",Nährstoffabgabe!K229)","v":0},{"$f":"IF(Nährstoffabgabe!L229=\"\",\"\",Nährstoffabgabe!L229)","v":0},{"$f":"IF(Nährstoffabgabe!M229=\"\",\"\",Nährstoffabgabe!M229)","v":0}]
[{"$f":"IF(Nährstoffabgabe!A230=\"\",\"\",Nährstoffabgabe!A230)","v":"Öllein_Stroh (86 % TM)"},{"$f":"IF(Nährstoffabgabe!B230=\"\",\"\",Nährstoffabgabe!B230)","v":30},{"$f":"IF(Nährstoffabgabe!C230=\"\",\"\",Nährstoffabgabe!C230)","v":""},{"$f":"IF(Nährstoffabgabe!D230=\"\",\"\",Nährstoffabgabe!D230)","v":""},{"$f":"Nährstoffabgabe!E230","v":0},{"$f":"IF(Nährstoffabgabe!F230=\"\",\"\",Nährstoffabgabe!F230)","v":0.53},{"$f":"IF(Nährstoffabgabe!G230=\"\",\"\",Nährstoffabgabe!G230)","v":0.2},{"$f":"IF(Nährstoffabgabe!H230=\"\",\"\",Nährstoffabgabe!H230)","v":1.4},{"$f":"IF(Nährstoffabgabe!I230=\"\",\"\",Nährstoffabgabe!I230)","v":0.1},{"$f":"IF(Nährstoffabgabe!J230=\"\",\"\",Nährstoffabgabe!J230)","v":0},{"$f":"IF(Nährstoffabgabe!K230=\"\",\"\",Nährstoffabgabe!K230)","v":0},{"$f":"IF(Nährstoffabgabe!L230=\"\",\"\",Nährstoffabgabe!L230)","v":0},{"$f":"IF(Nährstoffabgabe!M230=\"\",\"\",Nährstoffabgabe!M230)","v":0}]
[{"$f":"IF(Nährstoffabgabe!A231=\"\",\"\",Nährstoffabgabe!A231)","v":"Faserpflanzen"},{"$f":"IF(Nährstoffabgabe!B231=\"\",\"\",Nährstoffabgabe!B231)","v":""},{"$f":"IF(Nährstoffabgabe!C231=\"\",\"\",Nährstoffabgabe!C231)","v":""},{"$f":"IF(Nährstoffabgabe!D231=\"\",\"\",Nährstoffabgabe!D231)","v":""},{"$f":"Nährstoffabgabe!E231","v":0},{"$f":"IF(Nährstoffabgabe!F231=\"\",\"\",Nährstoffabgabe!F231)","v":""},{"$f":"IF(Nährstoffabgabe!G231=\"\",\"\",Nährstoffabgabe!G231)","v":""},{"$f":"IF(Nährstoffabgabe!H231=\"\",\"\",Nährstoffabgabe!H231)","v":""},{"$f":"IF(Nährstoffabgabe!I231=\"\",\"\",Nährstoffabgabe!I231)","v":""},{"$f":"IF(Nährstoffabgabe!J231=\"\",\"\",Nährstoffabgabe!J231)","v":""},{"$f":"IF(Nährstoffabgabe!K231=\"\",\"\",Nährstoffabgabe!K231)","v":""},{"$f":"IF(Nährstoffabgabe!L231=\"\",\"\",Nährstoffabgabe!L231)","v":""},{"$f":"IF(Nährstoffabgabe!M231=\"\",\"\",Nährstoffabgabe!M231)","v":""}]
[{"$f":"IF(Nährstoffabgabe!A232=\"\",\"\",Nährstoffabgabe!A232)","v":"Flachs (Faserlein), Ganzpfl. (86 % TM)"},{"$f":"IF(Nährstoffabgabe!B232=\"\",\"\",Nährstoffabgabe!B232)","v":70},{"$f":"IF(Nährstoffabgabe!C232=\"\",\"\",Nährstoffabgabe!C232)","v":""},{"$f":"IF(Nährstoffabgabe!D232=\"\",\"\",Nährstoffabgabe!D232)","v":""},{"$f":"Nährstoffabgabe!E232","v":0},{"$f":"IF(Nährstoffabgabe!F232=\"\",\"\",Nährstoffabgabe!F232)","v":1},{"$f":"IF(Nährstoffabgabe!G232=\"\",\"\",Nährstoffabgabe!G232)","v":0.64},{"$f":"IF(Nährstoffabgabe!H232=\"\",\"\",Nährstoffabgabe!H232)","v":1.71},{"$f":"IF(Nährstoffabgabe!I232=\"\",\"\",Nährstoffabgabe!I232)","v":0.1},{"$f":"IF(Nährstoffabgabe!J232=\"\",\"\",Nährstoffabgabe!J232)","v":0},{"$f":"IF(Nährstoffabgabe!K232=\"\",\"\",Nährstoffabgabe!K232)","v":0},{"$f":"IF(Nährstoffabgabe!L232=\"\",\"\",Nährstoffabgabe!L232)","v":0},{"$f":"IF(Nährstoffabgabe!M232=\"\",\"\",Nährstoffabgabe!M232)","v":0}]
[{"$f":"IF(Nährstoffabgabe!A233=\"\",\"\",Nährstoffabgabe!A233)","v":"Hanf, Ganzpfl. (40 % TM)"},{"$f":"IF(Nährstoffabgabe!B233=\"\",\"\",Nährstoffabgabe!B233)","v":300},{"$f":"IF(Nährstoffabgabe!C233=\"\",\"\",Nährstoffabgabe!C233)","v":""},{"$f":"IF(Nährstoffabgabe!D233=\"\",\"\",Nährstoffabgabe!D233)","v":""},{"$f":"Nährstoffabgabe!E233","v":0},{"$f":"IF(Nährstoffabgabe!F233=\"\",\"\",Nährstoffabgabe!F233)","v":0.4},{"$f":"IF(Nährstoffabgabe!G233=\"\",\"\",Nährstoffabgabe!G233)","v":0.3},{"$f":"IF(Nährstoffabgabe!H233=\"\",\"\",Nährstoffabgabe!H233)","v":0.8},{"$f":"IF(Nährstoffabgabe!I233=\"\",\"\",Nährstoffabgabe!I233)","v":0.36},{"$f":"IF(Nährstoffabgabe!J233=\"\",\"\",Nährstoffabgabe!J233)","v":0},{"$f":"IF(Nährstoffabgabe!K233=\"\",\"\",Nährstoffabgabe!K233)","v":0},{"$f":"IF(Nährstoffabgabe!L233=\"\",\"\",Nährstoffabgabe!L233)","v":0},{"$f":"IF(Nährstoffabgabe!M233=\"\",\"\",Nährstoffabgabe!M233)","v":0}]
[{"$f":"IF(Nährstoffabgabe!A234=\"\",\"\",Nährstoffabgabe!A234)","v":"Miscanthus, Ganzpfl. (80 % TM)"},{"$f":"IF(Nährstoffabgabe!B234=\"\",\"\",Nährstoffabgabe!B234)","v":220},{"$f":"IF(Nährstoffabgabe!C234=\"\",\"\",Nährstoffabgabe!C234)","v":""},{"$f":"IF(Nährstoffabgabe!D234=\"\",\"\",Nährstoffabgabe!D234)","v":""},{"$f":"Nährstoffabgabe!E234","v":0},{"$f":"IF(Nährstoffabgabe!F234=\"\",\"\",Nährstoffabgabe!F234)","v":0.15},{"$f":"IF(Nährstoffabgabe!G234=\"\",\"\",Nährstoffabgabe!G234)","v":0.12},{"$f":"IF(Nährstoffabgabe!H234=\"\",\"\",Nährstoffabgabe!H234)","v":0.4},{"$f":"IF(Nährstoffabgabe!I234=\"\",\"\",Nährstoffabgabe!I234)","v":0.1},{"$f":"IF(Nährstoffabgabe!J234=\"\",\"\",Nährstoffabgabe!J234)","v":0},{"$f":"IF(Nährstoffabgabe!K234=\"\",\"\",Nährstoffabgabe!K234)","v":0},{"$f":"IF(Nährstoffabgabe!L234=\"\",\"\",Nährstoffabgabe!L234)","v":0},{"$f":"IF(Nährstoffabgabe!M234=\"\",\"\",Nährstoffabgabe!M234)","v":0}]
[{"$f":"IF(Nährstoffabgabe!A235=\"\",\"\",Nährstoffabgabe!A235)","v":"Hackfrüchte"},{"$f":"IF(Nährstoffabgabe!B235=\"\",\"\",Nährstoffabgabe!B235)","v":""},{"$f":"IF(Nährstoffabgabe!C235=\"\",\"\",Nährstoffabgabe!C235)","v":""},{"$f":"IF(Nährstoffabgabe!D235=\"\",\"\",Nährstoffabgabe!D235)","v":""},{"$f":"Nährstoffabgabe!E235","v":0},{"$f":"IF(Nährstoffabgabe!F235=\"\",\"\",Nährstoffabgabe!F235)","v":""},{"$f":"IF(Nährstoffabgabe!G235=\"\",\"\",Nährstoffabgabe!G235)","v":""},{"$f":"IF(Nährstoffabgabe!H235=\"\",\"\",Nährstoffabgabe!H235)","v":""},{"$f":"IF(Nährstoffabgabe!I235=\"\",\"\",Nährstoffabgabe!I235)","v":""},{"$f":"IF(Nährstoffabgabe!J235=\"\",\"\",Nährstoffabgabe!J235)","v":""},{"$f":"IF(Nährstoffabgabe!K235=\"\",\"\",Nährstoffabgabe!K235)","v":""},{"$f":"IF(Nährstoffabgabe!L235=\"\",\"\",Nährstoffabgabe!L235)","v":""},{"$f":"IF(Nährstoffabgabe!M235=\"\",\"\",Nährstoffabgabe!M235)","v":""}]
[{"$f":"IF(Nährstoffabgabe!A236=\"\",\"\",Nährstoffabgabe!A236)","v":"Kartoffel_Knollen (22 % TM)"},{"$f":"IF(Nährstoffabgabe!B236=\"\",\"\",Nährstoffabgabe!B236)","v":400},{"$f":"IF(Nährstoffabgabe!C236=\"\",\"\",Nährstoffabgabe!C236)","v":""},{"$f":"IF(Nährstoffabgabe!D236=\"\",\"\",Nährstoffabgabe!D236)","v":""},{"$f":"Nährstoffabgabe!E236","v":0},{"$f":"IF(Nährstoffabgabe!F236=\"\",\"\",Nährstoffabgabe!F236)","v":0.35},{"$f":"IF(Nährstoffabgabe!G236=\"\",\"\",Nährstoffabgabe!G236)","v":0.14000000000000001},{"$f":"IF(Nährstoffabgabe!H236=\"\",\"\",Nährstoffabgabe!H236)","v":0.6},{"$f":"IF(Nährstoffabgabe!I236=\"\",\"\",Nährstoffabgabe!I236)","v":0.04},{"$f":"IF(Nährstoffabgabe!J236=\"\",\"\",Nährstoffabgabe!J236)","v":0},{"$f":"IF(Nährstoffabgabe!K236=\"\",\"\",Nährstoffabgabe!K236)","v":0},{"$f":"IF(Nährstoffabgabe!L236=\"\",\"\",Nährstoffabgabe!L236)","v":0},{"$f":"IF(Nährstoffabgabe!M236=\"\",\"\",Nährstoffabgabe!M236)","v":0}]
[{"$f":"IF(Nährstoffabgabe!A237=\"\",\"\",Nährstoffabgabe!A237)","v":"Kartoffel_Knolle + Kraut (1: 0,2)"},{"$f":"IF(Nährstoffabgabe!B237=\"\",\"\",Nährstoffabgabe!B237)","v":400},{"$f":"IF(Nährstoffabgabe!C237=\"\",\"\",Nährstoffabgabe!C237)","v":""},{"$f":"IF(Nährstoffabgabe!D237=\"\",\"\",Nährstoffabgabe!D237)","v":""},{"$f":"Nährstoffabgabe!E237","v":0},{"$f":"IF(Nährstoffabgabe!F237=\"\",\"\",Nährstoffabgabe!F237)","v":0.39},{"$f":"IF(Nährstoffabgabe!G237=\"\",\"\",Nährstoffabgabe!G237)","v":0.15},{"$f":"IF(Nährstoffabgabe!H237=\"\",\"\",Nährstoffabgabe!H237)","v":0.67},{"$f":"IF(Nährstoffabgabe!I237=\"\",\"\",Nährstoffabgabe!I237)","v":0.06},{"$f":"IF(Nährstoffabgabe!J237=\"\",\"\",Nährstoffabgabe!J237)","v":0},{"$f":"IF(Nährstoffabgabe!K237=\"\",\"\",Nährstoffabgabe!K237)","v":0},{"$f":"IF(Nährstoffabgabe!L237=\"\",\"\",Nährstoffabgabe!L237)","v":0},{"$f":"IF(Nährstoffabgabe!M237=\"\",\"\",Nährstoffabgabe!M237)","v":0}]
[{"$f":"IF(Nährstoffabgabe!A238=\"\",\"\",Nährstoffabgabe!A238)","v":"Kartoffel_Kraut (15 % TM)"},{"$f":"IF(Nährstoffabgabe!B238=\"\",\"\",Nährstoffabgabe!B238)","v":80},{"$f":"IF(Nährstoffabgabe!C238=\"\",\"\",Nährstoffabgabe!C238)","v":""},{"$f":"IF(Nährstoffabgabe!D238=\"\",\"\",Nährstoffabgabe!D238)","v":""},{"$f":"Nährstoffabgabe!E238","v":0},{"$f":"IF(Nährstoffabgabe!F238=\"\",\"\",Nährstoffabgabe!F238)","v":0.2},{"$f":"IF(Nährstoffabgabe!G238=\"\",\"\",Nährstoffabgabe!G238)","v":0.04},{"$f":"IF(Nährstoffabgabe!H238=\"\",\"\",Nährstoffabgabe!H238)","v":0.36},{"$f":"IF(Nährstoffabgabe!I238=\"\",\"\",Nährstoffabgabe!I238)","v":0.08},{"$f":"IF(Nährstoffabgabe!J238=\"\",\"\",Nährstoffabgabe!J238)","v":0},{"$f":"IF(Nährstoffabgabe!K238=\"\",\"\",Nährstoffabgabe!K238)","v":0},{"$f":"IF(Nährstoffabgabe!L238=\"\",\"\",Nährstoffabgabe!L238)","v":0},{"$f":"IF(Nährstoffabgabe!M238=\"\",\"\",Nährstoffabgabe!M238)","v":0}]
[{"$f":"IF(Nährstoffabgabe!A239=\"\",\"\",Nährstoffabgabe!A239)","v":"Zuckerrüben_Rübe (23 % TM)"},{"$f":"IF(Nährstoffabgabe!B239=\"\",\"\",Nährstoffabgabe!B239)","v":600},{"$f":"IF(Nährstoffabgabe!C239=\"\",\"\",Nährstoffabgabe!C239)","v":""},{"$f":"IF(Nährstoffabgabe!D239=\"\",\"\",Nährstoffabgabe!D239)","v":""},{"$f":"Nährstoffabgabe!E239","v":0},{"$f":"IF(Nährstoffabgabe!F239=\"\",\"\",Nährstoffabgabe!F239)","v":0.18},{"$f":"IF(Nährstoffabgabe!G239=\"\",\"\",Nährstoffabgabe!G239)","v":0.1},{"$f":"IF(Nährstoffabgabe!H239=\"\",\"\",Nährstoffabgabe!H239)","v":0.25},{"$f":"IF(Nährstoffabgabe!I239=\"\",\"\",Nährstoffabgabe!I239)","v":0.08},{"$f":"IF(Nährstoffabgabe!J239=\"\",\"\",Nährstoffabgabe!J239)","v":0},{"$f":"IF(Nährstoffabgabe!K239=\"\",\"\",Nährstoffabgabe!K239)","v":0},{"$f":"IF(Nährstoffabgabe!L239=\"\",\"\",Nährstoffabgabe!L239)","v":0},{"$f":"IF(Nährstoffabgabe!M239=\"\",\"\",Nährstoffabgabe!M239)","v":0}]
[{"$f":"IF(Nährstoffabgabe!A240=\"\",\"\",Nährstoffabgabe!A240)","v":"Zuckerrüben_Rübe + Blatt (1: 0,7)"},{"$f":"IF(Nährstoffabgabe!B240=\"\",\"\",Nährstoffabgabe!B240)","v":600},{"$f":"IF(Nährstoffabgabe!C240=\"\",\"\",Nährstoffabgabe!C240)","v":""},{"$f":"IF(Nährstoffabgabe!D240=\"\",\"\",Nährstoffabgabe!D240)","v":""},{"$f":"Nährstoffabgabe!E240","v":0},{"$f":"IF(Nährstoffabgabe!F240=\"\",\"\",Nährstoffabgabe!F240)","v":0.46},{"$f":"IF(Nährstoffabgabe!G240=\"\",\"\",Nährstoffabgabe!G240)","v":0.18},{"$f":"IF(Nährstoffabgabe!H240=\"\",\"\",Nährstoffabgabe!H240)","v":0.75},{"$f":"IF(Nährstoffabgabe!I240=\"\",\"\",Nährstoffabgabe!I240)","v":0.15},{"$f":"IF(Nährstoffabgabe!J240=\"\",\"\",Nährstoffabgabe!J240)","v":0},{"$f":"IF(Nährstoffabgabe!K240=\"\",\"\",Nährstoffabgabe!K240)","v":0},{"$f":"IF(Nährstoffabgabe!L240=\"\",\"\",Nährstoffabgabe!L240)","v":0},{"$f":"IF(Nährstoffabgabe!M240=\"\",\"\",Nährstoffabgabe!M240)","v":0}]
[{"$f":"IF(Nährstoffabgabe!A241=\"\",\"\",Nährstoffabgabe!A241)","v":"Zuckerrüben_Blatt (18 % TM)"},{"$f":"IF(Nährstoffabgabe!B241=\"\",\"\",Nährstoffabgabe!B241)","v":420},{"$f":"IF(Nährstoffabgabe!C241=\"\",\"\",Nährstoffabgabe!C241)","v":""},{"$f":"IF(Nährstoffabgabe!D241=\"\",\"\",Nährstoffabgabe!D241)","v":""},{"$f":"Nährstoffabgabe!E241","v":0},{"$f":"IF(Nährstoffabgabe!F241=\"\",\"\",Nährstoffabgabe!F241)","v":0.4},{"$f":"IF(Nährstoffabgabe!G241=\"\",\"\",Nährstoffabgabe!G241)","v":0.11},{"$f":"IF(Nährstoffabgabe!H241=\"\",\"\",Nährstoffabgabe!H241)","v":0.71},{"$f":"IF(Nährstoffabgabe!I241=\"\",\"\",Nährstoffabgabe!I241)","v":0.1},{"$f":"IF(Nährstoffabgabe!J241=\"\",\"\",Nährstoffabgabe!J241)","v":0},{"$f":"IF(Nährstoffabgabe!K241=\"\",\"\",Nährstoffabgabe!K241)","v":0},{"$f":"IF(Nährstoffabgabe!L241=\"\",\"\",Nährstoffabgabe!L241)","v":0},{"$f":"IF(Nährstoffabgabe!M241=\"\",\"\",Nährstoffabgabe!M241)","v":0}]
[{"$f":"IF(Nährstoffabgabe!A242=\"\",\"\",Nährstoffabgabe!A242)","v":"Gehaltsrüben_Rübe (15 % TM)"},{"$f":"IF(Nährstoffabgabe!B242=\"\",\"\",Nährstoffabgabe!B242)","v":600},{"$f":"IF(Nährstoffabgabe!C242=\"\",\"\",Nährstoffabgabe!C242)","v":""},{"$f":"IF(Nährstoffabgabe!D242=\"\",\"\",Nährstoffabgabe!D242)","v":""},{"$f":"Nährstoffabgabe!E242","v":0},{"$f":"IF(Nährstoffabgabe!F242=\"\",\"\",Nährstoffabgabe!F242)","v":0.18},{"$f":"IF(Nährstoffabgabe!G242=\"\",\"\",Nährstoffabgabe!G242)","v":0.09},{"$f":"IF(Nährstoffabgabe!H242=\"\",\"\",Nährstoffabgabe!H242)","v":0.5},{"$f":"IF(Nährstoffabgabe!I242=\"\",\"\",Nährstoffabgabe!I242)","v":0.05},{"$f":"IF(Nährstoffabgabe!J242=\"\",\"\",Nährstoffabgabe!J242)","v":0},{"$f":"IF(Nährstoffabgabe!K242=\"\",\"\",Nährstoffabgabe!K242)","v":0},{"$f":"IF(Nährstoffabgabe!L242=\"\",\"\",Nährstoffabgabe!L242)","v":0},{"$f":"IF(Nährstoffabgabe!M242=\"\",\"\",Nährstoffabgabe!M242)","v":0}]
[{"$f":"IF(Nährstoffabgabe!A243=\"\",\"\",Nährstoffabgabe!A243)","v":"Gehaltsrüben_Rübe + Blatt (1: 0,4)"},{"$f":"IF(Nährstoffabgabe!B243=\"\",\"\",Nährstoffabgabe!B243)","v":600},{"$f":"IF(Nährstoffabgabe!C243=\"\",\"\",Nährstoffabgabe!C243)","v":""},{"$f":"IF(Nährstoffabgabe!D243=\"\",\"\",Nährstoffabgabe!D243)","v":""},{"$f":"Nährstoffabgabe!E243","v":0},{"$f":"IF(Nährstoffabgabe!F243=\"\",\"\",Nährstoffabgabe!F243)","v":0.3},{"$f":"IF(Nährstoffabgabe!G243=\"\",\"\",Nährstoffabgabe!G243)","v":0.12},{"$f":"IF(Nährstoffabgabe!H243=\"\",\"\",Nährstoffabgabe!H243)","v":0.75},{"$f":"IF(Nährstoffabgabe!I243=\"\",\"\",Nährstoffabgabe!I243)","v":0.08},{"$f":"IF(Nährstoffabgabe!J243=\"\",\"\",Nährstoffabgabe!J243)","v":0},{"$f":"IF(Nährstoffabgabe!K243=\"\",\"\",Nährstoffabgabe!K243)","v":0},{"$f":"IF(Nährstoffabgabe!L243=\"\",\"\",Nährstoffabgabe!L243)","v":0},{"$f":"IF(Nährstoffabgabe!M243=\"\",\"\",Nährstoffabgabe!M243)","v":0}]
[{"$f":"IF(Nährstoffabgabe!A244=\"\",\"\",Nährstoffabgabe!A244)","v":"Gehaltsrüben_Blatt (16 % TM)"},{"$f":"IF(Nährstoffabgabe!B244=\"\",\"\",Nährstoffabgabe!B244)","v":240},{"$f":"IF(Nährstoffabgabe!C244=\"\",\"\",Nährstoffabgabe!C244)","v":""},{"$f":"IF(Nährstoffabgabe!D244=\"\",\"\",Nährstoffabgabe!D244)","v":""},{"$f":"Nährstoffabgabe!E244","v":0},{"$f":"IF(Nährstoffabgabe!F244=\"\",\"\",Nährstoffabgabe!F244)","v":0.3},{"$f":"IF(Nährstoffabgabe!G244=\"\",\"\",Nährstoffabgabe!G244)","v":0.08},{"$f":"IF(Nährstoffabgabe!H244=\"\",\"\",Nährstoffabgabe!H244)","v":0.63},{"$f":"IF(Nährstoffabgabe!I244=\"\",\"\",Nährstoffabgabe!I244)","v":0.08},{"$f":"IF(Nährstoffabgabe!J244=\"\",\"\",Nährstoffabgabe!J244)","v":0},{"$f":"IF(Nährstoffabgabe!K244=\"\",\"\",Nährstoffabgabe!K244)","v":0},{"$f":"IF(Nährstoffabgabe!L244=\"\",\"\",Nährstoffabgabe!L244)","v":0},{"$f":"IF(Nährstoffabgabe!M244=\"\",\"\",Nährstoffabgabe!M244)","v":0}]
[{"$f":"IF(Nährstoffabgabe!A245=\"\",\"\",Nährstoffabgabe!A245)","v":"Massenrübe_Rübe (12 % TM)"},{"$f":"IF(Nährstoffabgabe!B245=\"\",\"\",Nährstoffabgabe!B245)","v":900},{"$f":"IF(Nährstoffabgabe!C245=\"\",\"\",Nährstoffabgabe!C245)","v":""},{"$f":"IF(Nährstoffabgabe!D245=\"\",\"\",Nährstoffabgabe!D245)","v":""},{"$f":"Nährstoffabgabe!E245","v":0},{"$f":"IF(Nährstoffabgabe!F245=\"\",\"\",Nährstoffabgabe!F245)","v":0.14000000000000001},{"$f":"IF(Nährstoffabgabe!G245=\"\",\"\",Nährstoffabgabe!G245)","v":7.0000000000000007E-2},{"$f":"IF(Nährstoffabgabe!H245=\"\",\"\",Nährstoffabgabe!H245)","v":0.45},{"$f":"IF(Nährstoffabgabe!I245=\"\",\"\",Nährstoffabgabe!I245)","v":0.05},{"$f":"IF(Nährstoffabgabe!J245=\"\",\"\",Nährstoffabgabe!J245)","v":0},{"$f":"IF(Nährstoffabgabe!K245=\"\",\"\",Nährstoffabgabe!K245)","v":0},{"$f":"IF(Nährstoffabgabe!L245=\"\",\"\",Nährstoffabgabe!L245)","v":0},{"$f":"IF(Nährstoffabgabe!M245=\"\",\"\",Nährstoffabgabe!M245)","v":0}]
[{"$f":"IF(Nährstoffabgabe!A246=\"\",\"\",Nährstoffabgabe!A246)","v":"Massenrübe_Rübe + Blatt (1: 0,4)"},{"$f":"IF(Nährstoffabgabe!B246=\"\",\"\",Nährstoffabgabe!B246)","v":900},{"$f":"IF(Nährstoffabgabe!C246=\"\",\"\",Nährstoffabgabe!C246)","v":""},{"$f":"IF(Nährstoffabgabe!D246=\"\",\"\",Nährstoffabgabe!D246)","v":""},{"$f":"Nährstoffabgabe!E246","v":0},{"$f":"IF(Nährstoffabgabe!F246=\"\",\"\",Nährstoffabgabe!F246)","v":0.24},{"$f":"IF(Nährstoffabgabe!G246=\"\",\"\",Nährstoffabgabe!G246)","v":0.09},{"$f":"IF(Nährstoffabgabe!H246=\"\",\"\",Nährstoffabgabe!H246)","v":0.6},{"$f":"IF(Nährstoffabgabe!I246=\"\",\"\",Nährstoffabgabe!I246)","v":0.08},{"$f":"IF(Nährstoffabgabe!J246=\"\",\"\",Nährstoffabgabe!J246)","v":0},{"$f":"IF(Nährstoffabgabe!K246=\"\",\"\",Nährstoffabgabe!K246)","v":0},{"$f":"IF(Nährstoffabgabe!L246=\"\",\"\",Nährstoffabgabe!L246)","v":0},{"$f":"IF(Nährstoffabgabe!M246=\"\",\"\",Nährstoffabgabe!M246)","v":0}]
[{"$f":"IF(Nährstoffabgabe!A247=\"\",\"\",Nährstoffabgabe!A247)","v":"Massenrübe_Blatt (16 % TM)"},{"$f":"IF(Nährstoffabgabe!B247=\"\",\"\",Nährstoffabgabe!B247)","v":360},{"$f":"IF(Nährstoffabgabe!C247=\"\",\"\",Nährstoffabgabe!C247)","v":""},{"$f":"IF(Nährstoffabgabe!D247=\"\",\"\",Nährstoffabgabe!D247)","v":""},{"$f":"Nährstoffabgabe!E247","v":0},{"$f":"IF(Nährstoffabgabe!F247=\"\",\"\",Nährstoffabgabe!F247)","v":0.25},{"$f":"IF(Nährstoffabgabe!G247=\"\",\"\",Nährstoffabgabe!G247)","v":0.06},{"$f":"IF(Nährstoffabgabe!H247=\"\",\"\",Nährstoffabgabe!H247)","v":0.38},{"$f":"IF(Nährstoffabgabe!I247=\"\",\"\",Nährstoffabgabe!I247)","v":0.08},{"$f":"IF(Nährstoffabgabe!J247=\"\",\"\",Nährstoffabgabe!J247)","v":0},{"$f":"IF(Nährstoffabgabe!K247=\"\",\"\",Nährstoffabgabe!K247)","v":0},{"$f":"IF(Nährstoffabgabe!L247=\"\",\"\",Nährstoffabgabe!L247)","v":0},{"$f":"IF(Nährstoffabgabe!M247=\"\",\"\",Nährstoffabgabe!M247)","v":0}]
[{"$f":"IF(Nährstoffabgabe!A248=\"\",\"\",Nährstoffabgabe!A248)","v":"Futterpflanzen"},{"$f":"IF(Nährstoffabgabe!B248=\"\",\"\",Nährstoffabgabe!B248)","v":""},{"$f":"IF(Nährstoffabgabe!C248=\"\",\"\",Nährstoffabgabe!C248)","v":""},{"$f":"IF(Nährstoffabgabe!D248=\"\",\"\",Nährstoffabgabe!D248)","v":""},{"$f":"Nährstoffabgabe!E248","v":0},{"$f":"IF(Nährstoffabgabe!F248=\"\",\"\",Nährstoffabgabe!F248)","v":""},{"$f":"IF(Nährstoffabgabe!G248=\"\",\"\",Nährstoffabgabe!G248)","v":""},{"$f":"IF(Nährstoffabgabe!H248=\"\",\"\",Nährstoffabgabe!H248)","v":""},{"$f":"IF(Nährstoffabgabe!I248=\"\",\"\",Nährstoffabgabe!I248)","v":""},{"$f":"IF(Nährstoffabgabe!J248=\"\",\"\",Nährstoffabgabe!J248)","v":""},{"$f":"IF(Nährstoffabgabe!K248=\"\",\"\",Nährstoffabgabe!K248)","v":""},{"$f":"IF(Nährstoffabgabe!L248=\"\",\"\",Nährstoffabgabe!L248)","v":""},{"$f":"IF(Nährstoffabgabe!M248=\"\",\"\",Nährstoffabgabe!M248)","v":""}]
[{"$f":"IF(Nährstoffabgabe!A249=\"\",\"\",Nährstoffabgabe!A249)","v":"Kleegras, Ganzpfl. (20 % TM)"},{"$f":"IF(Nährstoffabgabe!B249=\"\",\"\",Nährstoffabgabe!B249)","v":650},{"$f":"IF(Nährstoffabgabe!C249=\"\",\"\",Nährstoffabgabe!C249)","v":""},{"$f":"IF(Nährstoffabgabe!D249=\"\",\"\",Nährstoffabgabe!D249)","v":""},{"$f":"Nährstoffabgabe!E249","v":0},{"$f":"IF(Nährstoffabgabe!F249=\"\",\"\",Nährstoffabgabe!F249)","v":0.57999999999999996},{"$f":"IF(Nährstoffabgabe!G249=\"\",\"\",Nährstoffabgabe!G249)","v":0.14000000000000001},{"$f":"IF(Nährstoffabgabe!H249=\"\",\"\",Nährstoffabgabe!H249)","v":0.62},{"$f":"IF(Nährstoffabgabe!I249=\"\",\"\",Nährstoffabgabe!I249)","v":7.0000000000000007E-2},{"$f":"IF(Nährstoffabgabe!J249=\"\",\"\",Nährstoffabgabe!J249)","v":0},{"$f":"IF(Nährstoffabgabe!K249=\"\",\"\",Nährstoffabgabe!K249)","v":0},{"$f":"IF(Nährstoffabgabe!L249=\"\",\"\",Nährstoffabgabe!L249)","v":0},{"$f":"IF(Nährstoffabgabe!M249=\"\",\"\",Nährstoffabgabe!M249)","v":0}]
[{"$f":"IF(Nährstoffabgabe!A250=\"\",\"\",Nährstoffabgabe!A250)","v":"Luzerne (20 % TM)"},{"$f":"IF(Nährstoffabgabe!B250=\"\",\"\",Nährstoffabgabe!B250)","v":650},{"$f":"IF(Nährstoffabgabe!C250=\"\",\"\",Nährstoffabgabe!C250)","v":""},{"$f":"IF(Nährstoffabgabe!D250=\"\",\"\",Nährstoffabgabe!D250)","v":""},{"$f":"Nährstoffabgabe!E250","v":0},{"$f":"IF(Nährstoffabgabe!F250=\"\",\"\",Nährstoffabgabe!F250)","v":0.65},{"$f":"IF(Nährstoffabgabe!G250=\"\",\"\",Nährstoffabgabe!G250)","v":0.14000000000000001},{"$f":"IF(Nährstoffabgabe!H250=\"\",\"\",Nährstoffabgabe!H250)","v":0.62},{"$f":"IF(Nährstoffabgabe!I250=\"\",\"\",Nährstoffabgabe!I250)","v":7.0000000000000007E-2},{"$f":"IF(Nährstoffabgabe!J250=\"\",\"\",Nährstoffabgabe!J250)","v":0},{"$f":"IF(Nährstoffabgabe!K250=\"\",\"\",Nährstoffabgabe!K250)","v":0},{"$f":"IF(Nährstoffabgabe!L250=\"\",\"\",Nährstoffabgabe!L250)","v":0},{"$f":"IF(Nährstoffabgabe!M250=\"\",\"\",Nährstoffabgabe!M250)","v":0}]
[{"$f":"IF(Nährstoffabgabe!A251=\"\",\"\",Nährstoffabgabe!A251)","v":"Luzernegras, Ganzpfl. (20 % TM)"},{"$f":"IF(Nährstoffabgabe!B251=\"\",\"\",Nährstoffabgabe!B251)","v":650},{"$f":"IF(Nährstoffabgabe!C251=\"\",\"\",Nährstoffabgabe!C251)","v":""},{"$f":"IF(Nährstoffabgabe!D251=\"\",\"\",Nährstoffabgabe!D251)","v":""},{"$f":"Nährstoffabgabe!E251","v":0},{"$f":"IF(Nährstoffabgabe!F251=\"\",\"\",Nährstoffabgabe!F251)","v":0.57999999999999996},{"$f":"IF(Nährstoffabgabe!G251=\"\",\"\",Nährstoffabgabe!G251)","v":0.15},{"$f":"IF(Nährstoffabgabe!H251=\"\",\"\",Nährstoffabgabe!H251)","v":0.65},{"$f":"IF(Nährstoffabgabe!I251=\"\",\"\",Nährstoffabgabe!I251)","v":7.0000000000000007E-2},{"$f":"IF(Nährstoffabgabe!J251=\"\",\"\",Nährstoffabgabe!J251)","v":0},{"$f":"IF(Nährstoffabgabe!K251=\"\",\"\",Nährstoffabgabe!K251)","v":0},{"$f":"IF(Nährstoffabgabe!L251=\"\",\"\",Nährstoffabgabe!L251)","v":0},{"$f":"IF(Nährstoffabgabe!M251=\"\",\"\",Nährstoffabgabe!M251)","v":0}]
[{"$f":"IF(Nährstoffabgabe!A252=\"\",\"\",Nährstoffabgabe!A252)","v":"Rotklee, Ganzpfl. (20 % TM)"},{"$f":"IF(Nährstoffabgabe!B252=\"\",\"\",Nährstoffabgabe!B252)","v":650},{"$f":"IF(Nährstoffabgabe!C252=\"\",\"\",Nährstoffabgabe!C252)","v":""},{"$f":"IF(Nährstoffabgabe!D252=\"\",\"\",Nährstoffabgabe!D252)","v":""},{"$f":"Nährstoffabgabe!E252","v":0},{"$f":"IF(Nährstoffabgabe!F252=\"\",\"\",Nährstoffabgabe!F252)","v":0.65},{"$f":"IF(Nährstoffabgabe!G252=\"\",\"\",Nährstoffabgabe!G252)","v":0.13},{"$f":"IF(Nährstoffabgabe!H252=\"\",\"\",Nährstoffabgabe!H252)","v":0.6},{"$f":"IF(Nährstoffabgabe!I252=\"\",\"\",Nährstoffabgabe!I252)","v":0.1},{"$f":"IF(Nährstoffabgabe!J252=\"\",\"\",Nährstoffabgabe!J252)","v":0},{"$f":"IF(Nährstoffabgabe!K252=\"\",\"\",Nährstoffabgabe!K252)","v":0},{"$f":"IF(Nährstoffabgabe!L252=\"\",\"\",Nährstoffabgabe!L252)","v":0},{"$f":"IF(Nährstoffabgabe!M252=\"\",\"\",Nährstoffabgabe!M252)","v":0}]
[{"$f":"IF(Nährstoffabgabe!A253=\"\",\"\",Nährstoffabgabe!A253)","v":"Silomais (28 % TM)"},{"$f":"IF(Nährstoffabgabe!B253=\"\",\"\",Nährstoffabgabe!B253)","v":550},{"$f":"IF(Nährstoffabgabe!C253=\"\",\"\",Nährstoffabgabe!C253)","v":""},{"$f":"IF(Nährstoffabgabe!D253=\"\",\"\",Nährstoffabgabe!D253)","v":""},{"$f":"Nährstoffabgabe!E253","v":0},{"$f":"IF(Nährstoffabgabe!F253=\"\",\"\",Nährstoffabgabe!F253)","v":0.38},{"$f":"IF(Nährstoffabgabe!G253=\"\",\"\",Nährstoffabgabe!G253)","v":0.16},{"$f":"IF(Nährstoffabgabe!H253=\"\",\"\",Nährstoffabgabe!H253)","v":0.45},{"$f":"IF(Nährstoffabgabe!I253=\"\",\"\",Nährstoffabgabe!I253)","v":0.09},{"$f":"IF(Nährstoffabgabe!J253=\"\",\"\",Nährstoffabgabe!J253)","v":0},{"$f":"IF(Nährstoffabgabe!K253=\"\",\"\",Nährstoffabgabe!K253)","v":0},{"$f":"IF(Nährstoffabgabe!L253=\"\",\"\",Nährstoffabgabe!L253)","v":0},{"$f":"IF(Nährstoffabgabe!M253=\"\",\"\",Nährstoffabgabe!M253)","v":0}]
[{"$f":"IF(Nährstoffabgabe!A254=\"\",\"\",Nährstoffabgabe!A254)","v":"Silomais (35 % TM)"},{"$f":"IF(Nährstoffabgabe!B254=\"\",\"\",Nährstoffabgabe!B254)","v":550},{"$f":"IF(Nährstoffabgabe!C254=\"\",\"\",Nährstoffabgabe!C254)","v":""},{"$f":"IF(Nährstoffabgabe!D254=\"\",\"\",Nährstoffabgabe!D254)","v":""},{"$f":"Nährstoffabgabe!E254","v":0},{"$f":"IF(Nährstoffabgabe!F254=\"\",\"\",Nährstoffabgabe!F254)","v":0.47},{"$f":"IF(Nährstoffabgabe!G254=\"\",\"\",Nährstoffabgabe!G254)","v":0.18},{"$f":"IF(Nährstoffabgabe!H254=\"\",\"\",Nährstoffabgabe!H254)","v":0.51},{"$f":"IF(Nährstoffabgabe!I254=\"\",\"\",Nährstoffabgabe!I254)","v":0.1},{"$f":"IF(Nährstoffabgabe!J254=\"\",\"\",Nährstoffabgabe!J254)","v":0},{"$f":"IF(Nährstoffabgabe!K254=\"\",\"\",Nährstoffabgabe!K254)","v":0},{"$f":"IF(Nährstoffabgabe!L254=\"\",\"\",Nährstoffabgabe!L254)","v":0},{"$f":"IF(Nährstoffabgabe!M254=\"\",\"\",Nährstoffabgabe!M254)","v":0}]
[{"$f":"IF(Nährstoffabgabe!A255=\"\",\"\",Nährstoffabgabe!A255)","v":"Weidelgras (Ackergras), Ganzpfl. (20 % TM)"},{"$f":"IF(Nährstoffabgabe!B255=\"\",\"\",Nährstoffabgabe!B255)","v":850},{"$f":"IF(Nährstoffabgabe!C255=\"\",\"\",Nährstoffabgabe!C255)","v":""},{"$f":"IF(Nährstoffabgabe!D255=\"\",\"\",Nährstoffabgabe!D255)","v":""},{"$f":"Nährstoffabgabe!E255","v":0},{"$f":"IF(Nährstoffabgabe!F255=\"\",\"\",Nährstoffabgabe!F255)","v":0.53},{"$f":"IF(Nährstoffabgabe!G255=\"\",\"\",Nährstoffabgabe!G255)","v":0.16},{"$f":"IF(Nährstoffabgabe!H255=\"\",\"\",Nährstoffabgabe!H255)","v":0.65},{"$f":"IF(Nährstoffabgabe!I255=\"\",\"\",Nährstoffabgabe!I255)","v":0.05},{"$f":"IF(Nährstoffabgabe!J255=\"\",\"\",Nährstoffabgabe!J255)","v":0},{"$f":"IF(Nährstoffabgabe!K255=\"\",\"\",Nährstoffabgabe!K255)","v":0},{"$f":"IF(Nährstoffabgabe!L255=\"\",\"\",Nährstoffabgabe!L255)","v":0},{"$f":"IF(Nährstoffabgabe!M255=\"\",\"\",Nährstoffabgabe!M255)","v":0}]
[{"$f":"IF(Nährstoffabgabe!A256=\"\",\"\",Nährstoffabgabe!A256)","v":"Vermehrungspflanzen"},{"$f":"IF(Nährstoffabgabe!B256=\"\",\"\",Nährstoffabgabe!B256)","v":""},{"$f":"IF(Nährstoffabgabe!C256=\"\",\"\",Nährstoffabgabe!C256)","v":""},{"$f":"IF(Nährstoffabgabe!D256=\"\",\"\",Nährstoffabgabe!D256)","v":""},{"$f":"Nährstoffabgabe!E256","v":0},{"$f":"IF(Nährstoffabgabe!F256=\"\",\"\",Nährstoffabgabe!F256)","v":""},{"$f":"IF(Nährstoffabgabe!G256=\"\",\"\",Nährstoffabgabe!G256)","v":""},{"$f":"IF(Nährstoffabgabe!H256=\"\",\"\",Nährstoffabgabe!H256)","v":""},{"$f":"IF(Nährstoffabgabe!I256=\"\",\"\",Nährstoffabgabe!I256)","v":""},{"$f":"IF(Nährstoffabgabe!J256=\"\",\"\",Nährstoffabgabe!J256)","v":""},{"$f":"IF(Nährstoffabgabe!K256=\"\",\"\",Nährstoffabgabe!K256)","v":""},{"$f":"IF(Nährstoffabgabe!L256=\"\",\"\",Nährstoffabgabe!L256)","v":""},{"$f":"IF(Nährstoffabgabe!M256=\"\",\"\",Nährstoffabgabe!M256)","v":""}]
[{"$f":"IF(Nährstoffabgabe!A257=\"\",\"\",Nährstoffabgabe!A257)","v":"Grassamenvermehrung_Samen (86 % TM)"},{"$f":"IF(Nährstoffabgabe!B257=\"\",\"\",Nährstoffabgabe!B257)","v":20},{"$f":"IF(Nährstoffabgabe!C257=\"\",\"\",Nährstoffabgabe!C257)","v":""},{"$f":"IF(Nährstoffabgabe!D257=\"\",\"\",Nährstoffabgabe!D257)","v":""},{"$f":"Nährstoffabgabe!E257","v":0},{"$f":"IF(Nährstoffabgabe!F257=\"\",\"\",Nährstoffabgabe!F257)","v":2.2000000000000002},{"$f":"IF(Nährstoffabgabe!G257=\"\",\"\",Nährstoffabgabe!G257)","v":0.7},{"$f":"IF(Nährstoffabgabe!H257=\"\",\"\",Nährstoffabgabe!H257)","v":0.5},{"$f":"IF(Nährstoffabgabe!I257=\"\",\"\",Nährstoffabgabe!I257)","v":0.17},{"$f":"IF(Nährstoffabgabe!J257=\"\",\"\",Nährstoffabgabe!J257)","v":0},{"$f":"IF(Nährstoffabgabe!K257=\"\",\"\",Nährstoffabgabe!K257)","v":0},{"$f":"IF(Nährstoffabgabe!L257=\"\",\"\",Nährstoffabgabe!L257)","v":0},{"$f":"IF(Nährstoffabgabe!M257=\"\",\"\",Nährstoffabgabe!M257)","v":0}]
[{"$f":"IF(Nährstoffabgabe!A258=\"\",\"\",Nährstoffabgabe!A258)","v":"Grassamenvermehrung_Samen + Stroh (1: 8)"},{"$f":"IF(Nährstoffabgabe!B258=\"\",\"\",Nährstoffabgabe!B258)","v":20},{"$f":"IF(Nährstoffabgabe!C258=\"\",\"\",Nährstoffabgabe!C258)","v":""},{"$f":"IF(Nährstoffabgabe!D258=\"\",\"\",Nährstoffabgabe!D258)","v":""},{"$f":"Nährstoffabgabe!E258","v":0},{"$f":"IF(Nährstoffabgabe!F258=\"\",\"\",Nährstoffabgabe!F258)","v":14.2},{"$f":"IF(Nährstoffabgabe!G258=\"\",\"\",Nährstoffabgabe!G258)","v":3.5},{"$f":"IF(Nährstoffabgabe!H258=\"\",\"\",Nährstoffabgabe!H258)","v":13.3},{"$f":"IF(Nährstoffabgabe!I258=\"\",\"\",Nährstoffabgabe!I258)","v":3.37},{"$f":"IF(Nährstoffabgabe!J258=\"\",\"\",Nährstoffabgabe!J258)","v":0},{"$f":"IF(Nährstoffabgabe!K258=\"\",\"\",Nährstoffabgabe!K258)","v":0},{"$f":"IF(Nährstoffabgabe!L258=\"\",\"\",Nährstoffabgabe!L258)","v":0},{"$f":"IF(Nährstoffabgabe!M258=\"\",\"\",Nährstoffabgabe!M258)","v":0}]
[{"$f":"IF(Nährstoffabgabe!A259=\"\",\"\",Nährstoffabgabe!A259)","v":"Grassamenvermehrung_Stroh (86 % TM)"},{"$f":"IF(Nährstoffabgabe!B259=\"\",\"\",Nährstoffabgabe!B259)","v":""},{"$f":"IF(Nährstoffabgabe!C259=\"\",\"\",Nährstoffabgabe!C259)","v":""},{"$f":"IF(Nährstoffabgabe!D259=\"\",\"\",Nährstoffabgabe!D259)","v":""},{"$f":"Nährstoffabgabe!E259","v":0},{"$f":"IF(Nährstoffabgabe!F259=\"\",\"\",Nährstoffabgabe!F259)","v":1.5},{"$f":"IF(Nährstoffabgabe!G259=\"\",\"\",Nährstoffabgabe!G259)","v":0.35},{"$f":"IF(Nährstoffabgabe!H259=\"\",\"\",Nährstoffabgabe!H259)","v":1.6},{"$f":"IF(Nährstoffabgabe!I259=\"\",\"\",Nährstoffabgabe!I259)","v":0.4},{"$f":"IF(Nährstoffabgabe!J259=\"\",\"\",Nährstoffabgabe!J259)","v":0},{"$f":"IF(Nährstoffabgabe!K259=\"\",\"\",Nährstoffabgabe!K259)","v":0},{"$f":"IF(Nährstoffabgabe!L259=\"\",\"\",Nährstoffabgabe!L259)","v":0},{"$f":"IF(Nährstoffabgabe!M259=\"\",\"\",Nährstoffabgabe!M259)","v":0}]
[{"$f":"IF(Nährstoffabgabe!A260=\"\",\"\",Nährstoffabgabe!A260)","v":"Klee-, Luzernevermehrung_Samen (91 % TM)"},{"$f":"IF(Nährstoffabgabe!B260=\"\",\"\",Nährstoffabgabe!B260)","v":4},{"$f":"IF(Nährstoffabgabe!C260=\"\",\"\",Nährstoffabgabe!C260)","v":""},{"$f":"IF(Nährstoffabgabe!D260=\"\",\"\",Nährstoffabgabe!D260)","v":""},{"$f":"Nährstoffabgabe!E260","v":0},{"$f":"IF(Nährstoffabgabe!F260=\"\",\"\",Nährstoffabgabe!F260)","v":5.5},{"$f":"IF(Nährstoffabgabe!G260=\"\",\"\",Nährstoffabgabe!G260)","v":1.46},{"$f":"IF(Nährstoffabgabe!H260=\"\",\"\",Nährstoffabgabe!H260)","v":1.25},{"$f":"IF(Nährstoffabgabe!I260=\"\",\"\",Nährstoffabgabe!I260)","v":0.27},{"$f":"IF(Nährstoffabgabe!J260=\"\",\"\",Nährstoffabgabe!J260)","v":0},{"$f":"IF(Nährstoffabgabe!K260=\"\",\"\",Nährstoffabgabe!K260)","v":0},{"$f":"IF(Nährstoffabgabe!L260=\"\",\"\",Nährstoffabgabe!L260)","v":0},{"$f":"IF(Nährstoffabgabe!M260=\"\",\"\",Nährstoffabgabe!M260)","v":0}]
[{"$f":"IF(Nährstoffabgabe!A261=\"\",\"\",Nährstoffabgabe!A261)","v":"Klee-, Luzernevermehrung_Samen + Stroh (1: 8)"},{"$f":"IF(Nährstoffabgabe!B261=\"\",\"\",Nährstoffabgabe!B261)","v":4},{"$f":"IF(Nährstoffabgabe!C261=\"\",\"\",Nährstoffabgabe!C261)","v":""},{"$f":"IF(Nährstoffabgabe!D261=\"\",\"\",Nährstoffabgabe!D261)","v":""},{"$f":"Nährstoffabgabe!E261","v":0},{"$f":"IF(Nährstoffabgabe!F261=\"\",\"\",Nährstoffabgabe!F261)","v":17.5},{"$f":"IF(Nährstoffabgabe!G261=\"\",\"\",Nährstoffabgabe!G261)","v":3.86},{"$f":"IF(Nährstoffabgabe!H261=\"\",\"\",Nährstoffabgabe!H261)","v":22.05},{"$f":"IF(Nährstoffabgabe!I261=\"\",\"\",Nährstoffabgabe!I261)","v":3.47},{"$f":"IF(Nährstoffabgabe!J261=\"\",\"\",Nährstoffabgabe!J261)","v":0},{"$f":"IF(Nährstoffabgabe!K261=\"\",\"\",Nährstoffabgabe!K261)","v":0},{"$f":"IF(Nährstoffabgabe!L261=\"\",\"\",Nährstoffabgabe!L261)","v":0},{"$f":"IF(Nährstoffabgabe!M261=\"\",\"\",Nährstoffabgabe!M261)","v":0}]
[{"$f":"IF(Nährstoffabgabe!A262=\"\",\"\",Nährstoffabgabe!A262)","v":"Klee-; Luzernevermehrung_Stroh (86 % TM)"},{"$f":"IF(Nährstoffabgabe!B262=\"\",\"\",Nährstoffabgabe!B262)","v":""},{"$f":"IF(Nährstoffabgabe!C262=\"\",\"\",Nährstoffabgabe!C262)","v":""},{"$f":"IF(Nährstoffabgabe!D262=\"\",\"\",Nährstoffabgabe!D262)","v":""},{"$f":"Nährstoffabgabe!E262","v":0},{"$f":"IF(Nährstoffabgabe!F262=\"\",\"\",Nährstoffabgabe!F262)","v":1.5},{"$f":"IF(Nährstoffabgabe!G262=\"\",\"\",Nährstoffabgabe!G262)","v":0.3},{"$f":"IF(Nährstoffabgabe!H262=\"\",\"\",Nährstoffabgabe!H262)","v":2.6},{"$f":"IF(Nährstoffabgabe!I262=\"\",\"\",Nährstoffabgabe!I262)","v":0.4},{"$f":"IF(Nährstoffabgabe!J262=\"\",\"\",Nährstoffabgabe!J262)","v":0},{"$f":"IF(Nährstoffabgabe!K262=\"\",\"\",Nährstoffabgabe!K262)","v":0},{"$f":"IF(Nährstoffabgabe!L262=\"\",\"\",Nährstoffabgabe!L262)","v":0},{"$f":"IF(Nährstoffabgabe!M262=\"\",\"\",Nährstoffabgabe!M262)","v":0}]
[{"$f":"IF(Nährstoffabgabe!A263=\"\",\"\",Nährstoffabgabe!A263)","v":"Sonstige Kulturen"},{"$f":"IF(Nährstoffabgabe!B263=\"\",\"\",Nährstoffabgabe!B263)","v":""},{"$f":"IF(Nährstoffabgabe!C263=\"\",\"\",Nährstoffabgabe!C263)","v":""},{"$f":"IF(Nährstoffabgabe!D263=\"\",\"\",Nährstoffabgabe!D263)","v":""},{"$f":"Nährstoffabgabe!E263","v":0},{"$f":"IF(Nährstoffabgabe!F263=\"\",\"\",Nährstoffabgabe!F263)","v":""},{"$f":"IF(Nährstoffabgabe!G263=\"\",\"\",Nährstoffabgabe!G263)","v":""},{"$f":"IF(Nährstoffabgabe!H263=\"\",\"\",Nährstoffabgabe!H263)","v":""},{"$f":"IF(Nährstoffabgabe!I263=\"\",\"\",Nährstoffabgabe!I263)","v":""},{"$f":"IF(Nährstoffabgabe!J263=\"\",\"\",Nährstoffabgabe!J263)","v":""},{"$f":"IF(Nährstoffabgabe!K263=\"\",\"\",Nährstoffabgabe!K263)","v":""},{"$f":"IF(Nährstoffabgabe!L263=\"\",\"\",Nährstoffabgabe!L263)","v":""},{"$f":"IF(Nährstoffabgabe!M263=\"\",\"\",Nährstoffabgabe!M263)","v":""}]
[{"$f":"IF(Nährstoffabgabe!A264=\"\",\"\",Nährstoffabgabe!A264)","v":""},{"$f":"IF(Nährstoffabgabe!B264=\"\",\"\",Nährstoffabgabe!B264)","v":""},{"$f":"IF(Nährstoffabgabe!C264=\"\",\"\",Nährstoffabgabe!C264)","v":""},{"$f":"IF(Nährstoffabgabe!D264=\"\",\"\",Nährstoffabgabe!D264)","v":""},{"$f":"Nährstoffabgabe!E264","v":0},{"$f":"IF(Nährstoffabgabe!F264=\"\",\"\",Nährstoffabgabe!F264)","v":""},{"$f":"IF(Nährstoffabgabe!G264=\"\",\"\",Nährstoffabgabe!G264)","v":""},{"$f":"IF(Nährstoffabgabe!H264=\"\",\"\",Nährstoffabgabe!H264)","v":""},{"$f":"IF(Nährstoffabgabe!I264=\"\",\"\",Nährstoffabgabe!I264)","v":""},{"$f":"IF(Nährstoffabgabe!J264=\"\",\"\",Nährstoffabgabe!J264)","v":0},{"$f":"IF(Nährstoffabgabe!K264=\"\",\"\",Nährstoffabgabe!K264)","v":0},{"$f":"IF(Nährstoffabgabe!L264=\"\",\"\",Nährstoffabgabe!L264)","v":0},{"$f":"IF(Nährstoffabgabe!M264=\"\",\"\",Nährstoffabgabe!M264)","v":0}]
[{"$f":"IF(Nährstoffabgabe!A265=\"\",\"\",Nährstoffabgabe!A265)","v":""},{"$f":"IF(Nährstoffabgabe!B265=\"\",\"\",Nährstoffabgabe!B265)","v":""},{"$f":"IF(Nährstoffabgabe!C265=\"\",\"\",Nährstoffabgabe!C265)","v":""},{"$f":"IF(Nährstoffabgabe!D265=\"\",\"\",Nährstoffabgabe!D265)","v":""},{"$f":"Nährstoffabgabe!E265","v":0},{"$f":"IF(Nährstoffabgabe!F265=\"\",\"\",Nährstoffabgabe!F265)","v":""},{"$f":"IF(Nährstoffabgabe!G265=\"\",\"\",Nährstoffabgabe!G265)","v":""},{"$f":"IF(Nährstoffabgabe!H265=\"\",\"\",Nährstoffabgabe!H265)","v":""},{"$f":"IF(Nährstoffabgabe!I265=\"\",\"\",Nährstoffabgabe!I265)","v":""},{"$f":"IF(Nährstoffabgabe!J265=\"\",\"\",Nährstoffabgabe!J265)","v":0},{"$f":"IF(Nährstoffabgabe!K265=\"\",\"\",Nährstoffabgabe!K265)","v":0},{"$f":"IF(Nährstoffabgabe!L265=\"\",\"\",Nährstoffabgabe!L265)","v":0},{"$f":"IF(Nährstoffabgabe!M265=\"\",\"\",Nährstoffabgabe!M265)","v":0}]
[{"$f":"IF(Nährstoffabgabe!A266=\"\",\"\",Nährstoffabgabe!A266)","v":""},{"$f":"IF(Nährstoffabgabe!B266=\"\",\"\",Nährstoffabgabe!B266)","v":""},{"$f":"IF(Nährstoffabgabe!C266=\"\",\"\",Nährstoffabgabe!C266)","v":""},{"$f":"IF(Nährstoffabgabe!D266=\"\",\"\",Nährstoffabgabe!D266)","v":""},{"$f":"Nährstoffabgabe!E266","v":0},{"$f":"IF(Nährstoffabgabe!F266=\"\",\"\",Nährstoffabgabe!F266)","v":""},{"$f":"IF(Nährstoffabgabe!G266=\"\",\"\",Nährstoffabgabe!G266)","v":""},{"$f":"IF(Nährstoffabgabe!H266=\"\",\"\",Nährstoffabgabe!H266)","v":""},{"$f":"IF(Nährstoffabgabe!I266=\"\",\"\",Nährstoffabgabe!I266)","v":""},{"$f":"IF(Nährstoffabgabe!J266=\"\",\"\",Nährstoffabgabe!J266)","v":0},{"$f":"IF(Nährstoffabgabe!K266=\"\",\"\",Nährstoffabgabe!K266)","v":0},{"$f":"IF(Nährstoffabgabe!L266=\"\",\"\",Nährstoffabgabe!L266)","v":0},{"$f":"IF(Nährstoffabgabe!M266=\"\",\"\",Nährstoffabgabe!M266)","v":0}]
[{"$f":"IF(Nährstoffabgabe!A267=\"\",\"\",Nährstoffabgabe!A267)","v":""},{"$f":"IF(Nährstoffabgabe!B267=\"\",\"\",Nährstoffabgabe!B267)","v":""},{"$f":"IF(Nährstoffabgabe!C267=\"\",\"\",Nährstoffabgabe!C267)","v":""},{"$f":"IF(Nährstoffabgabe!D267=\"\",\"\",Nährstoffabgabe!D267)","v":""},{"$f":"Nährstoffabgabe!E267","v":0},{"$f":"IF(Nährstoffabgabe!F267=\"\",\"\",Nährstoffabgabe!F267)","v":""},{"$f":"IF(Nährstoffabgabe!G267=\"\",\"\",Nährstoffabgabe!G267)","v":""},{"$f":"IF(Nährstoffabgabe!H267=\"\",\"\",Nährstoffabgabe!H267)","v":""},{"$f":"IF(Nährstoffabgabe!I267=\"\",\"\",Nährstoffabgabe!I267)","v":""},{"$f":"IF(Nährstoffabgabe!J267=\"\",\"\",Nährstoffabgabe!J267)","v":0},{"$f":"IF(Nährstoffabgabe!K267=\"\",\"\",Nährstoffabgabe!K267)","v":0},{"$f":"IF(Nährstoffabgabe!L267=\"\",\"\",Nährstoffabgabe!L267)","v":0},{"$f":"IF(Nährstoffabgabe!M267=\"\",\"\",Nährstoffabgabe!M267)","v":0}]
[{"$f":"IF(Nährstoffabgabe!A268=\"\",\"\",Nährstoffabgabe!A268)","v":""},{"$f":"IF(Nährstoffabgabe!B268=\"\",\"\",Nährstoffabgabe!B268)","v":""},{"$f":"IF(Nährstoffabgabe!C268=\"\",\"\",Nährstoffabgabe!C268)","v":""},{"$f":"IF(Nährstoffabgabe!D268=\"\",\"\",Nährstoffabgabe!D268)","v":""},{"$f":"Nährstoffabgabe!E268","v":0},{"$f":"IF(Nährstoffabgabe!F268=\"\",\"\",Nährstoffabgabe!F268)","v":""},{"$f":"IF(Nährstoffabgabe!G268=\"\",\"\",Nährstoffabgabe!G268)","v":""},{"$f":"IF(Nährstoffabgabe!H268=\"\",\"\",Nährstoffabgabe!H268)","v":""},{"$f":"IF(Nährstoffabgabe!I268=\"\",\"\",Nährstoffabgabe!I268)","v":""},{"$f":"IF(Nährstoffabgabe!J268=\"\",\"\",Nährstoffabgabe!J268)","v":0},{"$f":"IF(Nährstoffabgabe!K268=\"\",\"\",Nährstoffabgabe!K268)","v":0},{"$f":"IF(Nährstoffabgabe!L268=\"\",\"\",Nährstoffabgabe!L268)","v":0},{"$f":"IF(Nährstoffabgabe!M268=\"\",\"\",Nährstoffabgabe!M268)","v":0}]
[{"$f":"IF(Nährstoffabgabe!A269=\"\",\"\",Nährstoffabgabe!A269)","v":"Summe"},{"$f":"IF(Nährstoffabgabe!B269=\"\",\"\",Nährstoffabgabe!B269)","v":""},{"$f":"IF(Nährstoffabgabe!C269=\"\",\"\",Nährstoffabgabe!C269)","v":""},{"$f":"IF(Nährstoffabgabe!D269=\"\",\"\",Nährstoffabgabe!D269)","v":0},{"$f":"IF(Nährstoffabgabe!E269=\"\",\"\",Nährstoffabgabe!E269)","v":0},{"$f":"IF(Nährstoffabgabe!F269=\"\",\"\",Nährstoffabgabe!F269)","v":""},{"$f":"IF([1]Nährstoffabgabe!G261=\"\",\"\",[1]Nährstoffabgabe!G261)","v":0},{"$f":"IF([1]Nährstoffabgabe!H261=\"\",\"\",[1]Nährstoffabgabe!H261)","v":0},{"$f":"IF([1]Nährstoffabgabe!I261=\"\",\"\",[1]Nährstoffabgabe!I261)","v":0},{"$f":"IF(Nährstoffabgabe!J269=\"\",\"\",Nährstoffabgabe!J269)","v":0},{"$f":"IF(Nährstoffabgabe!K269=\"\",\"\",Nährstoffabgabe!K269)","v":0},{"$f":"IF(Nährstoffabgabe!L269=\"\",\"\",Nährstoffabgabe!L269)","v":0},{"$f":"IF(Nährstoffabgabe!M269=\"\",\"\",Nährstoffabgabe!M269)","v":0}]
[{"$f":"IF(Nährstoffabgabe!A270=\"\",\"\",Nährstoffabgabe!A270)","v":""},{"$f":"IF(Nährstoffabgabe!B270=\"\",\"\",Nährstoffabgabe!B270)","v":""},{"$f":"IF(Nährstoffabgabe!C270=\"\",\"\",Nährstoffabgabe!C270)","v":""},{"$f":"IF(Nährstoffabgabe!D270=\"\",\"\",Nährstoffabgabe!D270)","v":""},{"$f":"IF(Nährstoffabgabe!E270=\"\",\"\",Nährstoffabgabe!E270)","v":""},{"$f":"IF(Nährstoffabgabe!F270=\"\",\"\",Nährstoffabgabe!F270)","v":""},{"$f":"IF(Nährstoffabgabe!G270=\"\",\"\",Nährstoffabgabe!G270)","v":""},{"$f":"IF(Nährstoffabgabe!H270=\"\",\"\",Nährstoffabgabe!H270)","v":""},{"$f":"IF(Nährstoffabgabe!I270=\"\",\"\",Nährstoffabgabe!I270)","v":""},{"$f":"IF(Nährstoffabgabe!J270=\"\",\"\",Nährstoffabgabe!J270)","v":""},{"$f":"IF(Nährstoffabgabe!K270=\"\",\"\",Nährstoffabgabe!K270)","v":""},{"$f":"IF(Nährstoffabgabe!L270=\"\",\"\",Nährstoffabgabe!L270)","v":""},{"$f":"IF(Nährstoffabgabe!M270=\"\",\"\",Nährstoffabgabe!M270)","v":""}]
[{"$f":"IF(Nährstoffabgabe!A271=\"\",\"\",Nährstoffabgabe!A271)","v":"Sonstige Hauptkulturen"},{"$f":"IF(Nährstoffabgabe!B271=\"\",\"\",Nährstoffabgabe!B271)","v":"Marktertrag \ndt/ha FM"},{"$f":"IF(Nährstoffabgabe!C271=\"\",\"\",Nährstoffabgabe!C271)","v":""},null,{"$f":"IF(Nährstoffabgabe!E271=\"\",\"\",Nährstoffabgabe!E271)","v":"Abgabemenge"},{"$f":"IF(Nährstoffabgabe!F271=\"\",\"\",Nährstoffabgabe!F271)","v":"Nährstoffgehalt kg/dt FM\n(Grünland kg/dt TM)"},null,null,null,{"$f":"IF(Nährstoffabgabe!J271=\"\",\"\",Nährstoffabgabe!J271)","v":"Nährstoffabgabe kg/Betrieb"}]
[null,{"$f":"IF(Nährstoffabgabe!B272=\"\",\"\",Nährstoffabgabe!B272)","v":"Vorschlag"},{"$f":"IF(Nährstoffabgabe!C272=\"\",\"\",Nährstoffabgabe!C272)","v":"Betrieb"},{"$f":"IF(Nährstoffabgabe!D272=\"\",\"\",Nährstoffabgabe!D272)","v":"ha"},{"$f":"IF(Nährstoffabgabe!E272=\"\",\"\",Nährstoffabgabe!E272)","v":"dt FM"},{"$f":"IF(Nährstoffabgabe!F272=\"\",\"\",Nährstoffabgabe!F272)","v":"N"},{"$f":"IF(Nährstoffabgabe!G272=\"\",\"\",Nährstoffabgabe!G272)","v":"P2O5"},{"$f":"IF(Nährstoffabgabe!H272=\"\",\"\",Nährstoffabgabe!H272)","v":"K2O"},{"$f":"IF(Nährstoffabgabe!I272=\"\",\"\",Nährstoffabgabe!I272)","v":"MgO"},{"$f":"IF(Nährstoffabgabe!J272=\"\",\"\",Nährstoffabgabe!J272)","v":"N"},{"$f":"IF(Nährstoffabgabe!K272=\"\",\"\",Nährstoffabgabe!K272)","v":"P2O5"},{"$f":"IF(Nährstoffabgabe!L272=\"\",\"\",Nährstoffabgabe!L272)","v":"K2O"},{"$f":"IF(Nährstoffabgabe!M272=\"\",\"\",Nährstoffabgabe!M272)","v":"MgO"}]
[{"$f":"IF(Nährstoffabgabe!A273=\"\",\"\",Nährstoffabgabe!A273)","v":"Obst"},{"$f":"IF(Nährstoffabgabe!B273=\"\",\"\",Nährstoffabgabe!B273)","v":""},{"$f":"IF(Nährstoffabgabe!C273=\"\",\"\",Nährstoffabgabe!C273)","v":""},{"$f":"IF(Nährstoffabgabe!D273=\"\",\"\",Nährstoffabgabe!D273)","v":""},{"$f":"Nährstoffabgabe!E273","v":0},{"$f":"IF(Nährstoffabgabe!F273=\"\",\"\",Nährstoffabgabe!F273)","v":""},{"$f":"IF(Nährstoffabgabe!G273=\"\",\"\",Nährstoffabgabe!G273)","v":""},{"$f":"IF(Nährstoffabgabe!H273=\"\",\"\",Nährstoffabgabe!H273)","v":""},{"$f":"IF(Nährstoffabgabe!I273=\"\",\"\",Nährstoffabgabe!I273)","v":""},{"$f":"IF(Nährstoffabgabe!J273=\"\",\"\",Nährstoffabgabe!J273)","v":""},{"$f":"IF(Nährstoffabgabe!K273=\"\",\"\",Nährstoffabgabe!K273)","v":""},{"$f":"IF(Nährstoffabgabe!L273=\"\",\"\",Nährstoffabgabe!L273)","v":""},{"$f":"IF(Nährstoffabgabe!M273=\"\",\"\",Nährstoffabgabe!M273)","v":""}]
[{"$f":"IF(Nährstoffabgabe!A274=\"\",\"\",Nährstoffabgabe!A274)","v":"Apfel/Birne"},{"$f":"IF(Nährstoffabgabe!B274=\"\",\"\",Nährstoffabgabe!B274)","v":400},{"$f":"IF(Nährstoffabgabe!C274=\"\",\"\",Nährstoffabgabe!C274)","v":""},{"$f":"IF(Nährstoffabgabe!D274=\"\",\"\",Nährstoffabgabe!D274)","v":""},{"$f":"Nährstoffabgabe!E274","v":0},{"$f":"IF(Nährstoffabgabe!F274=\"\",\"\",Nährstoffabgabe!F274)","v":0.11},{"$f":"IF(Nährstoffabgabe!G274=\"\",\"\",Nährstoffabgabe!G274)","v":0.03},{"$f":"IF(Nährstoffabgabe!H274=\"\",\"\",Nährstoffabgabe!H274)","v":0.18},{"$f":"IF(Nährstoffabgabe!I274=\"\",\"\",Nährstoffabgabe!I274)","v":0.01},{"$f":"IF(Nährstoffabgabe!J274=\"\",\"\",Nährstoffabgabe!J274)","v":0},{"$f":"IF(Nährstoffabgabe!K274=\"\",\"\",Nährstoffabgabe!K274)","v":0},{"$f":"IF(Nährstoffabgabe!L274=\"\",\"\",Nährstoffabgabe!L274)","v":0},{"$f":"IF(Nährstoffabgabe!M274=\"\",\"\",Nährstoffabgabe!M274)","v":0}]
[{"$f":"IF(Nährstoffabgabe!A275=\"\",\"\",Nährstoffabgabe!A275)","v":"Kirsche"},{"$f":"IF(Nährstoffabgabe!B275=\"\",\"\",Nährstoffabgabe!B275)","v":120},{"$f":"IF(Nährstoffabgabe!C275=\"\",\"\",Nährstoffabgabe!C275)","v":""},{"$f":"IF(Nährstoffabgabe!D275=\"\",\"\",Nährstoffabgabe!D275)","v":""},{"$f":"Nährstoffabgabe!E275","v":0},{"$f":"IF(Nährstoffabgabe!F275=\"\",\"\",Nährstoffabgabe!F275)","v":0.21},{"$f":"IF(Nährstoffabgabe!G275=\"\",\"\",Nährstoffabgabe!G275)","v":0.06},{"$f":"IF(Nährstoffabgabe!H275=\"\",\"\",Nährstoffabgabe!H275)","v":0.25},{"$f":"IF(Nährstoffabgabe!I275=\"\",\"\",Nährstoffabgabe!I275)","v":0.03},{"$f":"IF(Nährstoffabgabe!J275=\"\",\"\",Nährstoffabgabe!J275)","v":0},{"$f":"IF(Nährstoffabgabe!K275=\"\",\"\",Nährstoffabgabe!K275)","v":0},{"$f":"IF(Nährstoffabgabe!L275=\"\",\"\",Nährstoffabgabe!L275)","v":0},{"$f":"IF(Nährstoffabgabe!M275=\"\",\"\",Nährstoffabgabe!M275)","v":0}]
[{"$f":"IF(Nährstoffabgabe!A276=\"\",\"\",Nährstoffabgabe!A276)","v":"Pflaume/Zwetsche/Mirabelle"},{"$f":"IF(Nährstoffabgabe!B276=\"\",\"\",Nährstoffabgabe!B276)","v":220},{"$f":"IF(Nährstoffabgabe!C276=\"\",\"\",Nährstoffabgabe!C276)","v":""},{"$f":"IF(Nährstoffabgabe!D276=\"\",\"\",Nährstoffabgabe!D276)","v":""},{"$f":"Nährstoffabgabe!E276","v":0},{"$f":"IF(Nährstoffabgabe!F276=\"\",\"\",Nährstoffabgabe!F276)","v":0.16},{"$f":"IF(Nährstoffabgabe!G276=\"\",\"\",Nährstoffabgabe!G276)","v":0.05},{"$f":"IF(Nährstoffabgabe!H276=\"\",\"\",Nährstoffabgabe!H276)","v":0.32},{"$f":"IF(Nährstoffabgabe!I276=\"\",\"\",Nährstoffabgabe!I276)","v":0.02},{"$f":"IF(Nährstoffabgabe!J276=\"\",\"\",Nährstoffabgabe!J276)","v":0},{"$f":"IF(Nährstoffabgabe!K276=\"\",\"\",Nährstoffabgabe!K276)","v":0},{"$f":"IF(Nährstoffabgabe!L276=\"\",\"\",Nährstoffabgabe!L276)","v":0},{"$f":"IF(Nährstoffabgabe!M276=\"\",\"\",Nährstoffabgabe!M276)","v":0}]
[{"$f":"IF(Nährstoffabgabe!A277=\"\",\"\",Nährstoffabgabe!A277)","v":"Aprikose/Pfirsich"},{"$f":"IF(Nährstoffabgabe!B277=\"\",\"\",Nährstoffabgabe!B277)","v":160},{"$f":"IF(Nährstoffabgabe!C277=\"\",\"\",Nährstoffabgabe!C277)","v":""},{"$f":"IF(Nährstoffabgabe!D277=\"\",\"\",Nährstoffabgabe!D277)","v":""},{"$f":"Nährstoffabgabe!E277","v":0},{"$f":"IF(Nährstoffabgabe!F277=\"\",\"\",Nährstoffabgabe!F277)","v":0.16},{"$f":"IF(Nährstoffabgabe!G277=\"\",\"\",Nährstoffabgabe!G277)","v":0.05},{"$f":"IF(Nährstoffabgabe!H277=\"\",\"\",Nährstoffabgabe!H277)","v":0.32},{"$f":"IF(Nährstoffabgabe!I277=\"\",\"\",Nährstoffabgabe!I277)","v":0.02},{"$f":"IF(Nährstoffabgabe!J277=\"\",\"\",Nährstoffabgabe!J277)","v":0},{"$f":"IF(Nährstoffabgabe!K277=\"\",\"\",Nährstoffabgabe!K277)","v":0},{"$f":"IF(Nährstoffabgabe!L277=\"\",\"\",Nährstoffabgabe!L277)","v":0},{"$f":"IF(Nährstoffabgabe!M277=\"\",\"\",Nährstoffabgabe!M277)","v":0}]
[{"$f":"IF(Nährstoffabgabe!A278=\"\",\"\",Nährstoffabgabe!A278)","v":"Erdbeeren"},{"$f":"IF(Nährstoffabgabe!B278=\"\",\"\",Nährstoffabgabe!B278)","v":140},{"$f":"IF(Nährstoffabgabe!C278=\"\",\"\",Nährstoffabgabe!C278)","v":""},{"$f":"IF(Nährstoffabgabe!D278=\"\",\"\",Nährstoffabgabe!D278)","v":""},{"$f":"Nährstoffabgabe!E278","v":0},{"$f":"IF(Nährstoffabgabe!F278=\"\",\"\",Nährstoffabgabe!F278)","v":0.17},{"$f":"IF(Nährstoffabgabe!G278=\"\",\"\",Nährstoffabgabe!G278)","v":0.05},{"$f":"IF(Nährstoffabgabe!H278=\"\",\"\",Nährstoffabgabe!H278)","v":0.28000000000000003},{"$f":"IF(Nährstoffabgabe!I278=\"\",\"\",Nährstoffabgabe!I278)","v":0.03},{"$f":"IF(Nährstoffabgabe!J278=\"\",\"\",Nährstoffabgabe!J278)","v":0},{"$f":"IF(Nährstoffabgabe!K278=\"\",\"\",Nährstoffabgabe!K278)","v":0},{"$f":"IF(Nährstoffabgabe!L278=\"\",\"\",Nährstoffabgabe!L278)","v":0},{"$f":"IF(Nährstoffabgabe!M278=\"\",\"\",Nährstoffabgabe!M278)","v":0}]
[{"$f":"IF(Nährstoffabgabe!A279=\"\",\"\",Nährstoffabgabe!A279)","v":"Himbeere"},{"$f":"IF(Nährstoffabgabe!B279=\"\",\"\",Nährstoffabgabe!B279)","v":100},{"$f":"IF(Nährstoffabgabe!C279=\"\",\"\",Nährstoffabgabe!C279)","v":""},{"$f":"IF(Nährstoffabgabe!D279=\"\",\"\",Nährstoffabgabe!D279)","v":""},{"$f":"Nährstoffabgabe!E279","v":0},{"$f":"IF(Nährstoffabgabe!F279=\"\",\"\",Nährstoffabgabe!F279)","v":0.2},{"$f":"IF(Nährstoffabgabe!G279=\"\",\"\",Nährstoffabgabe!G279)","v":0.04},{"$f":"IF(Nährstoffabgabe!H279=\"\",\"\",Nährstoffabgabe!H279)","v":0.2},{"$f":"IF(Nährstoffabgabe!I279=\"\",\"\",Nährstoffabgabe!I279)","v":0.05},{"$f":"IF(Nährstoffabgabe!J279=\"\",\"\",Nährstoffabgabe!J279)","v":0},{"$f":"IF(Nährstoffabgabe!K279=\"\",\"\",Nährstoffabgabe!K279)","v":0},{"$f":"IF(Nährstoffabgabe!L279=\"\",\"\",Nährstoffabgabe!L279)","v":0},{"$f":"IF(Nährstoffabgabe!M279=\"\",\"\",Nährstoffabgabe!M279)","v":0}]
[{"$f":"IF(Nährstoffabgabe!A280=\"\",\"\",Nährstoffabgabe!A280)","v":"Brombeere"},{"$f":"IF(Nährstoffabgabe!B280=\"\",\"\",Nährstoffabgabe!B280)","v":100},{"$f":"IF(Nährstoffabgabe!C280=\"\",\"\",Nährstoffabgabe!C280)","v":""},{"$f":"IF(Nährstoffabgabe!D280=\"\",\"\",Nährstoffabgabe!D280)","v":""},{"$f":"Nährstoffabgabe!E280","v":0},{"$f":"IF(Nährstoffabgabe!F280=\"\",\"\",Nährstoffabgabe!F280)","v":0.2},{"$f":"IF(Nährstoffabgabe!G280=\"\",\"\",Nährstoffabgabe!G280)","v":7.0000000000000007E-2},{"$f":"IF(Nährstoffabgabe!H280=\"\",\"\",Nährstoffabgabe!H280)","v":0.23},{"$f":"IF(Nährstoffabgabe!I280=\"\",\"\",Nährstoffabgabe!I280)","v":0.05},{"$f":"IF(Nährstoffabgabe!J280=\"\",\"\",Nährstoffabgabe!J280)","v":0},{"$f":"IF(Nährstoffabgabe!K280=\"\",\"\",Nährstoffabgabe!K280)","v":0},{"$f":"IF(Nährstoffabgabe!L280=\"\",\"\",Nährstoffabgabe!L280)","v":0},{"$f":"IF(Nährstoffabgabe!M280=\"\",\"\",Nährstoffabgabe!M280)","v":0}]
[{"$f":"IF(Nährstoffabgabe!A281=\"\",\"\",Nährstoffabgabe!A281)","v":"Johannisbeere/Holunderbeeren"},{"$f":"IF(Nährstoffabgabe!B281=\"\",\"\",Nährstoffabgabe!B281)","v":140},{"$f":"IF(Nährstoffabgabe!C281=\"\",\"\",Nährstoffabgabe!C281)","v":""},{"$f":"IF(Nährstoffabgabe!D281=\"\",\"\",Nährstoffabgabe!D281)","v":""},{"$f":"Nährstoffabgabe!E281","v":0},{"$f":"IF(Nährstoffabgabe!F281=\"\",\"\",Nährstoffabgabe!F281)","v":0.2},{"$f":"IF(Nährstoffabgabe!G281=\"\",\"\",Nährstoffabgabe!G281)","v":0.1},{"$f":"IF(Nährstoffabgabe!H281=\"\",\"\",Nährstoffabgabe!H281)","v":0.3},{"$f":"IF(Nährstoffabgabe!I281=\"\",\"\",Nährstoffabgabe!I281)","v":0.03},{"$f":"IF(Nährstoffabgabe!J281=\"\",\"\",Nährstoffabgabe!J281)","v":0},{"$f":"IF(Nährstoffabgabe!K281=\"\",\"\",Nährstoffabgabe!K281)","v":0},{"$f":"IF(Nährstoffabgabe!L281=\"\",\"\",Nährstoffabgabe!L281)","v":0},{"$f":"IF(Nährstoffabgabe!M281=\"\",\"\",Nährstoffabgabe!M281)","v":0}]
[{"$f":"IF(Nährstoffabgabe!A282=\"\",\"\",Nährstoffabgabe!A282)","v":"Stachelbeere/Andenbeere (Physalis peruviana)"},{"$f":"IF(Nährstoffabgabe!B282=\"\",\"\",Nährstoffabgabe!B282)","v":150},{"$f":"IF(Nährstoffabgabe!C282=\"\",\"\",Nährstoffabgabe!C282)","v":""},{"$f":"IF(Nährstoffabgabe!D282=\"\",\"\",Nährstoffabgabe!D282)","v":""},{"$f":"Nährstoffabgabe!E282","v":0},{"$f":"IF(Nährstoffabgabe!F282=\"\",\"\",Nährstoffabgabe!F282)","v":0.2},{"$f":"IF(Nährstoffabgabe!G282=\"\",\"\",Nährstoffabgabe!G282)","v":7.0000000000000007E-2},{"$f":"IF(Nährstoffabgabe!H282=\"\",\"\",Nährstoffabgabe!H282)","v":0.28999999999999998},{"$f":"IF(Nährstoffabgabe!I282=\"\",\"\",Nährstoffabgabe!I282)","v":0.02},{"$f":"IF(Nährstoffabgabe!J282=\"\",\"\",Nährstoffabgabe!J282)","v":0},{"$f":"IF(Nährstoffabgabe!K282=\"\",\"\",Nährstoffabgabe!K282)","v":0},{"$f":"IF(Nährstoffabgabe!L282=\"\",\"\",Nährstoffabgabe!L282)","v":0},{"$f":"IF(Nährstoffabgabe!M282=\"\",\"\",Nährstoffabgabe!M282)","v":0}]
[{"$f":"IF(Nährstoffabgabe!A283=\"\",\"\",Nährstoffabgabe!A283)","v":"Haselnüsse"},{"$f":"IF(Nährstoffabgabe!B283=\"\",\"\",Nährstoffabgabe!B283)","v":30},{"$f":"IF(Nährstoffabgabe!C283=\"\",\"\",Nährstoffabgabe!C283)","v":""},{"$f":"IF(Nährstoffabgabe!D283=\"\",\"\",Nährstoffabgabe!D283)","v":""},{"$f":"Nährstoffabgabe!E283","v":0},{"$f":"IF(Nährstoffabgabe!F283=\"\",\"\",Nährstoffabgabe!F283)","v":1.9},{"$f":"IF(Nährstoffabgabe!G283=\"\",\"\",Nährstoffabgabe!G283)","v":0.7},{"$f":"IF(Nährstoffabgabe!H283=\"\",\"\",Nährstoffabgabe!H283)","v":0.6},{"$f":"IF(Nährstoffabgabe!I283=\"\",\"\",Nährstoffabgabe!I283)","v":0.2},{"$f":"IF(Nährstoffabgabe!J283=\"\",\"\",Nährstoffabgabe!J283)","v":0},{"$f":"IF(Nährstoffabgabe!K283=\"\",\"\",Nährstoffabgabe!K283)","v":0},{"$f":"IF(Nährstoffabgabe!L283=\"\",\"\",Nährstoffabgabe!L283)","v":0},{"$f":"IF(Nährstoffabgabe!M283=\"\",\"\",Nährstoffabgabe!M283)","v":0}]
[{"$f":"IF(Nährstoffabgabe!A284=\"\",\"\",Nährstoffabgabe!A284)","v":"Walnüsse"},{"$f":"IF(Nährstoffabgabe!B284=\"\",\"\",Nährstoffabgabe!B284)","v":30},{"$f":"IF(Nährstoffabgabe!C284=\"\",\"\",Nährstoffabgabe!C284)","v":""},{"$f":"IF(Nährstoffabgabe!D284=\"\",\"\",Nährstoffabgabe!D284)","v":""},{"$f":"Nährstoffabgabe!E284","v":0},{"$f":"IF(Nährstoffabgabe!F284=\"\",\"\",Nährstoffabgabe!F284)","v":1.9},{"$f":"IF(Nährstoffabgabe!G284=\"\",\"\",Nährstoffabgabe!G284)","v":0.7},{"$f":"IF(Nährstoffabgabe!H284=\"\",\"\",Nährstoffabgabe!H284)","v":0.6},{"$f":"IF(Nährstoffabgabe!I284=\"\",\"\",Nährstoffabgabe!I284)","v":0.2},{"$f":"IF(Nährstoffabgabe!J284=\"\",\"\",Nährstoffabgabe!J284)","v":0},{"$f":"IF(Nährstoffabgabe!K284=\"\",\"\",Nährstoffabgabe!K284)","v":0},{"$f":"IF(Nährstoffabgabe!L284=\"\",\"\",Nährstoffabgabe!L284)","v":0},{"$f":"IF(Nährstoffabgabe!M284=\"\",\"\",Nährstoffabgabe!M284)","v":0}]
[{"$f":"IF(Nährstoffabgabe!A285=\"\",\"\",Nährstoffabgabe!A285)","v":"Kernobst"},{"$f":"IF(Nährstoffabgabe!B285=\"\",\"\",Nährstoffabgabe!B285)","v":400},{"$f":"IF(Nährstoffabgabe!C285=\"\",\"\",Nährstoffabgabe!C285)","v":""},{"$f":"IF(Nährstoffabgabe!D285=\"\",\"\",Nährstoffabgabe!D285)","v":""},{"$f":"Nährstoffabgabe!E285","v":0},{"$f":"IF(Nährstoffabgabe!F285=\"\",\"\",Nährstoffabgabe!F285)","v":0.11},{"$f":"IF(Nährstoffabgabe!G285=\"\",\"\",Nährstoffabgabe!G285)","v":0.03},{"$f":"IF(Nährstoffabgabe!H285=\"\",\"\",Nährstoffabgabe!H285)","v":0.19},{"$f":"IF(Nährstoffabgabe!I285=\"\",\"\",Nährstoffabgabe!I285)","v":0.03},{"$f":"IF(Nährstoffabgabe!J285=\"\",\"\",Nährstoffabgabe!J285)","v":0},{"$f":"IF(Nährstoffabgabe!K285=\"\",\"\",Nährstoffabgabe!K285)","v":0},{"$f":"IF(Nährstoffabgabe!L285=\"\",\"\",Nährstoffabgabe!L285)","v":0},{"$f":"IF(Nährstoffabgabe!M285=\"\",\"\",Nährstoffabgabe!M285)","v":0}]
[{"$f":"IF(Nährstoffabgabe!A286=\"\",\"\",Nährstoffabgabe!A286)","v":"Steinobst"},{"$f":"IF(Nährstoffabgabe!B286=\"\",\"\",Nährstoffabgabe!B286)","v":200},{"$f":"IF(Nährstoffabgabe!C286=\"\",\"\",Nährstoffabgabe!C286)","v":""},{"$f":"IF(Nährstoffabgabe!D286=\"\",\"\",Nährstoffabgabe!D286)","v":""},{"$f":"Nährstoffabgabe!E286","v":0},{"$f":"IF(Nährstoffabgabe!F286=\"\",\"\",Nährstoffabgabe!F286)","v":0.18},{"$f":"IF(Nährstoffabgabe!G286=\"\",\"\",Nährstoffabgabe!G286)","v":0.06},{"$f":"IF(Nährstoffabgabe!H286=\"\",\"\",Nährstoffabgabe!H286)","v":0.3},{"$f":"IF(Nährstoffabgabe!I286=\"\",\"\",Nährstoffabgabe!I286)","v":0.03},{"$f":"IF(Nährstoffabgabe!J286=\"\",\"\",Nährstoffabgabe!J286)","v":0},{"$f":"IF(Nährstoffabgabe!K286=\"\",\"\",Nährstoffabgabe!K286)","v":0},{"$f":"IF(Nährstoffabgabe!L286=\"\",\"\",Nährstoffabgabe!L286)","v":0},{"$f":"IF(Nährstoffabgabe!M286=\"\",\"\",Nährstoffabgabe!M286)","v":0}]
[{"$f":"IF(Nährstoffabgabe!A287=\"\",\"\",Nährstoffabgabe!A287)","v":"Hopfen"},{"$f":"IF(Nährstoffabgabe!B287=\"\",\"\",Nährstoffabgabe!B287)","v":""},{"$f":"IF(Nährstoffabgabe!C287=\"\",\"\",Nährstoffabgabe!C287)","v":""},{"$f":"IF(Nährstoffabgabe!D287=\"\",\"\",Nährstoffabgabe!D287)","v":""},{"$f":"Nährstoffabgabe!E287","v":0},{"$f":"IF(Nährstoffabgabe!F287=\"\",\"\",Nährstoffabgabe!F287)","v":""},{"$f":"IF(Nährstoffabgabe!G287=\"\",\"\",Nährstoffabgabe!G287)","v":""},{"$f":"IF(Nährstoffabgabe!H287=\"\",\"\",Nährstoffabgabe!H287)","v":""},{"$f":"IF(Nährstoffabgabe!I287=\"\",\"\",Nährstoffabgabe!I287)","v":""},{"$f":"IF(Nährstoffabgabe!J287=\"\",\"\",Nährstoffabgabe!J287)","v":""},{"$f":"IF(Nährstoffabgabe!K287=\"\",\"\",Nährstoffabgabe!K287)","v":""},{"$f":"IF(Nährstoffabgabe!L287=\"\",\"\",Nährstoffabgabe!L287)","v":""},{"$f":"IF(Nährstoffabgabe!M287=\"\",\"\",Nährstoffabgabe!M287)","v":""}]
[{"$f":"IF(Nährstoffabgabe!A288=\"\",\"\",Nährstoffabgabe!A288)","v":"Hopfen, Dolden (90 % TM)"},{"$f":"IF(Nährstoffabgabe!B288=\"\",\"\",Nährstoffabgabe!B288)","v":17.5},{"$f":"IF(Nährstoffabgabe!C288=\"\",\"\",Nährstoffabgabe!C288)","v":""},{"$f":"IF(Nährstoffabgabe!D288=\"\",\"\",Nährstoffabgabe!D288)","v":""},{"$f":"Nährstoffabgabe!E288","v":0},{"$f":"IF(Nährstoffabgabe!F288=\"\",\"\",Nährstoffabgabe!F288)","v":3},{"$f":"IF(Nährstoffabgabe!G288=\"\",\"\",Nährstoffabgabe!G288)","v":1},{"$f":"IF(Nährstoffabgabe!H288=\"\",\"\",Nährstoffabgabe!H288)","v":2.6},{"$f":"IF(Nährstoffabgabe!I288=\"\",\"\",Nährstoffabgabe!I288)","v":0.5},{"$f":"IF(Nährstoffabgabe!J288=\"\",\"\",Nährstoffabgabe!J288)","v":0},{"$f":"IF(Nährstoffabgabe!K288=\"\",\"\",Nährstoffabgabe!K288)","v":0},{"$f":"IF(Nährstoffabgabe!L288=\"\",\"\",Nährstoffabgabe!L288)","v":0},{"$f":"IF(Nährstoffabgabe!M288=\"\",\"\",Nährstoffabgabe!M288)","v":0}]
[{"$f":"IF(Nährstoffabgabe!A289=\"\",\"\",Nährstoffabgabe!A289)","v":"Hopfen, Rebenhäcksel (27 % TM)"},{"$f":"IF(Nährstoffabgabe!B289=\"\",\"\",Nährstoffabgabe!B289)","v":140},{"$f":"IF(Nährstoffabgabe!C289=\"\",\"\",Nährstoffabgabe!C289)","v":""},{"$f":"IF(Nährstoffabgabe!D289=\"\",\"\",Nährstoffabgabe!D289)","v":""},{"$f":"Nährstoffabgabe!E289","v":0},{"$f":"IF(Nährstoffabgabe!F289=\"\",\"\",Nährstoffabgabe!F289)","v":0.6},{"$f":"IF(Nährstoffabgabe!G289=\"\",\"\",Nährstoffabgabe!G289)","v":0.13},{"$f":"IF(Nährstoffabgabe!H289=\"\",\"\",Nährstoffabgabe!H289)","v":0.59},{"$f":"IF(Nährstoffabgabe!I289=\"\",\"\",Nährstoffabgabe!I289)","v":0.21},{"$f":"IF(Nährstoffabgabe!J289=\"\",\"\",Nährstoffabgabe!J289)","v":0},{"$f":"IF(Nährstoffabgabe!K289=\"\",\"\",Nährstoffabgabe!K289)","v":0},{"$f":"IF(Nährstoffabgabe!L289=\"\",\"\",Nährstoffabgabe!L289)","v":0},{"$f":"IF(Nährstoffabgabe!M289=\"\",\"\",Nährstoffabgabe!M289)","v":0}]
[{"$f":"IF(Nährstoffabgabe!A290=\"\",\"\",Nährstoffabgabe!A290)","v":"Hopfen, Ganzpfl."},{"$f":"IF(Nährstoffabgabe!B290=\"\",\"\",Nährstoffabgabe!B290)","v":158},{"$f":"IF(Nährstoffabgabe!C290=\"\",\"\",Nährstoffabgabe!C290)","v":""},{"$f":"IF(Nährstoffabgabe!D290=\"\",\"\",Nährstoffabgabe!D290)","v":""},{"$f":"Nährstoffabgabe!E290","v":0},{"$f":"IF(Nährstoffabgabe!F290=\"\",\"\",Nährstoffabgabe!F290)","v":8.5},{"$f":"IF(Nährstoffabgabe!G290=\"\",\"\",Nährstoffabgabe!G290)","v":2},{"$f":"IF(Nährstoffabgabe!H290=\"\",\"\",Nährstoffabgabe!H290)","v":7.3},{"$f":"IF(Nährstoffabgabe!I290=\"\",\"\",Nährstoffabgabe!I290)","v":2.2000000000000002},{"$f":"IF(Nährstoffabgabe!J290=\"\",\"\",Nährstoffabgabe!J290)","v":0},{"$f":"IF(Nährstoffabgabe!K290=\"\",\"\",Nährstoffabgabe!K290)","v":0},{"$f":"IF(Nährstoffabgabe!L290=\"\",\"\",Nährstoffabgabe!L290)","v":0},{"$f":"IF(Nährstoffabgabe!M290=\"\",\"\",Nährstoffabgabe!M290)","v":0}]
[{"$f":"IF(Nährstoffabgabe!A291=\"\",\"\",Nährstoffabgabe!A291)","v":"Tabak"},{"$f":"IF(Nährstoffabgabe!B291=\"\",\"\",Nährstoffabgabe!B291)","v":""},{"$f":"IF(Nährstoffabgabe!C291=\"\",\"\",Nährstoffabgabe!C291)","v":""},{"$f":"IF(Nährstoffabgabe!D291=\"\",\"\",Nährstoffabgabe!D291)","v":""},{"$f":"Nährstoffabgabe!E291","v":0},{"$f":"IF(Nährstoffabgabe!F291=\"\",\"\",Nährstoffabgabe!F291)","v":""},{"$f":"IF(Nährstoffabgabe!G291=\"\",\"\",Nährstoffabgabe!G291)","v":""},{"$f":"IF(Nährstoffabgabe!H291=\"\",\"\",Nährstoffabgabe!H291)","v":""},{"$f":"IF(Nährstoffabgabe!I291=\"\",\"\",Nährstoffabgabe!I291)","v":""},{"$f":"IF(Nährstoffabgabe!J291=\"\",\"\",Nährstoffabgabe!J291)","v":""},{"$f":"IF(Nährstoffabgabe!K291=\"\",\"\",Nährstoffabgabe!K291)","v":""},{"$f":"IF(Nährstoffabgabe!L291=\"\",\"\",Nährstoffabgabe!L291)","v":""},{"$f":"IF(Nährstoffabgabe!M291=\"\",\"\",Nährstoffabgabe!M291)","v":""}]
[{"$f":"IF(Nährstoffabgabe!A292=\"\",\"\",Nährstoffabgabe!A292)","v":"Tabak, Burley, Dachlufttrocknung"},{"$f":"IF(Nährstoffabgabe!B292=\"\",\"\",Nährstoffabgabe!B292)","v":30},{"$f":"IF(Nährstoffabgabe!C292=\"\",\"\",Nährstoffabgabe!C292)","v":""},{"$f":"IF(Nährstoffabgabe!D292=\"\",\"\",Nährstoffabgabe!D292)","v":""},{"$f":"Nährstoffabgabe!E292","v":0},{"$f":"IF(Nährstoffabgabe!F292=\"\",\"\",Nährstoffabgabe!F292)","v":4},{"$f":"IF(Nährstoffabgabe!G292=\"\",\"\",Nährstoffabgabe!G292)","v":1.3},{"$f":"IF(Nährstoffabgabe!H292=\"\",\"\",Nährstoffabgabe!H292)","v":6.9},{"$f":"IF(Nährstoffabgabe!I292=\"\",\"\",Nährstoffabgabe!I292)","v":0.4},{"$f":"IF(Nährstoffabgabe!J292=\"\",\"\",Nährstoffabgabe!J292)","v":0},{"$f":"IF(Nährstoffabgabe!K292=\"\",\"\",Nährstoffabgabe!K292)","v":0},{"$f":"IF(Nährstoffabgabe!L292=\"\",\"\",Nährstoffabgabe!L292)","v":0},{"$f":"IF(Nährstoffabgabe!M292=\"\",\"\",Nährstoffabgabe!M292)","v":0}]
[{"$f":"IF(Nährstoffabgabe!A293=\"\",\"\",Nährstoffabgabe!A293)","v":"Tabak, Virgin"},{"$f":"IF(Nährstoffabgabe!B293=\"\",\"\",Nährstoffabgabe!B293)","v":30},{"$f":"IF(Nährstoffabgabe!C293=\"\",\"\",Nährstoffabgabe!C293)","v":""},{"$f":"IF(Nährstoffabgabe!D293=\"\",\"\",Nährstoffabgabe!D293)","v":""},{"$f":"Nährstoffabgabe!E293","v":0},{"$f":"IF(Nährstoffabgabe!F293=\"\",\"\",Nährstoffabgabe!F293)","v":2.1},{"$f":"IF(Nährstoffabgabe!G293=\"\",\"\",Nährstoffabgabe!G293)","v":0.77},{"$f":"IF(Nährstoffabgabe!H293=\"\",\"\",Nährstoffabgabe!H293)","v":6.7},{"$f":"IF(Nährstoffabgabe!I293=\"\",\"\",Nährstoffabgabe!I293)","v":0.4},{"$f":"IF(Nährstoffabgabe!J293=\"\",\"\",Nährstoffabgabe!J293)","v":0},{"$f":"IF(Nährstoffabgabe!K293=\"\",\"\",Nährstoffabgabe!K293)","v":0},{"$f":"IF(Nährstoffabgabe!L293=\"\",\"\",Nährstoffabgabe!L293)","v":0},{"$f":"IF(Nährstoffabgabe!M293=\"\",\"\",Nährstoffabgabe!M293)","v":0}]
[{"$f":"IF(Nährstoffabgabe!A294=\"\",\"\",Nährstoffabgabe!A294)","v":"Weinbau"},{"$f":"IF(Nährstoffabgabe!B294=\"\",\"\",Nährstoffabgabe!B294)","v":""},{"$f":"IF(Nährstoffabgabe!C294=\"\",\"\",Nährstoffabgabe!C294)","v":""},{"$f":"IF(Nährstoffabgabe!D294=\"\",\"\",Nährstoffabgabe!D294)","v":""},{"$f":"Nährstoffabgabe!E294","v":0},{"$f":"IF(Nährstoffabgabe!F294=\"\",\"\",Nährstoffabgabe!F294)","v":""},{"$f":"IF(Nährstoffabgabe!G294=\"\",\"\",Nährstoffabgabe!G294)","v":""},{"$f":"IF(Nährstoffabgabe!H294=\"\",\"\",Nährstoffabgabe!H294)","v":""},{"$f":"IF(Nährstoffabgabe!I294=\"\",\"\",Nährstoffabgabe!I294)","v":""},{"$f":"IF(Nährstoffabgabe!J294=\"\",\"\",Nährstoffabgabe!J294)","v":""},{"$f":"IF(Nährstoffabgabe!K294=\"\",\"\",Nährstoffabgabe!K294)","v":""},{"$f":"IF(Nährstoffabgabe!L294=\"\",\"\",Nährstoffabgabe!L294)","v":""},{"$f":"IF(Nährstoffabgabe!M294=\"\",\"\",Nährstoffabgabe!M294)","v":""}]
[{"$f":"IF(Nährstoffabgabe!A295=\"\",\"\",Nährstoffabgabe!A295)","v":"Trauben/Maische"},{"$f":"IF(Nährstoffabgabe!B295=\"\",\"\",Nährstoffabgabe!B295)","v":150},{"$f":"IF(Nährstoffabgabe!C295=\"\",\"\",Nährstoffabgabe!C295)","v":""},{"$f":"IF(Nährstoffabgabe!D295=\"\",\"\",Nährstoffabgabe!D295)","v":""},{"$f":"Nährstoffabgabe!E295","v":0},{"$f":"IF(Nährstoffabgabe!F295=\"\",\"\",Nährstoffabgabe!F295)","v":0.25},{"$f":"IF(Nährstoffabgabe!G295=\"\",\"\",Nährstoffabgabe!G295)","v":0.1},{"$f":"IF(Nährstoffabgabe!H295=\"\",\"\",Nährstoffabgabe!H295)","v":0.4},{"$f":"IF(Nährstoffabgabe!I295=\"\",\"\",Nährstoffabgabe!I295)","v":0.04},{"$f":"IF(Nährstoffabgabe!J295=\"\",\"\",Nährstoffabgabe!J295)","v":0},{"$f":"IF(Nährstoffabgabe!K295=\"\",\"\",Nährstoffabgabe!K295)","v":0},{"$f":"IF(Nährstoffabgabe!L295=\"\",\"\",Nährstoffabgabe!L295)","v":0},{"$f":"IF(Nährstoffabgabe!M295=\"\",\"\",Nährstoffabgabe!M295)","v":0}]
[{"$f":"IF(Nährstoffabgabe!A296=\"\",\"\",Nährstoffabgabe!A296)","v":"Wein"},{"$f":"IF(Nährstoffabgabe!B296=\"\",\"\",Nährstoffabgabe!B296)","v":110},{"$f":"IF(Nährstoffabgabe!C296=\"\",\"\",Nährstoffabgabe!C296)","v":""},{"$f":"IF(Nährstoffabgabe!D296=\"\",\"\",Nährstoffabgabe!D296)","v":""},{"$f":"Nährstoffabgabe!E296","v":0},{"$f":"IF(Nährstoffabgabe!F296=\"\",\"\",Nährstoffabgabe!F296)","v":0.02},{"$f":"IF(Nährstoffabgabe!G296=\"\",\"\",Nährstoffabgabe!G296)","v":0.02},{"$f":"IF(Nährstoffabgabe!H296=\"\",\"\",Nährstoffabgabe!H296)","v":7.0000000000000007E-2},{"$f":"IF(Nährstoffabgabe!I296=\"\",\"\",Nährstoffabgabe!I296)","v":0.1},{"$f":"IF(Nährstoffabgabe!J296=\"\",\"\",Nährstoffabgabe!J296)","v":0},{"$f":"IF(Nährstoffabgabe!K296=\"\",\"\",Nährstoffabgabe!K296)","v":0},{"$f":"IF(Nährstoffabgabe!L296=\"\",\"\",Nährstoffabgabe!L296)","v":0},{"$f":"IF(Nährstoffabgabe!M296=\"\",\"\",Nährstoffabgabe!M296)","v":0}]
[{"$f":"IF(Nährstoffabgabe!A297=\"\",\"\",Nährstoffabgabe!A297)","v":"Wein-Most"},{"$f":"IF(Nährstoffabgabe!B297=\"\",\"\",Nährstoffabgabe!B297)","v":110},{"$f":"IF(Nährstoffabgabe!C297=\"\",\"\",Nährstoffabgabe!C297)","v":""},{"$f":"IF(Nährstoffabgabe!D297=\"\",\"\",Nährstoffabgabe!D297)","v":""},{"$f":"Nährstoffabgabe!E297","v":0},{"$f":"IF(Nährstoffabgabe!F297=\"\",\"\",Nährstoffabgabe!F297)","v":0.06},{"$f":"IF(Nährstoffabgabe!G297=\"\",\"\",Nährstoffabgabe!G297)","v":0.04},{"$f":"IF(Nährstoffabgabe!H297=\"\",\"\",Nährstoffabgabe!H297)","v":0.14000000000000001},{"$f":"IF(Nährstoffabgabe!I297=\"\",\"\",Nährstoffabgabe!I297)","v":0.01},{"$f":"IF(Nährstoffabgabe!J297=\"\",\"\",Nährstoffabgabe!J297)","v":0},{"$f":"IF(Nährstoffabgabe!K297=\"\",\"\",Nährstoffabgabe!K297)","v":0},{"$f":"IF(Nährstoffabgabe!L297=\"\",\"\",Nährstoffabgabe!L297)","v":0},{"$f":"IF(Nährstoffabgabe!M297=\"\",\"\",Nährstoffabgabe!M297)","v":0}]
[{"$f":"IF(Nährstoffabgabe!A298=\"\",\"\",Nährstoffabgabe!A298)","v":"Rebholzabfuhr Wuchs normal"},{"$f":"IF(Nährstoffabgabe!B298=\"\",\"\",Nährstoffabgabe!B298)","v":25},{"$f":"IF(Nährstoffabgabe!C298=\"\",\"\",Nährstoffabgabe!C298)","v":""},{"$f":"IF(Nährstoffabgabe!D298=\"\",\"\",Nährstoffabgabe!D298)","v":""},{"$f":"Nährstoffabgabe!E298","v":0},{"$f":"IF(Nährstoffabgabe!F298=\"\",\"\",Nährstoffabgabe!F298)","v":0.36},{"$f":"IF(Nährstoffabgabe!G298=\"\",\"\",Nährstoffabgabe!G298)","v":0.11},{"$f":"IF(Nährstoffabgabe!H298=\"\",\"\",Nährstoffabgabe!H298)","v":0.5},{"$f":"IF(Nährstoffabgabe!I298=\"\",\"\",Nährstoffabgabe!I298)","v":0.02},{"$f":"IF(Nährstoffabgabe!J298=\"\",\"\",Nährstoffabgabe!J298)","v":0},{"$f":"IF(Nährstoffabgabe!K298=\"\",\"\",Nährstoffabgabe!K298)","v":0},{"$f":"IF(Nährstoffabgabe!L298=\"\",\"\",Nährstoffabgabe!L298)","v":0},{"$f":"IF(Nährstoffabgabe!M298=\"\",\"\",Nährstoffabgabe!M298)","v":0}]
[{"$f":"IF(Nährstoffabgabe!A299=\"\",\"\",Nährstoffabgabe!A299)","v":"Rebholzabfuhr Wuchs stark"},{"$f":"IF(Nährstoffabgabe!B299=\"\",\"\",Nährstoffabgabe!B299)","v":50},{"$f":"IF(Nährstoffabgabe!C299=\"\",\"\",Nährstoffabgabe!C299)","v":""},{"$f":"IF(Nährstoffabgabe!D299=\"\",\"\",Nährstoffabgabe!D299)","v":""},{"$f":"Nährstoffabgabe!E299","v":0},{"$f":"IF(Nährstoffabgabe!F299=\"\",\"\",Nährstoffabgabe!F299)","v":0.36},{"$f":"IF(Nährstoffabgabe!G299=\"\",\"\",Nährstoffabgabe!G299)","v":0.11},{"$f":"IF(Nährstoffabgabe!H299=\"\",\"\",Nährstoffabgabe!H299)","v":0.5},{"$f":"IF(Nährstoffabgabe!I299=\"\",\"\",Nährstoffabgabe!I299)","v":0.02},{"$f":"IF(Nährstoffabgabe!J299=\"\",\"\",Nährstoffabgabe!J299)","v":0},{"$f":"IF(Nährstoffabgabe!K299=\"\",\"\",Nährstoffabgabe!K299)","v":0},{"$f":"IF(Nährstoffabgabe!L299=\"\",\"\",Nährstoffabgabe!L299)","v":0},{"$f":"IF(Nährstoffabgabe!M299=\"\",\"\",Nährstoffabgabe!M299)","v":0}]
[{"$f":"IF(Nährstoffabgabe!A300=\"\",\"\",Nährstoffabgabe!A300)","v":"Grünland"},{"$f":"IF(Nährstoffabgabe!B300=\"\",\"\",Nährstoffabgabe!B300)","v":""},{"$f":"IF(Nährstoffabgabe!C300=\"\",\"\",Nährstoffabgabe!C300)","v":""},{"$f":"IF(Nährstoffabgabe!D300=\"\",\"\",Nährstoffabgabe!D300)","v":""},{"$f":"Nährstoffabgabe!E300","v":0},{"$f":"IF(Nährstoffabgabe!F300=\"\",\"\",Nährstoffabgabe!F300)","v":""},{"$f":"IF([1]Nährstoffabgabe!G292=\"\",\"\",[1]Nährstoffabgabe!G292)","v":0},{"$f":"IF([1]Nährstoffabgabe!H292=\"\",\"\",[1]Nährstoffabgabe!H292)","v":0},{"$f":"IF([1]Nährstoffabgabe!I292=\"\",\"\",[1]Nährstoffabgabe!I292)","v":0},{"$f":"IF(Nährstoffabgabe!J300=\"\",\"\",Nährstoffabgabe!J300)","v":""},{"$f":"IF(Nährstoffabgabe!K300=\"\",\"\",Nährstoffabgabe!K300)","v":""},{"$f":"IF(Nährstoffabgabe!L300=\"\",\"\",Nährstoffabgabe!L300)","v":""},{"$f":"IF(Nährstoffabgabe!M300=\"\",\"\",Nährstoffabgabe!M300)","v":""}]
[{"$f":"IF(Nährstoffabgabe!A301=\"\",\"\",Nährstoffabgabe!A301)","v":"Grünland, 1 Nutzung/Jahr (dt TM/ha)"},{"$f":"IF(Nährstoffabgabe!B301=\"\",\"\",Nährstoffabgabe!B301)","v":40},{"$f":"IF(Nährstoffabgabe!C301=\"\",\"\",Nährstoffabgabe!C301)","v":""},{"$f":"IF(Nährstoffabgabe!D301=\"\",\"\",Nährstoffabgabe!D301)","v":""},{"$f":"Nährstoffabgabe!E301","v":0},{"$f":"IF(Nährstoffabgabe!F301=\"\",\"\",Nährstoffabgabe!F301)","v":1.3},{"$f":"IF(Nährstoffabgabe!G301=\"\",\"\",Nährstoffabgabe!G301)","v":0.6},{"$f":"IF(Nährstoffabgabe!H301=\"\",\"\",Nährstoffabgabe!H301)","v":1.5},{"$f":"IF(Nährstoffabgabe!I301=\"\",\"\",Nährstoffabgabe!I301)","v":0.4},{"$f":"IF(Nährstoffabgabe!J301=\"\",\"\",Nährstoffabgabe!J301)","v":0},{"$f":"IF(Nährstoffabgabe!K301=\"\",\"\",Nährstoffabgabe!K301)","v":0},{"$f":"IF(Nährstoffabgabe!L301=\"\",\"\",Nährstoffabgabe!L301)","v":0},{"$f":"IF(Nährstoffabgabe!M301=\"\",\"\",Nährstoffabgabe!M301)","v":0}]
[{"$f":"IF(Nährstoffabgabe!A302=\"\",\"\",Nährstoffabgabe!A302)","v":"Grünland, 2 Nutzungen/Jahr (dt TM/ha)"},{"$f":"IF(Nährstoffabgabe!B302=\"\",\"\",Nährstoffabgabe!B302)","v":55},{"$f":"IF(Nährstoffabgabe!C302=\"\",\"\",Nährstoffabgabe!C302)","v":""},{"$f":"IF(Nährstoffabgabe!D302=\"\",\"\",Nährstoffabgabe!D302)","v":""},{"$f":"Nährstoffabgabe!E302","v":0},{"$f":"IF(Nährstoffabgabe!F302=\"\",\"\",Nährstoffabgabe!F302)","v":1.8},{"$f":"IF(Nährstoffabgabe!G302=\"\",\"\",Nährstoffabgabe!G302)","v":0.7},{"$f":"IF(Nährstoffabgabe!H302=\"\",\"\",Nährstoffabgabe!H302)","v":2.5},{"$f":"IF(Nährstoffabgabe!I302=\"\",\"\",Nährstoffabgabe!I302)","v":0.4},{"$f":"IF(Nährstoffabgabe!J302=\"\",\"\",Nährstoffabgabe!J302)","v":0},{"$f":"IF(Nährstoffabgabe!K302=\"\",\"\",Nährstoffabgabe!K302)","v":0},{"$f":"IF(Nährstoffabgabe!L302=\"\",\"\",Nährstoffabgabe!L302)","v":0},{"$f":"IF(Nährstoffabgabe!M302=\"\",\"\",Nährstoffabgabe!M302)","v":0}]
[{"$f":"IF(Nährstoffabgabe!A303=\"\",\"\",Nährstoffabgabe!A303)","v":"Grünland, 3 Nutzungen/Jahr (dt TM/ha)"},{"$f":"IF(Nährstoffabgabe!B303=\"\",\"\",Nährstoffabgabe!B303)","v":75},{"$f":"IF(Nährstoffabgabe!C303=\"\",\"\",Nährstoffabgabe!C303)","v":""},{"$f":"IF(Nährstoffabgabe!D303=\"\",\"\",Nährstoffabgabe!D303)","v":""},{"$f":"Nährstoffabgabe!E303","v":0},{"$f":"IF(Nährstoffabgabe!F303=\"\",\"\",Nährstoffabgabe!F303)","v":2.2000000000000002},{"$f":"IF(Nährstoffabgabe!G303=\"\",\"\",Nährstoffabgabe!G303)","v":0.95},{"$f":"IF(Nährstoffabgabe!H303=\"\",\"\",Nährstoffabgabe!H303)","v":2.9},{"$f":"IF(Nährstoffabgabe!I303=\"\",\"\",Nährstoffabgabe!I303)","v":0.4},{"$f":"IF(Nährstoffabgabe!J303=\"\",\"\",Nährstoffabgabe!J303)","v":0},{"$f":"IF(Nährstoffabgabe!K303=\"\",\"\",Nährstoffabgabe!K303)","v":0},{"$f":"IF(Nährstoffabgabe!L303=\"\",\"\",Nährstoffabgabe!L303)","v":0},{"$f":"IF(Nährstoffabgabe!M303=\"\",\"\",Nährstoffabgabe!M303)","v":0}]
[{"$f":"IF(Nährstoffabgabe!A304=\"\",\"\",Nährstoffabgabe!A304)","v":"Grünland, 4 Nutzungen/Jahr (dt TM/ha)"},{"$f":"IF(Nährstoffabgabe!B304=\"\",\"\",Nährstoffabgabe!B304)","v":90},{"$f":"IF(Nährstoffabgabe!C304=\"\",\"\",Nährstoffabgabe!C304)","v":""},{"$f":"IF(Nährstoffabgabe!D304=\"\",\"\",Nährstoffabgabe!D304)","v":""},{"$f":"Nährstoffabgabe!E304","v":0},{"$f":"IF(Nährstoffabgabe!F304=\"\",\"\",Nährstoffabgabe!F304)","v":2.7},{"$f":"IF(Nährstoffabgabe!G304=\"\",\"\",Nährstoffabgabe!G304)","v":1},{"$f":"IF(Nährstoffabgabe!H304=\"\",\"\",Nährstoffabgabe!H304)","v":3},{"$f":"IF(Nährstoffabgabe!I304=\"\",\"\",Nährstoffabgabe!I304)","v":0.5},{"$f":"IF(Nährstoffabgabe!J304=\"\",\"\",Nährstoffabgabe!J304)","v":0},{"$f":"IF(Nährstoffabgabe!K304=\"\",\"\",Nährstoffabgabe!K304)","v":0},{"$f":"IF(Nährstoffabgabe!L304=\"\",\"\",Nährstoffabgabe!L304)","v":0},{"$f":"IF(Nährstoffabgabe!M304=\"\",\"\",Nährstoffabgabe!M304)","v":0}]
[{"$f":"IF(Nährstoffabgabe!A305=\"\",\"\",Nährstoffabgabe!A305)","v":"Grünland, 5 Nutzungen/Jahr (dt TM/ha)"},{"$f":"IF(Nährstoffabgabe!B305=\"\",\"\",Nährstoffabgabe!B305)","v":110},{"$f":"IF(Nährstoffabgabe!C305=\"\",\"\",Nährstoffabgabe!C305)","v":""},{"$f":"IF(Nährstoffabgabe!D305=\"\",\"\",Nährstoffabgabe!D305)","v":""},{"$f":"Nährstoffabgabe!E305","v":0},{"$f":"IF(Nährstoffabgabe!F305=\"\",\"\",Nährstoffabgabe!F305)","v":2.8},{"$f":"IF(Nährstoffabgabe!G305=\"\",\"\",Nährstoffabgabe!G305)","v":1},{"$f":"IF(Nährstoffabgabe!H305=\"\",\"\",Nährstoffabgabe!H305)","v":3},{"$f":"IF(Nährstoffabgabe!I305=\"\",\"\",Nährstoffabgabe!I305)","v":0.5},{"$f":"IF(Nährstoffabgabe!J305=\"\",\"\",Nährstoffabgabe!J305)","v":0},{"$f":"IF(Nährstoffabgabe!K305=\"\",\"\",Nährstoffabgabe!K305)","v":0},{"$f":"IF(Nährstoffabgabe!L305=\"\",\"\",Nährstoffabgabe!L305)","v":0},{"$f":"IF(Nährstoffabgabe!M305=\"\",\"\",Nährstoffabgabe!M305)","v":0}]
[{"$f":"IF(Nährstoffabgabe!A306=\"\",\"\",Nährstoffabgabe!A306)","v":"Weitere Kulturen"},{"$f":"IF(Nährstoffabgabe!B306=\"\",\"\",Nährstoffabgabe!B306)","v":""},{"$f":"IF(Nährstoffabgabe!C306=\"\",\"\",Nährstoffabgabe!C306)","v":""},{"$f":"IF(Nährstoffabgabe!D306=\"\",\"\",Nährstoffabgabe!D306)","v":""},{"$f":"Nährstoffabgabe!E306","v":0},{"$f":"IF(Nährstoffabgabe!F306=\"\",\"\",Nährstoffabgabe!F306)","v":""},{"$f":"IF(Nährstoffabgabe!G306=\"\",\"\",Nährstoffabgabe!G306)","v":""},{"$f":"IF(Nährstoffabgabe!H306=\"\",\"\",Nährstoffabgabe!H306)","v":""},{"$f":"IF(Nährstoffabgabe!I306=\"\",\"\",Nährstoffabgabe!I306)","v":""},{"$f":"IF(Nährstoffabgabe!J306=\"\",\"\",Nährstoffabgabe!J306)","v":""},{"$f":"IF(Nährstoffabgabe!K306=\"\",\"\",Nährstoffabgabe!K306)","v":""},{"$f":"IF(Nährstoffabgabe!L306=\"\",\"\",Nährstoffabgabe!L306)","v":""},{"$f":"IF(Nährstoffabgabe!M306=\"\",\"\",Nährstoffabgabe!M306)","v":""}]
[{"$f":"IF(Nährstoffabgabe!A307=\"\",\"\",Nährstoffabgabe!A307)","v":"Sudangras (25 % TM)"},{"$f":"IF(Nährstoffabgabe!B307=\"\",\"\",Nährstoffabgabe!B307)","v":600},{"$f":"IF(Nährstoffabgabe!C307=\"\",\"\",Nährstoffabgabe!C307)","v":""},{"$f":"IF(Nährstoffabgabe!D307=\"\",\"\",Nährstoffabgabe!D307)","v":""},{"$f":"Nährstoffabgabe!E307","v":0},{"$f":"IF(Nährstoffabgabe!F307=\"\",\"\",Nährstoffabgabe!F307)","v":0.43},{"$f":"IF(Nährstoffabgabe!G307=\"\",\"\",Nährstoffabgabe!G307)","v":0.14000000000000001},{"$f":"IF(Nährstoffabgabe!H307=\"\",\"\",Nährstoffabgabe!H307)","v":0.49},{"$f":"IF(Nährstoffabgabe!I307=\"\",\"\",Nährstoffabgabe!I307)","v":0.1},{"$f":"IF(Nährstoffabgabe!J307=\"\",\"\",Nährstoffabgabe!J307)","v":0},{"$f":"IF(Nährstoffabgabe!K307=\"\",\"\",Nährstoffabgabe!K307)","v":0},{"$f":"IF(Nährstoffabgabe!L307=\"\",\"\",Nährstoffabgabe!L307)","v":0},{"$f":"IF(Nährstoffabgabe!M307=\"\",\"\",Nährstoffabgabe!M307)","v":0}]
[{"$f":"IF(Nährstoffabgabe!A308=\"\",\"\",Nährstoffabgabe!A308)","v":"Topinambur (Knolle)"},{"$f":"IF(Nährstoffabgabe!B308=\"\",\"\",Nährstoffabgabe!B308)","v":600},{"$f":"IF(Nährstoffabgabe!C308=\"\",\"\",Nährstoffabgabe!C308)","v":""},{"$f":"IF(Nährstoffabgabe!D308=\"\",\"\",Nährstoffabgabe!D308)","v":""},{"$f":"Nährstoffabgabe!E308","v":0},{"$f":"IF(Nährstoffabgabe!F308=\"\",\"\",Nährstoffabgabe!F308)","v":0.26},{"$f":"IF(Nährstoffabgabe!G308=\"\",\"\",Nährstoffabgabe!G308)","v":0.14000000000000001},{"$f":"IF(Nährstoffabgabe!H308=\"\",\"\",Nährstoffabgabe!H308)","v":0.62},{"$f":"IF(Nährstoffabgabe!I308=\"\",\"\",Nährstoffabgabe!I308)","v":0.02},{"$f":"IF(Nährstoffabgabe!J308=\"\",\"\",Nährstoffabgabe!J308)","v":0},{"$f":"IF(Nährstoffabgabe!K308=\"\",\"\",Nährstoffabgabe!K308)","v":0},{"$f":"IF(Nährstoffabgabe!L308=\"\",\"\",Nährstoffabgabe!L308)","v":0},{"$f":"IF(Nährstoffabgabe!M308=\"\",\"\",Nährstoffabgabe!M308)","v":0}]
[{"$f":"IF(Nährstoffabgabe!A309=\"\",\"\",Nährstoffabgabe!A309)","v":"Rollrasen"},{"$f":"IF(Nährstoffabgabe!B309=\"\",\"\",Nährstoffabgabe!B309)","v":200},{"$f":"IF(Nährstoffabgabe!C309=\"\",\"\",Nährstoffabgabe!C309)","v":""},{"$f":"IF(Nährstoffabgabe!D309=\"\",\"\",Nährstoffabgabe!D309)","v":""},{"$f":"Nährstoffabgabe!E309","v":0},{"$f":"IF(Nährstoffabgabe!F309=\"\",\"\",Nährstoffabgabe!F309)","v":0.25},{"$f":"IF(Nährstoffabgabe!G309=\"\",\"\",Nährstoffabgabe!G309)","v":0.12},{"$f":"IF(Nährstoffabgabe!H309=\"\",\"\",Nährstoffabgabe!H309)","v":0.2},{"$f":"IF(Nährstoffabgabe!I309=\"\",\"\",Nährstoffabgabe!I309)","v":0.05},{"$f":"IF(Nährstoffabgabe!J309=\"\",\"\",Nährstoffabgabe!J309)","v":0},{"$f":"IF(Nährstoffabgabe!K309=\"\",\"\",Nährstoffabgabe!K309)","v":0},{"$f":"IF(Nährstoffabgabe!L309=\"\",\"\",Nährstoffabgabe!L309)","v":0},{"$f":"IF(Nährstoffabgabe!M309=\"\",\"\",Nährstoffabgabe!M309)","v":0}]
[{"$f":"IF(Nährstoffabgabe!A310=\"\",\"\",Nährstoffabgabe!A310)","v":"Zierpflanzen"},{"$f":"IF(Nährstoffabgabe!B310=\"\",\"\",Nährstoffabgabe!B310)","v":100},{"$f":"IF(Nährstoffabgabe!C310=\"\",\"\",Nährstoffabgabe!C310)","v":""},{"$f":"IF(Nährstoffabgabe!D310=\"\",\"\",Nährstoffabgabe!D310)","v":""},{"$f":"Nährstoffabgabe!E310","v":0},{"$f":"IF(Nährstoffabgabe!F310=\"\",\"\",Nährstoffabgabe!F310)","v":0.5},{"$f":"IF(Nährstoffabgabe!G310=\"\",\"\",Nährstoffabgabe!G310)","v":0.2},{"$f":"IF(Nährstoffabgabe!H310=\"\",\"\",Nährstoffabgabe!H310)","v":0.7},{"$f":"IF(Nährstoffabgabe!I310=\"\",\"\",Nährstoffabgabe!I310)","v":0.1},{"$f":"IF(Nährstoffabgabe!J310=\"\",\"\",Nährstoffabgabe!J310)","v":0},{"$f":"IF(Nährstoffabgabe!K310=\"\",\"\",Nährstoffabgabe!K310)","v":0},{"$f":"IF(Nährstoffabgabe!L310=\"\",\"\",Nährstoffabgabe!L310)","v":0},{"$f":"IF(Nährstoffabgabe!M310=\"\",\"\",Nährstoffabgabe!M310)","v":0}]
[{"$f":"IF(Nährstoffabgabe!A311=\"\",\"\",Nährstoffabgabe!A311)","v":"Baumschule"},{"$f":"IF(Nährstoffabgabe!B311=\"\",\"\",Nährstoffabgabe!B311)","v":100},{"$f":"IF(Nährstoffabgabe!C311=\"\",\"\",Nährstoffabgabe!C311)","v":""},{"$f":"IF(Nährstoffabgabe!D311=\"\",\"\",Nährstoffabgabe!D311)","v":""},{"$f":"Nährstoffabgabe!E311","v":0},{"$f":"IF(Nährstoffabgabe!F311=\"\",\"\",Nährstoffabgabe!F311)","v":0.3},{"$f":"IF(Nährstoffabgabe!G311=\"\",\"\",Nährstoffabgabe!G311)","v":0.1},{"$f":"IF(Nährstoffabgabe!H311=\"\",\"\",Nährstoffabgabe!H311)","v":0.3},{"$f":"IF(Nährstoffabgabe!I311=\"\",\"\",Nährstoffabgabe!I311)","v":0.05},{"$f":"IF(Nährstoffabgabe!J311=\"\",\"\",Nährstoffabgabe!J311)","v":0},{"$f":"IF(Nährstoffabgabe!K311=\"\",\"\",Nährstoffabgabe!K311)","v":0},{"$f":"IF(Nährstoffabgabe!L311=\"\",\"\",Nährstoffabgabe!L311)","v":0},{"$f":"IF(Nährstoffabgabe!M311=\"\",\"\",Nährstoffabgabe!M311)","v":0}]
[{"$f":"IF(Nährstoffabgabe!A312=\"\",\"\",Nährstoffabgabe!A312)","v":"Christbaumkulturen"},{"$f":"IF(Nährstoffabgabe!B312=\"\",\"\",Nährstoffabgabe!B312)","v":30},{"$f":"IF(Nährstoffabgabe!C312=\"\",\"\",Nährstoffabgabe!C312)","v":""},{"$f":"IF(Nährstoffabgabe!D312=\"\",\"\",Nährstoffabgabe!D312)","v":""},{"$f":"Nährstoffabgabe!E312","v":0},{"$f":"IF(Nährstoffabgabe!F312=\"\",\"\",Nährstoffabgabe!F312)","v":0.5},{"$f":"IF(Nährstoffabgabe!G312=\"\",\"\",Nährstoffabgabe!G312)","v":0.3},{"$f":"IF(Nährstoffabgabe!H312=\"\",\"\",Nährstoffabgabe!H312)","v":0.5},{"$f":"IF(Nährstoffabgabe!I312=\"\",\"\",Nährstoffabgabe!I312)","v":0.1},{"$f":"IF(Nährstoffabgabe!J312=\"\",\"\",Nährstoffabgabe!J312)","v":0},{"$f":"IF(Nährstoffabgabe!K312=\"\",\"\",Nährstoffabgabe!K312)","v":0},{"$f":"IF(Nährstoffabgabe!L312=\"\",\"\",Nährstoffabgabe!L312)","v":0},{"$f":"IF(Nährstoffabgabe!M312=\"\",\"\",Nährstoffabgabe!M312)","v":0}]
[{"$f":"IF(Nährstoffabgabe!A313=\"\",\"\",Nährstoffabgabe!A313)","v":""},{"$f":"IF(Nährstoffabgabe!B313=\"\",\"\",Nährstoffabgabe!B313)","v":""},{"$f":"IF(Nährstoffabgabe!C313=\"\",\"\",Nährstoffabgabe!C313)","v":""},{"$f":"IF(Nährstoffabgabe!D313=\"\",\"\",Nährstoffabgabe!D313)","v":""},{"$f":"Nährstoffabgabe!E313","v":0},{"$f":"IF(Nährstoffabgabe!F313=\"\",\"\",Nährstoffabgabe!F313)","v":""},{"$f":"IF(Nährstoffabgabe!G313=\"\",\"\",Nährstoffabgabe!G313)","v":""},{"$f":"IF(Nährstoffabgabe!H313=\"\",\"\",Nährstoffabgabe!H313)","v":""},{"$f":"IF(Nährstoffabgabe!I313=\"\",\"\",Nährstoffabgabe!I313)","v":""},{"$f":"IF(Nährstoffabgabe!J313=\"\",\"\",Nährstoffabgabe!J313)","v":0},{"$f":"IF(Nährstoffabgabe!K313=\"\",\"\",Nährstoffabgabe!K313)","v":0},{"$f":"IF(Nährstoffabgabe!L313=\"\",\"\",Nährstoffabgabe!L313)","v":0},{"$f":"IF(Nährstoffabgabe!M313=\"\",\"\",Nährstoffabgabe!M313)","v":0}]
[{"$f":"IF(Nährstoffabgabe!A314=\"\",\"\",Nährstoffabgabe!A314)","v":""},{"$f":"IF(Nährstoffabgabe!B314=\"\",\"\",Nährstoffabgabe!B314)","v":""},{"$f":"IF(Nährstoffabgabe!C314=\"\",\"\",Nährstoffabgabe!C314)","v":""},{"$f":"IF(Nährstoffabgabe!D314=\"\",\"\",Nährstoffabgabe!D314)","v":""},{"$f":"Nährstoffabgabe!E314","v":0},{"$f":"IF(Nährstoffabgabe!F314=\"\",\"\",Nährstoffabgabe!F314)","v":""},{"$f":"IF(Nährstoffabgabe!G314=\"\",\"\",Nährstoffabgabe!G314)","v":""},{"$f":"IF(Nährstoffabgabe!H314=\"\",\"\",Nährstoffabgabe!H314)","v":""},{"$f":"IF(Nährstoffabgabe!I314=\"\",\"\",Nährstoffabgabe!I314)","v":""},{"$f":"IF(Nährstoffabgabe!J314=\"\",\"\",Nährstoffabgabe!J314)","v":0},{"$f":"IF(Nährstoffabgabe!K314=\"\",\"\",Nährstoffabgabe!K314)","v":0},{"$f":"IF(Nährstoffabgabe!L314=\"\",\"\",Nährstoffabgabe!L314)","v":0},{"$f":"IF(Nährstoffabgabe!M314=\"\",\"\",Nährstoffabgabe!M314)","v":0}]
[{"$f":"IF(Nährstoffabgabe!A315=\"\",\"\",Nährstoffabgabe!A315)","v":""},{"$f":"IF(Nährstoffabgabe!B315=\"\",\"\",Nährstoffabgabe!B315)","v":""},{"$f":"IF(Nährstoffabgabe!C315=\"\",\"\",Nährstoffabgabe!C315)","v":""},{"$f":"IF(Nährstoffabgabe!D315=\"\",\"\",Nährstoffabgabe!D315)","v":""},{"$f":"Nährstoffabgabe!E315","v":0},{"$f":"IF(Nährstoffabgabe!F315=\"\",\"\",Nährstoffabgabe!F315)","v":""},{"$f":"IF(Nährstoffabgabe!G315=\"\",\"\",Nährstoffabgabe!G315)","v":""},{"$f":"IF(Nährstoffabgabe!H315=\"\",\"\",Nährstoffabgabe!H315)","v":""},{"$f":"IF(Nährstoffabgabe!I315=\"\",\"\",Nährstoffabgabe!I315)","v":""},{"$f":"IF(Nährstoffabgabe!J315=\"\",\"\",Nährstoffabgabe!J315)","v":0},{"$f":"IF(Nährstoffabgabe!K315=\"\",\"\",Nährstoffabgabe!K315)","v":0},{"$f":"IF(Nährstoffabgabe!L315=\"\",\"\",Nährstoffabgabe!L315)","v":0},{"$f":"IF(Nährstoffabgabe!M315=\"\",\"\",Nährstoffabgabe!M315)","v":0}]
[{"$f":"IF(Nährstoffabgabe!A316=\"\",\"\",Nährstoffabgabe!A316)","v":""},{"$f":"IF(Nährstoffabgabe!B316=\"\",\"\",Nährstoffabgabe!B316)","v":""},{"$f":"IF(Nährstoffabgabe!C316=\"\",\"\",Nährstoffabgabe!C316)","v":""},{"$f":"IF(Nährstoffabgabe!D316=\"\",\"\",Nährstoffabgabe!D316)","v":""},{"$f":"Nährstoffabgabe!E316","v":0},{"$f":"IF(Nährstoffabgabe!F316=\"\",\"\",Nährstoffabgabe!F316)","v":""},{"$f":"IF(Nährstoffabgabe!G316=\"\",\"\",Nährstoffabgabe!G316)","v":""},{"$f":"IF(Nährstoffabgabe!H316=\"\",\"\",Nährstoffabgabe!H316)","v":""},{"$f":"IF(Nährstoffabgabe!I316=\"\",\"\",Nährstoffabgabe!I316)","v":""},{"$f":"IF(Nährstoffabgabe!J316=\"\",\"\",Nährstoffabgabe!J316)","v":0},{"$f":"IF(Nährstoffabgabe!K316=\"\",\"\",Nährstoffabgabe!K316)","v":0},{"$f":"IF(Nährstoffabgabe!L316=\"\",\"\",Nährstoffabgabe!L316)","v":0},{"$f":"IF(Nährstoffabgabe!M316=\"\",\"\",Nährstoffabgabe!M316)","v":0}]
[{"$f":"IF(Nährstoffabgabe!A317=\"\",\"\",Nährstoffabgabe!A317)","v":"Summe"},{"$f":"IF(Nährstoffabgabe!B317=\"\",\"\",Nährstoffabgabe!B317)","v":""},{"$f":"IF(Nährstoffabgabe!C317=\"\",\"\",Nährstoffabgabe!C317)","v":""},{"$f":"IF(Nährstoffabgabe!D317=\"\",\"\",Nährstoffabgabe!D317)","v":0},{"$f":"Nährstoffabgabe!E317","v":0},{"$f":"IF(Nährstoffabgabe!F317=\"\",\"\",Nährstoffabgabe!F317)","v":""},{"$f":"IF([1]Nährstoffabgabe!G309=\"\",\"\",[1]Nährstoffabgabe!G309)","v":0},{"$f":"IF([1]Nährstoffabgabe!H309=\"\",\"\",[1]Nährstoffabgabe!H309)","v":0},{"$f":"IF([1]Nährstoffabgabe!I309=\"\",\"\",[1]Nährstoffabgabe!I309)","v":0},{"$f":"IF(Nährstoffabgabe!J317=\"\",\"\",Nährstoffabgabe!J317)","v":0},{"$f":"IF(Nährstoffabgabe!K317=\"\",\"\",Nährstoffabgabe!K317)","v":0},{"$f":"IF(Nährstoffabgabe!L317=\"\",\"\",Nährstoffabgabe!L317)","v":0},{"$f":"IF(Nährstoffabgabe!M317=\"\",\"\",Nährstoffabgabe!M317)","v":0}]
[{"$f":"IF(Nährstoffabgabe!A318=\"\",\"\",Nährstoffabgabe!A318)","v":""},{"$f":"IF(Nährstoffabgabe!B318=\"\",\"\",Nährstoffabgabe!B318)","v":""},{"$f":"IF(Nährstoffabgabe!C318=\"\",\"\",Nährstoffabgabe!C318)","v":""},{"$f":"IF(Nährstoffabgabe!D318=\"\",\"\",Nährstoffabgabe!D318)","v":""},null,{"$f":"IF(Nährstoffabgabe!F318=\"\",\"\",Nährstoffabgabe!F318)","v":""},{"$f":"IF(Nährstoffabgabe!G318=\"\",\"\",Nährstoffabgabe!G318)","v":""},{"$f":"IF(Nährstoffabgabe!H318=\"\",\"\",Nährstoffabgabe!H318)","v":""},{"$f":"IF(Nährstoffabgabe!I318=\"\",\"\",Nährstoffabgabe!I318)","v":""},{"$f":"IF(Nährstoffabgabe!J318=\"\",\"\",Nährstoffabgabe!J318)","v":""},{"$f":"IF(Nährstoffabgabe!K318=\"\",\"\",Nährstoffabgabe!K318)","v":""},{"$f":"IF(Nährstoffabgabe!L318=\"\",\"\",Nährstoffabgabe!L318)","v":""},{"$f":"IF(Nährstoffabgabe!M318=\"\",\"\",Nährstoffabgabe!M318)","v":""}]
[{"$f":"IF(Nährstoffabgabe!A319=\"\",\"\",Nährstoffabgabe!A319)","v":"Zwischenfrüchte, 2. Hauptfucht mit Abfuhr"},{"$f":"IF(Nährstoffabgabe!B319=\"\",\"\",Nährstoffabgabe!B319)","v":"Marktertrag \ndt/ha FM"},{"$f":"IF(Nährstoffabgabe!C319=\"\",\"\",Nährstoffabgabe!C319)","v":""},null,{"$f":"Nährstoffabgabe!E319","v":"Abgabemenge"},{"$f":"IF(Nährstoffabgabe!F319=\"\",\"\",Nährstoffabgabe!F319)","v":"Nährstoffgehalt kg/dt FM"},null,null,null,{"$f":"IF(Nährstoffabgabe!J319=\"\",\"\",Nährstoffabgabe!J319)","v":"Nährstoffabgabe kg/Betrieb"}]
[null,{"$f":"IF(Nährstoffabgabe!B320=\"\",\"\",Nährstoffabgabe!B320)","v":"Vorschlag"},{"$f":"IF(Nährstoffabgabe!C320=\"\",\"\",Nährstoffabgabe!C320)","v":"Betrieb"},{"$f":"IF(Nährstoffabgabe!D320=\"\",\"\",Nährstoffabgabe!D320)","v":"ha"},{"$f":"Nährstoffabgabe!E320","v":"dt FM"},{"$f":"IF(Nährstoffabgabe!F320=\"\",\"\",Nährstoffabgabe!F320)","v":"N"},{"$f":"IF(Nährstoffabgabe!G320=\"\",\"\",Nährstoffabgabe!G320)","v":"P2O5"},{"$f":"IF(Nährstoffabgabe!H320=\"\",\"\",Nährstoffabgabe!H320)","v":"K2O"},{"$f":"IF(Nährstoffabgabe!I320=\"\",\"\",Nährstoffabgabe!I320)","v":"MgO"},{"$f":"IF(Nährstoffabgabe!J320=\"\",\"\",Nährstoffabgabe!J320)","v":"N"},{"$f":"IF(Nährstoffabgabe!K320=\"\",\"\",Nährstoffabgabe!K320)","v":"P2O5"},{"$f":"IF(Nährstoffabgabe!L320=\"\",\"\",Nährstoffabgabe!L320)","v":"K2O"},{"$f":"IF(Nährstoffabgabe!M320=\"\",\"\",Nährstoffabgabe!M320)","v":"MgO"}]
[{"$f":"IF(Nährstoffabgabe!A321=\"\",\"\",Nährstoffabgabe!A321)","v":"Verwertung außerhalb des Betriebs"},{"$f":"IF(Nährstoffabgabe!B321=\"\",\"\",Nährstoffabgabe!B321)","v":""},{"$f":"IF(Nährstoffabgabe!C321=\"\",\"\",Nährstoffabgabe!C321)","v":""},{"$f":"IF(Nährstoffabgabe!D321=\"\",\"\",Nährstoffabgabe!D321)","v":""},{"$f":"Nährstoffabgabe!E321","v":0},{"$f":"IF(Nährstoffabgabe!F321=\"\",\"\",Nährstoffabgabe!F321)","v":""},{"$f":"IF(Nährstoffabgabe!G321=\"\",\"\",Nährstoffabgabe!G321)","v":""},{"$f":"IF(Nährstoffabgabe!H321=\"\",\"\",Nährstoffabgabe!H321)","v":""},{"$f":"IF(Nährstoffabgabe!I321=\"\",\"\",Nährstoffabgabe!I321)","v":""},{"$f":"IF(Nährstoffabgabe!J321=\"\",\"\",Nährstoffabgabe!J321)","v":""},{"$f":"IF(Nährstoffabgabe!K321=\"\",\"\",Nährstoffabgabe!K321)","v":""},{"$f":"IF(Nährstoffabgabe!L321=\"\",\"\",Nährstoffabgabe!L321)","v":""},{"$f":"IF(Nährstoffabgabe!M321=\"\",\"\",Nährstoffabgabe!M321)","v":""}]
[{"$f":"IF(Nährstoffabgabe!A322=\"\",\"\",Nährstoffabgabe!A322)","v":"Einjähriges Weidelgras"},{"$f":"IF(Nährstoffabgabe!B322=\"\",\"\",Nährstoffabgabe!B322)","v":250},{"$f":"IF(Nährstoffabgabe!C322=\"\",\"\",Nährstoffabgabe!C322)","v":""},{"$f":"IF(Nährstoffabgabe!D322=\"\",\"\",Nährstoffabgabe!D322)","v":""},{"$f":"Nährstoffabgabe!E322","v":0},{"$f":"IF(Nährstoffabgabe!F322=\"\",\"\",Nährstoffabgabe!F322)","v":0.48},{"$f":"IF(Nährstoffabgabe!G322=\"\",\"\",Nährstoffabgabe!G322)","v":0.16},{"$f":"IF(Nährstoffabgabe!H322=\"\",\"\",Nährstoffabgabe!H322)","v":0.65},{"$f":"IF(Nährstoffabgabe!I322=\"\",\"\",Nährstoffabgabe!I322)","v":0.05},{"$f":"IF(Nährstoffabgabe!J322=\"\",\"\",Nährstoffabgabe!J322)","v":0},{"$f":"IF(Nährstoffabgabe!K322=\"\",\"\",Nährstoffabgabe!K322)","v":0},{"$f":"IF(Nährstoffabgabe!L322=\"\",\"\",Nährstoffabgabe!L322)","v":0},{"$f":"IF(Nährstoffabgabe!M322=\"\",\"\",Nährstoffabgabe!M322)","v":0}]
[{"$f":"IF(Nährstoffabgabe!A323=\"\",\"\",Nährstoffabgabe!A323)","v":"Welsches Weidelgras"},{"$f":"IF(Nährstoffabgabe!B323=\"\",\"\",Nährstoffabgabe!B323)","v":250},{"$f":"IF(Nährstoffabgabe!C323=\"\",\"\",Nährstoffabgabe!C323)","v":""},{"$f":"IF(Nährstoffabgabe!D323=\"\",\"\",Nährstoffabgabe!D323)","v":""},{"$f":"Nährstoffabgabe!E323","v":0},{"$f":"IF(Nährstoffabgabe!F323=\"\",\"\",Nährstoffabgabe!F323)","v":0.48},{"$f":"IF(Nährstoffabgabe!G323=\"\",\"\",Nährstoffabgabe!G323)","v":0.16},{"$f":"IF(Nährstoffabgabe!H323=\"\",\"\",Nährstoffabgabe!H323)","v":0.65},{"$f":"IF(Nährstoffabgabe!I323=\"\",\"\",Nährstoffabgabe!I323)","v":0.05},{"$f":"IF(Nährstoffabgabe!J323=\"\",\"\",Nährstoffabgabe!J323)","v":0},{"$f":"IF(Nährstoffabgabe!K323=\"\",\"\",Nährstoffabgabe!K323)","v":0},{"$f":"IF(Nährstoffabgabe!L323=\"\",\"\",Nährstoffabgabe!L323)","v":0},{"$f":"IF(Nährstoffabgabe!M323=\"\",\"\",Nährstoffabgabe!M323)","v":0}]
[{"$f":"IF(Nährstoffabgabe!A324=\"\",\"\",Nährstoffabgabe!A324)","v":"Kleegras"},{"$f":"IF(Nährstoffabgabe!B324=\"\",\"\",Nährstoffabgabe!B324)","v":250},{"$f":"IF(Nährstoffabgabe!C324=\"\",\"\",Nährstoffabgabe!C324)","v":""},{"$f":"IF(Nährstoffabgabe!D324=\"\",\"\",Nährstoffabgabe!D324)","v":""},{"$f":"Nährstoffabgabe!E324","v":0},{"$f":"IF(Nährstoffabgabe!F324=\"\",\"\",Nährstoffabgabe!F324)","v":0.35},{"$f":"IF(Nährstoffabgabe!G324=\"\",\"\",Nährstoffabgabe!G324)","v":0.11},{"$f":"IF(Nährstoffabgabe!H324=\"\",\"\",Nährstoffabgabe!H324)","v":0.45},{"$f":"IF(Nährstoffabgabe!I324=\"\",\"\",Nährstoffabgabe!I324)","v":0.05},{"$f":"IF(Nährstoffabgabe!J324=\"\",\"\",Nährstoffabgabe!J324)","v":0},{"$f":"IF(Nährstoffabgabe!K324=\"\",\"\",Nährstoffabgabe!K324)","v":0},{"$f":"IF(Nährstoffabgabe!L324=\"\",\"\",Nährstoffabgabe!L324)","v":0},{"$f":"IF(Nährstoffabgabe!M324=\"\",\"\",Nährstoffabgabe!M324)","v":0}]
[{"$f":"IF(Nährstoffabgabe!A325=\"\",\"\",Nährstoffabgabe!A325)","v":"Alexandrinerklee"},{"$f":"IF(Nährstoffabgabe!B325=\"\",\"\",Nährstoffabgabe!B325)","v":250},{"$f":"IF(Nährstoffabgabe!C325=\"\",\"\",Nährstoffabgabe!C325)","v":""},{"$f":"IF(Nährstoffabgabe!D325=\"\",\"\",Nährstoffabgabe!D325)","v":""},{"$f":"Nährstoffabgabe!E325","v":0},{"$f":"IF(Nährstoffabgabe!F325=\"\",\"\",Nährstoffabgabe!F325)","v":0.35},{"$f":"IF(Nährstoffabgabe!G325=\"\",\"\",Nährstoffabgabe!G325)","v":0.11},{"$f":"IF(Nährstoffabgabe!H325=\"\",\"\",Nährstoffabgabe!H325)","v":0.45},{"$f":"IF(Nährstoffabgabe!I325=\"\",\"\",Nährstoffabgabe!I325)","v":0.05},{"$f":"IF(Nährstoffabgabe!J325=\"\",\"\",Nährstoffabgabe!J325)","v":0},{"$f":"IF(Nährstoffabgabe!K325=\"\",\"\",Nährstoffabgabe!K325)","v":0},{"$f":"IF(Nährstoffabgabe!L325=\"\",\"\",Nährstoffabgabe!L325)","v":0},{"$f":"IF(Nährstoffabgabe!M325=\"\",\"\",Nährstoffabgabe!M325)","v":0}]
[{"$f":"IF(Nährstoffabgabe!A326=\"\",\"\",Nährstoffabgabe!A326)","v":"Erbsen/Ackerbohnen"},{"$f":"IF(Nährstoffabgabe!B326=\"\",\"\",Nährstoffabgabe!B326)","v":250},{"$f":"IF(Nährstoffabgabe!C326=\"\",\"\",Nährstoffabgabe!C326)","v":""},{"$f":"IF(Nährstoffabgabe!D326=\"\",\"\",Nährstoffabgabe!D326)","v":""},{"$f":"Nährstoffabgabe!E326","v":0},{"$f":"IF(Nährstoffabgabe!F326=\"\",\"\",Nährstoffabgabe!F326)","v":0.35},{"$f":"IF(Nährstoffabgabe!G326=\"\",\"\",Nährstoffabgabe!G326)","v":0.11},{"$f":"IF(Nährstoffabgabe!H326=\"\",\"\",Nährstoffabgabe!H326)","v":0.45},{"$f":"IF(Nährstoffabgabe!I326=\"\",\"\",Nährstoffabgabe!I326)","v":0.05},{"$f":"IF(Nährstoffabgabe!J326=\"\",\"\",Nährstoffabgabe!J326)","v":0},{"$f":"IF(Nährstoffabgabe!K326=\"\",\"\",Nährstoffabgabe!K326)","v":0},{"$f":"IF(Nährstoffabgabe!L326=\"\",\"\",Nährstoffabgabe!L326)","v":0},{"$f":"IF(Nährstoffabgabe!M326=\"\",\"\",Nährstoffabgabe!M326)","v":0}]
[{"$f":"IF(Nährstoffabgabe!A327=\"\",\"\",Nährstoffabgabe!A327)","v":"Sommerwicken"},{"$f":"IF(Nährstoffabgabe!B327=\"\",\"\",Nährstoffabgabe!B327)","v":250},{"$f":"IF(Nährstoffabgabe!C327=\"\",\"\",Nährstoffabgabe!C327)","v":""},{"$f":"IF(Nährstoffabgabe!D327=\"\",\"\",Nährstoffabgabe!D327)","v":""},{"$f":"Nährstoffabgabe!E327","v":0},{"$f":"IF(Nährstoffabgabe!F327=\"\",\"\",Nährstoffabgabe!F327)","v":0.35},{"$f":"IF(Nährstoffabgabe!G327=\"\",\"\",Nährstoffabgabe!G327)","v":0.11},{"$f":"IF(Nährstoffabgabe!H327=\"\",\"\",Nährstoffabgabe!H327)","v":0.45},{"$f":"IF(Nährstoffabgabe!I327=\"\",\"\",Nährstoffabgabe!I327)","v":0.05},{"$f":"IF(Nährstoffabgabe!J327=\"\",\"\",Nährstoffabgabe!J327)","v":0},{"$f":"IF(Nährstoffabgabe!K327=\"\",\"\",Nährstoffabgabe!K327)","v":0},{"$f":"IF(Nährstoffabgabe!L327=\"\",\"\",Nährstoffabgabe!L327)","v":0},{"$f":"IF(Nährstoffabgabe!M327=\"\",\"\",Nährstoffabgabe!M327)","v":0}]
[{"$f":"IF(Nährstoffabgabe!A328=\"\",\"\",Nährstoffabgabe!A328)","v":"Sommerraps"},{"$f":"IF(Nährstoffabgabe!B328=\"\",\"\",Nährstoffabgabe!B328)","v":150},{"$f":"IF(Nährstoffabgabe!C328=\"\",\"\",Nährstoffabgabe!C328)","v":""},{"$f":"IF(Nährstoffabgabe!D328=\"\",\"\",Nährstoffabgabe!D328)","v":""},{"$f":"Nährstoffabgabe!E328","v":0},{"$f":"IF(Nährstoffabgabe!F328=\"\",\"\",Nährstoffabgabe!F328)","v":0.35},{"$f":"IF(Nährstoffabgabe!G328=\"\",\"\",Nährstoffabgabe!G328)","v":0.11},{"$f":"IF(Nährstoffabgabe!H328=\"\",\"\",Nährstoffabgabe!H328)","v":0.45},{"$f":"IF(Nährstoffabgabe!I328=\"\",\"\",Nährstoffabgabe!I328)","v":0.05},{"$f":"IF(Nährstoffabgabe!J328=\"\",\"\",Nährstoffabgabe!J328)","v":0},{"$f":"IF(Nährstoffabgabe!K328=\"\",\"\",Nährstoffabgabe!K328)","v":0},{"$f":"IF(Nährstoffabgabe!L328=\"\",\"\",Nährstoffabgabe!L328)","v":0},{"$f":"IF(Nährstoffabgabe!M328=\"\",\"\",Nährstoffabgabe!M328)","v":0}]
[{"$f":"IF(Nährstoffabgabe!A329=\"\",\"\",Nährstoffabgabe!A329)","v":"Winterraps"},{"$f":"IF(Nährstoffabgabe!B329=\"\",\"\",Nährstoffabgabe!B329)","v":150},{"$f":"IF(Nährstoffabgabe!C329=\"\",\"\",Nährstoffabgabe!C329)","v":""},{"$f":"IF(Nährstoffabgabe!D329=\"\",\"\",Nährstoffabgabe!D329)","v":""},{"$f":"Nährstoffabgabe!E329","v":0},{"$f":"IF(Nährstoffabgabe!F329=\"\",\"\",Nährstoffabgabe!F329)","v":0.35},{"$f":"IF(Nährstoffabgabe!G329=\"\",\"\",Nährstoffabgabe!G329)","v":0.11},{"$f":"IF(Nährstoffabgabe!H329=\"\",\"\",Nährstoffabgabe!H329)","v":0.45},{"$f":"IF(Nährstoffabgabe!I329=\"\",\"\",Nährstoffabgabe!I329)","v":0.05},{"$f":"IF(Nährstoffabgabe!J329=\"\",\"\",Nährstoffabgabe!J329)","v":0},{"$f":"IF(Nährstoffabgabe!K329=\"\",\"\",Nährstoffabgabe!K329)","v":0},{"$f":"IF(Nährstoffabgabe!L329=\"\",\"\",Nährstoffabgabe!L329)","v":0},{"$f":"IF(Nährstoffabgabe!M329=\"\",\"\",Nährstoffabgabe!M329)","v":0}]
[{"$f":"IF(Nährstoffabgabe!A330=\"\",\"\",Nährstoffabgabe!A330)","v":"Winterrübsen"},{"$f":"IF(Nährstoffabgabe!B330=\"\",\"\",Nährstoffabgabe!B330)","v":150},{"$f":"IF(Nährstoffabgabe!C330=\"\",\"\",Nährstoffabgabe!C330)","v":""},{"$f":"IF(Nährstoffabgabe!D330=\"\",\"\",Nährstoffabgabe!D330)","v":""},{"$f":"Nährstoffabgabe!E330","v":0},{"$f":"IF(Nährstoffabgabe!F330=\"\",\"\",Nährstoffabgabe!F330)","v":0.35},{"$f":"IF(Nährstoffabgabe!G330=\"\",\"\",Nährstoffabgabe!G330)","v":0.11},{"$f":"IF(Nährstoffabgabe!H330=\"\",\"\",Nährstoffabgabe!H330)","v":0.45},{"$f":"IF(Nährstoffabgabe!I330=\"\",\"\",Nährstoffabgabe!I330)","v":0.05},{"$f":"IF(Nährstoffabgabe!J330=\"\",\"\",Nährstoffabgabe!J330)","v":0},{"$f":"IF(Nährstoffabgabe!K330=\"\",\"\",Nährstoffabgabe!K330)","v":0},{"$f":"IF(Nährstoffabgabe!L330=\"\",\"\",Nährstoffabgabe!L330)","v":0},{"$f":"IF(Nährstoffabgabe!M330=\"\",\"\",Nährstoffabgabe!M330)","v":0}]
[{"$f":"IF(Nährstoffabgabe!A331=\"\",\"\",Nährstoffabgabe!A331)","v":"Sommerrübsen"},{"$f":"IF(Nährstoffabgabe!B331=\"\",\"\",Nährstoffabgabe!B331)","v":150},{"$f":"IF(Nährstoffabgabe!C331=\"\",\"\",Nährstoffabgabe!C331)","v":""},{"$f":"IF(Nährstoffabgabe!D331=\"\",\"\",Nährstoffabgabe!D331)","v":""},{"$f":"Nährstoffabgabe!E331","v":0},{"$f":"IF(Nährstoffabgabe!F331=\"\",\"\",Nährstoffabgabe!F331)","v":0.35},{"$f":"IF(Nährstoffabgabe!G331=\"\",\"\",Nährstoffabgabe!G331)","v":0.11},{"$f":"IF(Nährstoffabgabe!H331=\"\",\"\",Nährstoffabgabe!H331)","v":0.45},{"$f":"IF(Nährstoffabgabe!I331=\"\",\"\",Nährstoffabgabe!I331)","v":0.05},{"$f":"IF(Nährstoffabgabe!J331=\"\",\"\",Nährstoffabgabe!J331)","v":0},{"$f":"IF(Nährstoffabgabe!K331=\"\",\"\",Nährstoffabgabe!K331)","v":0},{"$f":"IF(Nährstoffabgabe!L331=\"\",\"\",Nährstoffabgabe!L331)","v":0},{"$f":"IF(Nährstoffabgabe!M331=\"\",\"\",Nährstoffabgabe!M331)","v":0}]
[{"$f":"IF(Nährstoffabgabe!A332=\"\",\"\",Nährstoffabgabe!A332)","v":"Ölrettich"},{"$f":"IF(Nährstoffabgabe!B332=\"\",\"\",Nährstoffabgabe!B332)","v":150},{"$f":"IF(Nährstoffabgabe!C332=\"\",\"\",Nährstoffabgabe!C332)","v":""},{"$f":"IF(Nährstoffabgabe!D332=\"\",\"\",Nährstoffabgabe!D332)","v":""},{"$f":"Nährstoffabgabe!E332","v":0},{"$f":"IF(Nährstoffabgabe!F332=\"\",\"\",Nährstoffabgabe!F332)","v":0.35},{"$f":"IF(Nährstoffabgabe!G332=\"\",\"\",Nährstoffabgabe!G332)","v":0.11},{"$f":"IF(Nährstoffabgabe!H332=\"\",\"\",Nährstoffabgabe!H332)","v":0.45},{"$f":"IF(Nährstoffabgabe!I332=\"\",\"\",Nährstoffabgabe!I332)","v":0.05},{"$f":"IF(Nährstoffabgabe!J332=\"\",\"\",Nährstoffabgabe!J332)","v":0},{"$f":"IF(Nährstoffabgabe!K332=\"\",\"\",Nährstoffabgabe!K332)","v":0},{"$f":"IF(Nährstoffabgabe!L332=\"\",\"\",Nährstoffabgabe!L332)","v":0},{"$f":"IF(Nährstoffabgabe!M332=\"\",\"\",Nährstoffabgabe!M332)","v":0}]
[{"$f":"IF(Nährstoffabgabe!A333=\"\",\"\",Nährstoffabgabe!A333)","v":"Senf"},{"$f":"IF(Nährstoffabgabe!B333=\"\",\"\",Nährstoffabgabe!B333)","v":150},{"$f":"IF(Nährstoffabgabe!C333=\"\",\"\",Nährstoffabgabe!C333)","v":""},{"$f":"IF(Nährstoffabgabe!D333=\"\",\"\",Nährstoffabgabe!D333)","v":""},{"$f":"Nährstoffabgabe!E333","v":0},{"$f":"IF(Nährstoffabgabe!F333=\"\",\"\",Nährstoffabgabe!F333)","v":0.35},{"$f":"IF(Nährstoffabgabe!G333=\"\",\"\",Nährstoffabgabe!G333)","v":0.11},{"$f":"IF(Nährstoffabgabe!H333=\"\",\"\",Nährstoffabgabe!H333)","v":0.45},{"$f":"IF(Nährstoffabgabe!I333=\"\",\"\",Nährstoffabgabe!I333)","v":0.05},{"$f":"IF(Nährstoffabgabe!J333=\"\",\"\",Nährstoffabgabe!J333)","v":0},{"$f":"IF(Nährstoffabgabe!K333=\"\",\"\",Nährstoffabgabe!K333)","v":0},{"$f":"IF(Nährstoffabgabe!L333=\"\",\"\",Nährstoffabgabe!L333)","v":0},{"$f":"IF(Nährstoffabgabe!M333=\"\",\"\",Nährstoffabgabe!M333)","v":0}]
[{"$f":"IF(Nährstoffabgabe!A334=\"\",\"\",Nährstoffabgabe!A334)","v":"Phacelia"},{"$f":"IF(Nährstoffabgabe!B334=\"\",\"\",Nährstoffabgabe!B334)","v":150},{"$f":"IF(Nährstoffabgabe!C334=\"\",\"\",Nährstoffabgabe!C334)","v":""},{"$f":"IF(Nährstoffabgabe!D334=\"\",\"\",Nährstoffabgabe!D334)","v":""},{"$f":"Nährstoffabgabe!E334","v":0},{"$f":"IF(Nährstoffabgabe!F334=\"\",\"\",Nährstoffabgabe!F334)","v":0.35},{"$f":"IF(Nährstoffabgabe!G334=\"\",\"\",Nährstoffabgabe!G334)","v":0.11},{"$f":"IF(Nährstoffabgabe!H334=\"\",\"\",Nährstoffabgabe!H334)","v":0.45},{"$f":"IF(Nährstoffabgabe!I334=\"\",\"\",Nährstoffabgabe!I334)","v":0.05},{"$f":"IF(Nährstoffabgabe!J334=\"\",\"\",Nährstoffabgabe!J334)","v":0},{"$f":"IF(Nährstoffabgabe!K334=\"\",\"\",Nährstoffabgabe!K334)","v":0},{"$f":"IF(Nährstoffabgabe!L334=\"\",\"\",Nährstoffabgabe!L334)","v":0},{"$f":"IF(Nährstoffabgabe!M334=\"\",\"\",Nährstoffabgabe!M334)","v":0}]
[{"$f":"IF(Nährstoffabgabe!A335=\"\",\"\",Nährstoffabgabe!A335)","v":"Sonnenblumen"},{"$f":"IF(Nährstoffabgabe!B335=\"\",\"\",Nährstoffabgabe!B335)","v":150},{"$f":"IF(Nährstoffabgabe!C335=\"\",\"\",Nährstoffabgabe!C335)","v":""},{"$f":"IF(Nährstoffabgabe!D335=\"\",\"\",Nährstoffabgabe!D335)","v":""},{"$f":"Nährstoffabgabe!E335","v":0},{"$f":"IF(Nährstoffabgabe!F335=\"\",\"\",Nährstoffabgabe!F335)","v":0.35},{"$f":"IF(Nährstoffabgabe!G335=\"\",\"\",Nährstoffabgabe!G335)","v":0.11},{"$f":"IF(Nährstoffabgabe!H335=\"\",\"\",Nährstoffabgabe!H335)","v":0.45},{"$f":"IF(Nährstoffabgabe!I335=\"\",\"\",Nährstoffabgabe!I335)","v":0.05},{"$f":"IF(Nährstoffabgabe!J335=\"\",\"\",Nährstoffabgabe!J335)","v":0},{"$f":"IF(Nährstoffabgabe!K335=\"\",\"\",Nährstoffabgabe!K335)","v":0},{"$f":"IF(Nährstoffabgabe!L335=\"\",\"\",Nährstoffabgabe!L335)","v":0},{"$f":"IF(Nährstoffabgabe!M335=\"\",\"\",Nährstoffabgabe!M335)","v":0}]
[{"$f":"IF(Nährstoffabgabe!A336=\"\",\"\",Nährstoffabgabe!A336)","v":"Erbsen/Wicken/Sonnenblumen"},{"$f":"IF(Nährstoffabgabe!B336=\"\",\"\",Nährstoffabgabe!B336)","v":250},{"$f":"IF(Nährstoffabgabe!C336=\"\",\"\",Nährstoffabgabe!C336)","v":""},{"$f":"IF(Nährstoffabgabe!D336=\"\",\"\",Nährstoffabgabe!D336)","v":""},{"$f":"Nährstoffabgabe!E336","v":0},{"$f":"IF(Nährstoffabgabe!F336=\"\",\"\",Nährstoffabgabe!F336)","v":0.35},{"$f":"IF(Nährstoffabgabe!G336=\"\",\"\",Nährstoffabgabe!G336)","v":0.11},{"$f":"IF(Nährstoffabgabe!H336=\"\",\"\",Nährstoffabgabe!H336)","v":0.45},{"$f":"IF(Nährstoffabgabe!I336=\"\",\"\",Nährstoffabgabe!I336)","v":0.05},{"$f":"IF(Nährstoffabgabe!J336=\"\",\"\",Nährstoffabgabe!J336)","v":0},{"$f":"IF(Nährstoffabgabe!K336=\"\",\"\",Nährstoffabgabe!K336)","v":0},{"$f":"IF(Nährstoffabgabe!L336=\"\",\"\",Nährstoffabgabe!L336)","v":0},{"$f":"IF(Nährstoffabgabe!M336=\"\",\"\",Nährstoffabgabe!M336)","v":0}]
[{"$f":"IF(Nährstoffabgabe!A337=\"\",\"\",Nährstoffabgabe!A337)","v":"Untersaat ohne Leguminosen"},{"$f":"IF(Nährstoffabgabe!B337=\"\",\"\",Nährstoffabgabe!B337)","v":150},{"$f":"IF(Nährstoffabgabe!C337=\"\",\"\",Nährstoffabgabe!C337)","v":""},{"$f":"IF(Nährstoffabgabe!D337=\"\",\"\",Nährstoffabgabe!D337)","v":""},{"$f":"Nährstoffabgabe!E337","v":0},{"$f":"IF(Nährstoffabgabe!F337=\"\",\"\",Nährstoffabgabe!F337)","v":0.35},{"$f":"IF(Nährstoffabgabe!G337=\"\",\"\",Nährstoffabgabe!G337)","v":0.11},{"$f":"IF(Nährstoffabgabe!H337=\"\",\"\",Nährstoffabgabe!H337)","v":0.45},{"$f":"IF(Nährstoffabgabe!I337=\"\",\"\",Nährstoffabgabe!I337)","v":0.05},{"$f":"IF(Nährstoffabgabe!J337=\"\",\"\",Nährstoffabgabe!J337)","v":0},{"$f":"IF(Nährstoffabgabe!K337=\"\",\"\",Nährstoffabgabe!K337)","v":0},{"$f":"IF(Nährstoffabgabe!L337=\"\",\"\",Nährstoffabgabe!L337)","v":0},{"$f":"IF(Nährstoffabgabe!M337=\"\",\"\",Nährstoffabgabe!M337)","v":0}]
[{"$f":"IF(Nährstoffabgabe!A338=\"\",\"\",Nährstoffabgabe!A338)","v":"Untersaat mit Leguminosen"},{"$f":"IF(Nährstoffabgabe!B338=\"\",\"\",Nährstoffabgabe!B338)","v":150},{"$f":"IF(Nährstoffabgabe!C338=\"\",\"\",Nährstoffabgabe!C338)","v":""},{"$f":"IF(Nährstoffabgabe!D338=\"\",\"\",Nährstoffabgabe!D338)","v":""},{"$f":"Nährstoffabgabe!E338","v":0},{"$f":"IF(Nährstoffabgabe!F338=\"\",\"\",Nährstoffabgabe!F338)","v":0.35},{"$f":"IF(Nährstoffabgabe!G338=\"\",\"\",Nährstoffabgabe!G338)","v":0.11},{"$f":"IF(Nährstoffabgabe!H338=\"\",\"\",Nährstoffabgabe!H338)","v":0.45},{"$f":"IF(Nährstoffabgabe!I338=\"\",\"\",Nährstoffabgabe!I338)","v":0.05},{"$f":"IF(Nährstoffabgabe!J338=\"\",\"\",Nährstoffabgabe!J338)","v":0},{"$f":"IF(Nährstoffabgabe!K338=\"\",\"\",Nährstoffabgabe!K338)","v":0},{"$f":"IF(Nährstoffabgabe!L338=\"\",\"\",Nährstoffabgabe!L338)","v":0},{"$f":"IF(Nährstoffabgabe!M338=\"\",\"\",Nährstoffabgabe!M338)","v":0}]
[{"$f":"IF(Nährstoffabgabe!A339=\"\",\"\",Nährstoffabgabe!A339)","v":"Winterroggen"},{"$f":"IF(Nährstoffabgabe!B339=\"\",\"\",Nährstoffabgabe!B339)","v":250},{"$f":"IF(Nährstoffabgabe!C339=\"\",\"\",Nährstoffabgabe!C339)","v":""},{"$f":"IF(Nährstoffabgabe!D339=\"\",\"\",Nährstoffabgabe!D339)","v":""},{"$f":"Nährstoffabgabe!E339","v":0},{"$f":"IF(Nährstoffabgabe!F339=\"\",\"\",Nährstoffabgabe!F339)","v":0.35},{"$f":"IF(Nährstoffabgabe!G339=\"\",\"\",Nährstoffabgabe!G339)","v":0.11},{"$f":"IF(Nährstoffabgabe!H339=\"\",\"\",Nährstoffabgabe!H339)","v":0.45},{"$f":"IF(Nährstoffabgabe!I339=\"\",\"\",Nährstoffabgabe!I339)","v":0.05},{"$f":"IF(Nährstoffabgabe!J339=\"\",\"\",Nährstoffabgabe!J339)","v":0},{"$f":"IF(Nährstoffabgabe!K339=\"\",\"\",Nährstoffabgabe!K339)","v":0},{"$f":"IF(Nährstoffabgabe!L339=\"\",\"\",Nährstoffabgabe!L339)","v":0},{"$f":"IF(Nährstoffabgabe!M339=\"\",\"\",Nährstoffabgabe!M339)","v":0}]
[{"$f":"IF(Nährstoffabgabe!A340=\"\",\"\",Nährstoffabgabe!A340)","v":"zusätzl. Zwischenfrucht (Leguminosen)"},{"$f":"IF(Nährstoffabgabe!B340=\"\",\"\",Nährstoffabgabe!B340)","v":250},{"$f":"IF(Nährstoffabgabe!C340=\"\",\"\",Nährstoffabgabe!C340)","v":""},{"$f":"IF(Nährstoffabgabe!D340=\"\",\"\",Nährstoffabgabe!D340)","v":""},{"$f":"Nährstoffabgabe!E340","v":0},{"$f":"IF(Nährstoffabgabe!F340=\"\",\"\",Nährstoffabgabe!F340)","v":0.35},{"$f":"IF(Nährstoffabgabe!G340=\"\",\"\",Nährstoffabgabe!G340)","v":0.11},{"$f":"IF(Nährstoffabgabe!H340=\"\",\"\",Nährstoffabgabe!H340)","v":0.45},{"$f":"IF(Nährstoffabgabe!I340=\"\",\"\",Nährstoffabgabe!I340)","v":0.05},{"$f":"IF(Nährstoffabgabe!J340=\"\",\"\",Nährstoffabgabe!J340)","v":0},{"$f":"IF(Nährstoffabgabe!K340=\"\",\"\",Nährstoffabgabe!K340)","v":0},{"$f":"IF(Nährstoffabgabe!L340=\"\",\"\",Nährstoffabgabe!L340)","v":0},{"$f":"IF(Nährstoffabgabe!M340=\"\",\"\",Nährstoffabgabe!M340)","v":0}]
[{"$f":"IF(Nährstoffabgabe!A341=\"\",\"\",Nährstoffabgabe!A341)","v":"zusätzl. Zwischenfrucht (ohne Leguminosen)"},{"$f":"IF(Nährstoffabgabe!B341=\"\",\"\",Nährstoffabgabe!B341)","v":150},{"$f":"IF(Nährstoffabgabe!C341=\"\",\"\",Nährstoffabgabe!C341)","v":""},{"$f":"IF(Nährstoffabgabe!D341=\"\",\"\",Nährstoffabgabe!D341)","v":""},{"$f":"Nährstoffabgabe!E341","v":0},{"$f":"IF(Nährstoffabgabe!F341=\"\",\"\",Nährstoffabgabe!F341)","v":0.35},{"$f":"IF(Nährstoffabgabe!G341=\"\",\"\",Nährstoffabgabe!G341)","v":0.11},{"$f":"IF(Nährstoffabgabe!H341=\"\",\"\",Nährstoffabgabe!H341)","v":0.45},{"$f":"IF(Nährstoffabgabe!I341=\"\",\"\",Nährstoffabgabe!I341)","v":0.05},{"$f":"IF(Nährstoffabgabe!J341=\"\",\"\",Nährstoffabgabe!J341)","v":0},{"$f":"IF(Nährstoffabgabe!K341=\"\",\"\",Nährstoffabgabe!K341)","v":0},{"$f":"IF(Nährstoffabgabe!L341=\"\",\"\",Nährstoffabgabe!L341)","v":0},{"$f":"IF(Nährstoffabgabe!M341=\"\",\"\",Nährstoffabgabe!M341)","v":0}]
[{"$f":"IF(Nährstoffabgabe!A342=\"\",\"\",Nährstoffabgabe!A342)","v":"zusätzl. Zwischenfrucht (Gemenge Leg./Nichtleg.)"},{"$f":"IF(Nährstoffabgabe!B342=\"\",\"\",Nährstoffabgabe!B342)","v":250},{"$f":"IF(Nährstoffabgabe!C342=\"\",\"\",Nährstoffabgabe!C342)","v":""},{"$f":"IF(Nährstoffabgabe!D342=\"\",\"\",Nährstoffabgabe!D342)","v":""},{"$f":"Nährstoffabgabe!E342","v":0},{"$f":"IF(Nährstoffabgabe!F342=\"\",\"\",Nährstoffabgabe!F342)","v":0.35},{"$f":"IF(Nährstoffabgabe!G342=\"\",\"\",Nährstoffabgabe!G342)","v":0.11},{"$f":"IF(Nährstoffabgabe!H342=\"\",\"\",Nährstoffabgabe!H342)","v":0.45},{"$f":"IF(Nährstoffabgabe!I342=\"\",\"\",Nährstoffabgabe!I342)","v":0.05},{"$f":"IF(Nährstoffabgabe!J342=\"\",\"\",Nährstoffabgabe!J342)","v":0},{"$f":"IF(Nährstoffabgabe!K342=\"\",\"\",Nährstoffabgabe!K342)","v":0},{"$f":"IF(Nährstoffabgabe!L342=\"\",\"\",Nährstoffabgabe!L342)","v":0},{"$f":"IF(Nährstoffabgabe!M342=\"\",\"\",Nährstoffabgabe!M342)","v":0}]
[{"$f":"IF(Nährstoffabgabe!A343=\"\",\"\",Nährstoffabgabe!A343)","v":"Biogasvergärung im eigenen Betrieb"},{"$f":"IF(Nährstoffabgabe!B343=\"\",\"\",Nährstoffabgabe!B343)","v":""},{"$f":"IF(Nährstoffabgabe!C343=\"\",\"\",Nährstoffabgabe!C343)","v":""},{"$f":"IF(Nährstoffabgabe!D343=\"\",\"\",Nährstoffabgabe!D343)","v":""},{"$f":"Nährstoffabgabe!E343","v":0},{"$f":"IF(Nährstoffabgabe!F343=\"\",\"\",Nährstoffabgabe!F343)","v":""},{"$f":"IF(Nährstoffabgabe!G343=\"\",\"\",Nährstoffabgabe!G343)","v":""},{"$f":"IF(Nährstoffabgabe!H343=\"\",\"\",Nährstoffabgabe!H343)","v":""},{"$f":"IF(Nährstoffabgabe!I343=\"\",\"\",Nährstoffabgabe!I343)","v":""},{"$f":"IF(Nährstoffabgabe!J343=\"\",\"\",Nährstoffabgabe!J343)","v":""},{"$f":"IF(Nährstoffabgabe!K343=\"\",\"\",Nährstoffabgabe!K343)","v":""},{"$f":"IF(Nährstoffabgabe!L343=\"\",\"\",Nährstoffabgabe!L343)","v":""},{"$f":"IF(Nährstoffabgabe!M343=\"\",\"\",Nährstoffabgabe!M343)","v":""}]
[{"$f":"IF(Nährstoffabgabe!A344=\"\",\"\",Nährstoffabgabe!A344)","v":"Einjähriges Weidelgras"},{"$f":"IF(Nährstoffabgabe!B344=\"\",\"\",Nährstoffabgabe!B344)","v":400},{"$f":"IF(Nährstoffabgabe!C344=\"\",\"\",Nährstoffabgabe!C344)","v":""},{"$f":"IF(Nährstoffabgabe!D344=\"\",\"\",Nährstoffabgabe!D344)","v":""},{"$f":"Nährstoffabgabe!E344","v":0},{"$f":"IF(Nährstoffabgabe!F344=\"\",\"\",Nährstoffabgabe!F344)","v":0.48},{"$f":"IF(Nährstoffabgabe!G344=\"\",\"\",Nährstoffabgabe!G344)","v":0.16},{"$f":"IF(Nährstoffabgabe!H344=\"\",\"\",Nährstoffabgabe!H344)","v":0.65},{"$f":"IF(Nährstoffabgabe!I344=\"\",\"\",Nährstoffabgabe!I344)","v":0.05},{"$f":"IF(Nährstoffabgabe!J344=\"\",\"\",Nährstoffabgabe!J344)","v":0},{"$f":"IF(Nährstoffabgabe!K344=\"\",\"\",Nährstoffabgabe!K344)","v":0},{"$f":"IF(Nährstoffabgabe!L344=\"\",\"\",Nährstoffabgabe!L344)","v":0},{"$f":"IF(Nährstoffabgabe!M344=\"\",\"\",Nährstoffabgabe!M344)","v":0}]
[{"$f":"IF(Nährstoffabgabe!A345=\"\",\"\",Nährstoffabgabe!A345)","v":"Welsches Weidelgras"},{"$f":"IF(Nährstoffabgabe!B345=\"\",\"\",Nährstoffabgabe!B345)","v":400},{"$f":"IF(Nährstoffabgabe!C345=\"\",\"\",Nährstoffabgabe!C345)","v":""},{"$f":"IF(Nährstoffabgabe!D345=\"\",\"\",Nährstoffabgabe!D345)","v":""},{"$f":"Nährstoffabgabe!E345","v":0},{"$f":"IF(Nährstoffabgabe!F345=\"\",\"\",Nährstoffabgabe!F345)","v":0.48},{"$f":"IF(Nährstoffabgabe!G345=\"\",\"\",Nährstoffabgabe!G345)","v":0.16},{"$f":"IF(Nährstoffabgabe!H345=\"\",\"\",Nährstoffabgabe!H345)","v":0.65},{"$f":"IF(Nährstoffabgabe!I345=\"\",\"\",Nährstoffabgabe!I345)","v":0.05},{"$f":"IF(Nährstoffabgabe!J345=\"\",\"\",Nährstoffabgabe!J345)","v":0},{"$f":"IF(Nährstoffabgabe!K345=\"\",\"\",Nährstoffabgabe!K345)","v":0},{"$f":"IF(Nährstoffabgabe!L345=\"\",\"\",Nährstoffabgabe!L345)","v":0},{"$f":"IF(Nährstoffabgabe!M345=\"\",\"\",Nährstoffabgabe!M345)","v":0}]
[{"$f":"IF(Nährstoffabgabe!A346=\"\",\"\",Nährstoffabgabe!A346)","v":"Kleegras"},{"$f":"IF(Nährstoffabgabe!B346=\"\",\"\",Nährstoffabgabe!B346)","v":250},{"$f":"IF(Nährstoffabgabe!C346=\"\",\"\",Nährstoffabgabe!C346)","v":""},{"$f":"IF(Nährstoffabgabe!D346=\"\",\"\",Nährstoffabgabe!D346)","v":""},{"$f":"Nährstoffabgabe!E346","v":0},{"$f":"IF(Nährstoffabgabe!F346=\"\",\"\",Nährstoffabgabe!F346)","v":0.35},{"$f":"IF(Nährstoffabgabe!G346=\"\",\"\",Nährstoffabgabe!G346)","v":0.11},{"$f":"IF(Nährstoffabgabe!H346=\"\",\"\",Nährstoffabgabe!H346)","v":0.45},{"$f":"IF(Nährstoffabgabe!I346=\"\",\"\",Nährstoffabgabe!I346)","v":0.05},{"$f":"IF(Nährstoffabgabe!J346=\"\",\"\",Nährstoffabgabe!J346)","v":0},{"$f":"IF(Nährstoffabgabe!K346=\"\",\"\",Nährstoffabgabe!K346)","v":0},{"$f":"IF(Nährstoffabgabe!L346=\"\",\"\",Nährstoffabgabe!L346)","v":0},{"$f":"IF(Nährstoffabgabe!M346=\"\",\"\",Nährstoffabgabe!M346)","v":0}]
[{"$f":"IF(Nährstoffabgabe!A347=\"\",\"\",Nährstoffabgabe!A347)","v":"Alexandrinerklee"},{"$f":"IF(Nährstoffabgabe!B347=\"\",\"\",Nährstoffabgabe!B347)","v":250},{"$f":"IF(Nährstoffabgabe!C347=\"\",\"\",Nährstoffabgabe!C347)","v":""},{"$f":"IF(Nährstoffabgabe!D347=\"\",\"\",Nährstoffabgabe!D347)","v":""},{"$f":"Nährstoffabgabe!E347","v":0},{"$f":"IF(Nährstoffabgabe!F347=\"\",\"\",Nährstoffabgabe!F347)","v":0.35},{"$f":"IF(Nährstoffabgabe!G347=\"\",\"\",Nährstoffabgabe!G347)","v":0.11},{"$f":"IF(Nährstoffabgabe!H347=\"\",\"\",Nährstoffabgabe!H347)","v":0.45},{"$f":"IF(Nährstoffabgabe!I347=\"\",\"\",Nährstoffabgabe!I347)","v":0.05},{"$f":"IF(Nährstoffabgabe!J347=\"\",\"\",Nährstoffabgabe!J347)","v":0},{"$f":"IF(Nährstoffabgabe!K347=\"\",\"\",Nährstoffabgabe!K347)","v":0},{"$f":"IF(Nährstoffabgabe!L347=\"\",\"\",Nährstoffabgabe!L347)","v":0},{"$f":"IF(Nährstoffabgabe!M347=\"\",\"\",Nährstoffabgabe!M347)","v":0}]
[{"$f":"IF(Nährstoffabgabe!A348=\"\",\"\",Nährstoffabgabe!A348)","v":"Erbsen/Ackerbohnen"},{"$f":"IF(Nährstoffabgabe!B348=\"\",\"\",Nährstoffabgabe!B348)","v":250},{"$f":"IF(Nährstoffabgabe!C348=\"\",\"\",Nährstoffabgabe!C348)","v":""},{"$f":"IF(Nährstoffabgabe!D348=\"\",\"\",Nährstoffabgabe!D348)","v":""},{"$f":"Nährstoffabgabe!E348","v":0},{"$f":"IF(Nährstoffabgabe!F348=\"\",\"\",Nährstoffabgabe!F348)","v":0.35},{"$f":"IF(Nährstoffabgabe!G348=\"\",\"\",Nährstoffabgabe!G348)","v":0.11},{"$f":"IF(Nährstoffabgabe!H348=\"\",\"\",Nährstoffabgabe!H348)","v":0.45},{"$f":"IF(Nährstoffabgabe!I348=\"\",\"\",Nährstoffabgabe!I348)","v":0.05},{"$f":"IF(Nährstoffabgabe!J348=\"\",\"\",Nährstoffabgabe!J348)","v":0},{"$f":"IF(Nährstoffabgabe!K348=\"\",\"\",Nährstoffabgabe!K348)","v":0},{"$f":"IF(Nährstoffabgabe!L348=\"\",\"\",Nährstoffabgabe!L348)","v":0},{"$f":"IF(Nährstoffabgabe!M348=\"\",\"\",Nährstoffabgabe!M348)","v":0}]
[{"$f":"IF(Nährstoffabgabe!A349=\"\",\"\",Nährstoffabgabe!A349)","v":"Sommerwicken"},{"$f":"IF(Nährstoffabgabe!B349=\"\",\"\",Nährstoffabgabe!B349)","v":250},{"$f":"IF(Nährstoffabgabe!C349=\"\",\"\",Nährstoffabgabe!C349)","v":""},{"$f":"IF(Nährstoffabgabe!D349=\"\",\"\",Nährstoffabgabe!D349)","v":""},{"$f":"Nährstoffabgabe!E349","v":0},{"$f":"IF(Nährstoffabgabe!F349=\"\",\"\",Nährstoffabgabe!F349)","v":0.35},{"$f":"IF(Nährstoffabgabe!G349=\"\",\"\",Nährstoffabgabe!G349)","v":0.11},{"$f":"IF(Nährstoffabgabe!H349=\"\",\"\",Nährstoffabgabe!H349)","v":0.45},{"$f":"IF(Nährstoffabgabe!I349=\"\",\"\",Nährstoffabgabe!I349)","v":0.05},{"$f":"IF(Nährstoffabgabe!J349=\"\",\"\",Nährstoffabgabe!J349)","v":0},{"$f":"IF(Nährstoffabgabe!K349=\"\",\"\",Nährstoffabgabe!K349)","v":0},{"$f":"IF(Nährstoffabgabe!L349=\"\",\"\",Nährstoffabgabe!L349)","v":0},{"$f":"IF(Nährstoffabgabe!M349=\"\",\"\",Nährstoffabgabe!M349)","v":0}]
[{"$f":"IF(Nährstoffabgabe!A350=\"\",\"\",Nährstoffabgabe!A350)","v":"Sommerraps"},{"$f":"IF(Nährstoffabgabe!B350=\"\",\"\",Nährstoffabgabe!B350)","v":250},{"$f":"IF(Nährstoffabgabe!C350=\"\",\"\",Nährstoffabgabe!C350)","v":""},{"$f":"IF(Nährstoffabgabe!D350=\"\",\"\",Nährstoffabgabe!D350)","v":""},{"$f":"Nährstoffabgabe!E350","v":0},{"$f":"IF(Nährstoffabgabe!F350=\"\",\"\",Nährstoffabgabe!F350)","v":0.35},{"$f":"IF(Nährstoffabgabe!G350=\"\",\"\",Nährstoffabgabe!G350)","v":0.11},{"$f":"IF(Nährstoffabgabe!H350=\"\",\"\",Nährstoffabgabe!H350)","v":0.45},{"$f":"IF(Nährstoffabgabe!I350=\"\",\"\",Nährstoffabgabe!I350)","v":0.05},{"$f":"IF(Nährstoffabgabe!J350=\"\",\"\",Nährstoffabgabe!J350)","v":0},{"$f":"IF(Nährstoffabgabe!K350=\"\",\"\",Nährstoffabgabe!K350)","v":0},{"$f":"IF(Nährstoffabgabe!L350=\"\",\"\",Nährstoffabgabe!L350)","v":0},{"$f":"IF(Nährstoffabgabe!M350=\"\",\"\",Nährstoffabgabe!M350)","v":0}]
[{"$f":"IF(Nährstoffabgabe!A351=\"\",\"\",Nährstoffabgabe!A351)","v":"Winterraps"},{"$f":"IF(Nährstoffabgabe!B351=\"\",\"\",Nährstoffabgabe!B351)","v":250},{"$f":"IF(Nährstoffabgabe!C351=\"\",\"\",Nährstoffabgabe!C351)","v":""},{"$f":"IF(Nährstoffabgabe!D351=\"\",\"\",Nährstoffabgabe!D351)","v":""},{"$f":"Nährstoffabgabe!E351","v":0},{"$f":"IF(Nährstoffabgabe!F351=\"\",\"\",Nährstoffabgabe!F351)","v":0.35},{"$f":"IF(Nährstoffabgabe!G351=\"\",\"\",Nährstoffabgabe!G351)","v":0.11},{"$f":"IF(Nährstoffabgabe!H351=\"\",\"\",Nährstoffabgabe!H351)","v":0.45},{"$f":"IF(Nährstoffabgabe!I351=\"\",\"\",Nährstoffabgabe!I351)","v":0.05},{"$f":"IF(Nährstoffabgabe!J351=\"\",\"\",Nährstoffabgabe!J351)","v":0},{"$f":"IF(Nährstoffabgabe!K351=\"\",\"\",Nährstoffabgabe!K351)","v":0},{"$f":"IF(Nährstoffabgabe!L351=\"\",\"\",Nährstoffabgabe!L351)","v":0},{"$f":"IF(Nährstoffabgabe!M351=\"\",\"\",Nährstoffabgabe!M351)","v":0}]
[{"$f":"IF(Nährstoffabgabe!A352=\"\",\"\",Nährstoffabgabe!A352)","v":"Winterrübsen"},{"$f":"IF(Nährstoffabgabe!B352=\"\",\"\",Nährstoffabgabe!B352)","v":250},{"$f":"IF(Nährstoffabgabe!C352=\"\",\"\",Nährstoffabgabe!C352)","v":""},{"$f":"IF(Nährstoffabgabe!D352=\"\",\"\",Nährstoffabgabe!D352)","v":""},{"$f":"Nährstoffabgabe!E352","v":0},{"$f":"IF(Nährstoffabgabe!F352=\"\",\"\",Nährstoffabgabe!F352)","v":0.35},{"$f":"IF(Nährstoffabgabe!G352=\"\",\"\",Nährstoffabgabe!G352)","v":0.11},{"$f":"IF(Nährstoffabgabe!H352=\"\",\"\",Nährstoffabgabe!H352)","v":0.45},{"$f":"IF(Nährstoffabgabe!I352=\"\",\"\",Nährstoffabgabe!I352)","v":0.05},{"$f":"IF(Nährstoffabgabe!J352=\"\",\"\",Nährstoffabgabe!J352)","v":0},{"$f":"IF(Nährstoffabgabe!K352=\"\",\"\",Nährstoffabgabe!K352)","v":0},{"$f":"IF(Nährstoffabgabe!L352=\"\",\"\",Nährstoffabgabe!L352)","v":0},{"$f":"IF(Nährstoffabgabe!M352=\"\",\"\",Nährstoffabgabe!M352)","v":0}]
[{"$f":"IF(Nährstoffabgabe!A353=\"\",\"\",Nährstoffabgabe!A353)","v":"Sommerrübsen"},{"$f":"IF(Nährstoffabgabe!B353=\"\",\"\",Nährstoffabgabe!B353)","v":250},{"$f":"IF(Nährstoffabgabe!C353=\"\",\"\",Nährstoffabgabe!C353)","v":""},{"$f":"IF(Nährstoffabgabe!D353=\"\",\"\",Nährstoffabgabe!D353)","v":""},{"$f":"Nährstoffabgabe!E353","v":0},{"$f":"IF(Nährstoffabgabe!F353=\"\",\"\",Nährstoffabgabe!F353)","v":0.35},{"$f":"IF(Nährstoffabgabe!G353=\"\",\"\",Nährstoffabgabe!G353)","v":0.11},{"$f":"IF(Nährstoffabgabe!H353=\"\",\"\",Nährstoffabgabe!H353)","v":0.45},{"$f":"IF(Nährstoffabgabe!I353=\"\",\"\",Nährstoffabgabe!I353)","v":0.05},{"$f":"IF(Nährstoffabgabe!J353=\"\",\"\",Nährstoffabgabe!J353)","v":0},{"$f":"IF(Nährstoffabgabe!K353=\"\",\"\",Nährstoffabgabe!K353)","v":0},{"$f":"IF(Nährstoffabgabe!L353=\"\",\"\",Nährstoffabgabe!L353)","v":0},{"$f":"IF(Nährstoffabgabe!M353=\"\",\"\",Nährstoffabgabe!M353)","v":0}]
[{"$f":"IF(Nährstoffabgabe!A354=\"\",\"\",Nährstoffabgabe!A354)","v":"Ölrettich"},{"$f":"IF(Nährstoffabgabe!B354=\"\",\"\",Nährstoffabgabe!B354)","v":250},{"$f":"IF(Nährstoffabgabe!C354=\"\",\"\",Nährstoffabgabe!C354)","v":""},{"$f":"IF(Nährstoffabgabe!D354=\"\",\"\",Nährstoffabgabe!D354)","v":""},{"$f":"Nährstoffabgabe!E354","v":0},{"$f":"IF(Nährstoffabgabe!F354=\"\",\"\",Nährstoffabgabe!F354)","v":0.35},{"$f":"IF(Nährstoffabgabe!G354=\"\",\"\",Nährstoffabgabe!G354)","v":0.11},{"$f":"IF(Nährstoffabgabe!H354=\"\",\"\",Nährstoffabgabe!H354)","v":0.45},{"$f":"IF(Nährstoffabgabe!I354=\"\",\"\",Nährstoffabgabe!I354)","v":0.05},{"$f":"IF(Nährstoffabgabe!J354=\"\",\"\",Nährstoffabgabe!J354)","v":0},{"$f":"IF(Nährstoffabgabe!K354=\"\",\"\",Nährstoffabgabe!K354)","v":0},{"$f":"IF(Nährstoffabgabe!L354=\"\",\"\",Nährstoffabgabe!L354)","v":0},{"$f":"IF(Nährstoffabgabe!M354=\"\",\"\",Nährstoffabgabe!M354)","v":0}]
[{"$f":"IF(Nährstoffabgabe!A355=\"\",\"\",Nährstoffabgabe!A355)","v":"Senf"},{"$f":"IF(Nährstoffabgabe!B355=\"\",\"\",Nährstoffabgabe!B355)","v":250},{"$f":"IF(Nährstoffabgabe!C355=\"\",\"\",Nährstoffabgabe!C355)","v":""},{"$f":"IF(Nährstoffabgabe!D355=\"\",\"\",Nährstoffabgabe!D355)","v":""},{"$f":"Nährstoffabgabe!E355","v":0},{"$f":"IF(Nährstoffabgabe!F355=\"\",\"\",Nährstoffabgabe!F355)","v":0.35},{"$f":"IF(Nährstoffabgabe!G355=\"\",\"\",Nährstoffabgabe!G355)","v":0.11},{"$f":"IF(Nährstoffabgabe!H355=\"\",\"\",Nährstoffabgabe!H355)","v":0.45},{"$f":"IF(Nährstoffabgabe!I355=\"\",\"\",Nährstoffabgabe!I355)","v":0.05},{"$f":"IF(Nährstoffabgabe!J355=\"\",\"\",Nährstoffabgabe!J355)","v":0},{"$f":"IF(Nährstoffabgabe!K355=\"\",\"\",Nährstoffabgabe!K355)","v":0},{"$f":"IF(Nährstoffabgabe!L355=\"\",\"\",Nährstoffabgabe!L355)","v":0},{"$f":"IF(Nährstoffabgabe!M355=\"\",\"\",Nährstoffabgabe!M355)","v":0}]
[{"$f":"IF(Nährstoffabgabe!A356=\"\",\"\",Nährstoffabgabe!A356)","v":"Phacelia"},{"$f":"IF(Nährstoffabgabe!B356=\"\",\"\",Nährstoffabgabe!B356)","v":250},{"$f":"IF(Nährstoffabgabe!C356=\"\",\"\",Nährstoffabgabe!C356)","v":""},{"$f":"IF(Nährstoffabgabe!D356=\"\",\"\",Nährstoffabgabe!D356)","v":""},{"$f":"Nährstoffabgabe!E356","v":0},{"$f":"IF(Nährstoffabgabe!F356=\"\",\"\",Nährstoffabgabe!F356)","v":0.35},{"$f":"IF(Nährstoffabgabe!G356=\"\",\"\",Nährstoffabgabe!G356)","v":0.11},{"$f":"IF(Nährstoffabgabe!H356=\"\",\"\",Nährstoffabgabe!H356)","v":0.45},{"$f":"IF(Nährstoffabgabe!I356=\"\",\"\",Nährstoffabgabe!I356)","v":0.05},{"$f":"IF(Nährstoffabgabe!J356=\"\",\"\",Nährstoffabgabe!J356)","v":0},{"$f":"IF(Nährstoffabgabe!K356=\"\",\"\",Nährstoffabgabe!K356)","v":0},{"$f":"IF(Nährstoffabgabe!L356=\"\",\"\",Nährstoffabgabe!L356)","v":0},{"$f":"IF(Nährstoffabgabe!M356=\"\",\"\",Nährstoffabgabe!M356)","v":0}]
[{"$f":"IF(Nährstoffabgabe!A357=\"\",\"\",Nährstoffabgabe!A357)","v":"Sonnenblumen"},{"$f":"IF(Nährstoffabgabe!B357=\"\",\"\",Nährstoffabgabe!B357)","v":250},{"$f":"IF(Nährstoffabgabe!C357=\"\",\"\",Nährstoffabgabe!C357)","v":""},{"$f":"IF(Nährstoffabgabe!D357=\"\",\"\",Nährstoffabgabe!D357)","v":""},{"$f":"Nährstoffabgabe!E357","v":0},{"$f":"IF(Nährstoffabgabe!F357=\"\",\"\",Nährstoffabgabe!F357)","v":0.35},{"$f":"IF(Nährstoffabgabe!G357=\"\",\"\",Nährstoffabgabe!G357)","v":0.11},{"$f":"IF(Nährstoffabgabe!H357=\"\",\"\",Nährstoffabgabe!H357)","v":0.45},{"$f":"IF(Nährstoffabgabe!I357=\"\",\"\",Nährstoffabgabe!I357)","v":0.05},{"$f":"IF(Nährstoffabgabe!J357=\"\",\"\",Nährstoffabgabe!J357)","v":0},{"$f":"IF(Nährstoffabgabe!K357=\"\",\"\",Nährstoffabgabe!K357)","v":0},{"$f":"IF(Nährstoffabgabe!L357=\"\",\"\",Nährstoffabgabe!L357)","v":0},{"$f":"IF(Nährstoffabgabe!M357=\"\",\"\",Nährstoffabgabe!M357)","v":0}]
[{"$f":"IF(Nährstoffabgabe!A358=\"\",\"\",Nährstoffabgabe!A358)","v":"Erbsen/Wicken/Sonnenblumen"},{"$f":"IF(Nährstoffabgabe!B358=\"\",\"\",Nährstoffabgabe!B358)","v":250},{"$f":"IF(Nährstoffabgabe!C358=\"\",\"\",Nährstoffabgabe!C358)","v":""},{"$f":"IF(Nährstoffabgabe!D358=\"\",\"\",Nährstoffabgabe!D358)","v":""},{"$f":"Nährstoffabgabe!E358","v":0},{"$f":"IF(Nährstoffabgabe!F358=\"\",\"\",Nährstoffabgabe!F358)","v":0.35},{"$f":"IF(Nährstoffabgabe!G358=\"\",\"\",Nährstoffabgabe!G358)","v":0.11},{"$f":"IF(Nährstoffabgabe!H358=\"\",\"\",Nährstoffabgabe!H358)","v":0.45},{"$f":"IF(Nährstoffabgabe!I358=\"\",\"\",Nährstoffabgabe!I358)","v":0.05},{"$f":"IF(Nährstoffabgabe!J358=\"\",\"\",Nährstoffabgabe!J358)","v":0},{"$f":"IF(Nährstoffabgabe!K358=\"\",\"\",Nährstoffabgabe!K358)","v":0},{"$f":"IF(Nährstoffabgabe!L358=\"\",\"\",Nährstoffabgabe!L358)","v":0},{"$f":"IF(Nährstoffabgabe!M358=\"\",\"\",Nährstoffabgabe!M358)","v":0}]
[{"$f":"IF(Nährstoffabgabe!A359=\"\",\"\",Nährstoffabgabe!A359)","v":"Ganzpfl.nsilage Getreide (35 % TM)"},{"$f":"IF(Nährstoffabgabe!B359=\"\",\"\",Nährstoffabgabe!B359)","v":400},{"$f":"IF(Nährstoffabgabe!C359=\"\",\"\",Nährstoffabgabe!C359)","v":""},{"$f":"IF(Nährstoffabgabe!D359=\"\",\"\",Nährstoffabgabe!D359)","v":""},{"$f":"Nährstoffabgabe!E359","v":0},{"$f":"IF(Nährstoffabgabe!F359=\"\",\"\",Nährstoffabgabe!F359)","v":0.56000000000000005},{"$f":"IF(Nährstoffabgabe!G359=\"\",\"\",Nährstoffabgabe!G359)","v":0.23},{"$f":"IF(Nährstoffabgabe!H359=\"\",\"\",Nährstoffabgabe!H359)","v":0.47},{"$f":"IF(Nährstoffabgabe!I359=\"\",\"\",Nährstoffabgabe!I359)","v":0.1},{"$f":"IF(Nährstoffabgabe!J359=\"\",\"\",Nährstoffabgabe!J359)","v":0},{"$f":"IF(Nährstoffabgabe!K359=\"\",\"\",Nährstoffabgabe!K359)","v":0},{"$f":"IF(Nährstoffabgabe!L359=\"\",\"\",Nährstoffabgabe!L359)","v":0},{"$f":"IF(Nährstoffabgabe!M359=\"\",\"\",Nährstoffabgabe!M359)","v":0}]
[{"$f":"IF(Nährstoffabgabe!A360=\"\",\"\",Nährstoffabgabe!A360)","v":"Silomais (20 % TM)"},{"$f":"IF(Nährstoffabgabe!B360=\"\",\"\",Nährstoffabgabe!B360)","v":350},{"$f":"IF(Nährstoffabgabe!C360=\"\",\"\",Nährstoffabgabe!C360)","v":""},{"$f":"IF(Nährstoffabgabe!D360=\"\",\"\",Nährstoffabgabe!D360)","v":""},{"$f":"Nährstoffabgabe!E360","v":0},{"$f":"IF(Nährstoffabgabe!F360=\"\",\"\",Nährstoffabgabe!F360)","v":0.27},{"$f":"IF(Nährstoffabgabe!G360=\"\",\"\",Nährstoffabgabe!G360)","v":0.11},{"$f":"IF(Nährstoffabgabe!H360=\"\",\"\",Nährstoffabgabe!H360)","v":0.32},{"$f":"IF(Nährstoffabgabe!I360=\"\",\"\",Nährstoffabgabe!I360)","v":0.06},{"$f":"IF(Nährstoffabgabe!J360=\"\",\"\",Nährstoffabgabe!J360)","v":0},{"$f":"IF(Nährstoffabgabe!K360=\"\",\"\",Nährstoffabgabe!K360)","v":0},{"$f":"IF(Nährstoffabgabe!L360=\"\",\"\",Nährstoffabgabe!L360)","v":0},{"$f":"IF(Nährstoffabgabe!M360=\"\",\"\",Nährstoffabgabe!M360)","v":0}]
[{"$f":"IF(Nährstoffabgabe!A361=\"\",\"\",Nährstoffabgabe!A361)","v":"Sudangras (20 % TM)"},{"$f":"IF(Nährstoffabgabe!B361=\"\",\"\",Nährstoffabgabe!B361)","v":400},{"$f":"IF(Nährstoffabgabe!C361=\"\",\"\",Nährstoffabgabe!C361)","v":""},{"$f":"IF(Nährstoffabgabe!D361=\"\",\"\",Nährstoffabgabe!D361)","v":""},{"$f":"Nährstoffabgabe!E361","v":0},{"$f":"IF(Nährstoffabgabe!F361=\"\",\"\",Nährstoffabgabe!F361)","v":0.35},{"$f":"IF(Nährstoffabgabe!G361=\"\",\"\",Nährstoffabgabe!G361)","v":0.11},{"$f":"IF(Nährstoffabgabe!H361=\"\",\"\",Nährstoffabgabe!H361)","v":0.39},{"$f":"IF(Nährstoffabgabe!I361=\"\",\"\",Nährstoffabgabe!I361)","v":0.08},{"$f":"IF(Nährstoffabgabe!J361=\"\",\"\",Nährstoffabgabe!J361)","v":0},{"$f":"IF(Nährstoffabgabe!K361=\"\",\"\",Nährstoffabgabe!K361)","v":0},{"$f":"IF(Nährstoffabgabe!L361=\"\",\"\",Nährstoffabgabe!L361)","v":0},{"$f":"IF(Nährstoffabgabe!M361=\"\",\"\",Nährstoffabgabe!M361)","v":0}]
[{"$f":"IF(Nährstoffabgabe!A362=\"\",\"\",Nährstoffabgabe!A362)","v":"zusätzl. Zwischenfrucht (Leguminosen)"},{"$f":"IF(Nährstoffabgabe!B362=\"\",\"\",Nährstoffabgabe!B362)","v":250},{"$f":"IF(Nährstoffabgabe!C362=\"\",\"\",Nährstoffabgabe!C362)","v":""},{"$f":"IF(Nährstoffabgabe!D362=\"\",\"\",Nährstoffabgabe!D362)","v":""},{"$f":"Nährstoffabgabe!E362","v":0},{"$f":"IF(Nährstoffabgabe!F362=\"\",\"\",Nährstoffabgabe!F362)","v":0.35},{"$f":"IF(Nährstoffabgabe!G362=\"\",\"\",Nährstoffabgabe!G362)","v":0.11},{"$f":"IF(Nährstoffabgabe!H362=\"\",\"\",Nährstoffabgabe!H362)","v":0.45},{"$f":"IF(Nährstoffabgabe!I362=\"\",\"\",Nährstoffabgabe!I362)","v":0.05},{"$f":"IF(Nährstoffabgabe!J362=\"\",\"\",Nährstoffabgabe!J362)","v":0},{"$f":"IF(Nährstoffabgabe!K362=\"\",\"\",Nährstoffabgabe!K362)","v":0},{"$f":"IF(Nährstoffabgabe!L362=\"\",\"\",Nährstoffabgabe!L362)","v":0},{"$f":"IF(Nährstoffabgabe!M362=\"\",\"\",Nährstoffabgabe!M362)","v":0}]
[{"$f":"IF(Nährstoffabgabe!A363=\"\",\"\",Nährstoffabgabe!A363)","v":"zusätzl. Zwischenfrucht (ohne Leguminosen)"},{"$f":"IF(Nährstoffabgabe!B363=\"\",\"\",Nährstoffabgabe!B363)","v":250},{"$f":"IF(Nährstoffabgabe!C363=\"\",\"\",Nährstoffabgabe!C363)","v":""},{"$f":"IF(Nährstoffabgabe!D363=\"\",\"\",Nährstoffabgabe!D363)","v":""},{"$f":"Nährstoffabgabe!E363","v":0},{"$f":"IF(Nährstoffabgabe!F363=\"\",\"\",Nährstoffabgabe!F363)","v":0.35},{"$f":"IF(Nährstoffabgabe!G363=\"\",\"\",Nährstoffabgabe!G363)","v":0.11},{"$f":"IF(Nährstoffabgabe!H363=\"\",\"\",Nährstoffabgabe!H363)","v":0.45},{"$f":"IF(Nährstoffabgabe!I363=\"\",\"\",Nährstoffabgabe!I363)","v":0.05},{"$f":"IF(Nährstoffabgabe!J363=\"\",\"\",Nährstoffabgabe!J363)","v":0},{"$f":"IF(Nährstoffabgabe!K363=\"\",\"\",Nährstoffabgabe!K363)","v":0},{"$f":"IF(Nährstoffabgabe!L363=\"\",\"\",Nährstoffabgabe!L363)","v":0},{"$f":"IF(Nährstoffabgabe!M363=\"\",\"\",Nährstoffabgabe!M363)","v":0}]
[{"$f":"IF(Nährstoffabgabe!A364=\"\",\"\",Nährstoffabgabe!A364)","v":"zusätzl. Zwischenfrucht (Gemenge Leg./Nichtleg.)"},{"$f":"IF(Nährstoffabgabe!B364=\"\",\"\",Nährstoffabgabe!B364)","v":250},{"$f":"IF(Nährstoffabgabe!C364=\"\",\"\",Nährstoffabgabe!C364)","v":""},{"$f":"IF(Nährstoffabgabe!D364=\"\",\"\",Nährstoffabgabe!D364)","v":""},{"$f":"Nährstoffabgabe!E364","v":0},{"$f":"IF(Nährstoffabgabe!F364=\"\",\"\",Nährstoffabgabe!F364)","v":0.35},{"$f":"IF(Nährstoffabgabe!G364=\"\",\"\",Nährstoffabgabe!G364)","v":0.11},{"$f":"IF(Nährstoffabgabe!H364=\"\",\"\",Nährstoffabgabe!H364)","v":0.45},{"$f":"IF(Nährstoffabgabe!I364=\"\",\"\",Nährstoffabgabe!I364)","v":0.05},{"$f":"IF(Nährstoffabgabe!J364=\"\",\"\",Nährstoffabgabe!J364)","v":0},{"$f":"IF(Nährstoffabgabe!K364=\"\",\"\",Nährstoffabgabe!K364)","v":0},{"$f":"IF(Nährstoffabgabe!L364=\"\",\"\",Nährstoffabgabe!L364)","v":0},{"$f":"IF(Nährstoffabgabe!M364=\"\",\"\",Nährstoffabgabe!M364)","v":0}]
[{"$f":"IF(Nährstoffabgabe!A365=\"\",\"\",Nährstoffabgabe!A365)","v":"Summe"},{"$f":"IF(Nährstoffabgabe!B365=\"\",\"\",Nährstoffabgabe!B365)","v":""},{"$f":"IF(Nährstoffabgabe!C365=\"\",\"\",Nährstoffabgabe!C365)","v":""},{"$f":"IF(Nährstoffabgabe!D365=\"\",\"\",Nährstoffabgabe!D365)","v":0},{"$f":"IF(Nährstoffabgabe!E365=\"\",\"\",Nährstoffabgabe!E365)","v":0},{"$f":"IF(Nährstoffabgabe!F365=\"\",\"\",Nährstoffabgabe!F365)","v":""},{"$f":"IF([1]Nährstoffabgabe!G357=\"\",\"\",[1]Nährstoffabgabe!G357)","v":0},{"$f":"IF([1]Nährstoffabgabe!H357=\"\",\"\",[1]Nährstoffabgabe!H357)","v":0},{"$f":"IF([1]Nährstoffabgabe!I357=\"\",\"\",[1]Nährstoffabgabe!I357)","v":0},{"$f":"IF(Nährstoffabgabe!J365=\"\",\"\",Nährstoffabgabe!J365)","v":0},{"$f":"IF(Nährstoffabgabe!K365=\"\",\"\",Nährstoffabgabe!K365)","v":0},{"$f":"IF(Nährstoffabgabe!L365=\"\",\"\",Nährstoffabgabe!L365)","v":0},{"$f":"IF(Nährstoffabgabe!M365=\"\",\"\",Nährstoffabgabe!M365)","v":0}]
[{"$f":"IF(Nährstoffabgabe!A366=\"\",\"\",Nährstoffabgabe!A366)","v":""},{"$f":"IF(Nährstoffabgabe!B366=\"\",\"\",Nährstoffabgabe!B366)","v":""},{"$f":"IF(Nährstoffabgabe!C366=\"\",\"\",Nährstoffabgabe!C366)","v":""},{"$f":"IF(Nährstoffabgabe!D366=\"\",\"\",Nährstoffabgabe!D366)","v":""},{"$f":"IF(Nährstoffabgabe!E366=\"\",\"\",Nährstoffabgabe!E366)","v":""},{"$f":"IF(Nährstoffabgabe!F366=\"\",\"\",Nährstoffabgabe!F366)","v":""},{"$f":"IF(Nährstoffabgabe!G366=\"\",\"\",Nährstoffabgabe!G366)","v":""},{"$f":"IF(Nährstoffabgabe!H366=\"\",\"\",Nährstoffabgabe!H366)","v":""},{"$f":"IF(Nährstoffabgabe!I366=\"\",\"\",Nährstoffabgabe!I366)","v":""},{"$f":"IF(Nährstoffabgabe!J366=\"\",\"\",Nährstoffabgabe!J366)","v":""},{"$f":"IF(Nährstoffabgabe!K366=\"\",\"\",Nährstoffabgabe!K366)","v":""},{"$f":"IF(Nährstoffabgabe!L366=\"\",\"\",Nährstoffabgabe!L366)","v":""},{"$f":"IF(Nährstoffabgabe!M366=\"\",\"\",Nährstoffabgabe!M366)","v":""}]
[{"$f":"IF(Nährstoffabgabe!A367=\"\",\"\",Nährstoffabgabe!A367)","v":"Frische Kräuter, Arznei- und Gewürzpflanzen"},{"$f":"IF(Nährstoffabgabe!B367=\"\",\"\",Nährstoffabgabe!B367)","v":"Marktertrag \ndt/ha FM"},{"$f":"IF(Nährstoffabgabe!C367=\"\",\"\",Nährstoffabgabe!C367)","v":""},null,{"$f":"IF(Nährstoffabgabe!E367=\"\",\"\",Nährstoffabgabe!E367)","v":"Abgabemenge"},{"$f":"IF(Nährstoffabgabe!F367=\"\",\"\",Nährstoffabgabe!F367)","v":"Nährstoffgehalt kg/dt FM"},null,null,null,{"$f":"IF(Nährstoffabgabe!J367=\"\",\"\",Nährstoffabgabe!J367)","v":"Nährstoffabgabe kg/Betrieb"}]
[null,{"$f":"IF(Nährstoffabgabe!B368=\"\",\"\",Nährstoffabgabe!B368)","v":"Vorschlag"},{"$f":"IF(Nährstoffabgabe!C368=\"\",\"\",Nährstoffabgabe!C368)","v":"Betrieb"},{"$f":"IF(Nährstoffabgabe!D368=\"\",\"\",Nährstoffabgabe!D368)","v":"ha"},{"$f":"IF(Nährstoffabgabe!E368=\"\",\"\",Nährstoffabgabe!E368)","v":"dt FM"},{"$f":"IF(Nährstoffabgabe!F368=\"\",\"\",Nährstoffabgabe!F368)","v":"N"},{"$f":"IF(Nährstoffabgabe!G368=\"\",\"\",Nährstoffabgabe!G368)","v":"P2O5"},{"$f":"IF(Nährstoffabgabe!H368=\"\",\"\",Nährstoffabgabe!H368)","v":"K2O"},{"$f":"IF(Nährstoffabgabe!I368=\"\",\"\",Nährstoffabgabe!I368)","v":"MgO"},{"$f":"IF(Nährstoffabgabe!J368=\"\",\"\",Nährstoffabgabe!J368)","v":"N"},{"$f":"IF(Nährstoffabgabe!K368=\"\",\"\",Nährstoffabgabe!K368)","v":"P2O5"},{"$f":"IF(Nährstoffabgabe!L368=\"\",\"\",Nährstoffabgabe!L368)","v":"K2O"},{"$f":"IF(Nährstoffabgabe!M368=\"\",\"\",Nährstoffabgabe!M368)","v":"MgO"}]
[{"$f":"IF(Nährstoffabgabe!A369=\"\",\"\",Nährstoffabgabe!A369)","v":"Ackerschachtelhalm, Kraut"},{"$f":"IF(Nährstoffabgabe!B369=\"\",\"\",Nährstoffabgabe!B369)","v":50},{"$f":"IF(Nährstoffabgabe!C369=\"\",\"\",Nährstoffabgabe!C369)","v":""},{"$f":"IF(Nährstoffabgabe!D369=\"\",\"\",Nährstoffabgabe!D369)","v":""},{"$f":"Nährstoffabgabe!E369","v":0},{"$f":"IF(Nährstoffabgabe!F369=\"\",\"\",Nährstoffabgabe!F369)","v":0.5},{"$f":"IF(Nährstoffabgabe!G369=\"\",\"\",Nährstoffabgabe!G369)","v":0.23},{"$f":"IF(Nährstoffabgabe!H369=\"\",\"\",Nährstoffabgabe!H369)","v":0.74},{"$f":"IF(Nährstoffabgabe!I369=\"\",\"\",Nährstoffabgabe!I369)","v":0.14000000000000001},{"$f":"IF(Nährstoffabgabe!J369=\"\",\"\",Nährstoffabgabe!J369)","v":0},{"$f":"IF(Nährstoffabgabe!K369=\"\",\"\",Nährstoffabgabe!K369)","v":0},{"$f":"IF(Nährstoffabgabe!L369=\"\",\"\",Nährstoffabgabe!L369)","v":0},{"$f":"IF(Nährstoffabgabe!M369=\"\",\"\",Nährstoffabgabe!M369)","v":0}]
[{"$f":"IF(Nährstoffabgabe!A370=\"\",\"\",Nährstoffabgabe!A370)","v":"Ackerstiefmütterchen, blühendes Kraut"},{"$f":"IF(Nährstoffabgabe!B370=\"\",\"\",Nährstoffabgabe!B370)","v":50},{"$f":"IF(Nährstoffabgabe!C370=\"\",\"\",Nährstoffabgabe!C370)","v":""},{"$f":"IF(Nährstoffabgabe!D370=\"\",\"\",Nährstoffabgabe!D370)","v":""},{"$f":"Nährstoffabgabe!E370","v":0},{"$f":"IF(Nährstoffabgabe!F370=\"\",\"\",Nährstoffabgabe!F370)","v":0.53},{"$f":"IF(Nährstoffabgabe!G370=\"\",\"\",Nährstoffabgabe!G370)","v":0.2},{"$f":"IF(Nährstoffabgabe!H370=\"\",\"\",Nährstoffabgabe!H370)","v":0.96},{"$f":"IF(Nährstoffabgabe!I370=\"\",\"\",Nährstoffabgabe!I370)","v":0.13},{"$f":"IF(Nährstoffabgabe!J370=\"\",\"\",Nährstoffabgabe!J370)","v":0},{"$f":"IF(Nährstoffabgabe!K370=\"\",\"\",Nährstoffabgabe!K370)","v":0},{"$f":"IF(Nährstoffabgabe!L370=\"\",\"\",Nährstoffabgabe!L370)","v":0},{"$f":"IF(Nährstoffabgabe!M370=\"\",\"\",Nährstoffabgabe!M370)","v":0}]
[{"$f":"IF(Nährstoffabgabe!A371=\"\",\"\",Nährstoffabgabe!A371)","v":"Akelei, blühendes Kraut"},{"$f":"IF(Nährstoffabgabe!B371=\"\",\"\",Nährstoffabgabe!B371)","v":80},{"$f":"IF(Nährstoffabgabe!C371=\"\",\"\",Nährstoffabgabe!C371)","v":""},{"$f":"IF(Nährstoffabgabe!D371=\"\",\"\",Nährstoffabgabe!D371)","v":""},{"$f":"Nährstoffabgabe!E371","v":0},{"$f":"IF(Nährstoffabgabe!F371=\"\",\"\",Nährstoffabgabe!F371)","v":0.56000000000000005},{"$f":"IF(Nährstoffabgabe!G371=\"\",\"\",Nährstoffabgabe!G371)","v":0.18},{"$f":"IF(Nährstoffabgabe!H371=\"\",\"\",Nährstoffabgabe!H371)","v":0.76},{"$f":"IF(Nährstoffabgabe!I371=\"\",\"\",Nährstoffabgabe!I371)","v":0.08},{"$f":"IF(Nährstoffabgabe!J371=\"\",\"\",Nährstoffabgabe!J371)","v":0},{"$f":"IF(Nährstoffabgabe!K371=\"\",\"\",Nährstoffabgabe!K371)","v":0},{"$f":"IF(Nährstoffabgabe!L371=\"\",\"\",Nährstoffabgabe!L371)","v":0},{"$f":"IF(Nährstoffabgabe!M371=\"\",\"\",Nährstoffabgabe!M371)","v":0}]
[{"$f":"IF(Nährstoffabgabe!A372=\"\",\"\",Nährstoffabgabe!A372)","v":"Alant, Wurzel + Kraut"},{"$f":"IF(Nährstoffabgabe!B372=\"\",\"\",Nährstoffabgabe!B372)","v":300},{"$f":"IF(Nährstoffabgabe!C372=\"\",\"\",Nährstoffabgabe!C372)","v":""},{"$f":"IF(Nährstoffabgabe!D372=\"\",\"\",Nährstoffabgabe!D372)","v":""},{"$f":"Nährstoffabgabe!E372","v":0},{"$f":"IF(Nährstoffabgabe!F372=\"\",\"\",Nährstoffabgabe!F372)","v":0.62040000000000006},{"$f":"IF(Nährstoffabgabe!G372=\"\",\"\",Nährstoffabgabe!G372)","v":0.24009999999999998},{"$f":"IF(Nährstoffabgabe!H372=\"\",\"\",Nährstoffabgabe!H372)","v":1.1857},{"$f":"IF(Nährstoffabgabe!I372=\"\",\"\",Nährstoffabgabe!I372)","v":7.0000000000000007E-2},{"$f":"IF(Nährstoffabgabe!J372=\"\",\"\",Nährstoffabgabe!J372)","v":0},{"$f":"IF(Nährstoffabgabe!K372=\"\",\"\",Nährstoffabgabe!K372)","v":0},{"$f":"IF(Nährstoffabgabe!L372=\"\",\"\",Nährstoffabgabe!L372)","v":0},{"$f":"IF(Nährstoffabgabe!M372=\"\",\"\",Nährstoffabgabe!M372)","v":0}]
[{"$f":"IF(Nährstoffabgabe!A373=\"\",\"\",Nährstoffabgabe!A373)","v":"Alant, Wurzel"},{"$f":"IF(Nährstoffabgabe!B373=\"\",\"\",Nährstoffabgabe!B373)","v":300},{"$f":"IF(Nährstoffabgabe!C373=\"\",\"\",Nährstoffabgabe!C373)","v":""},{"$f":"IF(Nährstoffabgabe!D373=\"\",\"\",Nährstoffabgabe!D373)","v":""},{"$f":"Nährstoffabgabe!E373","v":0},{"$f":"IF(Nährstoffabgabe!F373=\"\",\"\",Nährstoffabgabe!F373)","v":0.5},{"$f":"IF(Nährstoffabgabe!G373=\"\",\"\",Nährstoffabgabe!G373)","v":0.21},{"$f":"IF(Nährstoffabgabe!H373=\"\",\"\",Nährstoffabgabe!H373)","v":0.76},{"$f":"IF(Nährstoffabgabe!I373=\"\",\"\",Nährstoffabgabe!I373)","v":7.0000000000000007E-2},{"$f":"IF(Nährstoffabgabe!J373=\"\",\"\",Nährstoffabgabe!J373)","v":0},{"$f":"IF(Nährstoffabgabe!K373=\"\",\"\",Nährstoffabgabe!K373)","v":0},{"$f":"IF(Nährstoffabgabe!L373=\"\",\"\",Nährstoffabgabe!L373)","v":0},{"$f":"IF(Nährstoffabgabe!M373=\"\",\"\",Nährstoffabgabe!M373)","v":0}]
[{"$f":"IF(Nährstoffabgabe!A374=\"\",\"\",Nährstoffabgabe!A374)","v":"Ampfer, kraus, Kraut nach Blüte"},{"$f":"IF(Nährstoffabgabe!B374=\"\",\"\",Nährstoffabgabe!B374)","v":700},{"$f":"IF(Nährstoffabgabe!C374=\"\",\"\",Nährstoffabgabe!C374)","v":""},{"$f":"IF(Nährstoffabgabe!D374=\"\",\"\",Nährstoffabgabe!D374)","v":""},{"$f":"Nährstoffabgabe!E374","v":0},{"$f":"IF(Nährstoffabgabe!F374=\"\",\"\",Nährstoffabgabe!F374)","v":0.2},{"$f":"IF(Nährstoffabgabe!G374=\"\",\"\",Nährstoffabgabe!G374)","v":7.0000000000000007E-2},{"$f":"IF(Nährstoffabgabe!H374=\"\",\"\",Nährstoffabgabe!H374)","v":0.26},{"$f":"IF(Nährstoffabgabe!I374=\"\",\"\",Nährstoffabgabe!I374)","v":0.06},{"$f":"IF(Nährstoffabgabe!J374=\"\",\"\",Nährstoffabgabe!J374)","v":0},{"$f":"IF(Nährstoffabgabe!K374=\"\",\"\",Nährstoffabgabe!K374)","v":0},{"$f":"IF(Nährstoffabgabe!L374=\"\",\"\",Nährstoffabgabe!L374)","v":0},{"$f":"IF(Nährstoffabgabe!M374=\"\",\"\",Nährstoffabgabe!M374)","v":0}]
[{"$f":"IF(Nährstoffabgabe!A375=\"\",\"\",Nährstoffabgabe!A375)","v":"Ampfer, Wiesen, Blatt"},{"$f":"IF(Nährstoffabgabe!B375=\"\",\"\",Nährstoffabgabe!B375)","v":720},{"$f":"IF(Nährstoffabgabe!C375=\"\",\"\",Nährstoffabgabe!C375)","v":""},{"$f":"IF(Nährstoffabgabe!D375=\"\",\"\",Nährstoffabgabe!D375)","v":""},{"$f":"Nährstoffabgabe!E375","v":0},{"$f":"IF(Nährstoffabgabe!F375=\"\",\"\",Nährstoffabgabe!F375)","v":0.33},{"$f":"IF(Nährstoffabgabe!G375=\"\",\"\",Nährstoffabgabe!G375)","v":0.11},{"$f":"IF(Nährstoffabgabe!H375=\"\",\"\",Nährstoffabgabe!H375)","v":0.53},{"$f":"IF(Nährstoffabgabe!I375=\"\",\"\",Nährstoffabgabe!I375)","v":0.02},{"$f":"IF(Nährstoffabgabe!J375=\"\",\"\",Nährstoffabgabe!J375)","v":0},{"$f":"IF(Nährstoffabgabe!K375=\"\",\"\",Nährstoffabgabe!K375)","v":0},{"$f":"IF(Nährstoffabgabe!L375=\"\",\"\",Nährstoffabgabe!L375)","v":0},{"$f":"IF(Nährstoffabgabe!M375=\"\",\"\",Nährstoffabgabe!M375)","v":0}]
[{"$f":"IF(Nährstoffabgabe!A376=\"\",\"\",Nährstoffabgabe!A376)","v":"Andorn, Kraut Knospenstadium"},{"$f":"IF(Nährstoffabgabe!B376=\"\",\"\",Nährstoffabgabe!B376)","v":300},{"$f":"IF(Nährstoffabgabe!C376=\"\",\"\",Nährstoffabgabe!C376)","v":""},{"$f":"IF(Nährstoffabgabe!D376=\"\",\"\",Nährstoffabgabe!D376)","v":""},{"$f":"Nährstoffabgabe!E376","v":0},{"$f":"IF(Nährstoffabgabe!F376=\"\",\"\",Nährstoffabgabe!F376)","v":0.49},{"$f":"IF(Nährstoffabgabe!G376=\"\",\"\",Nährstoffabgabe!G376)","v":0.19},{"$f":"IF(Nährstoffabgabe!H376=\"\",\"\",Nährstoffabgabe!H376)","v":0.79},{"$f":"IF(Nährstoffabgabe!I376=\"\",\"\",Nährstoffabgabe!I376)","v":0.16},{"$f":"IF(Nährstoffabgabe!J376=\"\",\"\",Nährstoffabgabe!J376)","v":0},{"$f":"IF(Nährstoffabgabe!K376=\"\",\"\",Nährstoffabgabe!K376)","v":0},{"$f":"IF(Nährstoffabgabe!L376=\"\",\"\",Nährstoffabgabe!L376)","v":0},{"$f":"IF(Nährstoffabgabe!M376=\"\",\"\",Nährstoffabgabe!M376)","v":0}]
[{"$f":"IF(Nährstoffabgabe!A377=\"\",\"\",Nährstoffabgabe!A377)","v":"Anis, Frucht + Stroh"},{"$f":"IF(Nährstoffabgabe!B377=\"\",\"\",Nährstoffabgabe!B377)","v":13},{"$f":"IF(Nährstoffabgabe!C377=\"\",\"\",Nährstoffabgabe!C377)","v":""},{"$f":"IF(Nährstoffabgabe!D377=\"\",\"\",Nährstoffabgabe!D377)","v":""},{"$f":"Nährstoffabgabe!E377","v":0},{"$f":"IF(Nährstoffabgabe!F377=\"\",\"\",Nährstoffabgabe!F377)","v":5.5807692307692305},{"$f":"IF(Nährstoffabgabe!G377=\"\",\"\",Nährstoffabgabe!G377)","v":3.2015384615384614},{"$f":"IF(Nährstoffabgabe!H377=\"\",\"\",Nährstoffabgabe!H377)","v":11.807692307692308},{"$f":"IF(Nährstoffabgabe!I377=\"\",\"\",Nährstoffabgabe!I377)","v":1.1615384615384616},{"$f":"IF(Nährstoffabgabe!J377=\"\",\"\",Nährstoffabgabe!J377)","v":0},{"$f":"IF(Nährstoffabgabe!K377=\"\",\"\",Nährstoffabgabe!K377)","v":0},{"$f":"IF(Nährstoffabgabe!L377=\"\",\"\",Nährstoffabgabe!L377)","v":0},{"$f":"IF(Nährstoffabgabe!M377=\"\",\"\",Nährstoffabgabe!M377)","v":0}]
[{"$f":"IF(Nährstoffabgabe!A378=\"\",\"\",Nährstoffabgabe!A378)","v":"Anis, Frucht"},{"$f":"IF(Nährstoffabgabe!B378=\"\",\"\",Nährstoffabgabe!B378)","v":13},{"$f":"IF(Nährstoffabgabe!C378=\"\",\"\",Nährstoffabgabe!C378)","v":""},{"$f":"IF(Nährstoffabgabe!D378=\"\",\"\",Nährstoffabgabe!D378)","v":""},{"$f":"Nährstoffabgabe!E378","v":0},{"$f":"IF(Nährstoffabgabe!F378=\"\",\"\",Nährstoffabgabe!F378)","v":2.65},{"$f":"IF(Nährstoffabgabe!G378=\"\",\"\",Nährstoffabgabe!G378)","v":1.1499999999999999},{"$f":"IF(Nährstoffabgabe!H378=\"\",\"\",Nährstoffabgabe!H378)","v":1.55},{"$f":"IF(Nährstoffabgabe!I378=\"\",\"\",Nährstoffabgabe!I378)","v":0.38},{"$f":"IF(Nährstoffabgabe!J378=\"\",\"\",Nährstoffabgabe!J378)","v":0},{"$f":"IF(Nährstoffabgabe!K378=\"\",\"\",Nährstoffabgabe!K378)","v":0},{"$f":"IF(Nährstoffabgabe!L378=\"\",\"\",Nährstoffabgabe!L378)","v":0},{"$f":"IF(Nährstoffabgabe!M378=\"\",\"\",Nährstoffabgabe!M378)","v":0}]
[{"$f":"IF(Nährstoffabgabe!A379=\"\",\"\",Nährstoffabgabe!A379)","v":"Artischocke (Kardone), Kraut"},{"$f":"IF(Nährstoffabgabe!B379=\"\",\"\",Nährstoffabgabe!B379)","v":150},{"$f":"IF(Nährstoffabgabe!C379=\"\",\"\",Nährstoffabgabe!C379)","v":""},{"$f":"IF(Nährstoffabgabe!D379=\"\",\"\",Nährstoffabgabe!D379)","v":""},{"$f":"Nährstoffabgabe!E379","v":0},{"$f":"IF(Nährstoffabgabe!F379=\"\",\"\",Nährstoffabgabe!F379)","v":0.41},{"$f":"IF(Nährstoffabgabe!G379=\"\",\"\",Nährstoffabgabe!G379)","v":0.08},{"$f":"IF(Nährstoffabgabe!H379=\"\",\"\",Nährstoffabgabe!H379)","v":0.8},{"$f":"IF(Nährstoffabgabe!I379=\"\",\"\",Nährstoffabgabe!I379)","v":0.09},{"$f":"IF(Nährstoffabgabe!J379=\"\",\"\",Nährstoffabgabe!J379)","v":0},{"$f":"IF(Nährstoffabgabe!K379=\"\",\"\",Nährstoffabgabe!K379)","v":0},{"$f":"IF(Nährstoffabgabe!L379=\"\",\"\",Nährstoffabgabe!L379)","v":0},{"$f":"IF(Nährstoffabgabe!M379=\"\",\"\",Nährstoffabgabe!M379)","v":0}]
[{"$f":"IF(Nährstoffabgabe!A380=\"\",\"\",Nährstoffabgabe!A380)","v":"Arzneifenchel, Frucht + Stroh"},{"$f":"IF(Nährstoffabgabe!B380=\"\",\"\",Nährstoffabgabe!B380)","v":25},{"$f":"IF(Nährstoffabgabe!C380=\"\",\"\",Nährstoffabgabe!C380)","v":""},{"$f":"IF(Nährstoffabgabe!D380=\"\",\"\",Nährstoffabgabe!D380)","v":""},{"$f":"Nährstoffabgabe!E380","v":0},{"$f":"IF(Nährstoffabgabe!F380=\"\",\"\",Nährstoffabgabe!F380)","v":5.12},{"$f":"IF(Nährstoffabgabe!G380=\"\",\"\",Nährstoffabgabe!G380)","v":2.2200000000000002},{"$f":"IF(Nährstoffabgabe!H380=\"\",\"\",Nährstoffabgabe!H380)","v":9.48},{"$f":"IF(Nährstoffabgabe!I380=\"\",\"\",Nährstoffabgabe!I380)","v":1.03},{"$f":"IF(Nährstoffabgabe!J380=\"\",\"\",Nährstoffabgabe!J380)","v":0},{"$f":"IF(Nährstoffabgabe!K380=\"\",\"\",Nährstoffabgabe!K380)","v":0},{"$f":"IF(Nährstoffabgabe!L380=\"\",\"\",Nährstoffabgabe!L380)","v":0},{"$f":"IF(Nährstoffabgabe!M380=\"\",\"\",Nährstoffabgabe!M380)","v":0}]
[{"$f":"IF(Nährstoffabgabe!A381=\"\",\"\",Nährstoffabgabe!A381)","v":"Arzneifenchel, Frucht"},{"$f":"IF(Nährstoffabgabe!B381=\"\",\"\",Nährstoffabgabe!B381)","v":25},{"$f":"IF(Nährstoffabgabe!C381=\"\",\"\",Nährstoffabgabe!C381)","v":""},{"$f":"IF(Nährstoffabgabe!D381=\"\",\"\",Nährstoffabgabe!D381)","v":""},{"$f":"Nährstoffabgabe!E381","v":0},{"$f":"IF(Nährstoffabgabe!F381=\"\",\"\",Nährstoffabgabe!F381)","v":2.78},{"$f":"IF(Nährstoffabgabe!G381=\"\",\"\",Nährstoffabgabe!G381)","v":1.26},{"$f":"IF(Nährstoffabgabe!H381=\"\",\"\",Nährstoffabgabe!H381)","v":2.58},{"$f":"IF(Nährstoffabgabe!I381=\"\",\"\",Nährstoffabgabe!I381)","v":0.43},{"$f":"IF(Nährstoffabgabe!J381=\"\",\"\",Nährstoffabgabe!J381)","v":0},{"$f":"IF(Nährstoffabgabe!K381=\"\",\"\",Nährstoffabgabe!K381)","v":0},{"$f":"IF(Nährstoffabgabe!L381=\"\",\"\",Nährstoffabgabe!L381)","v":0},{"$f":"IF(Nährstoffabgabe!M381=\"\",\"\",Nährstoffabgabe!M381)","v":0}]
[{"$f":"IF(Nährstoffabgabe!A382=\"\",\"\",Nährstoffabgabe!A382)","v":"Arzneirhabarber, jährl. Zuwachs, Wurzel n. 4 Jahren + Kraut "},{"$f":"IF(Nährstoffabgabe!B382=\"\",\"\",Nährstoffabgabe!B382)","v":75},{"$f":"IF(Nährstoffabgabe!C382=\"\",\"\",Nährstoffabgabe!C382)","v":""},{"$f":"IF(Nährstoffabgabe!D382=\"\",\"\",Nährstoffabgabe!D382)","v":""},{"$f":"Nährstoffabgabe!E382","v":0},{"$f":"IF(Nährstoffabgabe!F382=\"\",\"\",Nährstoffabgabe!F382)","v":0.78333333333333344},{"$f":"IF(Nährstoffabgabe!G382=\"\",\"\",Nährstoffabgabe!G382)","v":0.41666666666666663},{"$f":"IF(Nährstoffabgabe!H382=\"\",\"\",Nährstoffabgabe!H382)","v":1.37},{"$f":"IF(Nährstoffabgabe!I382=\"\",\"\",Nährstoffabgabe!I382)","v":0.24},{"$f":"IF(Nährstoffabgabe!J382=\"\",\"\",Nährstoffabgabe!J382)","v":0},{"$f":"IF(Nährstoffabgabe!K382=\"\",\"\",Nährstoffabgabe!K382)","v":0},{"$f":"IF(Nährstoffabgabe!L382=\"\",\"\",Nährstoffabgabe!L382)","v":0},{"$f":"IF(Nährstoffabgabe!M382=\"\",\"\",Nährstoffabgabe!M382)","v":0}]
[{"$f":"IF(Nährstoffabgabe!A383=\"\",\"\",Nährstoffabgabe!A383)","v":"Arzneirhabarber, jährl. Zuwachs, Wurzel n. 4 Jahren"},{"$f":"IF(Nährstoffabgabe!B383=\"\",\"\",Nährstoffabgabe!B383)","v":75},{"$f":"IF(Nährstoffabgabe!C383=\"\",\"\",Nährstoffabgabe!C383)","v":""},{"$f":"IF(Nährstoffabgabe!D383=\"\",\"\",Nährstoffabgabe!D383)","v":""},{"$f":"Nährstoffabgabe!E383","v":0},{"$f":"IF(Nährstoffabgabe!F383=\"\",\"\",Nährstoffabgabe!F383)","v":0.4},{"$f":"IF(Nährstoffabgabe!G383=\"\",\"\",Nährstoffabgabe!G383)","v":0.25},{"$f":"IF(Nährstoffabgabe!H383=\"\",\"\",Nährstoffabgabe!H383)","v":0.47},{"$f":"IF(Nährstoffabgabe!I383=\"\",\"\",Nährstoffabgabe!I383)","v":0.12},{"$f":"IF(Nährstoffabgabe!J383=\"\",\"\",Nährstoffabgabe!J383)","v":0},{"$f":"IF(Nährstoffabgabe!K383=\"\",\"\",Nährstoffabgabe!K383)","v":0},{"$f":"IF(Nährstoffabgabe!L383=\"\",\"\",Nährstoffabgabe!L383)","v":0},{"$f":"IF(Nährstoffabgabe!M383=\"\",\"\",Nährstoffabgabe!M383)","v":0}]
[{"$f":"IF(Nährstoffabgabe!A384=\"\",\"\",Nährstoffabgabe!A384)","v":"Baikal-Helmkraut, Wurzel + Kraut"},{"$f":"IF(Nährstoffabgabe!B384=\"\",\"\",Nährstoffabgabe!B384)","v":20},{"$f":"IF(Nährstoffabgabe!C384=\"\",\"\",Nährstoffabgabe!C384)","v":""},{"$f":"IF(Nährstoffabgabe!D384=\"\",\"\",Nährstoffabgabe!D384)","v":""},{"$f":"Nährstoffabgabe!E384","v":0},{"$f":"IF(Nährstoffabgabe!F384=\"\",\"\",Nährstoffabgabe!F384)","v":4.0999999999999996},{"$f":"IF(Nährstoffabgabe!G384=\"\",\"\",Nährstoffabgabe!G384)","v":1.25},{"$f":"IF(Nährstoffabgabe!H384=\"\",\"\",Nährstoffabgabe!H384)","v":4.6700000000000008},{"$f":"IF(Nährstoffabgabe!I384=\"\",\"\",Nährstoffabgabe!I384)","v":0.88},{"$f":"IF(Nährstoffabgabe!J384=\"\",\"\",Nährstoffabgabe!J384)","v":0},{"$f":"IF(Nährstoffabgabe!K384=\"\",\"\",Nährstoffabgabe!K384)","v":0},{"$f":"IF(Nährstoffabgabe!L384=\"\",\"\",Nährstoffabgabe!L384)","v":0},{"$f":"IF(Nährstoffabgabe!M384=\"\",\"\",Nährstoffabgabe!M384)","v":0}]
[{"$f":"IF(Nährstoffabgabe!A385=\"\",\"\",Nährstoffabgabe!A385)","v":"Baikal-Helmkraut, Wurzel"},{"$f":"IF(Nährstoffabgabe!B385=\"\",\"\",Nährstoffabgabe!B385)","v":20},{"$f":"IF(Nährstoffabgabe!C385=\"\",\"\",Nährstoffabgabe!C385)","v":""},{"$f":"IF(Nährstoffabgabe!D385=\"\",\"\",Nährstoffabgabe!D385)","v":""},{"$f":"Nährstoffabgabe!E385","v":0},{"$f":"IF(Nährstoffabgabe!F385=\"\",\"\",Nährstoffabgabe!F385)","v":0.75},{"$f":"IF(Nährstoffabgabe!G385=\"\",\"\",Nährstoffabgabe!G385)","v":0.25},{"$f":"IF(Nährstoffabgabe!H385=\"\",\"\",Nährstoffabgabe!H385)","v":0.62},{"$f":"IF(Nährstoffabgabe!I385=\"\",\"\",Nährstoffabgabe!I385)","v":0.23},{"$f":"IF(Nährstoffabgabe!J385=\"\",\"\",Nährstoffabgabe!J385)","v":0},{"$f":"IF(Nährstoffabgabe!K385=\"\",\"\",Nährstoffabgabe!K385)","v":0},{"$f":"IF(Nährstoffabgabe!L385=\"\",\"\",Nährstoffabgabe!L385)","v":0},{"$f":"IF(Nährstoffabgabe!M385=\"\",\"\",Nährstoffabgabe!M385)","v":0}]
[{"$f":"IF(Nährstoffabgabe!A386=\"\",\"\",Nährstoffabgabe!A386)","v":"Baldrian, Wurzel + Kraut"},{"$f":"IF(Nährstoffabgabe!B386=\"\",\"\",Nährstoffabgabe!B386)","v":150},{"$f":"IF(Nährstoffabgabe!C386=\"\",\"\",Nährstoffabgabe!C386)","v":""},{"$f":"IF(Nährstoffabgabe!D386=\"\",\"\",Nährstoffabgabe!D386)","v":""},{"$f":"Nährstoffabgabe!E386","v":0},{"$f":"IF(Nährstoffabgabe!F386=\"\",\"\",Nährstoffabgabe!F386)","v":0.66333333333333333},{"$f":"IF(Nährstoffabgabe!G386=\"\",\"\",Nährstoffabgabe!G386)","v":0.32333333333333336},{"$f":"IF(Nährstoffabgabe!H386=\"\",\"\",Nährstoffabgabe!H386)","v":1.0766666666666667},{"$f":"IF(Nährstoffabgabe!I386=\"\",\"\",Nährstoffabgabe!I386)","v":0.14000000000000001},{"$f":"IF(Nährstoffabgabe!J386=\"\",\"\",Nährstoffabgabe!J386)","v":0},{"$f":"IF(Nährstoffabgabe!K386=\"\",\"\",Nährstoffabgabe!K386)","v":0},{"$f":"IF(Nährstoffabgabe!L386=\"\",\"\",Nährstoffabgabe!L386)","v":0},{"$f":"IF(Nährstoffabgabe!M386=\"\",\"\",Nährstoffabgabe!M386)","v":0}]
[{"$f":"IF(Nährstoffabgabe!A387=\"\",\"\",Nährstoffabgabe!A387)","v":"Baldrian, Wurzel"},{"$f":"IF(Nährstoffabgabe!B387=\"\",\"\",Nährstoffabgabe!B387)","v":150},{"$f":"IF(Nährstoffabgabe!C387=\"\",\"\",Nährstoffabgabe!C387)","v":""},{"$f":"IF(Nährstoffabgabe!D387=\"\",\"\",Nährstoffabgabe!D387)","v":""},{"$f":"Nährstoffabgabe!E387","v":0},{"$f":"IF(Nährstoffabgabe!F387=\"\",\"\",Nährstoffabgabe!F387)","v":0.28999999999999998},{"$f":"IF(Nährstoffabgabe!G387=\"\",\"\",Nährstoffabgabe!G387)","v":0.19},{"$f":"IF(Nährstoffabgabe!H387=\"\",\"\",Nährstoffabgabe!H387)","v":0.41},{"$f":"IF(Nährstoffabgabe!I387=\"\",\"\",Nährstoffabgabe!I387)","v":0.06},{"$f":"IF(Nährstoffabgabe!J387=\"\",\"\",Nährstoffabgabe!J387)","v":0},{"$f":"IF(Nährstoffabgabe!K387=\"\",\"\",Nährstoffabgabe!K387)","v":0},{"$f":"IF(Nährstoffabgabe!L387=\"\",\"\",Nährstoffabgabe!L387)","v":0},{"$f":"IF(Nährstoffabgabe!M387=\"\",\"\",Nährstoffabgabe!M387)","v":0}]
[{"$f":"IF(Nährstoffabgabe!A388=\"\",\"\",Nährstoffabgabe!A388)","v":"Ballonrebe, Kraut"},{"$f":"IF(Nährstoffabgabe!B388=\"\",\"\",Nährstoffabgabe!B388)","v":185},{"$f":"IF(Nährstoffabgabe!C388=\"\",\"\",Nährstoffabgabe!C388)","v":""},{"$f":"IF(Nährstoffabgabe!D388=\"\",\"\",Nährstoffabgabe!D388)","v":""},{"$f":"Nährstoffabgabe!E388","v":0},{"$f":"IF(Nährstoffabgabe!F388=\"\",\"\",Nährstoffabgabe!F388)","v":0.71},{"$f":"IF(Nährstoffabgabe!G388=\"\",\"\",Nährstoffabgabe!G388)","v":0.26},{"$f":"IF(Nährstoffabgabe!H388=\"\",\"\",Nährstoffabgabe!H388)","v":0.79},{"$f":"IF(Nährstoffabgabe!I388=\"\",\"\",Nährstoffabgabe!I388)","v":0.14000000000000001},{"$f":"IF(Nährstoffabgabe!J388=\"\",\"\",Nährstoffabgabe!J388)","v":0},{"$f":"IF(Nährstoffabgabe!K388=\"\",\"\",Nährstoffabgabe!K388)","v":0},{"$f":"IF(Nährstoffabgabe!L388=\"\",\"\",Nährstoffabgabe!L388)","v":0},{"$f":"IF(Nährstoffabgabe!M388=\"\",\"\",Nährstoffabgabe!M388)","v":0}]
[{"$f":"IF(Nährstoffabgabe!A389=\"\",\"\",Nährstoffabgabe!A389)","v":"Bärlauch, Blatt"},{"$f":"IF(Nährstoffabgabe!B389=\"\",\"\",Nährstoffabgabe!B389)","v":20},{"$f":"IF(Nährstoffabgabe!C389=\"\",\"\",Nährstoffabgabe!C389)","v":""},{"$f":"IF(Nährstoffabgabe!D389=\"\",\"\",Nährstoffabgabe!D389)","v":""},{"$f":"Nährstoffabgabe!E389","v":0},{"$f":"IF(Nährstoffabgabe!F389=\"\",\"\",Nährstoffabgabe!F389)","v":0.5},{"$f":"IF(Nährstoffabgabe!G389=\"\",\"\",Nährstoffabgabe!G389)","v":0.75},{"$f":"IF(Nährstoffabgabe!H389=\"\",\"\",Nährstoffabgabe!H389)","v":0.4},{"$f":"IF(Nährstoffabgabe!I389=\"\",\"\",Nährstoffabgabe!I389)","v":0.2},{"$f":"IF(Nährstoffabgabe!J389=\"\",\"\",Nährstoffabgabe!J389)","v":0},{"$f":"IF(Nährstoffabgabe!K389=\"\",\"\",Nährstoffabgabe!K389)","v":0},{"$f":"IF(Nährstoffabgabe!L389=\"\",\"\",Nährstoffabgabe!L389)","v":0},{"$f":"IF(Nährstoffabgabe!M389=\"\",\"\",Nährstoffabgabe!M389)","v":0}]
[{"$f":"IF(Nährstoffabgabe!A390=\"\",\"\",Nährstoffabgabe!A390)","v":"Bärwurz, jährl. Zuwachs, Wurzel n. 4 Jahren + Kraut"},{"$f":"IF(Nährstoffabgabe!B390=\"\",\"\",Nährstoffabgabe!B390)","v":25},{"$f":"IF(Nährstoffabgabe!C390=\"\",\"\",Nährstoffabgabe!C390)","v":""},{"$f":"IF(Nährstoffabgabe!D390=\"\",\"\",Nährstoffabgabe!D390)","v":""},{"$f":"Nährstoffabgabe!E390","v":0},{"$f":"IF(Nährstoffabgabe!F390=\"\",\"\",Nährstoffabgabe!F390)","v":0.63400000000000001},{"$f":"IF(Nährstoffabgabe!G390=\"\",\"\",Nährstoffabgabe!G390)","v":0.43},{"$f":"IF(Nährstoffabgabe!H390=\"\",\"\",Nährstoffabgabe!H390)","v":0.80400000000000005},{"$f":"IF(Nährstoffabgabe!I390=\"\",\"\",Nährstoffabgabe!I390)","v":0.156},{"$f":"IF(Nährstoffabgabe!J390=\"\",\"\",Nährstoffabgabe!J390)","v":0},{"$f":"IF(Nährstoffabgabe!K390=\"\",\"\",Nährstoffabgabe!K390)","v":0},{"$f":"IF(Nährstoffabgabe!L390=\"\",\"\",Nährstoffabgabe!L390)","v":0},{"$f":"IF(Nährstoffabgabe!M390=\"\",\"\",Nährstoffabgabe!M390)","v":0}]
[{"$f":"IF(Nährstoffabgabe!A391=\"\",\"\",Nährstoffabgabe!A391)","v":"Bärwurz, jährl. Zuwachs, Wurzel n. 4 Jahren"},{"$f":"IF(Nährstoffabgabe!B391=\"\",\"\",Nährstoffabgabe!B391)","v":25},{"$f":"IF(Nährstoffabgabe!C391=\"\",\"\",Nährstoffabgabe!C391)","v":""},{"$f":"IF(Nährstoffabgabe!D391=\"\",\"\",Nährstoffabgabe!D391)","v":""},{"$f":"Nährstoffabgabe!E391","v":0},{"$f":"IF(Nährstoffabgabe!F391=\"\",\"\",Nährstoffabgabe!F391)","v":0.49},{"$f":"IF(Nährstoffabgabe!G391=\"\",\"\",Nährstoffabgabe!G391)","v":0.35},{"$f":"IF(Nährstoffabgabe!H391=\"\",\"\",Nährstoffabgabe!H391)","v":0.59},{"$f":"IF(Nährstoffabgabe!I391=\"\",\"\",Nährstoffabgabe!I391)","v":0.12},{"$f":"IF(Nährstoffabgabe!J391=\"\",\"\",Nährstoffabgabe!J391)","v":0},{"$f":"IF(Nährstoffabgabe!K391=\"\",\"\",Nährstoffabgabe!K391)","v":0},{"$f":"IF(Nährstoffabgabe!L391=\"\",\"\",Nährstoffabgabe!L391)","v":0},{"$f":"IF(Nährstoffabgabe!M391=\"\",\"\",Nährstoffabgabe!M391)","v":0}]
[{"$f":"IF(Nährstoffabgabe!A392=\"\",\"\",Nährstoffabgabe!A392)","v":"Basilikum, Kraut Blühbeginn"},{"$f":"IF(Nährstoffabgabe!B392=\"\",\"\",Nährstoffabgabe!B392)","v":150},{"$f":"IF(Nährstoffabgabe!C392=\"\",\"\",Nährstoffabgabe!C392)","v":""},{"$f":"IF(Nährstoffabgabe!D392=\"\",\"\",Nährstoffabgabe!D392)","v":""},{"$f":"Nährstoffabgabe!E392","v":0},{"$f":"IF(Nährstoffabgabe!F392=\"\",\"\",Nährstoffabgabe!F392)","v":0.43},{"$f":"IF(Nährstoffabgabe!G392=\"\",\"\",Nährstoffabgabe!G392)","v":0.08},{"$f":"IF(Nährstoffabgabe!H392=\"\",\"\",Nährstoffabgabe!H392)","v":0.67},{"$f":"IF(Nährstoffabgabe!I392=\"\",\"\",Nährstoffabgabe!I392)","v":7.0000000000000007E-2},{"$f":"IF(Nährstoffabgabe!J392=\"\",\"\",Nährstoffabgabe!J392)","v":0},{"$f":"IF(Nährstoffabgabe!K392=\"\",\"\",Nährstoffabgabe!K392)","v":0},{"$f":"IF(Nährstoffabgabe!L392=\"\",\"\",Nährstoffabgabe!L392)","v":0},{"$f":"IF(Nährstoffabgabe!M392=\"\",\"\",Nährstoffabgabe!M392)","v":0}]
[{"$f":"IF(Nährstoffabgabe!A393=\"\",\"\",Nährstoffabgabe!A393)","v":"Beinwell, Wurzel + Kraut"},{"$f":"IF(Nährstoffabgabe!B393=\"\",\"\",Nährstoffabgabe!B393)","v":110},{"$f":"IF(Nährstoffabgabe!C393=\"\",\"\",Nährstoffabgabe!C393)","v":""},{"$f":"IF(Nährstoffabgabe!D393=\"\",\"\",Nährstoffabgabe!D393)","v":""},{"$f":"Nährstoffabgabe!E393","v":0},{"$f":"IF(Nährstoffabgabe!F393=\"\",\"\",Nährstoffabgabe!F393)","v":0.73},{"$f":"IF(Nährstoffabgabe!G393=\"\",\"\",Nährstoffabgabe!G393)","v":0.39727272727272728},{"$f":"IF(Nährstoffabgabe!H393=\"\",\"\",Nährstoffabgabe!H393)","v":1.6236363636363633},{"$f":"IF(Nährstoffabgabe!I393=\"\",\"\",Nährstoffabgabe!I393)","v":0.12090909090909091},{"$f":"IF(Nährstoffabgabe!J393=\"\",\"\",Nährstoffabgabe!J393)","v":0},{"$f":"IF(Nährstoffabgabe!K393=\"\",\"\",Nährstoffabgabe!K393)","v":0},{"$f":"IF(Nährstoffabgabe!L393=\"\",\"\",Nährstoffabgabe!L393)","v":0},{"$f":"IF(Nährstoffabgabe!M393=\"\",\"\",Nährstoffabgabe!M393)","v":0}]
[{"$f":"IF(Nährstoffabgabe!A394=\"\",\"\",Nährstoffabgabe!A394)","v":"Beinwell, Wurzel"},{"$f":"IF(Nährstoffabgabe!B394=\"\",\"\",Nährstoffabgabe!B394)","v":110},{"$f":"IF(Nährstoffabgabe!C394=\"\",\"\",Nährstoffabgabe!C394)","v":""},{"$f":"IF(Nährstoffabgabe!D394=\"\",\"\",Nährstoffabgabe!D394)","v":""},{"$f":"Nährstoffabgabe!E394","v":0},{"$f":"IF(Nährstoffabgabe!F394=\"\",\"\",Nährstoffabgabe!F394)","v":0.49},{"$f":"IF(Nährstoffabgabe!G394=\"\",\"\",Nährstoffabgabe!G394)","v":0.23},{"$f":"IF(Nährstoffabgabe!H394=\"\",\"\",Nährstoffabgabe!H394)","v":0.94},{"$f":"IF(Nährstoffabgabe!I394=\"\",\"\",Nährstoffabgabe!I394)","v":7.0000000000000007E-2},{"$f":"IF(Nährstoffabgabe!J394=\"\",\"\",Nährstoffabgabe!J394)","v":0},{"$f":"IF(Nährstoffabgabe!K394=\"\",\"\",Nährstoffabgabe!K394)","v":0},{"$f":"IF(Nährstoffabgabe!L394=\"\",\"\",Nährstoffabgabe!L394)","v":0},{"$f":"IF(Nährstoffabgabe!M394=\"\",\"\",Nährstoffabgabe!M394)","v":0}]
[{"$f":"IF(Nährstoffabgabe!A395=\"\",\"\",Nährstoffabgabe!A395)","v":"Bergarnika, Blüte"},{"$f":"IF(Nährstoffabgabe!B395=\"\",\"\",Nährstoffabgabe!B395)","v":40},{"$f":"IF(Nährstoffabgabe!C395=\"\",\"\",Nährstoffabgabe!C395)","v":""},{"$f":"IF(Nährstoffabgabe!D395=\"\",\"\",Nährstoffabgabe!D395)","v":""},{"$f":"Nährstoffabgabe!E395","v":0},{"$f":"IF(Nährstoffabgabe!F395=\"\",\"\",Nährstoffabgabe!F395)","v":0.4},{"$f":"IF(Nährstoffabgabe!G395=\"\",\"\",Nährstoffabgabe!G395)","v":0.16},{"$f":"IF(Nährstoffabgabe!H395=\"\",\"\",Nährstoffabgabe!H395)","v":0.48},{"$f":"IF(Nährstoffabgabe!I395=\"\",\"\",Nährstoffabgabe!I395)","v":0.06},{"$f":"IF(Nährstoffabgabe!J395=\"\",\"\",Nährstoffabgabe!J395)","v":0},{"$f":"IF(Nährstoffabgabe!K395=\"\",\"\",Nährstoffabgabe!K395)","v":0},{"$f":"IF(Nährstoffabgabe!L395=\"\",\"\",Nährstoffabgabe!L395)","v":0},{"$f":"IF(Nährstoffabgabe!M395=\"\",\"\",Nährstoffabgabe!M395)","v":0}]
[{"$f":"IF(Nährstoffabgabe!A396=\"\",\"\",Nährstoffabgabe!A396)","v":"Bergarnika, Blüte + Kraut"},{"$f":"IF(Nährstoffabgabe!B396=\"\",\"\",Nährstoffabgabe!B396)","v":40},{"$f":"IF(Nährstoffabgabe!C396=\"\",\"\",Nährstoffabgabe!C396)","v":""},{"$f":"IF(Nährstoffabgabe!D396=\"\",\"\",Nährstoffabgabe!D396)","v":""},{"$f":"Nährstoffabgabe!E396","v":0},{"$f":"IF(Nährstoffabgabe!F396=\"\",\"\",Nährstoffabgabe!F396)","v":1.2224999999999999},{"$f":"IF(Nährstoffabgabe!G396=\"\",\"\",Nährstoffabgabe!G396)","v":0.44000000000000006},{"$f":"IF(Nährstoffabgabe!H396=\"\",\"\",Nährstoffabgabe!H396)","v":1.7749999999999999},{"$f":"IF(Nährstoffabgabe!I396=\"\",\"\",Nährstoffabgabe!I396)","v":0.2525},{"$f":"IF(Nährstoffabgabe!J396=\"\",\"\",Nährstoffabgabe!J396)","v":0},{"$f":"IF(Nährstoffabgabe!K396=\"\",\"\",Nährstoffabgabe!K396)","v":0},{"$f":"IF(Nährstoffabgabe!L396=\"\",\"\",Nährstoffabgabe!L396)","v":0},{"$f":"IF(Nährstoffabgabe!M396=\"\",\"\",Nährstoffabgabe!M396)","v":0}]
[{"$f":"IF(Nährstoffabgabe!A397=\"\",\"\",Nährstoffabgabe!A397)","v":"Bergarnika, Wurzel + Kraut"},{"$f":"IF(Nährstoffabgabe!B397=\"\",\"\",Nährstoffabgabe!B397)","v":60},{"$f":"IF(Nährstoffabgabe!C397=\"\",\"\",Nährstoffabgabe!C397)","v":""},{"$f":"IF(Nährstoffabgabe!D397=\"\",\"\",Nährstoffabgabe!D397)","v":""},{"$f":"Nährstoffabgabe!E397","v":0},{"$f":"IF(Nährstoffabgabe!F397=\"\",\"\",Nährstoffabgabe!F397)","v":1.2283333333333333},{"$f":"IF(Nährstoffabgabe!G397=\"\",\"\",Nährstoffabgabe!G397)","v":0.48666666666666669},{"$f":"IF(Nährstoffabgabe!H397=\"\",\"\",Nährstoffabgabe!H397)","v":1.5133333333333332},{"$f":"IF(Nährstoffabgabe!I397=\"\",\"\",Nährstoffabgabe!I397)","v":0.22833333333333333},{"$f":"IF(Nährstoffabgabe!J397=\"\",\"\",Nährstoffabgabe!J397)","v":0},{"$f":"IF(Nährstoffabgabe!K397=\"\",\"\",Nährstoffabgabe!K397)","v":0},{"$f":"IF(Nährstoffabgabe!L397=\"\",\"\",Nährstoffabgabe!L397)","v":0},{"$f":"IF(Nährstoffabgabe!M397=\"\",\"\",Nährstoffabgabe!M397)","v":0}]
[{"$f":"IF(Nährstoffabgabe!A398=\"\",\"\",Nährstoffabgabe!A398)","v":"Bergarnika, Wurzel"},{"$f":"IF(Nährstoffabgabe!B398=\"\",\"\",Nährstoffabgabe!B398)","v":60},{"$f":"IF(Nährstoffabgabe!C398=\"\",\"\",Nährstoffabgabe!C398)","v":""},{"$f":"IF(Nährstoffabgabe!D398=\"\",\"\",Nährstoffabgabe!D398)","v":""},{"$f":"Nährstoffabgabe!E398","v":0},{"$f":"IF(Nährstoffabgabe!F398=\"\",\"\",Nährstoffabgabe!F398)","v":0.68},{"$f":"IF(Nährstoffabgabe!G398=\"\",\"\",Nährstoffabgabe!G398)","v":0.3},{"$f":"IF(Nährstoffabgabe!H398=\"\",\"\",Nährstoffabgabe!H398)","v":0.65},{"$f":"IF(Nährstoffabgabe!I398=\"\",\"\",Nährstoffabgabe!I398)","v":0.1},{"$f":"IF(Nährstoffabgabe!J398=\"\",\"\",Nährstoffabgabe!J398)","v":0},{"$f":"IF(Nährstoffabgabe!K398=\"\",\"\",Nährstoffabgabe!K398)","v":0},{"$f":"IF(Nährstoffabgabe!L398=\"\",\"\",Nährstoffabgabe!L398)","v":0},{"$f":"IF(Nährstoffabgabe!M398=\"\",\"\",Nährstoffabgabe!M398)","v":0}]
[{"$f":"IF(Nährstoffabgabe!A399=\"\",\"\",Nährstoffabgabe!A399)","v":"Bergbohnenkraut, blühendes Kraut"},{"$f":"IF(Nährstoffabgabe!B399=\"\",\"\",Nährstoffabgabe!B399)","v":135},{"$f":"IF(Nährstoffabgabe!C399=\"\",\"\",Nährstoffabgabe!C399)","v":""},{"$f":"IF(Nährstoffabgabe!D399=\"\",\"\",Nährstoffabgabe!D399)","v":""},{"$f":"Nährstoffabgabe!E399","v":0},{"$f":"IF(Nährstoffabgabe!F399=\"\",\"\",Nährstoffabgabe!F399)","v":0.65},{"$f":"IF(Nährstoffabgabe!G399=\"\",\"\",Nährstoffabgabe!G399)","v":0.16},{"$f":"IF(Nährstoffabgabe!H399=\"\",\"\",Nährstoffabgabe!H399)","v":0.74},{"$f":"IF(Nährstoffabgabe!I399=\"\",\"\",Nährstoffabgabe!I399)","v":0.15},{"$f":"IF(Nährstoffabgabe!J399=\"\",\"\",Nährstoffabgabe!J399)","v":0},{"$f":"IF(Nährstoffabgabe!K399=\"\",\"\",Nährstoffabgabe!K399)","v":0},{"$f":"IF(Nährstoffabgabe!L399=\"\",\"\",Nährstoffabgabe!L399)","v":0},{"$f":"IF(Nährstoffabgabe!M399=\"\",\"\",Nährstoffabgabe!M399)","v":0}]
[{"$f":"IF(Nährstoffabgabe!A400=\"\",\"\",Nährstoffabgabe!A400)","v":"Bertram, Römischer, Wurzel + Kraut"},{"$f":"IF(Nährstoffabgabe!B400=\"\",\"\",Nährstoffabgabe!B400)","v":50},{"$f":"IF(Nährstoffabgabe!C400=\"\",\"\",Nährstoffabgabe!C400)","v":""},{"$f":"IF(Nährstoffabgabe!D400=\"\",\"\",Nährstoffabgabe!D400)","v":""},{"$f":"Nährstoffabgabe!E400","v":0},{"$f":"IF(Nährstoffabgabe!F400=\"\",\"\",Nährstoffabgabe!F400)","v":0.8},{"$f":"IF(Nährstoffabgabe!G400=\"\",\"\",Nährstoffabgabe!G400)","v":0.38},{"$f":"IF(Nährstoffabgabe!H400=\"\",\"\",Nährstoffabgabe!H400)","v":1.36},{"$f":"IF(Nährstoffabgabe!I400=\"\",\"\",Nährstoffabgabe!I400)","v":0.15},{"$f":"IF(Nährstoffabgabe!J400=\"\",\"\",Nährstoffabgabe!J400)","v":0},{"$f":"IF(Nährstoffabgabe!K400=\"\",\"\",Nährstoffabgabe!K400)","v":0},{"$f":"IF(Nährstoffabgabe!L400=\"\",\"\",Nährstoffabgabe!L400)","v":0},{"$f":"IF(Nährstoffabgabe!M400=\"\",\"\",Nährstoffabgabe!M400)","v":0}]
[{"$f":"IF(Nährstoffabgabe!A401=\"\",\"\",Nährstoffabgabe!A401)","v":"Bertram, Römischer, Wurzel"},{"$f":"IF(Nährstoffabgabe!B401=\"\",\"\",Nährstoffabgabe!B401)","v":50},{"$f":"IF(Nährstoffabgabe!C401=\"\",\"\",Nährstoffabgabe!C401)","v":""},{"$f":"IF(Nährstoffabgabe!D401=\"\",\"\",Nährstoffabgabe!D401)","v":""},{"$f":"Nährstoffabgabe!E401","v":0},{"$f":"IF(Nährstoffabgabe!F401=\"\",\"\",Nährstoffabgabe!F401)","v":0.35},{"$f":"IF(Nährstoffabgabe!G401=\"\",\"\",Nährstoffabgabe!G401)","v":0.17},{"$f":"IF(Nährstoffabgabe!H401=\"\",\"\",Nährstoffabgabe!H401)","v":0.51},{"$f":"IF(Nährstoffabgabe!I401=\"\",\"\",Nährstoffabgabe!I401)","v":0.06},{"$f":"IF(Nährstoffabgabe!J401=\"\",\"\",Nährstoffabgabe!J401)","v":0},{"$f":"IF(Nährstoffabgabe!K401=\"\",\"\",Nährstoffabgabe!K401)","v":0},{"$f":"IF(Nährstoffabgabe!L401=\"\",\"\",Nährstoffabgabe!L401)","v":0},{"$f":"IF(Nährstoffabgabe!M401=\"\",\"\",Nährstoffabgabe!M401)","v":0}]
[{"$f":"IF(Nährstoffabgabe!A402=\"\",\"\",Nährstoffabgabe!A402)","v":"Besenbeifuß (A. scoparia), Kraut"},{"$f":"IF(Nährstoffabgabe!B402=\"\",\"\",Nährstoffabgabe!B402)","v":250},{"$f":"IF(Nährstoffabgabe!C402=\"\",\"\",Nährstoffabgabe!C402)","v":""},{"$f":"IF(Nährstoffabgabe!D402=\"\",\"\",Nährstoffabgabe!D402)","v":""},{"$f":"Nährstoffabgabe!E402","v":0},{"$f":"IF(Nährstoffabgabe!F402=\"\",\"\",Nährstoffabgabe!F402)","v":0.59},{"$f":"IF(Nährstoffabgabe!G402=\"\",\"\",Nährstoffabgabe!G402)","v":0.15},{"$f":"IF(Nährstoffabgabe!H402=\"\",\"\",Nährstoffabgabe!H402)","v":0.76},{"$f":"IF(Nährstoffabgabe!I402=\"\",\"\",Nährstoffabgabe!I402)","v":0.04},{"$f":"IF(Nährstoffabgabe!J402=\"\",\"\",Nährstoffabgabe!J402)","v":0},{"$f":"IF(Nährstoffabgabe!K402=\"\",\"\",Nährstoffabgabe!K402)","v":0},{"$f":"IF(Nährstoffabgabe!L402=\"\",\"\",Nährstoffabgabe!L402)","v":0},{"$f":"IF(Nährstoffabgabe!M402=\"\",\"\",Nährstoffabgabe!M402)","v":0}]
[{"$f":"IF(Nährstoffabgabe!A403=\"\",\"\",Nährstoffabgabe!A403)","v":"Bibernelle, Kleine, Wurzel + Kraut"},{"$f":"IF(Nährstoffabgabe!B403=\"\",\"\",Nährstoffabgabe!B403)","v":70},{"$f":"IF(Nährstoffabgabe!C403=\"\",\"\",Nährstoffabgabe!C403)","v":""},{"$f":"IF(Nährstoffabgabe!D403=\"\",\"\",Nährstoffabgabe!D403)","v":""},{"$f":"Nährstoffabgabe!E403","v":0},{"$f":"IF(Nährstoffabgabe!F403=\"\",\"\",Nährstoffabgabe!F403)","v":1.9571428571428573},{"$f":"IF(Nährstoffabgabe!G403=\"\",\"\",Nährstoffabgabe!G403)","v":0.92},{"$f":"IF(Nährstoffabgabe!H403=\"\",\"\",Nährstoffabgabe!H403)","v":3.5457142857142854},{"$f":"IF(Nährstoffabgabe!I403=\"\",\"\",Nährstoffabgabe!I403)","v":0.38142857142857145},{"$f":"IF(Nährstoffabgabe!J403=\"\",\"\",Nährstoffabgabe!J403)","v":0},{"$f":"IF(Nährstoffabgabe!K403=\"\",\"\",Nährstoffabgabe!K403)","v":0},{"$f":"IF(Nährstoffabgabe!L403=\"\",\"\",Nährstoffabgabe!L403)","v":0},{"$f":"IF(Nährstoffabgabe!M403=\"\",\"\",Nährstoffabgabe!M403)","v":0}]
[{"$f":"IF(Nährstoffabgabe!A404=\"\",\"\",Nährstoffabgabe!A404)","v":"Bibernelle, Kleine, Wurzel"},{"$f":"IF(Nährstoffabgabe!B404=\"\",\"\",Nährstoffabgabe!B404)","v":70},{"$f":"IF(Nährstoffabgabe!C404=\"\",\"\",Nährstoffabgabe!C404)","v":""},{"$f":"IF(Nährstoffabgabe!D404=\"\",\"\",Nährstoffabgabe!D404)","v":""},{"$f":"Nährstoffabgabe!E404","v":0},{"$f":"IF(Nährstoffabgabe!F404=\"\",\"\",Nährstoffabgabe!F404)","v":0.35},{"$f":"IF(Nährstoffabgabe!G404=\"\",\"\",Nährstoffabgabe!G404)","v":0.17},{"$f":"IF(Nährstoffabgabe!H404=\"\",\"\",Nährstoffabgabe!H404)","v":0.51},{"$f":"IF(Nährstoffabgabe!I404=\"\",\"\",Nährstoffabgabe!I404)","v":0.06},{"$f":"IF(Nährstoffabgabe!J404=\"\",\"\",Nährstoffabgabe!J404)","v":0},{"$f":"IF(Nährstoffabgabe!K404=\"\",\"\",Nährstoffabgabe!K404)","v":0},{"$f":"IF(Nährstoffabgabe!L404=\"\",\"\",Nährstoffabgabe!L404)","v":0},{"$f":"IF(Nährstoffabgabe!M404=\"\",\"\",Nährstoffabgabe!M404)","v":0}]
[{"$f":"IF(Nährstoffabgabe!A405=\"\",\"\",Nährstoffabgabe!A405)","v":"Bockshornklee, Samen + Kraut"},{"$f":"IF(Nährstoffabgabe!B405=\"\",\"\",Nährstoffabgabe!B405)","v":5},{"$f":"IF(Nährstoffabgabe!C405=\"\",\"\",Nährstoffabgabe!C405)","v":""},{"$f":"IF(Nährstoffabgabe!D405=\"\",\"\",Nährstoffabgabe!D405)","v":""},{"$f":"Nährstoffabgabe!E405","v":0},{"$f":"IF(Nährstoffabgabe!F405=\"\",\"\",Nährstoffabgabe!F405)","v":6.59},{"$f":"IF(Nährstoffabgabe!G405=\"\",\"\",Nährstoffabgabe!G405)","v":3.08},{"$f":"IF(Nährstoffabgabe!H405=\"\",\"\",Nährstoffabgabe!H405)","v":4.8099999999999996},{"$f":"IF(Nährstoffabgabe!I405=\"\",\"\",Nährstoffabgabe!I405)","v":2},{"$f":"IF(Nährstoffabgabe!J405=\"\",\"\",Nährstoffabgabe!J405)","v":0},{"$f":"IF(Nährstoffabgabe!K405=\"\",\"\",Nährstoffabgabe!K405)","v":0},{"$f":"IF(Nährstoffabgabe!L405=\"\",\"\",Nährstoffabgabe!L405)","v":0},{"$f":"IF(Nährstoffabgabe!M405=\"\",\"\",Nährstoffabgabe!M405)","v":0}]
[{"$f":"IF(Nährstoffabgabe!A406=\"\",\"\",Nährstoffabgabe!A406)","v":"Bockshornklee, Samen"},{"$f":"IF(Nährstoffabgabe!B406=\"\",\"\",Nährstoffabgabe!B406)","v":5},{"$f":"IF(Nährstoffabgabe!C406=\"\",\"\",Nährstoffabgabe!C406)","v":""},{"$f":"IF(Nährstoffabgabe!D406=\"\",\"\",Nährstoffabgabe!D406)","v":""},{"$f":"Nährstoffabgabe!E406","v":0},{"$f":"IF(Nährstoffabgabe!F406=\"\",\"\",Nährstoffabgabe!F406)","v":3.87},{"$f":"IF(Nährstoffabgabe!G406=\"\",\"\",Nährstoffabgabe!G406)","v":1.4},{"$f":"IF(Nährstoffabgabe!H406=\"\",\"\",Nährstoffabgabe!H406)","v":1.53},{"$f":"IF(Nährstoffabgabe!I406=\"\",\"\",Nährstoffabgabe!I406)","v":1.4},{"$f":"IF(Nährstoffabgabe!J406=\"\",\"\",Nährstoffabgabe!J406)","v":0},{"$f":"IF(Nährstoffabgabe!K406=\"\",\"\",Nährstoffabgabe!K406)","v":0},{"$f":"IF(Nährstoffabgabe!L406=\"\",\"\",Nährstoffabgabe!L406)","v":0},{"$f":"IF(Nährstoffabgabe!M406=\"\",\"\",Nährstoffabgabe!M406)","v":0}]
[{"$f":"IF(Nährstoffabgabe!A407=\"\",\"\",Nährstoffabgabe!A407)","v":"Bohnenkraut, einjährig, blühendes Kraut"},{"$f":"IF(Nährstoffabgabe!B407=\"\",\"\",Nährstoffabgabe!B407)","v":450},{"$f":"IF(Nährstoffabgabe!C407=\"\",\"\",Nährstoffabgabe!C407)","v":""},{"$f":"IF(Nährstoffabgabe!D407=\"\",\"\",Nährstoffabgabe!D407)","v":""},{"$f":"Nährstoffabgabe!E407","v":0},{"$f":"IF(Nährstoffabgabe!F407=\"\",\"\",Nährstoffabgabe!F407)","v":0.32},{"$f":"IF(Nährstoffabgabe!G407=\"\",\"\",Nährstoffabgabe!G407)","v":0.12},{"$f":"IF(Nährstoffabgabe!H407=\"\",\"\",Nährstoffabgabe!H407)","v":0.49},{"$f":"IF(Nährstoffabgabe!I407=\"\",\"\",Nährstoffabgabe!I407)","v":7.0000000000000007E-2},{"$f":"IF(Nährstoffabgabe!J407=\"\",\"\",Nährstoffabgabe!J407)","v":0},{"$f":"IF(Nährstoffabgabe!K407=\"\",\"\",Nährstoffabgabe!K407)","v":0},{"$f":"IF(Nährstoffabgabe!L407=\"\",\"\",Nährstoffabgabe!L407)","v":0},{"$f":"IF(Nährstoffabgabe!M407=\"\",\"\",Nährstoffabgabe!M407)","v":0}]
[{"$f":"IF(Nährstoffabgabe!A408=\"\",\"\",Nährstoffabgabe!A408)","v":"Borretsch, Blühendes Kraut"},{"$f":"IF(Nährstoffabgabe!B408=\"\",\"\",Nährstoffabgabe!B408)","v":300},{"$f":"IF(Nährstoffabgabe!C408=\"\",\"\",Nährstoffabgabe!C408)","v":""},{"$f":"IF(Nährstoffabgabe!D408=\"\",\"\",Nährstoffabgabe!D408)","v":""},{"$f":"Nährstoffabgabe!E408","v":0},{"$f":"IF(Nährstoffabgabe!F408=\"\",\"\",Nährstoffabgabe!F408)","v":0.2},{"$f":"IF(Nährstoffabgabe!G408=\"\",\"\",Nährstoffabgabe!G408)","v":0.05},{"$f":"IF(Nährstoffabgabe!H408=\"\",\"\",Nährstoffabgabe!H408)","v":0.44},{"$f":"IF(Nährstoffabgabe!I408=\"\",\"\",Nährstoffabgabe!I408)","v":0.02},{"$f":"IF(Nährstoffabgabe!J408=\"\",\"\",Nährstoffabgabe!J408)","v":0},{"$f":"IF(Nährstoffabgabe!K408=\"\",\"\",Nährstoffabgabe!K408)","v":0},{"$f":"IF(Nährstoffabgabe!L408=\"\",\"\",Nährstoffabgabe!L408)","v":0},{"$f":"IF(Nährstoffabgabe!M408=\"\",\"\",Nährstoffabgabe!M408)","v":0}]
[{"$f":"IF(Nährstoffabgabe!A409=\"\",\"\",Nährstoffabgabe!A409)","v":"Braunelle, Kraut zu Ende der Blüte"},{"$f":"IF(Nährstoffabgabe!B409=\"\",\"\",Nährstoffabgabe!B409)","v":300},{"$f":"IF(Nährstoffabgabe!C409=\"\",\"\",Nährstoffabgabe!C409)","v":""},{"$f":"IF(Nährstoffabgabe!D409=\"\",\"\",Nährstoffabgabe!D409)","v":""},{"$f":"Nährstoffabgabe!E409","v":0},{"$f":"IF(Nährstoffabgabe!F409=\"\",\"\",Nährstoffabgabe!F409)","v":0.34},{"$f":"IF(Nährstoffabgabe!G409=\"\",\"\",Nährstoffabgabe!G409)","v":0.17},{"$f":"IF(Nährstoffabgabe!H409=\"\",\"\",Nährstoffabgabe!H409)","v":0.8},{"$f":"IF(Nährstoffabgabe!I409=\"\",\"\",Nährstoffabgabe!I409)","v":0.12},{"$f":"IF(Nährstoffabgabe!J409=\"\",\"\",Nährstoffabgabe!J409)","v":0},{"$f":"IF(Nährstoffabgabe!K409=\"\",\"\",Nährstoffabgabe!K409)","v":0},{"$f":"IF(Nährstoffabgabe!L409=\"\",\"\",Nährstoffabgabe!L409)","v":0},{"$f":"IF(Nährstoffabgabe!M409=\"\",\"\",Nährstoffabgabe!M409)","v":0}]
[{"$f":"IF(Nährstoffabgabe!A410=\"\",\"\",Nährstoffabgabe!A410)","v":"Brennnessel, Große, nicht blühendes Kraut"},{"$f":"IF(Nährstoffabgabe!B410=\"\",\"\",Nährstoffabgabe!B410)","v":180},{"$f":"IF(Nährstoffabgabe!C410=\"\",\"\",Nährstoffabgabe!C410)","v":""},{"$f":"IF(Nährstoffabgabe!D410=\"\",\"\",Nährstoffabgabe!D410)","v":""},{"$f":"Nährstoffabgabe!E410","v":0},{"$f":"IF(Nährstoffabgabe!F410=\"\",\"\",Nährstoffabgabe!F410)","v":0.86},{"$f":"IF(Nährstoffabgabe!G410=\"\",\"\",Nährstoffabgabe!G410)","v":0.26},{"$f":"IF(Nährstoffabgabe!H410=\"\",\"\",Nährstoffabgabe!H410)","v":1.07},{"$f":"IF(Nährstoffabgabe!I410=\"\",\"\",Nährstoffabgabe!I410)","v":0.17},{"$f":"IF(Nährstoffabgabe!J410=\"\",\"\",Nährstoffabgabe!J410)","v":0},{"$f":"IF(Nährstoffabgabe!K410=\"\",\"\",Nährstoffabgabe!K410)","v":0},{"$f":"IF(Nährstoffabgabe!L410=\"\",\"\",Nährstoffabgabe!L410)","v":0},{"$f":"IF(Nährstoffabgabe!M410=\"\",\"\",Nährstoffabgabe!M410)","v":0}]
[{"$f":"IF(Nährstoffabgabe!A411=\"\",\"\",Nährstoffabgabe!A411)","v":"Brennnessel, Große, Wurzel + Kraut"},{"$f":"IF(Nährstoffabgabe!B411=\"\",\"\",Nährstoffabgabe!B411)","v":80},{"$f":"IF(Nährstoffabgabe!C411=\"\",\"\",Nährstoffabgabe!C411)","v":""},{"$f":"IF(Nährstoffabgabe!D411=\"\",\"\",Nährstoffabgabe!D411)","v":""},{"$f":"Nährstoffabgabe!E411","v":0},{"$f":"IF(Nährstoffabgabe!F411=\"\",\"\",Nährstoffabgabe!F411)","v":1.028888888888889},{"$f":"IF(Nährstoffabgabe!G411=\"\",\"\",Nährstoffabgabe!G411)","v":0.34888888888888892},{"$f":"IF(Nährstoffabgabe!H411=\"\",\"\",Nährstoffabgabe!H411)","v":1.2966666666666669},{"$f":"IF(Nährstoffabgabe!I411=\"\",\"\",Nährstoffabgabe!I411)","v":0.21444444444444447},{"$f":"IF(Nährstoffabgabe!J411=\"\",\"\",Nährstoffabgabe!J411)","v":0},{"$f":"IF(Nährstoffabgabe!K411=\"\",\"\",Nährstoffabgabe!K411)","v":0},{"$f":"IF(Nährstoffabgabe!L411=\"\",\"\",Nährstoffabgabe!L411)","v":0},{"$f":"IF(Nährstoffabgabe!M411=\"\",\"\",Nährstoffabgabe!M411)","v":0}]
[{"$f":"IF(Nährstoffabgabe!A412=\"\",\"\",Nährstoffabgabe!A412)","v":"Brennnessel, Große, Wurzel"},{"$f":"IF(Nährstoffabgabe!B412=\"\",\"\",Nährstoffabgabe!B412)","v":80},{"$f":"IF(Nährstoffabgabe!C412=\"\",\"\",Nährstoffabgabe!C412)","v":""},{"$f":"IF(Nährstoffabgabe!D412=\"\",\"\",Nährstoffabgabe!D412)","v":""},{"$f":"Nährstoffabgabe!E412","v":0},{"$f":"IF(Nährstoffabgabe!F412=\"\",\"\",Nährstoffabgabe!F412)","v":0.38},{"$f":"IF(Nährstoffabgabe!G412=\"\",\"\",Nährstoffabgabe!G412)","v":0.2},{"$f":"IF(Nährstoffabgabe!H412=\"\",\"\",Nährstoffabgabe!H412)","v":0.51},{"$f":"IF(Nährstoffabgabe!I412=\"\",\"\",Nährstoffabgabe!I412)","v":0.1},{"$f":"IF(Nährstoffabgabe!J412=\"\",\"\",Nährstoffabgabe!J412)","v":0},{"$f":"IF(Nährstoffabgabe!K412=\"\",\"\",Nährstoffabgabe!K412)","v":0},{"$f":"IF(Nährstoffabgabe!L412=\"\",\"\",Nährstoffabgabe!L412)","v":0},{"$f":"IF(Nährstoffabgabe!M412=\"\",\"\",Nährstoffabgabe!M412)","v":0}]
[{"$f":"IF(Nährstoffabgabe!A413=\"\",\"\",Nährstoffabgabe!A413)","v":"Brennnessel, Kleine, blühendes Kraut"},{"$f":"IF(Nährstoffabgabe!B413=\"\",\"\",Nährstoffabgabe!B413)","v":120},{"$f":"IF(Nährstoffabgabe!C413=\"\",\"\",Nährstoffabgabe!C413)","v":""},{"$f":"IF(Nährstoffabgabe!D413=\"\",\"\",Nährstoffabgabe!D413)","v":""},{"$f":"Nährstoffabgabe!E413","v":0},{"$f":"IF(Nährstoffabgabe!F413=\"\",\"\",Nährstoffabgabe!F413)","v":0.7},{"$f":"IF(Nährstoffabgabe!G413=\"\",\"\",Nährstoffabgabe!G413)","v":0.15},{"$f":"IF(Nährstoffabgabe!H413=\"\",\"\",Nährstoffabgabe!H413)","v":0.79},{"$f":"IF(Nährstoffabgabe!I413=\"\",\"\",Nährstoffabgabe!I413)","v":0.09},{"$f":"IF(Nährstoffabgabe!J413=\"\",\"\",Nährstoffabgabe!J413)","v":0},{"$f":"IF(Nährstoffabgabe!K413=\"\",\"\",Nährstoffabgabe!K413)","v":0},{"$f":"IF(Nährstoffabgabe!L413=\"\",\"\",Nährstoffabgabe!L413)","v":0},{"$f":"IF(Nährstoffabgabe!M413=\"\",\"\",Nährstoffabgabe!M413)","v":0}]
[{"$f":"IF(Nährstoffabgabe!A414=\"\",\"\",Nährstoffabgabe!A414)","v":"Brunnenkresse, Kraut"},{"$f":"IF(Nährstoffabgabe!B414=\"\",\"\",Nährstoffabgabe!B414)","v":150},{"$f":"IF(Nährstoffabgabe!C414=\"\",\"\",Nährstoffabgabe!C414)","v":""},{"$f":"IF(Nährstoffabgabe!D414=\"\",\"\",Nährstoffabgabe!D414)","v":""},{"$f":"Nährstoffabgabe!E414","v":0},{"$f":"IF(Nährstoffabgabe!F414=\"\",\"\",Nährstoffabgabe!F414)","v":0.3},{"$f":"IF(Nährstoffabgabe!G414=\"\",\"\",Nährstoffabgabe!G414)","v":9.1999999999999998E-2},{"$f":"IF(Nährstoffabgabe!H414=\"\",\"\",Nährstoffabgabe!H414)","v":0.71},{"$f":"IF(Nährstoffabgabe!I414=\"\",\"\",Nährstoffabgabe!I414)","v":0.04},{"$f":"IF(Nährstoffabgabe!J414=\"\",\"\",Nährstoffabgabe!J414)","v":0},{"$f":"IF(Nährstoffabgabe!K414=\"\",\"\",Nährstoffabgabe!K414)","v":0},{"$f":"IF(Nährstoffabgabe!L414=\"\",\"\",Nährstoffabgabe!L414)","v":0},{"$f":"IF(Nährstoffabgabe!M414=\"\",\"\",Nährstoffabgabe!M414)","v":0}]
[{"$f":"IF(Nährstoffabgabe!A415=\"\",\"\",Nährstoffabgabe!A415)","v":"Dill, Kraut b. Knospenansatz"},{"$f":"IF(Nährstoffabgabe!B415=\"\",\"\",Nährstoffabgabe!B415)","v":250},{"$f":"IF(Nährstoffabgabe!C415=\"\",\"\",Nährstoffabgabe!C415)","v":""},{"$f":"IF(Nährstoffabgabe!D415=\"\",\"\",Nährstoffabgabe!D415)","v":""},{"$f":"Nährstoffabgabe!E415","v":0},{"$f":"IF(Nährstoffabgabe!F415=\"\",\"\",Nährstoffabgabe!F415)","v":0.3},{"$f":"IF(Nährstoffabgabe!G415=\"\",\"\",Nährstoffabgabe!G415)","v":9.1999999999999998E-2},{"$f":"IF(Nährstoffabgabe!H415=\"\",\"\",Nährstoffabgabe!H415)","v":0.71},{"$f":"IF(Nährstoffabgabe!I415=\"\",\"\",Nährstoffabgabe!I415)","v":0.04},{"$f":"IF(Nährstoffabgabe!J415=\"\",\"\",Nährstoffabgabe!J415)","v":0},{"$f":"IF(Nährstoffabgabe!K415=\"\",\"\",Nährstoffabgabe!K415)","v":0},{"$f":"IF(Nährstoffabgabe!L415=\"\",\"\",Nährstoffabgabe!L415)","v":0},{"$f":"IF(Nährstoffabgabe!M415=\"\",\"\",Nährstoffabgabe!M415)","v":0}]
[{"$f":"IF(Nährstoffabgabe!A416=\"\",\"\",Nährstoffabgabe!A416)","v":"Dill, Spitzen"},{"$f":"IF(Nährstoffabgabe!B416=\"\",\"\",Nährstoffabgabe!B416)","v":50},{"$f":"IF(Nährstoffabgabe!C416=\"\",\"\",Nährstoffabgabe!C416)","v":""},{"$f":"IF(Nährstoffabgabe!D416=\"\",\"\",Nährstoffabgabe!D416)","v":""},{"$f":"Nährstoffabgabe!E416","v":0},{"$f":"IF(Nährstoffabgabe!F416=\"\",\"\",Nährstoffabgabe!F416)","v":0.79},{"$f":"IF(Nährstoffabgabe!G416=\"\",\"\",Nährstoffabgabe!G416)","v":0.17},{"$f":"IF(Nährstoffabgabe!H416=\"\",\"\",Nährstoffabgabe!H416)","v":0.83},{"$f":"IF(Nährstoffabgabe!I416=\"\",\"\",Nährstoffabgabe!I416)","v":0.12},{"$f":"IF(Nährstoffabgabe!J416=\"\",\"\",Nährstoffabgabe!J416)","v":0},{"$f":"IF(Nährstoffabgabe!K416=\"\",\"\",Nährstoffabgabe!K416)","v":0},{"$f":"IF(Nährstoffabgabe!L416=\"\",\"\",Nährstoffabgabe!L416)","v":0},{"$f":"IF(Nährstoffabgabe!M416=\"\",\"\",Nährstoffabgabe!M416)","v":0}]
[{"$f":"IF(Nährstoffabgabe!A417=\"\",\"\",Nährstoffabgabe!A417)","v":"Drachenkopf, Iberischer, Samen + Stroh"},{"$f":"IF(Nährstoffabgabe!B417=\"\",\"\",Nährstoffabgabe!B417)","v":20},{"$f":"IF(Nährstoffabgabe!C417=\"\",\"\",Nährstoffabgabe!C417)","v":""},{"$f":"IF(Nährstoffabgabe!D417=\"\",\"\",Nährstoffabgabe!D417)","v":""},{"$f":"Nährstoffabgabe!E417","v":0},{"$f":"IF(Nährstoffabgabe!F417=\"\",\"\",Nährstoffabgabe!F417)","v":3.9599999999999995},{"$f":"IF(Nährstoffabgabe!G417=\"\",\"\",Nährstoffabgabe!G417)","v":2.15},{"$f":"IF(Nährstoffabgabe!H417=\"\",\"\",Nährstoffabgabe!H417)","v":5.2200000000000006},{"$f":"IF(Nährstoffabgabe!I417=\"\",\"\",Nährstoffabgabe!I417)","v":0.48000000000000009},{"$f":"IF(Nährstoffabgabe!J417=\"\",\"\",Nährstoffabgabe!J417)","v":0},{"$f":"IF(Nährstoffabgabe!K417=\"\",\"\",Nährstoffabgabe!K417)","v":0},{"$f":"IF(Nährstoffabgabe!L417=\"\",\"\",Nährstoffabgabe!L417)","v":0},{"$f":"IF(Nährstoffabgabe!M417=\"\",\"\",Nährstoffabgabe!M417)","v":0}]
[{"$f":"IF(Nährstoffabgabe!A418=\"\",\"\",Nährstoffabgabe!A418)","v":"Drachenkopf, Iberischer, Samen"},{"$f":"IF(Nährstoffabgabe!B418=\"\",\"\",Nährstoffabgabe!B418)","v":20},{"$f":"IF(Nährstoffabgabe!C418=\"\",\"\",Nährstoffabgabe!C418)","v":""},{"$f":"IF(Nährstoffabgabe!D418=\"\",\"\",Nährstoffabgabe!D418)","v":""},{"$f":"Nährstoffabgabe!E418","v":0},{"$f":"IF(Nährstoffabgabe!F418=\"\",\"\",Nährstoffabgabe!F418)","v":3.01},{"$f":"IF(Nährstoffabgabe!G418=\"\",\"\",Nährstoffabgabe!G418)","v":1.6},{"$f":"IF(Nährstoffabgabe!H418=\"\",\"\",Nährstoffabgabe!H418)","v":1.91},{"$f":"IF(Nährstoffabgabe!I418=\"\",\"\",Nährstoffabgabe!I418)","v":0.28000000000000003},{"$f":"IF(Nährstoffabgabe!J418=\"\",\"\",Nährstoffabgabe!J418)","v":0},{"$f":"IF(Nährstoffabgabe!K418=\"\",\"\",Nährstoffabgabe!K418)","v":0},{"$f":"IF(Nährstoffabgabe!L418=\"\",\"\",Nährstoffabgabe!L418)","v":0},{"$f":"IF(Nährstoffabgabe!M418=\"\",\"\",Nährstoffabgabe!M418)","v":0}]
[{"$f":"IF(Nährstoffabgabe!A419=\"\",\"\",Nährstoffabgabe!A419)","v":"Drachenkopf, Türkischer, blühendes Kraut"},{"$f":"IF(Nährstoffabgabe!B419=\"\",\"\",Nährstoffabgabe!B419)","v":500},{"$f":"IF(Nährstoffabgabe!C419=\"\",\"\",Nährstoffabgabe!C419)","v":""},{"$f":"IF(Nährstoffabgabe!D419=\"\",\"\",Nährstoffabgabe!D419)","v":""},{"$f":"Nährstoffabgabe!E419","v":0},{"$f":"IF(Nährstoffabgabe!F419=\"\",\"\",Nährstoffabgabe!F419)","v":0.27},{"$f":"IF(Nährstoffabgabe!G419=\"\",\"\",Nährstoffabgabe!G419)","v":0.11},{"$f":"IF(Nährstoffabgabe!H419=\"\",\"\",Nährstoffabgabe!H419)","v":0.65},{"$f":"IF(Nährstoffabgabe!I419=\"\",\"\",Nährstoffabgabe!I419)","v":0.03},{"$f":"IF(Nährstoffabgabe!J419=\"\",\"\",Nährstoffabgabe!J419)","v":0},{"$f":"IF(Nährstoffabgabe!K419=\"\",\"\",Nährstoffabgabe!K419)","v":0},{"$f":"IF(Nährstoffabgabe!L419=\"\",\"\",Nährstoffabgabe!L419)","v":0},{"$f":"IF(Nährstoffabgabe!M419=\"\",\"\",Nährstoffabgabe!M419)","v":0}]
[{"$f":"IF(Nährstoffabgabe!A420=\"\",\"\",Nährstoffabgabe!A420)","v":"Efeu, Kraut"},{"$f":"IF(Nährstoffabgabe!B420=\"\",\"\",Nährstoffabgabe!B420)","v":100},{"$f":"IF(Nährstoffabgabe!C420=\"\",\"\",Nährstoffabgabe!C420)","v":""},{"$f":"IF(Nährstoffabgabe!D420=\"\",\"\",Nährstoffabgabe!D420)","v":""},{"$f":"Nährstoffabgabe!E420","v":0},{"$f":"IF(Nährstoffabgabe!F420=\"\",\"\",Nährstoffabgabe!F420)","v":0.38},{"$f":"IF(Nährstoffabgabe!G420=\"\",\"\",Nährstoffabgabe!G420)","v":0.12},{"$f":"IF(Nährstoffabgabe!H420=\"\",\"\",Nährstoffabgabe!H420)","v":0.5},{"$f":"IF(Nährstoffabgabe!I420=\"\",\"\",Nährstoffabgabe!I420)","v":0.09},{"$f":"IF(Nährstoffabgabe!J420=\"\",\"\",Nährstoffabgabe!J420)","v":0},{"$f":"IF(Nährstoffabgabe!K420=\"\",\"\",Nährstoffabgabe!K420)","v":0},{"$f":"IF(Nährstoffabgabe!L420=\"\",\"\",Nährstoffabgabe!L420)","v":0},{"$f":"IF(Nährstoffabgabe!M420=\"\",\"\",Nährstoffabgabe!M420)","v":0}]
[{"$f":"IF(Nährstoffabgabe!A421=\"\",\"\",Nährstoffabgabe!A421)","v":"Eibisch, Wurzel + Kraut"},{"$f":"IF(Nährstoffabgabe!B421=\"\",\"\",Nährstoffabgabe!B421)","v":150},{"$f":"IF(Nährstoffabgabe!C421=\"\",\"\",Nährstoffabgabe!C421)","v":""},{"$f":"IF(Nährstoffabgabe!D421=\"\",\"\",Nährstoffabgabe!D421)","v":""},{"$f":"Nährstoffabgabe!E421","v":0},{"$f":"IF(Nährstoffabgabe!F421=\"\",\"\",Nährstoffabgabe!F421)","v":0.80666666666666664},{"$f":"IF(Nährstoffabgabe!G421=\"\",\"\",Nährstoffabgabe!G421)","v":0.34666666666666668},{"$f":"IF(Nährstoffabgabe!H421=\"\",\"\",Nährstoffabgabe!H421)","v":1.2533333333333334},{"$f":"IF(Nährstoffabgabe!I421=\"\",\"\",Nährstoffabgabe!I421)","v":0.23333333333333334},{"$f":"IF(Nährstoffabgabe!J421=\"\",\"\",Nährstoffabgabe!J421)","v":0},{"$f":"IF(Nährstoffabgabe!K421=\"\",\"\",Nährstoffabgabe!K421)","v":0},{"$f":"IF(Nährstoffabgabe!L421=\"\",\"\",Nährstoffabgabe!L421)","v":0},{"$f":"IF(Nährstoffabgabe!M421=\"\",\"\",Nährstoffabgabe!M421)","v":0}]
[{"$f":"IF(Nährstoffabgabe!A422=\"\",\"\",Nährstoffabgabe!A422)","v":"Eibisch, Wurzel"},{"$f":"IF(Nährstoffabgabe!B422=\"\",\"\",Nährstoffabgabe!B422)","v":150},{"$f":"IF(Nährstoffabgabe!C422=\"\",\"\",Nährstoffabgabe!C422)","v":""},{"$f":"IF(Nährstoffabgabe!D422=\"\",\"\",Nährstoffabgabe!D422)","v":""},{"$f":"Nährstoffabgabe!E422","v":0},{"$f":"IF(Nährstoffabgabe!F422=\"\",\"\",Nährstoffabgabe!F422)","v":0.66},{"$f":"IF(Nährstoffabgabe!G422=\"\",\"\",Nährstoffabgabe!G422)","v":0.3},{"$f":"IF(Nährstoffabgabe!H422=\"\",\"\",Nährstoffabgabe!H422)","v":0.72},{"$f":"IF(Nährstoffabgabe!I422=\"\",\"\",Nährstoffabgabe!I422)","v":0.2},{"$f":"IF(Nährstoffabgabe!J422=\"\",\"\",Nährstoffabgabe!J422)","v":0},{"$f":"IF(Nährstoffabgabe!K422=\"\",\"\",Nährstoffabgabe!K422)","v":0},{"$f":"IF(Nährstoffabgabe!L422=\"\",\"\",Nährstoffabgabe!L422)","v":0},{"$f":"IF(Nährstoffabgabe!M422=\"\",\"\",Nährstoffabgabe!M422)","v":0}]
[{"$f":"IF(Nährstoffabgabe!A423=\"\",\"\",Nährstoffabgabe!A423)","v":"Eisenkraut, Echtes, Kraut"},{"$f":"IF(Nährstoffabgabe!B423=\"\",\"\",Nährstoffabgabe!B423)","v":230},{"$f":"IF(Nährstoffabgabe!C423=\"\",\"\",Nährstoffabgabe!C423)","v":""},{"$f":"IF(Nährstoffabgabe!D423=\"\",\"\",Nährstoffabgabe!D423)","v":""},{"$f":"Nährstoffabgabe!E423","v":0},{"$f":"IF(Nährstoffabgabe!F423=\"\",\"\",Nährstoffabgabe!F423)","v":0.51},{"$f":"IF(Nährstoffabgabe!G423=\"\",\"\",Nährstoffabgabe!G423)","v":0.14000000000000001},{"$f":"IF(Nährstoffabgabe!H423=\"\",\"\",Nährstoffabgabe!H423)","v":0.6},{"$f":"IF(Nährstoffabgabe!I423=\"\",\"\",Nährstoffabgabe!I423)","v":0.08},{"$f":"IF(Nährstoffabgabe!J423=\"\",\"\",Nährstoffabgabe!J423)","v":0},{"$f":"IF(Nährstoffabgabe!K423=\"\",\"\",Nährstoffabgabe!K423)","v":0},{"$f":"IF(Nährstoffabgabe!L423=\"\",\"\",Nährstoffabgabe!L423)","v":0},{"$f":"IF(Nährstoffabgabe!M423=\"\",\"\",Nährstoffabgabe!M423)","v":0}]
[{"$f":"IF(Nährstoffabgabe!A424=\"\",\"\",Nährstoffabgabe!A424)","v":"Engelwurz, Europäische, Wurzel + Kraut"},{"$f":"IF(Nährstoffabgabe!B424=\"\",\"\",Nährstoffabgabe!B424)","v":200},{"$f":"IF(Nährstoffabgabe!C424=\"\",\"\",Nährstoffabgabe!C424)","v":""},{"$f":"IF(Nährstoffabgabe!D424=\"\",\"\",Nährstoffabgabe!D424)","v":""},{"$f":"Nährstoffabgabe!E424","v":0},{"$f":"IF(Nährstoffabgabe!F424=\"\",\"\",Nährstoffabgabe!F424)","v":0.6},{"$f":"IF(Nährstoffabgabe!G424=\"\",\"\",Nährstoffabgabe!G424)","v":0.37},{"$f":"IF(Nährstoffabgabe!H424=\"\",\"\",Nährstoffabgabe!H424)","v":2.09},{"$f":"IF(Nährstoffabgabe!I424=\"\",\"\",Nährstoffabgabe!I424)","v":0.16999999999999998},{"$f":"IF(Nährstoffabgabe!J424=\"\",\"\",Nährstoffabgabe!J424)","v":0},{"$f":"IF(Nährstoffabgabe!K424=\"\",\"\",Nährstoffabgabe!K424)","v":0},{"$f":"IF(Nährstoffabgabe!L424=\"\",\"\",Nährstoffabgabe!L424)","v":0},{"$f":"IF(Nährstoffabgabe!M424=\"\",\"\",Nährstoffabgabe!M424)","v":0}]
[{"$f":"IF(Nährstoffabgabe!A425=\"\",\"\",Nährstoffabgabe!A425)","v":"Engelwurz, Europäische, Wurzel"},{"$f":"IF(Nährstoffabgabe!B425=\"\",\"\",Nährstoffabgabe!B425)","v":200},{"$f":"IF(Nährstoffabgabe!C425=\"\",\"\",Nährstoffabgabe!C425)","v":""},{"$f":"IF(Nährstoffabgabe!D425=\"\",\"\",Nährstoffabgabe!D425)","v":""},{"$f":"Nährstoffabgabe!E425","v":0},{"$f":"IF(Nährstoffabgabe!F425=\"\",\"\",Nährstoffabgabe!F425)","v":0.3},{"$f":"IF(Nährstoffabgabe!G425=\"\",\"\",Nährstoffabgabe!G425)","v":0.23},{"$f":"IF(Nährstoffabgabe!H425=\"\",\"\",Nährstoffabgabe!H425)","v":0.65},{"$f":"IF(Nährstoffabgabe!I425=\"\",\"\",Nährstoffabgabe!I425)","v":0.09},{"$f":"IF(Nährstoffabgabe!J425=\"\",\"\",Nährstoffabgabe!J425)","v":0},{"$f":"IF(Nährstoffabgabe!K425=\"\",\"\",Nährstoffabgabe!K425)","v":0},{"$f":"IF(Nährstoffabgabe!L425=\"\",\"\",Nährstoffabgabe!L425)","v":0},{"$f":"IF(Nährstoffabgabe!M425=\"\",\"\",Nährstoffabgabe!M425)","v":0}]
[{"$f":"IF(Nährstoffabgabe!A426=\"\",\"\",Nährstoffabgabe!A426)","v":"Engelwurz, Sibirische, Wurzel + Kraut"},{"$f":"IF(Nährstoffabgabe!B426=\"\",\"\",Nährstoffabgabe!B426)","v":200},{"$f":"IF(Nährstoffabgabe!C426=\"\",\"\",Nährstoffabgabe!C426)","v":""},{"$f":"IF(Nährstoffabgabe!D426=\"\",\"\",Nährstoffabgabe!D426)","v":""},{"$f":"Nährstoffabgabe!E426","v":0},{"$f":"IF(Nährstoffabgabe!F426=\"\",\"\",Nährstoffabgabe!F426)","v":0.86},{"$f":"IF(Nährstoffabgabe!G426=\"\",\"\",Nährstoffabgabe!G426)","v":0.41000000000000003},{"$f":"IF(Nährstoffabgabe!H426=\"\",\"\",Nährstoffabgabe!H426)","v":1.82},{"$f":"IF(Nährstoffabgabe!I426=\"\",\"\",Nährstoffabgabe!I426)","v":0.17},{"$f":"IF(Nährstoffabgabe!J426=\"\",\"\",Nährstoffabgabe!J426)","v":0},{"$f":"IF(Nährstoffabgabe!K426=\"\",\"\",Nährstoffabgabe!K426)","v":0},{"$f":"IF(Nährstoffabgabe!L426=\"\",\"\",Nährstoffabgabe!L426)","v":0},{"$f":"IF(Nährstoffabgabe!M426=\"\",\"\",Nährstoffabgabe!M426)","v":0}]
[{"$f":"IF(Nährstoffabgabe!A427=\"\",\"\",Nährstoffabgabe!A427)","v":"Engelwurz, Sibirische, Wurzel"},{"$f":"IF(Nährstoffabgabe!B427=\"\",\"\",Nährstoffabgabe!B427)","v":200},{"$f":"IF(Nährstoffabgabe!C427=\"\",\"\",Nährstoffabgabe!C427)","v":""},{"$f":"IF(Nährstoffabgabe!D427=\"\",\"\",Nährstoffabgabe!D427)","v":""},{"$f":"Nährstoffabgabe!E427","v":0},{"$f":"IF(Nährstoffabgabe!F427=\"\",\"\",Nährstoffabgabe!F427)","v":0.42},{"$f":"IF(Nährstoffabgabe!G427=\"\",\"\",Nährstoffabgabe!G427)","v":0.25},{"$f":"IF(Nährstoffabgabe!H427=\"\",\"\",Nährstoffabgabe!H427)","v":0.54},{"$f":"IF(Nährstoffabgabe!I427=\"\",\"\",Nährstoffabgabe!I427)","v":7.0000000000000007E-2},{"$f":"IF(Nährstoffabgabe!J427=\"\",\"\",Nährstoffabgabe!J427)","v":0},{"$f":"IF(Nährstoffabgabe!K427=\"\",\"\",Nährstoffabgabe!K427)","v":0},{"$f":"IF(Nährstoffabgabe!L427=\"\",\"\",Nährstoffabgabe!L427)","v":0},{"$f":"IF(Nährstoffabgabe!M427=\"\",\"\",Nährstoffabgabe!M427)","v":0}]
[{"$f":"IF(Nährstoffabgabe!A428=\"\",\"\",Nährstoffabgabe!A428)","v":"Enzian, ohne Ernte"},{"$f":"IF(Nährstoffabgabe!B428=\"\",\"\",Nährstoffabgabe!B428)","v":20},{"$f":"IF(Nährstoffabgabe!C428=\"\",\"\",Nährstoffabgabe!C428)","v":""},{"$f":"IF(Nährstoffabgabe!D428=\"\",\"\",Nährstoffabgabe!D428)","v":""},{"$f":"Nährstoffabgabe!E428","v":0},{"$f":"IF(Nährstoffabgabe!F428=\"\",\"\",Nährstoffabgabe!F428)","v":0.3},{"$f":"IF(Nährstoffabgabe!G428=\"\",\"\",Nährstoffabgabe!G428)","v":0.2},{"$f":"IF(Nährstoffabgabe!H428=\"\",\"\",Nährstoffabgabe!H428)","v":0.6},{"$f":"IF(Nährstoffabgabe!I428=\"\",\"\",Nährstoffabgabe!I428)","v":0.1},{"$f":"IF(Nährstoffabgabe!J428=\"\",\"\",Nährstoffabgabe!J428)","v":0},{"$f":"IF(Nährstoffabgabe!K428=\"\",\"\",Nährstoffabgabe!K428)","v":0},{"$f":"IF(Nährstoffabgabe!L428=\"\",\"\",Nährstoffabgabe!L428)","v":0},{"$f":"IF(Nährstoffabgabe!M428=\"\",\"\",Nährstoffabgabe!M428)","v":0}]
[{"$f":"IF(Nährstoffabgabe!A429=\"\",\"\",Nährstoffabgabe!A429)","v":"Enzian, Wurzel n. 4 Jahren"},{"$f":"IF(Nährstoffabgabe!B429=\"\",\"\",Nährstoffabgabe!B429)","v":300},{"$f":"IF(Nährstoffabgabe!C429=\"\",\"\",Nährstoffabgabe!C429)","v":""},{"$f":"IF(Nährstoffabgabe!D429=\"\",\"\",Nährstoffabgabe!D429)","v":""},{"$f":"Nährstoffabgabe!E429","v":0},{"$f":"IF(Nährstoffabgabe!F429=\"\",\"\",Nährstoffabgabe!F429)","v":0.3},{"$f":"IF(Nährstoffabgabe!G429=\"\",\"\",Nährstoffabgabe!G429)","v":0.2},{"$f":"IF(Nährstoffabgabe!H429=\"\",\"\",Nährstoffabgabe!H429)","v":0.6},{"$f":"IF(Nährstoffabgabe!I429=\"\",\"\",Nährstoffabgabe!I429)","v":0.1},{"$f":"IF(Nährstoffabgabe!J429=\"\",\"\",Nährstoffabgabe!J429)","v":0},{"$f":"IF(Nährstoffabgabe!K429=\"\",\"\",Nährstoffabgabe!K429)","v":0},{"$f":"IF(Nährstoffabgabe!L429=\"\",\"\",Nährstoffabgabe!L429)","v":0},{"$f":"IF(Nährstoffabgabe!M429=\"\",\"\",Nährstoffabgabe!M429)","v":0}]
[{"$f":"IF(Nährstoffabgabe!A430=\"\",\"\",Nährstoffabgabe!A430)","v":"Estragon, Deutscher, nicht blühendes Kraut"},{"$f":"IF(Nährstoffabgabe!B430=\"\",\"\",Nährstoffabgabe!B430)","v":150},{"$f":"IF(Nährstoffabgabe!C430=\"\",\"\",Nährstoffabgabe!C430)","v":""},{"$f":"IF(Nährstoffabgabe!D430=\"\",\"\",Nährstoffabgabe!D430)","v":""},{"$f":"Nährstoffabgabe!E430","v":0},{"$f":"IF(Nährstoffabgabe!F430=\"\",\"\",Nährstoffabgabe!F430)","v":0.55000000000000004},{"$f":"IF(Nährstoffabgabe!G430=\"\",\"\",Nährstoffabgabe!G430)","v":0.16},{"$f":"IF(Nährstoffabgabe!H430=\"\",\"\",Nährstoffabgabe!H430)","v":0.88},{"$f":"IF(Nährstoffabgabe!I430=\"\",\"\",Nährstoffabgabe!I430)","v":0.04},{"$f":"IF(Nährstoffabgabe!J430=\"\",\"\",Nährstoffabgabe!J430)","v":0},{"$f":"IF(Nährstoffabgabe!K430=\"\",\"\",Nährstoffabgabe!K430)","v":0},{"$f":"IF(Nährstoffabgabe!L430=\"\",\"\",Nährstoffabgabe!L430)","v":0},{"$f":"IF(Nährstoffabgabe!M430=\"\",\"\",Nährstoffabgabe!M430)","v":0}]
[{"$f":"IF(Nährstoffabgabe!A431=\"\",\"\",Nährstoffabgabe!A431)","v":"Färberdistel, Samen + Stroh"},{"$f":"IF(Nährstoffabgabe!B431=\"\",\"\",Nährstoffabgabe!B431)","v":40},{"$f":"IF(Nährstoffabgabe!C431=\"\",\"\",Nährstoffabgabe!C431)","v":""},{"$f":"IF(Nährstoffabgabe!D431=\"\",\"\",Nährstoffabgabe!D431)","v":""},{"$f":"Nährstoffabgabe!E431","v":0},{"$f":"IF(Nährstoffabgabe!F431=\"\",\"\",Nährstoffabgabe!F431)","v":2.5074999999999998},{"$f":"IF(Nährstoffabgabe!G431=\"\",\"\",Nährstoffabgabe!G431)","v":1.22},{"$f":"IF(Nährstoffabgabe!H431=\"\",\"\",Nährstoffabgabe!H431)","v":3.7424999999999997},{"$f":"IF(Nährstoffabgabe!I431=\"\",\"\",Nährstoffabgabe!I431)","v":0.65999999999999992},{"$f":"IF(Nährstoffabgabe!J431=\"\",\"\",Nährstoffabgabe!J431)","v":0},{"$f":"IF(Nährstoffabgabe!K431=\"\",\"\",Nährstoffabgabe!K431)","v":0},{"$f":"IF(Nährstoffabgabe!L431=\"\",\"\",Nährstoffabgabe!L431)","v":0},{"$f":"IF(Nährstoffabgabe!M431=\"\",\"\",Nährstoffabgabe!M431)","v":0}]
[{"$f":"IF(Nährstoffabgabe!A432=\"\",\"\",Nährstoffabgabe!A432)","v":"Färberdistel, Samen"},{"$f":"IF(Nährstoffabgabe!B432=\"\",\"\",Nährstoffabgabe!B432)","v":40},{"$f":"IF(Nährstoffabgabe!C432=\"\",\"\",Nährstoffabgabe!C432)","v":""},{"$f":"IF(Nährstoffabgabe!D432=\"\",\"\",Nährstoffabgabe!D432)","v":""},{"$f":"Nährstoffabgabe!E432","v":0},{"$f":"IF(Nährstoffabgabe!F432=\"\",\"\",Nährstoffabgabe!F432)","v":1.5},{"$f":"IF(Nährstoffabgabe!G432=\"\",\"\",Nährstoffabgabe!G432)","v":0.83},{"$f":"IF(Nährstoffabgabe!H432=\"\",\"\",Nährstoffabgabe!H432)","v":0.59},{"$f":"IF(Nährstoffabgabe!I432=\"\",\"\",Nährstoffabgabe!I432)","v":0.27},{"$f":"IF(Nährstoffabgabe!J432=\"\",\"\",Nährstoffabgabe!J432)","v":0},{"$f":"IF(Nährstoffabgabe!K432=\"\",\"\",Nährstoffabgabe!K432)","v":0},{"$f":"IF(Nährstoffabgabe!L432=\"\",\"\",Nährstoffabgabe!L432)","v":0},{"$f":"IF(Nährstoffabgabe!M432=\"\",\"\",Nährstoffabgabe!M432)","v":0}]
[{"$f":"IF(Nährstoffabgabe!A433=\"\",\"\",Nährstoffabgabe!A433)","v":"Färberwaid, Kraut"},{"$f":"IF(Nährstoffabgabe!B433=\"\",\"\",Nährstoffabgabe!B433)","v":150},{"$f":"IF(Nährstoffabgabe!C433=\"\",\"\",Nährstoffabgabe!C433)","v":""},{"$f":"IF(Nährstoffabgabe!D433=\"\",\"\",Nährstoffabgabe!D433)","v":""},{"$f":"Nährstoffabgabe!E433","v":0},{"$f":"IF(Nährstoffabgabe!F433=\"\",\"\",Nährstoffabgabe!F433)","v":1},{"$f":"IF(Nährstoffabgabe!G433=\"\",\"\",Nährstoffabgabe!G433)","v":0.23},{"$f":"IF(Nährstoffabgabe!H433=\"\",\"\",Nährstoffabgabe!H433)","v":1.08},{"$f":"IF(Nährstoffabgabe!I433=\"\",\"\",Nährstoffabgabe!I433)","v":0.13},{"$f":"IF(Nährstoffabgabe!J433=\"\",\"\",Nährstoffabgabe!J433)","v":0},{"$f":"IF(Nährstoffabgabe!K433=\"\",\"\",Nährstoffabgabe!K433)","v":0},{"$f":"IF(Nährstoffabgabe!L433=\"\",\"\",Nährstoffabgabe!L433)","v":0},{"$f":"IF(Nährstoffabgabe!M433=\"\",\"\",Nährstoffabgabe!M433)","v":0}]
[{"$f":"IF(Nährstoffabgabe!A434=\"\",\"\",Nährstoffabgabe!A434)","v":"Federmohn, Kraut, 1. Standjahr"},{"$f":"IF(Nährstoffabgabe!B434=\"\",\"\",Nährstoffabgabe!B434)","v":220},{"$f":"IF(Nährstoffabgabe!C434=\"\",\"\",Nährstoffabgabe!C434)","v":""},{"$f":"IF(Nährstoffabgabe!D434=\"\",\"\",Nährstoffabgabe!D434)","v":""},{"$f":"Nährstoffabgabe!E434","v":0},{"$f":"IF(Nährstoffabgabe!F434=\"\",\"\",Nährstoffabgabe!F434)","v":0.52},{"$f":"IF(Nährstoffabgabe!G434=\"\",\"\",Nährstoffabgabe!G434)","v":0.08},{"$f":"IF(Nährstoffabgabe!H434=\"\",\"\",Nährstoffabgabe!H434)","v":0.41},{"$f":"IF(Nährstoffabgabe!I434=\"\",\"\",Nährstoffabgabe!I434)","v":7.0000000000000007E-2},{"$f":"IF(Nährstoffabgabe!J434=\"\",\"\",Nährstoffabgabe!J434)","v":0},{"$f":"IF(Nährstoffabgabe!K434=\"\",\"\",Nährstoffabgabe!K434)","v":0},{"$f":"IF(Nährstoffabgabe!L434=\"\",\"\",Nährstoffabgabe!L434)","v":0},{"$f":"IF(Nährstoffabgabe!M434=\"\",\"\",Nährstoffabgabe!M434)","v":0}]
[{"$f":"IF(Nährstoffabgabe!A435=\"\",\"\",Nährstoffabgabe!A435)","v":"Federmohn, Kraut, ab 2. Standjahr"},{"$f":"IF(Nährstoffabgabe!B435=\"\",\"\",Nährstoffabgabe!B435)","v":480},{"$f":"IF(Nährstoffabgabe!C435=\"\",\"\",Nährstoffabgabe!C435)","v":""},{"$f":"IF(Nährstoffabgabe!D435=\"\",\"\",Nährstoffabgabe!D435)","v":""},{"$f":"Nährstoffabgabe!E435","v":0},{"$f":"IF(Nährstoffabgabe!F435=\"\",\"\",Nährstoffabgabe!F435)","v":0.36},{"$f":"IF(Nährstoffabgabe!G435=\"\",\"\",Nährstoffabgabe!G435)","v":0.05},{"$f":"IF(Nährstoffabgabe!H435=\"\",\"\",Nährstoffabgabe!H435)","v":0.26},{"$f":"IF(Nährstoffabgabe!I435=\"\",\"\",Nährstoffabgabe!I435)","v":7.0000000000000007E-2},{"$f":"IF(Nährstoffabgabe!J435=\"\",\"\",Nährstoffabgabe!J435)","v":0},{"$f":"IF(Nährstoffabgabe!K435=\"\",\"\",Nährstoffabgabe!K435)","v":0},{"$f":"IF(Nährstoffabgabe!L435=\"\",\"\",Nährstoffabgabe!L435)","v":0},{"$f":"IF(Nährstoffabgabe!M435=\"\",\"\",Nährstoffabgabe!M435)","v":0}]
[{"$f":"IF(Nährstoffabgabe!A436=\"\",\"\",Nährstoffabgabe!A436)","v":"Frauenmantel, blühendes Kraut"},{"$f":"IF(Nährstoffabgabe!B436=\"\",\"\",Nährstoffabgabe!B436)","v":300},{"$f":"IF(Nährstoffabgabe!C436=\"\",\"\",Nährstoffabgabe!C436)","v":""},{"$f":"IF(Nährstoffabgabe!D436=\"\",\"\",Nährstoffabgabe!D436)","v":""},{"$f":"Nährstoffabgabe!E436","v":0},{"$f":"IF(Nährstoffabgabe!F436=\"\",\"\",Nährstoffabgabe!F436)","v":0.38},{"$f":"IF(Nährstoffabgabe!G436=\"\",\"\",Nährstoffabgabe!G436)","v":0.14000000000000001},{"$f":"IF(Nährstoffabgabe!H436=\"\",\"\",Nährstoffabgabe!H436)","v":0.53},{"$f":"IF(Nährstoffabgabe!I436=\"\",\"\",Nährstoffabgabe!I436)","v":0.1},{"$f":"IF(Nährstoffabgabe!J436=\"\",\"\",Nährstoffabgabe!J436)","v":0},{"$f":"IF(Nährstoffabgabe!K436=\"\",\"\",Nährstoffabgabe!K436)","v":0},{"$f":"IF(Nährstoffabgabe!L436=\"\",\"\",Nährstoffabgabe!L436)","v":0},{"$f":"IF(Nährstoffabgabe!M436=\"\",\"\",Nährstoffabgabe!M436)","v":0}]
[{"$f":"IF(Nährstoffabgabe!A437=\"\",\"\",Nährstoffabgabe!A437)","v":"Galega (Geißraute), Kraut"},{"$f":"IF(Nährstoffabgabe!B437=\"\",\"\",Nährstoffabgabe!B437)","v":300},{"$f":"IF(Nährstoffabgabe!C437=\"\",\"\",Nährstoffabgabe!C437)","v":""},{"$f":"IF(Nährstoffabgabe!D437=\"\",\"\",Nährstoffabgabe!D437)","v":""},{"$f":"Nährstoffabgabe!E437","v":0},{"$f":"IF(Nährstoffabgabe!F437=\"\",\"\",Nährstoffabgabe!F437)","v":0.44},{"$f":"IF(Nährstoffabgabe!G437=\"\",\"\",Nährstoffabgabe!G437)","v":0.17},{"$f":"IF(Nährstoffabgabe!H437=\"\",\"\",Nährstoffabgabe!H437)","v":0.63},{"$f":"IF(Nährstoffabgabe!I437=\"\",\"\",Nährstoffabgabe!I437)","v":0.12},{"$f":"IF(Nährstoffabgabe!J437=\"\",\"\",Nährstoffabgabe!J437)","v":0},{"$f":"IF(Nährstoffabgabe!K437=\"\",\"\",Nährstoffabgabe!K437)","v":0},{"$f":"IF(Nährstoffabgabe!L437=\"\",\"\",Nährstoffabgabe!L437)","v":0},{"$f":"IF(Nährstoffabgabe!M437=\"\",\"\",Nährstoffabgabe!M437)","v":0}]
[{"$f":"IF(Nährstoffabgabe!A438=\"\",\"\",Nährstoffabgabe!A438)","v":"Gartenkresse, Kraut"},{"$f":"IF(Nährstoffabgabe!B438=\"\",\"\",Nährstoffabgabe!B438)","v":150},{"$f":"IF(Nährstoffabgabe!C438=\"\",\"\",Nährstoffabgabe!C438)","v":""},{"$f":"IF(Nährstoffabgabe!D438=\"\",\"\",Nährstoffabgabe!D438)","v":""},{"$f":"Nährstoffabgabe!E438","v":0},{"$f":"IF(Nährstoffabgabe!F438=\"\",\"\",Nährstoffabgabe!F438)","v":0.53},{"$f":"IF(Nährstoffabgabe!G438=\"\",\"\",Nährstoffabgabe!G438)","v":0.26},{"$f":"IF(Nährstoffabgabe!H438=\"\",\"\",Nährstoffabgabe!H438)","v":0.75},{"$f":"IF(Nährstoffabgabe!I438=\"\",\"\",Nährstoffabgabe!I438)","v":0.05},{"$f":"IF(Nährstoffabgabe!J438=\"\",\"\",Nährstoffabgabe!J438)","v":0},{"$f":"IF(Nährstoffabgabe!K438=\"\",\"\",Nährstoffabgabe!K438)","v":0},{"$f":"IF(Nährstoffabgabe!L438=\"\",\"\",Nährstoffabgabe!L438)","v":0},{"$f":"IF(Nährstoffabgabe!M438=\"\",\"\",Nährstoffabgabe!M438)","v":0}]
[{"$f":"IF(Nährstoffabgabe!A439=\"\",\"\",Nährstoffabgabe!A439)","v":"Getreidegras, Gras"},{"$f":"IF(Nährstoffabgabe!B439=\"\",\"\",Nährstoffabgabe!B439)","v":55},{"$f":"IF(Nährstoffabgabe!C439=\"\",\"\",Nährstoffabgabe!C439)","v":""},{"$f":"IF(Nährstoffabgabe!D439=\"\",\"\",Nährstoffabgabe!D439)","v":""},{"$f":"Nährstoffabgabe!E439","v":0},{"$f":"IF(Nährstoffabgabe!F439=\"\",\"\",Nährstoffabgabe!F439)","v":0.6},{"$f":"IF(Nährstoffabgabe!G439=\"\",\"\",Nährstoffabgabe!G439)","v":0.2},{"$f":"IF(Nährstoffabgabe!H439=\"\",\"\",Nährstoffabgabe!H439)","v":1},{"$f":"IF(Nährstoffabgabe!I439=\"\",\"\",Nährstoffabgabe!I439)","v":0.1},{"$f":"IF(Nährstoffabgabe!J439=\"\",\"\",Nährstoffabgabe!J439)","v":0},{"$f":"IF(Nährstoffabgabe!K439=\"\",\"\",Nährstoffabgabe!K439)","v":0},{"$f":"IF(Nährstoffabgabe!L439=\"\",\"\",Nährstoffabgabe!L439)","v":0},{"$f":"IF(Nährstoffabgabe!M439=\"\",\"\",Nährstoffabgabe!M439)","v":0}]
[{"$f":"IF(Nährstoffabgabe!A440=\"\",\"\",Nährstoffabgabe!A440)","v":"Ginseng, Wurzel"},{"$f":"IF(Nährstoffabgabe!B440=\"\",\"\",Nährstoffabgabe!B440)","v":6},{"$f":"IF(Nährstoffabgabe!C440=\"\",\"\",Nährstoffabgabe!C440)","v":""},{"$f":"IF(Nährstoffabgabe!D440=\"\",\"\",Nährstoffabgabe!D440)","v":""},{"$f":"Nährstoffabgabe!E440","v":0},{"$f":"IF(Nährstoffabgabe!F440=\"\",\"\",Nährstoffabgabe!F440)","v":0.79},{"$f":"IF(Nährstoffabgabe!G440=\"\",\"\",Nährstoffabgabe!G440)","v":0.24},{"$f":"IF(Nährstoffabgabe!H440=\"\",\"\",Nährstoffabgabe!H440)","v":0.79},{"$f":"IF(Nährstoffabgabe!I440=\"\",\"\",Nährstoffabgabe!I440)","v":0.09},{"$f":"IF(Nährstoffabgabe!J440=\"\",\"\",Nährstoffabgabe!J440)","v":0},{"$f":"IF(Nährstoffabgabe!K440=\"\",\"\",Nährstoffabgabe!K440)","v":0},{"$f":"IF(Nährstoffabgabe!L440=\"\",\"\",Nährstoffabgabe!L440)","v":0},{"$f":"IF(Nährstoffabgabe!M440=\"\",\"\",Nährstoffabgabe!M440)","v":0}]
[{"$f":"IF(Nährstoffabgabe!A441=\"\",\"\",Nährstoffabgabe!A441)","v":"Goldrute, Blühhorizont"},{"$f":"IF(Nährstoffabgabe!B441=\"\",\"\",Nährstoffabgabe!B441)","v":210},{"$f":"IF(Nährstoffabgabe!C441=\"\",\"\",Nährstoffabgabe!C441)","v":""},{"$f":"IF(Nährstoffabgabe!D441=\"\",\"\",Nährstoffabgabe!D441)","v":""},{"$f":"Nährstoffabgabe!E441","v":0},{"$f":"IF(Nährstoffabgabe!F441=\"\",\"\",Nährstoffabgabe!F441)","v":0.6},{"$f":"IF(Nährstoffabgabe!G441=\"\",\"\",Nährstoffabgabe!G441)","v":0.21},{"$f":"IF(Nährstoffabgabe!H441=\"\",\"\",Nährstoffabgabe!H441)","v":0.77},{"$f":"IF(Nährstoffabgabe!I441=\"\",\"\",Nährstoffabgabe!I441)","v":0.05},{"$f":"IF(Nährstoffabgabe!J441=\"\",\"\",Nährstoffabgabe!J441)","v":0},{"$f":"IF(Nährstoffabgabe!K441=\"\",\"\",Nährstoffabgabe!K441)","v":0},{"$f":"IF(Nährstoffabgabe!L441=\"\",\"\",Nährstoffabgabe!L441)","v":0},{"$f":"IF(Nährstoffabgabe!M441=\"\",\"\",Nährstoffabgabe!M441)","v":0}]
[{"$f":"IF(Nährstoffabgabe!A442=\"\",\"\",Nährstoffabgabe!A442)","v":"Hafer, Grüner, Kraut"},{"$f":"IF(Nährstoffabgabe!B442=\"\",\"\",Nährstoffabgabe!B442)","v":115},{"$f":"IF(Nährstoffabgabe!C442=\"\",\"\",Nährstoffabgabe!C442)","v":""},{"$f":"IF(Nährstoffabgabe!D442=\"\",\"\",Nährstoffabgabe!D442)","v":""},{"$f":"Nährstoffabgabe!E442","v":0},{"$f":"IF(Nährstoffabgabe!F442=\"\",\"\",Nährstoffabgabe!F442)","v":0.59},{"$f":"IF(Nährstoffabgabe!G442=\"\",\"\",Nährstoffabgabe!G442)","v":0.22},{"$f":"IF(Nährstoffabgabe!H442=\"\",\"\",Nährstoffabgabe!H442)","v":0.83},{"$f":"IF(Nährstoffabgabe!I442=\"\",\"\",Nährstoffabgabe!I442)","v":0.09},{"$f":"IF(Nährstoffabgabe!J442=\"\",\"\",Nährstoffabgabe!J442)","v":0},{"$f":"IF(Nährstoffabgabe!K442=\"\",\"\",Nährstoffabgabe!K442)","v":0},{"$f":"IF(Nährstoffabgabe!L442=\"\",\"\",Nährstoffabgabe!L442)","v":0},{"$f":"IF(Nährstoffabgabe!M442=\"\",\"\",Nährstoffabgabe!M442)","v":0}]
[{"$f":"IF(Nährstoffabgabe!A443=\"\",\"\",Nährstoffabgabe!A443)","v":"Ingwer, Rhizom"},{"$f":"IF(Nährstoffabgabe!B443=\"\",\"\",Nährstoffabgabe!B443)","v":420},{"$f":"IF(Nährstoffabgabe!C443=\"\",\"\",Nährstoffabgabe!C443)","v":""},{"$f":"IF(Nährstoffabgabe!D443=\"\",\"\",Nährstoffabgabe!D443)","v":""},{"$f":"Nährstoffabgabe!E443","v":0},{"$f":"IF(Nährstoffabgabe!F443=\"\",\"\",Nährstoffabgabe!F443)","v":0.2},{"$f":"IF(Nährstoffabgabe!G443=\"\",\"\",Nährstoffabgabe!G443)","v":7.0000000000000007E-2},{"$f":"IF(Nährstoffabgabe!H443=\"\",\"\",Nährstoffabgabe!H443)","v":0.63},{"$f":"IF(Nährstoffabgabe!I443=\"\",\"\",Nährstoffabgabe!I443)","v":0.05},{"$f":"IF(Nährstoffabgabe!J443=\"\",\"\",Nährstoffabgabe!J443)","v":0},{"$f":"IF(Nährstoffabgabe!K443=\"\",\"\",Nährstoffabgabe!K443)","v":0},{"$f":"IF(Nährstoffabgabe!L443=\"\",\"\",Nährstoffabgabe!L443)","v":0},{"$f":"IF(Nährstoffabgabe!M443=\"\",\"\",Nährstoffabgabe!M443)","v":0}]
[{"$f":"IF(Nährstoffabgabe!A444=\"\",\"\",Nährstoffabgabe!A444)","v":"Johanniskraut, Blühendes Kraut"},{"$f":"IF(Nährstoffabgabe!B444=\"\",\"\",Nährstoffabgabe!B444)","v":200},{"$f":"IF(Nährstoffabgabe!C444=\"\",\"\",Nährstoffabgabe!C444)","v":""},{"$f":"IF(Nährstoffabgabe!D444=\"\",\"\",Nährstoffabgabe!D444)","v":""},{"$f":"Nährstoffabgabe!E444","v":0},{"$f":"IF(Nährstoffabgabe!F444=\"\",\"\",Nährstoffabgabe!F444)","v":0.53},{"$f":"IF(Nährstoffabgabe!G444=\"\",\"\",Nährstoffabgabe!G444)","v":0.2},{"$f":"IF(Nährstoffabgabe!H444=\"\",\"\",Nährstoffabgabe!H444)","v":0.6},{"$f":"IF(Nährstoffabgabe!I444=\"\",\"\",Nährstoffabgabe!I444)","v":7.0000000000000007E-2},{"$f":"IF(Nährstoffabgabe!J444=\"\",\"\",Nährstoffabgabe!J444)","v":0},{"$f":"IF(Nährstoffabgabe!K444=\"\",\"\",Nährstoffabgabe!K444)","v":0},{"$f":"IF(Nährstoffabgabe!L444=\"\",\"\",Nährstoffabgabe!L444)","v":0},{"$f":"IF(Nährstoffabgabe!M444=\"\",\"\",Nährstoffabgabe!M444)","v":0}]
[{"$f":"IF(Nährstoffabgabe!A445=\"\",\"\",Nährstoffabgabe!A445)","v":"Kamille, Blühhorizont + Kraut"},{"$f":"IF(Nährstoffabgabe!B445=\"\",\"\",Nährstoffabgabe!B445)","v":45},{"$f":"IF(Nährstoffabgabe!C445=\"\",\"\",Nährstoffabgabe!C445)","v":""},{"$f":"IF(Nährstoffabgabe!D445=\"\",\"\",Nährstoffabgabe!D445)","v":""},{"$f":"Nährstoffabgabe!E445","v":0},{"$f":"IF(Nährstoffabgabe!F445=\"\",\"\",Nährstoffabgabe!F445)","v":0.76666666666666672},{"$f":"IF(Nährstoffabgabe!G445=\"\",\"\",Nährstoffabgabe!G445)","v":0.32999999999999996},{"$f":"IF(Nährstoffabgabe!H445=\"\",\"\",Nährstoffabgabe!H445)","v":1.2466666666666666},{"$f":"IF(Nährstoffabgabe!I445=\"\",\"\",Nährstoffabgabe!I445)","v":2.3333333333333334E-2},{"$f":"IF(Nährstoffabgabe!J445=\"\",\"\",Nährstoffabgabe!J445)","v":0},{"$f":"IF(Nährstoffabgabe!K445=\"\",\"\",Nährstoffabgabe!K445)","v":0},{"$f":"IF(Nährstoffabgabe!L445=\"\",\"\",Nährstoffabgabe!L445)","v":0},{"$f":"IF(Nährstoffabgabe!M445=\"\",\"\",Nährstoffabgabe!M445)","v":0}]
[{"$f":"IF(Nährstoffabgabe!A446=\"\",\"\",Nährstoffabgabe!A446)","v":"Kamille, Blühhorizont"},{"$f":"IF(Nährstoffabgabe!B446=\"\",\"\",Nährstoffabgabe!B446)","v":45},{"$f":"IF(Nährstoffabgabe!C446=\"\",\"\",Nährstoffabgabe!C446)","v":""},{"$f":"IF(Nährstoffabgabe!D446=\"\",\"\",Nährstoffabgabe!D446)","v":""},{"$f":"Nährstoffabgabe!E446","v":0},{"$f":"IF(Nährstoffabgabe!F446=\"\",\"\",Nährstoffabgabe!F446)","v":0.42},{"$f":"IF(Nährstoffabgabe!G446=\"\",\"\",Nährstoffabgabe!G446)","v":0.21},{"$f":"IF(Nährstoffabgabe!H446=\"\",\"\",Nährstoffabgabe!H446)","v":0.54},{"$f":"IF(Nährstoffabgabe!I446=\"\",\"\",Nährstoffabgabe!I446)","v":0.01},{"$f":"IF(Nährstoffabgabe!J446=\"\",\"\",Nährstoffabgabe!J446)","v":0},{"$f":"IF(Nährstoffabgabe!K446=\"\",\"\",Nährstoffabgabe!K446)","v":0},{"$f":"IF(Nährstoffabgabe!L446=\"\",\"\",Nährstoffabgabe!L446)","v":0},{"$f":"IF(Nährstoffabgabe!M446=\"\",\"\",Nährstoffabgabe!M446)","v":0}]
[{"$f":"IF(Nährstoffabgabe!A447=\"\",\"\",Nährstoffabgabe!A447)","v":"Kamille, Blüten + Kraut"},{"$f":"IF(Nährstoffabgabe!B447=\"\",\"\",Nährstoffabgabe!B447)","v":20},{"$f":"IF(Nährstoffabgabe!C447=\"\",\"\",Nährstoffabgabe!C447)","v":""},{"$f":"IF(Nährstoffabgabe!D447=\"\",\"\",Nährstoffabgabe!D447)","v":""},{"$f":"Nährstoffabgabe!E447","v":0},{"$f":"IF(Nährstoffabgabe!F447=\"\",\"\",Nährstoffabgabe!F447)","v":1.2},{"$f":"IF(Nährstoffabgabe!G447=\"\",\"\",Nährstoffabgabe!G447)","v":0.48},{"$f":"IF(Nährstoffabgabe!H447=\"\",\"\",Nährstoffabgabe!H447)","v":2.13},{"$f":"IF(Nährstoffabgabe!I447=\"\",\"\",Nährstoffabgabe!I447)","v":0.14000000000000001},{"$f":"IF(Nährstoffabgabe!J447=\"\",\"\",Nährstoffabgabe!J447)","v":0},{"$f":"IF(Nährstoffabgabe!K447=\"\",\"\",Nährstoffabgabe!K447)","v":0},{"$f":"IF(Nährstoffabgabe!L447=\"\",\"\",Nährstoffabgabe!L447)","v":0},{"$f":"IF(Nährstoffabgabe!M447=\"\",\"\",Nährstoffabgabe!M447)","v":0}]
[{"$f":"IF(Nährstoffabgabe!A448=\"\",\"\",Nährstoffabgabe!A448)","v":"Kamille, Blüten"},{"$f":"IF(Nährstoffabgabe!B448=\"\",\"\",Nährstoffabgabe!B448)","v":20},{"$f":"IF(Nährstoffabgabe!C448=\"\",\"\",Nährstoffabgabe!C448)","v":""},{"$f":"IF(Nährstoffabgabe!D448=\"\",\"\",Nährstoffabgabe!D448)","v":""},{"$f":"Nährstoffabgabe!E448","v":0},{"$f":"IF(Nährstoffabgabe!F448=\"\",\"\",Nährstoffabgabe!F448)","v":0.42},{"$f":"IF(Nährstoffabgabe!G448=\"\",\"\",Nährstoffabgabe!G448)","v":0.21},{"$f":"IF(Nährstoffabgabe!H448=\"\",\"\",Nährstoffabgabe!H448)","v":0.54},{"$f":"IF(Nährstoffabgabe!I448=\"\",\"\",Nährstoffabgabe!I448)","v":0.11},{"$f":"IF(Nährstoffabgabe!J448=\"\",\"\",Nährstoffabgabe!J448)","v":0},{"$f":"IF(Nährstoffabgabe!K448=\"\",\"\",Nährstoffabgabe!K448)","v":0},{"$f":"IF(Nährstoffabgabe!L448=\"\",\"\",Nährstoffabgabe!L448)","v":0},{"$f":"IF(Nährstoffabgabe!M448=\"\",\"\",Nährstoffabgabe!M448)","v":0}]
[{"$f":"IF(Nährstoffabgabe!A449=\"\",\"\",Nährstoffabgabe!A449)","v":"Kapuzinerkresse, blühendes Kraut"},{"$f":"IF(Nährstoffabgabe!B449=\"\",\"\",Nährstoffabgabe!B449)","v":185},{"$f":"IF(Nährstoffabgabe!C449=\"\",\"\",Nährstoffabgabe!C449)","v":""},{"$f":"IF(Nährstoffabgabe!D449=\"\",\"\",Nährstoffabgabe!D449)","v":""},{"$f":"Nährstoffabgabe!E449","v":0},{"$f":"IF(Nährstoffabgabe!F449=\"\",\"\",Nährstoffabgabe!F449)","v":0.51},{"$f":"IF(Nährstoffabgabe!G449=\"\",\"\",Nährstoffabgabe!G449)","v":0.16},{"$f":"IF(Nährstoffabgabe!H449=\"\",\"\",Nährstoffabgabe!H449)","v":0.7},{"$f":"IF(Nährstoffabgabe!I449=\"\",\"\",Nährstoffabgabe!I449)","v":0.14000000000000001},{"$f":"IF(Nährstoffabgabe!J449=\"\",\"\",Nährstoffabgabe!J449)","v":0},{"$f":"IF(Nährstoffabgabe!K449=\"\",\"\",Nährstoffabgabe!K449)","v":0},{"$f":"IF(Nährstoffabgabe!L449=\"\",\"\",Nährstoffabgabe!L449)","v":0},{"$f":"IF(Nährstoffabgabe!M449=\"\",\"\",Nährstoffabgabe!M449)","v":0}]
[{"$f":"IF(Nährstoffabgabe!A450=\"\",\"\",Nährstoffabgabe!A450)","v":"Karde, Wilde, Wurzel"},{"$f":"IF(Nährstoffabgabe!B450=\"\",\"\",Nährstoffabgabe!B450)","v":200},{"$f":"IF(Nährstoffabgabe!C450=\"\",\"\",Nährstoffabgabe!C450)","v":""},{"$f":"IF(Nährstoffabgabe!D450=\"\",\"\",Nährstoffabgabe!D450)","v":""},{"$f":"Nährstoffabgabe!E450","v":0},{"$f":"IF(Nährstoffabgabe!F450=\"\",\"\",Nährstoffabgabe!F450)","v":0.57999999999999996},{"$f":"IF(Nährstoffabgabe!G450=\"\",\"\",Nährstoffabgabe!G450)","v":0.14000000000000001},{"$f":"IF(Nährstoffabgabe!H450=\"\",\"\",Nährstoffabgabe!H450)","v":0.49},{"$f":"IF(Nährstoffabgabe!I450=\"\",\"\",Nährstoffabgabe!I450)","v":0.08},{"$f":"IF(Nährstoffabgabe!J450=\"\",\"\",Nährstoffabgabe!J450)","v":0},{"$f":"IF(Nährstoffabgabe!K450=\"\",\"\",Nährstoffabgabe!K450)","v":0},{"$f":"IF(Nährstoffabgabe!L450=\"\",\"\",Nährstoffabgabe!L450)","v":0},{"$f":"IF(Nährstoffabgabe!M450=\"\",\"\",Nährstoffabgabe!M450)","v":0}]
[{"$f":"IF(Nährstoffabgabe!A451=\"\",\"\",Nährstoffabgabe!A451)","v":"Kerbel, Kraut"},{"$f":"IF(Nährstoffabgabe!B451=\"\",\"\",Nährstoffabgabe!B451)","v":190},{"$f":"IF(Nährstoffabgabe!C451=\"\",\"\",Nährstoffabgabe!C451)","v":""},{"$f":"IF(Nährstoffabgabe!D451=\"\",\"\",Nährstoffabgabe!D451)","v":""},{"$f":"Nährstoffabgabe!E451","v":0},{"$f":"IF(Nährstoffabgabe!F451=\"\",\"\",Nährstoffabgabe!F451)","v":0.41},{"$f":"IF(Nährstoffabgabe!G451=\"\",\"\",Nährstoffabgabe!G451)","v":0.1},{"$f":"IF(Nährstoffabgabe!H451=\"\",\"\",Nährstoffabgabe!H451)","v":0.7},{"$f":"IF(Nährstoffabgabe!I451=\"\",\"\",Nährstoffabgabe!I451)","v":0.04},{"$f":"IF(Nährstoffabgabe!J451=\"\",\"\",Nährstoffabgabe!J451)","v":0},{"$f":"IF(Nährstoffabgabe!K451=\"\",\"\",Nährstoffabgabe!K451)","v":0},{"$f":"IF(Nährstoffabgabe!L451=\"\",\"\",Nährstoffabgabe!L451)","v":0},{"$f":"IF(Nährstoffabgabe!M451=\"\",\"\",Nährstoffabgabe!M451)","v":0}]
[{"$f":"IF(Nährstoffabgabe!A452=\"\",\"\",Nährstoffabgabe!A452)","v":"Knoblauch, Zwiebel ganz + Kraut"},{"$f":"IF(Nährstoffabgabe!B452=\"\",\"\",Nährstoffabgabe!B452)","v":80},{"$f":"IF(Nährstoffabgabe!C452=\"\",\"\",Nährstoffabgabe!C452)","v":""},{"$f":"IF(Nährstoffabgabe!D452=\"\",\"\",Nährstoffabgabe!D452)","v":""},{"$f":"Nährstoffabgabe!E452","v":0},{"$f":"IF(Nährstoffabgabe!F452=\"\",\"\",Nährstoffabgabe!F452)","v":0.78},{"$f":"IF(Nährstoffabgabe!G452=\"\",\"\",Nährstoffabgabe!G452)","v":0.28250000000000003},{"$f":"IF(Nährstoffabgabe!H452=\"\",\"\",Nährstoffabgabe!H452)","v":0.9375},{"$f":"IF(Nährstoffabgabe!I452=\"\",\"\",Nährstoffabgabe!I452)","v":0.10500000000000001},{"$f":"IF(Nährstoffabgabe!J452=\"\",\"\",Nährstoffabgabe!J452)","v":0},{"$f":"IF(Nährstoffabgabe!K452=\"\",\"\",Nährstoffabgabe!K452)","v":0},{"$f":"IF(Nährstoffabgabe!L452=\"\",\"\",Nährstoffabgabe!L452)","v":0},{"$f":"IF(Nährstoffabgabe!M452=\"\",\"\",Nährstoffabgabe!M452)","v":0}]
[{"$f":"IF(Nährstoffabgabe!A453=\"\",\"\",Nährstoffabgabe!A453)","v":"Knoblauch, Zwiebel ganz"},{"$f":"IF(Nährstoffabgabe!B453=\"\",\"\",Nährstoffabgabe!B453)","v":80},{"$f":"IF(Nährstoffabgabe!C453=\"\",\"\",Nährstoffabgabe!C453)","v":""},{"$f":"IF(Nährstoffabgabe!D453=\"\",\"\",Nährstoffabgabe!D453)","v":""},{"$f":"Nährstoffabgabe!E453","v":0},{"$f":"IF(Nährstoffabgabe!F453=\"\",\"\",Nährstoffabgabe!F453)","v":0.48},{"$f":"IF(Nährstoffabgabe!G453=\"\",\"\",Nährstoffabgabe!G453)","v":0.17},{"$f":"IF(Nährstoffabgabe!H453=\"\",\"\",Nährstoffabgabe!H453)","v":0.35},{"$f":"IF(Nährstoffabgabe!I453=\"\",\"\",Nährstoffabgabe!I453)","v":0.03},{"$f":"IF(Nährstoffabgabe!J453=\"\",\"\",Nährstoffabgabe!J453)","v":0},{"$f":"IF(Nährstoffabgabe!K453=\"\",\"\",Nährstoffabgabe!K453)","v":0},{"$f":"IF(Nährstoffabgabe!L453=\"\",\"\",Nährstoffabgabe!L453)","v":0},{"$f":"IF(Nährstoffabgabe!M453=\"\",\"\",Nährstoffabgabe!M453)","v":0}]
[{"$f":"IF(Nährstoffabgabe!A454=\"\",\"\",Nährstoffabgabe!A454)","v":"Koriander, Kraut"},{"$f":"IF(Nährstoffabgabe!B454=\"\",\"\",Nährstoffabgabe!B454)","v":120},{"$f":"IF(Nährstoffabgabe!C454=\"\",\"\",Nährstoffabgabe!C454)","v":""},{"$f":"IF(Nährstoffabgabe!D454=\"\",\"\",Nährstoffabgabe!D454)","v":""},{"$f":"Nährstoffabgabe!E454","v":0},{"$f":"IF(Nährstoffabgabe!F454=\"\",\"\",Nährstoffabgabe!F454)","v":0.51},{"$f":"IF(Nährstoffabgabe!G454=\"\",\"\",Nährstoffabgabe!G454)","v":0.14000000000000001},{"$f":"IF(Nährstoffabgabe!H454=\"\",\"\",Nährstoffabgabe!H454)","v":0.82},{"$f":"IF(Nährstoffabgabe!I454=\"\",\"\",Nährstoffabgabe!I454)","v":0.08},{"$f":"IF(Nährstoffabgabe!J454=\"\",\"\",Nährstoffabgabe!J454)","v":0},{"$f":"IF(Nährstoffabgabe!K454=\"\",\"\",Nährstoffabgabe!K454)","v":0},{"$f":"IF(Nährstoffabgabe!L454=\"\",\"\",Nährstoffabgabe!L454)","v":0},{"$f":"IF(Nährstoffabgabe!M454=\"\",\"\",Nährstoffabgabe!M454)","v":0}]
[{"$f":"IF(Nährstoffabgabe!A455=\"\",\"\",Nährstoffabgabe!A455)","v":"Koriander, Samen + Stroh"},{"$f":"IF(Nährstoffabgabe!B455=\"\",\"\",Nährstoffabgabe!B455)","v":20},{"$f":"IF(Nährstoffabgabe!C455=\"\",\"\",Nährstoffabgabe!C455)","v":""},{"$f":"IF(Nährstoffabgabe!D455=\"\",\"\",Nährstoffabgabe!D455)","v":""},{"$f":"Nährstoffabgabe!E455","v":0},{"$f":"IF(Nährstoffabgabe!F455=\"\",\"\",Nährstoffabgabe!F455)","v":2.93},{"$f":"IF(Nährstoffabgabe!G455=\"\",\"\",Nährstoffabgabe!G455)","v":2.15},{"$f":"IF(Nährstoffabgabe!H455=\"\",\"\",Nährstoffabgabe!H455)","v":6.8},{"$f":"IF(Nährstoffabgabe!I455=\"\",\"\",Nährstoffabgabe!I455)","v":0.78},{"$f":"IF(Nährstoffabgabe!J455=\"\",\"\",Nährstoffabgabe!J455)","v":0},{"$f":"IF(Nährstoffabgabe!K455=\"\",\"\",Nährstoffabgabe!K455)","v":0},{"$f":"IF(Nährstoffabgabe!L455=\"\",\"\",Nährstoffabgabe!L455)","v":0},{"$f":"IF(Nährstoffabgabe!M455=\"\",\"\",Nährstoffabgabe!M455)","v":0}]
[{"$f":"IF(Nährstoffabgabe!A456=\"\",\"\",Nährstoffabgabe!A456)","v":"Koriander, Samen"},{"$f":"IF(Nährstoffabgabe!B456=\"\",\"\",Nährstoffabgabe!B456)","v":20},{"$f":"IF(Nährstoffabgabe!C456=\"\",\"\",Nährstoffabgabe!C456)","v":""},{"$f":"IF(Nährstoffabgabe!D456=\"\",\"\",Nährstoffabgabe!D456)","v":""},{"$f":"Nährstoffabgabe!E456","v":0},{"$f":"IF(Nährstoffabgabe!F456=\"\",\"\",Nährstoffabgabe!F456)","v":1.93},{"$f":"IF(Nährstoffabgabe!G456=\"\",\"\",Nährstoffabgabe!G456)","v":1.1000000000000001},{"$f":"IF(Nährstoffabgabe!H456=\"\",\"\",Nährstoffabgabe!H456)","v":1.55},{"$f":"IF(Nährstoffabgabe!I456=\"\",\"\",Nährstoffabgabe!I456)","v":0.38},{"$f":"IF(Nährstoffabgabe!J456=\"\",\"\",Nährstoffabgabe!J456)","v":0},{"$f":"IF(Nährstoffabgabe!K456=\"\",\"\",Nährstoffabgabe!K456)","v":0},{"$f":"IF(Nährstoffabgabe!L456=\"\",\"\",Nährstoffabgabe!L456)","v":0},{"$f":"IF(Nährstoffabgabe!M456=\"\",\"\",Nährstoffabgabe!M456)","v":0}]
[{"$f":"IF(Nährstoffabgabe!A457=\"\",\"\",Nährstoffabgabe!A457)","v":"Kornblume, Blühendes Kraut"},{"$f":"IF(Nährstoffabgabe!B457=\"\",\"\",Nährstoffabgabe!B457)","v":200},{"$f":"IF(Nährstoffabgabe!C457=\"\",\"\",Nährstoffabgabe!C457)","v":""},{"$f":"IF(Nährstoffabgabe!D457=\"\",\"\",Nährstoffabgabe!D457)","v":""},{"$f":"Nährstoffabgabe!E457","v":0},{"$f":"IF(Nährstoffabgabe!F457=\"\",\"\",Nährstoffabgabe!F457)","v":0.37},{"$f":"IF(Nährstoffabgabe!G457=\"\",\"\",Nährstoffabgabe!G457)","v":0.1},{"$f":"IF(Nährstoffabgabe!H457=\"\",\"\",Nährstoffabgabe!H457)","v":0.63},{"$f":"IF(Nährstoffabgabe!I457=\"\",\"\",Nährstoffabgabe!I457)","v":0.05},{"$f":"IF(Nährstoffabgabe!J457=\"\",\"\",Nährstoffabgabe!J457)","v":0},{"$f":"IF(Nährstoffabgabe!K457=\"\",\"\",Nährstoffabgabe!K457)","v":0},{"$f":"IF(Nährstoffabgabe!L457=\"\",\"\",Nährstoffabgabe!L457)","v":0},{"$f":"IF(Nährstoffabgabe!M457=\"\",\"\",Nährstoffabgabe!M457)","v":0}]
[{"$f":"IF(Nährstoffabgabe!A458=\"\",\"\",Nährstoffabgabe!A458)","v":"Kornblume, Blüte + Kraut"},{"$f":"IF(Nährstoffabgabe!B458=\"\",\"\",Nährstoffabgabe!B458)","v":70},{"$f":"IF(Nährstoffabgabe!C458=\"\",\"\",Nährstoffabgabe!C458)","v":""},{"$f":"IF(Nährstoffabgabe!D458=\"\",\"\",Nährstoffabgabe!D458)","v":""},{"$f":"Nährstoffabgabe!E458","v":0},{"$f":"IF(Nährstoffabgabe!F458=\"\",\"\",Nährstoffabgabe!F458)","v":1.74},{"$f":"IF(Nährstoffabgabe!G458=\"\",\"\",Nährstoffabgabe!G458)","v":0.32},{"$f":"IF(Nährstoffabgabe!H458=\"\",\"\",Nährstoffabgabe!H458)","v":2.1342857142857143},{"$f":"IF(Nährstoffabgabe!I458=\"\",\"\",Nährstoffabgabe!I458)","v":0.26428571428571429},{"$f":"IF(Nährstoffabgabe!J458=\"\",\"\",Nährstoffabgabe!J458)","v":0},{"$f":"IF(Nährstoffabgabe!K458=\"\",\"\",Nährstoffabgabe!K458)","v":0},{"$f":"IF(Nährstoffabgabe!L458=\"\",\"\",Nährstoffabgabe!L458)","v":0},{"$f":"IF(Nährstoffabgabe!M458=\"\",\"\",Nährstoffabgabe!M458)","v":0}]
[{"$f":"IF(Nährstoffabgabe!A459=\"\",\"\",Nährstoffabgabe!A459)","v":"Kornblume, Blüte"},{"$f":"IF(Nährstoffabgabe!B459=\"\",\"\",Nährstoffabgabe!B459)","v":70},{"$f":"IF(Nährstoffabgabe!C459=\"\",\"\",Nährstoffabgabe!C459)","v":""},{"$f":"IF(Nährstoffabgabe!D459=\"\",\"\",Nährstoffabgabe!D459)","v":""},{"$f":"Nährstoffabgabe!E459","v":0},{"$f":"IF(Nährstoffabgabe!F459=\"\",\"\",Nährstoffabgabe!F459)","v":0.44},{"$f":"IF(Nährstoffabgabe!G459=\"\",\"\",Nährstoffabgabe!G459)","v":0.19},{"$f":"IF(Nährstoffabgabe!H459=\"\",\"\",Nährstoffabgabe!H459)","v":0.5},{"$f":"IF(Nährstoffabgabe!I459=\"\",\"\",Nährstoffabgabe!I459)","v":0.06},{"$f":"IF(Nährstoffabgabe!J459=\"\",\"\",Nährstoffabgabe!J459)","v":0},{"$f":"IF(Nährstoffabgabe!K459=\"\",\"\",Nährstoffabgabe!K459)","v":0},{"$f":"IF(Nährstoffabgabe!L459=\"\",\"\",Nährstoffabgabe!L459)","v":0},{"$f":"IF(Nährstoffabgabe!M459=\"\",\"\",Nährstoffabgabe!M459)","v":0}]
[{"$f":"IF(Nährstoffabgabe!A460=\"\",\"\",Nährstoffabgabe!A460)","v":"Kuhschelle, Wiesen, Ganzpflanze"},{"$f":"IF(Nährstoffabgabe!B460=\"\",\"\",Nährstoffabgabe!B460)","v":95},{"$f":"IF(Nährstoffabgabe!C460=\"\",\"\",Nährstoffabgabe!C460)","v":""},{"$f":"IF(Nährstoffabgabe!D460=\"\",\"\",Nährstoffabgabe!D460)","v":""},{"$f":"Nährstoffabgabe!E460","v":0},{"$f":"IF(Nährstoffabgabe!F460=\"\",\"\",Nährstoffabgabe!F460)","v":0.22},{"$f":"IF(Nährstoffabgabe!G460=\"\",\"\",Nährstoffabgabe!G460)","v":0.12},{"$f":"IF(Nährstoffabgabe!H460=\"\",\"\",Nährstoffabgabe!H460)","v":0.41},{"$f":"IF(Nährstoffabgabe!I460=\"\",\"\",Nährstoffabgabe!I460)","v":0.1},{"$f":"IF(Nährstoffabgabe!J460=\"\",\"\",Nährstoffabgabe!J460)","v":0},{"$f":"IF(Nährstoffabgabe!K460=\"\",\"\",Nährstoffabgabe!K460)","v":0},{"$f":"IF(Nährstoffabgabe!L460=\"\",\"\",Nährstoffabgabe!L460)","v":0},{"$f":"IF(Nährstoffabgabe!M460=\"\",\"\",Nährstoffabgabe!M460)","v":0}]
[{"$f":"IF(Nährstoffabgabe!A461=\"\",\"\",Nährstoffabgabe!A461)","v":"Kuhschelle, Wiesen, Kraut"},{"$f":"IF(Nährstoffabgabe!B461=\"\",\"\",Nährstoffabgabe!B461)","v":25},{"$f":"IF(Nährstoffabgabe!C461=\"\",\"\",Nährstoffabgabe!C461)","v":""},{"$f":"IF(Nährstoffabgabe!D461=\"\",\"\",Nährstoffabgabe!D461)","v":""},{"$f":"Nährstoffabgabe!E461","v":0},{"$f":"IF(Nährstoffabgabe!F461=\"\",\"\",Nährstoffabgabe!F461)","v":0.46},{"$f":"IF(Nährstoffabgabe!G461=\"\",\"\",Nährstoffabgabe!G461)","v":0.22},{"$f":"IF(Nährstoffabgabe!H461=\"\",\"\",Nährstoffabgabe!H461)","v":0.63},{"$f":"IF(Nährstoffabgabe!I461=\"\",\"\",Nährstoffabgabe!I461)","v":0.09},{"$f":"IF(Nährstoffabgabe!J461=\"\",\"\",Nährstoffabgabe!J461)","v":0},{"$f":"IF(Nährstoffabgabe!K461=\"\",\"\",Nährstoffabgabe!K461)","v":0},{"$f":"IF(Nährstoffabgabe!L461=\"\",\"\",Nährstoffabgabe!L461)","v":0},{"$f":"IF(Nährstoffabgabe!M461=\"\",\"\",Nährstoffabgabe!M461)","v":0}]
[{"$f":"IF(Nährstoffabgabe!A462=\"\",\"\",Nährstoffabgabe!A462)","v":"Kümmel, einjährig, Frucht + Stroh"},{"$f":"IF(Nährstoffabgabe!B462=\"\",\"\",Nährstoffabgabe!B462)","v":20},{"$f":"IF(Nährstoffabgabe!C462=\"\",\"\",Nährstoffabgabe!C462)","v":""},{"$f":"IF(Nährstoffabgabe!D462=\"\",\"\",Nährstoffabgabe!D462)","v":""},{"$f":"Nährstoffabgabe!E462","v":0},{"$f":"IF(Nährstoffabgabe!F462=\"\",\"\",Nährstoffabgabe!F462)","v":4.375},{"$f":"IF(Nährstoffabgabe!G462=\"\",\"\",Nährstoffabgabe!G462)","v":2.7249999999999996},{"$f":"IF(Nährstoffabgabe!H462=\"\",\"\",Nährstoffabgabe!H462)","v":9.4250000000000007},{"$f":"IF(Nährstoffabgabe!I462=\"\",\"\",Nährstoffabgabe!I462)","v":0.98},{"$f":"IF(Nährstoffabgabe!J462=\"\",\"\",Nährstoffabgabe!J462)","v":0},{"$f":"IF(Nährstoffabgabe!K462=\"\",\"\",Nährstoffabgabe!K462)","v":0},{"$f":"IF(Nährstoffabgabe!L462=\"\",\"\",Nährstoffabgabe!L462)","v":0},{"$f":"IF(Nährstoffabgabe!M462=\"\",\"\",Nährstoffabgabe!M462)","v":0}]
[{"$f":"IF(Nährstoffabgabe!A463=\"\",\"\",Nährstoffabgabe!A463)","v":"Kümmel, einjährig, Frucht"},{"$f":"IF(Nährstoffabgabe!B463=\"\",\"\",Nährstoffabgabe!B463)","v":20},{"$f":"IF(Nährstoffabgabe!C463=\"\",\"\",Nährstoffabgabe!C463)","v":""},{"$f":"IF(Nährstoffabgabe!D463=\"\",\"\",Nährstoffabgabe!D463)","v":""},{"$f":"Nährstoffabgabe!E463","v":0},{"$f":"IF(Nährstoffabgabe!F463=\"\",\"\",Nährstoffabgabe!F463)","v":2.65},{"$f":"IF(Nährstoffabgabe!G463=\"\",\"\",Nährstoffabgabe!G463)","v":1.1499999999999999},{"$f":"IF(Nährstoffabgabe!H463=\"\",\"\",Nährstoffabgabe!H463)","v":1.55},{"$f":"IF(Nährstoffabgabe!I463=\"\",\"\",Nährstoffabgabe!I463)","v":0.38},{"$f":"IF(Nährstoffabgabe!J463=\"\",\"\",Nährstoffabgabe!J463)","v":0},{"$f":"IF(Nährstoffabgabe!K463=\"\",\"\",Nährstoffabgabe!K463)","v":0},{"$f":"IF(Nährstoffabgabe!L463=\"\",\"\",Nährstoffabgabe!L463)","v":0},{"$f":"IF(Nährstoffabgabe!M463=\"\",\"\",Nährstoffabgabe!M463)","v":0}]
[{"$f":"IF(Nährstoffabgabe!A464=\"\",\"\",Nährstoffabgabe!A464)","v":"Kümmel, zweijährig, Erntejahr, Frucht + Stroh"},{"$f":"IF(Nährstoffabgabe!B464=\"\",\"\",Nährstoffabgabe!B464)","v":23},{"$f":"IF(Nährstoffabgabe!C464=\"\",\"\",Nährstoffabgabe!C464)","v":""},{"$f":"IF(Nährstoffabgabe!D464=\"\",\"\",Nährstoffabgabe!D464)","v":""},{"$f":"Nährstoffabgabe!E464","v":0},{"$f":"IF(Nährstoffabgabe!F464=\"\",\"\",Nährstoffabgabe!F464)","v":4.3499999999999996},{"$f":"IF(Nährstoffabgabe!G464=\"\",\"\",Nährstoffabgabe!G464)","v":2.7021739130434779},{"$f":"IF(Nährstoffabgabe!H464=\"\",\"\",Nährstoffabgabe!H464)","v":9.3108695652173914},{"$f":"IF(Nährstoffabgabe!I464=\"\",\"\",Nährstoffabgabe!I464)","v":0.97130434782608699},{"$f":"IF(Nährstoffabgabe!J464=\"\",\"\",Nährstoffabgabe!J464)","v":0},{"$f":"IF(Nährstoffabgabe!K464=\"\",\"\",Nährstoffabgabe!K464)","v":0},{"$f":"IF(Nährstoffabgabe!L464=\"\",\"\",Nährstoffabgabe!L464)","v":0},{"$f":"IF(Nährstoffabgabe!M464=\"\",\"\",Nährstoffabgabe!M464)","v":0}]
[{"$f":"IF(Nährstoffabgabe!A465=\"\",\"\",Nährstoffabgabe!A465)","v":"Kümmel, zweijährig, Erntejahr, Frucht"},{"$f":"IF(Nährstoffabgabe!B465=\"\",\"\",Nährstoffabgabe!B465)","v":23},{"$f":"IF(Nährstoffabgabe!C465=\"\",\"\",Nährstoffabgabe!C465)","v":""},{"$f":"IF(Nährstoffabgabe!D465=\"\",\"\",Nährstoffabgabe!D465)","v":""},{"$f":"Nährstoffabgabe!E465","v":0},{"$f":"IF(Nährstoffabgabe!F465=\"\",\"\",Nährstoffabgabe!F465)","v":2.65},{"$f":"IF(Nährstoffabgabe!G465=\"\",\"\",Nährstoffabgabe!G465)","v":1.1499999999999999},{"$f":"IF(Nährstoffabgabe!H465=\"\",\"\",Nährstoffabgabe!H465)","v":1.55},{"$f":"IF(Nährstoffabgabe!I465=\"\",\"\",Nährstoffabgabe!I465)","v":0.38},{"$f":"IF(Nährstoffabgabe!J465=\"\",\"\",Nährstoffabgabe!J465)","v":0},{"$f":"IF(Nährstoffabgabe!K465=\"\",\"\",Nährstoffabgabe!K465)","v":0},{"$f":"IF(Nährstoffabgabe!L465=\"\",\"\",Nährstoffabgabe!L465)","v":0},{"$f":"IF(Nährstoffabgabe!M465=\"\",\"\",Nährstoffabgabe!M465)","v":0}]
[{"$f":"IF(Nährstoffabgabe!A466=\"\",\"\",Nährstoffabgabe!A466)","v":"Kümmel, zweijährig, ohne Ernte"},{"$f":"IF(Nährstoffabgabe!B466=\"\",\"\",Nährstoffabgabe!B466)","v":0},{"$f":"IF(Nährstoffabgabe!C466=\"\",\"\",Nährstoffabgabe!C466)","v":""},{"$f":"IF(Nährstoffabgabe!D466=\"\",\"\",Nährstoffabgabe!D466)","v":""},{"$f":"Nährstoffabgabe!E466","v":0},{"$f":"IF(Nährstoffabgabe!F466=\"\",\"\",Nährstoffabgabe!F466)","v":2.65},{"$f":"IF(Nährstoffabgabe!G466=\"\",\"\",Nährstoffabgabe!G466)","v":1.1499999999999999},{"$f":"IF(Nährstoffabgabe!H466=\"\",\"\",Nährstoffabgabe!H466)","v":0.55000000000000004},{"$f":"IF(Nährstoffabgabe!I466=\"\",\"\",Nährstoffabgabe!I466)","v":0.38},{"$f":"IF(Nährstoffabgabe!J466=\"\",\"\",Nährstoffabgabe!J466)","v":0},{"$f":"IF(Nährstoffabgabe!K466=\"\",\"\",Nährstoffabgabe!K466)","v":0},{"$f":"IF(Nährstoffabgabe!L466=\"\",\"\",Nährstoffabgabe!L466)","v":0},{"$f":"IF(Nährstoffabgabe!M466=\"\",\"\",Nährstoffabgabe!M466)","v":0}]
[{"$f":"IF(Nährstoffabgabe!A467=\"\",\"\",Nährstoffabgabe!A467)","v":"Lavendel, Blütenähre"},{"$f":"IF(Nährstoffabgabe!B467=\"\",\"\",Nährstoffabgabe!B467)","v":25},{"$f":"IF(Nährstoffabgabe!C467=\"\",\"\",Nährstoffabgabe!C467)","v":""},{"$f":"IF(Nährstoffabgabe!D467=\"\",\"\",Nährstoffabgabe!D467)","v":""},{"$f":"Nährstoffabgabe!E467","v":0},{"$f":"IF(Nährstoffabgabe!F467=\"\",\"\",Nährstoffabgabe!F467)","v":0.51},{"$f":"IF(Nährstoffabgabe!G467=\"\",\"\",Nährstoffabgabe!G467)","v":0.13},{"$f":"IF(Nährstoffabgabe!H467=\"\",\"\",Nährstoffabgabe!H467)","v":0.77},{"$f":"IF(Nährstoffabgabe!I467=\"\",\"\",Nährstoffabgabe!I467)","v":0.15},{"$f":"IF(Nährstoffabgabe!J467=\"\",\"\",Nährstoffabgabe!J467)","v":0},{"$f":"IF(Nährstoffabgabe!K467=\"\",\"\",Nährstoffabgabe!K467)","v":0},{"$f":"IF(Nährstoffabgabe!L467=\"\",\"\",Nährstoffabgabe!L467)","v":0},{"$f":"IF(Nährstoffabgabe!M467=\"\",\"\",Nährstoffabgabe!M467)","v":0}]
[{"$f":"IF(Nährstoffabgabe!A468=\"\",\"\",Nährstoffabgabe!A468)","v":"Liebstöckel, nicht blühendes Kraut"},{"$f":"IF(Nährstoffabgabe!B468=\"\",\"\",Nährstoffabgabe!B468)","v":550},{"$f":"IF(Nährstoffabgabe!C468=\"\",\"\",Nährstoffabgabe!C468)","v":""},{"$f":"IF(Nährstoffabgabe!D468=\"\",\"\",Nährstoffabgabe!D468)","v":""},{"$f":"Nährstoffabgabe!E468","v":0},{"$f":"IF(Nährstoffabgabe!F468=\"\",\"\",Nährstoffabgabe!F468)","v":0.37},{"$f":"IF(Nährstoffabgabe!G468=\"\",\"\",Nährstoffabgabe!G468)","v":0.11},{"$f":"IF(Nährstoffabgabe!H468=\"\",\"\",Nährstoffabgabe!H468)","v":0.5},{"$f":"IF(Nährstoffabgabe!I468=\"\",\"\",Nährstoffabgabe!I468)","v":0.06},{"$f":"IF(Nährstoffabgabe!J468=\"\",\"\",Nährstoffabgabe!J468)","v":0},{"$f":"IF(Nährstoffabgabe!K468=\"\",\"\",Nährstoffabgabe!K468)","v":0},{"$f":"IF(Nährstoffabgabe!L468=\"\",\"\",Nährstoffabgabe!L468)","v":0},{"$f":"IF(Nährstoffabgabe!M468=\"\",\"\",Nährstoffabgabe!M468)","v":0}]
[{"$f":"IF(Nährstoffabgabe!A469=\"\",\"\",Nährstoffabgabe!A469)","v":"Liebstöckel, Wurzel + Kraut"},{"$f":"IF(Nährstoffabgabe!B469=\"\",\"\",Nährstoffabgabe!B469)","v":550},{"$f":"IF(Nährstoffabgabe!C469=\"\",\"\",Nährstoffabgabe!C469)","v":""},{"$f":"IF(Nährstoffabgabe!D469=\"\",\"\",Nährstoffabgabe!D469)","v":""},{"$f":"Nährstoffabgabe!E469","v":0},{"$f":"IF(Nährstoffabgabe!F469=\"\",\"\",Nährstoffabgabe!F469)","v":1.9058333333333333},{"$f":"IF(Nährstoffabgabe!G469=\"\",\"\",Nährstoffabgabe!G469)","v":0.65416666666666667},{"$f":"IF(Nährstoffabgabe!H469=\"\",\"\",Nährstoffabgabe!H469)","v":2.5316666666666663},{"$f":"IF(Nährstoffabgabe!I469=\"\",\"\",Nährstoffabgabe!I469)","v":0.35500000000000004},{"$f":"IF(Nährstoffabgabe!J469=\"\",\"\",Nährstoffabgabe!J469)","v":0},{"$f":"IF(Nährstoffabgabe!K469=\"\",\"\",Nährstoffabgabe!K469)","v":0},{"$f":"IF(Nährstoffabgabe!L469=\"\",\"\",Nährstoffabgabe!L469)","v":0},{"$f":"IF(Nährstoffabgabe!M469=\"\",\"\",Nährstoffabgabe!M469)","v":0}]
[{"$f":"IF(Nährstoffabgabe!A470=\"\",\"\",Nährstoffabgabe!A470)","v":"Liebstöckel, Wurzel"},{"$f":"IF(Nährstoffabgabe!B470=\"\",\"\",Nährstoffabgabe!B470)","v":120},{"$f":"IF(Nährstoffabgabe!C470=\"\",\"\",Nährstoffabgabe!C470)","v":""},{"$f":"IF(Nährstoffabgabe!D470=\"\",\"\",Nährstoffabgabe!D470)","v":""},{"$f":"Nährstoffabgabe!E470","v":0},{"$f":"IF(Nährstoffabgabe!F470=\"\",\"\",Nährstoffabgabe!F470)","v":0.21},{"$f":"IF(Nährstoffabgabe!G470=\"\",\"\",Nährstoffabgabe!G470)","v":0.15},{"$f":"IF(Nährstoffabgabe!H470=\"\",\"\",Nährstoffabgabe!H470)","v":0.24},{"$f":"IF(Nährstoffabgabe!I470=\"\",\"\",Nährstoffabgabe!I470)","v":0.08},{"$f":"IF(Nährstoffabgabe!J470=\"\",\"\",Nährstoffabgabe!J470)","v":0},{"$f":"IF(Nährstoffabgabe!K470=\"\",\"\",Nährstoffabgabe!K470)","v":0},{"$f":"IF(Nährstoffabgabe!L470=\"\",\"\",Nährstoffabgabe!L470)","v":0},{"$f":"IF(Nährstoffabgabe!M470=\"\",\"\",Nährstoffabgabe!M470)","v":0}]
[{"$f":"IF(Nährstoffabgabe!A471=\"\",\"\",Nährstoffabgabe!A471)","v":"Löwenzahn, kaukasisch, Wurzel"},{"$f":"IF(Nährstoffabgabe!B471=\"\",\"\",Nährstoffabgabe!B471)","v":30},{"$f":"IF(Nährstoffabgabe!C471=\"\",\"\",Nährstoffabgabe!C471)","v":""},{"$f":"IF(Nährstoffabgabe!D471=\"\",\"\",Nährstoffabgabe!D471)","v":""},{"$f":"Nährstoffabgabe!E471","v":0},{"$f":"IF(Nährstoffabgabe!F471=\"\",\"\",Nährstoffabgabe!F471)","v":0.59},{"$f":"IF(Nährstoffabgabe!G471=\"\",\"\",Nährstoffabgabe!G471)","v":0.21},{"$f":"IF(Nährstoffabgabe!H471=\"\",\"\",Nährstoffabgabe!H471)","v":0.76},{"$f":"IF(Nährstoffabgabe!I471=\"\",\"\",Nährstoffabgabe!I471)","v":7.0000000000000007E-2},{"$f":"IF(Nährstoffabgabe!J471=\"\",\"\",Nährstoffabgabe!J471)","v":0},{"$f":"IF(Nährstoffabgabe!K471=\"\",\"\",Nährstoffabgabe!K471)","v":0},{"$f":"IF(Nährstoffabgabe!L471=\"\",\"\",Nährstoffabgabe!L471)","v":0},{"$f":"IF(Nährstoffabgabe!M471=\"\",\"\",Nährstoffabgabe!M471)","v":0}]
[{"$f":"IF(Nährstoffabgabe!A472=\"\",\"\",Nährstoffabgabe!A472)","v":"Löwenzahn, Kraut"},{"$f":"IF(Nährstoffabgabe!B472=\"\",\"\",Nährstoffabgabe!B472)","v":275},{"$f":"IF(Nährstoffabgabe!C472=\"\",\"\",Nährstoffabgabe!C472)","v":""},{"$f":"IF(Nährstoffabgabe!D472=\"\",\"\",Nährstoffabgabe!D472)","v":""},{"$f":"Nährstoffabgabe!E472","v":0},{"$f":"IF(Nährstoffabgabe!F472=\"\",\"\",Nährstoffabgabe!F472)","v":0.35},{"$f":"IF(Nährstoffabgabe!G472=\"\",\"\",Nährstoffabgabe!G472)","v":0.11},{"$f":"IF(Nährstoffabgabe!H472=\"\",\"\",Nährstoffabgabe!H472)","v":0.53},{"$f":"IF(Nährstoffabgabe!I472=\"\",\"\",Nährstoffabgabe!I472)","v":0.02},{"$f":"IF(Nährstoffabgabe!J472=\"\",\"\",Nährstoffabgabe!J472)","v":0},{"$f":"IF(Nährstoffabgabe!K472=\"\",\"\",Nährstoffabgabe!K472)","v":0},{"$f":"IF(Nährstoffabgabe!L472=\"\",\"\",Nährstoffabgabe!L472)","v":0},{"$f":"IF(Nährstoffabgabe!M472=\"\",\"\",Nährstoffabgabe!M472)","v":0}]
[{"$f":"IF(Nährstoffabgabe!A473=\"\",\"\",Nährstoffabgabe!A473)","v":"Mädesüß, blühendes Kraut"},{"$f":"IF(Nährstoffabgabe!B473=\"\",\"\",Nährstoffabgabe!B473)","v":100},{"$f":"IF(Nährstoffabgabe!C473=\"\",\"\",Nährstoffabgabe!C473)","v":""},{"$f":"IF(Nährstoffabgabe!D473=\"\",\"\",Nährstoffabgabe!D473)","v":""},{"$f":"Nährstoffabgabe!E473","v":0},{"$f":"IF(Nährstoffabgabe!F473=\"\",\"\",Nährstoffabgabe!F473)","v":0.49},{"$f":"IF(Nährstoffabgabe!G473=\"\",\"\",Nährstoffabgabe!G473)","v":0.2},{"$f":"IF(Nährstoffabgabe!H473=\"\",\"\",Nährstoffabgabe!H473)","v":0.79},{"$f":"IF(Nährstoffabgabe!I473=\"\",\"\",Nährstoffabgabe!I473)","v":0.21},{"$f":"IF(Nährstoffabgabe!J473=\"\",\"\",Nährstoffabgabe!J473)","v":0},{"$f":"IF(Nährstoffabgabe!K473=\"\",\"\",Nährstoffabgabe!K473)","v":0},{"$f":"IF(Nährstoffabgabe!L473=\"\",\"\",Nährstoffabgabe!L473)","v":0},{"$f":"IF(Nährstoffabgabe!M473=\"\",\"\",Nährstoffabgabe!M473)","v":0}]
[{"$f":"IF(Nährstoffabgabe!A474=\"\",\"\",Nährstoffabgabe!A474)","v":"Majoran, Kraut Blühbeginn"},{"$f":"IF(Nährstoffabgabe!B474=\"\",\"\",Nährstoffabgabe!B474)","v":200},{"$f":"IF(Nährstoffabgabe!C474=\"\",\"\",Nährstoffabgabe!C474)","v":""},{"$f":"IF(Nährstoffabgabe!D474=\"\",\"\",Nährstoffabgabe!D474)","v":""},{"$f":"Nährstoffabgabe!E474","v":0},{"$f":"IF(Nährstoffabgabe!F474=\"\",\"\",Nährstoffabgabe!F474)","v":0.48},{"$f":"IF(Nährstoffabgabe!G474=\"\",\"\",Nährstoffabgabe!G474)","v":0.14000000000000001},{"$f":"IF(Nährstoffabgabe!H474=\"\",\"\",Nährstoffabgabe!H474)","v":0.59},{"$f":"IF(Nährstoffabgabe!I474=\"\",\"\",Nährstoffabgabe!I474)","v":7.0000000000000007E-2},{"$f":"IF(Nährstoffabgabe!J474=\"\",\"\",Nährstoffabgabe!J474)","v":0},{"$f":"IF(Nährstoffabgabe!K474=\"\",\"\",Nährstoffabgabe!K474)","v":0},{"$f":"IF(Nährstoffabgabe!L474=\"\",\"\",Nährstoffabgabe!L474)","v":0},{"$f":"IF(Nährstoffabgabe!M474=\"\",\"\",Nährstoffabgabe!M474)","v":0}]
[{"$f":"IF(Nährstoffabgabe!A475=\"\",\"\",Nährstoffabgabe!A475)","v":"Malve, blaue, blühendes Kraut"},{"$f":"IF(Nährstoffabgabe!B475=\"\",\"\",Nährstoffabgabe!B475)","v":500},{"$f":"IF(Nährstoffabgabe!C475=\"\",\"\",Nährstoffabgabe!C475)","v":""},{"$f":"IF(Nährstoffabgabe!D475=\"\",\"\",Nährstoffabgabe!D475)","v":""},{"$f":"Nährstoffabgabe!E475","v":0},{"$f":"IF(Nährstoffabgabe!F475=\"\",\"\",Nährstoffabgabe!F475)","v":0.35},{"$f":"IF(Nährstoffabgabe!G475=\"\",\"\",Nährstoffabgabe!G475)","v":0.16},{"$f":"IF(Nährstoffabgabe!H475=\"\",\"\",Nährstoffabgabe!H475)","v":0.69},{"$f":"IF(Nährstoffabgabe!I475=\"\",\"\",Nährstoffabgabe!I475)","v":7.0000000000000007E-2},{"$f":"IF(Nährstoffabgabe!J475=\"\",\"\",Nährstoffabgabe!J475)","v":0},{"$f":"IF(Nährstoffabgabe!K475=\"\",\"\",Nährstoffabgabe!K475)","v":0},{"$f":"IF(Nährstoffabgabe!L475=\"\",\"\",Nährstoffabgabe!L475)","v":0},{"$f":"IF(Nährstoffabgabe!M475=\"\",\"\",Nährstoffabgabe!M475)","v":0}]
[{"$f":"IF(Nährstoffabgabe!A476=\"\",\"\",Nährstoffabgabe!A476)","v":"Malve, blaue, Blüte + Kraut"},{"$f":"IF(Nährstoffabgabe!B476=\"\",\"\",Nährstoffabgabe!B476)","v":100},{"$f":"IF(Nährstoffabgabe!C476=\"\",\"\",Nährstoffabgabe!C476)","v":""},{"$f":"IF(Nährstoffabgabe!D476=\"\",\"\",Nährstoffabgabe!D476)","v":""},{"$f":"Nährstoffabgabe!E476","v":0},{"$f":"IF(Nährstoffabgabe!F476=\"\",\"\",Nährstoffabgabe!F476)","v":1.94},{"$f":"IF(Nährstoffabgabe!G476=\"\",\"\",Nährstoffabgabe!G476)","v":0.88},{"$f":"IF(Nährstoffabgabe!H476=\"\",\"\",Nährstoffabgabe!H476)","v":3.67},{"$f":"IF(Nährstoffabgabe!I476=\"\",\"\",Nährstoffabgabe!I476)","v":0.35000000000000003},{"$f":"IF(Nährstoffabgabe!J476=\"\",\"\",Nährstoffabgabe!J476)","v":0},{"$f":"IF(Nährstoffabgabe!K476=\"\",\"\",Nährstoffabgabe!K476)","v":0},{"$f":"IF(Nährstoffabgabe!L476=\"\",\"\",Nährstoffabgabe!L476)","v":0},{"$f":"IF(Nährstoffabgabe!M476=\"\",\"\",Nährstoffabgabe!M476)","v":0},null,null,null,null," "]
[{"$f":"IF(Nährstoffabgabe!A477=\"\",\"\",Nährstoffabgabe!A477)","v":"Malve, blaue, Blüte"},{"$f":"IF(Nährstoffabgabe!B477=\"\",\"\",Nährstoffabgabe!B477)","v":100},{"$f":"IF(Nährstoffabgabe!C477=\"\",\"\",Nährstoffabgabe!C477)","v":""},{"$f":"IF(Nährstoffabgabe!D477=\"\",\"\",Nährstoffabgabe!D477)","v":""},{"$f":"Nährstoffabgabe!E477","v":0},{"$f":"IF(Nährstoffabgabe!F477=\"\",\"\",Nährstoffabgabe!F477)","v":0.3},{"$f":"IF(Nährstoffabgabe!G477=\"\",\"\",Nährstoffabgabe!G477)","v":0.16},{"$f":"IF(Nährstoffabgabe!H477=\"\",\"\",Nährstoffabgabe!H477)","v":0.47},{"$f":"IF(Nährstoffabgabe!I477=\"\",\"\",Nährstoffabgabe!I477)","v":7.0000000000000007E-2},{"$f":"IF(Nährstoffabgabe!J477=\"\",\"\",Nährstoffabgabe!J477)","v":0},{"$f":"IF(Nährstoffabgabe!K477=\"\",\"\",Nährstoffabgabe!K477)","v":0},{"$f":"IF(Nährstoffabgabe!L477=\"\",\"\",Nährstoffabgabe!L477)","v":0},{"$f":"IF(Nährstoffabgabe!M477=\"\",\"\",Nährstoffabgabe!M477)","v":0}]
[{"$f":"IF(Nährstoffabgabe!A478=\"\",\"\",Nährstoffabgabe!A478)","v":"Mariendistel, Kraut"},{"$f":"IF(Nährstoffabgabe!B478=\"\",\"\",Nährstoffabgabe!B478)","v":280},{"$f":"IF(Nährstoffabgabe!C478=\"\",\"\",Nährstoffabgabe!C478)","v":""},{"$f":"IF(Nährstoffabgabe!D478=\"\",\"\",Nährstoffabgabe!D478)","v":""},{"$f":"Nährstoffabgabe!E478","v":0},{"$f":"IF(Nährstoffabgabe!F478=\"\",\"\",Nährstoffabgabe!F478)","v":0.24},{"$f":"IF(Nährstoffabgabe!G478=\"\",\"\",Nährstoffabgabe!G478)","v":0.12},{"$f":"IF(Nährstoffabgabe!H478=\"\",\"\",Nährstoffabgabe!H478)","v":0.41},{"$f":"IF(Nährstoffabgabe!I478=\"\",\"\",Nährstoffabgabe!I478)","v":0.1},{"$f":"IF(Nährstoffabgabe!J478=\"\",\"\",Nährstoffabgabe!J478)","v":0},{"$f":"IF(Nährstoffabgabe!K478=\"\",\"\",Nährstoffabgabe!K478)","v":0},{"$f":"IF(Nährstoffabgabe!L478=\"\",\"\",Nährstoffabgabe!L478)","v":0},{"$f":"IF(Nährstoffabgabe!M478=\"\",\"\",Nährstoffabgabe!M478)","v":0}]
[{"$f":"IF(Nährstoffabgabe!A479=\"\",\"\",Nährstoffabgabe!A479)","v":"Mariendistel, Samen + Kraut"},{"$f":"IF(Nährstoffabgabe!B479=\"\",\"\",Nährstoffabgabe!B479)","v":15},{"$f":"IF(Nährstoffabgabe!C479=\"\",\"\",Nährstoffabgabe!C479)","v":""},{"$f":"IF(Nährstoffabgabe!D479=\"\",\"\",Nährstoffabgabe!D479)","v":""},{"$f":"Nährstoffabgabe!E479","v":0},{"$f":"IF(Nährstoffabgabe!F479=\"\",\"\",Nährstoffabgabe!F479)","v":5.3266666666666671},{"$f":"IF(Nährstoffabgabe!G479=\"\",\"\",Nährstoffabgabe!G479)","v":3.2666666666666666},{"$f":"IF(Nährstoffabgabe!H479=\"\",\"\",Nährstoffabgabe!H479)","v":7.8466666666666667},{"$f":"IF(Nährstoffabgabe!I479=\"\",\"\",Nährstoffabgabe!I479)","v":1.0466666666666666},{"$f":"IF(Nährstoffabgabe!J479=\"\",\"\",Nährstoffabgabe!J479)","v":0},{"$f":"IF(Nährstoffabgabe!K479=\"\",\"\",Nährstoffabgabe!K479)","v":0},{"$f":"IF(Nährstoffabgabe!L479=\"\",\"\",Nährstoffabgabe!L479)","v":0},{"$f":"IF(Nährstoffabgabe!M479=\"\",\"\",Nährstoffabgabe!M479)","v":0}]
[{"$f":"IF(Nährstoffabgabe!A480=\"\",\"\",Nährstoffabgabe!A480)","v":"Mariendistel, Samen"},{"$f":"IF(Nährstoffabgabe!B480=\"\",\"\",Nährstoffabgabe!B480)","v":15},{"$f":"IF(Nährstoffabgabe!C480=\"\",\"\",Nährstoffabgabe!C480)","v":""},{"$f":"IF(Nährstoffabgabe!D480=\"\",\"\",Nährstoffabgabe!D480)","v":""},{"$f":"Nährstoffabgabe!E480","v":0},{"$f":"IF(Nährstoffabgabe!F480=\"\",\"\",Nährstoffabgabe!F480)","v":2.06},{"$f":"IF(Nährstoffabgabe!G480=\"\",\"\",Nährstoffabgabe!G480)","v":1.1200000000000001},{"$f":"IF(Nährstoffabgabe!H480=\"\",\"\",Nährstoffabgabe!H480)","v":0.66},{"$f":"IF(Nährstoffabgabe!I480=\"\",\"\",Nährstoffabgabe!I480)","v":0.3},{"$f":"IF(Nährstoffabgabe!J480=\"\",\"\",Nährstoffabgabe!J480)","v":0},{"$f":"IF(Nährstoffabgabe!K480=\"\",\"\",Nährstoffabgabe!K480)","v":0},{"$f":"IF(Nährstoffabgabe!L480=\"\",\"\",Nährstoffabgabe!L480)","v":0},{"$f":"IF(Nährstoffabgabe!M480=\"\",\"\",Nährstoffabgabe!M480)","v":0}]
[{"$f":"IF(Nährstoffabgabe!A481=\"\",\"\",Nährstoffabgabe!A481)","v":"Meerrettich, Wurzel + Kraut"},{"$f":"IF(Nährstoffabgabe!B481=\"\",\"\",Nährstoffabgabe!B481)","v":200},{"$f":"IF(Nährstoffabgabe!C481=\"\",\"\",Nährstoffabgabe!C481)","v":""},{"$f":"IF(Nährstoffabgabe!D481=\"\",\"\",Nährstoffabgabe!D481)","v":""},{"$f":"Nährstoffabgabe!E481","v":0},{"$f":"IF(Nährstoffabgabe!F481=\"\",\"\",Nährstoffabgabe!F481)","v":1.18},{"$f":"IF(Nährstoffabgabe!G481=\"\",\"\",Nährstoffabgabe!G481)","v":0.34499999999999997},{"$f":"IF(Nährstoffabgabe!H481=\"\",\"\",Nährstoffabgabe!H481)","v":1.55},{"$f":"IF(Nährstoffabgabe!I481=\"\",\"\",Nährstoffabgabe!I481)","v":0.14499999999999999},{"$f":"IF(Nährstoffabgabe!J481=\"\",\"\",Nährstoffabgabe!J481)","v":0},{"$f":"IF(Nährstoffabgabe!K481=\"\",\"\",Nährstoffabgabe!K481)","v":0},{"$f":"IF(Nährstoffabgabe!L481=\"\",\"\",Nährstoffabgabe!L481)","v":0},{"$f":"IF(Nährstoffabgabe!M481=\"\",\"\",Nährstoffabgabe!M481)","v":0}]
[{"$f":"IF(Nährstoffabgabe!A482=\"\",\"\",Nährstoffabgabe!A482)","v":"Meerrettich, Wurzel"},{"$f":"IF(Nährstoffabgabe!B482=\"\",\"\",Nährstoffabgabe!B482)","v":200},{"$f":"IF(Nährstoffabgabe!C482=\"\",\"\",Nährstoffabgabe!C482)","v":""},{"$f":"IF(Nährstoffabgabe!D482=\"\",\"\",Nährstoffabgabe!D482)","v":""},{"$f":"Nährstoffabgabe!E482","v":0},{"$f":"IF(Nährstoffabgabe!F482=\"\",\"\",Nährstoffabgabe!F482)","v":0.69},{"$f":"IF(Nährstoffabgabe!G482=\"\",\"\",Nährstoffabgabe!G482)","v":0.22},{"$f":"IF(Nährstoffabgabe!H482=\"\",\"\",Nährstoffabgabe!H482)","v":0.72},{"$f":"IF(Nährstoffabgabe!I482=\"\",\"\",Nährstoffabgabe!I482)","v":7.0000000000000007E-2},{"$f":"IF(Nährstoffabgabe!J482=\"\",\"\",Nährstoffabgabe!J482)","v":0},{"$f":"IF(Nährstoffabgabe!K482=\"\",\"\",Nährstoffabgabe!K482)","v":0},{"$f":"IF(Nährstoffabgabe!L482=\"\",\"\",Nährstoffabgabe!L482)","v":0},{"$f":"IF(Nährstoffabgabe!M482=\"\",\"\",Nährstoffabgabe!M482)","v":0}]
[{"$f":"IF(Nährstoffabgabe!A483=\"\",\"\",Nährstoffabgabe!A483)","v":"Meisterwurz, Wurzel + Kraut"},{"$f":"IF(Nährstoffabgabe!B483=\"\",\"\",Nährstoffabgabe!B483)","v":35},{"$f":"IF(Nährstoffabgabe!C483=\"\",\"\",Nährstoffabgabe!C483)","v":""},{"$f":"IF(Nährstoffabgabe!D483=\"\",\"\",Nährstoffabgabe!D483)","v":""},{"$f":"Nährstoffabgabe!E483","v":0},{"$f":"IF(Nährstoffabgabe!F483=\"\",\"\",Nährstoffabgabe!F483)","v":0.63571428571428568},{"$f":"IF(Nährstoffabgabe!G483=\"\",\"\",Nährstoffabgabe!G483)","v":0.45428571428571429},{"$f":"IF(Nährstoffabgabe!H483=\"\",\"\",Nährstoffabgabe!H483)","v":1.0914285714285714},{"$f":"IF(Nährstoffabgabe!I483=\"\",\"\",Nährstoffabgabe!I483)","v":0.17571428571428571},{"$f":"IF(Nährstoffabgabe!J483=\"\",\"\",Nährstoffabgabe!J483)","v":0},{"$f":"IF(Nährstoffabgabe!K483=\"\",\"\",Nährstoffabgabe!K483)","v":0},{"$f":"IF(Nährstoffabgabe!L483=\"\",\"\",Nährstoffabgabe!L483)","v":0},{"$f":"IF(Nährstoffabgabe!M483=\"\",\"\",Nährstoffabgabe!M483)","v":0}]
[{"$f":"IF(Nährstoffabgabe!A484=\"\",\"\",Nährstoffabgabe!A484)","v":"Meisterwurz, Wurzel"},{"$f":"IF(Nährstoffabgabe!B484=\"\",\"\",Nährstoffabgabe!B484)","v":35},{"$f":"IF(Nährstoffabgabe!C484=\"\",\"\",Nährstoffabgabe!C484)","v":""},{"$f":"IF(Nährstoffabgabe!D484=\"\",\"\",Nährstoffabgabe!D484)","v":""},{"$f":"Nährstoffabgabe!E484","v":0},{"$f":"IF(Nährstoffabgabe!F484=\"\",\"\",Nährstoffabgabe!F484)","v":0.35},{"$f":"IF(Nährstoffabgabe!G484=\"\",\"\",Nährstoffabgabe!G484)","v":0.28000000000000003},{"$f":"IF(Nährstoffabgabe!H484=\"\",\"\",Nährstoffabgabe!H484)","v":0.62},{"$f":"IF(Nährstoffabgabe!I484=\"\",\"\",Nährstoffabgabe!I484)","v":0.13},{"$f":"IF(Nährstoffabgabe!J484=\"\",\"\",Nährstoffabgabe!J484)","v":0},{"$f":"IF(Nährstoffabgabe!K484=\"\",\"\",Nährstoffabgabe!K484)","v":0},{"$f":"IF(Nährstoffabgabe!L484=\"\",\"\",Nährstoffabgabe!L484)","v":0},{"$f":"IF(Nährstoffabgabe!M484=\"\",\"\",Nährstoffabgabe!M484)","v":0}]
[{"$f":"IF(Nährstoffabgabe!A485=\"\",\"\",Nährstoffabgabe!A485)","v":"Melde, Kraut"},{"$f":"IF(Nährstoffabgabe!B485=\"\",\"\",Nährstoffabgabe!B485)","v":150},{"$f":"IF(Nährstoffabgabe!C485=\"\",\"\",Nährstoffabgabe!C485)","v":""},{"$f":"IF(Nährstoffabgabe!D485=\"\",\"\",Nährstoffabgabe!D485)","v":""},{"$f":"Nährstoffabgabe!E485","v":0},{"$f":"IF(Nährstoffabgabe!F485=\"\",\"\",Nährstoffabgabe!F485)","v":0.33},{"$f":"IF(Nährstoffabgabe!G485=\"\",\"\",Nährstoffabgabe!G485)","v":0.11},{"$f":"IF(Nährstoffabgabe!H485=\"\",\"\",Nährstoffabgabe!H485)","v":0.53},{"$f":"IF(Nährstoffabgabe!I485=\"\",\"\",Nährstoffabgabe!I485)","v":0.02},{"$f":"IF(Nährstoffabgabe!J485=\"\",\"\",Nährstoffabgabe!J485)","v":0},{"$f":"IF(Nährstoffabgabe!K485=\"\",\"\",Nährstoffabgabe!K485)","v":0},{"$f":"IF(Nährstoffabgabe!L485=\"\",\"\",Nährstoffabgabe!L485)","v":0},{"$f":"IF(Nährstoffabgabe!M485=\"\",\"\",Nährstoffabgabe!M485)","v":0}]
[{"$f":"IF(Nährstoffabgabe!A486=\"\",\"\",Nährstoffabgabe!A486)","v":"Mohn, Samen und Kapseln + Stroh"},{"$f":"IF(Nährstoffabgabe!B486=\"\",\"\",Nährstoffabgabe!B486)","v":25},{"$f":"IF(Nährstoffabgabe!C486=\"\",\"\",Nährstoffabgabe!C486)","v":""},{"$f":"IF(Nährstoffabgabe!D486=\"\",\"\",Nährstoffabgabe!D486)","v":""},{"$f":"Nährstoffabgabe!E486","v":0},{"$f":"IF(Nährstoffabgabe!F486=\"\",\"\",Nährstoffabgabe!F486)","v":2.3180000000000001},{"$f":"IF(Nährstoffabgabe!G486=\"\",\"\",Nährstoffabgabe!G486)","v":1.9019999999999999},{"$f":"IF(Nährstoffabgabe!H486=\"\",\"\",Nährstoffabgabe!H486)","v":5.0040000000000004},{"$f":"IF(Nährstoffabgabe!I486=\"\",\"\",Nährstoffabgabe!I486)","v":1.262},{"$f":"IF(Nährstoffabgabe!J486=\"\",\"\",Nährstoffabgabe!J486)","v":0},{"$f":"IF(Nährstoffabgabe!K486=\"\",\"\",Nährstoffabgabe!K486)","v":0},{"$f":"IF(Nährstoffabgabe!L486=\"\",\"\",Nährstoffabgabe!L486)","v":0},{"$f":"IF(Nährstoffabgabe!M486=\"\",\"\",Nährstoffabgabe!M486)","v":0}]
[{"$f":"IF(Nährstoffabgabe!A487=\"\",\"\",Nährstoffabgabe!A487)","v":"Mohn, Samen und Kapseln"},{"$f":"IF(Nährstoffabgabe!B487=\"\",\"\",Nährstoffabgabe!B487)","v":25},{"$f":"IF(Nährstoffabgabe!C487=\"\",\"\",Nährstoffabgabe!C487)","v":""},{"$f":"IF(Nährstoffabgabe!D487=\"\",\"\",Nährstoffabgabe!D487)","v":""},{"$f":"Nährstoffabgabe!E487","v":0},{"$f":"IF(Nährstoffabgabe!F487=\"\",\"\",Nährstoffabgabe!F487)","v":1.59},{"$f":"IF(Nährstoffabgabe!G487=\"\",\"\",Nährstoffabgabe!G487)","v":0.95},{"$f":"IF(Nährstoffabgabe!H487=\"\",\"\",Nährstoffabgabe!H487)","v":1.63},{"$f":"IF(Nährstoffabgabe!I487=\"\",\"\",Nährstoffabgabe!I487)","v":0.52},{"$f":"IF(Nährstoffabgabe!J487=\"\",\"\",Nährstoffabgabe!J487)","v":0},{"$f":"IF(Nährstoffabgabe!K487=\"\",\"\",Nährstoffabgabe!K487)","v":0},{"$f":"IF(Nährstoffabgabe!L487=\"\",\"\",Nährstoffabgabe!L487)","v":0},{"$f":"IF(Nährstoffabgabe!M487=\"\",\"\",Nährstoffabgabe!M487)","v":0}]
[{"$f":"IF(Nährstoffabgabe!A488=\"\",\"\",Nährstoffabgabe!A488)","v":"Muskatteller Salbei, blühendes Kraut"},{"$f":"IF(Nährstoffabgabe!B488=\"\",\"\",Nährstoffabgabe!B488)","v":300},{"$f":"IF(Nährstoffabgabe!C488=\"\",\"\",Nährstoffabgabe!C488)","v":""},{"$f":"IF(Nährstoffabgabe!D488=\"\",\"\",Nährstoffabgabe!D488)","v":""},{"$f":"Nährstoffabgabe!E488","v":0},{"$f":"IF(Nährstoffabgabe!F488=\"\",\"\",Nährstoffabgabe!F488)","v":0.42},{"$f":"IF(Nährstoffabgabe!G488=\"\",\"\",Nährstoffabgabe!G488)","v":0.16},{"$f":"IF(Nährstoffabgabe!H488=\"\",\"\",Nährstoffabgabe!H488)","v":0.76},{"$f":"IF(Nährstoffabgabe!I488=\"\",\"\",Nährstoffabgabe!I488)","v":0.16},{"$f":"IF(Nährstoffabgabe!J488=\"\",\"\",Nährstoffabgabe!J488)","v":0},{"$f":"IF(Nährstoffabgabe!K488=\"\",\"\",Nährstoffabgabe!K488)","v":0},{"$f":"IF(Nährstoffabgabe!L488=\"\",\"\",Nährstoffabgabe!L488)","v":0},{"$f":"IF(Nährstoffabgabe!M488=\"\",\"\",Nährstoffabgabe!M488)","v":0}]
[{"$f":"IF(Nährstoffabgabe!A489=\"\",\"\",Nährstoffabgabe!A489)","v":"Mutterkraut (T. parthenium), blühendes Kraut"},{"$f":"IF(Nährstoffabgabe!B489=\"\",\"\",Nährstoffabgabe!B489)","v":120},{"$f":"IF(Nährstoffabgabe!C489=\"\",\"\",Nährstoffabgabe!C489)","v":""},{"$f":"IF(Nährstoffabgabe!D489=\"\",\"\",Nährstoffabgabe!D489)","v":""},{"$f":"Nährstoffabgabe!E489","v":0},{"$f":"IF(Nährstoffabgabe!F489=\"\",\"\",Nährstoffabgabe!F489)","v":0.45},{"$f":"IF(Nährstoffabgabe!G489=\"\",\"\",Nährstoffabgabe!G489)","v":0.16},{"$f":"IF(Nährstoffabgabe!H489=\"\",\"\",Nährstoffabgabe!H489)","v":0.8},{"$f":"IF(Nährstoffabgabe!I489=\"\",\"\",Nährstoffabgabe!I489)","v":0.05},{"$f":"IF(Nährstoffabgabe!J489=\"\",\"\",Nährstoffabgabe!J489)","v":0},{"$f":"IF(Nährstoffabgabe!K489=\"\",\"\",Nährstoffabgabe!K489)","v":0},{"$f":"IF(Nährstoffabgabe!L489=\"\",\"\",Nährstoffabgabe!L489)","v":0},{"$f":"IF(Nährstoffabgabe!M489=\"\",\"\",Nährstoffabgabe!M489)","v":0}]
[{"$f":"IF(Nährstoffabgabe!A490=\"\",\"\",Nährstoffabgabe!A490)","v":"Mutterkraut, Chin. (L. jap.), blühendes Kraut"},{"$f":"IF(Nährstoffabgabe!B490=\"\",\"\",Nährstoffabgabe!B490)","v":250},{"$f":"IF(Nährstoffabgabe!C490=\"\",\"\",Nährstoffabgabe!C490)","v":""},{"$f":"IF(Nährstoffabgabe!D490=\"\",\"\",Nährstoffabgabe!D490)","v":""},{"$f":"Nährstoffabgabe!E490","v":0},{"$f":"IF(Nährstoffabgabe!F490=\"\",\"\",Nährstoffabgabe!F490)","v":0.51},{"$f":"IF(Nährstoffabgabe!G490=\"\",\"\",Nährstoffabgabe!G490)","v":0.14000000000000001},{"$f":"IF(Nährstoffabgabe!H490=\"\",\"\",Nährstoffabgabe!H490)","v":0.84},{"$f":"IF(Nährstoffabgabe!I490=\"\",\"\",Nährstoffabgabe!I490)","v":0.11},{"$f":"IF(Nährstoffabgabe!J490=\"\",\"\",Nährstoffabgabe!J490)","v":0},{"$f":"IF(Nährstoffabgabe!K490=\"\",\"\",Nährstoffabgabe!K490)","v":0},{"$f":"IF(Nährstoffabgabe!L490=\"\",\"\",Nährstoffabgabe!L490)","v":0},{"$f":"IF(Nährstoffabgabe!M490=\"\",\"\",Nährstoffabgabe!M490)","v":0}]
[{"$f":"IF(Nährstoffabgabe!A491=\"\",\"\",Nährstoffabgabe!A491)","v":"Nachtkerze, Samen + Stroh"},{"$f":"IF(Nährstoffabgabe!B491=\"\",\"\",Nährstoffabgabe!B491)","v":15},{"$f":"IF(Nährstoffabgabe!C491=\"\",\"\",Nährstoffabgabe!C491)","v":""},{"$f":"IF(Nährstoffabgabe!D491=\"\",\"\",Nährstoffabgabe!D491)","v":""},{"$f":"Nährstoffabgabe!E491","v":0},{"$f":"IF(Nährstoffabgabe!F491=\"\",\"\",Nährstoffabgabe!F491)","v":5.3266666666666671},{"$f":"IF(Nährstoffabgabe!G491=\"\",\"\",Nährstoffabgabe!G491)","v":2.4266666666666672},{"$f":"IF(Nährstoffabgabe!H491=\"\",\"\",Nährstoffabgabe!H491)","v":5.1400000000000006},{"$f":"IF(Nährstoffabgabe!I491=\"\",\"\",Nährstoffabgabe!I491)","v":1.0466666666666666},{"$f":"IF(Nährstoffabgabe!J491=\"\",\"\",Nährstoffabgabe!J491)","v":0},{"$f":"IF(Nährstoffabgabe!K491=\"\",\"\",Nährstoffabgabe!K491)","v":0},{"$f":"IF(Nährstoffabgabe!L491=\"\",\"\",Nährstoffabgabe!L491)","v":0},{"$f":"IF(Nährstoffabgabe!M491=\"\",\"\",Nährstoffabgabe!M491)","v":0}]
[{"$f":"IF(Nährstoffabgabe!A492=\"\",\"\",Nährstoffabgabe!A492)","v":"Nachtkerze, Samen"},{"$f":"IF(Nährstoffabgabe!B492=\"\",\"\",Nährstoffabgabe!B492)","v":15},{"$f":"IF(Nährstoffabgabe!C492=\"\",\"\",Nährstoffabgabe!C492)","v":""},{"$f":"IF(Nährstoffabgabe!D492=\"\",\"\",Nährstoffabgabe!D492)","v":""},{"$f":"Nährstoffabgabe!E492","v":0},{"$f":"IF(Nährstoffabgabe!F492=\"\",\"\",Nährstoffabgabe!F492)","v":2.06},{"$f":"IF(Nährstoffabgabe!G492=\"\",\"\",Nährstoffabgabe!G492)","v":1.1200000000000001},{"$f":"IF(Nährstoffabgabe!H492=\"\",\"\",Nährstoffabgabe!H492)","v":0.66},{"$f":"IF(Nährstoffabgabe!I492=\"\",\"\",Nährstoffabgabe!I492)","v":0.3},{"$f":"IF(Nährstoffabgabe!J492=\"\",\"\",Nährstoffabgabe!J492)","v":0},{"$f":"IF(Nährstoffabgabe!K492=\"\",\"\",Nährstoffabgabe!K492)","v":0},{"$f":"IF(Nährstoffabgabe!L492=\"\",\"\",Nährstoffabgabe!L492)","v":0},{"$f":"IF(Nährstoffabgabe!M492=\"\",\"\",Nährstoffabgabe!M492)","v":0}]
[{"$f":"IF(Nährstoffabgabe!A493=\"\",\"\",Nährstoffabgabe!A493)","v":"Nelkenwurz, Wurzel + Kraut"},{"$f":"IF(Nährstoffabgabe!B493=\"\",\"\",Nährstoffabgabe!B493)","v":150},{"$f":"IF(Nährstoffabgabe!C493=\"\",\"\",Nährstoffabgabe!C493)","v":""},{"$f":"IF(Nährstoffabgabe!D493=\"\",\"\",Nährstoffabgabe!D493)","v":""},{"$f":"Nährstoffabgabe!E493","v":0},{"$f":"IF(Nährstoffabgabe!F493=\"\",\"\",Nährstoffabgabe!F493)","v":0.6166666666666667},{"$f":"IF(Nährstoffabgabe!G493=\"\",\"\",Nährstoffabgabe!G493)","v":0.29333333333333333},{"$f":"IF(Nährstoffabgabe!H493=\"\",\"\",Nährstoffabgabe!H493)","v":0.71},{"$f":"IF(Nährstoffabgabe!I493=\"\",\"\",Nährstoffabgabe!I493)","v":0.42},{"$f":"IF(Nährstoffabgabe!J493=\"\",\"\",Nährstoffabgabe!J493)","v":0},{"$f":"IF(Nährstoffabgabe!K493=\"\",\"\",Nährstoffabgabe!K493)","v":0},{"$f":"IF(Nährstoffabgabe!L493=\"\",\"\",Nährstoffabgabe!L493)","v":0},{"$f":"IF(Nährstoffabgabe!M493=\"\",\"\",Nährstoffabgabe!M493)","v":0}]
[{"$f":"IF(Nährstoffabgabe!A494=\"\",\"\",Nährstoffabgabe!A494)","v":"Nelkenwurz, Wurzel"},{"$f":"IF(Nährstoffabgabe!B494=\"\",\"\",Nährstoffabgabe!B494)","v":150},{"$f":"IF(Nährstoffabgabe!C494=\"\",\"\",Nährstoffabgabe!C494)","v":""},{"$f":"IF(Nährstoffabgabe!D494=\"\",\"\",Nährstoffabgabe!D494)","v":""},{"$f":"Nährstoffabgabe!E494","v":0},{"$f":"IF(Nährstoffabgabe!F494=\"\",\"\",Nährstoffabgabe!F494)","v":0.25},{"$f":"IF(Nährstoffabgabe!G494=\"\",\"\",Nährstoffabgabe!G494)","v":0.18},{"$f":"IF(Nährstoffabgabe!H494=\"\",\"\",Nährstoffabgabe!H494)","v":0.27},{"$f":"IF(Nährstoffabgabe!I494=\"\",\"\",Nährstoffabgabe!I494)","v":0.2},{"$f":"IF(Nährstoffabgabe!J494=\"\",\"\",Nährstoffabgabe!J494)","v":0},{"$f":"IF(Nährstoffabgabe!K494=\"\",\"\",Nährstoffabgabe!K494)","v":0},{"$f":"IF(Nährstoffabgabe!L494=\"\",\"\",Nährstoffabgabe!L494)","v":0},{"$f":"IF(Nährstoffabgabe!M494=\"\",\"\",Nährstoffabgabe!M494)","v":0}]
[{"$f":"IF(Nährstoffabgabe!A495=\"\",\"\",Nährstoffabgabe!A495)","v":"Odermennig, Kraut"},{"$f":"IF(Nährstoffabgabe!B495=\"\",\"\",Nährstoffabgabe!B495)","v":160},{"$f":"IF(Nährstoffabgabe!C495=\"\",\"\",Nährstoffabgabe!C495)","v":""},{"$f":"IF(Nährstoffabgabe!D495=\"\",\"\",Nährstoffabgabe!D495)","v":""},{"$f":"Nährstoffabgabe!E495","v":0},{"$f":"IF(Nährstoffabgabe!F495=\"\",\"\",Nährstoffabgabe!F495)","v":0.49},{"$f":"IF(Nährstoffabgabe!G495=\"\",\"\",Nährstoffabgabe!G495)","v":0.15},{"$f":"IF(Nährstoffabgabe!H495=\"\",\"\",Nährstoffabgabe!H495)","v":0.67},{"$f":"IF(Nährstoffabgabe!I495=\"\",\"\",Nährstoffabgabe!I495)","v":0.18},{"$f":"IF(Nährstoffabgabe!J495=\"\",\"\",Nährstoffabgabe!J495)","v":0},{"$f":"IF(Nährstoffabgabe!K495=\"\",\"\",Nährstoffabgabe!K495)","v":0},{"$f":"IF(Nährstoffabgabe!L495=\"\",\"\",Nährstoffabgabe!L495)","v":0},{"$f":"IF(Nährstoffabgabe!M495=\"\",\"\",Nährstoffabgabe!M495)","v":0}]
[{"$f":"IF(Nährstoffabgabe!A496=\"\",\"\",Nährstoffabgabe!A496)","v":"Oregano (Dost), blühendes Kraut"},{"$f":"IF(Nährstoffabgabe!B496=\"\",\"\",Nährstoffabgabe!B496)","v":120},{"$f":"IF(Nährstoffabgabe!C496=\"\",\"\",Nährstoffabgabe!C496)","v":""},{"$f":"IF(Nährstoffabgabe!D496=\"\",\"\",Nährstoffabgabe!D496)","v":""},{"$f":"Nährstoffabgabe!E496","v":0},{"$f":"IF(Nährstoffabgabe!F496=\"\",\"\",Nährstoffabgabe!F496)","v":0.5},{"$f":"IF(Nährstoffabgabe!G496=\"\",\"\",Nährstoffabgabe!G496)","v":0.14000000000000001},{"$f":"IF(Nährstoffabgabe!H496=\"\",\"\",Nährstoffabgabe!H496)","v":0.52},{"$f":"IF(Nährstoffabgabe!I496=\"\",\"\",Nährstoffabgabe!I496)","v":0.17},{"$f":"IF(Nährstoffabgabe!J496=\"\",\"\",Nährstoffabgabe!J496)","v":0},{"$f":"IF(Nährstoffabgabe!K496=\"\",\"\",Nährstoffabgabe!K496)","v":0},{"$f":"IF(Nährstoffabgabe!L496=\"\",\"\",Nährstoffabgabe!L496)","v":0},{"$f":"IF(Nährstoffabgabe!M496=\"\",\"\",Nährstoffabgabe!M496)","v":0}]
[{"$f":"IF(Nährstoffabgabe!A497=\"\",\"\",Nährstoffabgabe!A497)","v":"Pestwurz, Blatt"},{"$f":"IF(Nährstoffabgabe!B497=\"\",\"\",Nährstoffabgabe!B497)","v":50},{"$f":"IF(Nährstoffabgabe!C497=\"\",\"\",Nährstoffabgabe!C497)","v":""},{"$f":"IF(Nährstoffabgabe!D497=\"\",\"\",Nährstoffabgabe!D497)","v":""},{"$f":"Nährstoffabgabe!E497","v":0},{"$f":"IF(Nährstoffabgabe!F497=\"\",\"\",Nährstoffabgabe!F497)","v":0.63},{"$f":"IF(Nährstoffabgabe!G497=\"\",\"\",Nährstoffabgabe!G497)","v":0.15},{"$f":"IF(Nährstoffabgabe!H497=\"\",\"\",Nährstoffabgabe!H497)","v":0.91},{"$f":"IF(Nährstoffabgabe!I497=\"\",\"\",Nährstoffabgabe!I497)","v":0.35},{"$f":"IF(Nährstoffabgabe!J497=\"\",\"\",Nährstoffabgabe!J497)","v":0},{"$f":"IF(Nährstoffabgabe!K497=\"\",\"\",Nährstoffabgabe!K497)","v":0},{"$f":"IF(Nährstoffabgabe!L497=\"\",\"\",Nährstoffabgabe!L497)","v":0},{"$f":"IF(Nährstoffabgabe!M497=\"\",\"\",Nährstoffabgabe!M497)","v":0}]
[{"$f":"IF(Nährstoffabgabe!A498=\"\",\"\",Nährstoffabgabe!A498)","v":"Pestwurz, Wurzel + Blatt"},{"$f":"IF(Nährstoffabgabe!B498=\"\",\"\",Nährstoffabgabe!B498)","v":130},{"$f":"IF(Nährstoffabgabe!C498=\"\",\"\",Nährstoffabgabe!C498)","v":""},{"$f":"IF(Nährstoffabgabe!D498=\"\",\"\",Nährstoffabgabe!D498)","v":""},{"$f":"Nährstoffabgabe!E498","v":0},{"$f":"IF(Nährstoffabgabe!F498=\"\",\"\",Nährstoffabgabe!F498)","v":0.56230769230769229},{"$f":"IF(Nährstoffabgabe!G498=\"\",\"\",Nährstoffabgabe!G498)","v":0.2076923076923077},{"$f":"IF(Nährstoffabgabe!H498=\"\",\"\",Nährstoffabgabe!H498)","v":0.91000000000000014},{"$f":"IF(Nährstoffabgabe!I498=\"\",\"\",Nährstoffabgabe!I498)","v":0.18461538461538463},{"$f":"IF(Nährstoffabgabe!J498=\"\",\"\",Nährstoffabgabe!J498)","v":0},{"$f":"IF(Nährstoffabgabe!K498=\"\",\"\",Nährstoffabgabe!K498)","v":0},{"$f":"IF(Nährstoffabgabe!L498=\"\",\"\",Nährstoffabgabe!L498)","v":0},{"$f":"IF(Nährstoffabgabe!M498=\"\",\"\",Nährstoffabgabe!M498)","v":0}]
[{"$f":"IF(Nährstoffabgabe!A499=\"\",\"\",Nährstoffabgabe!A499)","v":"Pestwurz, Wurzel"},{"$f":"IF(Nährstoffabgabe!B499=\"\",\"\",Nährstoffabgabe!B499)","v":130},{"$f":"IF(Nährstoffabgabe!C499=\"\",\"\",Nährstoffabgabe!C499)","v":""},{"$f":"IF(Nährstoffabgabe!D499=\"\",\"\",Nährstoffabgabe!D499)","v":""},{"$f":"Nährstoffabgabe!E499","v":0},{"$f":"IF(Nährstoffabgabe!F499=\"\",\"\",Nährstoffabgabe!F499)","v":0.32},{"$f":"IF(Nährstoffabgabe!G499=\"\",\"\",Nährstoffabgabe!G499)","v":0.15},{"$f":"IF(Nährstoffabgabe!H499=\"\",\"\",Nährstoffabgabe!H499)","v":0.56000000000000005},{"$f":"IF(Nährstoffabgabe!I499=\"\",\"\",Nährstoffabgabe!I499)","v":0.05},{"$f":"IF(Nährstoffabgabe!J499=\"\",\"\",Nährstoffabgabe!J499)","v":0},{"$f":"IF(Nährstoffabgabe!K499=\"\",\"\",Nährstoffabgabe!K499)","v":0},{"$f":"IF(Nährstoffabgabe!L499=\"\",\"\",Nährstoffabgabe!L499)","v":0},{"$f":"IF(Nährstoffabgabe!M499=\"\",\"\",Nährstoffabgabe!M499)","v":0}]
[{"$f":"IF(Nährstoffabgabe!A500=\"\",\"\",Nährstoffabgabe!A500)","v":"Petersilie, Blatt-, bis 1. Schnitt"},{"$f":"IF(Nährstoffabgabe!B500=\"\",\"\",Nährstoffabgabe!B500)","v":240},{"$f":"IF(Nährstoffabgabe!C500=\"\",\"\",Nährstoffabgabe!C500)","v":""},{"$f":"IF(Nährstoffabgabe!D500=\"\",\"\",Nährstoffabgabe!D500)","v":""},{"$f":"Nährstoffabgabe!E500","v":0},{"$f":"IF(Nährstoffabgabe!F500=\"\",\"\",Nährstoffabgabe!F500)","v":0.45},{"$f":"IF(Nährstoffabgabe!G500=\"\",\"\",Nährstoffabgabe!G500)","v":0.12},{"$f":"IF(Nährstoffabgabe!H500=\"\",\"\",Nährstoffabgabe!H500)","v":0.53},{"$f":"IF(Nährstoffabgabe!I500=\"\",\"\",Nährstoffabgabe!I500)","v":0.06},{"$f":"IF(Nährstoffabgabe!J500=\"\",\"\",Nährstoffabgabe!J500)","v":0},{"$f":"IF(Nährstoffabgabe!K500=\"\",\"\",Nährstoffabgabe!K500)","v":0},{"$f":"IF(Nährstoffabgabe!L500=\"\",\"\",Nährstoffabgabe!L500)","v":0},{"$f":"IF(Nährstoffabgabe!M500=\"\",\"\",Nährstoffabgabe!M500)","v":0}]
[{"$f":"IF(Nährstoffabgabe!A501=\"\",\"\",Nährstoffabgabe!A501)","v":"Petersilie, Blatt-, nach einem Schnitt"},{"$f":"IF(Nährstoffabgabe!B501=\"\",\"\",Nährstoffabgabe!B501)","v":160},{"$f":"IF(Nährstoffabgabe!C501=\"\",\"\",Nährstoffabgabe!C501)","v":""},{"$f":"IF(Nährstoffabgabe!D501=\"\",\"\",Nährstoffabgabe!D501)","v":""},{"$f":"Nährstoffabgabe!E501","v":0},{"$f":"IF(Nährstoffabgabe!F501=\"\",\"\",Nährstoffabgabe!F501)","v":0.45},{"$f":"IF(Nährstoffabgabe!G501=\"\",\"\",Nährstoffabgabe!G501)","v":0.12},{"$f":"IF(Nährstoffabgabe!H501=\"\",\"\",Nährstoffabgabe!H501)","v":0.53},{"$f":"IF(Nährstoffabgabe!I501=\"\",\"\",Nährstoffabgabe!I501)","v":0.06},{"$f":"IF(Nährstoffabgabe!J501=\"\",\"\",Nährstoffabgabe!J501)","v":0},{"$f":"IF(Nährstoffabgabe!K501=\"\",\"\",Nährstoffabgabe!K501)","v":0},{"$f":"IF(Nährstoffabgabe!L501=\"\",\"\",Nährstoffabgabe!L501)","v":0},{"$f":"IF(Nährstoffabgabe!M501=\"\",\"\",Nährstoffabgabe!M501)","v":0}]
[{"$f":"IF(Nährstoffabgabe!A502=\"\",\"\",Nährstoffabgabe!A502)","v":"Petersilie, Blatt-, Verarbeitung, alle Schnitte"},{"$f":"IF(Nährstoffabgabe!B502=\"\",\"\",Nährstoffabgabe!B502)","v":500},{"$f":"IF(Nährstoffabgabe!C502=\"\",\"\",Nährstoffabgabe!C502)","v":""},{"$f":"IF(Nährstoffabgabe!D502=\"\",\"\",Nährstoffabgabe!D502)","v":""},{"$f":"Nährstoffabgabe!E502","v":0},{"$f":"IF(Nährstoffabgabe!F502=\"\",\"\",Nährstoffabgabe!F502)","v":0.49},{"$f":"IF(Nährstoffabgabe!G502=\"\",\"\",Nährstoffabgabe!G502)","v":0.13},{"$f":"IF(Nährstoffabgabe!H502=\"\",\"\",Nährstoffabgabe!H502)","v":1.08},{"$f":"IF(Nährstoffabgabe!I502=\"\",\"\",Nährstoffabgabe!I502)","v":0.08},{"$f":"IF(Nährstoffabgabe!J502=\"\",\"\",Nährstoffabgabe!J502)","v":0},{"$f":"IF(Nährstoffabgabe!K502=\"\",\"\",Nährstoffabgabe!K502)","v":0},{"$f":"IF(Nährstoffabgabe!L502=\"\",\"\",Nährstoffabgabe!L502)","v":0},{"$f":"IF(Nährstoffabgabe!M502=\"\",\"\",Nährstoffabgabe!M502)","v":0}]
[{"$f":"IF(Nährstoffabgabe!A503=\"\",\"\",Nährstoffabgabe!A503)","v":"Pfefferminze, Minzen, nicht blühendes Kraut"},{"$f":"IF(Nährstoffabgabe!B503=\"\",\"\",Nährstoffabgabe!B503)","v":400},{"$f":"IF(Nährstoffabgabe!C503=\"\",\"\",Nährstoffabgabe!C503)","v":""},{"$f":"IF(Nährstoffabgabe!D503=\"\",\"\",Nährstoffabgabe!D503)","v":""},{"$f":"Nährstoffabgabe!E503","v":0},{"$f":"IF(Nährstoffabgabe!F503=\"\",\"\",Nährstoffabgabe!F503)","v":0.42},{"$f":"IF(Nährstoffabgabe!G503=\"\",\"\",Nährstoffabgabe!G503)","v":0.11},{"$f":"IF(Nährstoffabgabe!H503=\"\",\"\",Nährstoffabgabe!H503)","v":0.55000000000000004},{"$f":"IF(Nährstoffabgabe!I503=\"\",\"\",Nährstoffabgabe!I503)","v":0.08},{"$f":"IF(Nährstoffabgabe!J503=\"\",\"\",Nährstoffabgabe!J503)","v":0},{"$f":"IF(Nährstoffabgabe!K503=\"\",\"\",Nährstoffabgabe!K503)","v":0},{"$f":"IF(Nährstoffabgabe!L503=\"\",\"\",Nährstoffabgabe!L503)","v":0},{"$f":"IF(Nährstoffabgabe!M503=\"\",\"\",Nährstoffabgabe!M503)","v":0}]
[{"$f":"IF(Nährstoffabgabe!A504=\"\",\"\",Nährstoffabgabe!A504)","v":"Ringelblume, blühendes Kraut"},{"$f":"IF(Nährstoffabgabe!B504=\"\",\"\",Nährstoffabgabe!B504)","v":600},{"$f":"IF(Nährstoffabgabe!C504=\"\",\"\",Nährstoffabgabe!C504)","v":""},{"$f":"IF(Nährstoffabgabe!D504=\"\",\"\",Nährstoffabgabe!D504)","v":""},{"$f":"Nährstoffabgabe!E504","v":0},{"$f":"IF(Nährstoffabgabe!F504=\"\",\"\",Nährstoffabgabe!F504)","v":0.28999999999999998},{"$f":"IF(Nährstoffabgabe!G504=\"\",\"\",Nährstoffabgabe!G504)","v":7.0000000000000007E-2},{"$f":"IF(Nährstoffabgabe!H504=\"\",\"\",Nährstoffabgabe!H504)","v":0.5},{"$f":"IF(Nährstoffabgabe!I504=\"\",\"\",Nährstoffabgabe!I504)","v":0.05},{"$f":"IF(Nährstoffabgabe!J504=\"\",\"\",Nährstoffabgabe!J504)","v":0},{"$f":"IF(Nährstoffabgabe!K504=\"\",\"\",Nährstoffabgabe!K504)","v":0},{"$f":"IF(Nährstoffabgabe!L504=\"\",\"\",Nährstoffabgabe!L504)","v":0},{"$f":"IF(Nährstoffabgabe!M504=\"\",\"\",Nährstoffabgabe!M504)","v":0}]
[{"$f":"IF(Nährstoffabgabe!A505=\"\",\"\",Nährstoffabgabe!A505)","v":"Ringelblume, Blüte + Kraut"},{"$f":"IF(Nährstoffabgabe!B505=\"\",\"\",Nährstoffabgabe!B505)","v":50},{"$f":"IF(Nährstoffabgabe!C505=\"\",\"\",Nährstoffabgabe!C505)","v":""},{"$f":"IF(Nährstoffabgabe!D505=\"\",\"\",Nährstoffabgabe!D505)","v":""},{"$f":"Nährstoffabgabe!E505","v":0},{"$f":"IF(Nährstoffabgabe!F505=\"\",\"\",Nährstoffabgabe!F505)","v":2.9099999999999997},{"$f":"IF(Nährstoffabgabe!G505=\"\",\"\",Nährstoffabgabe!G505)","v":0.75000000000000011},{"$f":"IF(Nährstoffabgabe!H505=\"\",\"\",Nährstoffabgabe!H505)","v":6.76},{"$f":"IF(Nährstoffabgabe!I505=\"\",\"\",Nährstoffabgabe!I505)","v":0.59000000000000008},{"$f":"IF(Nährstoffabgabe!J505=\"\",\"\",Nährstoffabgabe!J505)","v":0},{"$f":"IF(Nährstoffabgabe!K505=\"\",\"\",Nährstoffabgabe!K505)","v":0},{"$f":"IF(Nährstoffabgabe!L505=\"\",\"\",Nährstoffabgabe!L505)","v":0},{"$f":"IF(Nährstoffabgabe!M505=\"\",\"\",Nährstoffabgabe!M505)","v":0}]
[{"$f":"IF(Nährstoffabgabe!A506=\"\",\"\",Nährstoffabgabe!A506)","v":"Ringelblume, Blüte"},{"$f":"IF(Nährstoffabgabe!B506=\"\",\"\",Nährstoffabgabe!B506)","v":50},{"$f":"IF(Nährstoffabgabe!C506=\"\",\"\",Nährstoffabgabe!C506)","v":""},{"$f":"IF(Nährstoffabgabe!D506=\"\",\"\",Nährstoffabgabe!D506)","v":""},{"$f":"Nährstoffabgabe!E506","v":0},{"$f":"IF(Nährstoffabgabe!F506=\"\",\"\",Nährstoffabgabe!F506)","v":0.3},{"$f":"IF(Nährstoffabgabe!G506=\"\",\"\",Nährstoffabgabe!G506)","v":0.12},{"$f":"IF(Nährstoffabgabe!H506=\"\",\"\",Nährstoffabgabe!H506)","v":0.46},{"$f":"IF(Nährstoffabgabe!I506=\"\",\"\",Nährstoffabgabe!I506)","v":0.05},{"$f":"IF(Nährstoffabgabe!J506=\"\",\"\",Nährstoffabgabe!J506)","v":0},{"$f":"IF(Nährstoffabgabe!K506=\"\",\"\",Nährstoffabgabe!K506)","v":0},{"$f":"IF(Nährstoffabgabe!L506=\"\",\"\",Nährstoffabgabe!L506)","v":0},{"$f":"IF(Nährstoffabgabe!M506=\"\",\"\",Nährstoffabgabe!M506)","v":0}]
[{"$f":"IF(Nährstoffabgabe!A507=\"\",\"\",Nährstoffabgabe!A507)","v":"Rosenwurz, jährl. Zuwachs, Wurzel Ernte n. 3 Jahren"},{"$f":"IF(Nährstoffabgabe!B507=\"\",\"\",Nährstoffabgabe!B507)","v":50},{"$f":"IF(Nährstoffabgabe!C507=\"\",\"\",Nährstoffabgabe!C507)","v":""},{"$f":"IF(Nährstoffabgabe!D507=\"\",\"\",Nährstoffabgabe!D507)","v":""},{"$f":"Nährstoffabgabe!E507","v":0},{"$f":"IF(Nährstoffabgabe!F507=\"\",\"\",Nährstoffabgabe!F507)","v":0.62},{"$f":"IF(Nährstoffabgabe!G507=\"\",\"\",Nährstoffabgabe!G507)","v":0.15},{"$f":"IF(Nährstoffabgabe!H507=\"\",\"\",Nährstoffabgabe!H507)","v":0.56000000000000005},{"$f":"IF(Nährstoffabgabe!I507=\"\",\"\",Nährstoffabgabe!I507)","v":0.05},{"$f":"IF(Nährstoffabgabe!J507=\"\",\"\",Nährstoffabgabe!J507)","v":0},{"$f":"IF(Nährstoffabgabe!K507=\"\",\"\",Nährstoffabgabe!K507)","v":0},{"$f":"IF(Nährstoffabgabe!L507=\"\",\"\",Nährstoffabgabe!L507)","v":0},{"$f":"IF(Nährstoffabgabe!M507=\"\",\"\",Nährstoffabgabe!M507)","v":0}]
[{"$f":"IF(Nährstoffabgabe!A508=\"\",\"\",Nährstoffabgabe!A508)","v":"Rosmarin, nicht blühendes Kraut"},{"$f":"IF(Nährstoffabgabe!B508=\"\",\"\",Nährstoffabgabe!B508)","v":80},{"$f":"IF(Nährstoffabgabe!C508=\"\",\"\",Nährstoffabgabe!C508)","v":""},{"$f":"IF(Nährstoffabgabe!D508=\"\",\"\",Nährstoffabgabe!D508)","v":""},{"$f":"Nährstoffabgabe!E508","v":0},{"$f":"IF(Nährstoffabgabe!F508=\"\",\"\",Nährstoffabgabe!F508)","v":0.57999999999999996},{"$f":"IF(Nährstoffabgabe!G508=\"\",\"\",Nährstoffabgabe!G508)","v":0.09},{"$f":"IF(Nährstoffabgabe!H508=\"\",\"\",Nährstoffabgabe!H508)","v":0.5},{"$f":"IF(Nährstoffabgabe!I508=\"\",\"\",Nährstoffabgabe!I508)","v":0.3},{"$f":"IF(Nährstoffabgabe!J508=\"\",\"\",Nährstoffabgabe!J508)","v":0},{"$f":"IF(Nährstoffabgabe!K508=\"\",\"\",Nährstoffabgabe!K508)","v":0},{"$f":"IF(Nährstoffabgabe!L508=\"\",\"\",Nährstoffabgabe!L508)","v":0},{"$f":"IF(Nährstoffabgabe!M508=\"\",\"\",Nährstoffabgabe!M508)","v":0}]
[{"$f":"IF(Nährstoffabgabe!A509=\"\",\"\",Nährstoffabgabe!A509)","v":"Rotwurzelsalbei (S. miltior.), Wurzel + Kraut"},{"$f":"IF(Nährstoffabgabe!B509=\"\",\"\",Nährstoffabgabe!B509)","v":200},{"$f":"IF(Nährstoffabgabe!C509=\"\",\"\",Nährstoffabgabe!C509)","v":""},{"$f":"IF(Nährstoffabgabe!D509=\"\",\"\",Nährstoffabgabe!D509)","v":""},{"$f":"Nährstoffabgabe!E509","v":0},{"$f":"IF(Nährstoffabgabe!F509=\"\",\"\",Nährstoffabgabe!F509)","v":0.76700000000000002},{"$f":"IF(Nährstoffabgabe!G509=\"\",\"\",Nährstoffabgabe!G509)","v":0.28400000000000003},{"$f":"IF(Nährstoffabgabe!H509=\"\",\"\",Nährstoffabgabe!H509)","v":1.6529999999999998},{"$f":"IF(Nährstoffabgabe!I509=\"\",\"\",Nährstoffabgabe!I509)","v":0.30099999999999999},{"$f":"IF(Nährstoffabgabe!J509=\"\",\"\",Nährstoffabgabe!J509)","v":0},{"$f":"IF(Nährstoffabgabe!K509=\"\",\"\",Nährstoffabgabe!K509)","v":0},{"$f":"IF(Nährstoffabgabe!L509=\"\",\"\",Nährstoffabgabe!L509)","v":0},{"$f":"IF(Nährstoffabgabe!M509=\"\",\"\",Nährstoffabgabe!M509)","v":0}]
[{"$f":"IF(Nährstoffabgabe!A510=\"\",\"\",Nährstoffabgabe!A510)","v":"Rotwurzelsalbei (S. miltior.), Wurzel"},{"$f":"IF(Nährstoffabgabe!B510=\"\",\"\",Nährstoffabgabe!B510)","v":200},{"$f":"IF(Nährstoffabgabe!C510=\"\",\"\",Nährstoffabgabe!C510)","v":""},{"$f":"IF(Nährstoffabgabe!D510=\"\",\"\",Nährstoffabgabe!D510)","v":""},{"$f":"Nährstoffabgabe!E510","v":0},{"$f":"IF(Nährstoffabgabe!F510=\"\",\"\",Nährstoffabgabe!F510)","v":0.36},{"$f":"IF(Nährstoffabgabe!G510=\"\",\"\",Nährstoffabgabe!G510)","v":0.13},{"$f":"IF(Nährstoffabgabe!H510=\"\",\"\",Nährstoffabgabe!H510)","v":0.41},{"$f":"IF(Nährstoffabgabe!I510=\"\",\"\",Nährstoffabgabe!I510)","v":0.18},{"$f":"IF(Nährstoffabgabe!J510=\"\",\"\",Nährstoffabgabe!J510)","v":0},{"$f":"IF(Nährstoffabgabe!K510=\"\",\"\",Nährstoffabgabe!K510)","v":0},{"$f":"IF(Nährstoffabgabe!L510=\"\",\"\",Nährstoffabgabe!L510)","v":0},{"$f":"IF(Nährstoffabgabe!M510=\"\",\"\",Nährstoffabgabe!M510)","v":0}]
[{"$f":"IF(Nährstoffabgabe!A511=\"\",\"\",Nährstoffabgabe!A511)","v":"Salbei (S. officinalis), nicht blühendes Kraut"},{"$f":"IF(Nährstoffabgabe!B511=\"\",\"\",Nährstoffabgabe!B511)","v":350},{"$f":"IF(Nährstoffabgabe!C511=\"\",\"\",Nährstoffabgabe!C511)","v":""},{"$f":"IF(Nährstoffabgabe!D511=\"\",\"\",Nährstoffabgabe!D511)","v":""},{"$f":"Nährstoffabgabe!E511","v":0},{"$f":"IF(Nährstoffabgabe!F511=\"\",\"\",Nährstoffabgabe!F511)","v":0.49},{"$f":"IF(Nährstoffabgabe!G511=\"\",\"\",Nährstoffabgabe!G511)","v":0.11},{"$f":"IF(Nährstoffabgabe!H511=\"\",\"\",Nährstoffabgabe!H511)","v":0.62},{"$f":"IF(Nährstoffabgabe!I511=\"\",\"\",Nährstoffabgabe!I511)","v":0.13},{"$f":"IF(Nährstoffabgabe!J511=\"\",\"\",Nährstoffabgabe!J511)","v":0},{"$f":"IF(Nährstoffabgabe!K511=\"\",\"\",Nährstoffabgabe!K511)","v":0},{"$f":"IF(Nährstoffabgabe!L511=\"\",\"\",Nährstoffabgabe!L511)","v":0},{"$f":"IF(Nährstoffabgabe!M511=\"\",\"\",Nährstoffabgabe!M511)","v":0}]
[{"$f":"IF(Nährstoffabgabe!A512=\"\",\"\",Nährstoffabgabe!A512)","v":"Saposhnikovia, Wurzel + Kraut"},{"$f":"IF(Nährstoffabgabe!B512=\"\",\"\",Nährstoffabgabe!B512)","v":80},{"$f":"IF(Nährstoffabgabe!C512=\"\",\"\",Nährstoffabgabe!C512)","v":""},{"$f":"IF(Nährstoffabgabe!D512=\"\",\"\",Nährstoffabgabe!D512)","v":""},{"$f":"Nährstoffabgabe!E512","v":0},{"$f":"IF(Nährstoffabgabe!F512=\"\",\"\",Nährstoffabgabe!F512)","v":1.1099999999999999},{"$f":"IF(Nährstoffabgabe!G512=\"\",\"\",Nährstoffabgabe!G512)","v":0.38},{"$f":"IF(Nährstoffabgabe!H512=\"\",\"\",Nährstoffabgabe!H512)","v":1.53},{"$f":"IF(Nährstoffabgabe!I512=\"\",\"\",Nährstoffabgabe!I512)","v":0.14000000000000001},{"$f":"IF(Nährstoffabgabe!J512=\"\",\"\",Nährstoffabgabe!J512)","v":0},{"$f":"IF(Nährstoffabgabe!K512=\"\",\"\",Nährstoffabgabe!K512)","v":0},{"$f":"IF(Nährstoffabgabe!L512=\"\",\"\",Nährstoffabgabe!L512)","v":0},{"$f":"IF(Nährstoffabgabe!M512=\"\",\"\",Nährstoffabgabe!M512)","v":0}]
[{"$f":"IF(Nährstoffabgabe!A513=\"\",\"\",Nährstoffabgabe!A513)","v":"Saposhnikovia, Wurzel"},{"$f":"IF(Nährstoffabgabe!B513=\"\",\"\",Nährstoffabgabe!B513)","v":80},{"$f":"IF(Nährstoffabgabe!C513=\"\",\"\",Nährstoffabgabe!C513)","v":""},{"$f":"IF(Nährstoffabgabe!D513=\"\",\"\",Nährstoffabgabe!D513)","v":""},{"$f":"Nährstoffabgabe!E513","v":0},{"$f":"IF(Nährstoffabgabe!F513=\"\",\"\",Nährstoffabgabe!F513)","v":0.5},{"$f":"IF(Nährstoffabgabe!G513=\"\",\"\",Nährstoffabgabe!G513)","v":0.23},{"$f":"IF(Nährstoffabgabe!H513=\"\",\"\",Nährstoffabgabe!H513)","v":0.64},{"$f":"IF(Nährstoffabgabe!I513=\"\",\"\",Nährstoffabgabe!I513)","v":7.0000000000000007E-2},{"$f":"IF(Nährstoffabgabe!J513=\"\",\"\",Nährstoffabgabe!J513)","v":0},{"$f":"IF(Nährstoffabgabe!K513=\"\",\"\",Nährstoffabgabe!K513)","v":0},{"$f":"IF(Nährstoffabgabe!L513=\"\",\"\",Nährstoffabgabe!L513)","v":0},{"$f":"IF(Nährstoffabgabe!M513=\"\",\"\",Nährstoffabgabe!M513)","v":0}]
[{"$f":"IF(Nährstoffabgabe!A514=\"\",\"\",Nährstoffabgabe!A514)","v":"Saussurea costus, Wurzel + Kraut"},{"$f":"IF(Nährstoffabgabe!B514=\"\",\"\",Nährstoffabgabe!B514)","v":100},{"$f":"IF(Nährstoffabgabe!C514=\"\",\"\",Nährstoffabgabe!C514)","v":""},{"$f":"IF(Nährstoffabgabe!D514=\"\",\"\",Nährstoffabgabe!D514)","v":""},{"$f":"Nährstoffabgabe!E514","v":0},{"$f":"IF(Nährstoffabgabe!F514=\"\",\"\",Nährstoffabgabe!F514)","v":0.78},{"$f":"IF(Nährstoffabgabe!G514=\"\",\"\",Nährstoffabgabe!G514)","v":0.28000000000000003},{"$f":"IF(Nährstoffabgabe!H514=\"\",\"\",Nährstoffabgabe!H514)","v":1.75},{"$f":"IF(Nährstoffabgabe!I514=\"\",\"\",Nährstoffabgabe!I514)","v":0.18},{"$f":"IF(Nährstoffabgabe!J514=\"\",\"\",Nährstoffabgabe!J514)","v":0},{"$f":"IF(Nährstoffabgabe!K514=\"\",\"\",Nährstoffabgabe!K514)","v":0},{"$f":"IF(Nährstoffabgabe!L514=\"\",\"\",Nährstoffabgabe!L514)","v":0},{"$f":"IF(Nährstoffabgabe!M514=\"\",\"\",Nährstoffabgabe!M514)","v":0}]
[{"$f":"IF(Nährstoffabgabe!A515=\"\",\"\",Nährstoffabgabe!A515)","v":"Saussurea costus, Wurzel"},{"$f":"IF(Nährstoffabgabe!B515=\"\",\"\",Nährstoffabgabe!B515)","v":100},{"$f":"IF(Nährstoffabgabe!C515=\"\",\"\",Nährstoffabgabe!C515)","v":""},{"$f":"IF(Nährstoffabgabe!D515=\"\",\"\",Nährstoffabgabe!D515)","v":""},{"$f":"Nährstoffabgabe!E515","v":0},{"$f":"IF(Nährstoffabgabe!F515=\"\",\"\",Nährstoffabgabe!F515)","v":0.5},{"$f":"IF(Nährstoffabgabe!G515=\"\",\"\",Nährstoffabgabe!G515)","v":0.21},{"$f":"IF(Nährstoffabgabe!H515=\"\",\"\",Nährstoffabgabe!H515)","v":0.76},{"$f":"IF(Nährstoffabgabe!I515=\"\",\"\",Nährstoffabgabe!I515)","v":7.0000000000000007E-2},{"$f":"IF(Nährstoffabgabe!J515=\"\",\"\",Nährstoffabgabe!J515)","v":0},{"$f":"IF(Nährstoffabgabe!K515=\"\",\"\",Nährstoffabgabe!K515)","v":0},{"$f":"IF(Nährstoffabgabe!L515=\"\",\"\",Nährstoffabgabe!L515)","v":0},{"$f":"IF(Nährstoffabgabe!M515=\"\",\"\",Nährstoffabgabe!M515)","v":0}]
[{"$f":"IF(Nährstoffabgabe!A516=\"\",\"\",Nährstoffabgabe!A516)","v":"Schabziegerklee, blühendes Kraut"},{"$f":"IF(Nährstoffabgabe!B516=\"\",\"\",Nährstoffabgabe!B516)","v":300},{"$f":"IF(Nährstoffabgabe!C516=\"\",\"\",Nährstoffabgabe!C516)","v":""},{"$f":"IF(Nährstoffabgabe!D516=\"\",\"\",Nährstoffabgabe!D516)","v":""},{"$f":"Nährstoffabgabe!E516","v":0},{"$f":"IF(Nährstoffabgabe!F516=\"\",\"\",Nährstoffabgabe!F516)","v":0.37},{"$f":"IF(Nährstoffabgabe!G516=\"\",\"\",Nährstoffabgabe!G516)","v":0.08},{"$f":"IF(Nährstoffabgabe!H516=\"\",\"\",Nährstoffabgabe!H516)","v":0.66},{"$f":"IF(Nährstoffabgabe!I516=\"\",\"\",Nährstoffabgabe!I516)","v":7.0000000000000007E-2},{"$f":"IF(Nährstoffabgabe!J516=\"\",\"\",Nährstoffabgabe!J516)","v":0},{"$f":"IF(Nährstoffabgabe!K516=\"\",\"\",Nährstoffabgabe!K516)","v":0},{"$f":"IF(Nährstoffabgabe!L516=\"\",\"\",Nährstoffabgabe!L516)","v":0},{"$f":"IF(Nährstoffabgabe!M516=\"\",\"\",Nährstoffabgabe!M516)","v":0}]
[{"$f":"IF(Nährstoffabgabe!A517=\"\",\"\",Nährstoffabgabe!A517)","v":"Schafgarbe, Blühhorizont"},{"$f":"IF(Nährstoffabgabe!B517=\"\",\"\",Nährstoffabgabe!B517)","v":350},{"$f":"IF(Nährstoffabgabe!C517=\"\",\"\",Nährstoffabgabe!C517)","v":""},{"$f":"IF(Nährstoffabgabe!D517=\"\",\"\",Nährstoffabgabe!D517)","v":""},{"$f":"Nährstoffabgabe!E517","v":0},{"$f":"IF(Nährstoffabgabe!F517=\"\",\"\",Nährstoffabgabe!F517)","v":0.46},{"$f":"IF(Nährstoffabgabe!G517=\"\",\"\",Nährstoffabgabe!G517)","v":0.16},{"$f":"IF(Nährstoffabgabe!H517=\"\",\"\",Nährstoffabgabe!H517)","v":0.77},{"$f":"IF(Nährstoffabgabe!I517=\"\",\"\",Nährstoffabgabe!I517)","v":0.05},{"$f":"IF(Nährstoffabgabe!J517=\"\",\"\",Nährstoffabgabe!J517)","v":0},{"$f":"IF(Nährstoffabgabe!K517=\"\",\"\",Nährstoffabgabe!K517)","v":0},{"$f":"IF(Nährstoffabgabe!L517=\"\",\"\",Nährstoffabgabe!L517)","v":0},{"$f":"IF(Nährstoffabgabe!M517=\"\",\"\",Nährstoffabgabe!M517)","v":0}]
[{"$f":"IF(Nährstoffabgabe!A518=\"\",\"\",Nährstoffabgabe!A518)","v":"Schleifenblume, bittere, Kraut"},{"$f":"IF(Nährstoffabgabe!B518=\"\",\"\",Nährstoffabgabe!B518)","v":150},{"$f":"IF(Nährstoffabgabe!C518=\"\",\"\",Nährstoffabgabe!C518)","v":""},{"$f":"IF(Nährstoffabgabe!D518=\"\",\"\",Nährstoffabgabe!D518)","v":""},{"$f":"Nährstoffabgabe!E518","v":0},{"$f":"IF(Nährstoffabgabe!F518=\"\",\"\",Nährstoffabgabe!F518)","v":0.35},{"$f":"IF(Nährstoffabgabe!G518=\"\",\"\",Nährstoffabgabe!G518)","v":0.09},{"$f":"IF(Nährstoffabgabe!H518=\"\",\"\",Nährstoffabgabe!H518)","v":0.37},{"$f":"IF(Nährstoffabgabe!I518=\"\",\"\",Nährstoffabgabe!I518)","v":0.04},{"$f":"IF(Nährstoffabgabe!J518=\"\",\"\",Nährstoffabgabe!J518)","v":0},{"$f":"IF(Nährstoffabgabe!K518=\"\",\"\",Nährstoffabgabe!K518)","v":0},{"$f":"IF(Nährstoffabgabe!L518=\"\",\"\",Nährstoffabgabe!L518)","v":0},{"$f":"IF(Nährstoffabgabe!M518=\"\",\"\",Nährstoffabgabe!M518)","v":0}]
[{"$f":"IF(Nährstoffabgabe!A519=\"\",\"\",Nährstoffabgabe!A519)","v":"Schlüsselblume, Blüte + Kraut"},{"$f":"IF(Nährstoffabgabe!B519=\"\",\"\",Nährstoffabgabe!B519)","v":25},{"$f":"IF(Nährstoffabgabe!C519=\"\",\"\",Nährstoffabgabe!C519)","v":""},{"$f":"IF(Nährstoffabgabe!D519=\"\",\"\",Nährstoffabgabe!D519)","v":""},{"$f":"Nährstoffabgabe!E519","v":0},{"$f":"IF(Nährstoffabgabe!F519=\"\",\"\",Nährstoffabgabe!F519)","v":1.3540000000000001},{"$f":"IF(Nährstoffabgabe!G519=\"\",\"\",Nährstoffabgabe!G519)","v":0.51},{"$f":"IF(Nährstoffabgabe!H519=\"\",\"\",Nährstoffabgabe!H519)","v":3.266},{"$f":"IF(Nährstoffabgabe!I519=\"\",\"\",Nährstoffabgabe!I519)","v":0.33},{"$f":"IF(Nährstoffabgabe!J519=\"\",\"\",Nährstoffabgabe!J519)","v":0},{"$f":"IF(Nährstoffabgabe!K519=\"\",\"\",Nährstoffabgabe!K519)","v":0},{"$f":"IF(Nährstoffabgabe!L519=\"\",\"\",Nährstoffabgabe!L519)","v":0},{"$f":"IF(Nährstoffabgabe!M519=\"\",\"\",Nährstoffabgabe!M519)","v":0}]
[{"$f":"IF(Nährstoffabgabe!A520=\"\",\"\",Nährstoffabgabe!A520)","v":"Schlüsselblume, Blüte"},{"$f":"IF(Nährstoffabgabe!B520=\"\",\"\",Nährstoffabgabe!B520)","v":25},{"$f":"IF(Nährstoffabgabe!C520=\"\",\"\",Nährstoffabgabe!C520)","v":""},{"$f":"IF(Nährstoffabgabe!D520=\"\",\"\",Nährstoffabgabe!D520)","v":""},{"$f":"Nährstoffabgabe!E520","v":0},{"$f":"IF(Nährstoffabgabe!F520=\"\",\"\",Nährstoffabgabe!F520)","v":0.34},{"$f":"IF(Nährstoffabgabe!G520=\"\",\"\",Nährstoffabgabe!G520)","v":0.12},{"$f":"IF(Nährstoffabgabe!H520=\"\",\"\",Nährstoffabgabe!H520)","v":0.64},{"$f":"IF(Nährstoffabgabe!I520=\"\",\"\",Nährstoffabgabe!I520)","v":7.0000000000000007E-2},{"$f":"IF(Nährstoffabgabe!J520=\"\",\"\",Nährstoffabgabe!J520)","v":0},{"$f":"IF(Nährstoffabgabe!K520=\"\",\"\",Nährstoffabgabe!K520)","v":0},{"$f":"IF(Nährstoffabgabe!L520=\"\",\"\",Nährstoffabgabe!L520)","v":0},{"$f":"IF(Nährstoffabgabe!M520=\"\",\"\",Nährstoffabgabe!M520)","v":0}]
[{"$f":"IF(Nährstoffabgabe!A521=\"\",\"\",Nährstoffabgabe!A521)","v":"Schlüsselblume, Wurzel"},{"$f":"IF(Nährstoffabgabe!B521=\"\",\"\",Nährstoffabgabe!B521)","v":120},{"$f":"IF(Nährstoffabgabe!C521=\"\",\"\",Nährstoffabgabe!C521)","v":""},{"$f":"IF(Nährstoffabgabe!D521=\"\",\"\",Nährstoffabgabe!D521)","v":""},{"$f":"Nährstoffabgabe!E521","v":0},{"$f":"IF(Nährstoffabgabe!F521=\"\",\"\",Nährstoffabgabe!F521)","v":0.27},{"$f":"IF(Nährstoffabgabe!G521=\"\",\"\",Nährstoffabgabe!G521)","v":0.15},{"$f":"IF(Nährstoffabgabe!H521=\"\",\"\",Nährstoffabgabe!H521)","v":0.35},{"$f":"IF(Nährstoffabgabe!I521=\"\",\"\",Nährstoffabgabe!I521)","v":0.09},{"$f":"IF(Nährstoffabgabe!J521=\"\",\"\",Nährstoffabgabe!J521)","v":0},{"$f":"IF(Nährstoffabgabe!K521=\"\",\"\",Nährstoffabgabe!K521)","v":0},{"$f":"IF(Nährstoffabgabe!L521=\"\",\"\",Nährstoffabgabe!L521)","v":0},{"$f":"IF(Nährstoffabgabe!M521=\"\",\"\",Nährstoffabgabe!M521)","v":0}]
[{"$f":"IF(Nährstoffabgabe!A522=\"\",\"\",Nährstoffabgabe!A522)","v":"Schlüsselblume, Wurzel + Kraut"},{"$f":"IF(Nährstoffabgabe!B522=\"\",\"\",Nährstoffabgabe!B522)","v":120},{"$f":"IF(Nährstoffabgabe!C522=\"\",\"\",Nährstoffabgabe!C522)","v":""},{"$f":"IF(Nährstoffabgabe!D522=\"\",\"\",Nährstoffabgabe!D522)","v":""},{"$f":"Nährstoffabgabe!E522","v":0},{"$f":"IF(Nährstoffabgabe!F522=\"\",\"\",Nährstoffabgabe!F522)","v":0.70750000000000002},{"$f":"IF(Nährstoffabgabe!G522=\"\",\"\",Nährstoffabgabe!G522)","v":0.28541666666666665},{"$f":"IF(Nährstoffabgabe!H522=\"\",\"\",Nährstoffabgabe!H522)","v":1.1104166666666666},{"$f":"IF(Nährstoffabgabe!I522=\"\",\"\",Nährstoffabgabe!I522)","v":0.26708333333333334},{"$f":"IF(Nährstoffabgabe!J522=\"\",\"\",Nährstoffabgabe!J522)","v":0},{"$f":"IF(Nährstoffabgabe!K522=\"\",\"\",Nährstoffabgabe!K522)","v":0},{"$f":"IF(Nährstoffabgabe!L522=\"\",\"\",Nährstoffabgabe!L522)","v":0},{"$f":"IF(Nährstoffabgabe!M522=\"\",\"\",Nährstoffabgabe!M522)","v":0}]
[{"$f":"IF(Nährstoffabgabe!A523=\"\",\"\",Nährstoffabgabe!A523)","v":"Schnittknoblauch, Kraut"},{"$f":"IF(Nährstoffabgabe!B523=\"\",\"\",Nährstoffabgabe!B523)","v":200},{"$f":"IF(Nährstoffabgabe!C523=\"\",\"\",Nährstoffabgabe!C523)","v":""},{"$f":"IF(Nährstoffabgabe!D523=\"\",\"\",Nährstoffabgabe!D523)","v":""},{"$f":"Nährstoffabgabe!E523","v":0},{"$f":"IF(Nährstoffabgabe!F523=\"\",\"\",Nährstoffabgabe!F523)","v":0.43},{"$f":"IF(Nährstoffabgabe!G523=\"\",\"\",Nährstoffabgabe!G523)","v":0.09},{"$f":"IF(Nährstoffabgabe!H523=\"\",\"\",Nährstoffabgabe!H523)","v":0.41},{"$f":"IF(Nährstoffabgabe!I523=\"\",\"\",Nährstoffabgabe!I523)","v":0.09},{"$f":"IF(Nährstoffabgabe!J523=\"\",\"\",Nährstoffabgabe!J523)","v":0},{"$f":"IF(Nährstoffabgabe!K523=\"\",\"\",Nährstoffabgabe!K523)","v":0},{"$f":"IF(Nährstoffabgabe!L523=\"\",\"\",Nährstoffabgabe!L523)","v":0},{"$f":"IF(Nährstoffabgabe!M523=\"\",\"\",Nährstoffabgabe!M523)","v":0}]
[{"$f":"IF(Nährstoffabgabe!A524=\"\",\"\",Nährstoffabgabe!A524)","v":"Schnittlauch, bis 1. Schnitt"},{"$f":"IF(Nährstoffabgabe!B524=\"\",\"\",Nährstoffabgabe!B524)","v":300},{"$f":"IF(Nährstoffabgabe!C524=\"\",\"\",Nährstoffabgabe!C524)","v":""},{"$f":"IF(Nährstoffabgabe!D524=\"\",\"\",Nährstoffabgabe!D524)","v":""},{"$f":"Nährstoffabgabe!E524","v":0},{"$f":"IF(Nährstoffabgabe!F524=\"\",\"\",Nährstoffabgabe!F524)","v":0.5},{"$f":"IF(Nährstoffabgabe!G524=\"\",\"\",Nährstoffabgabe!G524)","v":0.13700000000000001},{"$f":"IF(Nährstoffabgabe!H524=\"\",\"\",Nährstoffabgabe!H524)","v":0.52},{"$f":"IF(Nährstoffabgabe!I524=\"\",\"\",Nährstoffabgabe!I524)","v":7.0000000000000007E-2},{"$f":"IF(Nährstoffabgabe!J524=\"\",\"\",Nährstoffabgabe!J524)","v":0},{"$f":"IF(Nährstoffabgabe!K524=\"\",\"\",Nährstoffabgabe!K524)","v":0},{"$f":"IF(Nährstoffabgabe!L524=\"\",\"\",Nährstoffabgabe!L524)","v":0},{"$f":"IF(Nährstoffabgabe!M524=\"\",\"\",Nährstoffabgabe!M524)","v":0}]
[{"$f":"IF(Nährstoffabgabe!A525=\"\",\"\",Nährstoffabgabe!A525)","v":"Schnittlauch, nach 1. Schnitt"},{"$f":"IF(Nährstoffabgabe!B525=\"\",\"\",Nährstoffabgabe!B525)","v":200},{"$f":"IF(Nährstoffabgabe!C525=\"\",\"\",Nährstoffabgabe!C525)","v":""},{"$f":"IF(Nährstoffabgabe!D525=\"\",\"\",Nährstoffabgabe!D525)","v":""},{"$f":"Nährstoffabgabe!E525","v":0},{"$f":"IF(Nährstoffabgabe!F525=\"\",\"\",Nährstoffabgabe!F525)","v":0.5},{"$f":"IF(Nährstoffabgabe!G525=\"\",\"\",Nährstoffabgabe!G525)","v":0.13700000000000001},{"$f":"IF(Nährstoffabgabe!H525=\"\",\"\",Nährstoffabgabe!H525)","v":0.52},{"$f":"IF(Nährstoffabgabe!I525=\"\",\"\",Nährstoffabgabe!I525)","v":7.0000000000000007E-2},{"$f":"IF(Nährstoffabgabe!J525=\"\",\"\",Nährstoffabgabe!J525)","v":0},{"$f":"IF(Nährstoffabgabe!K525=\"\",\"\",Nährstoffabgabe!K525)","v":0},{"$f":"IF(Nährstoffabgabe!L525=\"\",\"\",Nährstoffabgabe!L525)","v":0},{"$f":"IF(Nährstoffabgabe!M525=\"\",\"\",Nährstoffabgabe!M525)","v":0}]
[{"$f":"IF(Nährstoffabgabe!A526=\"\",\"\",Nährstoffabgabe!A526)","v":"Schnittlauch, Verarbeitung, alle Schnitte"},{"$f":"IF(Nährstoffabgabe!B526=\"\",\"\",Nährstoffabgabe!B526)","v":500},{"$f":"IF(Nährstoffabgabe!C526=\"\",\"\",Nährstoffabgabe!C526)","v":""},{"$f":"IF(Nährstoffabgabe!D526=\"\",\"\",Nährstoffabgabe!D526)","v":""},{"$f":"Nährstoffabgabe!E526","v":0},{"$f":"IF(Nährstoffabgabe!F526=\"\",\"\",Nährstoffabgabe!F526)","v":0.5},{"$f":"IF(Nährstoffabgabe!G526=\"\",\"\",Nährstoffabgabe!G526)","v":0.13700000000000001},{"$f":"IF(Nährstoffabgabe!H526=\"\",\"\",Nährstoffabgabe!H526)","v":0.52},{"$f":"IF(Nährstoffabgabe!I526=\"\",\"\",Nährstoffabgabe!I526)","v":7.0000000000000007E-2},{"$f":"IF(Nährstoffabgabe!J526=\"\",\"\",Nährstoffabgabe!J526)","v":0},{"$f":"IF(Nährstoffabgabe!K526=\"\",\"\",Nährstoffabgabe!K526)","v":0},{"$f":"IF(Nährstoffabgabe!L526=\"\",\"\",Nährstoffabgabe!L526)","v":0},{"$f":"IF(Nährstoffabgabe!M526=\"\",\"\",Nährstoffabgabe!M526)","v":0}]
[{"$f":"IF(Nährstoffabgabe!A527=\"\",\"\",Nährstoffabgabe!A527)","v":"Schnittlauch, Wurzel für Treiberei"},{"$f":"IF(Nährstoffabgabe!B527=\"\",\"\",Nährstoffabgabe!B527)","v":280},{"$f":"IF(Nährstoffabgabe!C527=\"\",\"\",Nährstoffabgabe!C527)","v":""},{"$f":"IF(Nährstoffabgabe!D527=\"\",\"\",Nährstoffabgabe!D527)","v":""},{"$f":"Nährstoffabgabe!E527","v":0},{"$f":"IF(Nährstoffabgabe!F527=\"\",\"\",Nährstoffabgabe!F527)","v":0.5},{"$f":"IF(Nährstoffabgabe!G527=\"\",\"\",Nährstoffabgabe!G527)","v":0.13700000000000001},{"$f":"IF(Nährstoffabgabe!H527=\"\",\"\",Nährstoffabgabe!H527)","v":0.52},{"$f":"IF(Nährstoffabgabe!I527=\"\",\"\",Nährstoffabgabe!I527)","v":7.0000000000000007E-2},{"$f":"IF(Nährstoffabgabe!J527=\"\",\"\",Nährstoffabgabe!J527)","v":0},{"$f":"IF(Nährstoffabgabe!K527=\"\",\"\",Nährstoffabgabe!K527)","v":0},{"$f":"IF(Nährstoffabgabe!L527=\"\",\"\",Nährstoffabgabe!L527)","v":0},{"$f":"IF(Nährstoffabgabe!M527=\"\",\"\",Nährstoffabgabe!M527)","v":0}]
[{"$f":"IF(Nährstoffabgabe!A528=\"\",\"\",Nährstoffabgabe!A528)","v":"Schöllkraut, blühendes Kraut"},{"$f":"IF(Nährstoffabgabe!B528=\"\",\"\",Nährstoffabgabe!B528)","v":300},{"$f":"IF(Nährstoffabgabe!C528=\"\",\"\",Nährstoffabgabe!C528)","v":""},{"$f":"IF(Nährstoffabgabe!D528=\"\",\"\",Nährstoffabgabe!D528)","v":""},{"$f":"Nährstoffabgabe!E528","v":0},{"$f":"IF(Nährstoffabgabe!F528=\"\",\"\",Nährstoffabgabe!F528)","v":0.4},{"$f":"IF(Nährstoffabgabe!G528=\"\",\"\",Nährstoffabgabe!G528)","v":0.11},{"$f":"IF(Nährstoffabgabe!H528=\"\",\"\",Nährstoffabgabe!H528)","v":0.5},{"$f":"IF(Nährstoffabgabe!I528=\"\",\"\",Nährstoffabgabe!I528)","v":0.08},{"$f":"IF(Nährstoffabgabe!J528=\"\",\"\",Nährstoffabgabe!J528)","v":0},{"$f":"IF(Nährstoffabgabe!K528=\"\",\"\",Nährstoffabgabe!K528)","v":0},{"$f":"IF(Nährstoffabgabe!L528=\"\",\"\",Nährstoffabgabe!L528)","v":0},{"$f":"IF(Nährstoffabgabe!M528=\"\",\"\",Nährstoffabgabe!M528)","v":0}]
[{"$f":"IF(Nährstoffabgabe!A529=\"\",\"\",Nährstoffabgabe!A529)","v":"Schwarzkümmel, Samen + Stroh"},{"$f":"IF(Nährstoffabgabe!B529=\"\",\"\",Nährstoffabgabe!B529)","v":15},{"$f":"IF(Nährstoffabgabe!C529=\"\",\"\",Nährstoffabgabe!C529)","v":""},{"$f":"IF(Nährstoffabgabe!D529=\"\",\"\",Nährstoffabgabe!D529)","v":""},{"$f":"Nährstoffabgabe!E529","v":0},{"$f":"IF(Nährstoffabgabe!F529=\"\",\"\",Nährstoffabgabe!F529)","v":4.3},{"$f":"IF(Nährstoffabgabe!G529=\"\",\"\",Nährstoffabgabe!G529)","v":2},{"$f":"IF(Nährstoffabgabe!H529=\"\",\"\",Nährstoffabgabe!H529)","v":3.02},{"$f":"IF(Nährstoffabgabe!I529=\"\",\"\",Nährstoffabgabe!I529)","v":0.76},{"$f":"IF(Nährstoffabgabe!J529=\"\",\"\",Nährstoffabgabe!J529)","v":0},{"$f":"IF(Nährstoffabgabe!K529=\"\",\"\",Nährstoffabgabe!K529)","v":0},{"$f":"IF(Nährstoffabgabe!L529=\"\",\"\",Nährstoffabgabe!L529)","v":0},{"$f":"IF(Nährstoffabgabe!M529=\"\",\"\",Nährstoffabgabe!M529)","v":0}]
[{"$f":"IF(Nährstoffabgabe!A530=\"\",\"\",Nährstoffabgabe!A530)","v":"Schwarzkümmel, Samen"},{"$f":"IF(Nährstoffabgabe!B530=\"\",\"\",Nährstoffabgabe!B530)","v":15},{"$f":"IF(Nährstoffabgabe!C530=\"\",\"\",Nährstoffabgabe!C530)","v":""},{"$f":"IF(Nährstoffabgabe!D530=\"\",\"\",Nährstoffabgabe!D530)","v":""},{"$f":"Nährstoffabgabe!E530","v":0},{"$f":"IF(Nährstoffabgabe!F530=\"\",\"\",Nährstoffabgabe!F530)","v":3.6},{"$f":"IF(Nährstoffabgabe!G530=\"\",\"\",Nährstoffabgabe!G530)","v":1.71},{"$f":"IF(Nährstoffabgabe!H530=\"\",\"\",Nährstoffabgabe!H530)","v":0.92},{"$f":"IF(Nährstoffabgabe!I530=\"\",\"\",Nährstoffabgabe!I530)","v":0.48},{"$f":"IF(Nährstoffabgabe!J530=\"\",\"\",Nährstoffabgabe!J530)","v":0},{"$f":"IF(Nährstoffabgabe!K530=\"\",\"\",Nährstoffabgabe!K530)","v":0},{"$f":"IF(Nährstoffabgabe!L530=\"\",\"\",Nährstoffabgabe!L530)","v":0},{"$f":"IF(Nährstoffabgabe!M530=\"\",\"\",Nährstoffabgabe!M530)","v":0}]
[{"$f":"IF(Nährstoffabgabe!A531=\"\",\"\",Nährstoffabgabe!A531)","v":"Schwertlilie, jährl. Zuwachs, Rhizom Ernte n. 3 Jahren + Kraut"},{"$f":"IF(Nährstoffabgabe!B531=\"\",\"\",Nährstoffabgabe!B531)","v":50},{"$f":"IF(Nährstoffabgabe!C531=\"\",\"\",Nährstoffabgabe!C531)","v":""},{"$f":"IF(Nährstoffabgabe!D531=\"\",\"\",Nährstoffabgabe!D531)","v":""},{"$f":"Nährstoffabgabe!E531","v":0},{"$f":"IF(Nährstoffabgabe!F531=\"\",\"\",Nährstoffabgabe!F531)","v":0.24},{"$f":"IF(Nährstoffabgabe!G531=\"\",\"\",Nährstoffabgabe!G531)","v":0.08},{"$f":"IF(Nährstoffabgabe!H531=\"\",\"\",Nährstoffabgabe!H531)","v":0.66},{"$f":"IF(Nährstoffabgabe!I531=\"\",\"\",Nährstoffabgabe!I531)","v":0.04},{"$f":"IF(Nährstoffabgabe!J531=\"\",\"\",Nährstoffabgabe!J531)","v":0},{"$f":"IF(Nährstoffabgabe!K531=\"\",\"\",Nährstoffabgabe!K531)","v":0},{"$f":"IF(Nährstoffabgabe!L531=\"\",\"\",Nährstoffabgabe!L531)","v":0},{"$f":"IF(Nährstoffabgabe!M531=\"\",\"\",Nährstoffabgabe!M531)","v":0}]
[{"$f":"IF(Nährstoffabgabe!A532=\"\",\"\",Nährstoffabgabe!A532)","v":"Schwertlilie, jährl. Zuwachs, Rhizom Ernte n. 3 Jahren"},{"$f":"IF(Nährstoffabgabe!B532=\"\",\"\",Nährstoffabgabe!B532)","v":50},{"$f":"IF(Nährstoffabgabe!C532=\"\",\"\",Nährstoffabgabe!C532)","v":""},{"$f":"IF(Nährstoffabgabe!D532=\"\",\"\",Nährstoffabgabe!D532)","v":""},{"$f":"Nährstoffabgabe!E532","v":0},{"$f":"IF(Nährstoffabgabe!F532=\"\",\"\",Nährstoffabgabe!F532)","v":0.3},{"$f":"IF(Nährstoffabgabe!G532=\"\",\"\",Nährstoffabgabe!G532)","v":0.09},{"$f":"IF(Nährstoffabgabe!H532=\"\",\"\",Nährstoffabgabe!H532)","v":0.31},{"$f":"IF(Nährstoffabgabe!I532=\"\",\"\",Nährstoffabgabe!I532)","v":0.04},{"$f":"IF(Nährstoffabgabe!J532=\"\",\"\",Nährstoffabgabe!J532)","v":0},{"$f":"IF(Nährstoffabgabe!K532=\"\",\"\",Nährstoffabgabe!K532)","v":0},{"$f":"IF(Nährstoffabgabe!L532=\"\",\"\",Nährstoffabgabe!L532)","v":0},{"$f":"IF(Nährstoffabgabe!M532=\"\",\"\",Nährstoffabgabe!M532)","v":0}]
[{"$f":"IF(Nährstoffabgabe!A533=\"\",\"\",Nährstoffabgabe!A533)","v":"Sellerie, Schnitt, Kraut"},{"$f":"IF(Nährstoffabgabe!B533=\"\",\"\",Nährstoffabgabe!B533)","v":550},{"$f":"IF(Nährstoffabgabe!C533=\"\",\"\",Nährstoffabgabe!C533)","v":""},{"$f":"IF(Nährstoffabgabe!D533=\"\",\"\",Nährstoffabgabe!D533)","v":""},{"$f":"Nährstoffabgabe!E533","v":0},{"$f":"IF(Nährstoffabgabe!F533=\"\",\"\",Nährstoffabgabe!F533)","v":0.37},{"$f":"IF(Nährstoffabgabe!G533=\"\",\"\",Nährstoffabgabe!G533)","v":0.11},{"$f":"IF(Nährstoffabgabe!H533=\"\",\"\",Nährstoffabgabe!H533)","v":0.5},{"$f":"IF(Nährstoffabgabe!I533=\"\",\"\",Nährstoffabgabe!I533)","v":0.06},{"$f":"IF(Nährstoffabgabe!J533=\"\",\"\",Nährstoffabgabe!J533)","v":0},{"$f":"IF(Nährstoffabgabe!K533=\"\",\"\",Nährstoffabgabe!K533)","v":0},{"$f":"IF(Nährstoffabgabe!L533=\"\",\"\",Nährstoffabgabe!L533)","v":0},{"$f":"IF(Nährstoffabgabe!M533=\"\",\"\",Nährstoffabgabe!M533)","v":0}]
[{"$f":"IF(Nährstoffabgabe!A534=\"\",\"\",Nährstoffabgabe!A534)","v":"Senf, Brauner, Samen + Stroh"},{"$f":"IF(Nährstoffabgabe!B534=\"\",\"\",Nährstoffabgabe!B534)","v":9},{"$f":"IF(Nährstoffabgabe!C534=\"\",\"\",Nährstoffabgabe!C534)","v":""},{"$f":"IF(Nährstoffabgabe!D534=\"\",\"\",Nährstoffabgabe!D534)","v":""},{"$f":"Nährstoffabgabe!E534","v":0},{"$f":"IF(Nährstoffabgabe!F534=\"\",\"\",Nährstoffabgabe!F534)","v":5},{"$f":"IF(Nährstoffabgabe!G534=\"\",\"\",Nährstoffabgabe!G534)","v":2.0644444444444443},{"$f":"IF(Nährstoffabgabe!H534=\"\",\"\",Nährstoffabgabe!H534)","v":2.5766666666666667},{"$f":"IF(Nährstoffabgabe!I534=\"\",\"\",Nährstoffabgabe!I534)","v":0.67222222222222228},{"$f":"IF(Nährstoffabgabe!J534=\"\",\"\",Nährstoffabgabe!J534)","v":0},{"$f":"IF(Nährstoffabgabe!K534=\"\",\"\",Nährstoffabgabe!K534)","v":0},{"$f":"IF(Nährstoffabgabe!L534=\"\",\"\",Nährstoffabgabe!L534)","v":0},{"$f":"IF(Nährstoffabgabe!M534=\"\",\"\",Nährstoffabgabe!M534)","v":0}]
[{"$f":"IF(Nährstoffabgabe!A535=\"\",\"\",Nährstoffabgabe!A535)","v":"Senf, Brauner, Samen"},{"$f":"IF(Nährstoffabgabe!B535=\"\",\"\",Nährstoffabgabe!B535)","v":9},{"$f":"IF(Nährstoffabgabe!C535=\"\",\"\",Nährstoffabgabe!C535)","v":""},{"$f":"IF(Nährstoffabgabe!D535=\"\",\"\",Nährstoffabgabe!D535)","v":""},{"$f":"Nährstoffabgabe!E535","v":0},{"$f":"IF(Nährstoffabgabe!F535=\"\",\"\",Nährstoffabgabe!F535)","v":3.05},{"$f":"IF(Nährstoffabgabe!G535=\"\",\"\",Nährstoffabgabe!G535)","v":1.53},{"$f":"IF(Nährstoffabgabe!H535=\"\",\"\",Nährstoffabgabe!H535)","v":0.67},{"$f":"IF(Nährstoffabgabe!I535=\"\",\"\",Nährstoffabgabe!I535)","v":0.34},{"$f":"IF(Nährstoffabgabe!J535=\"\",\"\",Nährstoffabgabe!J535)","v":0},{"$f":"IF(Nährstoffabgabe!K535=\"\",\"\",Nährstoffabgabe!K535)","v":0},{"$f":"IF(Nährstoffabgabe!L535=\"\",\"\",Nährstoffabgabe!L535)","v":0},{"$f":"IF(Nährstoffabgabe!M535=\"\",\"\",Nährstoffabgabe!M535)","v":0}]
[{"$f":"IF(Nährstoffabgabe!A536=\"\",\"\",Nährstoffabgabe!A536)","v":"Senf, Gelber/Weißer, Samen + Kraut"},{"$f":"IF(Nährstoffabgabe!B536=\"\",\"\",Nährstoffabgabe!B536)","v":15},{"$f":"IF(Nährstoffabgabe!C536=\"\",\"\",Nährstoffabgabe!C536)","v":""},{"$f":"IF(Nährstoffabgabe!D536=\"\",\"\",Nährstoffabgabe!D536)","v":""},{"$f":"Nährstoffabgabe!E536","v":0},{"$f":"IF(Nährstoffabgabe!F536=\"\",\"\",Nährstoffabgabe!F536)","v":7.8},{"$f":"IF(Nährstoffabgabe!G536=\"\",\"\",Nährstoffabgabe!G536)","v":3.3699999999999997},{"$f":"IF(Nährstoffabgabe!H536=\"\",\"\",Nährstoffabgabe!H536)","v":10.93},{"$f":"IF(Nährstoffabgabe!I536=\"\",\"\",Nährstoffabgabe!I536)","v":0.9},{"$f":"IF(Nährstoffabgabe!J536=\"\",\"\",Nährstoffabgabe!J536)","v":0},{"$f":"IF(Nährstoffabgabe!K536=\"\",\"\",Nährstoffabgabe!K536)","v":0},{"$f":"IF(Nährstoffabgabe!L536=\"\",\"\",Nährstoffabgabe!L536)","v":0},{"$f":"IF(Nährstoffabgabe!M536=\"\",\"\",Nährstoffabgabe!M536)","v":0}]
[{"$f":"IF(Nährstoffabgabe!A537=\"\",\"\",Nährstoffabgabe!A537)","v":"Senf, Gelber/Weißer, Samen"},{"$f":"IF(Nährstoffabgabe!B537=\"\",\"\",Nährstoffabgabe!B537)","v":15},{"$f":"IF(Nährstoffabgabe!C537=\"\",\"\",Nährstoffabgabe!C537)","v":""},{"$f":"IF(Nährstoffabgabe!D537=\"\",\"\",Nährstoffabgabe!D537)","v":""},{"$f":"Nährstoffabgabe!E537","v":0},{"$f":"IF(Nährstoffabgabe!F537=\"\",\"\",Nährstoffabgabe!F537)","v":5},{"$f":"IF(Nährstoffabgabe!G537=\"\",\"\",Nährstoffabgabe!G537)","v":1.77},{"$f":"IF(Nährstoffabgabe!H537=\"\",\"\",Nährstoffabgabe!H537)","v":0.93},{"$f":"IF(Nährstoffabgabe!I537=\"\",\"\",Nährstoffabgabe!I537)","v":0.3},{"$f":"IF(Nährstoffabgabe!J537=\"\",\"\",Nährstoffabgabe!J537)","v":0},{"$f":"IF(Nährstoffabgabe!K537=\"\",\"\",Nährstoffabgabe!K537)","v":0},{"$f":"IF(Nährstoffabgabe!L537=\"\",\"\",Nährstoffabgabe!L537)","v":0},{"$f":"IF(Nährstoffabgabe!M537=\"\",\"\",Nährstoffabgabe!M537)","v":0}]
[{"$f":"IF(Nährstoffabgabe!A538=\"\",\"\",Nährstoffabgabe!A538)","v":"Senf, Schwarzer, Samen + Kraut"},{"$f":"IF(Nährstoffabgabe!B538=\"\",\"\",Nährstoffabgabe!B538)","v":12},{"$f":"IF(Nährstoffabgabe!C538=\"\",\"\",Nährstoffabgabe!C538)","v":""},{"$f":"IF(Nährstoffabgabe!D538=\"\",\"\",Nährstoffabgabe!D538)","v":""},{"$f":"Nährstoffabgabe!E538","v":0},{"$f":"IF(Nährstoffabgabe!F538=\"\",\"\",Nährstoffabgabe!F538)","v":4.9249999999999998},{"$f":"IF(Nährstoffabgabe!G538=\"\",\"\",Nährstoffabgabe!G538)","v":2.7099999999999995},{"$f":"IF(Nährstoffabgabe!H538=\"\",\"\",Nährstoffabgabe!H538)","v":2.36},{"$f":"IF(Nährstoffabgabe!I538=\"\",\"\",Nährstoffabgabe!I538)","v":0.68},{"$f":"IF(Nährstoffabgabe!J538=\"\",\"\",Nährstoffabgabe!J538)","v":0},{"$f":"IF(Nährstoffabgabe!K538=\"\",\"\",Nährstoffabgabe!K538)","v":0},{"$f":"IF(Nährstoffabgabe!L538=\"\",\"\",Nährstoffabgabe!L538)","v":0},{"$f":"IF(Nährstoffabgabe!M538=\"\",\"\",Nährstoffabgabe!M538)","v":0}]
[{"$f":"IF(Nährstoffabgabe!A539=\"\",\"\",Nährstoffabgabe!A539)","v":"Senf, Schwarzer, Samen"},{"$f":"IF(Nährstoffabgabe!B539=\"\",\"\",Nährstoffabgabe!B539)","v":12},{"$f":"IF(Nährstoffabgabe!C539=\"\",\"\",Nährstoffabgabe!C539)","v":""},{"$f":"IF(Nährstoffabgabe!D539=\"\",\"\",Nährstoffabgabe!D539)","v":""},{"$f":"Nährstoffabgabe!E539","v":0},{"$f":"IF(Nährstoffabgabe!F539=\"\",\"\",Nährstoffabgabe!F539)","v":3.23},{"$f":"IF(Nährstoffabgabe!G539=\"\",\"\",Nährstoffabgabe!G539)","v":1.81},{"$f":"IF(Nährstoffabgabe!H539=\"\",\"\",Nährstoffabgabe!H539)","v":0.65},{"$f":"IF(Nährstoffabgabe!I539=\"\",\"\",Nährstoffabgabe!I539)","v":0.35},{"$f":"IF(Nährstoffabgabe!J539=\"\",\"\",Nährstoffabgabe!J539)","v":0},{"$f":"IF(Nährstoffabgabe!K539=\"\",\"\",Nährstoffabgabe!K539)","v":0},{"$f":"IF(Nährstoffabgabe!L539=\"\",\"\",Nährstoffabgabe!L539)","v":0},{"$f":"IF(Nährstoffabgabe!M539=\"\",\"\",Nährstoffabgabe!M539)","v":0}]
[{"$f":"IF(Nährstoffabgabe!A540=\"\",\"\",Nährstoffabgabe!A540)","v":"Siegesbeckia, blühendes Kraut"},{"$f":"IF(Nährstoffabgabe!B540=\"\",\"\",Nährstoffabgabe!B540)","v":500},{"$f":"IF(Nährstoffabgabe!C540=\"\",\"\",Nährstoffabgabe!C540)","v":""},{"$f":"IF(Nährstoffabgabe!D540=\"\",\"\",Nährstoffabgabe!D540)","v":""},{"$f":"Nährstoffabgabe!E540","v":0},{"$f":"IF(Nährstoffabgabe!F540=\"\",\"\",Nährstoffabgabe!F540)","v":0.26},{"$f":"IF(Nährstoffabgabe!G540=\"\",\"\",Nährstoffabgabe!G540)","v":0.1},{"$f":"IF(Nährstoffabgabe!H540=\"\",\"\",Nährstoffabgabe!H540)","v":0.54},{"$f":"IF(Nährstoffabgabe!I540=\"\",\"\",Nährstoffabgabe!I540)","v":0.08},{"$f":"IF(Nährstoffabgabe!J540=\"\",\"\",Nährstoffabgabe!J540)","v":0},{"$f":"IF(Nährstoffabgabe!K540=\"\",\"\",Nährstoffabgabe!K540)","v":0},{"$f":"IF(Nährstoffabgabe!L540=\"\",\"\",Nährstoffabgabe!L540)","v":0},{"$f":"IF(Nährstoffabgabe!M540=\"\",\"\",Nährstoffabgabe!M540)","v":0}]
[{"$f":"IF(Nährstoffabgabe!A541=\"\",\"\",Nährstoffabgabe!A541)","v":"Sonnenhut (E. angustifolia), blühendes Kraut"},{"$f":"IF(Nährstoffabgabe!B541=\"\",\"\",Nährstoffabgabe!B541)","v":50},{"$f":"IF(Nährstoffabgabe!C541=\"\",\"\",Nährstoffabgabe!C541)","v":""},{"$f":"IF(Nährstoffabgabe!D541=\"\",\"\",Nährstoffabgabe!D541)","v":""},{"$f":"Nährstoffabgabe!E541","v":0},{"$f":"IF(Nährstoffabgabe!F541=\"\",\"\",Nährstoffabgabe!F541)","v":0.56000000000000005},{"$f":"IF(Nährstoffabgabe!G541=\"\",\"\",Nährstoffabgabe!G541)","v":0.12},{"$f":"IF(Nährstoffabgabe!H541=\"\",\"\",Nährstoffabgabe!H541)","v":0.82},{"$f":"IF(Nährstoffabgabe!I541=\"\",\"\",Nährstoffabgabe!I541)","v":0.14000000000000001},{"$f":"IF(Nährstoffabgabe!J541=\"\",\"\",Nährstoffabgabe!J541)","v":0},{"$f":"IF(Nährstoffabgabe!K541=\"\",\"\",Nährstoffabgabe!K541)","v":0},{"$f":"IF(Nährstoffabgabe!L541=\"\",\"\",Nährstoffabgabe!L541)","v":0},{"$f":"IF(Nährstoffabgabe!M541=\"\",\"\",Nährstoffabgabe!M541)","v":0}]
[{"$f":"IF(Nährstoffabgabe!A542=\"\",\"\",Nährstoffabgabe!A542)","v":"Sonnenhut (E. angustifolia), Wurzel + Kraut"},{"$f":"IF(Nährstoffabgabe!B542=\"\",\"\",Nährstoffabgabe!B542)","v":20},{"$f":"IF(Nährstoffabgabe!C542=\"\",\"\",Nährstoffabgabe!C542)","v":""},{"$f":"IF(Nährstoffabgabe!D542=\"\",\"\",Nährstoffabgabe!D542)","v":""},{"$f":"Nährstoffabgabe!E542","v":0},{"$f":"IF(Nährstoffabgabe!F542=\"\",\"\",Nährstoffabgabe!F542)","v":2.35},{"$f":"IF(Nährstoffabgabe!G542=\"\",\"\",Nährstoffabgabe!G542)","v":0.5},{"$f":"IF(Nährstoffabgabe!H542=\"\",\"\",Nährstoffabgabe!H542)","v":2.5},{"$f":"IF(Nährstoffabgabe!I542=\"\",\"\",Nährstoffabgabe!I542)","v":0.45},{"$f":"IF(Nährstoffabgabe!J542=\"\",\"\",Nährstoffabgabe!J542)","v":0},{"$f":"IF(Nährstoffabgabe!K542=\"\",\"\",Nährstoffabgabe!K542)","v":0},{"$f":"IF(Nährstoffabgabe!L542=\"\",\"\",Nährstoffabgabe!L542)","v":0},{"$f":"IF(Nährstoffabgabe!M542=\"\",\"\",Nährstoffabgabe!M542)","v":0}]
[{"$f":"IF(Nährstoffabgabe!A543=\"\",\"\",Nährstoffabgabe!A543)","v":"Sonnenhut (E. angustifolia), Wurzel"},{"$f":"IF(Nährstoffabgabe!B543=\"\",\"\",Nährstoffabgabe!B543)","v":20},{"$f":"IF(Nährstoffabgabe!C543=\"\",\"\",Nährstoffabgabe!C543)","v":""},{"$f":"IF(Nährstoffabgabe!D543=\"\",\"\",Nährstoffabgabe!D543)","v":""},{"$f":"Nährstoffabgabe!E543","v":0},{"$f":"IF(Nährstoffabgabe!F543=\"\",\"\",Nährstoffabgabe!F543)","v":0.95},{"$f":"IF(Nährstoffabgabe!G543=\"\",\"\",Nährstoffabgabe!G543)","v":0.2},{"$f":"IF(Nährstoffabgabe!H543=\"\",\"\",Nährstoffabgabe!H543)","v":0.45},{"$f":"IF(Nährstoffabgabe!I543=\"\",\"\",Nährstoffabgabe!I543)","v":0.1},{"$f":"IF(Nährstoffabgabe!J543=\"\",\"\",Nährstoffabgabe!J543)","v":0},{"$f":"IF(Nährstoffabgabe!K543=\"\",\"\",Nährstoffabgabe!K543)","v":0},{"$f":"IF(Nährstoffabgabe!L543=\"\",\"\",Nährstoffabgabe!L543)","v":0},{"$f":"IF(Nährstoffabgabe!M543=\"\",\"\",Nährstoffabgabe!M543)","v":0}]
[{"$f":"IF(Nährstoffabgabe!A544=\"\",\"\",Nährstoffabgabe!A544)","v":"Sonnenhut (E. angustifolia), Wurzel, jährl. Zuwachs + Kraut"},{"$f":"IF(Nährstoffabgabe!B544=\"\",\"\",Nährstoffabgabe!B544)","v":7},{"$f":"IF(Nährstoffabgabe!C544=\"\",\"\",Nährstoffabgabe!C544)","v":""},{"$f":"IF(Nährstoffabgabe!D544=\"\",\"\",Nährstoffabgabe!D544)","v":""},{"$f":"Nährstoffabgabe!E544","v":0},{"$f":"IF(Nährstoffabgabe!F544=\"\",\"\",Nährstoffabgabe!F544)","v":4.9500000000000011},{"$f":"IF(Nährstoffabgabe!G544=\"\",\"\",Nährstoffabgabe!G544)","v":1.0571428571428572},{"$f":"IF(Nährstoffabgabe!H544=\"\",\"\",Nährstoffabgabe!H544)","v":6.3071428571428569},{"$f":"IF(Nährstoffabgabe!I544=\"\",\"\",Nährstoffabgabe!I544)","v":1.1000000000000001},{"$f":"IF(Nährstoffabgabe!J544=\"\",\"\",Nährstoffabgabe!J544)","v":0},{"$f":"IF(Nährstoffabgabe!K544=\"\",\"\",Nährstoffabgabe!K544)","v":0},{"$f":"IF(Nährstoffabgabe!L544=\"\",\"\",Nährstoffabgabe!L544)","v":0},{"$f":"IF(Nährstoffabgabe!M544=\"\",\"\",Nährstoffabgabe!M544)","v":0}]
[{"$f":"IF(Nährstoffabgabe!A545=\"\",\"\",Nährstoffabgabe!A545)","v":"Sonnenhut (E. angustifolia), Wurzel, jährl. Zuwachs"},{"$f":"IF(Nährstoffabgabe!B545=\"\",\"\",Nährstoffabgabe!B545)","v":7},{"$f":"IF(Nährstoffabgabe!C545=\"\",\"\",Nährstoffabgabe!C545)","v":""},{"$f":"IF(Nährstoffabgabe!D545=\"\",\"\",Nährstoffabgabe!D545)","v":""},{"$f":"Nährstoffabgabe!E545","v":0},{"$f":"IF(Nährstoffabgabe!F545=\"\",\"\",Nährstoffabgabe!F545)","v":0.95},{"$f":"IF(Nährstoffabgabe!G545=\"\",\"\",Nährstoffabgabe!G545)","v":0.2},{"$f":"IF(Nährstoffabgabe!H545=\"\",\"\",Nährstoffabgabe!H545)","v":0.45},{"$f":"IF(Nährstoffabgabe!I545=\"\",\"\",Nährstoffabgabe!I545)","v":0.1},{"$f":"IF(Nährstoffabgabe!J545=\"\",\"\",Nährstoffabgabe!J545)","v":0},{"$f":"IF(Nährstoffabgabe!K545=\"\",\"\",Nährstoffabgabe!K545)","v":0},{"$f":"IF(Nährstoffabgabe!L545=\"\",\"\",Nährstoffabgabe!L545)","v":0},{"$f":"IF(Nährstoffabgabe!M545=\"\",\"\",Nährstoffabgabe!M545)","v":0}]
[{"$f":"IF(Nährstoffabgabe!A546=\"\",\"\",Nährstoffabgabe!A546)","v":"Sonnenhut (E. pallida), blühendes Kraut"},{"$f":"IF(Nährstoffabgabe!B546=\"\",\"\",Nährstoffabgabe!B546)","v":300},{"$f":"IF(Nährstoffabgabe!C546=\"\",\"\",Nährstoffabgabe!C546)","v":""},{"$f":"IF(Nährstoffabgabe!D546=\"\",\"\",Nährstoffabgabe!D546)","v":""},{"$f":"Nährstoffabgabe!E546","v":0},{"$f":"IF(Nährstoffabgabe!F546=\"\",\"\",Nährstoffabgabe!F546)","v":0.31},{"$f":"IF(Nährstoffabgabe!G546=\"\",\"\",Nährstoffabgabe!G546)","v":0.1},{"$f":"IF(Nährstoffabgabe!H546=\"\",\"\",Nährstoffabgabe!H546)","v":0.45},{"$f":"IF(Nährstoffabgabe!I546=\"\",\"\",Nährstoffabgabe!I546)","v":0.11},{"$f":"IF(Nährstoffabgabe!J546=\"\",\"\",Nährstoffabgabe!J546)","v":0},{"$f":"IF(Nährstoffabgabe!K546=\"\",\"\",Nährstoffabgabe!K546)","v":0},{"$f":"IF(Nährstoffabgabe!L546=\"\",\"\",Nährstoffabgabe!L546)","v":0},{"$f":"IF(Nährstoffabgabe!M546=\"\",\"\",Nährstoffabgabe!M546)","v":0}]
[{"$f":"IF(Nährstoffabgabe!A547=\"\",\"\",Nährstoffabgabe!A547)","v":"Sonnenhut (E. pallida), Wurzel + Kraut"},{"$f":"IF(Nährstoffabgabe!B547=\"\",\"\",Nährstoffabgabe!B547)","v":150},{"$f":"IF(Nährstoffabgabe!C547=\"\",\"\",Nährstoffabgabe!C547)","v":""},{"$f":"IF(Nährstoffabgabe!D547=\"\",\"\",Nährstoffabgabe!D547)","v":""},{"$f":"Nährstoffabgabe!E547","v":0},{"$f":"IF(Nährstoffabgabe!F547=\"\",\"\",Nährstoffabgabe!F547)","v":1.2},{"$f":"IF(Nährstoffabgabe!G547=\"\",\"\",Nährstoffabgabe!G547)","v":0.34},{"$f":"IF(Nährstoffabgabe!H547=\"\",\"\",Nährstoffabgabe!H547)","v":1.39},{"$f":"IF(Nährstoffabgabe!I547=\"\",\"\",Nährstoffabgabe!I547)","v":0.3},{"$f":"IF(Nährstoffabgabe!J547=\"\",\"\",Nährstoffabgabe!J547)","v":0},{"$f":"IF(Nährstoffabgabe!K547=\"\",\"\",Nährstoffabgabe!K547)","v":0},{"$f":"IF(Nährstoffabgabe!L547=\"\",\"\",Nährstoffabgabe!L547)","v":0},{"$f":"IF(Nährstoffabgabe!M547=\"\",\"\",Nährstoffabgabe!M547)","v":0}]
[{"$f":"IF(Nährstoffabgabe!A548=\"\",\"\",Nährstoffabgabe!A548)","v":"Sonnenhut (E. pallida), Wurzel"},{"$f":"IF(Nährstoffabgabe!B548=\"\",\"\",Nährstoffabgabe!B548)","v":150},{"$f":"IF(Nährstoffabgabe!C548=\"\",\"\",Nährstoffabgabe!C548)","v":""},{"$f":"IF(Nährstoffabgabe!D548=\"\",\"\",Nährstoffabgabe!D548)","v":""},{"$f":"Nährstoffabgabe!E548","v":0},{"$f":"IF(Nährstoffabgabe!F548=\"\",\"\",Nährstoffabgabe!F548)","v":0.57999999999999996},{"$f":"IF(Nährstoffabgabe!G548=\"\",\"\",Nährstoffabgabe!G548)","v":0.14000000000000001},{"$f":"IF(Nährstoffabgabe!H548=\"\",\"\",Nährstoffabgabe!H548)","v":0.49},{"$f":"IF(Nährstoffabgabe!I548=\"\",\"\",Nährstoffabgabe!I548)","v":0.08},{"$f":"IF(Nährstoffabgabe!J548=\"\",\"\",Nährstoffabgabe!J548)","v":0},{"$f":"IF(Nährstoffabgabe!K548=\"\",\"\",Nährstoffabgabe!K548)","v":0},{"$f":"IF(Nährstoffabgabe!L548=\"\",\"\",Nährstoffabgabe!L548)","v":0},{"$f":"IF(Nährstoffabgabe!M548=\"\",\"\",Nährstoffabgabe!M548)","v":0}]
[{"$f":"IF(Nährstoffabgabe!A549=\"\",\"\",Nährstoffabgabe!A549)","v":"Sonnenhut (E. pallida), Wurzel, jährl. Zuwachs + Kraut"},{"$f":"IF(Nährstoffabgabe!B549=\"\",\"\",Nährstoffabgabe!B549)","v":50},{"$f":"IF(Nährstoffabgabe!C549=\"\",\"\",Nährstoffabgabe!C549)","v":""},{"$f":"IF(Nährstoffabgabe!D549=\"\",\"\",Nährstoffabgabe!D549)","v":""},{"$f":"Nährstoffabgabe!E549","v":0},{"$f":"IF(Nährstoffabgabe!F549=\"\",\"\",Nährstoffabgabe!F549)","v":2.44},{"$f":"IF(Nährstoffabgabe!G549=\"\",\"\",Nährstoffabgabe!G549)","v":0.74},{"$f":"IF(Nährstoffabgabe!H549=\"\",\"\",Nährstoffabgabe!H549)","v":3.19},{"$f":"IF(Nährstoffabgabe!I549=\"\",\"\",Nährstoffabgabe!I549)","v":0.74},{"$f":"IF(Nährstoffabgabe!J549=\"\",\"\",Nährstoffabgabe!J549)","v":0},{"$f":"IF(Nährstoffabgabe!K549=\"\",\"\",Nährstoffabgabe!K549)","v":0},{"$f":"IF(Nährstoffabgabe!L549=\"\",\"\",Nährstoffabgabe!L549)","v":0},{"$f":"IF(Nährstoffabgabe!M549=\"\",\"\",Nährstoffabgabe!M549)","v":0}]
[{"$f":"IF(Nährstoffabgabe!A550=\"\",\"\",Nährstoffabgabe!A550)","v":"Sonnenhut (E. pallida), Wurzel, jährl. Zuwachs"},{"$f":"IF(Nährstoffabgabe!B550=\"\",\"\",Nährstoffabgabe!B550)","v":50},{"$f":"IF(Nährstoffabgabe!C550=\"\",\"\",Nährstoffabgabe!C550)","v":""},{"$f":"IF(Nährstoffabgabe!D550=\"\",\"\",Nährstoffabgabe!D550)","v":""},{"$f":"Nährstoffabgabe!E550","v":0},{"$f":"IF(Nährstoffabgabe!F550=\"\",\"\",Nährstoffabgabe!F550)","v":0.57999999999999996},{"$f":"IF(Nährstoffabgabe!G550=\"\",\"\",Nährstoffabgabe!G550)","v":0.14000000000000001},{"$f":"IF(Nährstoffabgabe!H550=\"\",\"\",Nährstoffabgabe!H550)","v":0.49},{"$f":"IF(Nährstoffabgabe!I550=\"\",\"\",Nährstoffabgabe!I550)","v":0.08},{"$f":"IF(Nährstoffabgabe!J550=\"\",\"\",Nährstoffabgabe!J550)","v":0},{"$f":"IF(Nährstoffabgabe!K550=\"\",\"\",Nährstoffabgabe!K550)","v":0},{"$f":"IF(Nährstoffabgabe!L550=\"\",\"\",Nährstoffabgabe!L550)","v":0},{"$f":"IF(Nährstoffabgabe!M550=\"\",\"\",Nährstoffabgabe!M550)","v":0}]
[{"$f":"IF(Nährstoffabgabe!A551=\"\",\"\",Nährstoffabgabe!A551)","v":"Sonnenhut (E. purpurea), blühendes Kraut"},{"$f":"IF(Nährstoffabgabe!B551=\"\",\"\",Nährstoffabgabe!B551)","v":300},{"$f":"IF(Nährstoffabgabe!C551=\"\",\"\",Nährstoffabgabe!C551)","v":""},{"$f":"IF(Nährstoffabgabe!D551=\"\",\"\",Nährstoffabgabe!D551)","v":""},{"$f":"Nährstoffabgabe!E551","v":0},{"$f":"IF(Nährstoffabgabe!F551=\"\",\"\",Nährstoffabgabe!F551)","v":0.44},{"$f":"IF(Nährstoffabgabe!G551=\"\",\"\",Nährstoffabgabe!G551)","v":0.13},{"$f":"IF(Nährstoffabgabe!H551=\"\",\"\",Nährstoffabgabe!H551)","v":0.83},{"$f":"IF(Nährstoffabgabe!I551=\"\",\"\",Nährstoffabgabe!I551)","v":0.14000000000000001},{"$f":"IF(Nährstoffabgabe!J551=\"\",\"\",Nährstoffabgabe!J551)","v":0},{"$f":"IF(Nährstoffabgabe!K551=\"\",\"\",Nährstoffabgabe!K551)","v":0},{"$f":"IF(Nährstoffabgabe!L551=\"\",\"\",Nährstoffabgabe!L551)","v":0},{"$f":"IF(Nährstoffabgabe!M551=\"\",\"\",Nährstoffabgabe!M551)","v":0}]
[{"$f":"IF(Nährstoffabgabe!A552=\"\",\"\",Nährstoffabgabe!A552)","v":"Sonnenhut (E. purpurea), Wurzel + Kraut"},{"$f":"IF(Nährstoffabgabe!B552=\"\",\"\",Nährstoffabgabe!B552)","v":150},{"$f":"IF(Nährstoffabgabe!C552=\"\",\"\",Nährstoffabgabe!C552)","v":""},{"$f":"IF(Nährstoffabgabe!D552=\"\",\"\",Nährstoffabgabe!D552)","v":""},{"$f":"Nährstoffabgabe!E552","v":0},{"$f":"IF(Nährstoffabgabe!F552=\"\",\"\",Nährstoffabgabe!F552)","v":1.34},{"$f":"IF(Nährstoffabgabe!G552=\"\",\"\",Nährstoffabgabe!G552)","v":0.4},{"$f":"IF(Nährstoffabgabe!H552=\"\",\"\",Nährstoffabgabe!H552)","v":2.16},{"$f":"IF(Nährstoffabgabe!I552=\"\",\"\",Nährstoffabgabe!I552)","v":0.4200000000000001},{"$f":"IF(Nährstoffabgabe!J552=\"\",\"\",Nährstoffabgabe!J552)","v":0},{"$f":"IF(Nährstoffabgabe!K552=\"\",\"\",Nährstoffabgabe!K552)","v":0},{"$f":"IF(Nährstoffabgabe!L552=\"\",\"\",Nährstoffabgabe!L552)","v":0},{"$f":"IF(Nährstoffabgabe!M552=\"\",\"\",Nährstoffabgabe!M552)","v":0}]
[{"$f":"IF(Nährstoffabgabe!A553=\"\",\"\",Nährstoffabgabe!A553)","v":"Sonnenhut (E. purpurea), Wurzel"},{"$f":"IF(Nährstoffabgabe!B553=\"\",\"\",Nährstoffabgabe!B553)","v":150},{"$f":"IF(Nährstoffabgabe!C553=\"\",\"\",Nährstoffabgabe!C553)","v":""},{"$f":"IF(Nährstoffabgabe!D553=\"\",\"\",Nährstoffabgabe!D553)","v":""},{"$f":"Nährstoffabgabe!E553","v":0},{"$f":"IF(Nährstoffabgabe!F553=\"\",\"\",Nährstoffabgabe!F553)","v":0.46},{"$f":"IF(Nährstoffabgabe!G553=\"\",\"\",Nährstoffabgabe!G553)","v":0.14000000000000001},{"$f":"IF(Nährstoffabgabe!H553=\"\",\"\",Nährstoffabgabe!H553)","v":0.5},{"$f":"IF(Nährstoffabgabe!I553=\"\",\"\",Nährstoffabgabe!I553)","v":0.14000000000000001},{"$f":"IF(Nährstoffabgabe!J553=\"\",\"\",Nährstoffabgabe!J553)","v":0},{"$f":"IF(Nährstoffabgabe!K553=\"\",\"\",Nährstoffabgabe!K553)","v":0},{"$f":"IF(Nährstoffabgabe!L553=\"\",\"\",Nährstoffabgabe!L553)","v":0},{"$f":"IF(Nährstoffabgabe!M553=\"\",\"\",Nährstoffabgabe!M553)","v":0}]
[{"$f":"IF(Nährstoffabgabe!A554=\"\",\"\",Nährstoffabgabe!A554)","v":"Sonnenhut (E. purpurea), Wurzel, jährl. Zuwachs + Kraut"},{"$f":"IF(Nährstoffabgabe!B554=\"\",\"\",Nährstoffabgabe!B554)","v":50},{"$f":"IF(Nährstoffabgabe!C554=\"\",\"\",Nährstoffabgabe!C554)","v":""},{"$f":"IF(Nährstoffabgabe!D554=\"\",\"\",Nährstoffabgabe!D554)","v":""},{"$f":"Nährstoffabgabe!E554","v":0},{"$f":"IF(Nährstoffabgabe!F554=\"\",\"\",Nährstoffabgabe!F554)","v":3.1},{"$f":"IF(Nährstoffabgabe!G554=\"\",\"\",Nährstoffabgabe!G554)","v":0.92},{"$f":"IF(Nährstoffabgabe!H554=\"\",\"\",Nährstoffabgabe!H554)","v":5.48},{"$f":"IF(Nährstoffabgabe!I554=\"\",\"\",Nährstoffabgabe!I554)","v":0.98000000000000009},{"$f":"IF(Nährstoffabgabe!J554=\"\",\"\",Nährstoffabgabe!J554)","v":0},{"$f":"IF(Nährstoffabgabe!K554=\"\",\"\",Nährstoffabgabe!K554)","v":0},{"$f":"IF(Nährstoffabgabe!L554=\"\",\"\",Nährstoffabgabe!L554)","v":0},{"$f":"IF(Nährstoffabgabe!M554=\"\",\"\",Nährstoffabgabe!M554)","v":0}]
[{"$f":"IF(Nährstoffabgabe!A555=\"\",\"\",Nährstoffabgabe!A555)","v":"Sonnenhut (E. purpurea), Wurzel, jährl. Zuwachs"},{"$f":"IF(Nährstoffabgabe!B555=\"\",\"\",Nährstoffabgabe!B555)","v":50},{"$f":"IF(Nährstoffabgabe!C555=\"\",\"\",Nährstoffabgabe!C555)","v":""},{"$f":"IF(Nährstoffabgabe!D555=\"\",\"\",Nährstoffabgabe!D555)","v":""},{"$f":"Nährstoffabgabe!E555","v":0},{"$f":"IF(Nährstoffabgabe!F555=\"\",\"\",Nährstoffabgabe!F555)","v":0.46},{"$f":"IF(Nährstoffabgabe!G555=\"\",\"\",Nährstoffabgabe!G555)","v":0.14000000000000001},{"$f":"IF(Nährstoffabgabe!H555=\"\",\"\",Nährstoffabgabe!H555)","v":0.5},{"$f":"IF(Nährstoffabgabe!I555=\"\",\"\",Nährstoffabgabe!I555)","v":0.14000000000000001},{"$f":"IF(Nährstoffabgabe!J555=\"\",\"\",Nährstoffabgabe!J555)","v":0},{"$f":"IF(Nährstoffabgabe!K555=\"\",\"\",Nährstoffabgabe!K555)","v":0},{"$f":"IF(Nährstoffabgabe!L555=\"\",\"\",Nährstoffabgabe!L555)","v":0},{"$f":"IF(Nährstoffabgabe!M555=\"\",\"\",Nährstoffabgabe!M555)","v":0}]
[{"$f":"IF(Nährstoffabgabe!A556=\"\",\"\",Nährstoffabgabe!A556)","v":"Spitzwegerich, Kraut"},{"$f":"IF(Nährstoffabgabe!B556=\"\",\"\",Nährstoffabgabe!B556)","v":350},{"$f":"IF(Nährstoffabgabe!C556=\"\",\"\",Nährstoffabgabe!C556)","v":""},{"$f":"IF(Nährstoffabgabe!D556=\"\",\"\",Nährstoffabgabe!D556)","v":""},{"$f":"Nährstoffabgabe!E556","v":0},{"$f":"IF(Nährstoffabgabe!F556=\"\",\"\",Nährstoffabgabe!F556)","v":0.41},{"$f":"IF(Nährstoffabgabe!G556=\"\",\"\",Nährstoffabgabe!G556)","v":0.12},{"$f":"IF(Nährstoffabgabe!H556=\"\",\"\",Nährstoffabgabe!H556)","v":0.78},{"$f":"IF(Nährstoffabgabe!I556=\"\",\"\",Nährstoffabgabe!I556)","v":0.06},{"$f":"IF(Nährstoffabgabe!J556=\"\",\"\",Nährstoffabgabe!J556)","v":0},{"$f":"IF(Nährstoffabgabe!K556=\"\",\"\",Nährstoffabgabe!K556)","v":0},{"$f":"IF(Nährstoffabgabe!L556=\"\",\"\",Nährstoffabgabe!L556)","v":0},{"$f":"IF(Nährstoffabgabe!M556=\"\",\"\",Nährstoffabgabe!M556)","v":0}]
[{"$f":"IF(Nährstoffabgabe!A557=\"\",\"\",Nährstoffabgabe!A557)","v":"Steinklee, Gelber, blühendes Kraut"},{"$f":"IF(Nährstoffabgabe!B557=\"\",\"\",Nährstoffabgabe!B557)","v":350},{"$f":"IF(Nährstoffabgabe!C557=\"\",\"\",Nährstoffabgabe!C557)","v":""},{"$f":"IF(Nährstoffabgabe!D557=\"\",\"\",Nährstoffabgabe!D557)","v":""},{"$f":"Nährstoffabgabe!E557","v":0},{"$f":"IF(Nährstoffabgabe!F557=\"\",\"\",Nährstoffabgabe!F557)","v":0.57999999999999996},{"$f":"IF(Nährstoffabgabe!G557=\"\",\"\",Nährstoffabgabe!G557)","v":0.14000000000000001},{"$f":"IF(Nährstoffabgabe!H557=\"\",\"\",Nährstoffabgabe!H557)","v":0.41},{"$f":"IF(Nährstoffabgabe!I557=\"\",\"\",Nährstoffabgabe!I557)","v":0.03},{"$f":"IF(Nährstoffabgabe!J557=\"\",\"\",Nährstoffabgabe!J557)","v":0},{"$f":"IF(Nährstoffabgabe!K557=\"\",\"\",Nährstoffabgabe!K557)","v":0},{"$f":"IF(Nährstoffabgabe!L557=\"\",\"\",Nährstoffabgabe!L557)","v":0},{"$f":"IF(Nährstoffabgabe!M557=\"\",\"\",Nährstoffabgabe!M557)","v":0}]
[{"$f":"IF(Nährstoffabgabe!A558=\"\",\"\",Nährstoffabgabe!A558)","v":"Steinklee, Weißer, blühendes Kraut"},{"$f":"IF(Nährstoffabgabe!B558=\"\",\"\",Nährstoffabgabe!B558)","v":350},{"$f":"IF(Nährstoffabgabe!C558=\"\",\"\",Nährstoffabgabe!C558)","v":""},{"$f":"IF(Nährstoffabgabe!D558=\"\",\"\",Nährstoffabgabe!D558)","v":""},{"$f":"Nährstoffabgabe!E558","v":0},{"$f":"IF(Nährstoffabgabe!F558=\"\",\"\",Nährstoffabgabe!F558)","v":0.57999999999999996},{"$f":"IF(Nährstoffabgabe!G558=\"\",\"\",Nährstoffabgabe!G558)","v":0.14000000000000001},{"$f":"IF(Nährstoffabgabe!H558=\"\",\"\",Nährstoffabgabe!H558)","v":0.41},{"$f":"IF(Nährstoffabgabe!I558=\"\",\"\",Nährstoffabgabe!I558)","v":0.03},{"$f":"IF(Nährstoffabgabe!J558=\"\",\"\",Nährstoffabgabe!J558)","v":0},{"$f":"IF(Nährstoffabgabe!K558=\"\",\"\",Nährstoffabgabe!K558)","v":0},{"$f":"IF(Nährstoffabgabe!L558=\"\",\"\",Nährstoffabgabe!L558)","v":0},{"$f":"IF(Nährstoffabgabe!M558=\"\",\"\",Nährstoffabgabe!M558)","v":0}]
[{"$f":"IF(Nährstoffabgabe!A559=\"\",\"\",Nährstoffabgabe!A559)","v":"Tausendgüldenkraut, blühendes Kraut"},{"$f":"IF(Nährstoffabgabe!B559=\"\",\"\",Nährstoffabgabe!B559)","v":80},{"$f":"IF(Nährstoffabgabe!C559=\"\",\"\",Nährstoffabgabe!C559)","v":""},{"$f":"IF(Nährstoffabgabe!D559=\"\",\"\",Nährstoffabgabe!D559)","v":""},{"$f":"Nährstoffabgabe!E559","v":0},{"$f":"IF(Nährstoffabgabe!F559=\"\",\"\",Nährstoffabgabe!F559)","v":0.3},{"$f":"IF(Nährstoffabgabe!G559=\"\",\"\",Nährstoffabgabe!G559)","v":0.09},{"$f":"IF(Nährstoffabgabe!H559=\"\",\"\",Nährstoffabgabe!H559)","v":0.57999999999999996},{"$f":"IF(Nährstoffabgabe!I559=\"\",\"\",Nährstoffabgabe!I559)","v":0.04},{"$f":"IF(Nährstoffabgabe!J559=\"\",\"\",Nährstoffabgabe!J559)","v":0},{"$f":"IF(Nährstoffabgabe!K559=\"\",\"\",Nährstoffabgabe!K559)","v":0},{"$f":"IF(Nährstoffabgabe!L559=\"\",\"\",Nährstoffabgabe!L559)","v":0},{"$f":"IF(Nährstoffabgabe!M559=\"\",\"\",Nährstoffabgabe!M559)","v":0}]
[{"$f":"IF(Nährstoffabgabe!A560=\"\",\"\",Nährstoffabgabe!A560)","v":"Thymian, blühendes Kraut"},{"$f":"IF(Nährstoffabgabe!B560=\"\",\"\",Nährstoffabgabe!B560)","v":150},{"$f":"IF(Nährstoffabgabe!C560=\"\",\"\",Nährstoffabgabe!C560)","v":""},{"$f":"IF(Nährstoffabgabe!D560=\"\",\"\",Nährstoffabgabe!D560)","v":""},{"$f":"Nährstoffabgabe!E560","v":0},{"$f":"IF(Nährstoffabgabe!F560=\"\",\"\",Nährstoffabgabe!F560)","v":0.41},{"$f":"IF(Nährstoffabgabe!G560=\"\",\"\",Nährstoffabgabe!G560)","v":0.12},{"$f":"IF(Nährstoffabgabe!H560=\"\",\"\",Nährstoffabgabe!H560)","v":0.77},{"$f":"IF(Nährstoffabgabe!I560=\"\",\"\",Nährstoffabgabe!I560)","v":0.08},{"$f":"IF(Nährstoffabgabe!J560=\"\",\"\",Nährstoffabgabe!J560)","v":0},{"$f":"IF(Nährstoffabgabe!K560=\"\",\"\",Nährstoffabgabe!K560)","v":0},{"$f":"IF(Nährstoffabgabe!L560=\"\",\"\",Nährstoffabgabe!L560)","v":0},{"$f":"IF(Nährstoffabgabe!M560=\"\",\"\",Nährstoffabgabe!M560)","v":0}]
[{"$f":"IF(Nährstoffabgabe!A561=\"\",\"\",Nährstoffabgabe!A561)","v":"Tollkirsche, Kraut"},{"$f":"IF(Nährstoffabgabe!B561=\"\",\"\",Nährstoffabgabe!B561)","v":120},{"$f":"IF(Nährstoffabgabe!C561=\"\",\"\",Nährstoffabgabe!C561)","v":""},{"$f":"IF(Nährstoffabgabe!D561=\"\",\"\",Nährstoffabgabe!D561)","v":""},{"$f":"Nährstoffabgabe!E561","v":0},{"$f":"IF(Nährstoffabgabe!F561=\"\",\"\",Nährstoffabgabe!F561)","v":0.73},{"$f":"IF(Nährstoffabgabe!G561=\"\",\"\",Nährstoffabgabe!G561)","v":0.46},{"$f":"IF(Nährstoffabgabe!H561=\"\",\"\",Nährstoffabgabe!H561)","v":0.55000000000000004},{"$f":"IF(Nährstoffabgabe!I561=\"\",\"\",Nährstoffabgabe!I561)","v":0.13},{"$f":"IF(Nährstoffabgabe!J561=\"\",\"\",Nährstoffabgabe!J561)","v":0},{"$f":"IF(Nährstoffabgabe!K561=\"\",\"\",Nährstoffabgabe!K561)","v":0},{"$f":"IF(Nährstoffabgabe!L561=\"\",\"\",Nährstoffabgabe!L561)","v":0},{"$f":"IF(Nährstoffabgabe!M561=\"\",\"\",Nährstoffabgabe!M561)","v":0}]
[{"$f":"IF(Nährstoffabgabe!A562=\"\",\"\",Nährstoffabgabe!A562)","v":"Tragant, Chinesischer, Wurzel + Kraut"},{"$f":"IF(Nährstoffabgabe!B562=\"\",\"\",Nährstoffabgabe!B562)","v":40},{"$f":"IF(Nährstoffabgabe!C562=\"\",\"\",Nährstoffabgabe!C562)","v":""},{"$f":"IF(Nährstoffabgabe!D562=\"\",\"\",Nährstoffabgabe!D562)","v":""},{"$f":"Nährstoffabgabe!E562","v":0},{"$f":"IF(Nährstoffabgabe!F562=\"\",\"\",Nährstoffabgabe!F562)","v":3.27},{"$f":"IF(Nährstoffabgabe!G562=\"\",\"\",Nährstoffabgabe!G562)","v":1.2},{"$f":"IF(Nährstoffabgabe!H562=\"\",\"\",Nährstoffabgabe!H562)","v":4.4400000000000004},{"$f":"IF(Nährstoffabgabe!I562=\"\",\"\",Nährstoffabgabe!I562)","v":0.38},{"$f":"IF(Nährstoffabgabe!J562=\"\",\"\",Nährstoffabgabe!J562)","v":0},{"$f":"IF(Nährstoffabgabe!K562=\"\",\"\",Nährstoffabgabe!K562)","v":0},{"$f":"IF(Nährstoffabgabe!L562=\"\",\"\",Nährstoffabgabe!L562)","v":0},{"$f":"IF(Nährstoffabgabe!M562=\"\",\"\",Nährstoffabgabe!M562)","v":0}]
[{"$f":"IF(Nährstoffabgabe!A563=\"\",\"\",Nährstoffabgabe!A563)","v":"Tragant, Chinesischer, Wurzel"},{"$f":"IF(Nährstoffabgabe!B563=\"\",\"\",Nährstoffabgabe!B563)","v":40},{"$f":"IF(Nährstoffabgabe!C563=\"\",\"\",Nährstoffabgabe!C563)","v":""},{"$f":"IF(Nährstoffabgabe!D563=\"\",\"\",Nährstoffabgabe!D563)","v":""},{"$f":"Nährstoffabgabe!E563","v":0},{"$f":"IF(Nährstoffabgabe!F563=\"\",\"\",Nährstoffabgabe!F563)","v":0.56999999999999995},{"$f":"IF(Nährstoffabgabe!G563=\"\",\"\",Nährstoffabgabe!G563)","v":0.25},{"$f":"IF(Nährstoffabgabe!H563=\"\",\"\",Nährstoffabgabe!H563)","v":0.49},{"$f":"IF(Nährstoffabgabe!I563=\"\",\"\",Nährstoffabgabe!I563)","v":0.08},{"$f":"IF(Nährstoffabgabe!J563=\"\",\"\",Nährstoffabgabe!J563)","v":0},{"$f":"IF(Nährstoffabgabe!K563=\"\",\"\",Nährstoffabgabe!K563)","v":0},{"$f":"IF(Nährstoffabgabe!L563=\"\",\"\",Nährstoffabgabe!L563)","v":0},{"$f":"IF(Nährstoffabgabe!M563=\"\",\"\",Nährstoffabgabe!M563)","v":0}]
[{"$f":"IF(Nährstoffabgabe!A564=\"\",\"\",Nährstoffabgabe!A564)","v":"Wermut, Beifuß, nicht blühendes Kraut"},{"$f":"IF(Nährstoffabgabe!B564=\"\",\"\",Nährstoffabgabe!B564)","v":300},{"$f":"IF(Nährstoffabgabe!C564=\"\",\"\",Nährstoffabgabe!C564)","v":""},{"$f":"IF(Nährstoffabgabe!D564=\"\",\"\",Nährstoffabgabe!D564)","v":""},{"$f":"Nährstoffabgabe!E564","v":0},{"$f":"IF(Nährstoffabgabe!F564=\"\",\"\",Nährstoffabgabe!F564)","v":0.39},{"$f":"IF(Nährstoffabgabe!G564=\"\",\"\",Nährstoffabgabe!G564)","v":0.17},{"$f":"IF(Nährstoffabgabe!H564=\"\",\"\",Nährstoffabgabe!H564)","v":0.67},{"$f":"IF(Nährstoffabgabe!I564=\"\",\"\",Nährstoffabgabe!I564)","v":0.08},{"$f":"IF(Nährstoffabgabe!J564=\"\",\"\",Nährstoffabgabe!J564)","v":0},{"$f":"IF(Nährstoffabgabe!K564=\"\",\"\",Nährstoffabgabe!K564)","v":0},{"$f":"IF(Nährstoffabgabe!L564=\"\",\"\",Nährstoffabgabe!L564)","v":0},{"$f":"IF(Nährstoffabgabe!M564=\"\",\"\",Nährstoffabgabe!M564)","v":0}]
[{"$f":"IF(Nährstoffabgabe!A565=\"\",\"\",Nährstoffabgabe!A565)","v":"Wiesenknopf, klein (Pimpinelle), Kraut"},{"$f":"IF(Nährstoffabgabe!B565=\"\",\"\",Nährstoffabgabe!B565)","v":100},{"$f":"IF(Nährstoffabgabe!C565=\"\",\"\",Nährstoffabgabe!C565)","v":""},{"$f":"IF(Nährstoffabgabe!D565=\"\",\"\",Nährstoffabgabe!D565)","v":""},{"$f":"Nährstoffabgabe!E565","v":0},{"$f":"IF(Nährstoffabgabe!F565=\"\",\"\",Nährstoffabgabe!F565)","v":0.41},{"$f":"IF(Nährstoffabgabe!G565=\"\",\"\",Nährstoffabgabe!G565)","v":0.1},{"$f":"IF(Nährstoffabgabe!H565=\"\",\"\",Nährstoffabgabe!H565)","v":0.7},{"$f":"IF(Nährstoffabgabe!I565=\"\",\"\",Nährstoffabgabe!I565)","v":0.04},{"$f":"IF(Nährstoffabgabe!J565=\"\",\"\",Nährstoffabgabe!J565)","v":0},{"$f":"IF(Nährstoffabgabe!K565=\"\",\"\",Nährstoffabgabe!K565)","v":0},{"$f":"IF(Nährstoffabgabe!L565=\"\",\"\",Nährstoffabgabe!L565)","v":0},{"$f":"IF(Nährstoffabgabe!M565=\"\",\"\",Nährstoffabgabe!M565)","v":0}]
[{"$f":"IF(Nährstoffabgabe!A566=\"\",\"\",Nährstoffabgabe!A566)","v":"Winterheckenzwiebel"},{"$f":"IF(Nährstoffabgabe!B566=\"\",\"\",Nährstoffabgabe!B566)","v":800},{"$f":"IF(Nährstoffabgabe!C566=\"\",\"\",Nährstoffabgabe!C566)","v":""},{"$f":"IF(Nährstoffabgabe!D566=\"\",\"\",Nährstoffabgabe!D566)","v":""},{"$f":"Nährstoffabgabe!E566","v":0},{"$f":"IF(Nährstoffabgabe!F566=\"\",\"\",Nährstoffabgabe!F566)","v":0.5},{"$f":"IF(Nährstoffabgabe!G566=\"\",\"\",Nährstoffabgabe!G566)","v":0.13700000000000001},{"$f":"IF(Nährstoffabgabe!H566=\"\",\"\",Nährstoffabgabe!H566)","v":0.52},{"$f":"IF(Nährstoffabgabe!I566=\"\",\"\",Nährstoffabgabe!I566)","v":7.0000000000000007E-2},{"$f":"IF(Nährstoffabgabe!J566=\"\",\"\",Nährstoffabgabe!J566)","v":0},{"$f":"IF(Nährstoffabgabe!K566=\"\",\"\",Nährstoffabgabe!K566)","v":0},{"$f":"IF(Nährstoffabgabe!L566=\"\",\"\",Nährstoffabgabe!L566)","v":0},{"$f":"IF(Nährstoffabgabe!M566=\"\",\"\",Nährstoffabgabe!M566)","v":0}]
[{"$f":"IF(Nährstoffabgabe!A567=\"\",\"\",Nährstoffabgabe!A567)","v":"Ysop, blühendes Kraut"},{"$f":"IF(Nährstoffabgabe!B567=\"\",\"\",Nährstoffabgabe!B567)","v":150},{"$f":"IF(Nährstoffabgabe!C567=\"\",\"\",Nährstoffabgabe!C567)","v":""},{"$f":"IF(Nährstoffabgabe!D567=\"\",\"\",Nährstoffabgabe!D567)","v":""},{"$f":"Nährstoffabgabe!E567","v":0},{"$f":"IF(Nährstoffabgabe!F567=\"\",\"\",Nährstoffabgabe!F567)","v":0.42},{"$f":"IF(Nährstoffabgabe!G567=\"\",\"\",Nährstoffabgabe!G567)","v":0.1},{"$f":"IF(Nährstoffabgabe!H567=\"\",\"\",Nährstoffabgabe!H567)","v":0.56000000000000005},{"$f":"IF(Nährstoffabgabe!I567=\"\",\"\",Nährstoffabgabe!I567)","v":0.12},{"$f":"IF(Nährstoffabgabe!J567=\"\",\"\",Nährstoffabgabe!J567)","v":0},{"$f":"IF(Nährstoffabgabe!K567=\"\",\"\",Nährstoffabgabe!K567)","v":0},{"$f":"IF(Nährstoffabgabe!L567=\"\",\"\",Nährstoffabgabe!L567)","v":0},{"$f":"IF(Nährstoffabgabe!M567=\"\",\"\",Nährstoffabgabe!M567)","v":0}]
[{"$f":"IF(Nährstoffabgabe!A568=\"\",\"\",Nährstoffabgabe!A568)","v":"Zitronenmelisse, nicht blühendes Kraut"},{"$f":"IF(Nährstoffabgabe!B568=\"\",\"\",Nährstoffabgabe!B568)","v":300},{"$f":"IF(Nährstoffabgabe!C568=\"\",\"\",Nährstoffabgabe!C568)","v":""},{"$f":"IF(Nährstoffabgabe!D568=\"\",\"\",Nährstoffabgabe!D568)","v":""},{"$f":"Nährstoffabgabe!E568","v":0},{"$f":"IF(Nährstoffabgabe!F568=\"\",\"\",Nährstoffabgabe!F568)","v":0.49},{"$f":"IF(Nährstoffabgabe!G568=\"\",\"\",Nährstoffabgabe!G568)","v":0.14000000000000001},{"$f":"IF(Nährstoffabgabe!H568=\"\",\"\",Nährstoffabgabe!H568)","v":0.76},{"$f":"IF(Nährstoffabgabe!I568=\"\",\"\",Nährstoffabgabe!I568)","v":0.09},{"$f":"IF(Nährstoffabgabe!J568=\"\",\"\",Nährstoffabgabe!J568)","v":0},{"$f":"IF(Nährstoffabgabe!K568=\"\",\"\",Nährstoffabgabe!K568)","v":0},{"$f":"IF(Nährstoffabgabe!L568=\"\",\"\",Nährstoffabgabe!L568)","v":0},{"$f":"IF(Nährstoffabgabe!M568=\"\",\"\",Nährstoffabgabe!M568)","v":0}]
[{"$f":"IF(Nährstoffabgabe!A569=\"\",\"\",Nährstoffabgabe!A569)","v":"Zitronenverbene, Kraut"},{"$f":"IF(Nährstoffabgabe!B569=\"\",\"\",Nährstoffabgabe!B569)","v":265},{"$f":"IF(Nährstoffabgabe!C569=\"\",\"\",Nährstoffabgabe!C569)","v":""},{"$f":"IF(Nährstoffabgabe!D569=\"\",\"\",Nährstoffabgabe!D569)","v":""},{"$f":"Nährstoffabgabe!E569","v":0},{"$f":"IF(Nährstoffabgabe!F569=\"\",\"\",Nährstoffabgabe!F569)","v":0.44},{"$f":"IF(Nährstoffabgabe!G569=\"\",\"\",Nährstoffabgabe!G569)","v":0.14000000000000001},{"$f":"IF(Nährstoffabgabe!H569=\"\",\"\",Nährstoffabgabe!H569)","v":0.6},{"$f":"IF(Nährstoffabgabe!I569=\"\",\"\",Nährstoffabgabe!I569)","v":0.08},{"$f":"IF(Nährstoffabgabe!J569=\"\",\"\",Nährstoffabgabe!J569)","v":0},{"$f":"IF(Nährstoffabgabe!K569=\"\",\"\",Nährstoffabgabe!K569)","v":0},{"$f":"IF(Nährstoffabgabe!L569=\"\",\"\",Nährstoffabgabe!L569)","v":0},{"$f":"IF(Nährstoffabgabe!M569=\"\",\"\",Nährstoffabgabe!M569)","v":0}]
[{"$f":"IF(Nährstoffabgabe!A570=\"\",\"\",Nährstoffabgabe!A570)","v":""},{"$f":"IF(Nährstoffabgabe!B570=\"\",\"\",Nährstoffabgabe!B570)","v":""},{"$f":"IF(Nährstoffabgabe!C570=\"\",\"\",Nährstoffabgabe!C570)","v":""},{"$f":"IF(Nährstoffabgabe!D570=\"\",\"\",Nährstoffabgabe!D570)","v":""},{"$f":"Nährstoffabgabe!E570","v":0},{"$f":"IF(Nährstoffabgabe!F570=\"\",\"\",Nährstoffabgabe!F570)","v":""},{"$f":"IF(Nährstoffabgabe!G570=\"\",\"\",Nährstoffabgabe!G570)","v":""},{"$f":"IF(Nährstoffabgabe!H570=\"\",\"\",Nährstoffabgabe!H570)","v":""},{"$f":"IF(Nährstoffabgabe!I570=\"\",\"\",Nährstoffabgabe!I570)","v":""},{"$f":"IF(Nährstoffabgabe!J570=\"\",\"\",Nährstoffabgabe!J570)","v":0},{"$f":"IF(Nährstoffabgabe!K570=\"\",\"\",Nährstoffabgabe!K570)","v":0},{"$f":"IF(Nährstoffabgabe!L570=\"\",\"\",Nährstoffabgabe!L570)","v":0},{"$f":"IF(Nährstoffabgabe!M570=\"\",\"\",Nährstoffabgabe!M570)","v":0}]
[{"$f":"IF(Nährstoffabgabe!A571=\"\",\"\",Nährstoffabgabe!A571)","v":""},{"$f":"IF(Nährstoffabgabe!B571=\"\",\"\",Nährstoffabgabe!B571)","v":""},{"$f":"IF(Nährstoffabgabe!C571=\"\",\"\",Nährstoffabgabe!C571)","v":""},{"$f":"IF(Nährstoffabgabe!D571=\"\",\"\",Nährstoffabgabe!D571)","v":""},{"$f":"Nährstoffabgabe!E571","v":0},{"$f":"IF(Nährstoffabgabe!F571=\"\",\"\",Nährstoffabgabe!F571)","v":""},{"$f":"IF(Nährstoffabgabe!G571=\"\",\"\",Nährstoffabgabe!G571)","v":""},{"$f":"IF(Nährstoffabgabe!H571=\"\",\"\",Nährstoffabgabe!H571)","v":""},{"$f":"IF(Nährstoffabgabe!I571=\"\",\"\",Nährstoffabgabe!I571)","v":""},{"$f":"IF(Nährstoffabgabe!J571=\"\",\"\",Nährstoffabgabe!J571)","v":0},{"$f":"IF(Nährstoffabgabe!K571=\"\",\"\",Nährstoffabgabe!K571)","v":0},{"$f":"IF(Nährstoffabgabe!L571=\"\",\"\",Nährstoffabgabe!L571)","v":0},{"$f":"IF(Nährstoffabgabe!M571=\"\",\"\",Nährstoffabgabe!M571)","v":0}]
[{"$f":"IF(Nährstoffabgabe!A572=\"\",\"\",Nährstoffabgabe!A572)","v":""},{"$f":"IF(Nährstoffabgabe!B572=\"\",\"\",Nährstoffabgabe!B572)","v":""},{"$f":"IF(Nährstoffabgabe!C572=\"\",\"\",Nährstoffabgabe!C572)","v":""},{"$f":"IF(Nährstoffabgabe!D572=\"\",\"\",Nährstoffabgabe!D572)","v":""},{"$f":"Nährstoffabgabe!E572","v":0},{"$f":"IF(Nährstoffabgabe!F572=\"\",\"\",Nährstoffabgabe!F572)","v":""},{"$f":"IF(Nährstoffabgabe!G572=\"\",\"\",Nährstoffabgabe!G572)","v":""},{"$f":"IF(Nährstoffabgabe!H572=\"\",\"\",Nährstoffabgabe!H572)","v":""},{"$f":"IF(Nährstoffabgabe!I572=\"\",\"\",Nährstoffabgabe!I572)","v":""},{"$f":"IF(Nährstoffabgabe!J572=\"\",\"\",Nährstoffabgabe!J572)","v":0},{"$f":"IF(Nährstoffabgabe!K572=\"\",\"\",Nährstoffabgabe!K572)","v":0},{"$f":"IF(Nährstoffabgabe!L572=\"\",\"\",Nährstoffabgabe!L572)","v":0},{"$f":"IF(Nährstoffabgabe!M572=\"\",\"\",Nährstoffabgabe!M572)","v":0}]
[{"$f":"IF(Nährstoffabgabe!A573=\"\",\"\",Nährstoffabgabe!A573)","v":""},{"$f":"IF(Nährstoffabgabe!B573=\"\",\"\",Nährstoffabgabe!B573)","v":""},{"$f":"IF(Nährstoffabgabe!C573=\"\",\"\",Nährstoffabgabe!C573)","v":""},{"$f":"IF(Nährstoffabgabe!D573=\"\",\"\",Nährstoffabgabe!D573)","v":""},{"$f":"Nährstoffabgabe!E573","v":0},{"$f":"IF(Nährstoffabgabe!F573=\"\",\"\",Nährstoffabgabe!F573)","v":""},{"$f":"IF(Nährstoffabgabe!G573=\"\",\"\",Nährstoffabgabe!G573)","v":""},{"$f":"IF(Nährstoffabgabe!H573=\"\",\"\",Nährstoffabgabe!H573)","v":""},{"$f":"IF(Nährstoffabgabe!I573=\"\",\"\",Nährstoffabgabe!I573)","v":""},{"$f":"IF(Nährstoffabgabe!J573=\"\",\"\",Nährstoffabgabe!J573)","v":0},{"$f":"IF(Nährstoffabgabe!K573=\"\",\"\",Nährstoffabgabe!K573)","v":0},{"$f":"IF(Nährstoffabgabe!L573=\"\",\"\",Nährstoffabgabe!L573)","v":0},{"$f":"IF(Nährstoffabgabe!M573=\"\",\"\",Nährstoffabgabe!M573)","v":0}]
[{"$f":"IF(Nährstoffabgabe!A574=\"\",\"\",Nährstoffabgabe!A574)","v":"Summe"},{"$f":"IF(Nährstoffabgabe!B574=\"\",\"\",Nährstoffabgabe!B574)","v":""},{"$f":"IF(Nährstoffabgabe!C574=\"\",\"\",Nährstoffabgabe!C574)","v":""},{"$f":"IF(Nährstoffabgabe!D574=\"\",\"\",Nährstoffabgabe!D574)","v":0},{"$f":"IF(Nährstoffabgabe!E574=\"\",\"\",Nährstoffabgabe!E574)","v":0},{"$f":"IF(Nährstoffabgabe!F574=\"\",\"\",Nährstoffabgabe!F574)","v":""},{"$f":"IF([1]Nährstoffabgabe!G566=\"\",\"\",[1]Nährstoffabgabe!G566)","v":0},{"$f":"IF([1]Nährstoffabgabe!H566=\"\",\"\",[1]Nährstoffabgabe!H566)","v":0},{"$f":"IF([1]Nährstoffabgabe!I566=\"\",\"\",[1]Nährstoffabgabe!I566)","v":0},{"$f":"IF(Nährstoffabgabe!J574=\"\",\"\",Nährstoffabgabe!J574)","v":0},{"$f":"IF(Nährstoffabgabe!K574=\"\",\"\",Nährstoffabgabe!K574)","v":0},{"$f":"IF(Nährstoffabgabe!L574=\"\",\"\",Nährstoffabgabe!L574)","v":0},{"$f":"IF(Nährstoffabgabe!M574=\"\",\"\",Nährstoffabgabe!M574)","v":0}]
[{"$f":"IF(Nährstoffabgabe!A575=\"\",\"\",Nährstoffabgabe!A575)","v":""},{"$f":"IF(Nährstoffabgabe!B575=\"\",\"\",Nährstoffabgabe!B575)","v":""},{"$f":"IF(Nährstoffabgabe!C575=\"\",\"\",Nährstoffabgabe!C575)","v":""},{"$f":"IF(Nährstoffabgabe!D575=\"\",\"\",Nährstoffabgabe!D575)","v":""},{"$f":"IF(Nährstoffabgabe!E575=\"\",\"\",Nährstoffabgabe!E575)","v":""},{"$f":"IF(Nährstoffabgabe!F575=\"\",\"\",Nährstoffabgabe!F575)","v":""},{"$f":"IF(Nährstoffabgabe!G575=\"\",\"\",Nährstoffabgabe!G575)","v":""},{"$f":"IF(Nährstoffabgabe!H575=\"\",\"\",Nährstoffabgabe!H575)","v":""},{"$f":"IF(Nährstoffabgabe!I575=\"\",\"\",Nährstoffabgabe!I575)","v":""},{"$f":"IF(Nährstoffabgabe!J575=\"\",\"\",Nährstoffabgabe!J575)","v":""},{"$f":"IF(Nährstoffabgabe!K575=\"\",\"\",Nährstoffabgabe!K575)","v":""},{"$f":"IF(Nährstoffabgabe!L575=\"\",\"\",Nährstoffabgabe!L575)","v":""},{"$f":"IF(Nährstoffabgabe!M575=\"\",\"\",Nährstoffabgabe!M575)","v":""}]
[{"$f":"IF(Nährstoffabgabe!A576=\"\",\"\",Nährstoffabgabe!A576)","v":"Organische Düngemittel"},{"$f":"IF(Nährstoffabgabe!B576=\"\",\"\",Nährstoffabgabe!B576)","v":""},{"$f":"IF(Nährstoffabgabe!C576=\"\",\"\",Nährstoffabgabe!C576)","v":""},{"$f":"IF(Nährstoffabgabe!D576=\"\",\"\",Nährstoffabgabe!D576)","v":""},{"$f":"IF(Nährstoffabgabe!E576=\"\",\"\",Nährstoffabgabe!E576)","v":"Abgabemenge"},{"$f":"IF(Nährstoffabgabe!F576=\"\",\"\",Nährstoffabgabe!F576)","v":"Nährstoffgehalt %, kg/dt"},null,null,null,{"$f":"IF(Nährstoffabgabe!J576=\"\",\"\",Nährstoffabgabe!J576)","v":"Nährstoffabgabe kg/Betrieb"}]
[null,{"$f":"IF(Nährstoffabgabe!B577=\"\",\"\",Nährstoffabgabe!B577)","v":""},{"$f":"IF(Nährstoffabgabe!C577=\"\",\"\",Nährstoffabgabe!C577)","v":""},{"$f":"IF(Nährstoffabgabe!D577=\"\",\"\",Nährstoffabgabe!D577)","v":""},{"$f":"IF(Nährstoffabgabe!E577=\"\",\"\",Nährstoffabgabe!E577)","v":"dt"},{"$f":"IF(Nährstoffabgabe!F577=\"\",\"\",Nährstoffabgabe!F577)","v":"N"},{"$f":"IF(Nährstoffabgabe!G577=\"\",\"\",Nährstoffabgabe!G577)","v":"P2O5"},{"$f":"IF(Nährstoffabgabe!H577=\"\",\"\",Nährstoffabgabe!H577)","v":"K2O"},{"$f":"IF(Nährstoffabgabe!I577=\"\",\"\",Nährstoffabgabe!I577)","v":"MgO"},{"$f":"IF(Nährstoffabgabe!J577=\"\",\"\",Nährstoffabgabe!J577)","v":"N"},{"$f":"IF(Nährstoffabgabe!K577=\"\",\"\",Nährstoffabgabe!K577)","v":"P2O5"},{"$f":"IF(Nährstoffabgabe!L577=\"\",\"\",Nährstoffabgabe!L577)","v":"K2O"},{"$f":"IF(Nährstoffabgabe!M577=\"\",\"\",Nährstoffabgabe!M577)","v":"MgO"}]
[{"$f":"IF(Nährstoffabgabe!A578=\"\",\"\",Nährstoffabgabe!A578)","v":"Bioabfall-Kompost"},{"$f":"IF(Nährstoffabgabe!B578=\"\",\"\",Nährstoffabgabe!B578)","v":""},{"$f":"IF(Nährstoffabgabe!C578=\"\",\"\",Nährstoffabgabe!C578)","v":""},{"$f":"IF(Nährstoffabgabe!D578=\"\",\"\",Nährstoffabgabe!D578)","v":""},{"$f":"Nährstoffabgabe!E578","v":0},{"$f":"IF(Nährstoffabgabe!F578=\"\",\"\",Nährstoffabgabe!F578)","v":1.28},{"$f":"IF(Nährstoffabgabe!G578=\"\",\"\",Nährstoffabgabe!G578)","v":0.56999999999999995},{"$f":"IF(Nährstoffabgabe!H578=\"\",\"\",Nährstoffabgabe!H578)","v":1.1000000000000001},{"$f":"IF(Nährstoffabgabe!I578=\"\",\"\",Nährstoffabgabe!I578)","v":0.48},{"$f":"IF(Nährstoffabgabe!J578=\"\",\"\",Nährstoffabgabe!J578)","v":0},{"$f":"IF(Nährstoffabgabe!K578=\"\",\"\",Nährstoffabgabe!K578)","v":0},{"$f":"IF(Nährstoffabgabe!L578=\"\",\"\",Nährstoffabgabe!L578)","v":0},{"$f":"IF(Nährstoffabgabe!M578=\"\",\"\",Nährstoffabgabe!M578)","v":0}]
[{"$f":"IF(Nährstoffabgabe!A579=\"\",\"\",Nährstoffabgabe!A579)","v":"Grüngutkompost "},{"$f":"IF(Nährstoffabgabe!B579=\"\",\"\",Nährstoffabgabe!B579)","v":""},{"$f":"IF(Nährstoffabgabe!C579=\"\",\"\",Nährstoffabgabe!C579)","v":""},{"$f":"IF(Nährstoffabgabe!D579=\"\",\"\",Nährstoffabgabe!D579)","v":""},{"$f":"Nährstoffabgabe!E579","v":0},{"$f":"IF(Nährstoffabgabe!F579=\"\",\"\",Nährstoffabgabe!F579)","v":0.66},{"$f":"IF(Nährstoffabgabe!G579=\"\",\"\",Nährstoffabgabe!G579)","v":0.39},{"$f":"IF(Nährstoffabgabe!H579=\"\",\"\",Nährstoffabgabe!H579)","v":0.51},{"$f":"IF(Nährstoffabgabe!I579=\"\",\"\",Nährstoffabgabe!I579)","v":0.08},{"$f":"IF(Nährstoffabgabe!J579=\"\",\"\",Nährstoffabgabe!J579)","v":0},{"$f":"IF(Nährstoffabgabe!K579=\"\",\"\",Nährstoffabgabe!K579)","v":0},{"$f":"IF(Nährstoffabgabe!L579=\"\",\"\",Nährstoffabgabe!L579)","v":0},{"$f":"IF(Nährstoffabgabe!M579=\"\",\"\",Nährstoffabgabe!M579)","v":0}]
[{"$f":"IF(Nährstoffabgabe!A580=\"\",\"\",Nährstoffabgabe!A580)","v":"Pilzsubstrat (Champignonkompost, Champost)"},{"$f":"IF(Nährstoffabgabe!B580=\"\",\"\",Nährstoffabgabe!B580)","v":""},{"$f":"IF(Nährstoffabgabe!C580=\"\",\"\",Nährstoffabgabe!C580)","v":""},{"$f":"IF(Nährstoffabgabe!D580=\"\",\"\",Nährstoffabgabe!D580)","v":""},{"$f":"Nährstoffabgabe!E580","v":0},{"$f":"IF(Nährstoffabgabe!F580=\"\",\"\",Nährstoffabgabe!F580)","v":0.8},{"$f":"IF(Nährstoffabgabe!G580=\"\",\"\",Nährstoffabgabe!G580)","v":0.47},{"$f":"IF(Nährstoffabgabe!H580=\"\",\"\",Nährstoffabgabe!H580)","v":0.6},{"$f":"IF(Nährstoffabgabe!I580=\"\",\"\",Nährstoffabgabe!I580)","v":0.2},{"$f":"IF(Nährstoffabgabe!J580=\"\",\"\",Nährstoffabgabe!J580)","v":0},{"$f":"IF(Nährstoffabgabe!K580=\"\",\"\",Nährstoffabgabe!K580)","v":0},{"$f":"IF(Nährstoffabgabe!L580=\"\",\"\",Nährstoffabgabe!L580)","v":0},{"$f":"IF(Nährstoffabgabe!M580=\"\",\"\",Nährstoffabgabe!M580)","v":0}]
[{"$f":"IF(Nährstoffabgabe!A581=\"\",\"\",Nährstoffabgabe!A581)","v":"Gemüseputzreste (Ø über alle Gemüsearten)"},{"$f":"IF(Nährstoffabgabe!B581=\"\",\"\",Nährstoffabgabe!B581)","v":""},{"$f":"IF(Nährstoffabgabe!C581=\"\",\"\",Nährstoffabgabe!C581)","v":""},{"$f":"IF(Nährstoffabgabe!D581=\"\",\"\",Nährstoffabgabe!D581)","v":""},{"$f":"Nährstoffabgabe!E581","v":0},{"$f":"IF(Nährstoffabgabe!F581=\"\",\"\",Nährstoffabgabe!F581)","v":0.28514018691588788},{"$f":"IF(Nährstoffabgabe!G581=\"\",\"\",Nährstoffabgabe!G581)","v":9.9967245283018896E-2},{"$f":"IF(Nährstoffabgabe!H581=\"\",\"\",Nährstoffabgabe!H581)","v":0.45279773584905664},{"$f":"IF(Nährstoffabgabe!I581=\"\",\"\",Nährstoffabgabe!I581)","v":3.7609811320754673E-2},{"$f":"IF(Nährstoffabgabe!J581=\"\",\"\",Nährstoffabgabe!J581)","v":0},{"$f":"IF(Nährstoffabgabe!K581=\"\",\"\",Nährstoffabgabe!K581)","v":0},{"$f":"IF(Nährstoffabgabe!L581=\"\",\"\",Nährstoffabgabe!L581)","v":0},{"$f":"IF(Nährstoffabgabe!M581=\"\",\"\",Nährstoffabgabe!M581)","v":0}]
[{"$f":"IF(Nährstoffabgabe!A582=\"\",\"\",Nährstoffabgabe!A582)","v":"Tresterkompost"},{"$f":"IF(Nährstoffabgabe!B582=\"\",\"\",Nährstoffabgabe!B582)","v":""},{"$f":"IF(Nährstoffabgabe!C582=\"\",\"\",Nährstoffabgabe!C582)","v":""},{"$f":"IF(Nährstoffabgabe!D582=\"\",\"\",Nährstoffabgabe!D582)","v":""},{"$f":"Nährstoffabgabe!E582","v":0},{"$f":"IF(Nährstoffabgabe!F582=\"\",\"\",Nährstoffabgabe!F582)","v":1.2},{"$f":"IF(Nährstoffabgabe!G582=\"\",\"\",Nährstoffabgabe!G582)","v":0.5},{"$f":"IF(Nährstoffabgabe!H582=\"\",\"\",Nährstoffabgabe!H582)","v":1.7},{"$f":"IF(Nährstoffabgabe!I582=\"\",\"\",Nährstoffabgabe!I582)","v":0.2},{"$f":"IF(Nährstoffabgabe!J582=\"\",\"\",Nährstoffabgabe!J582)","v":0},{"$f":"IF(Nährstoffabgabe!K582=\"\",\"\",Nährstoffabgabe!K582)","v":0},{"$f":"IF(Nährstoffabgabe!L582=\"\",\"\",Nährstoffabgabe!L582)","v":0},{"$f":"IF(Nährstoffabgabe!M582=\"\",\"\",Nährstoffabgabe!M582)","v":0}]
[{"$f":"IF(Nährstoffabgabe!A583=\"\",\"\",Nährstoffabgabe!A583)","v":""},{"$f":"IF(Nährstoffabgabe!B583=\"\",\"\",Nährstoffabgabe!B583)","v":""},{"$f":"IF(Nährstoffabgabe!C583=\"\",\"\",Nährstoffabgabe!C583)","v":""},{"$f":"IF(Nährstoffabgabe!D583=\"\",\"\",Nährstoffabgabe!D583)","v":""},{"$f":"Nährstoffabgabe!E583","v":0},{"$f":"IF(Nährstoffabgabe!F583=\"\",\"\",Nährstoffabgabe!F583)","v":""},{"$f":"IF(Nährstoffabgabe!G583=\"\",\"\",Nährstoffabgabe!G583)","v":""},{"$f":"IF(Nährstoffabgabe!H583=\"\",\"\",Nährstoffabgabe!H583)","v":""},{"$f":"IF(Nährstoffabgabe!I583=\"\",\"\",Nährstoffabgabe!I583)","v":""},{"$f":"IF(Nährstoffabgabe!J583=\"\",\"\",Nährstoffabgabe!J583)","v":0},{"$f":"IF(Nährstoffabgabe!K583=\"\",\"\",Nährstoffabgabe!K583)","v":0},{"$f":"IF(Nährstoffabgabe!L583=\"\",\"\",Nährstoffabgabe!L583)","v":0},{"$f":"IF(Nährstoffabgabe!M583=\"\",\"\",Nährstoffabgabe!M583)","v":0}]
[{"$f":"IF(Nährstoffabgabe!A584=\"\",\"\",Nährstoffabgabe!A584)","v":""},{"$f":"IF(Nährstoffabgabe!B584=\"\",\"\",Nährstoffabgabe!B584)","v":""},{"$f":"IF(Nährstoffabgabe!C584=\"\",\"\",Nährstoffabgabe!C584)","v":""},{"$f":"IF(Nährstoffabgabe!D584=\"\",\"\",Nährstoffabgabe!D584)","v":""},{"$f":"Nährstoffabgabe!E584","v":0},{"$f":"IF(Nährstoffabgabe!F584=\"\",\"\",Nährstoffabgabe!F584)","v":""},{"$f":"IF(Nährstoffabgabe!G584=\"\",\"\",Nährstoffabgabe!G584)","v":""},{"$f":"IF(Nährstoffabgabe!H584=\"\",\"\",Nährstoffabgabe!H584)","v":""},{"$f":"IF(Nährstoffabgabe!I584=\"\",\"\",Nährstoffabgabe!I584)","v":""},{"$f":"IF(Nährstoffabgabe!J584=\"\",\"\",Nährstoffabgabe!J584)","v":0},{"$f":"IF(Nährstoffabgabe!K584=\"\",\"\",Nährstoffabgabe!K584)","v":0},{"$f":"IF(Nährstoffabgabe!L584=\"\",\"\",Nährstoffabgabe!L584)","v":0},{"$f":"IF(Nährstoffabgabe!M584=\"\",\"\",Nährstoffabgabe!M584)","v":0}]
[{"$f":"IF(Nährstoffabgabe!A585=\"\",\"\",Nährstoffabgabe!A585)","v":""},{"$f":"IF(Nährstoffabgabe!B585=\"\",\"\",Nährstoffabgabe!B585)","v":""},{"$f":"IF(Nährstoffabgabe!C585=\"\",\"\",Nährstoffabgabe!C585)","v":""},{"$f":"IF(Nährstoffabgabe!D585=\"\",\"\",Nährstoffabgabe!D585)","v":""},{"$f":"Nährstoffabgabe!E585","v":0},{"$f":"IF(Nährstoffabgabe!F585=\"\",\"\",Nährstoffabgabe!F585)","v":""},{"$f":"IF(Nährstoffabgabe!G585=\"\",\"\",Nährstoffabgabe!G585)","v":""},{"$f":"IF(Nährstoffabgabe!H585=\"\",\"\",Nährstoffabgabe!H585)","v":""},{"$f":"IF(Nährstoffabgabe!I585=\"\",\"\",Nährstoffabgabe!I585)","v":""},{"$f":"IF(Nährstoffabgabe!J585=\"\",\"\",Nährstoffabgabe!J585)","v":0},{"$f":"IF(Nährstoffabgabe!K585=\"\",\"\",Nährstoffabgabe!K585)","v":0},{"$f":"IF(Nährstoffabgabe!L585=\"\",\"\",Nährstoffabgabe!L585)","v":0},{"$f":"IF(Nährstoffabgabe!M585=\"\",\"\",Nährstoffabgabe!M585)","v":0}]
[{"$f":"IF(Nährstoffabgabe!A586=\"\",\"\",Nährstoffabgabe!A586)","v":""},{"$f":"IF(Nährstoffabgabe!B586=\"\",\"\",Nährstoffabgabe!B586)","v":""},{"$f":"IF(Nährstoffabgabe!C586=\"\",\"\",Nährstoffabgabe!C586)","v":""},{"$f":"IF(Nährstoffabgabe!D586=\"\",\"\",Nährstoffabgabe!D586)","v":""},{"$f":"Nährstoffabgabe!E586","v":0},{"$f":"IF(Nährstoffabgabe!F586=\"\",\"\",Nährstoffabgabe!F586)","v":""},{"$f":"IF(Nährstoffabgabe!G586=\"\",\"\",Nährstoffabgabe!G586)","v":""},{"$f":"IF(Nährstoffabgabe!H586=\"\",\"\",Nährstoffabgabe!H586)","v":""},{"$f":"IF(Nährstoffabgabe!I586=\"\",\"\",Nährstoffabgabe!I586)","v":""},{"$f":"IF(Nährstoffabgabe!J586=\"\",\"\",Nährstoffabgabe!J586)","v":0},{"$f":"IF(Nährstoffabgabe!K586=\"\",\"\",Nährstoffabgabe!K586)","v":0},{"$f":"IF(Nährstoffabgabe!L586=\"\",\"\",Nährstoffabgabe!L586)","v":0},{"$f":"IF(Nährstoffabgabe!M586=\"\",\"\",Nährstoffabgabe!M586)","v":0}]
[{"$f":"IF(Nährstoffabgabe!A587=\"\",\"\",Nährstoffabgabe!A587)","v":""},{"$f":"IF(Nährstoffabgabe!B587=\"\",\"\",Nährstoffabgabe!B587)","v":""},{"$f":"IF(Nährstoffabgabe!C587=\"\",\"\",Nährstoffabgabe!C587)","v":""},{"$f":"IF(Nährstoffabgabe!D587=\"\",\"\",Nährstoffabgabe!D587)","v":""},{"$f":"Nährstoffabgabe!E587","v":0},{"$f":"IF(Nährstoffabgabe!F587=\"\",\"\",Nährstoffabgabe!F587)","v":""},{"$f":"IF(Nährstoffabgabe!G587=\"\",\"\",Nährstoffabgabe!G587)","v":""},{"$f":"IF(Nährstoffabgabe!H587=\"\",\"\",Nährstoffabgabe!H587)","v":""},{"$f":"IF(Nährstoffabgabe!I587=\"\",\"\",Nährstoffabgabe!I587)","v":""},{"$f":"IF(Nährstoffabgabe!J587=\"\",\"\",Nährstoffabgabe!J587)","v":0},{"$f":"IF(Nährstoffabgabe!K587=\"\",\"\",Nährstoffabgabe!K587)","v":0},{"$f":"IF(Nährstoffabgabe!L587=\"\",\"\",Nährstoffabgabe!L587)","v":0},{"$f":"IF(Nährstoffabgabe!M587=\"\",\"\",Nährstoffabgabe!M587)","v":0}]
[{"$f":"IF(Nährstoffabgabe!A588=\"\",\"\",Nährstoffabgabe!A588)","v":"Summe"},{"$f":"IF(Nährstoffabgabe!B588=\"\",\"\",Nährstoffabgabe!B588)","v":""},{"$f":"IF(Nährstoffabgabe!C588=\"\",\"\",Nährstoffabgabe!C588)","v":""},{"$f":"IF(Nährstoffabgabe!D588=\"\",\"\",Nährstoffabgabe!D588)","v":""},{"$f":"IF(Nährstoffabgabe!E588=\"\",\"\",Nährstoffabgabe!E588)","v":0},{"$f":"IF(Nährstoffabgabe!F588=\"\",\"\",Nährstoffabgabe!F588)","v":""},{"$f":"IF(Nährstoffabgabe!G588=\"\",\"\",Nährstoffabgabe!G588)","v":""},{"$f":"IF(Nährstoffabgabe!H588=\"\",\"\",Nährstoffabgabe!H588)","v":""},{"$f":"IF(Nährstoffabgabe!I588=\"\",\"\",Nährstoffabgabe!I588)","v":""},{"$f":"IF(Nährstoffabgabe!J588=\"\",\"\",Nährstoffabgabe!J588)","v":0},{"$f":"IF(Nährstoffabgabe!K588=\"\",\"\",Nährstoffabgabe!K588)","v":0},{"$f":"IF(Nährstoffabgabe!L588=\"\",\"\",Nährstoffabgabe!L588)","v":0},{"$f":"IF(Nährstoffabgabe!M588=\"\",\"\",Nährstoffabgabe!M588)","v":0}]
[{"$f":"IF(Nährstoffabgabe!A589=\"\",\"\",Nährstoffabgabe!A589)","v":""},{"$f":"IF(Nährstoffabgabe!B589=\"\",\"\",Nährstoffabgabe!B589)","v":""},{"$f":"IF(Nährstoffabgabe!C589=\"\",\"\",Nährstoffabgabe!C589)","v":""},{"$f":"IF(Nährstoffabgabe!D589=\"\",\"\",Nährstoffabgabe!D589)","v":""},{"$f":"IF(Nährstoffabgabe!E589=\"\",\"\",Nährstoffabgabe!E589)","v":""},{"$f":"IF(Nährstoffabgabe!F589=\"\",\"\",Nährstoffabgabe!F589)","v":""},{"$f":"IF(Nährstoffabgabe!G589=\"\",\"\",Nährstoffabgabe!G589)","v":""},{"$f":"IF(Nährstoffabgabe!H589=\"\",\"\",Nährstoffabgabe!H589)","v":""},{"$f":"IF(Nährstoffabgabe!I589=\"\",\"\",Nährstoffabgabe!I589)","v":""},{"$f":"IF(Nährstoffabgabe!J589=\"\",\"\",Nährstoffabgabe!J589)","v":""},{"$f":"IF(Nährstoffabgabe!K589=\"\",\"\",Nährstoffabgabe!K589)","v":""},{"$f":"IF(Nährstoffabgabe!L589=\"\",\"\",Nährstoffabgabe!L589)","v":""},{"$f":"IF(Nährstoffabgabe!M589=\"\",\"\",Nährstoffabgabe!M589)","v":""}]
[{"$f":"IF(Nährstoffabgabe!A590=\"\",\"\",Nährstoffabgabe!A590)","v":"Bodenhilfsstoffe"},{"$f":"IF(Nährstoffabgabe!B590=\"\",\"\",Nährstoffabgabe!B590)","v":""},{"$f":"IF(Nährstoffabgabe!C590=\"\",\"\",Nährstoffabgabe!C590)","v":""},{"$f":"IF(Nährstoffabgabe!D590=\"\",\"\",Nährstoffabgabe!D590)","v":""},{"$f":"IF(Nährstoffabgabe!E590=\"\",\"\",Nährstoffabgabe!E590)","v":"Abgabemenge"},{"$f":"IF(Nährstoffabgabe!F590=\"\",\"\",Nährstoffabgabe!F590)","v":"Nährstoffgehalt %, kg/dt"},null,null,null,{"$f":"IF(Nährstoffabgabe!J590=\"\",\"\",Nährstoffabgabe!J590)","v":"Nährstoffabgabe kg/Betrieb"}]
[null,{"$f":"IF(Nährstoffabgabe!B591=\"\",\"\",Nährstoffabgabe!B591)","v":""},{"$f":"IF(Nährstoffabgabe!C591=\"\",\"\",Nährstoffabgabe!C591)","v":""},{"$f":"IF(Nährstoffabgabe!D591=\"\",\"\",Nährstoffabgabe!D591)","v":""},{"$f":"IF(Nährstoffabgabe!E591=\"\",\"\",Nährstoffabgabe!E591)","v":"dt"},{"$f":"IF(Nährstoffabgabe!F591=\"\",\"\",Nährstoffabgabe!F591)","v":"N"},{"$f":"IF(Nährstoffabgabe!G591=\"\",\"\",Nährstoffabgabe!G591)","v":"P2O5"},{"$f":"IF(Nährstoffabgabe!H591=\"\",\"\",Nährstoffabgabe!H591)","v":"K2O"},{"$f":"IF(Nährstoffabgabe!I591=\"\",\"\",Nährstoffabgabe!I591)","v":"MgO"},{"$f":"IF(Nährstoffabgabe!J591=\"\",\"\",Nährstoffabgabe!J591)","v":"N"},{"$f":"IF(Nährstoffabgabe!K591=\"\",\"\",Nährstoffabgabe!K591)","v":"P2O5"},{"$f":"IF(Nährstoffabgabe!L591=\"\",\"\",Nährstoffabgabe!L591)","v":"K2O"},{"$f":"IF(Nährstoffabgabe!M591=\"\",\"\",Nährstoffabgabe!M591)","v":"MgO"}]
[{"$f":"IF(Nährstoffabgabe!A592=\"\",\"\",Nährstoffabgabe!A592)","v":""},{"$f":"IF(Nährstoffabgabe!B592=\"\",\"\",Nährstoffabgabe!B592)","v":""},{"$f":"IF(Nährstoffabgabe!C592=\"\",\"\",Nährstoffabgabe!C592)","v":""},{"$f":"IF(Nährstoffabgabe!D592=\"\",\"\",Nährstoffabgabe!D592)","v":""},{"$f":"Nährstoffabgabe!E592","v":0},{"$f":"IF(Nährstoffabgabe!F592=\"\",\"\",Nährstoffabgabe!F592)","v":""},{"$f":"IF(Nährstoffabgabe!G592=\"\",\"\",Nährstoffabgabe!G592)","v":""},{"$f":"IF(Nährstoffabgabe!H592=\"\",\"\",Nährstoffabgabe!H592)","v":""},{"$f":"IF(Nährstoffabgabe!I592=\"\",\"\",Nährstoffabgabe!I592)","v":""},{"$f":"IF(Nährstoffabgabe!J592=\"\",\"\",Nährstoffabgabe!J592)","v":0},{"$f":"IF(Nährstoffabgabe!K592=\"\",\"\",Nährstoffabgabe!K592)","v":0},{"$f":"IF(Nährstoffabgabe!L592=\"\",\"\",Nährstoffabgabe!L592)","v":0},{"$f":"IF(Nährstoffabgabe!M592=\"\",\"\",Nährstoffabgabe!M592)","v":0}]
[{"$f":"IF(Nährstoffabgabe!A593=\"\",\"\",Nährstoffabgabe!A593)","v":""},{"$f":"IF(Nährstoffabgabe!B593=\"\",\"\",Nährstoffabgabe!B593)","v":""},{"$f":"IF(Nährstoffabgabe!C593=\"\",\"\",Nährstoffabgabe!C593)","v":""},{"$f":"IF(Nährstoffabgabe!D593=\"\",\"\",Nährstoffabgabe!D593)","v":""},{"$f":"Nährstoffabgabe!E593","v":0},{"$f":"IF(Nährstoffabgabe!F593=\"\",\"\",Nährstoffabgabe!F593)","v":""},{"$f":"IF(Nährstoffabgabe!G593=\"\",\"\",Nährstoffabgabe!G593)","v":""},{"$f":"IF(Nährstoffabgabe!H593=\"\",\"\",Nährstoffabgabe!H593)","v":""},{"$f":"IF(Nährstoffabgabe!I593=\"\",\"\",Nährstoffabgabe!I593)","v":""},{"$f":"IF(Nährstoffabgabe!J593=\"\",\"\",Nährstoffabgabe!J593)","v":0},{"$f":"IF(Nährstoffabgabe!K593=\"\",\"\",Nährstoffabgabe!K593)","v":0},{"$f":"IF(Nährstoffabgabe!L593=\"\",\"\",Nährstoffabgabe!L593)","v":0},{"$f":"IF(Nährstoffabgabe!M593=\"\",\"\",Nährstoffabgabe!M593)","v":0}]
[{"$f":"IF(Nährstoffabgabe!A594=\"\",\"\",Nährstoffabgabe!A594)","v":""},{"$f":"IF(Nährstoffabgabe!B594=\"\",\"\",Nährstoffabgabe!B594)","v":""},{"$f":"IF(Nährstoffabgabe!C594=\"\",\"\",Nährstoffabgabe!C594)","v":""},{"$f":"IF(Nährstoffabgabe!D594=\"\",\"\",Nährstoffabgabe!D594)","v":""},{"$f":"Nährstoffabgabe!E594","v":0},{"$f":"IF(Nährstoffabgabe!F594=\"\",\"\",Nährstoffabgabe!F594)","v":""},{"$f":"IF(Nährstoffabgabe!G594=\"\",\"\",Nährstoffabgabe!G594)","v":""},{"$f":"IF(Nährstoffabgabe!H594=\"\",\"\",Nährstoffabgabe!H594)","v":""},{"$f":"IF(Nährstoffabgabe!I594=\"\",\"\",Nährstoffabgabe!I594)","v":""},{"$f":"IF(Nährstoffabgabe!J594=\"\",\"\",Nährstoffabgabe!J594)","v":0},{"$f":"IF(Nährstoffabgabe!K594=\"\",\"\",Nährstoffabgabe!K594)","v":0},{"$f":"IF(Nährstoffabgabe!L594=\"\",\"\",Nährstoffabgabe!L594)","v":0},{"$f":"IF(Nährstoffabgabe!M594=\"\",\"\",Nährstoffabgabe!M594)","v":0}]
[{"$f":"IF(Nährstoffabgabe!A595=\"\",\"\",Nährstoffabgabe!A595)","v":""},{"$f":"IF(Nährstoffabgabe!B595=\"\",\"\",Nährstoffabgabe!B595)","v":""},{"$f":"IF(Nährstoffabgabe!C595=\"\",\"\",Nährstoffabgabe!C595)","v":""},{"$f":"IF(Nährstoffabgabe!D595=\"\",\"\",Nährstoffabgabe!D595)","v":""},{"$f":"Nährstoffabgabe!E595","v":0},{"$f":"IF(Nährstoffabgabe!F595=\"\",\"\",Nährstoffabgabe!F595)","v":""},{"$f":"IF(Nährstoffabgabe!G595=\"\",\"\",Nährstoffabgabe!G595)","v":""},{"$f":"IF(Nährstoffabgabe!H595=\"\",\"\",Nährstoffabgabe!H595)","v":""},{"$f":"IF(Nährstoffabgabe!I595=\"\",\"\",Nährstoffabgabe!I595)","v":""},{"$f":"IF(Nährstoffabgabe!J595=\"\",\"\",Nährstoffabgabe!J595)","v":0},{"$f":"IF(Nährstoffabgabe!K595=\"\",\"\",Nährstoffabgabe!K595)","v":0},{"$f":"IF(Nährstoffabgabe!L595=\"\",\"\",Nährstoffabgabe!L595)","v":0},{"$f":"IF(Nährstoffabgabe!M595=\"\",\"\",Nährstoffabgabe!M595)","v":0}]
[{"$f":"IF(Nährstoffabgabe!A596=\"\",\"\",Nährstoffabgabe!A596)","v":""},{"$f":"IF(Nährstoffabgabe!B596=\"\",\"\",Nährstoffabgabe!B596)","v":""},{"$f":"IF(Nährstoffabgabe!C596=\"\",\"\",Nährstoffabgabe!C596)","v":""},{"$f":"IF(Nährstoffabgabe!D596=\"\",\"\",Nährstoffabgabe!D596)","v":""},{"$f":"Nährstoffabgabe!E596","v":0},{"$f":"IF(Nährstoffabgabe!F596=\"\",\"\",Nährstoffabgabe!F596)","v":""},{"$f":"IF(Nährstoffabgabe!G596=\"\",\"\",Nährstoffabgabe!G596)","v":""},{"$f":"IF(Nährstoffabgabe!H596=\"\",\"\",Nährstoffabgabe!H596)","v":""},{"$f":"IF(Nährstoffabgabe!I596=\"\",\"\",Nährstoffabgabe!I596)","v":""},{"$f":"IF(Nährstoffabgabe!J596=\"\",\"\",Nährstoffabgabe!J596)","v":0},{"$f":"IF(Nährstoffabgabe!K596=\"\",\"\",Nährstoffabgabe!K596)","v":0},{"$f":"IF(Nährstoffabgabe!L596=\"\",\"\",Nährstoffabgabe!L596)","v":0},{"$f":"IF(Nährstoffabgabe!M596=\"\",\"\",Nährstoffabgabe!M596)","v":0}]
[{"$f":"IF(Nährstoffabgabe!A597=\"\",\"\",Nährstoffabgabe!A597)","v":"Summe"},{"$f":"IF(Nährstoffabgabe!B597=\"\",\"\",Nährstoffabgabe!B597)","v":""},{"$f":"IF(Nährstoffabgabe!C597=\"\",\"\",Nährstoffabgabe!C597)","v":""},{"$f":"IF(Nährstoffabgabe!D597=\"\",\"\",Nährstoffabgabe!D597)","v":""},{"$f":"IF(Nährstoffabgabe!E597=\"\",\"\",Nährstoffabgabe!E597)","v":0},{"$f":"IF(Nährstoffabgabe!F597=\"\",\"\",Nährstoffabgabe!F597)","v":""},{"$f":"IF(Nährstoffabgabe!G597=\"\",\"\",Nährstoffabgabe!G597)","v":""},{"$f":"IF(Nährstoffabgabe!H597=\"\",\"\",Nährstoffabgabe!H597)","v":""},{"$f":"IF(Nährstoffabgabe!I597=\"\",\"\",Nährstoffabgabe!I597)","v":""},{"$f":"IF(Nährstoffabgabe!J597=\"\",\"\",Nährstoffabgabe!J597)","v":0},{"$f":"IF(Nährstoffabgabe!K597=\"\",\"\",Nährstoffabgabe!K597)","v":0},{"$f":"IF(Nährstoffabgabe!L597=\"\",\"\",Nährstoffabgabe!L597)","v":0},{"$f":"IF(Nährstoffabgabe!M597=\"\",\"\",Nährstoffabgabe!M597)","v":0}]
[{"$f":"IF(Nährstoffabgabe!A598=\"\",\"\",Nährstoffabgabe!A598)","v":""},{"$f":"IF(Nährstoffabgabe!B598=\"\",\"\",Nährstoffabgabe!B598)","v":""},{"$f":"IF(Nährstoffabgabe!C598=\"\",\"\",Nährstoffabgabe!C598)","v":""},{"$f":"IF(Nährstoffabgabe!D598=\"\",\"\",Nährstoffabgabe!D598)","v":""},{"$f":"IF(Nährstoffabgabe!E598=\"\",\"\",Nährstoffabgabe!E598)","v":""},{"$f":"IF(Nährstoffabgabe!F598=\"\",\"\",Nährstoffabgabe!F598)","v":""},{"$f":"IF(Nährstoffabgabe!G598=\"\",\"\",Nährstoffabgabe!G598)","v":""},{"$f":"IF(Nährstoffabgabe!H598=\"\",\"\",Nährstoffabgabe!H598)","v":""},{"$f":"IF(Nährstoffabgabe!I598=\"\",\"\",Nährstoffabgabe!I598)","v":""},{"$f":"IF(Nährstoffabgabe!J598=\"\",\"\",Nährstoffabgabe!J598)","v":""},{"$f":"IF(Nährstoffabgabe!K598=\"\",\"\",Nährstoffabgabe!K598)","v":""},{"$f":"IF(Nährstoffabgabe!L598=\"\",\"\",Nährstoffabgabe!L598)","v":""},{"$f":"IF(Nährstoffabgabe!M598=\"\",\"\",Nährstoffabgabe!M598)","v":""}]
[{"$f":"IF(Nährstoffabgabe!A599=\"\",\"\",Nährstoffabgabe!A599)","v":"Pflanzenhilfsmittel"},{"$f":"IF(Nährstoffabgabe!B599=\"\",\"\",Nährstoffabgabe!B599)","v":""},{"$f":"IF(Nährstoffabgabe!C599=\"\",\"\",Nährstoffabgabe!C599)","v":""},{"$f":"IF(Nährstoffabgabe!D599=\"\",\"\",Nährstoffabgabe!D599)","v":""},{"$f":"IF(Nährstoffabgabe!E599=\"\",\"\",Nährstoffabgabe!E599)","v":"Abgabemenge"},{"$f":"IF(Nährstoffabgabe!F599=\"\",\"\",Nährstoffabgabe!F599)","v":"Nährstoffgehalt %, kg/dt"},null,null,null,{"$f":"IF(Nährstoffabgabe!J599=\"\",\"\",Nährstoffabgabe!J599)","v":"Nährstoffabgabe kg/Betrieb"}]
[null,{"$f":"IF(Nährstoffabgabe!B600=\"\",\"\",Nährstoffabgabe!B600)","v":""},{"$f":"IF(Nährstoffabgabe!C600=\"\",\"\",Nährstoffabgabe!C600)","v":""},{"$f":"IF(Nährstoffabgabe!D600=\"\",\"\",Nährstoffabgabe!D600)","v":""},{"$f":"IF(Nährstoffabgabe!E600=\"\",\"\",Nährstoffabgabe!E600)","v":"dt"},{"$f":"IF(Nährstoffabgabe!F600=\"\",\"\",Nährstoffabgabe!F600)","v":"N"},{"$f":"IF(Nährstoffabgabe!G600=\"\",\"\",Nährstoffabgabe!G600)","v":"P2O5"},{"$f":"IF(Nährstoffabgabe!H600=\"\",\"\",Nährstoffabgabe!H600)","v":"K2O"},{"$f":"IF(Nährstoffabgabe!I600=\"\",\"\",Nährstoffabgabe!I600)","v":"MgO"},{"$f":"IF(Nährstoffabgabe!J600=\"\",\"\",Nährstoffabgabe!J600)","v":"N"},{"$f":"IF(Nährstoffabgabe!K600=\"\",\"\",Nährstoffabgabe!K600)","v":"P2O5"},{"$f":"IF(Nährstoffabgabe!L600=\"\",\"\",Nährstoffabgabe!L600)","v":"K2O"},{"$f":"IF(Nährstoffabgabe!M600=\"\",\"\",Nährstoffabgabe!M600)","v":"MgO"}]
[{"$f":"IF(Nährstoffabgabe!A601=\"\",\"\",Nährstoffabgabe!A601)","v":""},{"$f":"IF(Nährstoffabgabe!B601=\"\",\"\",Nährstoffabgabe!B601)","v":""},{"$f":"IF(Nährstoffabgabe!C601=\"\",\"\",Nährstoffabgabe!C601)","v":""},{"$f":"IF(Nährstoffabgabe!D601=\"\",\"\",Nährstoffabgabe!D601)","v":""},{"$f":"Nährstoffabgabe!E601","v":0},{"$f":"IF(Nährstoffabgabe!F601=\"\",\"\",Nährstoffabgabe!F601)","v":""},{"$f":"IF(Nährstoffabgabe!G601=\"\",\"\",Nährstoffabgabe!G601)","v":""},{"$f":"IF(Nährstoffabgabe!H601=\"\",\"\",Nährstoffabgabe!H601)","v":""},{"$f":"IF(Nährstoffabgabe!I601=\"\",\"\",Nährstoffabgabe!I601)","v":""},{"$f":"IF(Nährstoffabgabe!J601=\"\",\"\",Nährstoffabgabe!J601)","v":0},{"$f":"IF(Nährstoffabgabe!K601=\"\",\"\",Nährstoffabgabe!K601)","v":0},{"$f":"IF(Nährstoffabgabe!L601=\"\",\"\",Nährstoffabgabe!L601)","v":0},{"$f":"IF(Nährstoffabgabe!M601=\"\",\"\",Nährstoffabgabe!M601)","v":0}]
[{"$f":"IF(Nährstoffabgabe!A602=\"\",\"\",Nährstoffabgabe!A602)","v":""},{"$f":"IF(Nährstoffabgabe!B602=\"\",\"\",Nährstoffabgabe!B602)","v":""},{"$f":"IF(Nährstoffabgabe!C602=\"\",\"\",Nährstoffabgabe!C602)","v":""},{"$f":"IF(Nährstoffabgabe!D602=\"\",\"\",Nährstoffabgabe!D602)","v":""},{"$f":"Nährstoffabgabe!E602","v":0},{"$f":"IF(Nährstoffabgabe!F602=\"\",\"\",Nährstoffabgabe!F602)","v":""},{"$f":"IF(Nährstoffabgabe!G602=\"\",\"\",Nährstoffabgabe!G602)","v":""},{"$f":"IF(Nährstoffabgabe!H602=\"\",\"\",Nährstoffabgabe!H602)","v":""},{"$f":"IF(Nährstoffabgabe!I602=\"\",\"\",Nährstoffabgabe!I602)","v":""},{"$f":"IF(Nährstoffabgabe!J602=\"\",\"\",Nährstoffabgabe!J602)","v":0},{"$f":"IF(Nährstoffabgabe!K602=\"\",\"\",Nährstoffabgabe!K602)","v":0},{"$f":"IF(Nährstoffabgabe!L602=\"\",\"\",Nährstoffabgabe!L602)","v":0},{"$f":"IF(Nährstoffabgabe!M602=\"\",\"\",Nährstoffabgabe!M602)","v":0}]
[{"$f":"IF(Nährstoffabgabe!A603=\"\",\"\",Nährstoffabgabe!A603)","v":""},{"$f":"IF(Nährstoffabgabe!B603=\"\",\"\",Nährstoffabgabe!B603)","v":""},{"$f":"IF(Nährstoffabgabe!C603=\"\",\"\",Nährstoffabgabe!C603)","v":""},{"$f":"IF(Nährstoffabgabe!D603=\"\",\"\",Nährstoffabgabe!D603)","v":""},{"$f":"Nährstoffabgabe!E603","v":0},{"$f":"IF(Nährstoffabgabe!F603=\"\",\"\",Nährstoffabgabe!F603)","v":""},{"$f":"IF(Nährstoffabgabe!G603=\"\",\"\",Nährstoffabgabe!G603)","v":""},{"$f":"IF(Nährstoffabgabe!H603=\"\",\"\",Nährstoffabgabe!H603)","v":""},{"$f":"IF(Nährstoffabgabe!I603=\"\",\"\",Nährstoffabgabe!I603)","v":""},{"$f":"IF(Nährstoffabgabe!J603=\"\",\"\",Nährstoffabgabe!J603)","v":0},{"$f":"IF(Nährstoffabgabe!K603=\"\",\"\",Nährstoffabgabe!K603)","v":0},{"$f":"IF(Nährstoffabgabe!L603=\"\",\"\",Nährstoffabgabe!L603)","v":0},{"$f":"IF(Nährstoffabgabe!M603=\"\",\"\",Nährstoffabgabe!M603)","v":0}]
[{"$f":"IF(Nährstoffabgabe!A604=\"\",\"\",Nährstoffabgabe!A604)","v":""},{"$f":"IF(Nährstoffabgabe!B604=\"\",\"\",Nährstoffabgabe!B604)","v":""},{"$f":"IF(Nährstoffabgabe!C604=\"\",\"\",Nährstoffabgabe!C604)","v":""},{"$f":"IF(Nährstoffabgabe!D604=\"\",\"\",Nährstoffabgabe!D604)","v":""},{"$f":"Nährstoffabgabe!E604","v":0},{"$f":"IF(Nährstoffabgabe!F604=\"\",\"\",Nährstoffabgabe!F604)","v":""},{"$f":"IF(Nährstoffabgabe!G604=\"\",\"\",Nährstoffabgabe!G604)","v":""},{"$f":"IF(Nährstoffabgabe!H604=\"\",\"\",Nährstoffabgabe!H604)","v":""},{"$f":"IF(Nährstoffabgabe!I604=\"\",\"\",Nährstoffabgabe!I604)","v":""},{"$f":"IF(Nährstoffabgabe!J604=\"\",\"\",Nährstoffabgabe!J604)","v":0},{"$f":"IF(Nährstoffabgabe!K604=\"\",\"\",Nährstoffabgabe!K604)","v":0},{"$f":"IF(Nährstoffabgabe!L604=\"\",\"\",Nährstoffabgabe!L604)","v":0},{"$f":"IF(Nährstoffabgabe!M604=\"\",\"\",Nährstoffabgabe!M604)","v":0}]
[{"$f":"IF(Nährstoffabgabe!A605=\"\",\"\",Nährstoffabgabe!A605)","v":""},{"$f":"IF(Nährstoffabgabe!B605=\"\",\"\",Nährstoffabgabe!B605)","v":""},{"$f":"IF(Nährstoffabgabe!C605=\"\",\"\",Nährstoffabgabe!C605)","v":""},{"$f":"IF(Nährstoffabgabe!D605=\"\",\"\",Nährstoffabgabe!D605)","v":""},{"$f":"Nährstoffabgabe!E605","v":0},{"$f":"IF(Nährstoffabgabe!F605=\"\",\"\",Nährstoffabgabe!F605)","v":""},{"$f":"IF(Nährstoffabgabe!G605=\"\",\"\",Nährstoffabgabe!G605)","v":""},{"$f":"IF(Nährstoffabgabe!H605=\"\",\"\",Nährstoffabgabe!H605)","v":""},{"$f":"IF(Nährstoffabgabe!I605=\"\",\"\",Nährstoffabgabe!I605)","v":""},{"$f":"IF(Nährstoffabgabe!J605=\"\",\"\",Nährstoffabgabe!J605)","v":0},{"$f":"IF(Nährstoffabgabe!K605=\"\",\"\",Nährstoffabgabe!K605)","v":0},{"$f":"IF(Nährstoffabgabe!L605=\"\",\"\",Nährstoffabgabe!L605)","v":0},{"$f":"IF(Nährstoffabgabe!M605=\"\",\"\",Nährstoffabgabe!M605)","v":0}]
[{"$f":"IF(Nährstoffabgabe!A606=\"\",\"\",Nährstoffabgabe!A606)","v":"Summe"},{"$f":"IF(Nährstoffabgabe!B606=\"\",\"\",Nährstoffabgabe!B606)","v":""},{"$f":"IF(Nährstoffabgabe!C606=\"\",\"\",Nährstoffabgabe!C606)","v":""},{"$f":"IF(Nährstoffabgabe!D606=\"\",\"\",Nährstoffabgabe!D606)","v":""},{"$f":"IF(Nährstoffabgabe!E606=\"\",\"\",Nährstoffabgabe!E606)","v":0},{"$f":"IF(Nährstoffabgabe!F606=\"\",\"\",Nährstoffabgabe!F606)","v":""},{"$f":"IF(Nährstoffabgabe!G606=\"\",\"\",Nährstoffabgabe!G606)","v":""},{"$f":"IF(Nährstoffabgabe!H606=\"\",\"\",Nährstoffabgabe!H606)","v":""},{"$f":"IF(Nährstoffabgabe!I606=\"\",\"\",Nährstoffabgabe!I606)","v":""},{"$f":"IF(Nährstoffabgabe!J606=\"\",\"\",Nährstoffabgabe!J606)","v":0},{"$f":"IF(Nährstoffabgabe!K606=\"\",\"\",Nährstoffabgabe!K606)","v":0},{"$f":"IF(Nährstoffabgabe!L606=\"\",\"\",Nährstoffabgabe!L606)","v":0},{"$f":"IF(Nährstoffabgabe!M606=\"\",\"\",Nährstoffabgabe!M606)","v":0}]
[{"$f":"IF(Nährstoffabgabe!A607=\"\",\"\",Nährstoffabgabe!A607)","v":""},{"$f":"IF(Nährstoffabgabe!B607=\"\",\"\",Nährstoffabgabe!B607)","v":""},{"$f":"IF(Nährstoffabgabe!C607=\"\",\"\",Nährstoffabgabe!C607)","v":""},{"$f":"IF(Nährstoffabgabe!D607=\"\",\"\",Nährstoffabgabe!D607)","v":""},{"$f":"IF(Nährstoffabgabe!E607=\"\",\"\",Nährstoffabgabe!E607)","v":""},{"$f":"IF(Nährstoffabgabe!F607=\"\",\"\",Nährstoffabgabe!F607)","v":""},{"$f":"IF(Nährstoffabgabe!G607=\"\",\"\",Nährstoffabgabe!G607)","v":""},{"$f":"IF(Nährstoffabgabe!H607=\"\",\"\",Nährstoffabgabe!H607)","v":""},{"$f":"IF(Nährstoffabgabe!I607=\"\",\"\",Nährstoffabgabe!I607)","v":""},{"$f":"IF(Nährstoffabgabe!J607=\"\",\"\",Nährstoffabgabe!J607)","v":""},{"$f":"IF(Nährstoffabgabe!K607=\"\",\"\",Nährstoffabgabe!K607)","v":""},{"$f":"IF(Nährstoffabgabe!L607=\"\",\"\",Nährstoffabgabe!L607)","v":""},{"$f":"IF(Nährstoffabgabe!M607=\"\",\"\",Nährstoffabgabe!M607)","v":""}]
[{"$f":"IF(Nährstoffabgabe!A608=\"\",\"\",Nährstoffabgabe!A608)","v":"Kultursubstrate"},{"$f":"IF(Nährstoffabgabe!B608=\"\",\"\",Nährstoffabgabe!B608)","v":""},{"$f":"IF(Nährstoffabgabe!C608=\"\",\"\",Nährstoffabgabe!C608)","v":""},{"$f":"IF(Nährstoffabgabe!D608=\"\",\"\",Nährstoffabgabe!D608)","v":""},{"$f":"IF(Nährstoffabgabe!E608=\"\",\"\",Nährstoffabgabe!E608)","v":"Abgabemenge"},{"$f":"IF(Nährstoffabgabe!F608=\"\",\"\",Nährstoffabgabe!F608)","v":"Nährstoffgehalt %, kg/dt"},null,null,null,{"$f":"IF(Nährstoffabgabe!J608=\"\",\"\",Nährstoffabgabe!J608)","v":"Nährstoffe kg"}]
[null,{"$f":"IF(Nährstoffabgabe!B609=\"\",\"\",Nährstoffabgabe!B609)","v":""},{"$f":"IF(Nährstoffabgabe!C609=\"\",\"\",Nährstoffabgabe!C609)","v":""},{"$f":"IF(Nährstoffabgabe!D609=\"\",\"\",Nährstoffabgabe!D609)","v":""},{"$f":"IF(Nährstoffabgabe!E609=\"\",\"\",Nährstoffabgabe!E609)","v":"dt"},{"$f":"IF(Nährstoffabgabe!F609=\"\",\"\",Nährstoffabgabe!F609)","v":"N"},{"$f":"IF(Nährstoffabgabe!G609=\"\",\"\",Nährstoffabgabe!G609)","v":"P2O5"},{"$f":"IF(Nährstoffabgabe!H609=\"\",\"\",Nährstoffabgabe!H609)","v":"K2O"},{"$f":"IF(Nährstoffabgabe!I609=\"\",\"\",Nährstoffabgabe!I609)","v":"MgO"},{"$f":"IF(Nährstoffabgabe!J609=\"\",\"\",Nährstoffabgabe!J609)","v":"N"},{"$f":"IF(Nährstoffabgabe!K609=\"\",\"\",Nährstoffabgabe!K609)","v":"P2O5"},{"$f":"IF(Nährstoffabgabe!L609=\"\",\"\",Nährstoffabgabe!L609)","v":"K2O"},{"$f":"IF(Nährstoffabgabe!M609=\"\",\"\",Nährstoffabgabe!M609)","v":"MgO"}]
[{"$f":"IF(Nährstoffabgabe!A610=\"\",\"\",Nährstoffabgabe!A610)","v":"Derzeit keine veröffentlichten Daten vorhanden"},{"$f":"IF([1]Nährstoffabgabe!B602=\"\",\"\",[1]Nährstoffabgabe!B602)","v":0},{"$f":"IF([1]Nährstoffabgabe!C602=\"\",\"\",[1]Nährstoffabgabe!C602)","v":0},{"$f":"IF([1]Nährstoffabgabe!D602=\"\",\"\",[1]Nährstoffabgabe!D602)","v":0},{"$f":"Nährstoffabgabe!E610","v":0},{"$f":"IF(Nährstoffabgabe!F610=\"\",\"\",Nährstoffabgabe!F610)","v":""},{"$f":"IF(Nährstoffabgabe!G610=\"\",\"\",Nährstoffabgabe!G610)","v":""},{"$f":"IF(Nährstoffabgabe!H610=\"\",\"\",Nährstoffabgabe!H610)","v":""},{"$f":"IF(Nährstoffabgabe!I610=\"\",\"\",Nährstoffabgabe!I610)","v":""},{"$f":"IF(Nährstoffabgabe!J610=\"\",\"\",Nährstoffabgabe!J610)","v":0},{"$f":"IF(Nährstoffabgabe!K610=\"\",\"\",Nährstoffabgabe!K610)","v":0},{"$f":"IF(Nährstoffabgabe!L610=\"\",\"\",Nährstoffabgabe!L610)","v":0},{"$f":"IF(Nährstoffabgabe!M610=\"\",\"\",Nährstoffabgabe!M610)","v":0}]
[{"$f":"IF(Nährstoffabgabe!A611=\"\",\"\",Nährstoffabgabe!A611)","v":""},{"$f":"IF(Nährstoffabgabe!B611=\"\",\"\",Nährstoffabgabe!B611)","v":""},{"$f":"IF(Nährstoffabgabe!C611=\"\",\"\",Nährstoffabgabe!C611)","v":""},{"$f":"IF(Nährstoffabgabe!D611=\"\",\"\",Nährstoffabgabe!D611)","v":""},{"$f":"Nährstoffabgabe!E611","v":0},{"$f":"IF(Nährstoffabgabe!F611=\"\",\"\",Nährstoffabgabe!F611)","v":""},{"$f":"IF(Nährstoffabgabe!G611=\"\",\"\",Nährstoffabgabe!G611)","v":""},{"$f":"IF(Nährstoffabgabe!H611=\"\",\"\",Nährstoffabgabe!H611)","v":""},{"$f":"IF(Nährstoffabgabe!I611=\"\",\"\",Nährstoffabgabe!I611)","v":""},{"$f":"IF(Nährstoffabgabe!J611=\"\",\"\",Nährstoffabgabe!J611)","v":0},{"$f":"IF(Nährstoffabgabe!K611=\"\",\"\",Nährstoffabgabe!K611)","v":0},{"$f":"IF(Nährstoffabgabe!L611=\"\",\"\",Nährstoffabgabe!L611)","v":0},{"$f":"IF(Nährstoffabgabe!M611=\"\",\"\",Nährstoffabgabe!M611)","v":0}]
[{"$f":"IF(Nährstoffabgabe!A612=\"\",\"\",Nährstoffabgabe!A612)","v":""},{"$f":"IF(Nährstoffabgabe!B612=\"\",\"\",Nährstoffabgabe!B612)","v":""},{"$f":"IF(Nährstoffabgabe!C612=\"\",\"\",Nährstoffabgabe!C612)","v":""},{"$f":"IF(Nährstoffabgabe!D612=\"\",\"\",Nährstoffabgabe!D612)","v":""},{"$f":"Nährstoffabgabe!E612","v":0},{"$f":"IF(Nährstoffabgabe!F612=\"\",\"\",Nährstoffabgabe!F612)","v":""},{"$f":"IF(Nährstoffabgabe!G612=\"\",\"\",Nährstoffabgabe!G612)","v":""},{"$f":"IF(Nährstoffabgabe!H612=\"\",\"\",Nährstoffabgabe!H612)","v":""},{"$f":"IF(Nährstoffabgabe!I612=\"\",\"\",Nährstoffabgabe!I612)","v":""},{"$f":"IF(Nährstoffabgabe!J612=\"\",\"\",Nährstoffabgabe!J612)","v":0},{"$f":"IF(Nährstoffabgabe!K612=\"\",\"\",Nährstoffabgabe!K612)","v":0},{"$f":"IF(Nährstoffabgabe!L612=\"\",\"\",Nährstoffabgabe!L612)","v":0},{"$f":"IF(Nährstoffabgabe!M612=\"\",\"\",Nährstoffabgabe!M612)","v":0}]
[{"$f":"IF(Nährstoffabgabe!A613=\"\",\"\",Nährstoffabgabe!A613)","v":""},{"$f":"IF(Nährstoffabgabe!B613=\"\",\"\",Nährstoffabgabe!B613)","v":""},{"$f":"IF(Nährstoffabgabe!C613=\"\",\"\",Nährstoffabgabe!C613)","v":""},{"$f":"IF(Nährstoffabgabe!D613=\"\",\"\",Nährstoffabgabe!D613)","v":""},{"$f":"Nährstoffabgabe!E613","v":0},{"$f":"IF(Nährstoffabgabe!F613=\"\",\"\",Nährstoffabgabe!F613)","v":""},{"$f":"IF(Nährstoffabgabe!G613=\"\",\"\",Nährstoffabgabe!G613)","v":""},{"$f":"IF(Nährstoffabgabe!H613=\"\",\"\",Nährstoffabgabe!H613)","v":""},{"$f":"IF(Nährstoffabgabe!I613=\"\",\"\",Nährstoffabgabe!I613)","v":""},{"$f":"IF(Nährstoffabgabe!J613=\"\",\"\",Nährstoffabgabe!J613)","v":0},{"$f":"IF(Nährstoffabgabe!K613=\"\",\"\",Nährstoffabgabe!K613)","v":0},{"$f":"IF(Nährstoffabgabe!L613=\"\",\"\",Nährstoffabgabe!L613)","v":0},{"$f":"IF(Nährstoffabgabe!M613=\"\",\"\",Nährstoffabgabe!M613)","v":0}]
[{"$f":"IF(Nährstoffabgabe!A614=\"\",\"\",Nährstoffabgabe!A614)","v":""},{"$f":"IF(Nährstoffabgabe!B614=\"\",\"\",Nährstoffabgabe!B614)","v":""},{"$f":"IF(Nährstoffabgabe!C614=\"\",\"\",Nährstoffabgabe!C614)","v":""},{"$f":"IF(Nährstoffabgabe!D614=\"\",\"\",Nährstoffabgabe!D614)","v":""},{"$f":"Nährstoffabgabe!E614","v":0},{"$f":"IF(Nährstoffabgabe!F614=\"\",\"\",Nährstoffabgabe!F614)","v":""},{"$f":"IF(Nährstoffabgabe!G614=\"\",\"\",Nährstoffabgabe!G614)","v":""},{"$f":"IF(Nährstoffabgabe!H614=\"\",\"\",Nährstoffabgabe!H614)","v":""},{"$f":"IF(Nährstoffabgabe!I614=\"\",\"\",Nährstoffabgabe!I614)","v":""},{"$f":"IF(Nährstoffabgabe!J614=\"\",\"\",Nährstoffabgabe!J614)","v":0},{"$f":"IF(Nährstoffabgabe!K614=\"\",\"\",Nährstoffabgabe!K614)","v":0},{"$f":"IF(Nährstoffabgabe!L614=\"\",\"\",Nährstoffabgabe!L614)","v":0},{"$f":"IF(Nährstoffabgabe!M614=\"\",\"\",Nährstoffabgabe!M614)","v":0}]
[{"$f":"IF(Nährstoffabgabe!A615=\"\",\"\",Nährstoffabgabe!A615)","v":"Summe"},{"$f":"IF(Nährstoffabgabe!B615=\"\",\"\",Nährstoffabgabe!B615)","v":""},{"$f":"IF(Nährstoffabgabe!C615=\"\",\"\",Nährstoffabgabe!C615)","v":""},{"$f":"IF(Nährstoffabgabe!D615=\"\",\"\",Nährstoffabgabe!D615)","v":""},{"$f":"IF(Nährstoffabgabe!E615=\"\",\"\",Nährstoffabgabe!E615)","v":0},{"$f":"IF(Nährstoffabgabe!F615=\"\",\"\",Nährstoffabgabe!F615)","v":""},{"$f":"IF(Nährstoffabgabe!G615=\"\",\"\",Nährstoffabgabe!G615)","v":""},{"$f":"IF(Nährstoffabgabe!H615=\"\",\"\",Nährstoffabgabe!H615)","v":""},{"$f":"IF(Nährstoffabgabe!I615=\"\",\"\",Nährstoffabgabe!I615)","v":""},{"$f":"IF(Nährstoffabgabe!J615=\"\",\"\",Nährstoffabgabe!J615)","v":0},{"$f":"IF(Nährstoffabgabe!K615=\"\",\"\",Nährstoffabgabe!K615)","v":0},{"$f":"IF(Nährstoffabgabe!L615=\"\",\"\",Nährstoffabgabe!L615)","v":0},{"$f":"IF(Nährstoffabgabe!M615=\"\",\"\",Nährstoffabgabe!M615)","v":0}]
[{"$f":"IF(Nährstoffabgabe!A616=\"\",\"\",Nährstoffabgabe!A616)","v":""},{"$f":"IF(Nährstoffabgabe!B616=\"\",\"\",Nährstoffabgabe!B616)","v":""},{"$f":"IF(Nährstoffabgabe!C616=\"\",\"\",Nährstoffabgabe!C616)","v":""},{"$f":"IF(Nährstoffabgabe!D616=\"\",\"\",Nährstoffabgabe!D616)","v":""},{"$f":"IF(Nährstoffabgabe!E616=\"\",\"\",Nährstoffabgabe!E616)","v":""},{"$f":"IF(Nährstoffabgabe!F616=\"\",\"\",Nährstoffabgabe!F616)","v":""},{"$f":"IF(Nährstoffabgabe!G616=\"\",\"\",Nährstoffabgabe!G616)","v":""},{"$f":"IF(Nährstoffabgabe!H616=\"\",\"\",Nährstoffabgabe!H616)","v":""},{"$f":"IF(Nährstoffabgabe!I616=\"\",\"\",Nährstoffabgabe!I616)","v":""},{"$f":"IF(Nährstoffabgabe!J616=\"\",\"\",Nährstoffabgabe!J616)","v":""},{"$f":"IF(Nährstoffabgabe!K616=\"\",\"\",Nährstoffabgabe!K616)","v":""},{"$f":"IF(Nährstoffabgabe!L616=\"\",\"\",Nährstoffabgabe!L616)","v":""},{"$f":"IF(Nährstoffabgabe!M616=\"\",\"\",Nährstoffabgabe!M616)","v":""}]
[{"$f":"IF(Nährstoffabgabe!A617=\"\",\"\",Nährstoffabgabe!A617)","v":"Saatgut, Pflanzgut, Vermehrungsmaterial"},{"$f":"IF(Nährstoffabgabe!B617=\"\",\"\",Nährstoffabgabe!B617)","v":""},{"$f":"IF(Nährstoffabgabe!C617=\"\",\"\",Nährstoffabgabe!C617)","v":""},{"$f":"IF(Nährstoffabgabe!D617=\"\",\"\",Nährstoffabgabe!D617)","v":""},{"$f":"IF(Nährstoffabgabe!E617=\"\",\"\",Nährstoffabgabe!E617)","v":"Abgabemenge"},{"$f":"IF(Nährstoffabgabe!F617=\"\",\"\",Nährstoffabgabe!F617)","v":"Nährstoffgehalt %, kg/dt"},null,null,null,{"$f":"IF(Nährstoffabgabe!J617=\"\",\"\",Nährstoffabgabe!J617)","v":"Nährstoffe kg"}]
[null,{"$f":"IF(Nährstoffabgabe!B618=\"\",\"\",Nährstoffabgabe!B618)","v":""},{"$f":"IF(Nährstoffabgabe!C618=\"\",\"\",Nährstoffabgabe!C618)","v":""},{"$f":"IF(Nährstoffabgabe!D618=\"\",\"\",Nährstoffabgabe!D618)","v":""},{"$f":"IF(Nährstoffabgabe!E618=\"\",\"\",Nährstoffabgabe!E618)","v":"dt"},{"$f":"IF(Nährstoffabgabe!F618=\"\",\"\",Nährstoffabgabe!F618)","v":"N"},{"$f":"IF(Nährstoffabgabe!G618=\"\",\"\",Nährstoffabgabe!G618)","v":"P2O5"},{"$f":"IF(Nährstoffabgabe!H618=\"\",\"\",Nährstoffabgabe!H618)","v":"K2O"},{"$f":"IF(Nährstoffabgabe!I618=\"\",\"\",Nährstoffabgabe!I618)","v":"MgO"},{"$f":"IF(Nährstoffabgabe!J618=\"\",\"\",Nährstoffabgabe!J618)","v":"N"},{"$f":"IF(Nährstoffabgabe!K618=\"\",\"\",Nährstoffabgabe!K618)","v":"P2O5"},{"$f":"IF(Nährstoffabgabe!L618=\"\",\"\",Nährstoffabgabe!L618)","v":"K2O"},{"$f":"IF(Nährstoffabgabe!M618=\"\",\"\",Nährstoffabgabe!M618)","v":"MgO"}]
[{"$f":"IF(Nährstoffabgabe!A619=\"\",\"\",Nährstoffabgabe!A619)","v":"Siehe Tabellen zur pflanzlichen Erzeugung (Gemüse, Ackerbau usw.)"},{"$f":"IF([1]Nährstoffabgabe!B611=\"\",\"\",[1]Nährstoffabgabe!B611)","v":0},{"$f":"IF([1]Nährstoffabgabe!C611=\"\",\"\",[1]Nährstoffabgabe!C611)","v":0},{"$f":"IF([1]Nährstoffabgabe!D611=\"\",\"\",[1]Nährstoffabgabe!D611)","v":0},{"$f":"IF(Nährstoffabgabe!E619=\"\",\"\",Nährstoffabgabe!E619)","v":""},{"$f":"IF(Nährstoffabgabe!F619=\"\",\"\",Nährstoffabgabe!F619)","v":""},{"$f":"IF(Nährstoffabgabe!G619=\"\",\"\",Nährstoffabgabe!G619)","v":""},{"$f":"IF(Nährstoffabgabe!H619=\"\",\"\",Nährstoffabgabe!H619)","v":""},{"$f":"IF(Nährstoffabgabe!I619=\"\",\"\",Nährstoffabgabe!I619)","v":""},{"$f":"IF(Nährstoffabgabe!J619=\"\",\"\",Nährstoffabgabe!J619)","v":0},{"$f":"IF(Nährstoffabgabe!K619=\"\",\"\",Nährstoffabgabe!K619)","v":0},{"$f":"IF(Nährstoffabgabe!L619=\"\",\"\",Nährstoffabgabe!L619)","v":0},{"$f":"IF(Nährstoffabgabe!M619=\"\",\"\",Nährstoffabgabe!M619)","v":0}]
[{"$f":"IF(Nährstoffabgabe!A620=\"\",\"\",Nährstoffabgabe!A620)","v":"Summe"},{"$f":"IF(Nährstoffabgabe!B620=\"\",\"\",Nährstoffabgabe!B620)","v":""},{"$f":"IF(Nährstoffabgabe!C620=\"\",\"\",Nährstoffabgabe!C620)","v":""},{"$f":"IF(Nährstoffabgabe!D620=\"\",\"\",Nährstoffabgabe!D620)","v":""},{"$f":"IF(Nährstoffabgabe!E620=\"\",\"\",Nährstoffabgabe!E620)","v":0},{"$f":"IF(Nährstoffabgabe!F620=\"\",\"\",Nährstoffabgabe!F620)","v":""},{"$f":"IF(Nährstoffabgabe!G620=\"\",\"\",Nährstoffabgabe!G620)","v":""},{"$f":"IF(Nährstoffabgabe!H620=\"\",\"\",Nährstoffabgabe!H620)","v":""},{"$f":"IF(Nährstoffabgabe!I620=\"\",\"\",Nährstoffabgabe!I620)","v":""},{"$f":"IF(Nährstoffabgabe!J620=\"\",\"\",Nährstoffabgabe!J620)","v":0},{"$f":"IF(Nährstoffabgabe!K620=\"\",\"\",Nährstoffabgabe!K620)","v":0},{"$f":"IF(Nährstoffabgabe!L620=\"\",\"\",Nährstoffabgabe!L620)","v":0},{"$f":"IF(Nährstoffabgabe!M620=\"\",\"\",Nährstoffabgabe!M620)","v":0}]
[{"$f":"IF(Nährstoffabgabe!A621=\"\",\"\",Nährstoffabgabe!A621)","v":""},{"$f":"IF(Nährstoffabgabe!B621=\"\",\"\",Nährstoffabgabe!B621)","v":""},{"$f":"IF(Nährstoffabgabe!C621=\"\",\"\",Nährstoffabgabe!C621)","v":""},{"$f":"IF(Nährstoffabgabe!D621=\"\",\"\",Nährstoffabgabe!D621)","v":""},{"$f":"IF(Nährstoffabgabe!E621=\"\",\"\",Nährstoffabgabe!E621)","v":""},{"$f":"IF(Nährstoffabgabe!F621=\"\",\"\",Nährstoffabgabe!F621)","v":""},{"$f":"IF(Nährstoffabgabe!G621=\"\",\"\",Nährstoffabgabe!G621)","v":""},{"$f":"IF(Nährstoffabgabe!H621=\"\",\"\",Nährstoffabgabe!H621)","v":""},{"$f":"IF(Nährstoffabgabe!I621=\"\",\"\",Nährstoffabgabe!I621)","v":""},{"$f":"IF(Nährstoffabgabe!J621=\"\",\"\",Nährstoffabgabe!J621)","v":""},{"$f":"IF(Nährstoffabgabe!K621=\"\",\"\",Nährstoffabgabe!K621)","v":""},{"$f":"IF(Nährstoffabgabe!L621=\"\",\"\",Nährstoffabgabe!L621)","v":""},{"$f":"IF(Nährstoffabgabe!M621=\"\",\"\",Nährstoffabgabe!M621)","v":""}]
[{"$f":"IF(Nährstoffabgabe!A622=\"\",\"\",Nährstoffabgabe!A622)","v":""},{"$f":"IF(Nährstoffabgabe!B622=\"\",\"\",Nährstoffabgabe!B622)","v":""},{"$f":"IF(Nährstoffabgabe!C622=\"\",\"\",Nährstoffabgabe!C622)","v":""},{"$f":"IF(Nährstoffabgabe!D622=\"\",\"\",Nährstoffabgabe!D622)","v":""},{"$f":"IF(Nährstoffabgabe!E622=\"\",\"\",Nährstoffabgabe!E622)","v":""},{"$f":"IF(Nährstoffabgabe!F622=\"\",\"\",Nährstoffabgabe!F622)","v":""}]
[{"$f":"IF(Nährstoffabgabe!A623=\"\",\"\",Nährstoffabgabe!A623)","v":""},{"$f":"IF(Nährstoffabgabe!B623=\"\",\"\",Nährstoffabgabe!B623)","v":""},{"$f":"IF(Nährstoffabgabe!C623=\"\",\"\",Nährstoffabgabe!C623)","v":""},{"$f":"IF(Nährstoffabgabe!D623=\"\",\"\",Nährstoffabgabe!D623)","v":""},{"$f":"IF(Nährstoffabgabe!E623=\"\",\"\",Nährstoffabgabe!E623)","v":""},{"$f":"IF(Nährstoffabgabe!F623=\"\",\"\",Nährstoffabgabe!F623)","v":""}]
[{"$f":"IF(Nährstoffabgabe!A624=\"\",\"\",Nährstoffabgabe!A624)","v":""},{"$f":"IF(Nährstoffabgabe!B624=\"\",\"\",Nährstoffabgabe!B624)","v":""},{"$f":"IF(Nährstoffabgabe!C624=\"\",\"\",Nährstoffabgabe!C624)","v":""},{"$f":"IF(Nährstoffabgabe!D624=\"\",\"\",Nährstoffabgabe!D624)","v":""},{"$f":"IF(Nährstoffabgabe!E624=\"\",\"\",Nährstoffabgabe!E624)","v":""},{"$f":"IF(Nährstoffabgabe!F624=\"\",\"\",Nährstoffabgabe!F624)","v":""}]
[]
["Stoffstrombilanz",{"$f":"Betriebsangaben_Vorgehensweise!F8","v":0}]
[]
["Betrieb:",{"$f":"Betriebsangaben_Vorgehensweise!B4","v":0},null,null,null,null,null,null,null,null,null,null,null,null,null,null,null,null,null,null,null,"      "]
[null,{"$f":"Betriebsangaben_Vorgehensweise!B5","v":0}]
[null,{"$f":"Betriebsangaben_Vorgehensweise!B6","v":0}]
[]
[]
["Landwirtschaftliche Nutzfläche:",{"$f":"'SSB nach StoffBilV'!E12","v":0}]
["Anbaufläche:",{"$f":"'SSB nach StoffBilV'!E13","v":0}]
["Belegungshäufigkeit:",{"$f":"'SSB nach StoffBilV'!E14","v":0}]
[]
[]
["Nährstoffe",null,null,null,null,null,"N",null,"P2O5",null,"K2O",null,"MgO"]
["Nährstoffzufuhr kg/Betrieb",null,null,null,null,null,{"$f":"J5","v":0},null,{"$f":"K5","v":0},null,{"$f":"L5","v":0},null,{"$f":"M5","v":0}]
["Nährstoffabgabe kg/Betrieb",null,null,null,null,null,{"$f":"J258","v":0},null,{"$f":"K258","v":0},null,{"$f":"L258","v":0},null,{"$f":"M258","v":0}]
["Stoffstrombilanz = Zufuhr - Abfuhr kg/Betrieb",null,null,null,null,null,{"$f":"G892-G893","v":0},null,{"$f":"I892-I893","v":0},null,{"$f":"K892-K893","v":0},null,{"$f":"M892-M893","v":0}]
["Stoffstrombilanz = Zufuhr - Abfuhr kg/ha Landw. Nutzfläche",null,null,null,null,null,{"$f":"IF($B886=0,0,G894/$B886)","v":0},null,{"$f":"IF($B886=0,0,I894/$B886)","v":0},null,{"$f":"IF($B886=0,0,K894/$B886)","v":0},null,{"$f":"IF($B886=0,0,M894/$B886)","v":0}]
["Grenzwert nach StoffBilV 2017 kg/ha Landw. Nutzfläche",null,null,null,null,null,{"$f":"MAX('SSB nach StoffBilV'!E16:E18)/B886","v":{"$error":"#DIV/0!"}},null,"nicht vorhanden",null,"nicht relevant",null,"nicht relevant"]

{"sheet":"SSB nach StoffBilV","index":5,"n_rows":62,"n_cols":7,"rows_kept":62,"cut":false,"hidden":false,"merged":[[40,2,40,4],[2,1,2,4],[13,1,13,3],[19,2,19,4],[12,1,12,3],[17,1,17,3]]}
[null,"Stoffstrombilanz für N und P2O5 für das Jahr",null,null,{"$f":"Betriebsangaben_Vorgehensweise!F8","v":0},null,"zurück zum Inhalt"]
[null,{"$f":"Betriebsangaben_Vorgehensweise!A2","v":"für  Gemüse-, Sonderkultur- u. a. Pflanzenbaubetriebe"}]
[null,"Gemäß StoffBilV 14.12.2017 zur Vorlage bei Betriebsprüfung nach Anlage 2 (zu § 6 Absatz 1 und 3, § 7 Absatz 1 Nummer 3)"]
[]
[null,"Betrieb:"]
[null,{"$f":"Betriebsangaben_Vorgehensweise!B4","v":0}]
[null,{"$f":"Betriebsangaben_Vorgehensweise!B5","v":0}]
[null,{"$f":"Betriebsangaben_Vorgehensweise!B6","v":0}]
[]
[null,"Datum der Erstellung:",null,null,{"$f":"IF(Betriebsangaben_Vorgehensweise!F9=\"\",\"\",Betriebsangaben_Vorgehensweise!F9)","v":""}]
[null,"Beginn und Ende des Düngejahres: 01.01. bis 31.12.",null,null,{"$f":"Betriebsangaben_Vorgehensweise!F8","v":0}]
[null,"Landwirtschaftliche Nutzfläche:",null,null,{"$f":"Betriebsangaben_Vorgehensweise!F10","v":0}]
[null,"Anbaufläche:",null,null,{"$f":"Nährstoffabgabe!G623","v":0}]
[null,"Belegungshäufigkeit:",null,null,{"$f":"IF(E12=0,0,E13/E12)","v":0}]
[]
[null,"Zulässiger betrieblicher N-Bilanzwert pauschal max. 175 kg N/ha landw. Nutzfläche LN",null,null,{"$f":"E12*175","v":0}]
[null,"                       oder berechnet für den Fall eines höheren Bilanzwertes = LN ha x 50 kg N/ha + N-Verluste organische Dünger bei Ausbringung ",null,null,{"$f":"E12*50+SUM(Nährstoffzufuhr!O98,Nährstoffzufuhr!O120,Nährstoffzufuhr!O155)","v":0},"Dieser Wert gilt nur für Betriebe ohne Tierhaltung/Biogasanlage/Futterproduktion!"]
[null,"(hier kann der berechnete Wert inklusive Tierhaltung/Biogasanlage/Futterproduktion eingetragen werden)"]
[]
[null,"Stickstoff N"]
[null,"Zufuhr\n(auf die Gesamtfläche, Bewirtschaftungseinheit, Einzelschlag, zusammengefasste Fläche)","Nährstoff in kg","Abgabe\n(auf die Gesamtfläche, Bewirtschaftungseinheit, Einzelschlag, zusammengefasste Fläche)","Nährstoff in kg"]
[1,"Düngemittel insgesamt",{"$f":"Nährstoffzufuhr!J61+Nährstoffzufuhr!J98+Nährstoffzufuhr!J120+Nährstoffzufuhr!J155","v":0},"Pflanzliche Erzeugnisse",{"$f":"Nährstoffabgabe!J130+Nährstoffabgabe!J269+Nährstoffabgabe!J317+Nährstoffabgabe!J365+Nährstoffabgabe!J574","v":0}]
[2,"davon Wirtschaftsdünger tierischer Herkunft",{"$f":"Nährstoffzufuhr!J98","v":0},"Tierische Erzeugnisse"]
[3,"davon sonstige organische Düngemittel",{"$f":"Nährstoffzufuhr!J120+Nährstoffzufuhr!J155","v":0},"Düngemittel insgesamt",{"$f":"Nährstoffabgabe!J588","v":0}]
[4,"Bodenhilfsstoffe",{"$f":"Nährstoffzufuhr!J166","v":0},"davon Wirtschaftsdünger tierischer Herkunft"]
[5,"Kultursubstrate",{"$f":"Nährstoffzufuhr!J188","v":0},"davon sonstige organische Düngemittel",{"$f":"Nährstoffabgabe!J588","v":0}]
[6,"Pflanzenhilfsmittel",{"$f":"Nährstoffzufuhr!J177","v":0},"Bodenhilfsstoffe",{"$f":"Nährstoffabgabe!J597","v":0}]
[7,"Futtermittel",null,"Kultursubstrate",{"$f":"Nährstoffabgabe!J615","v":0}]
[8,"Saatgut einschließlich Pflanzgut Kartoffel",{"$f":"Nährstoffzufuhr!J199","v":0},"Pflanzenhilfsmittel",{"$f":"Nährstoffabgabe!J606","v":0}]
[9,"Landwirtschaftliche Nutztiere",null,"Futtermittel"]
[10,"Stickstoffzufuhr durch Leguminosen",{"$f":"Nährstoffzufuhr!F246","v":0},"Saatgut einschließlich Pflanzgut Kartoffel","s. pflanz. Erzeug."]
[11,"Sonstige Stoffe",null,"Landwirtschaftliche Nutztiere"]
[12,null,null,"Sonstige Stoffe"]
[13,"Summe der Zufuhr",{"$f":"SUM(C22,C25:C33)","v":0},"Summe der Abgabe",{"$f":"SUM(E22,E23,E24,E27:E33)","v":0}]
[14,"Summer der Zufuhr je ha LN1",{"$f":"IF(C34=0,0,C34/E12)","v":0},"Summer der Abgabe je ha1",{"$f":"IF(E34=0,0,E34/E12)","v":0}]
[15,"Differenz zwischen Zufuhr und Abfuhr",{"$f":"C34-E34","v":0}]
[16,"Differenz je ha LN1",{"$f":"C35-E35","v":0}]
[17,"N-Depostion über den Luftpfad je ha LN2"]
[]
[]
[null,"Phosphat P2O5"]
[null,"Zufuhr\n(auf die Gesamtfläche, Bewirtschaftungseinheit, Einzelschlag, zusammengefasste Fläche)","Nährstoff in kg","Abgabe\n(auf die Gesamtfläche, Bewirtschaftungseinheit, Einzelschlag, zusammengefasste Fläche)","Nährstoff in kg"]
[1,"Düngemittel insgesamt",{"$f":"Nährstoffzufuhr!K61+Nährstoffzufuhr!K98+Nährstoffzufuhr!K120+Nährstoffzufuhr!K155","v":0},"Pflanzliche Erzeugnisse",{"$f":"Nährstoffabgabe!K130+Nährstoffabgabe!K269+Nährstoffabgabe!K317+Nährstoffabgabe!K365+Nährstoffabgabe!K574","v":0}]
[2,"davon Wirtschaftsdünger tierischer Herkunft",{"$f":"Nährstoffzufuhr!K98","v":0},"Tierische Erzeugnisse"]
[3,"davon sonstige organische Düngemittel",{"$f":"Nährstoffzufuhr!K120+Nährstoffzufuhr!K155","v":0},"Düngemittel insgesamt",{"$f":"Nährstoffabgabe!K588","v":0}]
[4,"Bodenhilfsstoffe",{"$f":"Nährstoffzufuhr!K166","v":0},"davon Wirtschaftsdünger tierischer Herkunft"]
[5,"Kultursubstrate",{"$f":"Nährstoffzufuhr!K188","v":0},"davon sonstige organische Düngemittel",{"$f":"Nährstoffabgabe!K590","v":0}]
[6,"Pflanzenhilfsmittel",{"$f":"Nährstoffzufuhr!K188","v":0},"Bodenhilfsstoffe",{"$f":"Nährstoffabgabe!K597","v":0}]
[7,"Futtermittel",null,"Kultursubstrate",{"$f":"Nährstoffabgabe!K615","v":0}]
[8,"Saatgut einschließlich Pflanzgut Kartoffel",{"$f":"Nährstoffzufuhr!K199","v":0},"Pflanzenhilfsmittel",{"$f":"Nährstoffabgabe!K606","v":0}]
[9,"Landwirtschaftliche Nutztiere",null,"Futtermittel"]
[10,"Sonstige Stoffe",null,"Saatgut einschließlich Pflanzgut Kartoffel","s. pflanz. Erzeug."]
[11,null,null,"Landwirtschaftliche Nutztiere"]
[12,null,null,"Sonstige Stoffe"]
[13,"Summe der Zufuhr",{"$f":"SUM(C43,C46:C54)","v":0},"Summe der Abgabe",{"$f":"SUM(E43,E44,E45,E48:E54)","v":0}]
[14,"Summer der Zufuhr je ha LN1",{"$f":"IF(C55=0,0,C55/E12)","v":0},"Summer der Abgabe je ha1",{"$f":"IF(E55=0,0,E55/E12)","v":0}]
[15,"Differenz zwischen Zufuhr und Abfuhr",{"$f":"C55-E55","v":0}]
[16,"Differenz je ha LN1",{"$f":"C56-E56","v":0}]
[]
[null,"1 Nicht bei Betrieben ohne landwirtschaftlich genutzte Flächen"]
[null,"2 Die Stickstoffdeposition ist auf der Grundlage des letzten gültigen Hintergrundbelastungsdatensatzes Stickstoffdeposition des Umweltbundesamtes"]
[null,"  (http://gis.uba.de/website/depo1/de/index.html) am Betriebssitz zu ermitteln"]

{"sheet":"3jährige SBB","index":6,"n_rows":21,"n_cols":23,"rows_kept":21,"cut":false,"hidden":false,"merged":[[0,1,0,12],[8,1,8,2],[12,1,12,12],[5,11,5,12],[7,1,7,2],[6,1,6,2],[3,1,3,12],[13,5,13,8],[13,9,13,12],[20,1,20,12],[24,1,24,12],[13,1,13,2],[14,1,14,2],[18,1,18,2]]}
[null,"3-jährige Stoffstrombilanz",null,null,null,null,null,null,null,null,null,null,null,null,null,null,null,null,null,null,null,null,"  "]
[null,{"$f":"Betriebsangaben_Vorgehensweise!A2","v":"für  Gemüse-, Sonderkultur- u. a. Pflanzenbaubetriebe"}]
[null,"durch gleitende Mittelwerte für Stickstoff N und Phosphat P2O5"]
[null,"Gemäß StoffBilV 14.12.2017 zur Vorlage bei Betriebsprüfung nach Anlage 3 (zu § 6 Absatz 1-3, § 7 Absatz 1 Nummer 3)",null,null,null,null,null,null,null,null,null,null,null,null,"Nur graue Felder ausfüllen!"]
[]
[null,"Betrieb:",null,null,null,null,null,null,null,null,null,"zurück zum Inhalt"]
[null,{"$f":"Betriebsangaben_Vorgehensweise!B4","v":0}]
[null,{"$f":"Betriebsangaben_Vorgehensweise!B5","v":0}]
[null,{"$f":"Betriebsangaben_Vorgehensweise!B6","v":0}]
[]
[]
[null,"Die Stoffstrombilanzen für Stickstoff und Phosphat sind für die jeweiligen Jahre einzutragen."]
[null,"Betriebliche Stoffstrombilanz\nim Durchschnitt von 3 aufeinander folgenden Jahren nach Anlage 3",null,null,null,null,null,null,null,null,null,null,null,null,null,null," "]
[null,null,null,null,null,"Stickstoff \nkg/ha Landw. Nutzfläche",null,null,null,"Phosphat\nkg/ha Landw. Nutzfläche"]
[null,null,null,"LF \nha","GV","Zufuhr","Abgabe","Differenz","Zulässiger Bilanzwert","Zufuhr","Abgabe","Differenz","Zulässiger Bilanzwert"]
[null,"Vorjahr:",{"$f":"C17-1","v":-2},null,0,null,null,null,null,null,null,null,"nicht vorh."]
[null,"Vorjahr:",{"$f":"C18-1","v":-1},null,0,null,null,null,null,null,null,null,"nicht vorh."]
[null,"Düngejahr:",{"$f":"Betriebsangaben_Vorgehensweise!F8","v":0},{"$f":"'SSB nach StoffBilV'!E12","v":0},0,{"$f":"'SSB nach StoffBilV'!C35","v":0},{"$f":"'SSB nach StoffBilV'!E35","v":0},{"$f":"'SSB nach StoffBilV'!C37","v":0},{"$f":"MAX('SSB nach StoffBilV'!E16:E18)/'SSB nach StoffBilV'!E12","v":{"$error":"#DIV/0!"}},{"$f":"'SSB nach StoffBilV'!C56","v":0},{"$f":"'SSB nach StoffBilV'!E56","v":0},{"$f":"'SSB nach StoffBilV'!C58","v":0},"nicht vorh."]
[null,"Betriebsdurchschnitt",null,{"$f":"AVERAGE(D16:D18)","v":0},0,{"$f":"AVERAGE(F16:F18)","v":0},{"$f":"AVERAGE(G16:G18)","v":0},0,{"$f":"AVERAGE(I16:I18)","v":{"$error":"#DIV/0!"}},{"$f":"AVERAGE(J16:J18)","v":0},{"$f":"AVERAGE(K16:K18)","v":0},0,"nicht vorh."]
[]
[null,"Eine nicht richtig erstellte Nährstoffbilanz ist eine Ordnungswidrigkeit! "]