{"text_format":"1","workbook":"xlsx","n_sheets":21,"sheets":["Impressum","Kurzanleitung","Schlagliste","N-DBE","N-Abschlag org. Düngung","P-(K-Mg)-DBE","Düngedokumentation, -bilanz","aktuelle Düngerliste","Tab org. Kompost_N-expert","Tab org. D_N-expert","Boden DüV-Bolap","Nicht aktiv_Boden LUFA","H&G LfL","Tab 2+3 DüV_A","Nährstoffabfuhr Sonstige","Tab 4+5 DüV+Abfuhr_G","Tab 6 DüV_H","Tab 7 DüV_A-VF","Tab 7 DüV_A-ZF","Kulturgruppe","Verfrühung"],"not_rendered":{"charts":0,"images":17,"macros":1,"external_links":1,"defined_names":41,"comments":8,"pivot_tables":0},"unopened":[],"bounds":{"document_bytes":16777216,"sheet_cells":100000,"rows_first":2000,"rows_last":500,"rows_between":2000,"halvings":0,"cell_chars":16384,"cell_head_chars":4096},"cells_cut":0,"cells_raw":0,"read":"whole","date_system":"1900"}

{"sheet":"Impressum","index":0,"n_rows":26,"n_cols":2,"rows_kept":26,"cut":false,"hidden":false,"merged":[[0,0,0,6],[2,0,2,6],[3,0,3,6]]}
["Düngebedarfsermittlung DBE "]
["nach Düngeverordnung DüV"]
["für Gemüse-, Erdbeer-, Heil- & Gewürzpflanzen-"]
["und Gemischtbetriebe"]
[]
["Stand:","2025-06-10"]
[]
["Herausgeber:"]
["Dienstleistungszentrum Ländlicher Raum (DLR) - Rheinpfalz, - Abteilung Gartenbau - "]
["Breitenweg 71, 67435 Neustadt an der Weinstraße"]
[]
["Autoren:"]
["Kerstin Mahler, Joachim Ziegler"]
["DLR Rheinpfalz"]
[]
["Haftungsausschluss:"]
["Die Erstellung des Programms erfolgte sorgfältig und nach bestem Wissen."]
["Alle Angaben ohne Gewähr!"]
[]
["Datenquellen:"]
[" - Düngeverordnung DüV 2017, gültig seit 2. Juni 2017"]
[" - Geänderte Düngeverordnung DüV 2020, gültig seit 1. Mai 2020"]
[" - Geänderte Landesdüngeverordnung DüV Rheinland-Pfalz 2022"]
[" - N-Düngeplaner RLP 2.1.2022.xlsx, DLR Rheinpfalz"]
[" - N-Expertdaten organische Dünger, IGZ Großbeeren"]
[" - Basisdaten Heil- und Gewürzpflanzen (Düngeberatung/Düngeverordnung), LfL Bayern 2024"]

{"sheet":"Kurzanleitung","index":1,"n_rows":56,"n_cols":3,"rows_kept":56,"cut":false,"hidden":false,"merged":[[45,1,45,2],[31,0,31,1],[11,0,11,1],[13,0,13,1],[21,0,21,1],[25,0,25,1],[44,0,44,1],[35,0,35,1],[40,0,40,1]]}
["Düngebedarfsermittlung DBE"]
["nach Düngeverordnung DüV"]
["Gemüse-, Erdbeer-, Heil- & Gewürzpflanzen- u. Gemischbetriebe"]
["Achtung! "]
["Eine nicht richtig erstellte Düngebedarfsermittlung und Düngedokumentation ist eine Ordnungswidrigkeit! "]
["Kurzanleitung"]
[" -","Voraussetzung: Excel 2010 und höher. Bei älteren Excelversion funktionieren die Auswahllisten nicht. Bei der Makroversion (Dateiendung .xlsm) müssen die Makros aktiviert sein! Bei Apple-Betriebssystemen bitte die Makro-freie Version benutzen, die genügend Eingabezeilen enthält."]
[" -","Aufgrund der Tabellengrößen sind Bildschirme ab 22 Zoll ideal. Bei kleineren Bildschirmen können in der Makroversion in den Tabellenblättern \"N-DBE\" bis \"Düngedokumentation, -bilanz\" zur Bearbeitung die Zeilen 1-6 ausblendet werden."]
[" -","Graue Felder sind Eingabe- oder Auswahlfelder! Nur hier können eigene Angaben gemacht werden!"]
[" -","Zellen mit rotem Dreieck rechts oben enthalten wichtige Informationen, die beim Ansteuern mit dem Curser eingeblendet werden. "]
[" -","Bei Bedarf, z.B. für Kontrollen, Tabellenblätter \"N-DBE\" bis \"Düngedokumentation, -bilanz\" ausdrucken "]
["1. Schritt: Schlagliste anlegen"]
[" -","In der Schlagliste alle Schläge und Bewirtschaftungseinheiten eines Betriebes anlegen. Hier auch angeben, ob die Fläche in einem Nitrat- oder Phosphatbelastungsgebiet liegt. Außerdem alle Bodendaten eintragen, von denen die DüV-relevanten automatisch in die entsprechenden Arbeitsblätter übernommen werden. "]
["2. Schritt: Stickstoffdüngebedarfsermittlung nach DüV",null,"Merkblatt Düngebedarfs-ermittlung abrufbar unter"]
[" -","Vor dem Ausbringen von mehr als 50 kg N pro ha und Jahr ist eine Düngebedarfsermittlung für jeden Schlag oder jede Bewirtschaftungseinheit vorgeschrieben. Bei satzweisem Anbau sind es bis zu 3 im Abstand von jeweils höchstens 6 Wochen, auf zusammengefassten Kleinflächen (Schläge, Bewirtschaftungseinheiten kleiner 0,5 ha können bis zu 2 ha zusammengefasst werden) mind. 1 der Satzkulturen.  Beim Anbau verschiedener Kulturen auf zusammengefassten Kleinflächen kann entweder ein durchschnittlicher oder der Düngebedarf für 3 Gemüsekulturen mit unterschiedlichen Stickstoff-Bedarfswerten ermittelt werden. Detallierte Infos sind im Merkblatt Düngebedarfsermittlung im Gemüsebau zusammengefasst. ","https://www.düngeberatung.rlp.de/Duengung/Download/Gemuesebau-und-Erdbeeren/MerkblattDuengebedarfsermittlungimGemuesebauDueV"]
[" -","Angaben zu Schlag, Kultur und Betriebsertrag werden in andere Arbeitsblätter übernommen. Weitere Kulturen können in den entsprechenden Tabellenblättern selbst angelegt werden und stehen dann in den Auswahllisten zur Verfügung."]
[" -","Generell wird mit Frischmasse-Erträgen gerechnet. Im Arbeitsblatt Heil- und Gewürzpflanzen können Trockenmasse-Erträge dieser Kulturgruppe umgerechnet und übernommen werden."]
[" -","Der Text in Auswahllisten ist aufgrund der Spaltenbreite oft erst nach der Auswahl komplett lesbar. "]
[" -","Der N-Abschlag aus der organischen Düngung der Vorjahre ist in einem separaten Arbeitsblatt nach Eingabe aller anderen Daten zu berechnen. Die Daten werden übernommen. Weitere organische Dünger können in den Arbeitsblättern Kompost und andere organische Dünger eingegeben werden."]
[" -","Die berechnete N-Düngeobergrenze ist eine standortbezogene Obergrenze, die nicht überschritten werden darf. Der um 20 % reduzierte N-Düngebedarf in nitratbelasteten Gebieten ist hingegen nur im Gebietsdurchschnitt einzuhalten."]
[" -","Bei Nachweis einer Mangelsituation über eine Nmin-Untersuchung oder Pflanzenanalyse ist eine N-Nachdüngung in Höhe von max. 10 % des ermittelten N-Düngebedarfs möglich."]
["3. Schritt: Phosphat-Düngebedarfsermittlung nach DüV (= Phosphatdüngeobergrenze)"]
[" -","Vor dem Ausbringen von mehr als 30 kg P2O5 pro ha und Jahr ist eine Düngebedarfsermittlung für jeden Schlag ab 1 ha vorgeschrieben, in Phosphat-Belastungsgebieten auch unter 1 ha (Flächen unter 0,5 ha können zu max. 2 ha zusammengefasst werden). Die Ermittlung und die Düngung können im Rahmen einer Fruchtfolge für max. 3 Jahre durchgeführt werden. Nach DüV dürfen phosphathaltige Düngemittel bei einem Bodengehalt von mehr als 20 mg P2O5 pro 100 g (CAL-Methode) maximal in Höhe der Feldabfuhr gedüngt werden. "]
[" -","Für die Berechnung der Phosphatobergrenze wird der Bodengehalt aus der Schlagliste übernommen. Einzugeben ist hier nur noch, ob ein Phosphatmangel während der Kulturführung aufgetreten ist und warum."]
[" -","Auch der Kalium und Magnesium-Bedarf wird berechnet, sobald Bodenart u.  -gehalte in der Schlagliste eingetragen sind."]
["4. Schritt: Düngedokumentation, jährl. Betriebl. Düngebedarf u. Nährstoffeinsatz"]
[" -","Mit der Eingabe der ausgebrachten Düngemittel über Produkt 1-6 werden die ausgebrachten Nährstoffe pro ha berechnet, in Zeile 9-10 für alle Flächen bzw. alle Flächen in nitratbelasteten Gebieten des Betriebes aufsummiert und der Flächensumme des ermittelten Bedarfs als kg pro Landw. Nutzfläche (LN) gesamt gegenübergestellt (=Düngebilanz). "]
[" -","Der berechnete Mengenvorschlag deckt die N-Düngeobergrenze als verfügbares N ab. Bei organischen Düngern ist der Mengenvorschlag auf die Obergrenze von 170 Ngesamt  pro ha und Jahr begrenzt, kann aber bei Kompost mit 510 kg/ha in \n3 Jahren überschritten werden. "]
[" -","Werden in nitratbelasteten Gebieten im Flächendurchschnitt 160 kg Ngesamt pro ha und Jahr und 80 kg N über mineralische Dünger überschritten (160/80iger Regel), muss bei Mehrfachbelegung die schlagbezogene Obergrenze von 170 kg Ngesamt  pro ha und Jahr selbst kontrolliert werden!"]
[" -","Bei Flächen in nitratbelasteten Gebieten wird die durchschnittliche N-Einsparung in % ermittelt. Wenn in diesem Gebiet im Flächendurschnitt die 160/80iger Regel nicht eingehalten wird,  sind mind. 20 % N einzusparen."]
[]
["Bei Rückfragen:"]
[null,"Kerstin Mahler, DLR Rheinpfalz, Tel. 06321-671-272, Mobil 0151-12149614, kerstin.mahler@dlr.rlp.de"]
[]
["WICHTIGE HINWEISE (DüV 2020, LDüV RP 2021)"]
["1. Ausgenommen von der Düngebedarfsermittlung sind Betriebe, die …"]
[" -","abzüglich von Flächen nach a und b unter Punkt 2 weniger als 30 ha landwirtschaftlich genutzte Fläche, mit Flächenanteilen in nitrat- und phosphatbelasteten Gebieten weniger als 10 ha bewirtschaften,"]
[" -","höchstens bis zu 3 ha Gemüse, Hopfen, Wein oder Erdbeeren, mit Flächenanteilen in nitrat- und phosphatbelasteten Gebieten bis zu 1 ha anbauen"]
[" -","einen jährlichen Nährstoffanfall aus Wirtschaftsdüngern tierischer Herkunft von nicht mehr als 110 kg Stickstoff je Betrieb, mit Flächenanteilen in nitrat- und phosphatbelasteten Gebieten nicht mehr als 500 kg aufweisen"]
[" -","keine außerhalb des Betriebes anfallenden Wirtschaftsdünger sowie organischen und organisch-mineralischen Düngemittel, bei denen es sich um Gärrückstände aus dem Betrieb einer Biogasanlage handelt, übernehmen und aufbringen."]
["2. Welche Flächen müssen bei der Düngebedarfsermittlung nicht berücksichtigt werden?"]
["a.","Flächen, auf denen nur Zierpflanzen oder Weihnachtsbaumkulturen angebaut werden, Baumschul-,  Rebschul-, Strauchbeeren- und Baumobstflächen, nicht im Ertrag stehende Dauerkulturflächen des Wein- oder Obstbaus sowie Flächen, die der Erzeugung schnellwüchsiger Forstgehölze zur energetischen Nutzung dienen."]
["b.","Flächen mit ausschließlicher Weidehaltung bei einem jährlichen Stickstoffanfall (Stickstoffausscheidung) an Wirtschaftsdüngern tierischer Herkunft von bis zu 100 Kilogramm Stickstoff je Hektar, wenn keine zusätzliche Stickstoffdüngung erfolgt, "]
["c.","Betriebe, die auf keinem Schlag wesentliche Nährstoffmengen an Stickstoff oder Phosphat mit Düngemitteln, Bodenhilfsstoffen, Kultursubstraten, Pflanzenhilfsmitteln oder Abfällen zur Beseitigung nach § 28 des Kreislaufwirtschaftsgesetzes aufbringen."]
["3. Nicht zur landwirtschaftlichen Nutzfläche (LN) gehören ..."]
[" -","in geschlossenen oder bodenunabhängigen Kulturverfahren genutzte Flächen,"]
[" -","Flächen in Gewächshäusern oder unter stationären Folientunneln, soweit durch eine gesteuerte Wasserzufuhr eine Auswaschung von Nährstoffen verhindert wird."]
["Zwischenfruchtdüngung - Was ist erlaubt"]
[]
[" -","Stickstoffdüngebedarf muss bestehen: "]
[null,"   • nach Getreide bei Aussaat Zwischenfrucht (ZF) bis 30.08. 30 kg Ammonium-N/ha, danach 20 kg\n   • ab 50 % Leguminosenanteil (Leg.) halber N-Bedarf, ab 100 % kein N-Bedarf"]
[" -","Für Düngemittel mit mehr als 1,5 % Stickstoff in der Trockenmasse gilt außerdem folgendes:"]
[null,"  Nicht nitratbelastete Gebiete:"]
[null,"      • Aussaat Zwischenfrucht bis 15.09.: max. 30 kg Ammonium-N oder max. 60 kg Gesamt-N bis 01.10.  \n      • Aussaat Zwischenfrucht nach 15.09.: Düngungsverbot \n      Ausnahmen: Festmist Huf- oder Klauentiere und Kompost bis 01.12. ohne Obergrenze\n"]
[null,"  Nitratbelastete Gebiete:"]
[null,"    • Zwischenfrüchte ohne Futternutzung: keine Düngung (Ausnahmen: Festmist Huf- oder Klauentiere und Kompost\n       bis max. 120 kg Gesamt-N/ha bis 01.12.)\n    • Zwischenfrüchte mit Futternutzung: siehe Vorgaben nicht nitratbelasteten Gebiete"]

{"sheet":"Schlagliste","index":2,"n_rows":504,"n_cols":20,"rows_kept":504,"cut":false,"hidden":false,"merged":[]}
[]
[]
[null,"Landw. Nutzfläche LN ha",{"$f":"SUMIF(C5:C504,\"ja\",E5:E504)","v":0},{"$f":"SUMIF(D5:D504,\"ja\",E5:E504)","v":0},{"$f":"SUM(E5:E504)","v":0}]
["Nr.","Schläge, Bewirtschaftungs-einheiten","Nitrat-belas-tungs-gebiet \nNBG","Phosphat-belas-tungs-gebiet \nPBG","Fläche ha","Boden-\nart","Humus-gehalt\n %","P2O5-\nGehalt mg/100 g Boden\n(CAL)","K2O-\nGehalt mg/100 g Boden","MgO-Gehalt mg/100 g Boden","Bor-Gehalt mg/kg Boden","pH-\nWert","Andere 1","Andere 2","Andere 3","Andere 4","Datum Boden-unter-suchung (mind. alle 6 Jahre)","P2O5-Boden-gehalts-klasse DLR/Bolap","K2O-Boden-gehalts-klasse DLR/Bolap","MgO-Boden-gehalts-klasse DLR/Bolap"]
[1,null,null,null,null,null,null,null,null,null,null,null,null,null,null,null,null,{"$f":"IF(H5=\"\",\"\",IF(H5>39,\"E\",VLOOKUP(H5,'Boden DüV-Bolap'!A:B,2,FALSE)))","v":""},{"$f":"IF(OR(I5=\"\",F5=\"\"),\"\",IF(I5>39,\"E\",IF(F5=\"leicht\",VLOOKUP(I5,'Boden DüV-Bolap'!A:Q,7,FALSE),IF(F5=\"mittel\",VLOOKUP(I5,'Boden DüV-Bolap'!A:K,11,FALSE),IF(F5=\"schwer\",VLOOKUP(I5,'Boden DüV-Bolap'!A:R,15,FALSE))))))","v":""},{"$f":"IF(OR(J5=\"\",F5=\"\"),\"\",IF(J5>39,\"E\",IF(F5=\"leicht\",VLOOKUP(J5,'Boden DüV-Bolap'!A:AA,19,FALSE),IF(F5=\"mittel\",VLOOKUP(J5,'Boden DüV-Bolap'!A:AA,23,FALSE),IF(F5=\"schwer\",VLOOKUP(J5,'Boden DüV-Bolap'!A:AA,27,FALSE))))))","v":""}]
[2,null,null,null,null,null,null,null,null,null,null,null,null,null,null,null,null,{"$f":"IF(H6=\"\",\"\",IF(H6>39,\"E\",VLOOKUP(H6,'Boden DüV-Bolap'!A:B,2,FALSE)))","v":""},{"$f":"IF(OR(I6=\"\",F6=\"\"),\"\",IF(I6>39,\"E\",IF(F6=\"leicht\",VLOOKUP(I6,'Boden DüV-Bolap'!A:Q,7,FALSE),IF(F6=\"mittel\",VLOOKUP(I6,'Boden DüV-Bolap'!A:K,11,FALSE),IF(F6=\"schwer\",VLOOKUP(I6,'Boden DüV-Bolap'!A:R,15,FALSE))))))","v":""},{"$f":"IF(OR(J6=\"\",F6=\"\"),\"\",IF(J6>39,\"E\",IF(F6=\"leicht\",VLOOKUP(J6,'Boden DüV-Bolap'!A:AA,19,FALSE),IF(F6=\"mittel\",VLOOKUP(J6,'Boden DüV-Bolap'!A:AA,23,FALSE),IF(F6=\"schwer\",VLOOKUP(J6,'Boden DüV-Bolap'!A:AA,27,FALSE))))))","v":""}]
[3,null,null,null,null,null,null,null,null,null,null,null,null,null,null,null,null,{"$f":"IF(H7=\"\",\"\",IF(H7>39,\"E\",VLOOKUP(H7,'Boden DüV-Bolap'!A:B,2,FALSE)))","v":""},{"$f":"IF(OR(I7=\"\",F7=\"\"),\"\",IF(I7>39,\"E\",IF(F7=\"leicht\",VLOOKUP(I7,'Boden DüV-Bolap'!A:Q,7,FALSE),IF(F7=\"mittel\",VLOOKUP(I7,'Boden DüV-Bolap'!A:K,11,FALSE),IF(F7=\"schwer\",VLOOKUP(I7,'Boden DüV-Bolap'!A:R,15,FALSE))))))","v":""},{"$f":"IF(OR(J7=\"\",F7=\"\"),\"\",IF(J7>39,\"E\",IF(F7=\"leicht\",VLOOKUP(J7,'Boden DüV-Bolap'!A:AA,19,FALSE),IF(F7=\"mittel\",VLOOKUP(J7,'Boden DüV-Bolap'!A:AA,23,FALSE),IF(F7=\"schwer\",VLOOKUP(J7,'Boden DüV-Bolap'!A:AA,27,FALSE))))))","v":""}]
[4,null,null,null,null,null,null,null,null,null,null,null,null,null,null,null,null,{"$f":"IF(H8=\"\",\"\",IF(H8>39,\"E\",VLOOKUP(H8,'Boden DüV-Bolap'!A:B,2,FALSE)))","v":""},{"$f":"IF(OR(I8=\"\",F8=\"\"),\"\",IF(I8>39,\"E\",IF(F8=\"leicht\",VLOOKUP(I8,'Boden DüV-Bolap'!A:Q,7,FALSE),IF(F8=\"mittel\",VLOOKUP(I8,'Boden DüV-Bolap'!A:K,11,FALSE),IF(F8=\"schwer\",VLOOKUP(I8,'Boden DüV-Bolap'!A:R,15,FALSE))))))","v":""},{"$f":"IF(OR(J8=\"\",F8=\"\"),\"\",IF(J8>39,\"E\",IF(F8=\"leicht\",VLOOKUP(J8,'Boden DüV-Bolap'!A:AA,19,FALSE),IF(F8=\"mittel\",VLOOKUP(J8,'Boden DüV-Bolap'!A:AA,23,FALSE),IF(F8=\"schwer\",VLOOKUP(J8,'Boden DüV-Bolap'!A:AA,27,FALSE))))))","v":""}]
[5,null,null,null,null,null,null,null,null,null,null,null,null,null,null,null,null,{"$f":"IF(H9=\"\",\"\",IF(H9>39,\"E\",VLOOKUP(H9,'Boden DüV-Bolap'!A:B,2,FALSE)))","v":""},{"$f":"IF(OR(I9=\"\",F9=\"\"),\"\",IF(I9>39,\"E\",IF(F9=\"leicht\",VLOOKUP(I9,'Boden DüV-Bolap'!A:Q,7,FALSE),IF(F9=\"mittel\",VLOOKUP(I9,'Boden DüV-Bolap'!A:K,11,FALSE),IF(F9=\"schwer\",VLOOKUP(I9,'Boden DüV-Bolap'!A:R,15,FALSE))))))","v":""},{"$f":"IF(OR(J9=\"\",F9=\"\"),\"\",IF(J9>39,\"E\",IF(F9=\"leicht\",VLOOKUP(J9,'Boden DüV-Bolap'!A:AA,19,FALSE),IF(F9=\"mittel\",VLOOKUP(J9,'Boden DüV-Bolap'!A:AA,23,FALSE),IF(F9=\"schwer\",VLOOKUP(J9,'Boden DüV-Bolap'!A:AA,27,FALSE))))))","v":""}]
[6,null,null,null,null,null,null,null,null,null,null,null,null,null,null,null,null,{"$f":"IF(H10=\"\",\"\",IF(H10>39,\"E\",VLOOKUP(H10,'Boden DüV-Bolap'!A:B,2,FALSE)))","v":""},{"$f":"IF(OR(I10=\"\",F10=\"\"),\"\",IF(I10>39,\"E\",IF(F10=\"leicht\",VLOOKUP(I10,'Boden DüV-Bolap'!A:Q,7,FALSE),IF(F10=\"mittel\",VLOOKUP(I10,'Boden DüV-Bolap'!A:K,11,FALSE),IF(F10=\"schwer\",VLOOKUP(I10,'Boden DüV-Bolap'!A:R,15,FALSE))))))","v":""},{"$f":"IF(OR(J10=\"\",F10=\"\"),\"\",IF(J10>39,\"E\",IF(F10=\"leicht\",VLOOKUP(J10,'Boden DüV-Bolap'!A:AA,19,FALSE),IF(F10=\"mittel\",VLOOKUP(J10,'Boden DüV-Bolap'!A:AA,23,FALSE),IF(F10=\"schwer\",VLOOKUP(J10,'Boden DüV-Bolap'!A:AA,27,FALSE))))))","v":""}]
[7,null,null,null,null,null,null,null,null,null,null,null,null,null,null,null,null,{"$f":"IF(H11=\"\",\"\",IF(H11>39,\"E\",VLOOKUP(H11,'Boden DüV-Bolap'!A:B,2,FALSE)))","v":""},{"$f":"IF(OR(I11=\"\",F11=\"\"),\"\",IF(I11>39,\"E\",IF(F11=\"leicht\",VLOOKUP(I11,'Boden DüV-Bolap'!A:Q,7,FALSE),IF(F11=\"mittel\",VLOOKUP(I11,'Boden DüV-Bolap'!A:K,11,FALSE),IF(F11=\"schwer\",VLOOKUP(I11,'Boden DüV-Bolap'!A:R,15,FALSE))))))","v":""},{"$f":"IF(OR(J11=\"\",F11=\"\"),\"\",IF(J11>39,\"E\",IF(F11=\"leicht\",VLOOKUP(J11,'Boden DüV-Bolap'!A:AA,19,FALSE),IF(F11=\"mittel\",VLOOKUP(J11,'Boden DüV-Bolap'!A:AA,23,FALSE),IF(F11=\"schwer\",VLOOKUP(J11,'Boden DüV-Bolap'!A:AA,27,FALSE))))))","v":""}]
[8,null,null,null,null,null,null,null,null,null,null,null,null,null,null,null,null,{"$f":"IF(H12=\"\",\"\",IF(H12>39,\"E\",VLOOKUP(H12,'Boden DüV-Bolap'!A:B,2,FALSE)))","v":""},{"$f":"IF(OR(I12=\"\",F12=\"\"),\"\",IF(I12>39,\"E\",IF(F12=\"leicht\",VLOOKUP(I12,'Boden DüV-Bolap'!A:Q,7,FALSE),IF(F12=\"mittel\",VLOOKUP(I12,'Boden DüV-Bolap'!A:K,11,FALSE),IF(F12=\"schwer\",VLOOKUP(I12,'Boden DüV-Bolap'!A:R,15,FALSE))))))","v":""},{"$f":"IF(OR(J12=\"\",F12=\"\"),\"\",IF(J12>39,\"E\",IF(F12=\"leicht\",VLOOKUP(J12,'Boden DüV-Bolap'!A:AA,19,FALSE),IF(F12=\"mittel\",VLOOKUP(J12,'Boden DüV-Bolap'!A:AA,23,FALSE),IF(F12=\"schwer\",VLOOKUP(J12,'Boden DüV-Bolap'!A:AA,27,FALSE))))))","v":""}]
[9,null,null,null,null,null,null,null,null,null,null,null,null,null,null,null,null,{"$f":"IF(H13=\"\",\"\",IF(H13>39,\"E\",VLOOKUP(H13,'Boden DüV-Bolap'!A:B,2,FALSE)))","v":""},{"$f":"IF(OR(I13=\"\",F13=\"\"),\"\",IF(I13>39,\"E\",IF(F13=\"leicht\",VLOOKUP(I13,'Boden DüV-Bolap'!A:Q,7,FALSE),IF(F13=\"mittel\",VLOOKUP(I13,'Boden DüV-Bolap'!A:K,11,FALSE),IF(F13=\"schwer\",VLOOKUP(I13,'Boden DüV-Bolap'!A:R,15,FALSE))))))","v":""},{"$f":"IF(OR(J13=\"\",F13=\"\"),\"\",IF(J13>39,\"E\",IF(F13=\"leicht\",VLOOKUP(J13,'Boden DüV-Bolap'!A:AA,19,FALSE),IF(F13=\"mittel\",VLOOKUP(J13,'Boden DüV-Bolap'!A:AA,23,FALSE),IF(F13=\"schwer\",VLOOKUP(J13,'Boden DüV-Bolap'!A:AA,27,FALSE))))))","v":""}]
[10,null,null,null,null,null,null,null,null,null,null,null,null,null,null,null,null,{"$f":"IF(H14=\"\",\"\",IF(H14>39,\"E\",VLOOKUP(H14,'Boden DüV-Bolap'!A:B,2,FALSE)))","v":""},{"$f":"IF(OR(I14=\"\",F14=\"\"),\"\",IF(I14>39,\"E\",IF(F14=\"leicht\",VLOOKUP(I14,'Boden DüV-Bolap'!A:Q,7,FALSE),IF(F14=\"mittel\",VLOOKUP(I14,'Boden DüV-Bolap'!A:K,11,FALSE),IF(F14=\"schwer\",VLOOKUP(I14,'Boden DüV-Bolap'!A:R,15,FALSE))))))","v":""},{"$f":"IF(OR(J14=\"\",F14=\"\"),\"\",IF(J14>39,\"E\",IF(F14=\"leicht\",VLOOKUP(J14,'Boden DüV-Bolap'!A:AA,19,FALSE),IF(F14=\"mittel\",VLOOKUP(J14,'Boden DüV-Bolap'!A:AA,23,FALSE),IF(F14=\"schwer\",VLOOKUP(J14,'Boden DüV-Bolap'!A:AA,27,FALSE))))))","v":""}]
[11,null,null,null,null,null,null,null,null,null,null,null,null,null,null,null,null,{"$f":"IF(H15=\"\",\"\",IF(H15>39,\"E\",VLOOKUP(H15,'Boden DüV-Bolap'!A:B,2,FALSE)))","v":""},{"$f":"IF(OR(I15=\"\",F15=\"\"),\"\",IF(I15>39,\"E\",IF(F15=\"leicht\",VLOOKUP(I15,'Boden DüV-Bolap'!A:Q,7,FALSE),IF(F15=\"mittel\",VLOOKUP(I15,'Boden DüV-Bolap'!A:K,11,FALSE),IF(F15=\"schwer\",VLOOKUP(I15,'Boden DüV-Bolap'!A:R,15,FALSE))))))","v":""},{"$f":"IF(OR(J15=\"\",F15=\"\"),\"\",IF(J15>39,\"E\",IF(F15=\"leicht\",VLOOKUP(J15,'Boden DüV-Bolap'!A:AA,19,FALSE),IF(F15=\"mittel\",VLOOKUP(J15,'Boden DüV-Bolap'!A:AA,23,FALSE),IF(F15=\"schwer\",VLOOKUP(J15,'Boden DüV-Bolap'!A:AA,27,FALSE))))))","v":""}]
[12,null,null,null,null,null,null,null,null,null,null,null,null,null,null,null,null,{"$f":"IF(H16=\"\",\"\",IF(H16>39,\"E\",VLOOKUP(H16,'Boden DüV-Bolap'!A:B,2,FALSE)))","v":""},{"$f":"IF(OR(I16=\"\",F16=\"\"),\"\",IF(I16>39,\"E\",IF(F16=\"leicht\",VLOOKUP(I16,'Boden DüV-Bolap'!A:Q,7,FALSE),IF(F16=\"mittel\",VLOOKUP(I16,'Boden DüV-Bolap'!A:K,11,FALSE),IF(F16=\"schwer\",VLOOKUP(I16,'Boden DüV-Bolap'!A:R,15,FALSE))))))","v":""},{"$f":"IF(OR(J16=\"\",F16=\"\"),\"\",IF(J16>39,\"E\",IF(F16=\"leicht\",VLOOKUP(J16,'Boden DüV-Bolap'!A:AA,19,FALSE),IF(F16=\"mittel\",VLOOKUP(J16,'Boden DüV-Bolap'!A:AA,23,FALSE),IF(F16=\"schwer\",VLOOKUP(J16,'Boden DüV-Bolap'!A:AA,27,FALSE))))))","v":""}]
[13,null,null,null,null,null,null,null,null,null,null,null,null,null,null,null,null,{"$f":"IF(H17=\"\",\"\",IF(H17>39,\"E\",VLOOKUP(H17,'Boden DüV-Bolap'!A:B,2,FALSE)))","v":""},{"$f":"IF(OR(I17=\"\",F17=\"\"),\"\",IF(I17>39,\"E\",IF(F17=\"leicht\",VLOOKUP(I17,'Boden DüV-Bolap'!A:Q,7,FALSE),IF(F17=\"mittel\",VLOOKUP(I17,'Boden DüV-Bolap'!A:K,11,FALSE),IF(F17=\"schwer\",VLOOKUP(I17,'Boden DüV-Bolap'!A:R,15,FALSE))))))","v":""},{"$f":"IF(OR(J17=\"\",F17=\"\"),\"\",IF(J17>39,\"E\",IF(F17=\"leicht\",VLOOKUP(J17,'Boden DüV-Bolap'!A:AA,19,FALSE),IF(F17=\"mittel\",VLOOKUP(J17,'Boden DüV-Bolap'!A:AA,23,FALSE),IF(F17=\"schwer\",VLOOKUP(J17,'Boden DüV-Bolap'!A:AA,27,FALSE))))))","v":""}]
[14,null,null,null,null,null,null,null,null,null,null,null,null,null,null,null,null,{"$f":"IF(H18=\"\",\"\",IF(H18>39,\"E\",VLOOKUP(H18,'Boden DüV-Bolap'!A:B,2,FALSE)))","v":""},{"$f":"IF(OR(I18=\"\",F18=\"\"),\"\",IF(I18>39,\"E\",IF(F18=\"leicht\",VLOOKUP(I18,'Boden DüV-Bolap'!A:Q,7,FALSE),IF(F18=\"mittel\",VLOOKUP(I18,'Boden DüV-Bolap'!A:K,11,FALSE),IF(F18=\"schwer\",VLOOKUP(I18,'Boden DüV-Bolap'!A:R,15,FALSE))))))","v":""},{"$f":"IF(OR(J18=\"\",F18=\"\"),\"\",IF(J18>39,\"E\",IF(F18=\"leicht\",VLOOKUP(J18,'Boden DüV-Bolap'!A:AA,19,FALSE),IF(F18=\"mittel\",VLOOKUP(J18,'Boden DüV-Bolap'!A:AA,23,FALSE),IF(F18=\"schwer\",VLOOKUP(J18,'Boden DüV-Bolap'!A:AA,27,FALSE))))))","v":""}]
[15,null,null,null,null,null,null,null,null,null,null,null,null,null,null,null,null,{"$f":"IF(H19=\"\",\"\",IF(H19>39,\"E\",VLOOKUP(H19,'Boden DüV-Bolap'!A:B,2,FALSE)))","v":""},{"$f":"IF(OR(I19=\"\",F19=\"\"),\"\",IF(I19>39,\"E\",IF(F19=\"leicht\",VLOOKUP(I19,'Boden DüV-Bolap'!A:Q,7,FALSE),IF(F19=\"mittel\",VLOOKUP(I19,'Boden DüV-Bolap'!A:K,11,FALSE),IF(F19=\"schwer\",VLOOKUP(I19,'Boden DüV-Bolap'!A:R,15,FALSE))))))","v":""},{"$f":"IF(OR(J19=\"\",F19=\"\"),\"\",IF(J19>39,\"E\",IF(F19=\"leicht\",VLOOKUP(J19,'Boden DüV-Bolap'!A:AA,19,FALSE),IF(F19=\"mittel\",VLOOKUP(J19,'Boden DüV-Bolap'!A:AA,23,FALSE),IF(F19=\"schwer\",VLOOKUP(J19,'Boden DüV-Bolap'!A:AA,27,FALSE))))))","v":""}]
[16,null,null,null,null,null,null,null,null,null,null,null,null,null,null,null,null,{"$f":"IF(H20=\"\",\"\",IF(H20>39,\"E\",VLOOKUP(H20,'Boden DüV-Bolap'!A:B,2,FALSE)))","v":""},{"$f":"IF(OR(I20=\"\",F20=\"\"),\"\",IF(I20>39,\"E\",IF(F20=\"leicht\",VLOOKUP(I20,'Boden DüV-Bolap'!A:Q,7,FALSE),IF(F20=\"mittel\",VLOOKUP(I20,'Boden DüV-Bolap'!A:K,11,FALSE),IF(F20=\"schwer\",VLOOKUP(I20,'Boden DüV-Bolap'!A:R,15,FALSE))))))","v":""},{"$f":"IF(OR(J20=\"\",F20=\"\"),\"\",IF(J20>39,\"E\",IF(F20=\"leicht\",VLOOKUP(J20,'Boden DüV-Bolap'!A:AA,19,FALSE),IF(F20=\"mittel\",VLOOKUP(J20,'Boden DüV-Bolap'!A:AA,23,FALSE),IF(F20=\"schwer\",VLOOKUP(J20,'Boden DüV-Bolap'!A:AA,27,FALSE))))))","v":""}]
[17,null,null,null,null,null,null,null,null,null,null,null,null,null,null,null,null,{"$f":"IF(H21=\"\",\"\",IF(H21>39,\"E\",VLOOKUP(H21,'Boden DüV-Bolap'!A:B,2,FALSE)))","v":""},{"$f":"IF(OR(I21=\"\",F21=\"\"),\"\",IF(I21>39,\"E\",IF(F21=\"leicht\",VLOOKUP(I21,'Boden DüV-Bolap'!A:Q,7,FALSE),IF(F21=\"mittel\",VLOOKUP(I21,'Boden DüV-Bolap'!A:K,11,FALSE),IF(F21=\"schwer\",VLOOKUP(I21,'Boden DüV-Bolap'!A:R,15,FALSE))))))","v":""},{"$f":"IF(OR(J21=\"\",F21=\"\"),\"\",IF(J21>39,\"E\",IF(F21=\"leicht\",VLOOKUP(J21,'Boden DüV-Bolap'!A:AA,19,FALSE),IF(F21=\"mittel\",VLOOKUP(J21,'Boden DüV-Bolap'!A:AA,23,FALSE),IF(F21=\"schwer\",VLOOKUP(J21,'Boden DüV-Bolap'!A:AA,27,FALSE))))))","v":""}]
[18,null,null,null,null,null,null,null,null,null,null,null,null,null,null,null,null,{"$f":"IF(H22=\"\",\"\",IF(H22>39,\"E\",VLOOKUP(H22,'Boden DüV-Bolap'!A:B,2,FALSE)))","v":""},{"$f":"IF(OR(I22=\"\",F22=\"\"),\"\",IF(I22>39,\"E\",IF(F22=\"leicht\",VLOOKUP(I22,'Boden DüV-Bolap'!A:Q,7,FALSE),IF(F22=\"mittel\",VLOOKUP(I22,'Boden DüV-Bolap'!A:K,11,FALSE),IF(F22=\"schwer\",VLOOKUP(I22,'Boden DüV-Bolap'!A:R,15,FALSE))))))","v":""},{"$f":"IF(OR(J22=\"\",F22=\"\"),\"\",IF(J22>39,\"E\",IF(F22=\"leicht\",VLOOKUP(J22,'Boden DüV-Bolap'!A:AA,19,FALSE),IF(F22=\"mittel\",VLOOKUP(J22,'Boden DüV-Bolap'!A:AA,23,FALSE),IF(F22=\"schwer\",VLOOKUP(J22,'Boden DüV-Bolap'!A:AA,27,FALSE))))))","v":""}]
[19,null,null,null,null,null,null,null,null,null,null,null,null,null,null,null,null,{"$f":"IF(H23=\"\",\"\",IF(H23>39,\"E\",VLOOKUP(H23,'Boden DüV-Bolap'!A:B,2,FALSE)))","v":""},{"$f":"IF(OR(I23=\"\",F23=\"\"),\"\",IF(I23>39,\"E\",IF(F23=\"leicht\",VLOOKUP(I23,'Boden DüV-Bolap'!A:Q,7,FALSE),IF(F23=\"mittel\",VLOOKUP(I23,'Boden DüV-Bolap'!A:K,11,FALSE),IF(F23=\"schwer\",VLOOKUP(I23,'Boden DüV-Bolap'!A:R,15,FALSE))))))","v":""},{"$f":"IF(OR(J23=\"\",F23=\"\"),\"\",IF(J23>39,\"E\",IF(F23=\"leicht\",VLOOKUP(J23,'Boden DüV-Bolap'!A:AA,19,FALSE),IF(F23=\"mittel\",VLOOKUP(J23,'Boden DüV-Bolap'!A:AA,23,FALSE),IF(F23=\"schwer\",VLOOKUP(J23,'Boden DüV-Bolap'!A:AA,27,FALSE))))))","v":""}]
[20,null,null,null,null,null,null,null,null,null,null,null,null,null,null,null,null,{"$f":"IF(H24=\"\",\"\",IF(H24>39,\"E\",VLOOKUP(H24,'Boden DüV-Bolap'!A:B,2,FALSE)))","v":""},{"$f":"IF(OR(I24=\"\",F24=\"\"),\"\",IF(I24>39,\"E\",IF(F24=\"leicht\",VLOOKUP(I24,'Boden DüV-Bolap'!A:Q,7,FALSE),IF(F24=\"mittel\",VLOOKUP(I24,'Boden DüV-Bolap'!A:K,11,FALSE),IF(F24=\"schwer\",VLOOKUP(I24,'Boden DüV-Bolap'!A:R,15,FALSE))))))","v":""},{"$f":"IF(OR(J24=\"\",F24=\"\"),\"\",IF(J24>39,\"E\",IF(F24=\"leicht\",VLOOKUP(J24,'Boden DüV-Bolap'!A:AA,19,FALSE),IF(F24=\"mittel\",VLOOKUP(J24,'Boden DüV-Bolap'!A:AA,23,FALSE),IF(F24=\"schwer\",VLOOKUP(J24,'Boden DüV-Bolap'!A:AA,27,FALSE))))))","v":""}]
[21,null,null,null,null,null,null,null,null,null,null,null,null,null,null,null,null,{"$f":"IF(H25=\"\",\"\",IF(H25>39,\"E\",VLOOKUP(H25,'Boden DüV-Bolap'!A:B,2,FALSE)))","v":""},{"$f":"IF(OR(I25=\"\",F25=\"\"),\"\",IF(I25>39,\"E\",IF(F25=\"leicht\",VLOOKUP(I25,'Boden DüV-Bolap'!A:Q,7,FALSE),IF(F25=\"mittel\",VLOOKUP(I25,'Boden DüV-Bolap'!A:K,11,FALSE),IF(F25=\"schwer\",VLOOKUP(I25,'Boden DüV-Bolap'!A:R,15,FALSE))))))","v":""},{"$f":"IF(OR(J25=\"\",F25=\"\"),\"\",IF(J25>39,\"E\",IF(F25=\"leicht\",VLOOKUP(J25,'Boden DüV-Bolap'!A:AA,19,FALSE),IF(F25=\"mittel\",VLOOKUP(J25,'Boden DüV-Bolap'!A:AA,23,FALSE),IF(F25=\"schwer\",VLOOKUP(J25,'Boden DüV-Bolap'!A:AA,27,FALSE))))))","v":""}]
[22,null,null,null,null,null,null,null,null,null,null,null,null,null,null,null,null,{"$f":"IF(H26=\"\",\"\",IF(H26>39,\"E\",VLOOKUP(H26,'Boden DüV-Bolap'!A:B,2,FALSE)))","v":""},{"$f":"IF(OR(I26=\"\",F26=\"\"),\"\",IF(I26>39,\"E\",IF(F26=\"leicht\",VLOOKUP(I26,'Boden DüV-Bolap'!A:Q,7,FALSE),IF(F26=\"mittel\",VLOOKUP(I26,'Boden DüV-Bolap'!A:K,11,FALSE),IF(F26=\"schwer\",VLOOKUP(I26,'Boden DüV-Bolap'!A:R,15,FALSE))))))","v":""},{"$f":"IF(OR(J26=\"\",F26=\"\"),\"\",IF(J26>39,\"E\",IF(F26=\"leicht\",VLOOKUP(J26,'Boden DüV-Bolap'!A:AA,19,FALSE),IF(F26=\"mittel\",VLOOKUP(J26,'Boden DüV-Bolap'!A:AA,23,FALSE),IF(F26=\"schwer\",VLOOKUP(J26,'Boden DüV-Bolap'!A:AA,27,FALSE))))))","v":""}]
[23,null,null,null,null,null,null,null,null,null,null,null,null,null,null,null,null,{"$f":"IF(H27=\"\",\"\",IF(H27>39,\"E\",VLOOKUP(H27,'Boden DüV-Bolap'!A:B,2,FALSE)))","v":""},{"$f":"IF(OR(I27=\"\",F27=\"\"),\"\",IF(I27>39,\"E\",IF(F27=\"leicht\",VLOOKUP(I27,'Boden DüV-Bolap'!A:Q,7,FALSE),IF(F27=\"mittel\",VLOOKUP(I27,'Boden DüV-Bolap'!A:K,11,FALSE),IF(F27=\"schwer\",VLOOKUP(I27,'Boden DüV-Bolap'!A:R,15,FALSE))))))","v":""},{"$f":"IF(OR(J27=\"\",F27=\"\"),\"\",IF(J27>39,\"E\",IF(F27=\"leicht\",VLOOKUP(J27,'Boden DüV-Bolap'!A:AA,19,FALSE),IF(F27=\"mittel\",VLOOKUP(J27,'Boden DüV-Bolap'!A:AA,23,FALSE),IF(F27=\"schwer\",VLOOKUP(J27,'Boden DüV-Bolap'!A:AA,27,FALSE))))))","v":""}]
[24,null,null,null,null,null,null,null,null,null,null,null,null,null,null,null,null,{"$f":"IF(H28=\"\",\"\",IF(H28>39,\"E\",VLOOKUP(H28,'Boden DüV-Bolap'!A:B,2,FALSE)))","v":""},{"$f":"IF(OR(I28=\"\",F28=\"\"),\"\",IF(I28>39,\"E\",IF(F28=\"leicht\",VLOOKUP(I28,'Boden DüV-Bolap'!A:Q,7,FALSE),IF(F28=\"mittel\",VLOOKUP(I28,'Boden DüV-Bolap'!A:K,11,FALSE),IF(F28=\"schwer\",VLOOKUP(I28,'Boden DüV-Bolap'!A:R,15,FALSE))))))","v":""},{"$f":"IF(OR(J28=\"\",F28=\"\"),\"\",IF(J28>39,\"E\",IF(F28=\"leicht\",VLOOKUP(J28,'Boden DüV-Bolap'!A:AA,19,FALSE),IF(F28=\"mittel\",VLOOKUP(J28,'Boden DüV-Bolap'!A:AA,23,FALSE),IF(F28=\"schwer\",VLOOKUP(J28,'Boden DüV-Bolap'!A:AA,27,FALSE))))))","v":""}]
[25,null,null,null,null,null,null,null,null,null,null,null,null,null,null,null,null,{"$f":"IF(H29=\"\",\"\",IF(H29>39,\"E\",VLOOKUP(H29,'Boden DüV-Bolap'!A:B,2,FALSE)))","v":""},{"$f":"IF(OR(I29=\"\",F29=\"\"),\"\",IF(I29>39,\"E\",IF(F29=\"leicht\",VLOOKUP(I29,'Boden DüV-Bolap'!A:Q,7,FALSE),IF(F29=\"mittel\",VLOOKUP(I29,'Boden DüV-Bolap'!A:K,11,FALSE),IF(F29=\"schwer\",VLOOKUP(I29,'Boden DüV-Bolap'!A:R,15,FALSE))))))","v":""},{"$f":"IF(OR(J29=\"\",F29=\"\"),\"\",IF(J29>39,\"E\",IF(F29=\"leicht\",VLOOKUP(J29,'Boden DüV-Bolap'!A:AA,19,FALSE),IF(F29=\"mittel\",VLOOKUP(J29,'Boden DüV-Bolap'!A:AA,23,FALSE),IF(F29=\"schwer\",VLOOKUP(J29,'Boden DüV-Bolap'!A:AA,27,FALSE))))))","v":""}]
[26,null,null,null,null,null,null,null,null,null,null,null,null,null,null,null,null,{"$f":"IF(H30=\"\",\"\",IF(H30>39,\"E\",VLOOKUP(H30,'Boden DüV-Bolap'!A:B,2,FALSE)))","v":""},{"$f":"IF(OR(I30=\"\",F30=\"\"),\"\",IF(I30>39,\"E\",IF(F30=\"leicht\",VLOOKUP(I30,'Boden DüV-Bolap'!A:Q,7,FALSE),IF(F30=\"mittel\",VLOOKUP(I30,'Boden DüV-Bolap'!A:K,11,FALSE),IF(F30=\"schwer\",VLOOKUP(I30,'Boden DüV-Bolap'!A:R,15,FALSE))))))","v":""},{"$f":"IF(OR(J30=\"\",F30=\"\"),\"\",IF(J30>39,\"E\",IF(F30=\"leicht\",VLOOKUP(J30,'Boden DüV-Bolap'!A:AA,19,FALSE),IF(F30=\"mittel\",VLOOKUP(J30,'Boden DüV-Bolap'!A:AA,23,FALSE),IF(F30=\"schwer\",VLOOKUP(J30,'Boden DüV-Bolap'!A:AA,27,FALSE))))))","v":""}]
[27,null,null,null,null,null,null,null,null,null,null,null,null,null,null,null,null,{"$f":"IF(H31=\"\",\"\",IF(H31>39,\"E\",VLOOKUP(H31,'Boden DüV-Bolap'!A:B,2,FALSE)))","v":""},{"$f":"IF(OR(I31=\"\",F31=\"\"),\"\",IF(I31>39,\"E\",IF(F31=\"leicht\",VLOOKUP(I31,'Boden DüV-Bolap'!A:Q,7,FALSE),IF(F31=\"mittel\",VLOOKUP(I31,'Boden DüV-Bolap'!A:K,11,FALSE),IF(F31=\"schwer\",VLOOKUP(I31,'Boden DüV-Bolap'!A:R,15,FALSE))))))","v":""},{"$f":"IF(OR(J31=\"\",F31=\"\"),\"\",IF(J31>39,\"E\",IF(F31=\"leicht\",VLOOKUP(J31,'Boden DüV-Bolap'!A:AA,19,FALSE),IF(F31=\"mittel\",VLOOKUP(J31,'Boden DüV-Bolap'!A:AA,23,FALSE),IF(F31=\"schwer\",VLOOKUP(J31,'Boden DüV-Bolap'!A:AA,27,FALSE))))))","v":""}]
[28,null,null,null,null,null,null,null,null,null,null,null,null,null,null,null,null,{"$f":"IF(H32=\"\",\"\",IF(H32>39,\"E\",VLOOKUP(H32,'Boden DüV-Bolap'!A:B,2,FALSE)))","v":""},{"$f":"IF(OR(I32=\"\",F32=\"\"),\"\",IF(I32>39,\"E\",IF(F32=\"leicht\",VLOOKUP(I32,'Boden DüV-Bolap'!A:Q,7,FALSE),IF(F32=\"mittel\",VLOOKUP(I32,'Boden DüV-Bolap'!A:K,11,FALSE),IF(F32=\"schwer\",VLOOKUP(I32,'Boden DüV-Bolap'!A:R,15,FALSE))))))","v":""},{"$f":"IF(OR(J32=\"\",F32=\"\"),\"\",IF(J32>39,\"E\",IF(F32=\"leicht\",VLOOKUP(J32,'Boden DüV-Bolap'!A:AA,19,FALSE),IF(F32=\"mittel\",VLOOKUP(J32,'Boden DüV-Bolap'!A:AA,23,FALSE),IF(F32=\"schwer\",VLOOKUP(J32,'Boden DüV-Bolap'!A:AA,27,FALSE))))))","v":""}]
[29,null,null,null,null,null,null,null,null,null,null,null,null,null,null,null,null,{"$f":"IF(H33=\"\",\"\",IF(H33>39,\"E\",VLOOKUP(H33,'Boden DüV-Bolap'!A:B,2,FALSE)))","v":""},{"$f":"IF(OR(I33=\"\",F33=\"\"),\"\",IF(I33>39,\"E\",IF(F33=\"leicht\",VLOOKUP(I33,'Boden DüV-Bolap'!A:Q,7,FALSE),IF(F33=\"mittel\",VLOOKUP(I33,'Boden DüV-Bolap'!A:K,11,FALSE),IF(F33=\"schwer\",VLOOKUP(I33,'Boden DüV-Bolap'!A:R,15,FALSE))))))","v":""},{"$f":"IF(OR(J33=\"\",F33=\"\"),\"\",IF(J33>39,\"E\",IF(F33=\"leicht\",VLOOKUP(J33,'Boden DüV-Bolap'!A:AA,19,FALSE),IF(F33=\"mittel\",VLOOKUP(J33,'Boden DüV-Bolap'!A:AA,23,FALSE),IF(F33=\"schwer\",VLOOKUP(J33,'Boden DüV-Bolap'!A:AA,27,FALSE))))))","v":""}]
[30,null,null,null,null,null,null,null,null,null,null,null,null,null,null,null,null,{"$f":"IF(H34=\"\",\"\",IF(H34>39,\"E\",VLOOKUP(H34,'Boden DüV-Bolap'!A:B,2,FALSE)))","v":""},{"$f":"IF(OR(I34=\"\",F34=\"\"),\"\",IF(I34>39,\"E\",IF(F34=\"leicht\",VLOOKUP(I34,'Boden DüV-Bolap'!A:Q,7,FALSE),IF(F34=\"mittel\",VLOOKUP(I34,'Boden DüV-Bolap'!A:K,11,FALSE),IF(F34=\"schwer\",VLOOKUP(I34,'Boden DüV-Bolap'!A:R,15,FALSE))))))","v":""},{"$f":"IF(OR(J34=\"\",F34=\"\"),\"\",IF(J34>39,\"E\",IF(F34=\"leicht\",VLOOKUP(J34,'Boden DüV-Bolap'!A:AA,19,FALSE),IF(F34=\"mittel\",VLOOKUP(J34,'Boden DüV-Bolap'!A:AA,23,FALSE),IF(F34=\"schwer\",VLOOKUP(J34,'Boden DüV-Bolap'!A:AA,27,FALSE))))))","v":""}]
[31,null,null,null,null,null,null,null,null,null,null,null,null,null,null,null,null,{"$f":"IF(H35=\"\",\"\",IF(H35>39,\"E\",VLOOKUP(H35,'Boden DüV-Bolap'!A:B,2,FALSE)))","v":""},{"$f":"IF(OR(I35=\"\",F35=\"\"),\"\",IF(I35>39,\"E\",IF(F35=\"leicht\",VLOOKUP(I35,'Boden DüV-Bolap'!A:Q,7,FALSE),IF(F35=\"mittel\",VLOOKUP(I35,'Boden DüV-Bolap'!A:K,11,FALSE),IF(F35=\"schwer\",VLOOKUP(I35,'Boden DüV-Bolap'!A:R,15,FALSE))))))","v":""},{"$f":"IF(OR(J35=\"\",F35=\"\"),\"\",IF(J35>39,\"E\",IF(F35=\"leicht\",VLOOKUP(J35,'Boden DüV-Bolap'!A:AA,19,FALSE),IF(F35=\"mittel\",VLOOKUP(J35,'Boden DüV-Bolap'!A:AA,23,FALSE),IF(F35=\"schwer\",VLOOKUP(J35,'Boden DüV-Bolap'!A:AA,27,FALSE))))))","v":""}]
[32,null,null,null,null,null,null,null,null,null,null,null,null,null,null,null,null,{"$f":"IF(H36=\"\",\"\",IF(H36>39,\"E\",VLOOKUP(H36,'Boden DüV-Bolap'!A:B,2,FALSE)))","v":""},{"$f":"IF(OR(I36=\"\",F36=\"\"),\"\",IF(I36>39,\"E\",IF(F36=\"leicht\",VLOOKUP(I36,'Boden DüV-Bolap'!A:Q,7,FALSE),IF(F36=\"mittel\",VLOOKUP(I36,'Boden DüV-Bolap'!A:K,11,FALSE),IF(F36=\"schwer\",VLOOKUP(I36,'Boden DüV-Bolap'!A:R,15,FALSE))))))","v":""},{"$f":"IF(OR(J36=\"\",F36=\"\"),\"\",IF(J36>39,\"E\",IF(F36=\"leicht\",VLOOKUP(J36,'Boden DüV-Bolap'!A:AA,19,FALSE),IF(F36=\"mittel\",VLOOKUP(J36,'Boden DüV-Bolap'!A:AA,23,FALSE),IF(F36=\"schwer\",VLOOKUP(J36,'Boden DüV-Bolap'!A:AA,27,FALSE))))))","v":""}]
[33,null,null,null,null,null,null,null,null,null,null,null,null,null,null,null,null,{"$f":"IF(H37=\"\",\"\",IF(H37>39,\"E\",VLOOKUP(H37,'Boden DüV-Bolap'!A:B,2,FALSE)))","v":""},{"$f":"IF(OR(I37=\"\",F37=\"\"),\"\",IF(I37>39,\"E\",IF(F37=\"leicht\",VLOOKUP(I37,'Boden DüV-Bolap'!A:Q,7,FALSE),IF(F37=\"mittel\",VLOOKUP(I37,'Boden DüV-Bolap'!A:K,11,FALSE),IF(F37=\"schwer\",VLOOKUP(I37,'Boden DüV-Bolap'!A:R,15,FALSE))))))","v":""},{"$f":"IF(OR(J37=\"\",F37=\"\"),\"\",IF(J37>39,\"E\",IF(F37=\"leicht\",VLOOKUP(J37,'Boden DüV-Bolap'!A:AA,19,FALSE),IF(F37=\"mittel\",VLOOKUP(J37,'Boden DüV-Bolap'!A:AA,23,FALSE),IF(F37=\"schwer\",VLOOKUP(J37,'Boden DüV-Bolap'!A:AA,27,FALSE))))))","v":""}]
[34,null,null,null,null,null,null,null,null,null,null,null,null,null,null,null,null,{"$f":"IF(H38=\"\",\"\",IF(H38>39,\"E\",VLOOKUP(H38,'Boden DüV-Bolap'!A:B,2,FALSE)))","v":""},{"$f":"IF(OR(I38=\"\",F38=\"\"),\"\",IF(I38>39,\"E\",IF(F38=\"leicht\",VLOOKUP(I38,'Boden DüV-Bolap'!A:Q,7,FALSE),IF(F38=\"mittel\",VLOOKUP(I38,'Boden DüV-Bolap'!A:K,11,FALSE),IF(F38=\"schwer\",VLOOKUP(I38,'Boden DüV-Bolap'!A:R,15,FALSE))))))","v":""},{"$f":"IF(OR(J38=\"\",F38=\"\"),\"\",IF(J38>39,\"E\",IF(F38=\"leicht\",VLOOKUP(J38,'Boden DüV-Bolap'!A:AA,19,FALSE),IF(F38=\"mittel\",VLOOKUP(J38,'Boden DüV-Bolap'!A:AA,23,FALSE),IF(F38=\"schwer\",VLOOKUP(J38,'Boden DüV-Bolap'!A:AA,27,FALSE))))))","v":""}]
[35,null,null,null,null,null,null,null,null,null,null,null,null,null,null,null,null,{"$f":"IF(H39=\"\",\"\",IF(H39>39,\"E\",VLOOKUP(H39,'Boden DüV-Bolap'!A:B,2,FALSE)))","v":""},{"$f":"IF(OR(I39=\"\",F39=\"\"),\"\",IF(I39>39,\"E\",IF(F39=\"leicht\",VLOOKUP(I39,'Boden DüV-Bolap'!A:Q,7,FALSE),IF(F39=\"mittel\",VLOOKUP(I39,'Boden DüV-Bolap'!A:K,11,FALSE),IF(F39=\"schwer\",VLOOKUP(I39,'Boden DüV-Bolap'!A:R,15,FALSE))))))","v":""},{"$f":"IF(OR(J39=\"\",F39=\"\"),\"\",IF(J39>39,\"E\",IF(F39=\"leicht\",VLOOKUP(J39,'Boden DüV-Bolap'!A:AA,19,FALSE),IF(F39=\"mittel\",VLOOKUP(J39,'Boden DüV-Bolap'!A:AA,23,FALSE),IF(F39=\"schwer\",VLOOKUP(J39,'Boden DüV-Bolap'!A:AA,27,FALSE))))))","v":""}]
[36,null,null,null,null,null,null,null,null,null,null,null,null,null,null,null,null,{"$f":"IF(H40=\"\",\"\",IF(H40>39,\"E\",VLOOKUP(H40,'Boden DüV-Bolap'!A:B,2,FALSE)))","v":""},{"$f":"IF(OR(I40=\"\",F40=\"\"),\"\",IF(I40>39,\"E\",IF(F40=\"leicht\",VLOOKUP(I40,'Boden DüV-Bolap'!A:Q,7,FALSE),IF(F40=\"mittel\",VLOOKUP(I40,'Boden DüV-Bolap'!A:K,11,FALSE),IF(F40=\"schwer\",VLOOKUP(I40,'Boden DüV-Bolap'!A:R,15,FALSE))))))","v":""},{"$f":"IF(OR(J40=\"\",F40=\"\"),\"\",IF(J40>39,\"E\",IF(F40=\"leicht\",VLOOKUP(J40,'Boden DüV-Bolap'!A:AA,19,FALSE),IF(F40=\"mittel\",VLOOKUP(J40,'Boden DüV-Bolap'!A:AA,23,FALSE),IF(F40=\"schwer\",VLOOKUP(J40,'Boden DüV-Bolap'!A:AA,27,FALSE))))))","v":""}]
[37,null,null,null,null,null,null,null,null,null,null,null,null,null,null,null,null,{"$f":"IF(H41=\"\",\"\",IF(H41>39,\"E\",VLOOKUP(H41,'Boden DüV-Bolap'!A:B,2,FALSE)))","v":""},{"$f":"IF(OR(I41=\"\",F41=\"\"),\"\",IF(I41>39,\"E\",IF(F41=\"leicht\",VLOOKUP(I41,'Boden DüV-Bolap'!A:Q,7,FALSE),IF(F41=\"mittel\",VLOOKUP(I41,'Boden DüV-Bolap'!A:K,11,FALSE),IF(F41=\"schwer\",VLOOKUP(I41,'Boden DüV-Bolap'!A:R,15,FALSE))))))","v":""},{"$f":"IF(OR(J41=\"\",F41=\"\"),\"\",IF(J41>39,\"E\",IF(F41=\"leicht\",VLOOKUP(J41,'Boden DüV-Bolap'!A:AA,19,FALSE),IF(F41=\"mittel\",VLOOKUP(J41,'Boden DüV-Bolap'!A:AA,23,FALSE),IF(F41=\"schwer\",VLOOKUP(J41,'Boden DüV-Bolap'!A:AA,27,FALSE))))))","v":""}]
[38,null,null,null,null,null,null,null,null,null,null,null,null,null,null,null,null,{"$f":"IF(H42=\"\",\"\",IF(H42>39,\"E\",VLOOKUP(H42,'Boden DüV-Bolap'!A:B,2,FALSE)))","v":""},{"$f":"IF(OR(I42=\"\",F42=\"\"),\"\",IF(I42>39,\"E\",IF(F42=\"leicht\",VLOOKUP(I42,'Boden DüV-Bolap'!A:Q,7,FALSE),IF(F42=\"mittel\",VLOOKUP(I42,'Boden DüV-Bolap'!A:K,11,FALSE),IF(F42=\"schwer\",VLOOKUP(I42,'Boden DüV-Bolap'!A:R,15,FALSE))))))","v":""},{"$f":"IF(OR(J42=\"\",F42=\"\"),\"\",IF(J42>39,\"E\",IF(F42=\"leicht\",VLOOKUP(J42,'Boden DüV-Bolap'!A:AA,19,FALSE),IF(F42=\"mittel\",VLOOKUP(J42,'Boden DüV-Bolap'!A:AA,23,FALSE),IF(F42=\"schwer\",VLOOKUP(J42,'Boden DüV-Bolap'!A:AA,27,FALSE))))))","v":""}]
[39,null,null,null,null,null,null,null,null,null,null,null,null,null,null,null,null,{"$f":"IF(H43=\"\",\"\",IF(H43>39,\"E\",VLOOKUP(H43,'Boden DüV-Bolap'!A:B,2,FALSE)))","v":""},{"$f":"IF(OR(I43=\"\",F43=\"\"),\"\",IF(I43>39,\"E\",IF(F43=\"leicht\",VLOOKUP(I43,'Boden DüV-Bolap'!A:Q,7,FALSE),IF(F43=\"mittel\",VLOOKUP(I43,'Boden DüV-Bolap'!A:K,11,FALSE),IF(F43=\"schwer\",VLOOKUP(I43,'Boden DüV-Bolap'!A:R,15,FALSE))))))","v":""},{"$f":"IF(OR(J43=\"\",F43=\"\"),\"\",IF(J43>39,\"E\",IF(F43=\"leicht\",VLOOKUP(J43,'Boden DüV-Bolap'!A:AA,19,FALSE),IF(F43=\"mittel\",VLOOKUP(J43,'Boden DüV-Bolap'!A:AA,23,FALSE),IF(F43=\"schwer\",VLOOKUP(J43,'Boden DüV-Bolap'!A:AA,27,FALSE))))))","v":""}]
[40,null,null,null,null,null,null,null,null,null,null,null,null,null,null,null,null,{"$f":"IF(H44=\"\",\"\",IF(H44>39,\"E\",VLOOKUP(H44,'Boden DüV-Bolap'!A:B,2,FALSE)))","v":""},{"$f":"IF(OR(I44=\"\",F44=\"\"),\"\",IF(I44>39,\"E\",IF(F44=\"leicht\",VLOOKUP(I44,'Boden DüV-Bolap'!A:Q,7,FALSE),IF(F44=\"mittel\",VLOOKUP(I44,'Boden DüV-Bolap'!A:K,11,FALSE),IF(F44=\"schwer\",VLOOKUP(I44,'Boden DüV-Bolap'!A:R,15,FALSE))))))","v":""},{"$f":"IF(OR(J44=\"\",F44=\"\"),\"\",IF(J44>39,\"E\",IF(F44=\"leicht\",VLOOKUP(J44,'Boden DüV-Bolap'!A:AA,19,FALSE),IF(F44=\"mittel\",VLOOKUP(J44,'Boden DüV-Bolap'!A:AA,23,FALSE),IF(F44=\"schwer\",VLOOKUP(J44,'Boden DüV-Bolap'!A:AA,27,FALSE))))))","v":""}]
[41,null,null,null,null,null,null,null,null,null,null,null,null,null,null,null,null,{"$f":"IF(H45=\"\",\"\",IF(H45>39,\"E\",VLOOKUP(H45,'Boden DüV-Bolap'!A:B,2,FALSE)))","v":""},{"$f":"IF(OR(I45=\"\",F45=\"\"),\"\",IF(I45>39,\"E\",IF(F45=\"leicht\",VLOOKUP(I45,'Boden DüV-Bolap'!A:Q,7,FALSE),IF(F45=\"mittel\",VLOOKUP(I45,'Boden DüV-Bolap'!A:K,11,FALSE),IF(F45=\"schwer\",VLOOKUP(I45,'Boden DüV-Bolap'!A:R,15,FALSE))))))","v":""},{"$f":"IF(OR(J45=\"\",F45=\"\"),\"\",IF(J45>39,\"E\",IF(F45=\"leicht\",VLOOKUP(J45,'Boden DüV-Bolap'!A:AA,19,FALSE),IF(F45=\"mittel\",VLOOKUP(J45,'Boden DüV-Bolap'!A:AA,23,FALSE),IF(F45=\"schwer\",VLOOKUP(J45,'Boden DüV-Bolap'!A:AA,27,FALSE))))))","v":""}]
[42,null,null,null,null,null,null,null,null,null,null,null,null,null,null,null,null,{"$f":"IF(H46=\"\",\"\",IF(H46>39,\"E\",VLOOKUP(H46,'Boden DüV-Bolap'!A:B,2,FALSE)))","v":""},{"$f":"IF(OR(I46=\"\",F46=\"\"),\"\",IF(I46>39,\"E\",IF(F46=\"leicht\",VLOOKUP(I46,'Boden DüV-Bolap'!A:Q,7,FALSE),IF(F46=\"mittel\",VLOOKUP(I46,'Boden DüV-Bolap'!A:K,11,FALSE),IF(F46=\"schwer\",VLOOKUP(I46,'Boden DüV-Bolap'!A:R,15,FALSE))))))","v":""},{"$f":"IF(OR(J46=\"\",F46=\"\"),\"\",IF(J46>39,\"E\",IF(F46=\"leicht\",VLOOKUP(J46,'Boden DüV-Bolap'!A:AA,19,FALSE),IF(F46=\"mittel\",VLOOKUP(J46,'Boden DüV-Bolap'!A:AA,23,FALSE),IF(F46=\"schwer\",VLOOKUP(J46,'Boden DüV-Bolap'!A:AA,27,FALSE))))))","v":""}]
[43,null,null,null,null,null,null,null,null,null,null,null,null,null,null,null,null,{"$f":"IF(H47=\"\",\"\",IF(H47>39,\"E\",VLOOKUP(H47,'Boden DüV-Bolap'!A:B,2,FALSE)))","v":""},{"$f":"IF(OR(I47=\"\",F47=\"\"),\"\",IF(I47>39,\"E\",IF(F47=\"leicht\",VLOOKUP(I47,'Boden DüV-Bolap'!A:Q,7,FALSE),IF(F47=\"mittel\",VLOOKUP(I47,'Boden DüV-Bolap'!A:K,11,FALSE),IF(F47=\"schwer\",VLOOKUP(I47,'Boden DüV-Bolap'!A:R,15,FALSE))))))","v":""},{"$f":"IF(OR(J47=\"\",F47=\"\"),\"\",IF(J47>39,\"E\",IF(F47=\"leicht\",VLOOKUP(J47,'Boden DüV-Bolap'!A:AA,19,FALSE),IF(F47=\"mittel\",VLOOKUP(J47,'Boden DüV-Bolap'!A:AA,23,FALSE),IF(F47=\"schwer\",VLOOKUP(J47,'Boden DüV-Bolap'!A:AA,27,FALSE))))))","v":""}]
[44,null,null,null,null,null,null,null,null,null,null,null,null,null,null,null,null,{"$f":"IF(H48=\"\",\"\",IF(H48>39,\"E\",VLOOKUP(H48,'Boden DüV-Bolap'!A:B,2,FALSE)))","v":""},{"$f":"IF(OR(I48=\"\",F48=\"\"),\"\",IF(I48>39,\"E\",IF(F48=\"leicht\",VLOOKUP(I48,'Boden DüV-Bolap'!A:Q,7,FALSE),IF(F48=\"mittel\",VLOOKUP(I48,'Boden DüV-Bolap'!A:K,11,FALSE),IF(F48=\"schwer\",VLOOKUP(I48,'Boden DüV-Bolap'!A:R,15,FALSE))))))","v":""},{"$f":"IF(OR(J48=\"\",F48=\"\"),\"\",IF(J48>39,\"E\",IF(F48=\"leicht\",VLOOKUP(J48,'Boden DüV-Bolap'!A:AA,19,FALSE),IF(F48=\"mittel\",VLOOKUP(J48,'Boden DüV-Bolap'!A:AA,23,FALSE),IF(F48=\"schwer\",VLOOKUP(J48,'Boden DüV-Bolap'!A:AA,27,FALSE))))))","v":""}]
[45,null,null,null,null,null,null,null,null,null,null,null,null,null,null,null,null,{"$f":"IF(H49=\"\",\"\",IF(H49>39,\"E\",VLOOKUP(H49,'Boden DüV-Bolap'!A:B,2,FALSE)))","v":""},{"$f":"IF(OR(I49=\"\",F49=\"\"),\"\",IF(I49>39,\"E\",IF(F49=\"leicht\",VLOOKUP(I49,'Boden DüV-Bolap'!A:Q,7,FALSE),IF(F49=\"mittel\",VLOOKUP(I49,'Boden DüV-Bolap'!A:K,11,FALSE),IF(F49=\"schwer\",VLOOKUP(I49,'Boden DüV-Bolap'!A:R,15,FALSE))))))","v":""},{"$f":"IF(OR(J49=\"\",F49=\"\"),\"\",IF(J49>39,\"E\",IF(F49=\"leicht\",VLOOKUP(J49,'Boden DüV-Bolap'!A:AA,19,FALSE),IF(F49=\"mittel\",VLOOKUP(J49,'Boden DüV-Bolap'!A:AA,23,FALSE),IF(F49=\"schwer\",VLOOKUP(J49,'Boden DüV-Bolap'!A:AA,27,FALSE))))))","v":""}]
[46,null,null,null,null,null,null,null,null,null,null,null,null,null,null,null,null,{"$f":"IF(H50=\"\",\"\",IF(H50>39,\"E\",VLOOKUP(H50,'Boden DüV-Bolap'!A:B,2,FALSE)))","v":""},{"$f":"IF(OR(I50=\"\",F50=\"\"),\"\",IF(I50>39,\"E\",IF(F50=\"leicht\",VLOOKUP(I50,'Boden DüV-Bolap'!A:Q,7,FALSE),IF(F50=\"mittel\",VLOOKUP(I50,'Boden DüV-Bolap'!A:K,11,FALSE),IF(F50=\"schwer\",VLOOKUP(I50,'Boden DüV-Bolap'!A:R,15,FALSE))))))","v":""},{"$f":"IF(OR(J50=\"\",F50=\"\"),\"\",IF(J50>39,\"E\",IF(F50=\"leicht\",VLOOKUP(J50,'Boden DüV-Bolap'!A:AA,19,FALSE),IF(F50=\"mittel\",VLOOKUP(J50,'Boden DüV-Bolap'!A:AA,23,FALSE),IF(F50=\"schwer\",VLOOKUP(J50,'Boden DüV-Bolap'!A:AA,27,FALSE))))))","v":""}]
[47,null,null,null,null,null,null,null,null,null,null,null,null,null,null,null,null,{"$f":"IF(H51=\"\",\"\",IF(H51>39,\"E\",VLOOKUP(H51,'Boden DüV-Bolap'!A:B,2,FALSE)))","v":""},{"$f":"IF(OR(I51=\"\",F51=\"\"),\"\",IF(I51>39,\"E\",IF(F51=\"leicht\",VLOOKUP(I51,'Boden DüV-Bolap'!A:Q,7,FALSE),IF(F51=\"mittel\",VLOOKUP(I51,'Boden DüV-Bolap'!A:K,11,FALSE),IF(F51=\"schwer\",VLOOKUP(I51,'Boden DüV-Bolap'!A:R,15,FALSE))))))","v":""},{"$f":"IF(OR(J51=\"\",F51=\"\"),\"\",IF(J51>39,\"E\",IF(F51=\"leicht\",VLOOKUP(J51,'Boden DüV-Bolap'!A:AA,19,FALSE),IF(F51=\"mittel\",VLOOKUP(J51,'Boden DüV-Bolap'!A:AA,23,FALSE),IF(F51=\"schwer\",VLOOKUP(J51,'Boden DüV-Bolap'!A:AA,27,FALSE))))))","v":""}]
[48,null,null,null,null,null,null,null,null,null,null,null,null,null,null,null,null,{"$f":"IF(H52=\"\",\"\",IF(H52>39,\"E\",VLOOKUP(H52,'Boden DüV-Bolap'!A:B,2,FALSE)))","v":""},{"$f":"IF(OR(I52=\"\",F52=\"\"),\"\",IF(I52>39,\"E\",IF(F52=\"leicht\",VLOOKUP(I52,'Boden DüV-Bolap'!A:Q,7,FALSE),IF(F52=\"mittel\",VLOOKUP(I52,'Boden DüV-Bolap'!A:K,11,FALSE),IF(F52=\"schwer\",VLOOKUP(I52,'Boden DüV-Bolap'!A:R,15,FALSE))))))","v":""},{"$f":"IF(OR(J52=\"\",F52=\"\"),\"\",IF(J52>39,\"E\",IF(F52=\"leicht\",VLOOKUP(J52,'Boden DüV-Bolap'!A:AA,19,FALSE),IF(F52=\"mittel\",VLOOKUP(J52,'Boden DüV-Bolap'!A:AA,23,FALSE),IF(F52=\"schwer\",VLOOKUP(J52,'Boden DüV-Bolap'!A:AA,27,FALSE))))))","v":""}]
[49,null,null,null,null,null,null,null,null,null,null,null,null,null,null,null,null,{"$f":"IF(H53=\"\",\"\",IF(H53>39,\"E\",VLOOKUP(H53,'Boden DüV-Bolap'!A:B,2,FALSE)))","v":""},{"$f":"IF(OR(I53=\"\",F53=\"\"),\"\",IF(I53>39,\"E\",IF(F53=\"leicht\",VLOOKUP(I53,'Boden DüV-Bolap'!A:Q,7,FALSE),IF(F53=\"mittel\",VLOOKUP(I53,'Boden DüV-Bolap'!A:K,11,FALSE),IF(F53=\"schwer\",VLOOKUP(I53,'Boden DüV-Bolap'!A:R,15,FALSE))))))","v":""},{"$f":"IF(OR(J53=\"\",F53=\"\"),\"\",IF(J53>39,\"E\",IF(F53=\"leicht\",VLOOKUP(J53,'Boden DüV-Bolap'!A:AA,19,FALSE),IF(F53=\"mittel\",VLOOKUP(J53,'Boden DüV-Bolap'!A:AA,23,FALSE),IF(F53=\"schwer\",VLOOKUP(J53,'Boden DüV-Bolap'!A:AA,27,FALSE))))))","v":""}]
[50,null,null,null,null,null,null,null,null,null,null,null,null,null,null,null,null,{"$f":"IF(H54=\"\",\"\",IF(H54>39,\"E\",VLOOKUP(H54,'Boden DüV-Bolap'!A:B,2,FALSE)))","v":""},{"$f":"IF(OR(I54=\"\",F54=\"\"),\"\",IF(I54>39,\"E\",IF(F54=\"leicht\",VLOOKUP(I54,'Boden DüV-Bolap'!A:Q,7,FALSE),IF(F54=\"mittel\",VLOOKUP(I54,'Boden DüV-Bolap'!A:K,11,FALSE),IF(F54=\"schwer\",VLOOKUP(I54,'Boden DüV-Bolap'!A:R,15,FALSE))))))","v":""},{"$f":"IF(OR(J54=\"\",F54=\"\"),\"\",IF(J54>39,\"E\",IF(F54=\"leicht\",VLOOKUP(J54,'Boden DüV-Bolap'!A:AA,19,FALSE),IF(F54=\"mittel\",VLOOKUP(J54,'Boden DüV-Bolap'!A:AA,23,FALSE),IF(F54=\"schwer\",VLOOKUP(J54,'Boden DüV-Bolap'!A:AA,27,FALSE))))))","v":""}]
[51,null,null,null,null,null,null,null,null,null,null,null,null,null,null,null,null,{"$f":"IF(H55=\"\",\"\",IF(H55>39,\"E\",VLOOKUP(H55,'Boden DüV-Bolap'!A:B,2,FALSE)))","v":""},{"$f":"IF(OR(I55=\"\",F55=\"\"),\"\",IF(I55>39,\"E\",IF(F55=\"leicht\",VLOOKUP(I55,'Boden DüV-Bolap'!A:Q,7,FALSE),IF(F55=\"mittel\",VLOOKUP(I55,'Boden DüV-Bolap'!A:K,11,FALSE),IF(F55=\"schwer\",VLOOKUP(I55,'Boden DüV-Bolap'!A:R,15,FALSE))))))","v":""},{"$f":"IF(OR(J55=\"\",F55=\"\"),\"\",IF(J55>39,\"E\",IF(F55=\"leicht\",VLOOKUP(J55,'Boden DüV-Bolap'!A:AA,19,FALSE),IF(F55=\"mittel\",VLOOKUP(J55,'Boden DüV-Bolap'!A:AA,23,FALSE),IF(F55=\"schwer\",VLOOKUP(J55,'Boden DüV-Bolap'!A:AA,27,FALSE))))))","v":""}]
[52,null,null,null,null,null,null,null,null,null,null,null,null,null,null,null,null,{"$f":"IF(H56=\"\",\"\",IF(H56>39,\"E\",VLOOKUP(H56,'Boden DüV-Bolap'!A:B,2,FALSE)))","v":""},{"$f":"IF(OR(I56=\"\",F56=\"\"),\"\",IF(I56>39,\"E\",IF(F56=\"leicht\",VLOOKUP(I56,'Boden DüV-Bolap'!A:Q,7,FALSE),IF(F56=\"mittel\",VLOOKUP(I56,'Boden DüV-Bolap'!A:K,11,FALSE),IF(F56=\"schwer\",VLOOKUP(I56,'Boden DüV-Bolap'!A:R,15,FALSE))))))","v":""},{"$f":"IF(OR(J56=\"\",F56=\"\"),\"\",IF(J56>39,\"E\",IF(F56=\"leicht\",VLOOKUP(J56,'Boden DüV-Bolap'!A:AA,19,FALSE),IF(F56=\"mittel\",VLOOKUP(J56,'Boden DüV-Bolap'!A:AA,23,FALSE),IF(F56=\"schwer\",VLOOKUP(J56,'Boden DüV-Bolap'!A:AA,27,FALSE))))))","v":""}]
[53,null,null,null,null,null,null,null,null,null,null,null,null,null,null,null,null,{"$f":"IF(H57=\"\",\"\",IF(H57>39,\"E\",VLOOKUP(H57,'Boden DüV-Bolap'!A:B,2,FALSE)))","v":""},{"$f":"IF(OR(I57=\"\",F57=\"\"),\"\",IF(I57>39,\"E\",IF(F57=\"leicht\",VLOOKUP(I57,'Boden DüV-Bolap'!A:Q,7,FALSE),IF(F57=\"mittel\",VLOOKUP(I57,'Boden DüV-Bolap'!A:K,11,FALSE),IF(F57=\"schwer\",VLOOKUP(I57,'Boden DüV-Bolap'!A:R,15,FALSE))))))","v":""},{"$f":"IF(OR(J57=\"\",F57=\"\"),\"\",IF(J57>39,\"E\",IF(F57=\"leicht\",VLOOKUP(J57,'Boden DüV-Bolap'!A:AA,19,FALSE),IF(F57=\"mittel\",VLOOKUP(J57,'Boden DüV-Bolap'!A:AA,23,FALSE),IF(F57=\"schwer\",VLOOKUP(J57,'Boden DüV-Bolap'!A:AA,27,FALSE))))))","v":""}]
[54,null,null,null,null,null,null,null,null,null,null,null,null,null,null,null,null,{"$f":"IF(H58=\"\",\"\",IF(H58>39,\"E\",VLOOKUP(H58,'Boden DüV-Bolap'!A:B,2,FALSE)))","v":""},{"$f":"IF(OR(I58=\"\",F58=\"\"),\"\",IF(I58>39,\"E\",IF(F58=\"leicht\",VLOOKUP(I58,'Boden DüV-Bolap'!A:Q,7,FALSE),IF(F58=\"mittel\",VLOOKUP(I58,'Boden DüV-Bolap'!A:K,11,FALSE),IF(F58=\"schwer\",VLOOKUP(I58,'Boden DüV-Bolap'!A:R,15,FALSE))))))","v":""},{"$f":"IF(OR(J58=\"\",F58=\"\"),\"\",IF(J58>39,\"E\",IF(F58=\"leicht\",VLOOKUP(J58,'Boden DüV-Bolap'!A:AA,19,FALSE),IF(F58=\"mittel\",VLOOKUP(J58,'Boden DüV-Bolap'!A:AA,23,FALSE),IF(F58=\"schwer\",VLOOKUP(J58,'Boden DüV-Bolap'!A:AA,27,FALSE))))))","v":""}]
[55,null,null,null,null,null,null,null,null,null,null,null,null,null,null,null,null,{"$f":"IF(H59=\"\",\"\",IF(H59>39,\"E\",VLOOKUP(H59,'Boden DüV-Bolap'!A:B,2,FALSE)))","v":""},{"$f":"IF(OR(I59=\"\",F59=\"\"),\"\",IF(I59>39,\"E\",IF(F59=\"leicht\",VLOOKUP(I59,'Boden DüV-Bolap'!A:Q,7,FALSE),IF(F59=\"mittel\",VLOOKUP(I59,'Boden DüV-Bolap'!A:K,11,FALSE),IF(F59=\"schwer\",VLOOKUP(I59,'Boden DüV-Bolap'!A:R,15,FALSE))))))","v":""},{"$f":"IF(OR(J59=\"\",F59=\"\"),\"\",IF(J59>39,\"E\",IF(F59=\"leicht\",VLOOKUP(J59,'Boden DüV-Bolap'!A:AA,19,FALSE),IF(F59=\"mittel\",VLOOKUP(J59,'Boden DüV-Bolap'!A:AA,23,FALSE),IF(F59=\"schwer\",VLOOKUP(J59,'Boden DüV-Bolap'!A:AA,27,FALSE))))))","v":""}]
[56,null,null,null,null,null,null,null,null,null,null,null,null,null,null,null,null,{"$f":"IF(H60=\"\",\"\",IF(H60>39,\"E\",VLOOKUP(H60,'Boden DüV-Bolap'!A:B,2,FALSE)))","v":""},{"$f":"IF(OR(I60=\"\",F60=\"\"),\"\",IF(I60>39,\"E\",IF(F60=\"leicht\",VLOOKUP(I60,'Boden DüV-Bolap'!A:Q,7,FALSE),IF(F60=\"mittel\",VLOOKUP(I60,'Boden DüV-Bolap'!A:K,11,FALSE),IF(F60=\"schwer\",VLOOKUP(I60,'Boden DüV-Bolap'!A:R,15,FALSE))))))","v":""},{"$f":"IF(OR(J60=\"\",F60=\"\"),\"\",IF(J60>39,\"E\",IF(F60=\"leicht\",VLOOKUP(J60,'Boden DüV-Bolap'!A:AA,19,FALSE),IF(F60=\"mittel\",VLOOKUP(J60,'Boden DüV-Bolap'!A:AA,23,FALSE),IF(F60=\"schwer\",VLOOKUP(J60,'Boden DüV-Bolap'!A:AA,27,FALSE))))))","v":""}]
[57,null,null,null,null,null,null,null,null,null,null,null,null,null,null,null,null,{"$f":"IF(H61=\"\",\"\",IF(H61>39,\"E\",VLOOKUP(H61,'Boden DüV-Bolap'!A:B,2,FALSE)))","v":""},{"$f":"IF(OR(I61=\"\",F61=\"\"),\"\",IF(I61>39,\"E\",IF(F61=\"leicht\",VLOOKUP(I61,'Boden DüV-Bolap'!A:Q,7,FALSE),IF(F61=\"mittel\",VLOOKUP(I61,'Boden DüV-Bolap'!A:K,11,FALSE),IF(F61=\"schwer\",VLOOKUP(I61,'Boden DüV-Bolap'!A:R,15,FALSE))))))","v":""},{"$f":"IF(OR(J61=\"\",F61=\"\"),\"\",IF(J61>39,\"E\",IF(F61=\"leicht\",VLOOKUP(J61,'Boden DüV-Bolap'!A:AA,19,FALSE),IF(F61=\"mittel\",VLOOKUP(J61,'Boden DüV-Bolap'!A:AA,23,FALSE),IF(F61=\"schwer\",VLOOKUP(J61,'Boden DüV-Bolap'!A:AA,27,FALSE))))))","v":""}]
[58,null,null,null,null,null,null,null,null,null,null,null,null,null,null,null,null,{"$f":"IF(H62=\"\",\"\",IF(H62>39,\"E\",VLOOKUP(H62,'Boden DüV-Bolap'!A:B,2,FALSE)))","v":""},{"$f":"IF(OR(I62=\"\",F62=\"\"),\"\",IF(I62>39,\"E\",IF(F62=\"leicht\",VLOOKUP(I62,'Boden DüV-Bolap'!A:Q,7,FALSE),IF(F62=\"mittel\",VLOOKUP(I62,'Boden DüV-Bolap'!A:K,11,FALSE),IF(F62=\"schwer\",VLOOKUP(I62,'Boden DüV-Bolap'!A:R,15,FALSE))))))","v":""},{"$f":"IF(OR(J62=\"\",F62=\"\"),\"\",IF(J62>39,\"E\",IF(F62=\"leicht\",VLOOKUP(J62,'Boden DüV-Bolap'!A:AA,19,FALSE),IF(F62=\"mittel\",VLOOKUP(J62,'Boden DüV-Bolap'!A:AA,23,FALSE),IF(F62=\"schwer\",VLOOKUP(J62,'Boden DüV-Bolap'!A:AA,27,FALSE))))))","v":""}]
[59,null,null,null,null,null,null,null,null,null,null,null,null,null,null,null,null,{"$f":"IF(H63=\"\",\"\",IF(H63>39,\"E\",VLOOKUP(H63,'Boden DüV-Bolap'!A:B,2,FALSE)))","v":""},{"$f":"IF(OR(I63=\"\",F63=\"\"),\"\",IF(I63>39,\"E\",IF(F63=\"leicht\",VLOOKUP(I63,'Boden DüV-Bolap'!A:Q,7,FALSE),IF(F63=\"mittel\",VLOOKUP(I63,'Boden DüV-Bolap'!A:K,11,FALSE),IF(F63=\"schwer\",VLOOKUP(I63,'Boden DüV-Bolap'!A:R,15,FALSE))))))","v":""},{"$f":"IF(OR(J63=\"\",F63=\"\"),\"\",IF(J63>39,\"E\",IF(F63=\"leicht\",VLOOKUP(J63,'Boden DüV-Bolap'!A:AA,19,FALSE),IF(F63=\"mittel\",VLOOKUP(J63,'Boden DüV-Bolap'!A:AA,23,FALSE),IF(F63=\"schwer\",VLOOKUP(J63,'Boden DüV-Bolap'!A:AA,27,FALSE))))))","v":""}]
[60,null,null,null,null,null,null,null,null,null,null,null,null,null,null,null,null,{"$f":"IF(H64=\"\",\"\",IF(H64>39,\"E\",VLOOKUP(H64,'Boden DüV-Bolap'!A:B,2,FALSE)))","v":""},{"$f":"IF(OR(I64=\"\",F64=\"\"),\"\",IF(I64>39,\"E\",IF(F64=\"leicht\",VLOOKUP(I64,'Boden DüV-Bolap'!A:Q,7,FALSE),IF(F64=\"mittel\",VLOOKUP(I64,'Boden DüV-Bolap'!A:K,11,FALSE),IF(F64=\"schwer\",VLOOKUP(I64,'Boden DüV-Bolap'!A:R,15,FALSE))))))","v":""},{"$f":"IF(OR(J64=\"\",F64=\"\"),\"\",IF(J64>39,\"E\",IF(F64=\"leicht\",VLOOKUP(J64,'Boden DüV-Bolap'!A:AA,19,FALSE),IF(F64=\"mittel\",VLOOKUP(J64,'Boden DüV-Bolap'!A:AA,23,FALSE),IF(F64=\"schwer\",VLOOKUP(J64,'Boden DüV-Bolap'!A:AA,27,FALSE))))))","v":""}]
[61,null,null,null,null,null,null,null,null,null,null,null,null,null,null,null,null,{"$f":"IF(H65=\"\",\"\",IF(H65>39,\"E\",VLOOKUP(H65,'Boden DüV-Bolap'!A:B,2,FALSE)))","v":""},{"$f":"IF(OR(I65=\"\",F65=\"\"),\"\",IF(I65>39,\"E\",IF(F65=\"leicht\",VLOOKUP(I65,'Boden DüV-Bolap'!A:Q,7,FALSE),IF(F65=\"mittel\",VLOOKUP(I65,'Boden DüV-Bolap'!A:K,11,FALSE),IF(F65=\"schwer\",VLOOKUP(I65,'Boden DüV-Bolap'!A:R,15,FALSE))))))","v":""},{"$f":"IF(OR(J65=\"\",F65=\"\"),\"\",IF(J65>39,\"E\",IF(F65=\"leicht\",VLOOKUP(J65,'Boden DüV-Bolap'!A:AA,19,FALSE),IF(F65=\"mittel\",VLOOKUP(J65,'Boden DüV-Bolap'!A:AA,23,FALSE),IF(F65=\"schwer\",VLOOKUP(J65,'Boden DüV-Bolap'!A:AA,27,FALSE))))))","v":""}]
[62,null,null,null,null,null,null,null,null,null,null,null,null,null,null,null,null,{"$f":"IF(H66=\"\",\"\",IF(H66>39,\"E\",VLOOKUP(H66,'Boden DüV-Bolap'!A:B,2,FALSE)))","v":""},{"$f":"IF(OR(I66=\"\",F66=\"\"),\"\",IF(I66>39,\"E\",IF(F66=\"leicht\",VLOOKUP(I66,'Boden DüV-Bolap'!A:Q,7,FALSE),IF(F66=\"mittel\",VLOOKUP(I66,'Boden DüV-Bolap'!A:K,11,FALSE),IF(F66=\"schwer\",VLOOKUP(I66,'Boden DüV-Bolap'!A:R,15,FALSE))))))","v":""},{"$f":"IF(OR(J66=\"\",F66=\"\"),\"\",IF(J66>39,\"E\",IF(F66=\"leicht\",VLOOKUP(J66,'Boden DüV-Bolap'!A:AA,19,FALSE),IF(F66=\"mittel\",VLOOKUP(J66,'Boden DüV-Bolap'!A:AA,23,FALSE),IF(F66=\"schwer\",VLOOKUP(J66,'Boden DüV-Bolap'!A:AA,27,FALSE))))))","v":""}]
[63,null,null,null,null,null,null,null,null,null,null,null,null,null,null,null,null,{"$f":"IF(H67=\"\",\"\",IF(H67>39,\"E\",VLOOKUP(H67,'Boden DüV-Bolap'!A:B,2,FALSE)))","v":""},{"$f":"IF(OR(I67=\"\",F67=\"\"),\"\",IF(I67>39,\"E\",IF(F67=\"leicht\",VLOOKUP(I67,'Boden DüV-Bolap'!A:Q,7,FALSE),IF(F67=\"mittel\",VLOOKUP(I67,'Boden DüV-Bolap'!A:K,11,FALSE),IF(F67=\"schwer\",VLOOKUP(I67,'Boden DüV-Bolap'!A:R,15,FALSE))))))","v":""},{"$f":"IF(OR(J67=\"\",F67=\"\"),\"\",IF(J67>39,\"E\",IF(F67=\"leicht\",VLOOKUP(J67,'Boden DüV-Bolap'!A:AA,19,FALSE),IF(F67=\"mittel\",VLOOKUP(J67,'Boden DüV-Bolap'!A:AA,23,FALSE),IF(F67=\"schwer\",VLOOKUP(J67,'Boden DüV-Bolap'!A:AA,27,FALSE))))))","v":""}]
[64,null,null,null,null,null,null,null,null,null,null,null,null,null,null,null,null,{"$f":"IF(H68=\"\",\"\",IF(H68>39,\"E\",VLOOKUP(H68,'Boden DüV-Bolap'!A:B,2,FALSE)))","v":""},{"$f":"IF(OR(I68=\"\",F68=\"\"),\"\",IF(I68>39,\"E\",IF(F68=\"leicht\",VLOOKUP(I68,'Boden DüV-Bolap'!A:Q,7,FALSE),IF(F68=\"mittel\",VLOOKUP(I68,'Boden DüV-Bolap'!A:K,11,FALSE),IF(F68=\"schwer\",VLOOKUP(I68,'Boden DüV-Bolap'!A:R,15,FALSE))))))","v":""},{"$f":"IF(OR(J68=\"\",F68=\"\"),\"\",IF(J68>39,\"E\",IF(F68=\"leicht\",VLOOKUP(J68,'Boden DüV-Bolap'!A:AA,19,FALSE),IF(F68=\"mittel\",VLOOKUP(J68,'Boden DüV-Bolap'!A:AA,23,FALSE),IF(F68=\"schwer\",VLOOKUP(J68,'Boden DüV-Bolap'!A:AA,27,FALSE))))))","v":""}]
[65,null,null,null,null,null,null,null,null,null,null,null,null,null,null,null,null,{"$f":"IF(H69=\"\",\"\",IF(H69>39,\"E\",VLOOKUP(H69,'Boden DüV-Bolap'!A:B,2,FALSE)))","v":""},{"$f":"IF(OR(I69=\"\",F69=\"\"),\"\",IF(I69>39,\"E\",IF(F69=\"leicht\",VLOOKUP(I69,'Boden DüV-Bolap'!A:Q,7,FALSE),IF(F69=\"mittel\",VLOOKUP(I69,'Boden DüV-Bolap'!A:K,11,FALSE),IF(F69=\"schwer\",VLOOKUP(I69,'Boden DüV-Bolap'!A:R,15,FALSE))))))","v":""},{"$f":"IF(OR(J69=\"\",F69=\"\"),\"\",IF(J69>39,\"E\",IF(F69=\"leicht\",VLOOKUP(J69,'Boden DüV-Bolap'!A:AA,19,FALSE),IF(F69=\"mittel\",VLOOKUP(J69,'Boden DüV-Bolap'!A:AA,23,FALSE),IF(F69=\"schwer\",VLOOKUP(J69,'Boden DüV-Bolap'!A:AA,27,FALSE))))))","v":""}]
[66,null,null,null,null,null,null,null,null,null,null,null,null,null,null,null,null,{"$f":"IF(H70=\"\",\"\",IF(H70>39,\"E\",VLOOKUP(H70,'Boden DüV-Bolap'!A:B,2,FALSE)))","v":""},{"$f":"IF(OR(I70=\"\",F70=\"\"),\"\",IF(I70>39,\"E\",IF(F70=\"leicht\",VLOOKUP(I70,'Boden DüV-Bolap'!A:Q,7,FALSE),IF(F70=\"mittel\",VLOOKUP(I70,'Boden DüV-Bolap'!A:K,11,FALSE),IF(F70=\"schwer\",VLOOKUP(I70,'Boden DüV-Bolap'!A:R,15,FALSE))))))","v":""},{"$f":"IF(OR(J70=\"\",F70=\"\"),\"\",IF(J70>39,\"E\",IF(F70=\"leicht\",VLOOKUP(J70,'Boden DüV-Bolap'!A:AA,19,FALSE),IF(F70=\"mittel\",VLOOKUP(J70,'Boden DüV-Bolap'!A:AA,23,FALSE),IF(F70=\"schwer\",VLOOKUP(J70,'Boden DüV-Bolap'!A:AA,27,FALSE))))))","v":""}]
[67,null,null,null,null,null,null,null,null,null,null,null,null,null,null,null,null,{"$f":"IF(H71=\"\",\"\",IF(H71>39,\"E\",VLOOKUP(H71,'Boden DüV-Bolap'!A:B,2,FALSE)))","v":""},{"$f":"IF(OR(I71=\"\",F71=\"\"),\"\",IF(I71>39,\"E\",IF(F71=\"leicht\",VLOOKUP(I71,'Boden DüV-Bolap'!A:Q,7,FALSE),IF(F71=\"mittel\",VLOOKUP(I71,'Boden DüV-Bolap'!A:K,11,FALSE),IF(F71=\"schwer\",VLOOKUP(I71,'Boden DüV-Bolap'!A:R,15,FALSE))))))","v":""},{"$f":"IF(OR(J71=\"\",F71=\"\"),\"\",IF(J71>39,\"E\",IF(F71=\"leicht\",VLOOKUP(J71,'Boden DüV-Bolap'!A:AA,19,FALSE),IF(F71=\"mittel\",VLOOKUP(J71,'Boden DüV-Bolap'!A:AA,23,FALSE),IF(F71=\"schwer\",VLOOKUP(J71,'Boden DüV-Bolap'!A:AA,27,FALSE))))))","v":""}]
[68,null,null,null,null,null,null,null,null,null,null,null,null,null,null,null,null,{"$f":"IF(H72=\"\",\"\",IF(H72>39,\"E\",VLOOKUP(H72,'Boden DüV-Bolap'!A:B,2,FALSE)))","v":""},{"$f":"IF(OR(I72=\"\",F72=\"\"),\"\",IF(I72>39,\"E\",IF(F72=\"leicht\",VLOOKUP(I72,'Boden DüV-Bolap'!A:Q,7,FALSE),IF(F72=\"mittel\",VLOOKUP(I72,'Boden DüV-Bolap'!A:K,11,FALSE),IF(F72=\"schwer\",VLOOKUP(I72,'Boden DüV-Bolap'!A:R,15,FALSE))))))","v":""},{"$f":"IF(OR(J72=\"\",F72=\"\"),\"\",IF(J72>39,\"E\",IF(F72=\"leicht\",VLOOKUP(J72,'Boden DüV-Bolap'!A:AA,19,FALSE),IF(F72=\"mittel\",VLOOKUP(J72,'Boden DüV-Bolap'!A:AA,23,FALSE),IF(F72=\"schwer\",VLOOKUP(J72,'Boden DüV-Bolap'!A:AA,27,FALSE))))))","v":""}]
[69,null,null,null,null,null,null,null,null,null,null,null,null,null,null,null,null,{"$f":"IF(H73=\"\",\"\",IF(H73>39,\"E\",VLOOKUP(H73,'Boden DüV-Bolap'!A:B,2,FALSE)))","v":""},{"$f":"IF(OR(I73=\"\",F73=\"\"),\"\",IF(I73>39,\"E\",IF(F73=\"leicht\",VLOOKUP(I73,'Boden DüV-Bolap'!A:Q,7,FALSE),IF(F73=\"mittel\",VLOOKUP(I73,'Boden DüV-Bolap'!A:K,11,FALSE),IF(F73=\"schwer\",VLOOKUP(I73,'Boden DüV-Bolap'!A:R,15,FALSE))))))","v":""},{"$f":"IF(OR(J73=\"\",F73=\"\"),\"\",IF(J73>39,\"E\",IF(F73=\"leicht\",VLOOKUP(J73,'Boden DüV-Bolap'!A:AA,19,FALSE),IF(F73=\"mittel\",VLOOKUP(J73,'Boden DüV-Bolap'!A:AA,23,FALSE),IF(F73=\"schwer\",VLOOKUP(J73,'Boden DüV-Bolap'!A:AA,27,FALSE))))))","v":""}]
[70,null,null,null,null,null,null,null,null,null,null,null,null,null,null,null,null,{"$f":"IF(H74=\"\",\"\",IF(H74>39,\"E\",VLOOKUP(H74,'Boden DüV-Bolap'!A:B,2,FALSE)))","v":""},{"$f":"IF(OR(I74=\"\",F74=\"\"),\"\",IF(I74>39,\"E\",IF(F74=\"leicht\",VLOOKUP(I74,'Boden DüV-Bolap'!A:Q,7,FALSE),IF(F74=\"mittel\",VLOOKUP(I74,'Boden DüV-Bolap'!A:K,11,FALSE),IF(F74=\"schwer\",VLOOKUP(I74,'Boden DüV-Bolap'!A:R,15,FALSE))))))","v":""},{"$f":"IF(OR(J74=\"\",F74=\"\"),\"\",IF(J74>39,\"E\",IF(F74=\"leicht\",VLOOKUP(J74,'Boden DüV-Bolap'!A:AA,19,FALSE),IF(F74=\"mittel\",VLOOKUP(J74,'Boden DüV-Bolap'!A:AA,23,FALSE),IF(F74=\"schwer\",VLOOKUP(J74,'Boden DüV-Bolap'!A:AA,27,FALSE))))))","v":""}]
[71,null,null,null,null,null,null,null,null,null,null,null,null,null,null,null,null,{"$f":"IF(H75=\"\",\"\",IF(H75>39,\"E\",VLOOKUP(H75,'Boden DüV-Bolap'!A:B,2,FALSE)))","v":""},{"$f":"IF(OR(I75=\"\",F75=\"\"),\"\",IF(I75>39,\"E\",IF(F75=\"leicht\",VLOOKUP(I75,'Boden DüV-Bolap'!A:Q,7,FALSE),IF(F75=\"mittel\",VLOOKUP(I75,'Boden DüV-Bolap'!A:K,11,FALSE),IF(F75=\"schwer\",VLOOKUP(I75,'Boden DüV-Bolap'!A:R,15,FALSE))))))","v":""},{"$f":"IF(OR(J75=\"\",F75=\"\"),\"\",IF(J75>39,\"E\",IF(F75=\"leicht\",VLOOKUP(J75,'Boden DüV-Bolap'!A:AA,19,FALSE),IF(F75=\"mittel\",VLOOKUP(J75,'Boden DüV-Bolap'!A:AA,23,FALSE),IF(F75=\"schwer\",VLOOKUP(J75,'Boden DüV-Bolap'!A:AA,27,FALSE))))))","v":""}]
[72,null,null,null,null,null,null,null,null,null,null,null,null,null,null,null,null,{"$f":"IF(H76=\"\",\"\",IF(H76>39,\"E\",VLOOKUP(H76,'Boden DüV-Bolap'!A:B,2,FALSE)))","v":""},{"$f":"IF(OR(I76=\"\",F76=\"\"),\"\",IF(I76>39,\"E\",IF(F76=\"leicht\",VLOOKUP(I76,'Boden DüV-Bolap'!A:Q,7,FALSE),IF(F76=\"mittel\",VLOOKUP(I76,'Boden DüV-Bolap'!A:K,11,FALSE),IF(F76=\"schwer\",VLOOKUP(I76,'Boden DüV-Bolap'!A:R,15,FALSE))))))","v":""},{"$f":"IF(OR(J76=\"\",F76=\"\"),\"\",IF(J76>39,\"E\",IF(F76=\"leicht\",VLOOKUP(J76,'Boden DüV-Bolap'!A:AA,19,FALSE),IF(F76=\"mittel\",VLOOKUP(J76,'Boden DüV-Bolap'!A:AA,23,FALSE),IF(F76=\"schwer\",VLOOKUP(J76,'Boden DüV-Bolap'!A:AA,27,FALSE))))))","v":""}]
[73,null,null,null,null,null,null,null,null,null,null,null,null,null,null,null,null,{"$f":"IF(H77=\"\",\"\",IF(H77>39,\"E\",VLOOKUP(H77,'Boden DüV-Bolap'!A:B,2,FALSE)))","v":""},{"$f":"IF(OR(I77=\"\",F77=\"\"),\"\",IF(I77>39,\"E\",IF(F77=\"leicht\",VLOOKUP(I77,'Boden DüV-Bolap'!A:Q,7,FALSE),IF(F77=\"mittel\",VLOOKUP(I77,'Boden DüV-Bolap'!A:K,11,FALSE),IF(F77=\"schwer\",VLOOKUP(I77,'Boden DüV-Bolap'!A:R,15,FALSE))))))","v":""},{"$f":"IF(OR(J77=\"\",F77=\"\"),\"\",IF(J77>39,\"E\",IF(F77=\"leicht\",VLOOKUP(J77,'Boden DüV-Bolap'!A:AA,19,FALSE),IF(F77=\"mittel\",VLOOKUP(J77,'Boden DüV-Bolap'!A:AA,23,FALSE),IF(F77=\"schwer\",VLOOKUP(J77,'Boden DüV-Bolap'!A:AA,27,FALSE))))))","v":""}]
[74,null,null,null,null,null,null,null,null,null,null,null,null,null,null,null,null,{"$f":"IF(H78=\"\",\"\",IF(H78>39,\"E\",VLOOKUP(H78,'Boden DüV-Bolap'!A:B,2,FALSE)))","v":""},{"$f":"IF(OR(I78=\"\",F78=\"\"),\"\",IF(I78>39,\"E\",IF(F78=\"leicht\",VLOOKUP(I78,'Boden DüV-Bolap'!A:Q,7,FALSE),IF(F78=\"mittel\",VLOOKUP(I78,'Boden DüV-Bolap'!A:K,11,FALSE),IF(F78=\"schwer\",VLOOKUP(I78,'Boden DüV-Bolap'!A:R,15,FALSE))))))","v":""},{"$f":"IF(OR(J78=\"\",F78=\"\"),\"\",IF(J78>39,\"E\",IF(F78=\"leicht\",VLOOKUP(J78,'Boden DüV-Bolap'!A:AA,19,FALSE),IF(F78=\"mittel\",VLOOKUP(J78,'Boden DüV-Bolap'!A:AA,23,FALSE),IF(F78=\"schwer\",VLOOKUP(J78,'Boden DüV-Bolap'!A:AA,27,FALSE))))))","v":""}]
[75,null,null,null,null,null,null,null,null,null,null,null,null,null,null,null,null,{"$f":"IF(H79=\"\",\"\",IF(H79>39,\"E\",VLOOKUP(H79,'Boden DüV-Bolap'!A:B,2,FALSE)))","v":""},{"$f":"IF(OR(I79=\"\",F79=\"\"),\"\",IF(I79>39,\"E\",IF(F79=\"leicht\",VLOOKUP(I79,'Boden DüV-Bolap'!A:Q,7,FALSE),IF(F79=\"mittel\",VLOOKUP(I79,'Boden DüV-Bolap'!A:K,11,FALSE),IF(F79=\"schwer\",VLOOKUP(I79,'Boden DüV-Bolap'!A:R,15,FALSE))))))","v":""},{"$f":"IF(OR(J79=\"\",F79=\"\"),\"\",IF(J79>39,\"E\",IF(F79=\"leicht\",VLOOKUP(J79,'Boden DüV-Bolap'!A:AA,19,FALSE),IF(F79=\"mittel\",VLOOKUP(J79,'Boden DüV-Bolap'!A:AA,23,FALSE),IF(F79=\"schwer\",VLOOKUP(J79,'Boden DüV-Bolap'!A:AA,27,FALSE))))))","v":""}]
[76,null,null,null,null,null,null,null,null,null,null,null,null,null,null,null,null,{"$f":"IF(H80=\"\",\"\",IF(H80>39,\"E\",VLOOKUP(H80,'Boden DüV-Bolap'!A:B,2,FALSE)))","v":""},{"$f":"IF(OR(I80=\"\",F80=\"\"),\"\",IF(I80>39,\"E\",IF(F80=\"leicht\",VLOOKUP(I80,'Boden DüV-Bolap'!A:Q,7,FALSE),IF(F80=\"mittel\",VLOOKUP(I80,'Boden DüV-Bolap'!A:K,11,FALSE),IF(F80=\"schwer\",VLOOKUP(I80,'Boden DüV-Bolap'!A:R,15,FALSE))))))","v":""},{"$f":"IF(OR(J80=\"\",F80=\"\"),\"\",IF(J80>39,\"E\",IF(F80=\"leicht\",VLOOKUP(J80,'Boden DüV-Bolap'!A:AA,19,FALSE),IF(F80=\"mittel\",VLOOKUP(J80,'Boden DüV-Bolap'!A:AA,23,FALSE),IF(F80=\"schwer\",VLOOKUP(J80,'Boden DüV-Bolap'!A:AA,27,FALSE))))))","v":""}]
[77,null,null,null,null,null,null,null,null,null,null,null,null,null,null,null,null,{"$f":"IF(H81=\"\",\"\",IF(H81>39,\"E\",VLOOKUP(H81,'Boden DüV-Bolap'!A:B,2,FALSE)))","v":""},{"$f":"IF(OR(I81=\"\",F81=\"\"),\"\",IF(I81>39,\"E\",IF(F81=\"leicht\",VLOOKUP(I81,'Boden DüV-Bolap'!A:Q,7,FALSE),IF(F81=\"mittel\",VLOOKUP(I81,'Boden DüV-Bolap'!A:K,11,FALSE),IF(F81=\"schwer\",VLOOKUP(I81,'Boden DüV-Bolap'!A:R,15,FALSE))))))","v":""},{"$f":"IF(OR(J81=\"\",F81=\"\"),\"\",IF(J81>39,\"E\",IF(F81=\"leicht\",VLOOKUP(J81,'Boden DüV-Bolap'!A:AA,19,FALSE),IF(F81=\"mittel\",VLOOKUP(J81,'Boden DüV-Bolap'!A:AA,23,FALSE),IF(F81=\"schwer\",VLOOKUP(J81,'Boden DüV-Bolap'!A:AA,27,FALSE))))))","v":""}]
[78,null,null,null,null,null,null,null,null,null,null,null,null,null,null,null,null,{"$f":"IF(H82=\"\",\"\",IF(H82>39,\"E\",VLOOKUP(H82,'Boden DüV-Bolap'!A:B,2,FALSE)))","v":""},{"$f":"IF(OR(I82=\"\",F82=\"\"),\"\",IF(I82>39,\"E\",IF(F82=\"leicht\",VLOOKUP(I82,'Boden DüV-Bolap'!A:Q,7,FALSE),IF(F82=\"mittel\",VLOOKUP(I82,'Boden DüV-Bolap'!A:K,11,FALSE),IF(F82=\"schwer\",VLOOKUP(I82,'Boden DüV-Bolap'!A:R,15,FALSE))))))","v":""},{"$f":"IF(OR(J82=\"\",F82=\"\"),\"\",IF(J82>39,\"E\",IF(F82=\"leicht\",VLOOKUP(J82,'Boden DüV-Bolap'!A:AA,19,FALSE),IF(F82=\"mittel\",VLOOKUP(J82,'Boden DüV-Bolap'!A:AA,23,FALSE),IF(F82=\"schwer\",VLOOKUP(J82,'Boden DüV-Bolap'!A:AA,27,FALSE))))))","v":""}]
[79,null,null,null,null,null,null,null,null,null,null,null,null,null,null,null,null,{"$f":"IF(H83=\"\",\"\",IF(H83>39,\"E\",VLOOKUP(H83,'Boden DüV-Bolap'!A:B,2,FALSE)))","v":""},{"$f":"IF(OR(I83=\"\",F83=\"\"),\"\",IF(I83>39,\"E\",IF(F83=\"leicht\",VLOOKUP(I83,'Boden DüV-Bolap'!A:Q,7,FALSE),IF(F83=\"mittel\",VLOOKUP(I83,'Boden DüV-Bolap'!A:K,11,FALSE),IF(F83=\"schwer\",VLOOKUP(I83,'Boden DüV-Bolap'!A:R,15,FALSE))))))","v":""},{"$f":"IF(OR(J83=\"\",F83=\"\"),\"\",IF(J83>39,\"E\",IF(F83=\"leicht\",VLOOKUP(J83,'Boden DüV-Bolap'!A:AA,19,FALSE),IF(F83=\"mittel\",VLOOKUP(J83,'Boden DüV-Bolap'!A:AA,23,FALSE),IF(F83=\"schwer\",VLOOKUP(J83,'Boden DüV-Bolap'!A:AA,27,FALSE))))))","v":""}]
[80,null,null,null,null,null,null,null,null,null,null,null,null,null,null,null,null,{"$f":"IF(H84=\"\",\"\",IF(H84>39,\"E\",VLOOKUP(H84,'Boden DüV-Bolap'!A:B,2,FALSE)))","v":""},{"$f":"IF(OR(I84=\"\",F84=\"\"),\"\",IF(I84>39,\"E\",IF(F84=\"leicht\",VLOOKUP(I84,'Boden DüV-Bolap'!A:Q,7,FALSE),IF(F84=\"mittel\",VLOOKUP(I84,'Boden DüV-Bolap'!A:K,11,FALSE),IF(F84=\"schwer\",VLOOKUP(I84,'Boden DüV-Bolap'!A:R,15,FALSE))))))","v":""},{"$f":"IF(OR(J84=\"\",F84=\"\"),\"\",IF(J84>39,\"E\",IF(F84=\"leicht\",VLOOKUP(J84,'Boden DüV-Bolap'!A:AA,19,FALSE),IF(F84=\"mittel\",VLOOKUP(J84,'Boden DüV-Bolap'!A:AA,23,FALSE),IF(F84=\"schwer\",VLOOKUP(J84,'Boden DüV-Bolap'!A:AA,27,FALSE))))))","v":""}]
[81,null,null,null,null,null,null,null,null,null,null,null,null,null,null,null,null,{"$f":"IF(H85=\"\",\"\",IF(H85>39,\"E\",VLOOKUP(H85,'Boden DüV-Bolap'!A:B,2,FALSE)))","v":""},{"$f":"IF(OR(I85=\"\",F85=\"\"),\"\",IF(I85>39,\"E\",IF(F85=\"leicht\",VLOOKUP(I85,'Boden DüV-Bolap'!A:Q,7,FALSE),IF(F85=\"mittel\",VLOOKUP(I85,'Boden DüV-Bolap'!A:K,11,FALSE),IF(F85=\"schwer\",VLOOKUP(I85,'Boden DüV-Bolap'!A:R,15,FALSE))))))","v":""},{"$f":"IF(OR(J85=\"\",F85=\"\"),\"\",IF(J85>39,\"E\",IF(F85=\"leicht\",VLOOKUP(J85,'Boden DüV-Bolap'!A:AA,19,FALSE),IF(F85=\"mittel\",VLOOKUP(J85,'Boden DüV-Bolap'!A:AA,23,FALSE),IF(F85=\"schwer\",VLOOKUP(J85,'Boden DüV-Bolap'!A:AA,27,FALSE))))))","v":""}]
[82,null,null,null,null,null,null,null,null,null,null,null,null,null,null,null,null,{"$f":"IF(H86=\"\",\"\",IF(H86>39,\"E\",VLOOKUP(H86,'Boden DüV-Bolap'!A:B,2,FALSE)))","v":""},{"$f":"IF(OR(I86=\"\",F86=\"\"),\"\",IF(I86>39,\"E\",IF(F86=\"leicht\",VLOOKUP(I86,'Boden DüV-Bolap'!A:Q,7,FALSE),IF(F86=\"mittel\",VLOOKUP(I86,'Boden DüV-Bolap'!A:K,11,FALSE),IF(F86=\"schwer\",VLOOKUP(I86,'Boden DüV-Bolap'!A:R,15,FALSE))))))","v":""},{"$f":"IF(OR(J86=\"\",F86=\"\"),\"\",IF(J86>39,\"E\",IF(F86=\"leicht\",VLOOKUP(J86,'Boden DüV-Bolap'!A:AA,19,FALSE),IF(F86=\"mittel\",VLOOKUP(J86,'Boden DüV-Bolap'!A:AA,23,FALSE),IF(F86=\"schwer\",VLOOKUP(J86,'Boden DüV-Bolap'!A:AA,27,FALSE))))))","v":""}]
[83,null,null,null,null,null,null,null,null,null,null,null,null,null,null,null,null,{"$f":"IF(H87=\"\",\"\",IF(H87>39,\"E\",VLOOKUP(H87,'Boden DüV-Bolap'!A:B,2,FALSE)))","v":""},{"$f":"IF(OR(I87=\"\",F87=\"\"),\"\",IF(I87>39,\"E\",IF(F87=\"leicht\",VLOOKUP(I87,'Boden DüV-Bolap'!A:Q,7,FALSE),IF(F87=\"mittel\",VLOOKUP(I87,'Boden DüV-Bolap'!A:K,11,FALSE),IF(F87=\"schwer\",VLOOKUP(I87,'Boden DüV-Bolap'!A:R,15,FALSE))))))","v":""},{"$f":"IF(OR(J87=\"\",F87=\"\"),\"\",IF(J87>39,\"E\",IF(F87=\"leicht\",VLOOKUP(J87,'Boden DüV-Bolap'!A:AA,19,FALSE),IF(F87=\"mittel\",VLOOKUP(J87,'Boden DüV-Bolap'!A:AA,23,FALSE),IF(F87=\"schwer\",VLOOKUP(J87,'Boden DüV-Bolap'!A:AA,27,FALSE))))))","v":""}]
[84,null,null,null,null,null,null,null,null,null,null,null,null,null,null,null,null,{"$f":"IF(H88=\"\",\"\",IF(H88>39,\"E\",VLOOKUP(H88,'Boden DüV-Bolap'!A:B,2,FALSE)))","v":""},{"$f":"IF(OR(I88=\"\",F88=\"\"),\"\",IF(I88>39,\"E\",IF(F88=\"leicht\",VLOOKUP(I88,'Boden DüV-Bolap'!A:Q,7,FALSE),IF(F88=\"mittel\",VLOOKUP(I88,'Boden DüV-Bolap'!A:K,11,FALSE),IF(F88=\"schwer\",VLOOKUP(I88,'Boden DüV-Bolap'!A:R,15,FALSE))))))","v":""},{"$f":"IF(OR(J88=\"\",F88=\"\"),\"\",IF(J88>39,\"E\",IF(F88=\"leicht\",VLOOKUP(J88,'Boden DüV-Bolap'!A:AA,19,FALSE),IF(F88=\"mittel\",VLOOKUP(J88,'Boden DüV-Bolap'!A:AA,23,FALSE),IF(F88=\"schwer\",VLOOKUP(J88,'Boden DüV-Bolap'!A:AA,27,FALSE))))))","v":""}]
[85,null,null,null,null,null,null,null,null,null,null,null,null,null,null,null,null,{"$f":"IF(H89=\"\",\"\",IF(H89>39,\"E\",VLOOKUP(H89,'Boden DüV-Bolap'!A:B,2,FALSE)))","v":""},{"$f":"IF(OR(I89=\"\",F89=\"\"),\"\",IF(I89>39,\"E\",IF(F89=\"leicht\",VLOOKUP(I89,'Boden DüV-Bolap'!A:Q,7,FALSE),IF(F89=\"mittel\",VLOOKUP(I89,'Boden DüV-Bolap'!A:K,11,FALSE),IF(F89=\"schwer\",VLOOKUP(I89,'Boden DüV-Bolap'!A:R,15,FALSE))))))","v":""},{"$f":"IF(OR(J89=\"\",F89=\"\"),\"\",IF(J89>39,\"E\",IF(F89=\"leicht\",VLOOKUP(J89,'Boden DüV-Bolap'!A:AA,19,FALSE),IF(F89=\"mittel\",VLOOKUP(J89,'Boden DüV-Bolap'!A:AA,23,FALSE),IF(F89=\"schwer\",VLOOKUP(J89,'Boden DüV-Bolap'!A:AA,27,FALSE))))))","v":""}]
[86,null,null,null,null,null,null,null,null,null,null,null,null,null,null,null,null,{"$f":"IF(H90=\"\",\"\",IF(H90>39,\"E\",VLOOKUP(H90,'Boden DüV-Bolap'!A:B,2,FALSE)))","v":""},{"$f":"IF(OR(I90=\"\",F90=\"\"),\"\",IF(I90>39,\"E\",IF(F90=\"leicht\",VLOOKUP(I90,'Boden DüV-Bolap'!A:Q,7,FALSE),IF(F90=\"mittel\",VLOOKUP(I90,'Boden DüV-Bolap'!A:K,11,FALSE),IF(F90=\"schwer\",VLOOKUP(I90,'Boden DüV-Bolap'!A:R,15,FALSE))))))","v":""},{"$f":"IF(OR(J90=\"\",F90=\"\"),\"\",IF(J90>39,\"E\",IF(F90=\"leicht\",VLOOKUP(J90,'Boden DüV-Bolap'!A:AA,19,FALSE),IF(F90=\"mittel\",VLOOKUP(J90,'Boden DüV-Bolap'!A:AA,23,FALSE),IF(F90=\"schwer\",VLOOKUP(J90,'Boden DüV-Bolap'!A:AA,27,FALSE))))))","v":""}]
[87,null,null,null,null,null,null,null,null,null,null,null,null,null,null,null,null,{"$f":"IF(H91=\"\",\"\",IF(H91>39,\"E\",VLOOKUP(H91,'Boden DüV-Bolap'!A:B,2,FALSE)))","v":""},{"$f":"IF(OR(I91=\"\",F91=\"\"),\"\",IF(I91>39,\"E\",IF(F91=\"leicht\",VLOOKUP(I91,'Boden DüV-Bolap'!A:Q,7,FALSE),IF(F91=\"mittel\",VLOOKUP(I91,'Boden DüV-Bolap'!A:K,11,FALSE),IF(F91=\"schwer\",VLOOKUP(I91,'Boden DüV-Bolap'!A:R,15,FALSE))))))","v":""},{"$f":"IF(OR(J91=\"\",F91=\"\"),\"\",IF(J91>39,\"E\",IF(F91=\"leicht\",VLOOKUP(J91,'Boden DüV-Bolap'!A:AA,19,FALSE),IF(F91=\"mittel\",VLOOKUP(J91,'Boden DüV-Bolap'!A:AA,23,FALSE),IF(F91=\"schwer\",VLOOKUP(J91,'Boden DüV-Bolap'!A:AA,27,FALSE))))))","v":""}]
[88,null,null,null,null,null,null,null,null,null,null,null,null,null,null,null,null,{"$f":"IF(H92=\"\",\"\",IF(H92>39,\"E\",VLOOKUP(H92,'Boden DüV-Bolap'!A:B,2,FALSE)))","v":""},{"$f":"IF(OR(I92=\"\",F92=\"\"),\"\",IF(I92>39,\"E\",IF(F92=\"leicht\",VLOOKUP(I92,'Boden DüV-Bolap'!A:Q,7,FALSE),IF(F92=\"mittel\",VLOOKUP(I92,'Boden DüV-Bolap'!A:K,11,FALSE),IF(F92=\"schwer\",VLOOKUP(I92,'Boden DüV-Bolap'!A:R,15,FALSE))))))","v":""},{"$f":"IF(OR(J92=\"\",F92=\"\"),\"\",IF(J92>39,\"E\",IF(F92=\"leicht\",VLOOKUP(J92,'Boden DüV-Bolap'!A:AA,19,FALSE),IF(F92=\"mittel\",VLOOKUP(J92,'Boden DüV-Bolap'!A:AA,23,FALSE),IF(F92=\"schwer\",VLOOKUP(J92,'Boden DüV-Bolap'!A:AA,27,FALSE))))))","v":""}]
[89,null,null,null,null,null,null,null,null,null,null,null,null,null,null,null,null,{"$f":"IF(H93=\"\",\"\",IF(H93>39,\"E\",VLOOKUP(H93,'Boden DüV-Bolap'!A:B,2,FALSE)))","v":""},{"$f":"IF(OR(I93=\"\",F93=\"\"),\"\",IF(I93>39,\"E\",IF(F93=\"leicht\",VLOOKUP(I93,'Boden DüV-Bolap'!A:Q,7,FALSE),IF(F93=\"mittel\",VLOOKUP(I93,'Boden DüV-Bolap'!A:K,11,FALSE),IF(F93=\"schwer\",VLOOKUP(I93,'Boden DüV-Bolap'!A:R,15,FALSE))))))","v":""},{"$f":"IF(OR(J93=\"\",F93=\"\"),\"\",IF(J93>39,\"E\",IF(F93=\"leicht\",VLOOKUP(J93,'Boden DüV-Bolap'!A:AA,19,FALSE),IF(F93=\"mittel\",VLOOKUP(J93,'Boden DüV-Bolap'!A:AA,23,FALSE),IF(F93=\"schwer\",VLOOKUP(J93,'Boden DüV-Bolap'!A:AA,27,FALSE))))))","v":""}]
[90,null,null,null,null,null,null,null,null,null,null,null,null,null,null,null,null,{"$f":"IF(H94=\"\",\"\",IF(H94>39,\"E\",VLOOKUP(H94,'Boden DüV-Bolap'!A:B,2,FALSE)))","v":""},{"$f":"IF(OR(I94=\"\",F94=\"\"),\"\",IF(I94>39,\"E\",IF(F94=\"leicht\",VLOOKUP(I94,'Boden DüV-Bolap'!A:Q,7,FALSE),IF(F94=\"mittel\",VLOOKUP(I94,'Boden DüV-Bolap'!A:K,11,FALSE),IF(F94=\"schwer\",VLOOKUP(I94,'Boden DüV-Bolap'!A:R,15,FALSE))))))","v":""},{"$f":"IF(OR(J94=\"\",F94=\"\"),\"\",IF(J94>39,\"E\",IF(F94=\"leicht\",VLOOKUP(J94,'Boden DüV-Bolap'!A:AA,19,FALSE),IF(F94=\"mittel\",VLOOKUP(J94,'Boden DüV-Bolap'!A:AA,23,FALSE),IF(F94=\"schwer\",VLOOKUP(J94,'Boden DüV-Bolap'!A:AA,27,FALSE))))))","v":""}]
[91,null,null,null,null,null,null,null,null,null,null,null,null,null,null,null,null,{"$f":"IF(H95=\"\",\"\",IF(H95>39,\"E\",VLOOKUP(H95,'Boden DüV-Bolap'!A:B,2,FALSE)))","v":""},{"$f":"IF(OR(I95=\"\",F95=\"\"),\"\",IF(I95>39,\"E\",IF(F95=\"leicht\",VLOOKUP(I95,'Boden DüV-Bolap'!A:Q,7,FALSE),IF(F95=\"mittel\",VLOOKUP(I95,'Boden DüV-Bolap'!A:K,11,FALSE),IF(F95=\"schwer\",VLOOKUP(I95,'Boden DüV-Bolap'!A:R,15,FALSE))))))","v":""},{"$f":"IF(OR(J95=\"\",F95=\"\"),\"\",IF(J95>39,\"E\",IF(F95=\"leicht\",VLOOKUP(J95,'Boden DüV-Bolap'!A:AA,19,FALSE),IF(F95=\"mittel\",VLOOKUP(J95,'Boden DüV-Bolap'!A:AA,23,FALSE),IF(F95=\"schwer\",VLOOKUP(J95,'Boden DüV-Bolap'!A:AA,27,FALSE))))))","v":""}]
[92,null,null,null,null,null,null,null,null,null,null,null,null,null,null,null,null,{"$f":"IF(H96=\"\",\"\",IF(H96>39,\"E\",VLOOKUP(H96,'Boden DüV-Bolap'!A:B,2,FALSE)))","v":""},{"$f":"IF(OR(I96=\"\",F96=\"\"),\"\",IF(I96>39,\"E\",IF(F96=\"leicht\",VLOOKUP(I96,'Boden DüV-Bolap'!A:Q,7,FALSE),IF(F96=\"mittel\",VLOOKUP(I96,'Boden DüV-Bolap'!A:K,11,FALSE),IF(F96=\"schwer\",VLOOKUP(I96,'Boden DüV-Bolap'!A:R,15,FALSE))))))","v":""},{"$f":"IF(OR(J96=\"\",F96=\"\"),\"\",IF(J96>39,\"E\",IF(F96=\"leicht\",VLOOKUP(J96,'Boden DüV-Bolap'!A:AA,19,FALSE),IF(F96=\"mittel\",VLOOKUP(J96,'Boden DüV-Bolap'!A:AA,23,FALSE),IF(F96=\"schwer\",VLOOKUP(J96,'Boden DüV-Bolap'!A:AA,27,FALSE))))))","v":""}]
[93,null,null,null,null,null,null,null,null,null,null,null,null,null,null,null,null,{"$f":"IF(H97=\"\",\"\",IF(H97>39,\"E\",VLOOKUP(H97,'Boden DüV-Bolap'!A:B,2,FALSE)))","v":""},{"$f":"IF(OR(I97=\"\",F97=\"\"),\"\",IF(I97>39,\"E\",IF(F97=\"leicht\",VLOOKUP(I97,'Boden DüV-Bolap'!A:Q,7,FALSE),IF(F97=\"mittel\",VLOOKUP(I97,'Boden DüV-Bolap'!A:K,11,FALSE),IF(F97=\"schwer\",VLOOKUP(I97,'Boden DüV-Bolap'!A:R,15,FALSE))))))","v":""},{"$f":"IF(OR(J97=\"\",F97=\"\"),\"\",IF(J97>39,\"E\",IF(F97=\"leicht\",VLOOKUP(J97,'Boden DüV-Bolap'!A:AA,19,FALSE),IF(F97=\"mittel\",VLOOKUP(J97,'Boden DüV-Bolap'!A:AA,23,FALSE),IF(F97=\"schwer\",VLOOKUP(J97,'Boden DüV-Bolap'!A:AA,27,FALSE))))))","v":""}]
[94,null,null,null,null,null,null,null,null,null,null,null,null,null,null,null,null,{"$f":"IF(H98=\"\",\"\",IF(H98>39,\"E\",VLOOKUP(H98,'Boden DüV-Bolap'!A:B,2,FALSE)))","v":""},{"$f":"IF(OR(I98=\"\",F98=\"\"),\"\",IF(I98>39,\"E\",IF(F98=\"leicht\",VLOOKUP(I98,'Boden DüV-Bolap'!A:Q,7,FALSE),IF(F98=\"mittel\",VLOOKUP(I98,'Boden DüV-Bolap'!A:K,11,FALSE),IF(F98=\"schwer\",VLOOKUP(I98,'Boden DüV-Bolap'!A:R,15,FALSE))))))","v":""},{"$f":"IF(OR(J98=\"\",F98=\"\"),\"\",IF(J98>39,\"E\",IF(F98=\"leicht\",VLOOKUP(J98,'Boden DüV-Bolap'!A:AA,19,FALSE),IF(F98=\"mittel\",VLOOKUP(J98,'Boden DüV-Bolap'!A:AA,23,FALSE),IF(F98=\"schwer\",VLOOKUP(J98,'Boden DüV-Bolap'!A:AA,27,FALSE))))))","v":""}]
[95,null,null,null,null,null,null,null,null,null,null,null,null,null,null,null,null,{"$f":"IF(H99=\"\",\"\",IF(H99>39,\"E\",VLOOKUP(H99,'Boden DüV-Bolap'!A:B,2,FALSE)))","v":""},{"$f":"IF(OR(I99=\"\",F99=\"\"),\"\",IF(I99>39,\"E\",IF(F99=\"leicht\",VLOOKUP(I99,'Boden DüV-Bolap'!A:Q,7,FALSE),IF(F99=\"mittel\",VLOOKUP(I99,'Boden DüV-Bolap'!A:K,11,FALSE),IF(F99=\"schwer\",VLOOKUP(I99,'Boden DüV-Bolap'!A:R,15,FALSE))))))","v":""},{"$f":"IF(OR(J99=\"\",F99=\"\"),\"\",IF(J99>39,\"E\",IF(F99=\"leicht\",VLOOKUP(J99,'Boden DüV-Bolap'!A:AA,19,FALSE),IF(F99=\"mittel\",VLOOKUP(J99,'Boden DüV-Bolap'!A:AA,23,FALSE),IF(F99=\"schwer\",VLOOKUP(J99,'Boden DüV-Bolap'!A:AA,27,FALSE))))))","v":""}]
[96,null,null,null,null,null,null,null,null,null,null,null,null,null,null,null,null,{"$f":"IF(H100=\"\",\"\",IF(H100>39,\"E\",VLOOKUP(H100,'Boden DüV-Bolap'!A:B,2,FALSE)))","v":""},{"$f":"IF(OR(I100=\"\",F100=\"\"),\"\",IF(I100>39,\"E\",IF(F100=\"leicht\",VLOOKUP(I100,'Boden DüV-Bolap'!A:Q,7,FALSE),IF(F100=\"mittel\",VLOOKUP(I100,'Boden DüV-Bolap'!A:K,11,FALSE),IF(F100=\"schwer\",VLOOKUP(I100,'Boden DüV-Bolap'!A:R,15,FALSE))))))","v":""},{"$f":"IF(OR(J100=\"\",F100=\"\"),\"\",IF(J100>39,\"E\",IF(F100=\"leicht\",VLOOKUP(J100,'Boden DüV-Bolap'!A:AA,19,FALSE),IF(F100=\"mittel\",VLOOKUP(J100,'Boden DüV-Bolap'!A:AA,23,FALSE),IF(F100=\"schwer\",VLOOKUP(J100,'Boden DüV-Bolap'!A:AA,27,FALSE))))))","v":""}]
[97,null,null,null,null,null,null,null,null,null,null,null,null,null,null,null,null,{"$f":"IF(H101=\"\",\"\",IF(H101>39,\"E\",VLOOKUP(H101,'Boden DüV-Bolap'!A:B,2,FALSE)))","v":""},{"$f":"IF(OR(I101=\"\",F101=\"\"),\"\",IF(I101>39,\"E\",IF(F101=\"leicht\",VLOOKUP(I101,'Boden DüV-Bolap'!A:Q,7,FALSE),IF(F101=\"mittel\",VLOOKUP(I101,'Boden DüV-Bolap'!A:K,11,FALSE),IF(F101=\"schwer\",VLOOKUP(I101,'Boden DüV-Bolap'!A:R,15,FALSE))))))","v":""},{"$f":"IF(OR(J101=\"\",F101=\"\"),\"\",IF(J101>39,\"E\",IF(F101=\"leicht\",VLOOKUP(J101,'Boden DüV-Bolap'!A:AA,19,FALSE),IF(F101=\"mittel\",VLOOKUP(J101,'Boden DüV-Bolap'!A:AA,23,FALSE),IF(F101=\"schwer\",VLOOKUP(J101,'Boden DüV-Bolap'!A:AA,27,FALSE))))))","v":""}]
[98,null,null,null,null,null,null,null,null,null,null,null,null,null,null,null,null,{"$f":"IF(H102=\"\",\"\",IF(H102>39,\"E\",VLOOKUP(H102,'Boden DüV-Bolap'!A:B,2,FALSE)))","v":""},{"$f":"IF(OR(I102=\"\",F102=\"\"),\"\",IF(I102>39,\"E\",IF(F102=\"leicht\",VLOOKUP(I102,'Boden DüV-Bolap'!A:Q,7,FALSE),IF(F102=\"mittel\",VLOOKUP(I102,'Boden DüV-Bolap'!A:K,11,FALSE),IF(F102=\"schwer\",VLOOKUP(I102,'Boden DüV-Bolap'!A:R,15,FALSE))))))","v":""},{"$f":"IF(OR(J102=\"\",F102=\"\"),\"\",IF(J102>39,\"E\",IF(F102=\"leicht\",VLOOKUP(J102,'Boden DüV-Bolap'!A:AA,19,FALSE),IF(F102=\"mittel\",VLOOKUP(J102,'Boden DüV-Bolap'!A:AA,23,FALSE),IF(F102=\"schwer\",VLOOKUP(J102,'Boden DüV-Bolap'!A:AA,27,FALSE))))))","v":""}]
[99,null,null,null,null,null,null,null,null,null,null,null,null,null,null,null,null,{"$f":"IF(H103=\"\",\"\",IF(H103>39,\"E\",VLOOKUP(H103,'Boden DüV-Bolap'!A:B,2,FALSE)))","v":""},{"$f":"IF(OR(I103=\"\",F103=\"\"),\"\",IF(I103>39,\"E\",IF(F103=\"leicht\",VLOOKUP(I103,'Boden DüV-Bolap'!A:Q,7,FALSE),IF(F103=\"mittel\",VLOOKUP(I103,'Boden DüV-Bolap'!A:K,11,FALSE),IF(F103=\"schwer\",VLOOKUP(I103,'Boden DüV-Bolap'!A:R,15,FALSE))))))","v":""},{"$f":"IF(OR(J103=\"\",F103=\"\"),\"\",IF(J103>39,\"E\",IF(F103=\"leicht\",VLOOKUP(J103,'Boden DüV-Bolap'!A:AA,19,FALSE),IF(F103=\"mittel\",VLOOKUP(J103,'Boden DüV-Bolap'!A:AA,23,FALSE),IF(F103=\"schwer\",VLOOKUP(J103,'Boden DüV-Bolap'!A:AA,27,FALSE))))))","v":""}]
[100,null,null,null,null,null,null,null,null,null,null,null,null,null,null,null,null,{"$f":"IF(H104=\"\",\"\",IF(H104>39,\"E\",VLOOKUP(H104,'Boden DüV-Bolap'!A:B,2,FALSE)))","v":""},{"$f":"IF(OR(I104=\"\",F104=\"\"),\"\",IF(I104>39,\"E\",IF(F104=\"leicht\",VLOOKUP(I104,'Boden DüV-Bolap'!A:Q,7,FALSE),IF(F104=\"mittel\",VLOOKUP(I104,'Boden DüV-Bolap'!A:K,11,FALSE),IF(F104=\"schwer\",VLOOKUP(I104,'Boden DüV-Bolap'!A:R,15,FALSE))))))","v":""},{"$f":"IF(OR(J104=\"\",F104=\"\"),\"\",IF(J104>39,\"E\",IF(F104=\"leicht\",VLOOKUP(J104,'Boden DüV-Bolap'!A:AA,19,FALSE),IF(F104=\"mittel\",VLOOKUP(J104,'Boden DüV-Bolap'!A:AA,23,FALSE),IF(F104=\"schwer\",VLOOKUP(J104,'Boden DüV-Bolap'!A:AA,27,FALSE))))))","v":""}]
[101,null,null,null,null,null,null,null,null,null,null,null,null,null,null,null,null,{"$f":"IF(H105=\"\",\"\",IF(H105>39,\"E\",VLOOKUP(H105,'Boden DüV-Bolap'!A:B,2,FALSE)))","v":""},{"$f":"IF(OR(I105=\"\",F105=\"\"),\"\",IF(I105>39,\"E\",IF(F105=\"leicht\",VLOOKUP(I105,'Boden DüV-Bolap'!A:Q,7,FALSE),IF(F105=\"mittel\",VLOOKUP(I105,'Boden DüV-Bolap'!A:K,11,FALSE),IF(F105=\"schwer\",VLOOKUP(I105,'Boden DüV-Bolap'!A:R,15,FALSE))))))","v":""},{"$f":"IF(OR(J105=\"\",F105=\"\"),\"\",IF(J105>39,\"E\",IF(F105=\"leicht\",VLOOKUP(J105,'Boden DüV-Bolap'!A:AA,19,FALSE),IF(F105=\"mittel\",VLOOKUP(J105,'Boden DüV-Bolap'!A:AA,23,FALSE),IF(F105=\"schwer\",VLOOKUP(J105,'Boden DüV-Bolap'!A:AA,27,FALSE))))))","v":""}]
[102,null,null,null,null,null,null,null,null,null,null,null,null,null,null,null,null,{"$f":"IF(H106=\"\",\"\",IF(H106>39,\"E\",VLOOKUP(H106,'Boden DüV-Bolap'!A:B,2,FALSE)))","v":""},{"$f":"IF(OR(I106=\"\",F106=\"\"),\"\",IF(I106>39,\"E\",IF(F106=\"leicht\",VLOOKUP(I106,'Boden DüV-Bolap'!A:Q,7,FALSE),IF(F106=\"mittel\",VLOOKUP(I106,'Boden DüV-Bolap'!A:K,11,FALSE),IF(F106=\"schwer\",VLOOKUP(I106,'Boden DüV-Bolap'!A:R,15,FALSE))))))","v":""},{"$f":"IF(OR(J106=\"\",F106=\"\"),\"\",IF(J106>39,\"E\",IF(F106=\"leicht\",VLOOKUP(J106,'Boden DüV-Bolap'!A:AA,19,FALSE),IF(F106=\"mittel\",VLOOKUP(J106,'Boden DüV-Bolap'!A:AA,23,FALSE),IF(F106=\"schwer\",VLOOKUP(J106,'Boden DüV-Bolap'!A:AA,27,FALSE))))))","v":""}]
[103,null,null,null,null,null,null,null,null,null,null,null,null,null,null,null,null,{"$f":"IF(H107=\"\",\"\",IF(H107>39,\"E\",VLOOKUP(H107,'Boden DüV-Bolap'!A:B,2,FALSE)))","v":""},{"$f":"IF(OR(I107=\"\",F107=\"\"),\"\",IF(I107>39,\"E\",IF(F107=\"leicht\",VLOOKUP(I107,'Boden DüV-Bolap'!A:Q,7,FALSE),IF(F107=\"mittel\",VLOOKUP(I107,'Boden DüV-Bolap'!A:K,11,FALSE),IF(F107=\"schwer\",VLOOKUP(I107,'Boden DüV-Bolap'!A:R,15,FALSE))))))","v":""},{"$f":"IF(OR(J107=\"\",F107=\"\"),\"\",IF(J107>39,\"E\",IF(F107=\"leicht\",VLOOKUP(J107,'Boden DüV-Bolap'!A:AA,19,FALSE),IF(F107=\"mittel\",VLOOKUP(J107,'Boden DüV-Bolap'!A:AA,23,FALSE),IF(F107=\"schwer\",VLOOKUP(J107,'Boden DüV-Bolap'!A:AA,27,FALSE))))))","v":""}]
[104,null,null,null,null,null,null,null,null,null,null,null,null,null,null,null,null,{"$f":"IF(H108=\"\",\"\",IF(H108>39,\"E\",VLOOKUP(H108,'Boden DüV-Bolap'!A:B,2,FALSE)))","v":""},{"$f":"IF(OR(I108=\"\",F108=\"\"),\"\",IF(I108>39,\"E\",IF(F108=\"leicht\",VLOOKUP(I108,'Boden DüV-Bolap'!A:Q,7,FALSE),IF(F108=\"mittel\",VLOOKUP(I108,'Boden DüV-Bolap'!A:K,11,FALSE),IF(F108=\"schwer\",VLOOKUP(I108,'Boden DüV-Bolap'!A:R,15,FALSE))))))","v":""},{"$f":"IF(OR(J108=\"\",F108=\"\"),\"\",IF(J108>39,\"E\",IF(F108=\"leicht\",VLOOKUP(J108,'Boden DüV-Bolap'!A:AA,19,FALSE),IF(F108=\"mittel\",VLOOKUP(J108,'Boden DüV-Bolap'!A:AA,23,FALSE),IF(F108=\"schwer\",VLOOKUP(J108,'Boden DüV-Bolap'!A:AA,27,FALSE))))))","v":""}]
[105,null,null,null,null,null,null,null,null,null,null,null,null,null,null,null,null,{"$f":"IF(H109=\"\",\"\",IF(H109>39,\"E\",VLOOKUP(H109,'Boden DüV-Bolap'!A:B,2,FALSE)))","v":""},{"$f":"IF(OR(I109=\"\",F109=\"\"),\"\",IF(I109>39,\"E\",IF(F109=\"leicht\",VLOOKUP(I109,'Boden DüV-Bolap'!A:Q,7,FALSE),IF(F109=\"mittel\",VLOOKUP(I109,'Boden DüV-Bolap'!A:K,11,FALSE),IF(F109=\"schwer\",VLOOKUP(I109,'Boden DüV-Bolap'!A:R,15,FALSE))))))","v":""},{"$f":"IF(OR(J109=\"\",F109=\"\"),\"\",IF(J109>39,\"E\",IF(F109=\"leicht\",VLOOKUP(J109,'Boden DüV-Bolap'!A:AA,19,FALSE),IF(F109=\"mittel\",VLOOKUP(J109,'Boden DüV-Bolap'!A:AA,23,FALSE),IF(F109=\"schwer\",VLOOKUP(J109,'Boden DüV-Bolap'!A:AA,27,FALSE))))))","v":""}]
[106,null,null,null,null,null,null,null,null,null,null,null,null,null,null,null,null,{"$f":"IF(H110=\"\",\"\",IF(H110>39,\"E\",VLOOKUP(H110,'Boden DüV-Bolap'!A:B,2,FALSE)))","v":""},{"$f":"IF(OR(I110=\"\",F110=\"\"),\"\",IF(I110>39,\"E\",IF(F110=\"leicht\",VLOOKUP(I110,'Boden DüV-Bolap'!A:Q,7,FALSE),IF(F110=\"mittel\",VLOOKUP(I110,'Boden DüV-Bolap'!A:K,11,FALSE),IF(F110=\"schwer\",VLOOKUP(I110,'Boden DüV-Bolap'!A:R,15,FALSE))))))","v":""},{"$f":"IF(OR(J110=\"\",F110=\"\"),\"\",IF(J110>39,\"E\",IF(F110=\"leicht\",VLOOKUP(J110,'Boden DüV-Bolap'!A:AA,19,FALSE),IF(F110=\"mittel\",VLOOKUP(J110,'Boden DüV-Bolap'!A:AA,23,FALSE),IF(F110=\"schwer\",VLOOKUP(J110,'Boden DüV-Bolap'!A:AA,27,FALSE))))))","v":""}]
[107,null,null,null,null,null,null,null,null,null,null,null,null,null,null,null,null,{"$f":"IF(H111=\"\",\"\",IF(H111>39,\"E\",VLOOKUP(H111,'Boden DüV-Bolap'!A:B,2,FALSE)))","v":""},{"$f":"IF(OR(I111=\"\",F111=\"\"),\"\",IF(I111>39,\"E\",IF(F111=\"leicht\",VLOOKUP(I111,'Boden DüV-Bolap'!A:Q,7,FALSE),IF(F111=\"mittel\",VLOOKUP(I111,'Boden DüV-Bolap'!A:K,11,FALSE),IF(F111=\"schwer\",VLOOKUP(I111,'Boden DüV-Bolap'!A:R,15,FALSE))))))","v":""},{"$f":"IF(OR(J111=\"\",F111=\"\"),\"\",IF(J111>39,\"E\",IF(F111=\"leicht\",VLOOKUP(J111,'Boden DüV-Bolap'!A:AA,19,FALSE),IF(F111=\"mittel\",VLOOKUP(J111,'Boden DüV-Bolap'!A:AA,23,FALSE),IF(F111=\"schwer\",VLOOKUP(J111,'Boden DüV-Bolap'!A:AA,27,FALSE))))))","v":""}]
[108,null,null,null,null,null,null,null,null,null,null,null,null,null,null,null,null,{"$f":"IF(H112=\"\",\"\",IF(H112>39,\"E\",VLOOKUP(H112,'Boden DüV-Bolap'!A:B,2,FALSE)))","v":""},{"$f":"IF(OR(I112=\"\",F112=\"\"),\"\",IF(I112>39,\"E\",IF(F112=\"leicht\",VLOOKUP(I112,'Boden DüV-Bolap'!A:Q,7,FALSE),IF(F112=\"mittel\",VLOOKUP(I112,'Boden DüV-Bolap'!A:K,11,FALSE),IF(F112=\"schwer\",VLOOKUP(I112,'Boden DüV-Bolap'!A:R,15,FALSE))))))","v":""},{"$f":"IF(OR(J112=\"\",F112=\"\"),\"\",IF(J112>39,\"E\",IF(F112=\"leicht\",VLOOKUP(J112,'Boden DüV-Bolap'!A:AA,19,FALSE),IF(F112=\"mittel\",VLOOKUP(J112,'Boden DüV-Bolap'!A:AA,23,FALSE),IF(F112=\"schwer\",VLOOKUP(J112,'Boden DüV-Bolap'!A:AA,27,FALSE))))))","v":""}]
[109,null,null,null,null,null,null,null,null,null,null,null,null,null,null,null,null,{"$f":"IF(H113=\"\",\"\",IF(H113>39,\"E\",VLOOKUP(H113,'Boden DüV-Bolap'!A:B,2,FALSE)))","v":""},{"$f":"IF(OR(I113=\"\",F113=\"\"),\"\",IF(I113>39,\"E\",IF(F113=\"leicht\",VLOOKUP(I113,'Boden DüV-Bolap'!A:Q,7,FALSE),IF(F113=\"mittel\",VLOOKUP(I113,'Boden DüV-Bolap'!A:K,11,FALSE),IF(F113=\"schwer\",VLOOKUP(I113,'Boden DüV-Bolap'!A:R,15,FALSE))))))","v":""},{"$f":"IF(OR(J113=\"\",F113=\"\"),\"\",IF(J113>39,\"E\",IF(F113=\"leicht\",VLOOKUP(J113,'Boden DüV-Bolap'!A:AA,19,FALSE),IF(F113=\"mittel\",VLOOKUP(J113,'Boden DüV-Bolap'!A:AA,23,FALSE),IF(F113=\"schwer\",VLOOKUP(J113,'Boden DüV-Bolap'!A:AA,27,FALSE))))))","v":""}]
[110,null,null,null,null,null,null,null,null,null,null,null,null,null,null,null,null,{"$f":"IF(H114=\"\",\"\",IF(H114>39,\"E\",VLOOKUP(H114,'Boden DüV-Bolap'!A:B,2,FALSE)))","v":""},{"$f":"IF(OR(I114=\"\",F114=\"\"),\"\",IF(I114>39,\"E\",IF(F114=\"leicht\",VLOOKUP(I114,'Boden DüV-Bolap'!A:Q,7,FALSE),IF(F114=\"mittel\",VLOOKUP(I114,'Boden DüV-Bolap'!A:K,11,FALSE),IF(F114=\"schwer\",VLOOKUP(I114,'Boden DüV-Bolap'!A:R,15,FALSE))))))","v":""},{"$f":"IF(OR(J114=\"\",F114=\"\"),\"\",IF(J114>39,\"E\",IF(F114=\"leicht\",VLOOKUP(J114,'Boden DüV-Bolap'!A:AA,19,FALSE),IF(F114=\"mittel\",VLOOKUP(J114,'Boden DüV-Bolap'!A:AA,23,FALSE),IF(F114=\"schwer\",VLOOKUP(J114,'Boden DüV-Bolap'!A:AA,27,FALSE))))))","v":""}]
[111,null,null,null,null,null,null,null,null,null,null,null,null,null,null,null,null,{"$f":"IF(H115=\"\",\"\",IF(H115>39,\"E\",VLOOKUP(H115,'Boden DüV-Bolap'!A:B,2,FALSE)))","v":""},{"$f":"IF(OR(I115=\"\",F115=\"\"),\"\",IF(I115>39,\"E\",IF(F115=\"leicht\",VLOOKUP(I115,'Boden DüV-Bolap'!A:Q,7,FALSE),IF(F115=\"mittel\",VLOOKUP(I115,'Boden DüV-Bolap'!A:K,11,FALSE),IF(F115=\"schwer\",VLOOKUP(I115,'Boden DüV-Bolap'!A:R,15,FALSE))))))","v":""},{"$f":"IF(OR(J115=\"\",F115=\"\"),\"\",IF(J115>39,\"E\",IF(F115=\"leicht\",VLOOKUP(J115,'Boden DüV-Bolap'!A:AA,19,FALSE),IF(F115=\"mittel\",VLOOKUP(J115,'Boden DüV-Bolap'!A:AA,23,FALSE),IF(F115=\"schwer\",VLOOKUP(J115,'Boden DüV-Bolap'!A:AA,27,FALSE))))))","v":""}]
[112,null,null,null,null,null,null,null,null,null,null,null,null,null,null,null,null,{"$f":"IF(H116=\"\",\"\",IF(H116>39,\"E\",VLOOKUP(H116,'Boden DüV-Bolap'!A:B,2,FALSE)))","v":""},{"$f":"IF(OR(I116=\"\",F116=\"\"),\"\",IF(I116>39,\"E\",IF(F116=\"leicht\",VLOOKUP(I116,'Boden DüV-Bolap'!A:Q,7,FALSE),IF(F116=\"mittel\",VLOOKUP(I116,'Boden DüV-Bolap'!A:K,11,FALSE),IF(F116=\"schwer\",VLOOKUP(I116,'Boden DüV-Bolap'!A:R,15,FALSE))))))","v":""},{"$f":"IF(OR(J116=\"\",F116=\"\"),\"\",IF(J116>39,\"E\",IF(F116=\"leicht\",VLOOKUP(J116,'Boden DüV-Bolap'!A:AA,19,FALSE),IF(F116=\"mittel\",VLOOKUP(J116,'Boden DüV-Bolap'!A:AA,23,FALSE),IF(F116=\"schwer\",VLOOKUP(J116,'Boden DüV-Bolap'!A:AA,27,FALSE))))))","v":""}]
[113,null,null,null,null,null,null,null,null,null,null,null,null,null,null,null,null,{"$f":"IF(H117=\"\",\"\",IF(H117>39,\"E\",VLOOKUP(H117,'Boden DüV-Bolap'!A:B,2,FALSE)))","v":""},{"$f":"IF(OR(I117=\"\",F117=\"\"),\"\",IF(I117>39,\"E\",IF(F117=\"leicht\",VLOOKUP(I117,'Boden DüV-Bolap'!A:Q,7,FALSE),IF(F117=\"mittel\",VLOOKUP(I117,'Boden DüV-Bolap'!A:K,11,FALSE),IF(F117=\"schwer\",VLOOKUP(I117,'Boden DüV-Bolap'!A:R,15,FALSE))))))","v":""},{"$f":"IF(OR(J117=\"\",F117=\"\"),\"\",IF(J117>39,\"E\",IF(F117=\"leicht\",VLOOKUP(J117,'Boden DüV-Bolap'!A:AA,19,FALSE),IF(F117=\"mittel\",VLOOKUP(J117,'Boden DüV-Bolap'!A:AA,23,FALSE),IF(F117=\"schwer\",VLOOKUP(J117,'Boden DüV-Bolap'!A:AA,27,FALSE))))))","v":""}]
[114,null,null,null,null,null,null,null,null,null,null,null,null,null,null,null,null,{"$f":"IF(H118=\"\",\"\",IF(H118>39,\"E\",VLOOKUP(H118,'Boden DüV-Bolap'!A:B,2,FALSE)))","v":""},{"$f":"IF(OR(I118=\"\",F118=\"\"),\"\",IF(I118>39,\"E\",IF(F118=\"leicht\",VLOOKUP(I118,'Boden DüV-Bolap'!A:Q,7,FALSE),IF(F118=\"mittel\",VLOOKUP(I118,'Boden DüV-Bolap'!A:K,11,FALSE),IF(F118=\"schwer\",VLOOKUP(I118,'Boden DüV-Bolap'!A:R,15,FALSE))))))","v":""},{"$f":"IF(OR(J118=\"\",F118=\"\"),\"\",IF(J118>39,\"E\",IF(F118=\"leicht\",VLOOKUP(J118,'Boden DüV-Bolap'!A:AA,19,FALSE),IF(F118=\"mittel\",VLOOKUP(J118,'Boden DüV-Bolap'!A:AA,23,FALSE),IF(F118=\"schwer\",VLOOKUP(J118,'Boden DüV-Bolap'!A:AA,27,FALSE))))))","v":""}]
[115,null,null,null,null,null,null,null,null,null,null,null,null,null,null,null,null,{"$f":"IF(H119=\"\",\"\",IF(H119>39,\"E\",VLOOKUP(H119,'Boden DüV-Bolap'!A:B,2,FALSE)))","v":""},{"$f":"IF(OR(I119=\"\",F119=\"\"),\"\",IF(I119>39,\"E\",IF(F119=\"leicht\",VLOOKUP(I119,'Boden DüV-Bolap'!A:Q,7,FALSE),IF(F119=\"mittel\",VLOOKUP(I119,'Boden DüV-Bolap'!A:K,11,FALSE),IF(F119=\"schwer\",VLOOKUP(I119,'Boden DüV-Bolap'!A:R,15,FALSE))))))","v":""},{"$f":"IF(OR(J119=\"\",F119=\"\"),\"\",IF(J119>39,\"E\",IF(F119=\"leicht\",VLOOKUP(J119,'Boden DüV-Bolap'!A:AA,19,FALSE),IF(F119=\"mittel\",VLOOKUP(J119,'Boden DüV-Bolap'!A:AA,23,FALSE),IF(F119=\"schwer\",VLOOKUP(J119,'Boden DüV-Bolap'!A:AA,27,FALSE))))))","v":""}]
[116,null,null,null,null,null,null,null,null,null,null,null,null,null,null,null,null,{"$f":"IF(H120=\"\",\"\",IF(H120>39,\"E\",VLOOKUP(H120,'Boden DüV-Bolap'!A:B,2,FALSE)))","v":""},{"$f":"IF(OR(I120=\"\",F120=\"\"),\"\",IF(I120>39,\"E\",IF(F120=\"leicht\",VLOOKUP(I120,'Boden DüV-Bolap'!A:Q,7,FALSE),IF(F120=\"mittel\",VLOOKUP(I120,'Boden DüV-Bolap'!A:K,11,FALSE),IF(F120=\"schwer\",VLOOKUP(I120,'Boden DüV-Bolap'!A:R,15,FALSE))))))","v":""},{"$f":"IF(OR(J120=\"\",F120=\"\"),\"\",IF(J120>39,\"E\",IF(F120=\"leicht\",VLOOKUP(J120,'Boden DüV-Bolap'!A:AA,19,FALSE),IF(F120=\"mittel\",VLOOKUP(J120,'Boden DüV-Bolap'!A:AA,23,FALSE),IF(F120=\"schwer\",VLOOKUP(J120,'Boden DüV-Bolap'!A:AA,27,FALSE))))))","v":""}]
[117,null,null,null,null,null,null,null,null,null,null,null,null,null,null,null,null,{"$f":"IF(H121=\"\",\"\",IF(H121>39,\"E\",VLOOKUP(H121,'Boden DüV-Bolap'!A:B,2,FALSE)))","v":""},{"$f":"IF(OR(I121=\"\",F121=\"\"),\"\",IF(I121>39,\"E\",IF(F121=\"leicht\",VLOOKUP(I121,'Boden DüV-Bolap'!A:Q,7,FALSE),IF(F121=\"mittel\",VLOOKUP(I121,'Boden DüV-Bolap'!A:K,11,FALSE),IF(F121=\"schwer\",VLOOKUP(I121,'Boden DüV-Bolap'!A:R,15,FALSE))))))","v":""},{"$f":"IF(OR(J121=\"\",F121=\"\"),\"\",IF(J121>39,\"E\",IF(F121=\"leicht\",VLOOKUP(J121,'Boden DüV-Bolap'!A:AA,19,FALSE),IF(F121=\"mittel\",VLOOKUP(J121,'Boden DüV-Bolap'!A:AA,23,FALSE),IF(F121=\"schwer\",VLOOKUP(J121,'Boden DüV-Bolap'!A:AA,27,FALSE))))))","v":""}]
[118,null,null,null,null,null,null,null,null,null,null,null,null,null,null,null,null,{"$f":"IF(H122=\"\",\"\",IF(H122>39,\"E\",VLOOKUP(H122,'Boden DüV-Bolap'!A:B,2,FALSE)))","v":""},{"$f":"IF(OR(I122=\"\",F122=\"\"),\"\",IF(I122>39,\"E\",IF(F122=\"leicht\",VLOOKUP(I122,'Boden DüV-Bolap'!A:Q,7,FALSE),IF(F122=\"mittel\",VLOOKUP(I122,'Boden DüV-Bolap'!A:K,11,FALSE),IF(F122=\"schwer\",VLOOKUP(I122,'Boden DüV-Bolap'!A:R,15,FALSE))))))","v":""},{"$f":"IF(OR(J122=\"\",F122=\"\"),\"\",IF(J122>39,\"E\",IF(F122=\"leicht\",VLOOKUP(J122,'Boden DüV-Bolap'!A:AA,19,FALSE),IF(F122=\"mittel\",VLOOKUP(J122,'Boden DüV-Bolap'!A:AA,23,FALSE),IF(F122=\"schwer\",VLOOKUP(J122,'Boden DüV-Bolap'!A:AA,27,FALSE))))))","v":""}]
[119,null,null,null,null,null,null,null,null,null,null,null,null,null,null,null,null,{"$f":"IF(H123=\"\",\"\",IF(H123>39,\"E\",VLOOKUP(H123,'Boden DüV-Bolap'!A:B,2,FALSE)))","v":""},{"$f":"IF(OR(I123=\"\",F123=\"\"),\"\",IF(I123>39,\"E\",IF(F123=\"leicht\",VLOOKUP(I123,'Boden DüV-Bolap'!A:Q,7,FALSE),IF(F123=\"mittel\",VLOOKUP(I123,'Boden DüV-Bolap'!A:K,11,FALSE),IF(F123=\"schwer\",VLOOKUP(I123,'Boden DüV-Bolap'!A:R,15,FALSE))))))","v":""},{"$f":"IF(OR(J123=\"\",F123=\"\"),\"\",IF(J123>39,\"E\",IF(F123=\"leicht\",VLOOKUP(J123,'Boden DüV-Bolap'!A:AA,19,FALSE),IF(F123=\"mittel\",VLOOKUP(J123,'Boden DüV-Bolap'!A:AA,23,FALSE),IF(F123=\"schwer\",VLOOKUP(J123,'Boden DüV-Bolap'!A:AA,27,FALSE))))))","v":""}]
[120,null,null,null,null,null,null,null,null,null,null,null,null,null,null,null,null,{"$f":"IF(H124=\"\",\"\",IF(H124>39,\"E\",VLOOKUP(H124,'Boden DüV-Bolap'!A:B,2,FALSE)))","v":""},{"$f":"IF(OR(I124=\"\",F124=\"\"),\"\",IF(I124>39,\"E\",IF(F124=\"leicht\",VLOOKUP(I124,'Boden DüV-Bolap'!A:Q,7,FALSE),IF(F124=\"mittel\",VLOOKUP(I124,'Boden DüV-Bolap'!A:K,11,FALSE),IF(F124=\"schwer\",VLOOKUP(I124,'Boden DüV-Bolap'!A:R,15,FALSE))))))","v":""},{"$f":"IF(OR(J124=\"\",F124=\"\"),\"\",IF(J124>39,\"E\",IF(F124=\"leicht\",VLOOKUP(J124,'Boden DüV-Bolap'!A:AA,19,FALSE),IF(F124=\"mittel\",VLOOKUP(J124,'Boden DüV-Bolap'!A:AA,23,FALSE),IF(F124=\"schwer\",VLOOKUP(J124,'Boden DüV-Bolap'!A:AA,27,FALSE))))))","v":""}]
[121,null,null,null,null,null,null,null,null,null,null,null,null,null,null,null,null,{"$f":"IF(H125=\"\",\"\",IF(H125>39,\"E\",VLOOKUP(H125,'Boden DüV-Bolap'!A:B,2,FALSE)))","v":""},{"$f":"IF(OR(I125=\"\",F125=\"\"),\"\",IF(I125>39,\"E\",IF(F125=\"leicht\",VLOOKUP(I125,'Boden DüV-Bolap'!A:Q,7,FALSE),IF(F125=\"mittel\",VLOOKUP(I125,'Boden DüV-Bolap'!A:K,11,FALSE),IF(F125=\"schwer\",VLOOKUP(I125,'Boden DüV-Bolap'!A:R,15,FALSE))))))","v":""},{"$f":"IF(OR(J125=\"\",F125=\"\"),\"\",IF(J125>39,\"E\",IF(F125=\"leicht\",VLOOKUP(J125,'Boden DüV-Bolap'!A:AA,19,FALSE),IF(F125=\"mittel\",VLOOKUP(J125,'Boden DüV-Bolap'!A:AA,23,FALSE),IF(F125=\"schwer\",VLOOKUP(J125,'Boden DüV-Bolap'!A:AA,27,FALSE))))))","v":""}]
[122,null,null,null,null,null,null,null,null,null,null,null,null,null,null,null,null,{"$f":"IF(H126=\"\",\"\",IF(H126>39,\"E\",VLOOKUP(H126,'Boden DüV-Bolap'!A:B,2,FALSE)))","v":""},{"$f":"IF(OR(I126=\"\",F126=\"\"),\"\",IF(I126>39,\"E\",IF(F126=\"leicht\",VLOOKUP(I126,'Boden DüV-Bolap'!A:Q,7,FALSE),IF(F126=\"mittel\",VLOOKUP(I126,'Boden DüV-Bolap'!A:K,11,FALSE),IF(F126=\"schwer\",VLOOKUP(I126,'Boden DüV-Bolap'!A:R,15,FALSE))))))","v":""},{"$f":"IF(OR(J126=\"\",F126=\"\"),\"\",IF(J126>39,\"E\",IF(F126=\"leicht\",VLOOKUP(J126,'Boden DüV-Bolap'!A:AA,19,FALSE),IF(F126=\"mittel\",VLOOKUP(J126,'Boden DüV-Bolap'!A:AA,23,FALSE),IF(F126=\"schwer\",VLOOKUP(J126,'Boden DüV-Bolap'!A:AA,27,FALSE))))))","v":""}]
[123,null,null,null,null,null,null,null,null,null,null,null,null,null,null,null,null,{"$f":"IF(H127=\"\",\"\",IF(H127>39,\"E\",VLOOKUP(H127,'Boden DüV-Bolap'!A:B,2,FALSE)))","v":""},{"$f":"IF(OR(I127=\"\",F127=\"\"),\"\",IF(I127>39,\"E\",IF(F127=\"leicht\",VLOOKUP(I127,'Boden DüV-Bolap'!A:Q,7,FALSE),IF(F127=\"mittel\",VLOOKUP(I127,'Boden DüV-Bolap'!A:K,11,FALSE),IF(F127=\"schwer\",VLOOKUP(I127,'Boden DüV-Bolap'!A:R,15,FALSE))))))","v":""},{"$f":"IF(OR(J127=\"\",F127=\"\"),\"\",IF(J127>39,\"E\",IF(F127=\"leicht\",VLOOKUP(J127,'Boden DüV-Bolap'!A:AA,19,FALSE),IF(F127=\"mittel\",VLOOKUP(J127,'Boden DüV-Bolap'!A:AA,23,FALSE),IF(F127=\"schwer\",VLOOKUP(J127,'Boden DüV-Bolap'!A:AA,27,FALSE))))))","v":""}]
[124,null,null,null,null,null,null,null,null,null,null,null,null,null,null,null,null,{"$f":"IF(H128=\"\",\"\",IF(H128>39,\"E\",VLOOKUP(H128,'Boden DüV-Bolap'!A:B,2,FALSE)))","v":""},{"$f":"IF(OR(I128=\"\",F128=\"\"),\"\",IF(I128>39,\"E\",IF(F128=\"leicht\",VLOOKUP(I128,'Boden DüV-Bolap'!A:Q,7,FALSE),IF(F128=\"mittel\",VLOOKUP(I128,'Boden DüV-Bolap'!A:K,11,FALSE),IF(F128=\"schwer\",VLOOKUP(I128,'Boden DüV-Bolap'!A:R,15,FALSE))))))","v":""},{"$f":"IF(OR(J128=\"\",F128=\"\"),\"\",IF(J128>39,\"E\",IF(F128=\"leicht\",VLOOKUP(J128,'Boden DüV-Bolap'!A:AA,19,FALSE),IF(F128=\"mittel\",VLOOKUP(J128,'Boden DüV-Bolap'!A:AA,23,FALSE),IF(F128=\"schwer\",VLOOKUP(J128,'Boden DüV-Bolap'!A:AA,27,FALSE))))))","v":""}]
[125,null,null,null,null,null,null,null,null,null,null,null,null,null,null,null,null,{"$f":"IF(H129=\"\",\"\",IF(H129>39,\"E\",VLOOKUP(H129,'Boden DüV-Bolap'!A:B,2,FALSE)))","v":""},{"$f":"IF(OR(I129=\"\",F129=\"\"),\"\",IF(I129>39,\"E\",IF(F129=\"leicht\",VLOOKUP(I129,'Boden DüV-Bolap'!A:Q,7,FALSE),IF(F129=\"mittel\",VLOOKUP(I129,'Boden DüV-Bolap'!A:K,11,FALSE),IF(F129=\"schwer\",VLOOKUP(I129,'Boden DüV-Bolap'!A:R,15,FALSE))))))","v":""},{"$f":"IF(OR(J129=\"\",F129=\"\"),\"\",IF(J129>39,\"E\",IF(F129=\"leicht\",VLOOKUP(J129,'Boden DüV-Bolap'!A:AA,19,FALSE),IF(F129=\"mittel\",VLOOKUP(J129,'Boden DüV-Bolap'!A:AA,23,FALSE),IF(F129=\"schwer\",VLOOKUP(J129,'Boden DüV-Bolap'!A:AA,27,FALSE))))))","v":""}]
[126,null,null,null,null,null,null,null,null,null,null,null,null,null,null,null,null,{"$f":"IF(H130=\"\",\"\",IF(H130>39,\"E\",VLOOKUP(H130,'Boden DüV-Bolap'!A:B,2,FALSE)))","v":""},{"$f":"IF(OR(I130=\"\",F130=\"\"),\"\",IF(I130>39,\"E\",IF(F130=\"leicht\",VLOOKUP(I130,'Boden DüV-Bolap'!A:Q,7,FALSE),IF(F130=\"mittel\",VLOOKUP(I130,'Boden DüV-Bolap'!A:K,11,FALSE),IF(F130=\"schwer\",VLOOKUP(I130,'Boden DüV-Bolap'!A:R,15,FALSE))))))","v":""},{"$f":"IF(OR(J130=\"\",F130=\"\"),\"\",IF(J130>39,\"E\",IF(F130=\"leicht\",VLOOKUP(J130,'Boden DüV-Bolap'!A:AA,19,FALSE),IF(F130=\"mittel\",VLOOKUP(J130,'Boden DüV-Bolap'!A:AA,23,FALSE),IF(F130=\"schwer\",VLOOKUP(J130,'Boden DüV-Bolap'!A:AA,27,FALSE))))))","v":""}]
[127,null,null,null,null,null,null,null,null,null,null,null,null,null,null,null,null,{"$f":"IF(H131=\"\",\"\",IF(H131>39,\"E\",VLOOKUP(H131,'Boden DüV-Bolap'!A:B,2,FALSE)))","v":""},{"$f":"IF(OR(I131=\"\",F131=\"\"),\"\",IF(I131>39,\"E\",IF(F131=\"leicht\",VLOOKUP(I131,'Boden DüV-Bolap'!A:Q,7,FALSE),IF(F131=\"mittel\",VLOOKUP(I131,'Boden DüV-Bolap'!A:K,11,FALSE),IF(F131=\"schwer\",VLOOKUP(I131,'Boden DüV-Bolap'!A:R,15,FALSE))))))","v":""},{"$f":"IF(OR(J131=\"\",F131=\"\"),\"\",IF(J131>39,\"E\",IF(F131=\"leicht\",VLOOKUP(J131,'Boden DüV-Bolap'!A:AA,19,FALSE),IF(F131=\"mittel\",VLOOKUP(J131,'Boden DüV-Bolap'!A:AA,23,FALSE),IF(F131=\"schwer\",VLOOKUP(J131,'Boden DüV-Bolap'!A:AA,27,FALSE))))))","v":""}]
[128,null,null,null,null,null,null,null,null,null,null,null,null,null,null,null,null,{"$f":"IF(H132=\"\",\"\",IF(H132>39,\"E\",VLOOKUP(H132,'Boden DüV-Bolap'!A:B,2,FALSE)))","v":""},{"$f":"IF(OR(I132=\"\",F132=\"\"),\"\",IF(I132>39,\"E\",IF(F132=\"leicht\",VLOOKUP(I132,'Boden DüV-Bolap'!A:Q,7,FALSE),IF(F132=\"mittel\",VLOOKUP(I132,'Boden DüV-Bolap'!A:K,11,FALSE),IF(F132=\"schwer\",VLOOKUP(I132,'Boden DüV-Bolap'!A:R,15,FALSE))))))","v":""},{"$f":"IF(OR(J132=\"\",F132=\"\"),\"\",IF(J132>39,\"E\",IF(F132=\"leicht\",VLOOKUP(J132,'Boden DüV-Bolap'!A:AA,19,FALSE),IF(F132=\"mittel\",VLOOKUP(J132,'Boden DüV-Bolap'!A:AA,23,FALSE),IF(F132=\"schwer\",VLOOKUP(J132,'Boden DüV-Bolap'!A:AA,27,FALSE))))))","v":""}]
[129,null,null,null,null,null,null,null,null,null,null,null,null,null,null,null,null,{"$f":"IF(H133=\"\",\"\",IF(H133>39,\"E\",VLOOKUP(H133,'Boden DüV-Bolap'!A:B,2,FALSE)))","v":""},{"$f":"IF(OR(I133=\"\",F133=\"\"),\"\",IF(I133>39,\"E\",IF(F133=\"leicht\",VLOOKUP(I133,'Boden DüV-Bolap'!A:Q,7,FALSE),IF(F133=\"mittel\",VLOOKUP(I133,'Boden DüV-Bolap'!A:K,11,FALSE),IF(F133=\"schwer\",VLOOKUP(I133,'Boden DüV-Bolap'!A:R,15,FALSE))))))","v":""},{"$f":"IF(OR(J133=\"\",F133=\"\"),\"\",IF(J133>39,\"E\",IF(F133=\"leicht\",VLOOKUP(J133,'Boden DüV-Bolap'!A:AA,19,FALSE),IF(F133=\"mittel\",VLOOKUP(J133,'Boden DüV-Bolap'!A:AA,23,FALSE),IF(F133=\"schwer\",VLOOKUP(J133,'Boden DüV-Bolap'!A:AA,27,FALSE))))))","v":""}]
[130,null,null,null,null,null,null,null,null,null,null,null,null,null,null,null,null,{"$f":"IF(H134=\"\",\"\",IF(H134>39,\"E\",VLOOKUP(H134,'Boden DüV-Bolap'!A:B,2,FALSE)))","v":""},{"$f":"IF(OR(I134=\"\",F134=\"\"),\"\",IF(I134>39,\"E\",IF(F134=\"leicht\",VLOOKUP(I134,'Boden DüV-Bolap'!A:Q,7,FALSE),IF(F134=\"mittel\",VLOOKUP(I134,'Boden DüV-Bolap'!A:K,11,FALSE),IF(F134=\"schwer\",VLOOKUP(I134,'Boden DüV-Bolap'!A:R,15,FALSE))))))","v":""},{"$f":"IF(OR(J134=\"\",F134=\"\"),\"\",IF(J134>39,\"E\",IF(F134=\"leicht\",VLOOKUP(J134,'Boden DüV-Bolap'!A:AA,19,FALSE),IF(F134=\"mittel\",VLOOKUP(J134,'Boden DüV-Bolap'!A:AA,23,FALSE),IF(F134=\"schwer\",VLOOKUP(J134,'Boden DüV-Bolap'!A:AA,27,FALSE))))))","v":""}]
[131,null,null,null,null,null,null,null,null,null,null,null,null,null,null,null,null,{"$f":"IF(H135=\"\",\"\",IF(H135>39,\"E\",VLOOKUP(H135,'Boden DüV-Bolap'!A:B,2,FALSE)))","v":""},{"$f":"IF(OR(I135=\"\",F135=\"\"),\"\",IF(I135>39,\"E\",IF(F135=\"leicht\",VLOOKUP(I135,'Boden DüV-Bolap'!A:Q,7,FALSE),IF(F135=\"mittel\",VLOOKUP(I135,'Boden DüV-Bolap'!A:K,11,FALSE),IF(F135=\"schwer\",VLOOKUP(I135,'Boden DüV-Bolap'!A:R,15,FALSE))))))","v":""},{"$f":"IF(OR(J135=\"\",F135=\"\"),\"\",IF(J135>39,\"E\",IF(F135=\"leicht\",VLOOKUP(J135,'Boden DüV-Bolap'!A:AA,19,FALSE),IF(F135=\"mittel\",VLOOKUP(J135,'Boden DüV-Bolap'!A:AA,23,FALSE),IF(F135=\"schwer\",VLOOKUP(J135,'Boden DüV-Bolap'!A:AA,27,FALSE))))))","v":""}]
[132,null,null,null,null,null,null,null,null,null,null,null,null,null,null,null,null,{"$f":"IF(H136=\"\",\"\",IF(H136>39,\"E\",VLOOKUP(H136,'Boden DüV-Bolap'!A:B,2,FALSE)))","v":""},{"$f":"IF(OR(I136=\"\",F136=\"\"),\"\",IF(I136>39,\"E\",IF(F136=\"leicht\",VLOOKUP(I136,'Boden DüV-Bolap'!A:Q,7,FALSE),IF(F136=\"mittel\",VLOOKUP(I136,'Boden DüV-Bolap'!A:K,11,FALSE),IF(F136=\"schwer\",VLOOKUP(I136,'Boden DüV-Bolap'!A:R,15,FALSE))))))","v":""},{"$f":"IF(OR(J136=\"\",F136=\"\"),\"\",IF(J136>39,\"E\",IF(F136=\"leicht\",VLOOKUP(J136,'Boden DüV-Bolap'!A:AA,19,FALSE),IF(F136=\"mittel\",VLOOKUP(J136,'Boden DüV-Bolap'!A:AA,23,FALSE),IF(F136=\"schwer\",VLOOKUP(J136,'Boden DüV-Bolap'!A:AA,27,FALSE))))))","v":""}]
[133,null,null,null,null,null,null,null,null,null,null,null,null,null,null,null,null,{"$f":"IF(H137=\"\",\"\",IF(H137>39,\"E\",VLOOKUP(H137,'Boden DüV-Bolap'!A:B,2,FALSE)))","v":""},{"$f":"IF(OR(I137=\"\",F137=\"\"),\"\",IF(I137>39,\"E\",IF(F137=\"leicht\",VLOOKUP(I137,'Boden DüV-Bolap'!A:Q,7,FALSE),IF(F137=\"mittel\",VLOOKUP(I137,'Boden DüV-Bolap'!A:K,11,FALSE),IF(F137=\"schwer\",VLOOKUP(I137,'Boden DüV-Bolap'!A:R,15,FALSE))))))","v":""},{"$f":"IF(OR(J137=\"\",F137=\"\"),\"\",IF(J137>39,\"E\",IF(F137=\"leicht\",VLOOKUP(J137,'Boden DüV-Bolap'!A:AA,19,FALSE),IF(F137=\"mittel\",VLOOKUP(J137,'Boden DüV-Bolap'!A:AA,23,FALSE),IF(F137=\"schwer\",VLOOKUP(J137,'Boden DüV-Bolap'!A:AA,27,FALSE))))))","v":""}]
[134,null,null,null,null,null,null,null,null,null,null,null,null,null,null,null,null,{"$f":"IF(H138=\"\",\"\",IF(H138>39,\"E\",VLOOKUP(H138,'Boden DüV-Bolap'!A:B,2,FALSE)))","v":""},{"$f":"IF(OR(I138=\"\",F138=\"\"),\"\",IF(I138>39,\"E\",IF(F138=\"leicht\",VLOOKUP(I138,'Boden DüV-Bolap'!A:Q,7,FALSE),IF(F138=\"mittel\",VLOOKUP(I138,'Boden DüV-Bolap'!A:K,11,FALSE),IF(F138=\"schwer\",VLOOKUP(I138,'Boden DüV-Bolap'!A:R,15,FALSE))))))","v":""},{"$f":"IF(OR(J138=\"\",F138=\"\"),\"\",IF(J138>39,\"E\",IF(F138=\"leicht\",VLOOKUP(J138,'Boden DüV-Bolap'!A:AA,19,FALSE),IF(F138=\"mittel\",VLOOKUP(J138,'Boden DüV-Bolap'!A:AA,23,FALSE),IF(F138=\"schwer\",VLOOKUP(J138,'Boden DüV-Bolap'!A:AA,27,FALSE))))))","v":""}]
[135,null,null,null,null,null,null,null,null,null,null,null,null,null,null,null,null,{"$f":"IF(H139=\"\",\"\",IF(H139>39,\"E\",VLOOKUP(H139,'Boden DüV-Bolap'!A:B,2,FALSE)))","v":""},{"$f":"IF(OR(I139=\"\",F139=\"\"),\"\",IF(I139>39,\"E\",IF(F139=\"leicht\",VLOOKUP(I139,'Boden DüV-Bolap'!A:Q,7,FALSE),IF(F139=\"mittel\",VLOOKUP(I139,'Boden DüV-Bolap'!A:K,11,FALSE),IF(F139=\"schwer\",VLOOKUP(I139,'Boden DüV-Bolap'!A:R,15,FALSE))))))","v":""},{"$f":"IF(OR(J139=\"\",F139=\"\"),\"\",IF(J139>39,\"E\",IF(F139=\"leicht\",VLOOKUP(J139,'Boden DüV-Bolap'!A:AA,19,FALSE),IF(F139=\"mittel\",VLOOKUP(J139,'Boden DüV-Bolap'!A:AA,23,FALSE),IF(F139=\"schwer\",VLOOKUP(J139,'Boden DüV-Bolap'!A:AA,27,FALSE))))))","v":""}]
[136,null,null,null,null,null,null,null,null,null,null,null,null,null,null,null,null,{"$f":"IF(H140=\"\",\"\",IF(H140>39,\"E\",VLOOKUP(H140,'Boden DüV-Bolap'!A:B,2,FALSE)))","v":""},{"$f":"IF(OR(I140=\"\",F140=\"\"),\"\",IF(I140>39,\"E\",IF(F140=\"leicht\",VLOOKUP(I140,'Boden DüV-Bolap'!A:Q,7,FALSE),IF(F140=\"mittel\",VLOOKUP(I140,'Boden DüV-Bolap'!A:K,11,FALSE),IF(F140=\"schwer\",VLOOKUP(I140,'Boden DüV-Bolap'!A:R,15,FALSE))))))","v":""},{"$f":"IF(OR(J140=\"\",F140=\"\"),\"\",IF(J140>39,\"E\",IF(F140=\"leicht\",VLOOKUP(J140,'Boden DüV-Bolap'!A:AA,19,FALSE),IF(F140=\"mittel\",VLOOKUP(J140,'Boden DüV-Bolap'!A:AA,23,FALSE),IF(F140=\"schwer\",VLOOKUP(J140,'Boden DüV-Bolap'!A:AA,27,FALSE))))))","v":""}]
[137,null,null,null,null,null,null,null,null,null,null,null,null,null,null,null,null,{"$f":"IF(H141=\"\",\"\",IF(H141>39,\"E\",VLOOKUP(H141,'Boden DüV-Bolap'!A:B,2,FALSE)))","v":""},{"$f":"IF(OR(I141=\"\",F141=\"\"),\"\",IF(I141>39,\"E\",IF(F141=\"leicht\",VLOOKUP(I141,'Boden DüV-Bolap'!A:Q,7,FALSE),IF(F141=\"mittel\",VLOOKUP(I141,'Boden DüV-Bolap'!A:K,11,FALSE),IF(F141=\"schwer\",VLOOKUP(I141,'Boden DüV-Bolap'!A:R,15,FALSE))))))","v":""},{"$f":"IF(OR(J141=\"\",F141=\"\"),\"\",IF(J141>39,\"E\",IF(F141=\"leicht\",VLOOKUP(J141,'Boden DüV-Bolap'!A:AA,19,FALSE),IF(F141=\"mittel\",VLOOKUP(J141,'Boden DüV-Bolap'!A:AA,23,FALSE),IF(F141=\"schwer\",VLOOKUP(J141,'Boden DüV-Bolap'!A:AA,27,FALSE))))))","v":""}]
[138,null,null,null,null,null,null,null,null,null,null,null,null,null,null,null,null,{"$f":"IF(H142=\"\",\"\",IF(H142>39,\"E\",VLOOKUP(H142,'Boden DüV-Bolap'!A:B,2,FALSE)))","v":""},{"$f":"IF(OR(I142=\"\",F142=\"\"),\"\",IF(I142>39,\"E\",IF(F142=\"leicht\",VLOOKUP(I142,'Boden DüV-Bolap'!A:Q,7,FALSE),IF(F142=\"mittel\",VLOOKUP(I142,'Boden DüV-Bolap'!A:K,11,FALSE),IF(F142=\"schwer\",VLOOKUP(I142,'Boden DüV-Bolap'!A:R,15,FALSE))))))","v":""},{"$f":"IF(OR(J142=\"\",F142=\"\"),\"\",IF(J142>39,\"E\",IF(F142=\"leicht\",VLOOKUP(J142,'Boden DüV-Bolap'!A:AA,19,FALSE),IF(F142=\"mittel\",VLOOKUP(J142,'Boden DüV-Bolap'!A:AA,23,FALSE),IF(F142=\"schwer\",VLOOKUP(J142,'Boden DüV-Bolap'!A:AA,27,FALSE))))))","v":""}]
[139,null,null,null,null,null,null,null,null,null,null,null,null,null,null,null,null,{"$f":"IF(H143=\"\",\"\",IF(H143>39,\"E\",VLOOKUP(H143,'Boden DüV-Bolap'!A:B,2,FALSE)))","v":""},{"$f":"IF(OR(I143=\"\",F143=\"\"),\"\",IF(I143>39,\"E\",IF(F143=\"leicht\",VLOOKUP(I143,'Boden DüV-Bolap'!A:Q,7,FALSE),IF(F143=\"mittel\",VLOOKUP(I143,'Boden DüV-Bolap'!A:K,11,FALSE),IF(F143=\"schwer\",VLOOKUP(I143,'Boden DüV-Bolap'!A:R,15,FALSE))))))","v":""},{"$f":"IF(OR(J143=\"\",F143=\"\"),\"\",IF(J143>39,\"E\",IF(F143=\"leicht\",VLOOKUP(J143,'Boden DüV-Bolap'!A:AA,19,FALSE),IF(F143=\"mittel\",VLOOKUP(J143,'Boden DüV-Bolap'!A:AA,23,FALSE),IF(F143=\"schwer\",VLOOKUP(J143,'Boden DüV-Bolap'!A:AA,27,FALSE))))))","v":""}]
[140,null,null,null,null,null,null,null,null,null,null,null,null,null,null,null,null,{"$f":"IF(H144=\"\",\"\",IF(H144>39,\"E\",VLOOKUP(H144,'Boden DüV-Bolap'!A:B,2,FALSE)))","v":""},{"$f":"IF(OR(I144=\"\",F144=\"\"),\"\",IF(I144>39,\"E\",IF(F144=\"leicht\",VLOOKUP(I144,'Boden DüV-Bolap'!A:Q,7,FALSE),IF(F144=\"mittel\",VLOOKUP(I144,'Boden DüV-Bolap'!A:K,11,FALSE),IF(F144=\"schwer\",VLOOKUP(I144,'Boden DüV-Bolap'!A:R,15,FALSE))))))","v":""},{"$f":"IF(OR(J144=\"\",F144=\"\"),\"\",IF(J144>39,\"E\",IF(F144=\"leicht\",VLOOKUP(J144,'Boden DüV-Bolap'!A:AA,19,FALSE),IF(F144=\"mittel\",VLOOKUP(J144,'Boden DüV-Bolap'!A:AA,23,FALSE),IF(F144=\"schwer\",VLOOKUP(J144,'Boden DüV-Bolap'!A:AA,27,FALSE))))))","v":""}]
[141,null,null,null,null,null,null,null,null,null,null,null,null,null,null,null,null,{"$f":"IF(H145=\"\",\"\",IF(H145>39,\"E\",VLOOKUP(H145,'Boden DüV-Bolap'!A:B,2,FALSE)))","v":""},{"$f":"IF(OR(I145=\"\",F145=\"\"),\"\",IF(I145>39,\"E\",IF(F145=\"leicht\",VLOOKUP(I145,'Boden DüV-Bolap'!A:Q,7,FALSE),IF(F145=\"mittel\",VLOOKUP(I145,'Boden DüV-Bolap'!A:K,11,FALSE),IF(F145=\"schwer\",VLOOKUP(I145,'Boden DüV-Bolap'!A:R,15,FALSE))))))","v":""},{"$f":"IF(OR(J145=\"\",F145=\"\"),\"\",IF(J145>39,\"E\",IF(F145=\"leicht\",VLOOKUP(J145,'Boden DüV-Bolap'!A:AA,19,FALSE),IF(F145=\"mittel\",VLOOKUP(J145,'Boden DüV-Bolap'!A:AA,23,FALSE),IF(F145=\"schwer\",VLOOKUP(J145,'Boden DüV-Bolap'!A:AA,27,FALSE))))))","v":""}]
[142,null,null,null,null,null,null,null,null,null,null,null,null,null,null,null,null,{"$f":"IF(H146=\"\",\"\",IF(H146>39,\"E\",VLOOKUP(H146,'Boden DüV-Bolap'!A:B,2,FALSE)))","v":""},{"$f":"IF(OR(I146=\"\",F146=\"\"),\"\",IF(I146>39,\"E\",IF(F146=\"leicht\",VLOOKUP(I146,'Boden DüV-Bolap'!A:Q,7,FALSE),IF(F146=\"mittel\",VLOOKUP(I146,'Boden DüV-Bolap'!A:K,11,FALSE),IF(F146=\"schwer\",VLOOKUP(I146,'Boden DüV-Bolap'!A:R,15,FALSE))))))","v":""},{"$f":"IF(OR(J146=\"\",F146=\"\"),\"\",IF(J146>39,\"E\",IF(F146=\"leicht\",VLOOKUP(J146,'Boden DüV-Bolap'!A:AA,19,FALSE),IF(F146=\"mittel\",VLOOKUP(J146,'Boden DüV-Bolap'!A:AA,23,FALSE),IF(F146=\"schwer\",VLOOKUP(J146,'Boden DüV-Bolap'!A:AA,27,FALSE))))))","v":""}]
[143,null,null,null,null,null,null,null,null,null,null,null,null,null,null,null,null,{"$f":"IF(H147=\"\",\"\",IF(H147>39,\"E\",VLOOKUP(H147,'Boden DüV-Bolap'!A:B,2,FALSE)))","v":""},{"$f":"IF(OR(I147=\"\",F147=\"\"),\"\",IF(I147>39,\"E\",IF(F147=\"leicht\",VLOOKUP(I147,'Boden DüV-Bolap'!A:Q,7,FALSE),IF(F147=\"mittel\",VLOOKUP(I147,'Boden DüV-Bolap'!A:K,11,FALSE),IF(F147=\"schwer\",VLOOKUP(I147,'Boden DüV-Bolap'!A:R,15,FALSE))))))","v":""},{"$f":"IF(OR(J147=\"\",F147=\"\"),\"\",IF(J147>39,\"E\",IF(F147=\"leicht\",VLOOKUP(J147,'Boden DüV-Bolap'!A:AA,19,FALSE),IF(F147=\"mittel\",VLOOKUP(J147,'Boden DüV-Bolap'!A:AA,23,FALSE),IF(F147=\"schwer\",VLOOKUP(J147,'Boden DüV-Bolap'!A:AA,27,FALSE))))))","v":""}]
[144,null,null,null,null,null,null,null,null,null,null,null,null,null,null,null,null,{"$f":"IF(H148=\"\",\"\",IF(H148>39,\"E\",VLOOKUP(H148,'Boden DüV-Bolap'!A:B,2,FALSE)))","v":""},{"$f":"IF(OR(I148=\"\",F148=\"\"),\"\",IF(I148>39,\"E\",IF(F148=\"leicht\",VLOOKUP(I148,'Boden DüV-Bolap'!A:Q,7,FALSE),IF(F148=\"mittel\",VLOOKUP(I148,'Boden DüV-Bolap'!A:K,11,FALSE),IF(F148=\"schwer\",VLOOKUP(I148,'Boden DüV-Bolap'!A:R,15,FALSE))))))","v":""},{"$f":"IF(OR(J148=\"\",F148=\"\"),\"\",IF(J148>39,\"E\",IF(F148=\"leicht\",VLOOKUP(J148,'Boden DüV-Bolap'!A:AA,19,FALSE),IF(F148=\"mittel\",VLOOKUP(J148,'Boden DüV-Bolap'!A:AA,23,FALSE),IF(F148=\"schwer\",VLOOKUP(J148,'Boden DüV-Bolap'!A:AA,27,FALSE))))))","v":""}]
[145,null,null,null,null,null,null,null,null,null,null,null,null,null,null,null,null,{"$f":"IF(H149=\"\",\"\",IF(H149>39,\"E\",VLOOKUP(H149,'Boden DüV-Bolap'!A:B,2,FALSE)))","v":""},{"$f":"IF(OR(I149=\"\",F149=\"\"),\"\",IF(I149>39,\"E\",IF(F149=\"leicht\",VLOOKUP(I149,'Boden DüV-Bolap'!A:Q,7,FALSE),IF(F149=\"mittel\",VLOOKUP(I149,'Boden DüV-Bolap'!A:K,11,FALSE),IF(F149=\"schwer\",VLOOKUP(I149,'Boden DüV-Bolap'!A:R,15,FALSE))))))","v":""},{"$f":"IF(OR(J149=\"\",F149=\"\"),\"\",IF(J149>39,\"E\",IF(F149=\"leicht\",VLOOKUP(J149,'Boden DüV-Bolap'!A:AA,19,FALSE),IF(F149=\"mittel\",VLOOKUP(J149,'Boden DüV-Bolap'!A:AA,23,FALSE),IF(F149=\"schwer\",VLOOKUP(J149,'Boden DüV-Bolap'!A:AA,27,FALSE))))))","v":""}]
[146,null,null,null,null,null,null,null,null,null,null,null,null,null,null,null,null,{"$f":"IF(H150=\"\",\"\",IF(H150>39,\"E\",VLOOKUP(H150,'Boden DüV-Bolap'!A:B,2,FALSE)))","v":""},{"$f":"IF(OR(I150=\"\",F150=\"\"),\"\",IF(I150>39,\"E\",IF(F150=\"leicht\",VLOOKUP(I150,'Boden DüV-Bolap'!A:Q,7,FALSE),IF(F150=\"mittel\",VLOOKUP(I150,'Boden DüV-Bolap'!A:K,11,FALSE),IF(F150=\"schwer\",VLOOKUP(I150,'Boden DüV-Bolap'!A:R,15,FALSE))))))","v":""},{"$f":"IF(OR(J150=\"\",F150=\"\"),\"\",IF(J150>39,\"E\",IF(F150=\"leicht\",VLOOKUP(J150,'Boden DüV-Bolap'!A:AA,19,FALSE),IF(F150=\"mittel\",VLOOKUP(J150,'Boden DüV-Bolap'!A:AA,23,FALSE),IF(F150=\"schwer\",VLOOKUP(J150,'Boden DüV-Bolap'!A:AA,27,FALSE))))))","v":""}]
[147,null,null,null,null,null,null,null,null,null,null,null,null,null,null,null,null,{"$f":"IF(H151=\"\",\"\",IF(H151>39,\"E\",VLOOKUP(H151,'Boden DüV-Bolap'!A:B,2,FALSE)))","v":""},{"$f":"IF(OR(I151=\"\",F151=\"\"),\"\",IF(I151>39,\"E\",IF(F151=\"leicht\",VLOOKUP(I151,'Boden DüV-Bolap'!A:Q,7,FALSE),IF(F151=\"mittel\",VLOOKUP(I151,'Boden DüV-Bolap'!A:K,11,FALSE),IF(F151=\"schwer\",VLOOKUP(I151,'Boden DüV-Bolap'!A:R,15,FALSE))))))","v":""},{"$f":"IF(OR(J151=\"\",F151=\"\"),\"\",IF(J151>39,\"E\",IF(F151=\"leicht\",VLOOKUP(J151,'Boden DüV-Bolap'!A:AA,19,FALSE),IF(F151=\"mittel\",VLOOKUP(J151,'Boden DüV-Bolap'!A:AA,23,FALSE),IF(F151=\"schwer\",VLOOKUP(J151,'Boden DüV-Bolap'!A:AA,27,FALSE))))))","v":""}]
[148,null,null,null,null,null,null,null,null,null,null,null,null,null,null,null,null,{"$f":"IF(H152=\"\",\"\",IF(H152>39,\"E\",VLOOKUP(H152,'Boden DüV-Bolap'!A:B,2,FALSE)))","v":""},{"$f":"IF(OR(I152=\"\",F152=\"\"),\"\",IF(I152>39,\"E\",IF(F152=\"leicht\",VLOOKUP(I152,'Boden DüV-Bolap'!A:Q,7,FALSE),IF(F152=\"mittel\",VLOOKUP(I152,'Boden DüV-Bolap'!A:K,11,FALSE),IF(F152=\"schwer\",VLOOKUP(I152,'Boden DüV-Bolap'!A:R,15,FALSE))))))","v":""},{"$f":"IF(OR(J152=\"\",F152=\"\"),\"\",IF(J152>39,\"E\",IF(F152=\"leicht\",VLOOKUP(J152,'Boden DüV-Bolap'!A:AA,19,FALSE),IF(F152=\"mittel\",VLOOKUP(J152,'Boden DüV-Bolap'!A:AA,23,FALSE),IF(F152=\"schwer\",VLOOKUP(J152,'Boden DüV-Bolap'!A:AA,27,FALSE))))))","v":""}]
[149,null,null,null,null,null,null,null,null,null,null,null,null,null,null,null,null,{"$f":"IF(H153=\"\",\"\",IF(H153>39,\"E\",VLOOKUP(H153,'Boden DüV-Bolap'!A:B,2,FALSE)))","v":""},{"$f":"IF(OR(I153=\"\",F153=\"\"),\"\",IF(I153>39,\"E\",IF(F153=\"leicht\",VLOOKUP(I153,'Boden DüV-Bolap'!A:Q,7,FALSE),IF(F153=\"mittel\",VLOOKUP(I153,'Boden DüV-Bolap'!A:K,11,FALSE),IF(F153=\"schwer\",VLOOKUP(I153,'Boden DüV-Bolap'!A:R,15,FALSE))))))","v":""},{"$f":"IF(OR(J153=\"\",F153=\"\"),\"\",IF(J153>39,\"E\",IF(F153=\"leicht\",VLOOKUP(J153,'Boden DüV-Bolap'!A:AA,19,FALSE),IF(F153=\"mittel\",VLOOKUP(J153,'Boden DüV-Bolap'!A:AA,23,FALSE),IF(F153=\"schwer\",VLOOKUP(J153,'Boden DüV-Bolap'!A:AA,27,FALSE))))))","v":""}]
[150,null,null,null,null,null,null,null,null,null,null,null,null,null,null,null,null,{"$f":"IF(H154=\"\",\"\",IF(H154>39,\"E\",VLOOKUP(H154,'Boden DüV-Bolap'!A:B,2,FALSE)))","v":""},{"$f":"IF(OR(I154=\"\",F154=\"\"),\"\",IF(I154>39,\"E\",IF(F154=\"leicht\",VLOOKUP(I154,'Boden DüV-Bolap'!A:Q,7,FALSE),IF(F154=\"mittel\",VLOOKUP(I154,'Boden DüV-Bolap'!A:K,11,FALSE),IF(F154=\"schwer\",VLOOKUP(I154,'Boden DüV-Bolap'!A:R,15,FALSE))))))","v":""},{"$f":"IF(OR(J154=\"\",F154=\"\"),\"\",IF(J154>39,\"E\",IF(F154=\"leicht\",VLOOKUP(J154,'Boden DüV-Bolap'!A:AA,19,FALSE),IF(F154=\"mittel\",VLOOKUP(J154,'Boden DüV-Bolap'!A:AA,23,FALSE),IF(F154=\"schwer\",VLOOKUP(J154,'Boden DüV-Bolap'!A:AA,27,FALSE))))))","v":""}]
[151,null,null,null,null,null,null,null,null,null,null,null,null,null,null,null,null,{"$f":"IF(H155=\"\",\"\",IF(H155>39,\"E\",VLOOKUP(H155,'Boden DüV-Bolap'!A:B,2,FALSE)))","v":""},{"$f":"IF(OR(I155=\"\",F155=\"\"),\"\",IF(I155>39,\"E\",IF(F155=\"leicht\",VLOOKUP(I155,'Boden DüV-Bolap'!A:Q,7,FALSE),IF(F155=\"mittel\",VLOOKUP(I155,'Boden DüV-Bolap'!A:K,11,FALSE),IF(F155=\"schwer\",VLOOKUP(I155,'Boden DüV-Bolap'!A:R,15,FALSE))))))","v":""},{"$f":"IF(OR(J155=\"\",F155=\"\"),\"\",IF(J155>39,\"E\",IF(F155=\"leicht\",VLOOKUP(J155,'Boden DüV-Bolap'!A:AA,19,FALSE),IF(F155=\"mittel\",VLOOKUP(J155,'Boden DüV-Bolap'!A:AA,23,FALSE),IF(F155=\"schwer\",VLOOKUP(J155,'Boden DüV-Bolap'!A:AA,27,FALSE))))))","v":""}]
[152,null,null,null,null,null,null,null,null,null,null,null,null,null,null,null,null,{"$f":"IF(H156=\"\",\"\",IF(H156>39,\"E\",VLOOKUP(H156,'Boden DüV-Bolap'!A:B,2,FALSE)))","v":""},{"$f":"IF(OR(I156=\"\",F156=\"\"),\"\",IF(I156>39,\"E\",IF(F156=\"leicht\",VLOOKUP(I156,'Boden DüV-Bolap'!A:Q,7,FALSE),IF(F156=\"mittel\",VLOOKUP(I156,'Boden DüV-Bolap'!A:K,11,FALSE),IF(F156=\"schwer\",VLOOKUP(I156,'Boden DüV-Bolap'!A:R,15,FALSE))))))","v":""},{"$f":"IF(OR(J156=\"\",F156=\"\"),\"\",IF(J156>39,\"E\",IF(F156=\"leicht\",VLOOKUP(J156,'Boden DüV-Bolap'!A:AA,19,FALSE),IF(F156=\"mittel\",VLOOKUP(J156,'Boden DüV-Bolap'!A:AA,23,FALSE),IF(F156=\"schwer\",VLOOKUP(J156,'Boden DüV-Bolap'!A:AA,27,FALSE))))))","v":""}]
[153,null,null,null,null,null,null,null,null,null,null,null,null,null,null,null,null,{"$f":"IF(H157=\"\",\"\",IF(H157>39,\"E\",VLOOKUP(H157,'Boden DüV-Bolap'!A:B,2,FALSE)))","v":""},{"$f":"IF(OR(I157=\"\",F157=\"\"),\"\",IF(I157>39,\"E\",IF(F157=\"leicht\",VLOOKUP(I157,'Boden DüV-Bolap'!A:Q,7,FALSE),IF(F157=\"mittel\",VLOOKUP(I157,'Boden DüV-Bolap'!A:K,11,FALSE),IF(F157=\"schwer\",VLOOKUP(I157,'Boden DüV-Bolap'!A:R,15,FALSE))))))","v":""},{"$f":"IF(OR(J157=\"\",F157=\"\"),\"\",IF(J157>39,\"E\",IF(F157=\"leicht\",VLOOKUP(J157,'Boden DüV-Bolap'!A:AA,19,FALSE),IF(F157=\"mittel\",VLOOKUP(J157,'Boden DüV-Bolap'!A:AA,23,FALSE),IF(F157=\"schwer\",VLOOKUP(J157,'Boden DüV-Bolap'!A:AA,27,FALSE))))))","v":""}]
[154,null,null,null,null,null,null,null,null,null,null,null,null,null,null,null,null,{"$f":"IF(H158=\"\",\"\",IF(H158>39,\"E\",VLOOKUP(H158,'Boden DüV-Bolap'!A:B,2,FALSE)))","v":""},{"$f":"IF(OR(I158=\"\",F158=\"\"),\"\",IF(I158>39,\"E\",IF(F158=\"leicht\",VLOOKUP(I158,'Boden DüV-Bolap'!A:Q,7,FALSE),IF(F158=\"mittel\",VLOOKUP(I158,'Boden DüV-Bolap'!A:K,11,FALSE),IF(F158=\"schwer\",VLOOKUP(I158,'Boden DüV-Bolap'!A:R,15,FALSE))))))","v":""},{"$f":"IF(OR(J158=\"\",F158=\"\"),\"\",IF(J158>39,\"E\",IF(F158=\"leicht\",VLOOKUP(J158,'Boden DüV-Bolap'!A:AA,19,FALSE),IF(F158=\"mittel\",VLOOKUP(J158,'Boden DüV-Bolap'!A:AA,23,FALSE),IF(F158=\"schwer\",VLOOKUP(J158,'Boden DüV-Bolap'!A:AA,27,FALSE))))))","v":""}]
[155,null,null,null,null,null,null,null,null,null,null,null,null,null,null,null,null,{"$f":"IF(H159=\"\",\"\",IF(H159>39,\"E\",VLOOKUP(H159,'Boden DüV-Bolap'!A:B,2,FALSE)))","v":""},{"$f":"IF(OR(I159=\"\",F159=\"\"),\"\",IF(I159>39,\"E\",IF(F159=\"leicht\",VLOOKUP(I159,'Boden DüV-Bolap'!A:Q,7,FALSE),IF(F159=\"mittel\",VLOOKUP(I159,'Boden DüV-Bolap'!A:K,11,FALSE),IF(F159=\"schwer\",VLOOKUP(I159,'Boden DüV-Bolap'!A:R,15,FALSE))))))","v":""},{"$f":"IF(OR(J159=\"\",F159=\"\"),\"\",IF(J159>39,\"E\",IF(F159=\"leicht\",VLOOKUP(J159,'Boden DüV-Bolap'!A:AA,19,FALSE),IF(F159=\"mittel\",VLOOKUP(J159,'Boden DüV-Bolap'!A:AA,23,FALSE),IF(F159=\"schwer\",VLOOKUP(J159,'Boden DüV-Bolap'!A:AA,27,FALSE))))))","v":""}]
[156,null,null,null,null,null,null,null,null,null,null,null,null,null,null,null,null,{"$f":"IF(H160=\"\",\"\",IF(H160>39,\"E\",VLOOKUP(H160,'Boden DüV-Bolap'!A:B,2,FALSE)))","v":""},{"$f":"IF(OR(I160=\"\",F160=\"\"),\"\",IF(I160>39,\"E\",IF(F160=\"leicht\",VLOOKUP(I160,'Boden DüV-Bolap'!A:Q,7,FALSE),IF(F160=\"mittel\",VLOOKUP(I160,'Boden DüV-Bolap'!A:K,11,FALSE),IF(F160=\"schwer\",VLOOKUP(I160,'Boden DüV-Bolap'!A:R,15,FALSE))))))","v":""},{"$f":"IF(OR(J160=\"\",F160=\"\"),\"\",IF(J160>39,\"E\",IF(F160=\"leicht\",VLOOKUP(J160,'Boden DüV-Bolap'!A:AA,19,FALSE),IF(F160=\"mittel\",VLOOKUP(J160,'Boden DüV-Bolap'!A:AA,23,FALSE),IF(F160=\"schwer\",VLOOKUP(J160,'Boden DüV-Bolap'!A:AA,27,FALSE))))))","v":""}]
[157,null,null,null,null,null,null,null,null,null,null,null,null,null,null,null,null,{"$f":"IF(H161=\"\",\"\",IF(H161>39,\"E\",VLOOKUP(H161,'Boden DüV-Bolap'!A:B,2,FALSE)))","v":""},{"$f":"IF(OR(I161=\"\",F161=\"\"),\"\",IF(I161>39,\"E\",IF(F161=\"leicht\",VLOOKUP(I161,'Boden DüV-Bolap'!A:Q,7,FALSE),IF(F161=\"mittel\",VLOOKUP(I161,'Boden DüV-Bolap'!A:K,11,FALSE),IF(F161=\"schwer\",VLOOKUP(I161,'Boden DüV-Bolap'!A:R,15,FALSE))))))","v":""},{"$f":"IF(OR(J161=\"\",F161=\"\"),\"\",IF(J161>39,\"E\",IF(F161=\"leicht\",VLOOKUP(J161,'Boden DüV-Bolap'!A:AA,19,FALSE),IF(F161=\"mittel\",VLOOKUP(J161,'Boden DüV-Bolap'!A:AA,23,FALSE),IF(F161=\"schwer\",VLOOKUP(J161,'Boden DüV-Bolap'!A:AA,27,FALSE))))))","v":""}]
[158,null,null,null,null,null,null,null,null,null,null,null,null,null,null,null,null,{"$f":"IF(H162=\"\",\"\",IF(H162>39,\"E\",VLOOKUP(H162,'Boden DüV-Bolap'!A:B,2,FALSE)))","v":""},{"$f":"IF(OR(I162=\"\",F162=\"\"),\"\",IF(I162>39,\"E\",IF(F162=\"leicht\",VLOOKUP(I162,'Boden DüV-Bolap'!A:Q,7,FALSE),IF(F162=\"mittel\",VLOOKUP(I162,'Boden DüV-Bolap'!A:K,11,FALSE),IF(F162=\"schwer\",VLOOKUP(I162,'Boden DüV-Bolap'!A:R,15,FALSE))))))","v":""},{"$f":"IF(OR(J162=\"\",F162=\"\"),\"\",IF(J162>39,\"E\",IF(F162=\"leicht\",VLOOKUP(J162,'Boden DüV-Bolap'!A:AA,19,FALSE),IF(F162=\"mittel\",VLOOKUP(J162,'Boden DüV-Bolap'!A:AA,23,FALSE),IF(F162=\"schwer\",VLOOKUP(J162,'Boden DüV-Bolap'!A:AA,27,FALSE))))))","v":""}]
[159,null,null,null,null,null,null,null,null,null,null,null,null,null,null,null,null,{"$f":"IF(H163=\"\",\"\",IF(H163>39,\"E\",VLOOKUP(H163,'Boden DüV-Bolap'!A:B,2,FALSE)))","v":""},{"$f":"IF(OR(I163=\"\",F163=\"\"),\"\",IF(I163>39,\"E\",IF(F163=\"leicht\",VLOOKUP(I163,'Boden DüV-Bolap'!A:Q,7,FALSE),IF(F163=\"mittel\",VLOOKUP(I163,'Boden DüV-Bolap'!A:K,11,FALSE),IF(F163=\"schwer\",VLOOKUP(I163,'Boden DüV-Bolap'!A:R,15,FALSE))))))","v":""},{"$f":"IF(OR(J163=\"\",F163=\"\"),\"\",IF(J163>39,\"E\",IF(F163=\"leicht\",VLOOKUP(J163,'Boden DüV-Bolap'!A:AA,19,FALSE),IF(F163=\"mittel\",VLOOKUP(J163,'Boden DüV-Bolap'!A:AA,23,FALSE),IF(F163=\"schwer\",VLOOKUP(J163,'Boden DüV-Bolap'!A:AA,27,FALSE))))))","v":""}]
[160,null,null,null,null,null,null,null,null,null,null,null,null,null,null,null,null,{"$f":"IF(H164=\"\",\"\",IF(H164>39,\"E\",VLOOKUP(H164,'Boden DüV-Bolap'!A:B,2,FALSE)))","v":""},{"$f":"IF(OR(I164=\"\",F164=\"\"),\"\",IF(I164>39,\"E\",IF(F164=\"leicht\",VLOOKUP(I164,'Boden DüV-Bolap'!A:Q,7,FALSE),IF(F164=\"mittel\",VLOOKUP(I164,'Boden DüV-Bolap'!A:K,11,FALSE),IF(F164=\"schwer\",VLOOKUP(I164,'Boden DüV-Bolap'!A:R,15,FALSE))))))","v":""},{"$f":"IF(OR(J164=\"\",F164=\"\"),\"\",IF(J164>39,\"E\",IF(F164=\"leicht\",VLOOKUP(J164,'Boden DüV-Bolap'!A:AA,19,FALSE),IF(F164=\"mittel\",VLOOKUP(J164,'Boden DüV-Bolap'!A:AA,23,FALSE),IF(F164=\"schwer\",VLOOKUP(J164,'Boden DüV-Bolap'!A:AA,27,FALSE))))))","v":""}]
[161,null,null,null,null,null,null,null,null,null,null,null,null,null,null,null,null,{"$f":"IF(H165=\"\",\"\",IF(H165>39,\"E\",VLOOKUP(H165,'Boden DüV-Bolap'!A:B,2,FALSE)))","v":""},{"$f":"IF(OR(I165=\"\",F165=\"\"),\"\",IF(I165>39,\"E\",IF(F165=\"leicht\",VLOOKUP(I165,'Boden DüV-Bolap'!A:Q,7,FALSE),IF(F165=\"mittel\",VLOOKUP(I165,'Boden DüV-Bolap'!A:K,11,FALSE),IF(F165=\"schwer\",VLOOKUP(I165,'Boden DüV-Bolap'!A:R,15,FALSE))))))","v":""},{"$f":"IF(OR(J165=\"\",F165=\"\"),\"\",IF(J165>39,\"E\",IF(F165=\"leicht\",VLOOKUP(J165,'Boden DüV-Bolap'!A:AA,19,FALSE),IF(F165=\"mittel\",VLOOKUP(J165,'Boden DüV-Bolap'!A:AA,23,FALSE),IF(F165=\"schwer\",VLOOKUP(J165,'Boden DüV-Bolap'!A:AA,27,FALSE))))))","v":""}]
[162,null,null,null,null,null,null,null,null,null,null,null,null,null,null,null,null,{"$f":"IF(H166=\"\",\"\",IF(H166>39,\"E\",VLOOKUP(H166,'Boden DüV-Bolap'!A:B,2,FALSE)))","v":""},{"$f":"IF(OR(I166=\"\",F166=\"\"),\"\",IF(I166>39,\"E\",IF(F166=\"leicht\",VLOOKUP(I166,'Boden DüV-Bolap'!A:Q,7,FALSE),IF(F166=\"mittel\",VLOOKUP(I166,'Boden DüV-Bolap'!A:K,11,FALSE),IF(F166=\"schwer\",VLOOKUP(I166,'Boden DüV-Bolap'!A:R,15,FALSE))))))","v":""},{"$f":"IF(OR(J166=\"\",F166=\"\"),\"\",IF(J166>39,\"E\",IF(F166=\"leicht\",VLOOKUP(J166,'Boden DüV-Bolap'!A:AA,19,FALSE),IF(F166=\"mittel\",VLOOKUP(J166,'Boden DüV-Bolap'!A:AA,23,FALSE),IF(F166=\"schwer\",VLOOKUP(J166,'Boden DüV-Bolap'!A:AA,27,FALSE))))))","v":""}]
[163,null,null,null,null,null,null,null,null,null,null,null,null,null,null,null,null,{"$f":"IF(H167=\"\",\"\",IF(H167>39,\"E\",VLOOKUP(H167,'Boden DüV-Bolap'!A:B,2,FALSE)))","v":""},{"$f":"IF(OR(I167=\"\",F167=\"\"),\"\",IF(I167>39,\"E\",IF(F167=\"leicht\",VLOOKUP(I167,'Boden DüV-Bolap'!A:Q,7,FALSE),IF(F167=\"mittel\",VLOOKUP(I167,'Boden DüV-Bolap'!A:K,11,FALSE),IF(F167=\"schwer\",VLOOKUP(I167,'Boden DüV-Bolap'!A:R,15,FALSE))))))","v":""},{"$f":"IF(OR(J167=\"\",F167=\"\"),\"\",IF(J167>39,\"E\",IF(F167=\"leicht\",VLOOKUP(J167,'Boden DüV-Bolap'!A:AA,19,FALSE),IF(F167=\"mittel\",VLOOKUP(J167,'Boden DüV-Bolap'!A:AA,23,FALSE),IF(F167=\"schwer\",VLOOKUP(J167,'Boden DüV-Bolap'!A:AA,27,FALSE))))))","v":""}]
[164,null,null,null,null,null,null,null,null,null,null,null,null,null,null,null,null,{"$f":"IF(H168=\"\",\"\",IF(H168>39,\"E\",VLOOKUP(H168,'Boden DüV-Bolap'!A:B,2,FALSE)))","v":""},{"$f":"IF(OR(I168=\"\",F168=\"\"),\"\",IF(I168>39,\"E\",IF(F168=\"leicht\",VLOOKUP(I168,'Boden DüV-Bolap'!A:Q,7,FALSE),IF(F168=\"mittel\",VLOOKUP(I168,'Boden DüV-Bolap'!A:K,11,FALSE),IF(F168=\"schwer\",VLOOKUP(I168,'Boden DüV-Bolap'!A:R,15,FALSE))))))","v":""},{"$f":"IF(OR(J168=\"\",F168=\"\"),\"\",IF(J168>39,\"E\",IF(F168=\"leicht\",VLOOKUP(J168,'Boden DüV-Bolap'!A:AA,19,FALSE),IF(F168=\"mittel\",VLOOKUP(J168,'Boden DüV-Bolap'!A:AA,23,FALSE),IF(F168=\"schwer\",VLOOKUP(J168,'Boden DüV-Bolap'!A:AA,27,FALSE))))))","v":""}]
[165,null,null,null,null,null,null,null,null,null,null,null,null,null,null,null,null,{"$f":"IF(H169=\"\",\"\",IF(H169>39,\"E\",VLOOKUP(H169,'Boden DüV-Bolap'!A:B,2,FALSE)))","v":""},{"$f":"IF(OR(I169=\"\",F169=\"\"),\"\",IF(I169>39,\"E\",IF(F169=\"leicht\",VLOOKUP(I169,'Boden DüV-Bolap'!A:Q,7,FALSE),IF(F169=\"mittel\",VLOOKUP(I169,'Boden DüV-Bolap'!A:K,11,FALSE),IF(F169=\"schwer\",VLOOKUP(I169,'Boden DüV-Bolap'!A:R,15,FALSE))))))","v":""},{"$f":"IF(OR(J169=\"\",F169=\"\"),\"\",IF(J169>39,\"E\",IF(F169=\"leicht\",VLOOKUP(J169,'Boden DüV-Bolap'!A:AA,19,FALSE),IF(F169=\"mittel\",VLOOKUP(J169,'Boden DüV-Bolap'!A:AA,23,FALSE),IF(F169=\"schwer\",VLOOKUP(J169,'Boden DüV-Bolap'!A:AA,27,FALSE))))))","v":""}]
[166,null,null,null,null,null,null,null,null,null,null,null,null,null,null,null,null,{"$f":"IF(H170=\"\",\"\",IF(H170>39,\"E\",VLOOKUP(H170,'Boden DüV-Bolap'!A:B,2,FALSE)))","v":""},{"$f":"IF(OR(I170=\"\",F170=\"\"),\"\",IF(I170>39,\"E\",IF(F170=\"leicht\",VLOOKUP(I170,'Boden DüV-Bolap'!A:Q,7,FALSE),IF(F170=\"mittel\",VLOOKUP(I170,'Boden DüV-Bolap'!A:K,11,FALSE),IF(F170=\"schwer\",VLOOKUP(I170,'Boden DüV-Bolap'!A:R,15,FALSE))))))","v":""},{"$f":"IF(OR(J170=\"\",F170=\"\"),\"\",IF(J170>39,\"E\",IF(F170=\"leicht\",VLOOKUP(J170,'Boden DüV-Bolap'!A:AA,19,FALSE),IF(F170=\"mittel\",VLOOKUP(J170,'Boden DüV-Bolap'!A:AA,23,FALSE),IF(F170=\"schwer\",VLOOKUP(J170,'Boden DüV-Bolap'!A:AA,27,FALSE))))))","v":""}]
[167,null,null,null,null,null,null,null,null,null,null,null,null,null,null,null,null,{"$f":"IF(H171=\"\",\"\",IF(H171>39,\"E\",VLOOKUP(H171,'Boden DüV-Bolap'!A:B,2,FALSE)))","v":""},{"$f":"IF(OR(I171=\"\",F171=\"\"),\"\",IF(I171>39,\"E\",IF(F171=\"leicht\",VLOOKUP(I171,'Boden DüV-Bolap'!A:Q,7,FALSE),IF(F171=\"mittel\",VLOOKUP(I171,'Boden DüV-Bolap'!A:K,11,FALSE),IF(F171=\"schwer\",VLOOKUP(I171,'Boden DüV-Bolap'!A:R,15,FALSE))))))","v":""},{"$f":"IF(OR(J171=\"\",F171=\"\"),\"\",IF(J171>39,\"E\",IF(F171=\"leicht\",VLOOKUP(J171,'Boden DüV-Bolap'!A:AA,19,FALSE),IF(F171=\"mittel\",VLOOKUP(J171,'Boden DüV-Bolap'!A:AA,23,FALSE),IF(F171=\"schwer\",VLOOKUP(J171,'Boden DüV-Bolap'!A:AA,27,FALSE))))))","v":""}]
[168,null,null,null,null,null,null,null,null,null,null,null,null,null,null,null,null,{"$f":"IF(H172=\"\",\"\",IF(H172>39,\"E\",VLOOKUP(H172,'Boden DüV-Bolap'!A:B,2,FALSE)))","v":""},{"$f":"IF(OR(I172=\"\",F172=\"\"),\"\",IF(I172>39,\"E\",IF(F172=\"leicht\",VLOOKUP(I172,'Boden DüV-Bolap'!A:Q,7,FALSE),IF(F172=\"mittel\",VLOOKUP(I172,'Boden DüV-Bolap'!A:K,11,FALSE),IF(F172=\"schwer\",VLOOKUP(I172,'Boden DüV-Bolap'!A:R,15,FALSE))))))","v":""},{"$f":"IF(OR(J172=\"\",F172=\"\"),\"\",IF(J172>39,\"E\",IF(F172=\"leicht\",VLOOKUP(J172,'Boden DüV-Bolap'!A:AA,19,FALSE),IF(F172=\"mittel\",VLOOKUP(J172,'Boden DüV-Bolap'!A:AA,23,FALSE),IF(F172=\"schwer\",VLOOKUP(J172,'Boden DüV-Bolap'!A:AA,27,FALSE))))))","v":""}]
[169,null,null,null,null,null,null,null,null,null,null,null,null,null,null,null,null,{"$f":"IF(H173=\"\",\"\",IF(H173>39,\"E\",VLOOKUP(H173,'Boden DüV-Bolap'!A:B,2,FALSE)))","v":""},{"$f":"IF(OR(I173=\"\",F173=\"\"),\"\",IF(I173>39,\"E\",IF(F173=\"leicht\",VLOOKUP(I173,'Boden DüV-Bolap'!A:Q,7,FALSE),IF(F173=\"mittel\",VLOOKUP(I173,'Boden DüV-Bolap'!A:K,11,FALSE),IF(F173=\"schwer\",VLOOKUP(I173,'Boden DüV-Bolap'!A:R,15,FALSE))))))","v":""},{"$f":"IF(OR(J173=\"\",F173=\"\"),\"\",IF(J173>39,\"E\",IF(F173=\"leicht\",VLOOKUP(J173,'Boden DüV-Bolap'!A:AA,19,FALSE),IF(F173=\"mittel\",VLOOKUP(J173,'Boden DüV-Bolap'!A:AA,23,FALSE),IF(F173=\"schwer\",VLOOKUP(J173,'Boden DüV-Bolap'!A:AA,27,FALSE))))))","v":""}]
[170,null,null,null,null,null,null,null,null,null,null,null,null,null,null,null,null,{"$f":"IF(H174=\"\",\"\",IF(H174>39,\"E\",VLOOKUP(H174,'Boden DüV-Bolap'!A:B,2,FALSE)))","v":""},{"$f":"IF(OR(I174=\"\",F174=\"\"),\"\",IF(I174>39,\"E\",IF(F174=\"leicht\",VLOOKUP(I174,'Boden DüV-Bolap'!A:Q,7,FALSE),IF(F174=\"mittel\",VLOOKUP(I174,'Boden DüV-Bolap'!A:K,11,FALSE),IF(F174=\"schwer\",VLOOKUP(I174,'Boden DüV-Bolap'!A:R,15,FALSE))))))","v":""},{"$f":"IF(OR(J174=\"\",F174=\"\"),\"\",IF(J174>39,\"E\",IF(F174=\"leicht\",VLOOKUP(J174,'Boden DüV-Bolap'!A:AA,19,FALSE),IF(F174=\"mittel\",VLOOKUP(J174,'Boden DüV-Bolap'!A:AA,23,FALSE),IF(F174=\"schwer\",VLOOKUP(J174,'Boden DüV-Bolap'!A:AA,27,FALSE))))))","v":""}]
[171,null,null,null,null,null,null,null,null,null,null,null,null,null,null,null,null,{"$f":"IF(H175=\"\",\"\",IF(H175>39,\"E\",VLOOKUP(H175,'Boden DüV-Bolap'!A:B,2,FALSE)))","v":""},{"$f":"IF(OR(I175=\"\",F175=\"\"),\"\",IF(I175>39,\"E\",IF(F175=\"leicht\",VLOOKUP(I175,'Boden DüV-Bolap'!A:Q,7,FALSE),IF(F175=\"mittel\",VLOOKUP(I175,'Boden DüV-Bolap'!A:K,11,FALSE),IF(F175=\"schwer\",VLOOKUP(I175,'Boden DüV-Bolap'!A:R,15,FALSE))))))","v":""},{"$f":"IF(OR(J175=\"\",F175=\"\"),\"\",IF(J175>39,\"E\",IF(F175=\"leicht\",VLOOKUP(J175,'Boden DüV-Bolap'!A:AA,19,FALSE),IF(F175=\"mittel\",VLOOKUP(J175,'Boden DüV-Bolap'!A:AA,23,FALSE),IF(F175=\"schwer\",VLOOKUP(J175,'Boden DüV-Bolap'!A:AA,27,FALSE))))))","v":""}]
[172,null,null,null,null,null,null,null,null,null,null,null,null,null,null,null,null,{"$f":"IF(H176=\"\",\"\",IF(H176>39,\"E\",VLOOKUP(H176,'Boden DüV-Bolap'!A:B,2,FALSE)))","v":""},{"$f":"IF(OR(I176=\"\",F176=\"\"),\"\",IF(I176>39,\"E\",IF(F176=\"leicht\",VLOOKUP(I176,'Boden DüV-Bolap'!A:Q,7,FALSE),IF(F176=\"mittel\",VLOOKUP(I176,'Boden DüV-Bolap'!A:K,11,FALSE),IF(F176=\"schwer\",VLOOKUP(I176,'Boden DüV-Bolap'!A:R,15,FALSE))))))","v":""},{"$f":"IF(OR(J176=\"\",F176=\"\"),\"\",IF(J176>39,\"E\",IF(F176=\"leicht\",VLOOKUP(J176,'Boden DüV-Bolap'!A:AA,19,FALSE),IF(F176=\"mittel\",VLOOKUP(J176,'Boden DüV-Bolap'!A:AA,23,FALSE),IF(F176=\"schwer\",VLOOKUP(J176,'Boden DüV-Bolap'!A:AA,27,FALSE))))))","v":""}]
[173,null,null,null,null,null,null,null,null,null,null,null,null,null,null,null,null,{"$f":"IF(H177=\"\",\"\",IF(H177>39,\"E\",VLOOKUP(H177,'Boden DüV-Bolap'!A:B,2,FALSE)))","v":""},{"$f":"IF(OR(I177=\"\",F177=\"\"),\"\",IF(I177>39,\"E\",IF(F177=\"leicht\",VLOOKUP(I177,'Boden DüV-Bolap'!A:Q,7,FALSE),IF(F177=\"mittel\",VLOOKUP(I177,'Boden DüV-Bolap'!A:K,11,FALSE),IF(F177=\"schwer\",VLOOKUP(I177,'Boden DüV-Bolap'!A:R,15,FALSE))))))","v":""},{"$f":"IF(OR(J177=\"\",F177=\"\"),\"\",IF(J177>39,\"E\",IF(F177=\"leicht\",VLOOKUP(J177,'Boden DüV-Bolap'!A:AA,19,FALSE),IF(F177=\"mittel\",VLOOKUP(J177,'Boden DüV-Bolap'!A:AA,23,FALSE),IF(F177=\"schwer\",VLOOKUP(J177,'Boden DüV-Bolap'!A:AA,27,FALSE))))))","v":""}]
[174,null,null,null,null,null,null,null,null,null,null,null,null,null,null,null,null,{"$f":"IF(H178=\"\",\"\",IF(H178>39,\"E\",VLOOKUP(H178,'Boden DüV-Bolap'!A:B,2,FALSE)))","v":""},{"$f":"IF(OR(I178=\"\",F178=\"\"),\"\",IF(I178>39,\"E\",IF(F178=\"leicht\",VLOOKUP(I178,'Boden DüV-Bolap'!A:Q,7,FALSE),IF(F178=\"mittel\",VLOOKUP(I178,'Boden DüV-Bolap'!A:K,11,FALSE),IF(F178=\"schwer\",VLOOKUP(I178,'Boden DüV-Bolap'!A:R,15,FALSE))))))","v":""},{"$f":"IF(OR(J178=\"\",F178=\"\"),\"\",IF(J178>39,\"E\",IF(F178=\"leicht\",VLOOKUP(J178,'Boden DüV-Bolap'!A:AA,19,FALSE),IF(F178=\"mittel\",VLOOKUP(J178,'Boden DüV-Bolap'!A:AA,23,FALSE),IF(F178=\"schwer\",VLOOKUP(J178,'Boden DüV-Bolap'!A:AA,27,FALSE))))))","v":""}]
[175,null,null,null,null,null,null,null,null,null,null,null,null,null,null,null,null,{"$f":"IF(H179=\"\",\"\",IF(H179>39,\"E\",VLOOKUP(H179,'Boden DüV-Bolap'!A:B,2,FALSE)))","v":""},{"$f":"IF(OR(I179=\"\",F179=\"\"),\"\",IF(I179>39,\"E\",IF(F179=\"leicht\",VLOOKUP(I179,'Boden DüV-Bolap'!A:Q,7,FALSE),IF(F179=\"mittel\",VLOOKUP(I179,'Boden DüV-Bolap'!A:K,11,FALSE),IF(F179=\"schwer\",VLOOKUP(I179,'Boden DüV-Bolap'!A:R,15,FALSE))))))","v":""},{"$f":"IF(OR(J179=\"\",F179=\"\"),\"\",IF(J179>39,\"E\",IF(F179=\"leicht\",VLOOKUP(J179,'Boden DüV-Bolap'!A:AA,19,FALSE),IF(F179=\"mittel\",VLOOKUP(J179,'Boden DüV-Bolap'!A:AA,23,FALSE),IF(F179=\"schwer\",VLOOKUP(J179,'Boden DüV-Bolap'!A:AA,27,FALSE))))))","v":""}]
[176,null,null,null,null,null,null,null,null,null,null,null,null,null,null,null,null,{"$f":"IF(H180=\"\",\"\",IF(H180>39,\"E\",VLOOKUP(H180,'Boden DüV-Bolap'!A:B,2,FALSE)))","v":""},{"$f":"IF(OR(I180=\"\",F180=\"\"),\"\",IF(I180>39,\"E\",IF(F180=\"leicht\",VLOOKUP(I180,'Boden DüV-Bolap'!A:Q,7,FALSE),IF(F180=\"mittel\",VLOOKUP(I180,'Boden DüV-Bolap'!A:K,11,FALSE),IF(F180=\"schwer\",VLOOKUP(I180,'Boden DüV-Bolap'!A:R,15,FALSE))))))","v":""},{"$f":"IF(OR(J180=\"\",F180=\"\"),\"\",IF(J180>39,\"E\",IF(F180=\"leicht\",VLOOKUP(J180,'Boden DüV-Bolap'!A:AA,19,FALSE),IF(F180=\"mittel\",VLOOKUP(J180,'Boden DüV-Bolap'!A:AA,23,FALSE),IF(F180=\"schwer\",VLOOKUP(J180,'Boden DüV-Bolap'!A:AA,27,FALSE))))))","v":""}]
[177,null,null,null,null,null,null,null,null,null,null,null,null,null,null,null,null,{"$f":"IF(H181=\"\",\"\",IF(H181>39,\"E\",VLOOKUP(H181,'Boden DüV-Bolap'!A:B,2,FALSE)))","v":""},{"$f":"IF(OR(I181=\"\",F181=\"\"),\"\",IF(I181>39,\"E\",IF(F181=\"leicht\",VLOOKUP(I181,'Boden DüV-Bolap'!A:Q,7,FALSE),IF(F181=\"mittel\",VLOOKUP(I181,'Boden DüV-Bolap'!A:K,11,FALSE),IF(F181=\"schwer\",VLOOKUP(I181,'Boden DüV-Bolap'!A:R,15,FALSE))))))","v":""},{"$f":"IF(OR(J181=\"\",F181=\"\"),\"\",IF(J181>39,\"E\",IF(F181=\"leicht\",VLOOKUP(J181,'Boden DüV-Bolap'!A:AA,19,FALSE),IF(F181=\"mittel\",VLOOKUP(J181,'Boden DüV-Bolap'!A:AA,23,FALSE),IF(F181=\"schwer\",VLOOKUP(J181,'Boden DüV-Bolap'!A:AA,27,FALSE))))))","v":""}]
[178,null,null,null,null,null,null,null,null,null,null,null,null,null,null,null,null,{"$f":"IF(H182=\"\",\"\",IF(H182>39,\"E\",VLOOKUP(H182,'Boden DüV-Bolap'!A:B,2,FALSE)))","v":""},{"$f":"IF(OR(I182=\"\",F182=\"\"),\"\",IF(I182>39,\"E\",IF(F182=\"leicht\",VLOOKUP(I182,'Boden DüV-Bolap'!A:Q,7,FALSE),IF(F182=\"mittel\",VLOOKUP(I182,'Boden DüV-Bolap'!A:K,11,FALSE),IF(F182=\"schwer\",VLOOKUP(I182,'Boden DüV-Bolap'!A:R,15,FALSE))))))","v":""},{"$f":"IF(OR(J182=\"\",F182=\"\"),\"\",IF(J182>39,\"E\",IF(F182=\"leicht\",VLOOKUP(J182,'Boden DüV-Bolap'!A:AA,19,FALSE),IF(F182=\"mittel\",VLOOKUP(J182,'Boden DüV-Bolap'!A:AA,23,FALSE),IF(F182=\"schwer\",VLOOKUP(J182,'Boden DüV-Bolap'!A:AA,27,FALSE))))))","v":""}]
[179,null,null,null,null,null,null,null,null,null,null,null,null,null,null,null,null,{"$f":"IF(H183=\"\",\"\",IF(H183>39,\"E\",VLOOKUP(H183,'Boden DüV-Bolap'!A:B,2,FALSE)))","v":""},{"$f":"IF(OR(I183=\"\",F183=\"\"),\"\",IF(I183>39,\"E\",IF(F183=\"leicht\",VLOOKUP(I183,'Boden DüV-Bolap'!A:Q,7,FALSE),IF(F183=\"mittel\",VLOOKUP(I183,'Boden DüV-Bolap'!A:K,11,FALSE),IF(F183=\"schwer\",VLOOKUP(I183,'Boden DüV-Bolap'!A:R,15,FALSE))))))","v":""},{"$f":"IF(OR(J183=\"\",F183=\"\"),\"\",IF(J183>39,\"E\",IF(F183=\"leicht\",VLOOKUP(J183,'Boden DüV-Bolap'!A:AA,19,FALSE),IF(F183=\"mittel\",VLOOKUP(J183,'Boden DüV-Bolap'!A:AA,23,FALSE),IF(F183=\"schwer\",VLOOKUP(J183,'Boden DüV-Bolap'!A:AA,27,FALSE))))))","v":""}]
[180,null,null,null,null,null,null,null,null,null,null,null,null,null,null,null,null,{"$f":"IF(H184=\"\",\"\",IF(H184>39,\"E\",VLOOKUP(H184,'Boden DüV-Bolap'!A:B,2,FALSE)))","v":""},{"$f":"IF(OR(I184=\"\",F184=\"\"),\"\",IF(I184>39,\"E\",IF(F184=\"leicht\",VLOOKUP(I184,'Boden DüV-Bolap'!A:Q,7,FALSE),IF(F184=\"mittel\",VLOOKUP(I184,'Boden DüV-Bolap'!A:K,11,FALSE),IF(F184=\"schwer\",VLOOKUP(I184,'Boden DüV-Bolap'!A:R,15,FALSE))))))","v":""},{"$f":"IF(OR(J184=\"\",F184=\"\"),\"\",IF(J184>39,\"E\",IF(F184=\"leicht\",VLOOKUP(J184,'Boden DüV-Bolap'!A:AA,19,FALSE),IF(F184=\"mittel\",VLOOKUP(J184,'Boden DüV-Bolap'!A:AA,23,FALSE),IF(F184=\"schwer\",VLOOKUP(J184,'Boden DüV-Bolap'!A:AA,27,FALSE))))))","v":""}]
[181,null,null,null,null,null,null,null,null,null,null,null,null,null,null,null,null,{"$f":"IF(H185=\"\",\"\",IF(H185>39,\"E\",VLOOKUP(H185,'Boden DüV-Bolap'!A:B,2,FALSE)))","v":""},{"$f":"IF(OR(I185=\"\",F185=\"\"),\"\",IF(I185>39,\"E\",IF(F185=\"leicht\",VLOOKUP(I185,'Boden DüV-Bolap'!A:Q,7,FALSE),IF(F185=\"mittel\",VLOOKUP(I185,'Boden DüV-Bolap'!A:K,11,FALSE),IF(F185=\"schwer\",VLOOKUP(I185,'Boden DüV-Bolap'!A:R,15,FALSE))))))","v":""},{"$f":"IF(OR(J185=\"\",F185=\"\"),\"\",IF(J185>39,\"E\",IF(F185=\"leicht\",VLOOKUP(J185,'Boden DüV-Bolap'!A:AA,19,FALSE),IF(F185=\"mittel\",VLOOKUP(J185,'Boden DüV-Bolap'!A:AA,23,FALSE),IF(F185=\"schwer\",VLOOKUP(J185,'Boden DüV-Bolap'!A:AA,27,FALSE))))))","v":""}]
[182,null,null,null,null,null,null,null,null,null,null,null,null,null,null,null,null,{"$f":"IF(H186=\"\",\"\",IF(H186>39,\"E\",VLOOKUP(H186,'Boden DüV-Bolap'!A:B,2,FALSE)))","v":""},{"$f":"IF(OR(I186=\"\",F186=\"\"),\"\",IF(I186>39,\"E\",IF(F186=\"leicht\",VLOOKUP(I186,'Boden DüV-Bolap'!A:Q,7,FALSE),IF(F186=\"mittel\",VLOOKUP(I186,'Boden DüV-Bolap'!A:K,11,FALSE),IF(F186=\"schwer\",VLOOKUP(I186,'Boden DüV-Bolap'!A:R,15,FALSE))))))","v":""},{"$f":"IF(OR(J186=\"\",F186=\"\"),\"\",IF(J186>39,\"E\",IF(F186=\"leicht\",VLOOKUP(J186,'Boden DüV-Bolap'!A:AA,19,FALSE),IF(F186=\"mittel\",VLOOKUP(J186,'Boden DüV-Bolap'!A:AA,23,FALSE),IF(F186=\"schwer\",VLOOKUP(J186,'Boden DüV-Bolap'!A:AA,27,FALSE))))))","v":""}]
[183,null,null,null,null,null,null,null,null,null,null,null,null,null,null,null,null,{"$f":"IF(H187=\"\",\"\",IF(H187>39,\"E\",VLOOKUP(H187,'Boden DüV-Bolap'!A:B,2,FALSE)))","v":""},{"$f":"IF(OR(I187=\"\",F187=\"\"),\"\",IF(I187>39,\"E\",IF(F187=\"leicht\",VLOOKUP(I187,'Boden DüV-Bolap'!A:Q,7,FALSE),IF(F187=\"mittel\",VLOOKUP(I187,'Boden DüV-Bolap'!A:K,11,FALSE),IF(F187=\"schwer\",VLOOKUP(I187,'Boden DüV-Bolap'!A:R,15,FALSE))))))","v":""},{"$f":"IF(OR(J187=\"\",F187=\"\"),\"\",IF(J187>39,\"E\",IF(F187=\"leicht\",VLOOKUP(J187,'Boden DüV-Bolap'!A:AA,19,FALSE),IF(F187=\"mittel\",VLOOKUP(J187,'Boden DüV-Bolap'!A:AA,23,FALSE),IF(F187=\"schwer\",VLOOKUP(J187,'Boden DüV-Bolap'!A:AA,27,FALSE))))))","v":""}]
[184,null,null,null,null,null,null,null,null,null,null,null,null,null,null,null,null,{"$f":"IF(H188=\"\",\"\",IF(H188>39,\"E\",VLOOKUP(H188,'Boden DüV-Bolap'!A:B,2,FALSE)))","v":""},{"$f":"IF(OR(I188=\"\",F188=\"\"),\"\",IF(I188>39,\"E\",IF(F188=\"leicht\",VLOOKUP(I188,'Boden DüV-Bolap'!A:Q,7,FALSE),IF(F188=\"mittel\",VLOOKUP(I188,'Boden DüV-Bolap'!A:K,11,FALSE),IF(F188=\"schwer\",VLOOKUP(I188,'Boden DüV-Bolap'!A:R,15,FALSE))))))","v":""},{"$f":"IF(OR(J188=\"\",F188=\"\"),\"\",IF(J188>39,\"E\",IF(F188=\"leicht\",VLOOKUP(J188,'Boden DüV-Bolap'!A:AA,19,FALSE),IF(F188=\"mittel\",VLOOKUP(J188,'Boden DüV-Bolap'!A:AA,23,FALSE),IF(F188=\"schwer\",VLOOKUP(J188,'Boden DüV-Bolap'!A:AA,27,FALSE))))))","v":""}]
[185,null,null,null,null,null,null,null,null,null,null,null,null,null,null,null,null,{"$f":"IF(H189=\"\",\"\",IF(H189>39,\"E\",VLOOKUP(H189,'Boden DüV-Bolap'!A:B,2,FALSE)))","v":""},{"$f":"IF(OR(I189=\"\",F189=\"\"),\"\",IF(I189>39,\"E\",IF(F189=\"leicht\",VLOOKUP(I189,'Boden DüV-Bolap'!A:Q,7,FALSE),IF(F189=\"mittel\",VLOOKUP(I189,'Boden DüV-Bolap'!A:K,11,FALSE),IF(F189=\"schwer\",VLOOKUP(I189,'Boden DüV-Bolap'!A:R,15,FALSE))))))","v":""},{"$f":"IF(OR(J189=\"\",F189=\"\"),\"\",IF(J189>39,\"E\",IF(F189=\"leicht\",VLOOKUP(J189,'Boden DüV-Bolap'!A:AA,19,FALSE),IF(F189=\"mittel\",VLOOKUP(J189,'Boden DüV-Bolap'!A:AA,23,FALSE),IF(F189=\"schwer\",VLOOKUP(J189,'Boden DüV-Bolap'!A:AA,27,FALSE))))))","v":""}]
[186,null,null,null,null,null,null,null,null,null,null,null,null,null,null,null,null,{"$f":"IF(H190=\"\",\"\",IF(H190>39,\"E\",VLOOKUP(H190,'Boden DüV-Bolap'!A:B,2,FALSE)))","v":""},{"$f":"IF(OR(I190=\"\",F190=\"\"),\"\",IF(I190>39,\"E\",IF(F190=\"leicht\",VLOOKUP(I190,'Boden DüV-Bolap'!A:Q,7,FALSE),IF(F190=\"mittel\",VLOOKUP(I190,'Boden DüV-Bolap'!A:K,11,FALSE),IF(F190=\"schwer\",VLOOKUP(I190,'Boden DüV-Bolap'!A:R,15,FALSE))))))","v":""},{"$f":"IF(OR(J190=\"\",F190=\"\"),\"\",IF(J190>39,\"E\",IF(F190=\"leicht\",VLOOKUP(J190,'Boden DüV-Bolap'!A:AA,19,FALSE),IF(F190=\"mittel\",VLOOKUP(J190,'Boden DüV-Bolap'!A:AA,23,FALSE),IF(F190=\"schwer\",VLOOKUP(J190,'Boden DüV-Bolap'!A:AA,27,FALSE))))))","v":""}]
[187,null,null,null,null,null,null,null,null,null,null,null,null,null,null,null,null,{"$f":"IF(H191=\"\",\"\",IF(H191>39,\"E\",VLOOKUP(H191,'Boden DüV-Bolap'!A:B,2,FALSE)))","v":""},{"$f":"IF(OR(I191=\"\",F191=\"\"),\"\",IF(I191>39,\"E\",IF(F191=\"leicht\",VLOOKUP(I191,'Boden DüV-Bolap'!A:Q,7,FALSE),IF(F191=\"mittel\",VLOOKUP(I191,'Boden DüV-Bolap'!A:K,11,FALSE),IF(F191=\"schwer\",VLOOKUP(I191,'Boden DüV-Bolap'!A:R,15,FALSE))))))","v":""},{"$f":"IF(OR(J191=\"\",F191=\"\"),\"\",IF(J191>39,\"E\",IF(F191=\"leicht\",VLOOKUP(J191,'Boden DüV-Bolap'!A:AA,19,FALSE),IF(F191=\"mittel\",VLOOKUP(J191,'Boden DüV-Bolap'!A:AA,23,FALSE),IF(F191=\"schwer\",VLOOKUP(J191,'Boden DüV-Bolap'!A:AA,27,FALSE))))))","v":""}]
[188,null,null,null,null,null,null,null,null,null,null,null,null,null,null,null,null,{"$f":"IF(H192=\"\",\"\",IF(H192>39,\"E\",VLOOKUP(H192,'Boden DüV-Bolap'!A:B,2,FALSE)))","v":""},{"$f":"IF(OR(I192=\"\",F192=\"\"),\"\",IF(I192>39,\"E\",IF(F192=\"leicht\",VLOOKUP(I192,'Boden DüV-Bolap'!A:Q,7,FALSE),IF(F192=\"mittel\",VLOOKUP(I192,'Boden DüV-Bolap'!A:K,11,FALSE),IF(F192=\"schwer\",VLOOKUP(I192,'Boden DüV-Bolap'!A:R,15,FALSE))))))","v":""},{"$f":"IF(OR(J192=\"\",F192=\"\"),\"\",IF(J192>39,\"E\",IF(F192=\"leicht\",VLOOKUP(J192,'Boden DüV-Bolap'!A:AA,19,FALSE),IF(F192=\"mittel\",VLOOKUP(J192,'Boden DüV-Bolap'!A:AA,23,FALSE),IF(F192=\"schwer\",VLOOKUP(J192,'Boden DüV-Bolap'!A:AA,27,FALSE))))))","v":""}]
[189,null,null,null,null,null,null,null,null,null,null,null,null,null,null,null,null,{"$f":"IF(H193=\"\",\"\",IF(H193>39,\"E\",VLOOKUP(H193,'Boden DüV-Bolap'!A:B,2,FALSE)))","v":""},{"$f":"IF(OR(I193=\"\",F193=\"\"),\"\",IF(I193>39,\"E\",IF(F193=\"leicht\",VLOOKUP(I193,'Boden DüV-Bolap'!A:Q,7,FALSE),IF(F193=\"mittel\",VLOOKUP(I193,'Boden DüV-Bolap'!A:K,11,FALSE),IF(F193=\"schwer\",VLOOKUP(I193,'Boden DüV-Bolap'!A:R,15,FALSE))))))","v":""},{"$f":"IF(OR(J193=\"\",F193=\"\"),\"\",IF(J193>39,\"E\",IF(F193=\"leicht\",VLOOKUP(J193,'Boden DüV-Bolap'!A:AA,19,FALSE),IF(F193=\"mittel\",VLOOKUP(J193,'Boden DüV-Bolap'!A:AA,23,FALSE),IF(F193=\"schwer\",VLOOKUP(J193,'Boden DüV-Bolap'!A:AA,27,FALSE))))))","v":""}]
[190,null,null,null,null,null,null,null,null,null,null,null,null,null,null,null,null,{"$f":"IF(H194=\"\",\"\",IF(H194>39,\"E\",VLOOKUP(H194,'Boden DüV-Bolap'!A:B,2,FALSE)))","v":""},{"$f":"IF(OR(I194=\"\",F194=\"\"),\"\",IF(I194>39,\"E\",IF(F194=\"leicht\",VLOOKUP(I194,'Boden DüV-Bolap'!A:Q,7,FALSE),IF(F194=\"mittel\",VLOOKUP(I194,'Boden DüV-Bolap'!A:K,11,FALSE),IF(F194=\"schwer\",VLOOKUP(I194,'Boden DüV-Bolap'!A:R,15,FALSE))))))","v":""},{"$f":"IF(OR(J194=\"\",F194=\"\"),\"\",IF(J194>39,\"E\",IF(F194=\"leicht\",VLOOKUP(J194,'Boden DüV-Bolap'!A:AA,19,FALSE),IF(F194=\"mittel\",VLOOKUP(J194,'Boden DüV-Bolap'!A:AA,23,FALSE),IF(F194=\"schwer\",VLOOKUP(J194,'Boden DüV-Bolap'!A:AA,27,FALSE))))))","v":""}]
[191,null,null,null,null,null,null,null,null,null,null,null,null,null,null,null,null,{"$f":"IF(H195=\"\",\"\",IF(H195>39,\"E\",VLOOKUP(H195,'Boden DüV-Bolap'!A:B,2,FALSE)))","v":""},{"$f":"IF(OR(I195=\"\",F195=\"\"),\"\",IF(I195>39,\"E\",IF(F195=\"leicht\",VLOOKUP(I195,'Boden DüV-Bolap'!A:Q,7,FALSE),IF(F195=\"mittel\",VLOOKUP(I195,'Boden DüV-Bolap'!A:K,11,FALSE),IF(F195=\"schwer\",VLOOKUP(I195,'Boden DüV-Bolap'!A:R,15,FALSE))))))","v":""},{"$f":"IF(OR(J195=\"\",F195=\"\"),\"\",IF(J195>39,\"E\",IF(F195=\"leicht\",VLOOKUP(J195,'Boden DüV-Bolap'!A:AA,19,FALSE),IF(F195=\"mittel\",VLOOKUP(J195,'Boden DüV-Bolap'!A:AA,23,FALSE),IF(F195=\"schwer\",VLOOKUP(J195,'Boden DüV-Bolap'!A:AA,27,FALSE))))))","v":""}]
[192,null,null,null,null,null,null,null,null,null,null,null,null,null,null,null,null,{"$f":"IF(H196=\"\",\"\",IF(H196>39,\"E\",VLOOKUP(H196,'Boden DüV-Bolap'!A:B,2,FALSE)))","v":""},{"$f":"IF(OR(I196=\"\",F196=\"\"),\"\",IF(I196>39,\"E\",IF(F196=\"leicht\",VLOOKUP(I196,'Boden DüV-Bolap'!A:Q,7,FALSE),IF(F196=\"mittel\",VLOOKUP(I196,'Boden DüV-Bolap'!A:K,11,FALSE),IF(F196=\"schwer\",VLOOKUP(I196,'Boden DüV-Bolap'!A:R,15,FALSE))))))","v":""},{"$f":"IF(OR(J196=\"\",F196=\"\"),\"\",IF(J196>39,\"E\",IF(F196=\"leicht\",VLOOKUP(J196,'Boden DüV-Bolap'!A:AA,19,FALSE),IF(F196=\"mittel\",VLOOKUP(J196,'Boden DüV-Bolap'!A:AA,23,FALSE),IF(F196=\"schwer\",VLOOKUP(J196,'Boden DüV-Bolap'!A:AA,27,FALSE))))))","v":""}]
[193,null,null,null,null,null,null,null,null,null,null,null,null,null,null,null,null,{"$f":"IF(H197=\"\",\"\",IF(H197>39,\"E\",VLOOKUP(H197,'Boden DüV-Bolap'!A:B,2,FALSE)))","v":""},{"$f":"IF(OR(I197=\"\",F197=\"\"),\"\",IF(I197>39,\"E\",IF(F197=\"leicht\",VLOOKUP(I197,'Boden DüV-Bolap'!A:Q,7,FALSE),IF(F197=\"mittel\",VLOOKUP(I197,'Boden DüV-Bolap'!A:K,11,FALSE),IF(F197=\"schwer\",VLOOKUP(I197,'Boden DüV-Bolap'!A:R,15,FALSE))))))","v":""},{"$f":"IF(OR(J197=\"\",F197=\"\"),\"\",IF(J197>39,\"E\",IF(F197=\"leicht\",VLOOKUP(J197,'Boden DüV-Bolap'!A:AA,19,FALSE),IF(F197=\"mittel\",VLOOKUP(J197,'Boden DüV-Bolap'!A:AA,23,FALSE),IF(F197=\"schwer\",VLOOKUP(J197,'Boden DüV-Bolap'!A:AA,27,FALSE))))))","v":""}]
[194,null,null,null,null,null,null,null,null,null,null,null,null,null,null,null,null,{"$f":"IF(H198=\"\",\"\",IF(H198>39,\"E\",VLOOKUP(H198,'Boden DüV-Bolap'!A:B,2,FALSE)))","v":""},{"$f":"IF(OR(I198=\"\",F198=\"\"),\"\",IF(I198>39,\"E\",IF(F198=\"leicht\",VLOOKUP(I198,'Boden DüV-Bolap'!A:Q,7,FALSE),IF(F198=\"mittel\",VLOOKUP(I198,'Boden DüV-Bolap'!A:K,11,FALSE),IF(F198=\"schwer\",VLOOKUP(I198,'Boden DüV-Bolap'!A:R,15,FALSE))))))","v":""},{"$f":"IF(OR(J198=\"\",F198=\"\"),\"\",IF(J198>39,\"E\",IF(F198=\"leicht\",VLOOKUP(J198,'Boden DüV-Bolap'!A:AA,19,FALSE),IF(F198=\"mittel\",VLOOKUP(J198,'Boden DüV-Bolap'!A:AA,23,FALSE),IF(F198=\"schwer\",VLOOKUP(J198,'Boden DüV-Bolap'!A:AA,27,FALSE))))))","v":""}]
[195,null,null,null,null,null,null,null,null,null,null,null,null,null,null,null,null,{"$f":"IF(H199=\"\",\"\",IF(H199>39,\"E\",VLOOKUP(H199,'Boden DüV-Bolap'!A:B,2,FALSE)))","v":""},{"$f":"IF(OR(I199=\"\",F199=\"\"),\"\",IF(I199>39,\"E\",IF(F199=\"leicht\",VLOOKUP(I199,'Boden DüV-Bolap'!A:Q,7,FALSE),IF(F199=\"mittel\",VLOOKUP(I199,'Boden DüV-Bolap'!A:K,11,FALSE),IF(F199=\"schwer\",VLOOKUP(I199,'Boden DüV-Bolap'!A:R,15,FALSE))))))","v":""},{"$f":"IF(OR(J199=\"\",F199=\"\"),\"\",IF(J199>39,\"E\",IF(F199=\"leicht\",VLOOKUP(J199,'Boden DüV-Bolap'!A:AA,19,FALSE),IF(F199=\"mittel\",VLOOKUP(J199,'Boden DüV-Bolap'!A:AA,23,FALSE),IF(F199=\"schwer\",VLOOKUP(J199,'Boden DüV-Bolap'!A:AA,27,FALSE))))))","v":""}]
[196,null,null,null,null,null,null,null,null,null,null,null,null,null,null,null,null,{"$f":"IF(H200=\"\",\"\",IF(H200>39,\"E\",VLOOKUP(H200,'Boden DüV-Bolap'!A:B,2,FALSE)))","v":""},{"$f":"IF(OR(I200=\"\",F200=\"\"),\"\",IF(I200>39,\"E\",IF(F200=\"leicht\",VLOOKUP(I200,'Boden DüV-Bolap'!A:Q,7,FALSE),IF(F200=\"mittel\",VLOOKUP(I200,'Boden DüV-Bolap'!A:K,11,FALSE),IF(F200=\"schwer\",VLOOKUP(I200,'Boden DüV-Bolap'!A:R,15,FALSE))))))","v":""},{"$f":"IF(OR(J200=\"\",F200=\"\"),\"\",IF(J200>39,\"E\",IF(F200=\"leicht\",VLOOKUP(J200,'Boden DüV-Bolap'!A:AA,19,FALSE),IF(F200=\"mittel\",VLOOKUP(J200,'Boden DüV-Bolap'!A:AA,23,FALSE),IF(F200=\"schwer\",VLOOKUP(J200,'Boden DüV-Bolap'!A:AA,27,FALSE))))))","v":""}]
[197,null,null,null,null,null,null,null,null,null,null,null,null,null,null,null,null,{"$f":"IF(H201=\"\",\"\",IF(H201>39,\"E\",VLOOKUP(H201,'Boden DüV-Bolap'!A:B,2,FALSE)))","v":""},{"$f":"IF(OR(I201=\"\",F201=\"\"),\"\",IF(I201>39,\"E\",IF(F201=\"leicht\",VLOOKUP(I201,'Boden DüV-Bolap'!A:Q,7,FALSE),IF(F201=\"mittel\",VLOOKUP(I201,'Boden DüV-Bolap'!A:K,11,FALSE),IF(F201=\"schwer\",VLOOKUP(I201,'Boden DüV-Bolap'!A:R,15,FALSE))))))","v":""},{"$f":"IF(OR(J201=\"\",F201=\"\"),\"\",IF(J201>39,\"E\",IF(F201=\"leicht\",VLOOKUP(J201,'Boden DüV-Bolap'!A:AA,19,FALSE),IF(F201=\"mittel\",VLOOKUP(J201,'Boden DüV-Bolap'!A:AA,23,FALSE),IF(F201=\"schwer\",VLOOKUP(J201,'Boden DüV-Bolap'!A:AA,27,FALSE))))))","v":""}]
[198,null,null,null,null,null,null,null,null,null,null,null,null,null,null,null,null,{"$f":"IF(H202=\"\",\"\",IF(H202>39,\"E\",VLOOKUP(H202,'Boden DüV-Bolap'!A:B,2,FALSE)))","v":""},{"$f":"IF(OR(I202=\"\",F202=\"\"),\"\",IF(I202>39,\"E\",IF(F202=\"leicht\",VLOOKUP(I202,'Boden DüV-Bolap'!A:Q,7,FALSE),IF(F202=\"mittel\",VLOOKUP(I202,'Boden DüV-Bolap'!A:K,11,FALSE),IF(F202=\"schwer\",VLOOKUP(I202,'Boden DüV-Bolap'!A:R,15,FALSE))))))","v":""},{"$f":"IF(OR(J202=\"\",F202=\"\"),\"\",IF(J202>39,\"E\",IF(F202=\"leicht\",VLOOKUP(J202,'Boden DüV-Bolap'!A:AA,19,FALSE),IF(F202=\"mittel\",VLOOKUP(J202,'Boden DüV-Bolap'!A:AA,23,FALSE),IF(F202=\"schwer\",VLOOKUP(J202,'Boden DüV-Bolap'!A:AA,27,FALSE))))))","v":""}]
[199,null,null,null,null,null,null,null,null,null,null,null,null,null,null,null,null,{"$f":"IF(H203=\"\",\"\",IF(H203>39,\"E\",VLOOKUP(H203,'Boden DüV-Bolap'!A:B,2,FALSE)))","v":""},{"$f":"IF(OR(I203=\"\",F203=\"\"),\"\",IF(I203>39,\"E\",IF(F203=\"leicht\",VLOOKUP(I203,'Boden DüV-Bolap'!A:Q,7,FALSE),IF(F203=\"mittel\",VLOOKUP(I203,'Boden DüV-Bolap'!A:K,11,FALSE),IF(F203=\"schwer\",VLOOKUP(I203,'Boden DüV-Bolap'!A:R,15,FALSE))))))","v":""},{"$f":"IF(OR(J203=\"\",F203=\"\"),\"\",IF(J203>39,\"E\",IF(F203=\"leicht\",VLOOKUP(J203,'Boden DüV-Bolap'!A:AA,19,FALSE),IF(F203=\"mittel\",VLOOKUP(J203,'Boden DüV-Bolap'!A:AA,23,FALSE),IF(F203=\"schwer\",VLOOKUP(J203,'Boden DüV-Bolap'!A:AA,27,FALSE))))))","v":""}]
[200,null,null,null,null,null,null,null,null,null,null,null,null,null,null,null,null,{"$f":"IF(H204=\"\",\"\",IF(H204>39,\"E\",VLOOKUP(H204,'Boden DüV-Bolap'!A:B,2,FALSE)))","v":""},{"$f":"IF(OR(I204=\"\",F204=\"\"),\"\",IF(I204>39,\"E\",IF(F204=\"leicht\",VLOOKUP(I204,'Boden DüV-Bolap'!A:Q,7,FALSE),IF(F204=\"mittel\",VLOOKUP(I204,'Boden DüV-Bolap'!A:K,11,FALSE),IF(F204=\"schwer\",VLOOKUP(I204,'Boden DüV-Bolap'!A:R,15,FALSE))))))","v":""},{"$f":"IF(OR(J204=\"\",F204=\"\"),\"\",IF(J204>39,\"E\",IF(F204=\"leicht\",VLOOKUP(J204,'Boden DüV-Bolap'!A:AA,19,FALSE),IF(F204=\"mittel\",VLOOKUP(J204,'Boden DüV-Bolap'!A:AA,23,FALSE),IF(F204=\"schwer\",VLOOKUP(J204,'Boden DüV-Bolap'!A:AA,27,FALSE))))))","v":""}]
[201,null,null,null,null,null,null,null,null,null,null,null,null,null,null,null,null,{"$f":"IF(H205=\"\",\"\",IF(H205>39,\"E\",VLOOKUP(H205,'Boden DüV-Bolap'!A:B,2,FALSE)))","v":""},{"$f":"IF(OR(I205=\"\",F205=\"\"),\"\",IF(I205>39,\"E\",IF(F205=\"leicht\",VLOOKUP(I205,'Boden DüV-Bolap'!A:Q,7,FALSE),IF(F205=\"mittel\",VLOOKUP(I205,'Boden DüV-Bolap'!A:K,11,FALSE),IF(F205=\"schwer\",VLOOKUP(I205,'Boden DüV-Bolap'!A:R,15,FALSE))))))","v":""},{"$f":"IF(OR(J205=\"\",F205=\"\"),\"\",IF(J205>39,\"E\",IF(F205=\"leicht\",VLOOKUP(J205,'Boden DüV-Bolap'!A:AA,19,FALSE),IF(F205=\"mittel\",VLOOKUP(J205,'Boden DüV-Bolap'!A:AA,23,FALSE),IF(F205=\"schwer\",VLOOKUP(J205,'Boden DüV-Bolap'!A:AA,27,FALSE))))))","v":""}]
[202,null,null,null,null,null,null,null,null,null,null,null,null,null,null,null,null,{"$f":"IF(H206=\"\",\"\",IF(H206>39,\"E\",VLOOKUP(H206,'Boden DüV-Bolap'!A:B,2,FALSE)))","v":""},{"$f":"IF(OR(I206=\"\",F206=\"\"),\"\",IF(I206>39,\"E\",IF(F206=\"leicht\",VLOOKUP(I206,'Boden DüV-Bolap'!A:Q,7,FALSE),IF(F206=\"mittel\",VLOOKUP(I206,'Boden DüV-Bolap'!A:K,11,FALSE),IF(F206=\"schwer\",VLOOKUP(I206,'Boden DüV-Bolap'!A:R,15,FALSE))))))","v":""},{"$f":"IF(OR(J206=\"\",F206=\"\"),\"\",IF(J206>39,\"E\",IF(F206=\"leicht\",VLOOKUP(J206,'Boden DüV-Bolap'!A:AA,19,FALSE),IF(F206=\"mittel\",VLOOKUP(J206,'Boden DüV-Bolap'!A:AA,23,FALSE),IF(F206=\"schwer\",VLOOKUP(J206,'Boden DüV-Bolap'!A:AA,27,FALSE))))))","v":""}]
[203,null,null,null,null,null,null,null,null,null,null,null,null,null,null,null,null,{"$f":"IF(H207=\"\",\"\",IF(H207>39,\"E\",VLOOKUP(H207,'Boden DüV-Bolap'!A:B,2,FALSE)))","v":""},{"$f":"IF(OR(I207=\"\",F207=\"\"),\"\",IF(I207>39,\"E\",IF(F207=\"leicht\",VLOOKUP(I207,'Boden DüV-Bolap'!A:Q,7,FALSE),IF(F207=\"mittel\",VLOOKUP(I207,'Boden DüV-Bolap'!A:K,11,FALSE),IF(F207=\"schwer\",VLOOKUP(I207,'Boden DüV-Bolap'!A:R,15,FALSE))))))","v":""},{"$f":"IF(OR(J207=\"\",F207=\"\"),\"\",IF(J207>39,\"E\",IF(F207=\"leicht\",VLOOKUP(J207,'Boden DüV-Bolap'!A:AA,19,FALSE),IF(F207=\"mittel\",VLOOKUP(J207,'Boden DüV-Bolap'!A:AA,23,FALSE),IF(F207=\"schwer\",VLOOKUP(J207,'Boden DüV-Bolap'!A:AA,27,FALSE))))))","v":""}]
[204,null,null,null,null,null,null,null,null,null,null,null,null,null,null,null,null,{"$f":"IF(H208=\"\",\"\",IF(H208>39,\"E\",VLOOKUP(H208,'Boden DüV-Bolap'!A:B,2,FALSE)))","v":""},{"$f":"IF(OR(I208=\"\",F208=\"\"),\"\",IF(I208>39,\"E\",IF(F208=\"leicht\",VLOOKUP(I208,'Boden DüV-Bolap'!A:Q,7,FALSE),IF(F208=\"mittel\",VLOOKUP(I208,'Boden DüV-Bolap'!A:K,11,FALSE),IF(F208=\"schwer\",VLOOKUP(I208,'Boden DüV-Bolap'!A:R,15,FALSE))))))","v":""},{"$f":"IF(OR(J208=\"\",F208=\"\"),\"\",IF(J208>39,\"E\",IF(F208=\"leicht\",VLOOKUP(J208,'Boden DüV-Bolap'!A:AA,19,FALSE),IF(F208=\"mittel\",VLOOKUP(J208,'Boden DüV-Bolap'!A:AA,23,FALSE),IF(F208=\"schwer\",VLOOKUP(J208,'Boden DüV-Bolap'!A:AA,27,FALSE))))))","v":""}]
[205,null,null,null,null,null,null,null,null,null,null,null,null,null,null,null,null,{"$f":"IF(H209=\"\",\"\",IF(H209>39,\"E\",VLOOKUP(H209,'Boden DüV-Bolap'!A:B,2,FALSE)))","v":""},{"$f":"IF(OR(I209=\"\",F209=\"\"),\"\",IF(I209>39,\"E\",IF(F209=\"leicht\",VLOOKUP(I209,'Boden DüV-Bolap'!A:Q,7,FALSE),IF(F209=\"mittel\",VLOOKUP(I209,'Boden DüV-Bolap'!A:K,11,FALSE),IF(F209=\"schwer\",VLOOKUP(I209,'Boden DüV-Bolap'!A:R,15,FALSE))))))","v":""},{"$f":"IF(OR(J209=\"\",F209=\"\"),\"\",IF(J209>39,\"E\",IF(F209=\"leicht\",VLOOKUP(J209,'Boden DüV-Bolap'!A:AA,19,FALSE),IF(F209=\"mittel\",VLOOKUP(J209,'Boden DüV-Bolap'!A:AA,23,FALSE),IF(F209=\"schwer\",VLOOKUP(J209,'Boden DüV-Bolap'!A:AA,27,FALSE))))))","v":""}]
[206,null,null,null,null,null,null,null,null,null,null,null,null,null,null,null,null,{"$f":"IF(H210=\"\",\"\",IF(H210>39,\"E\",VLOOKUP(H210,'Boden DüV-Bolap'!A:B,2,FALSE)))","v":""},{"$f":"IF(OR(I210=\"\",F210=\"\"),\"\",IF(I210>39,\"E\",IF(F210=\"leicht\",VLOOKUP(I210,'Boden DüV-Bolap'!A:Q,7,FALSE),IF(F210=\"mittel\",VLOOKUP(I210,'Boden DüV-Bolap'!A:K,11,FALSE),IF(F210=\"schwer\",VLOOKUP(I210,'Boden DüV-Bolap'!A:R,15,FALSE))))))","v":""},{"$f":"IF(OR(J210=\"\",F210=\"\"),\"\",IF(J210>39,\"E\",IF(F210=\"leicht\",VLOOKUP(J210,'Boden DüV-Bolap'!A:AA,19,FALSE),IF(F210=\"mittel\",VLOOKUP(J210,'Boden DüV-Bolap'!A:AA,23,FALSE),IF(F210=\"schwer\",VLOOKUP(J210,'Boden DüV-Bolap'!A:AA,27,FALSE))))))","v":""}]
[207,null,null,null,null,null,null,null,null,null,null,null,null,null,null,null,null,{"$f":"IF(H211=\"\",\"\",IF(H211>39,\"E\",VLOOKUP(H211,'Boden DüV-Bolap'!A:B,2,FALSE)))","v":""},{"$f":"IF(OR(I211=\"\",F211=\"\"),\"\",IF(I211>39,\"E\",IF(F211=\"leicht\",VLOOKUP(I211,'Boden DüV-Bolap'!A:Q,7,FALSE),IF(F211=\"mittel\",VLOOKUP(I211,'Boden DüV-Bolap'!A:K,11,FALSE),IF(F211=\"schwer\",VLOOKUP(I211,'Boden DüV-Bolap'!A:R,15,FALSE))))))","v":""},{"$f":"IF(OR(J211=\"\",F211=\"\"),\"\",IF(J211>39,\"E\",IF(F211=\"leicht\",VLOOKUP(J211,'Boden DüV-Bolap'!A:AA,19,FALSE),IF(F211=\"mittel\",VLOOKUP(J211,'Boden DüV-Bolap'!A:AA,23,FALSE),IF(F211=\"schwer\",VLOOKUP(J211,'Boden DüV-Bolap'!A:AA,27,FALSE))))))","v":""}]
[208,null,null,null,null,null,null,null,null,null,null,null,null,null,null,null,null,{"$f":"IF(H212=\"\",\"\",IF(H212>39,\"E\",VLOOKUP(H212,'Boden DüV-Bolap'!A:B,2,FALSE)))","v":""},{"$f":"IF(OR(I212=\"\",F212=\"\"),\"\",IF(I212>39,\"E\",IF(F212=\"leicht\",VLOOKUP(I212,'Boden DüV-Bolap'!A:Q,7,FALSE),IF(F212=\"mittel\",VLOOKUP(I212,'Boden DüV-Bolap'!A:K,11,FALSE),IF(F212=\"schwer\",VLOOKUP(I212,'Boden DüV-Bolap'!A:R,15,FALSE))))))","v":""},{"$f":"IF(OR(J212=\"\",F212=\"\"),\"\",IF(J212>39,\"E\",IF(F212=\"leicht\",VLOOKUP(J212,'Boden DüV-Bolap'!A:AA,19,FALSE),IF(F212=\"mittel\",VLOOKUP(J212,'Boden DüV-Bolap'!A:AA,23,FALSE),IF(F212=\"schwer\",VLOOKUP(J212,'Boden DüV-Bolap'!A:AA,27,FALSE))))))","v":""}]
[209,null,null,null,null,null,null,null,null,null,null,null,null,null,null,null,null,{"$f":"IF(H213=\"\",\"\",IF(H213>39,\"E\",VLOOKUP(H213,'Boden DüV-Bolap'!A:B,2,FALSE)))","v":""},{"$f":"IF(OR(I213=\"\",F213=\"\"),\"\",IF(I213>39,\"E\",IF(F213=\"leicht\",VLOOKUP(I213,'Boden DüV-Bolap'!A:Q,7,FALSE),IF(F213=\"mittel\",VLOOKUP(I213,'Boden DüV-Bolap'!A:K,11,FALSE),IF(F213=\"schwer\",VLOOKUP(I213,'Boden DüV-Bolap'!A:R,15,FALSE))))))","v":""},{"$f":"IF(OR(J213=\"\",F213=\"\"),\"\",IF(J213>39,\"E\",IF(F213=\"leicht\",VLOOKUP(J213,'Boden DüV-Bolap'!A:AA,19,FALSE),IF(F213=\"mittel\",VLOOKUP(J213,'Boden DüV-Bolap'!A:AA,23,FALSE),IF(F213=\"schwer\",VLOOKUP(J213,'Boden DüV-Bolap'!A:AA,27,FALSE))))))","v":""}]
[210,null,null,null,null,null,null,null,null,null,null,null,null,null,null,null,null,{"$f":"IF(H214=\"\",\"\",IF(H214>39,\"E\",VLOOKUP(H214,'Boden DüV-Bolap'!A:B,2,FALSE)))","v":""},{"$f":"IF(OR(I214=\"\",F214=\"\"),\"\",IF(I214>39,\"E\",IF(F214=\"leicht\",VLOOKUP(I214,'Boden DüV-Bolap'!A:Q,7,FALSE),IF(F214=\"mittel\",VLOOKUP(I214,'Boden DüV-Bolap'!A:K,11,FALSE),IF(F214=\"schwer\",VLOOKUP(I214,'Boden DüV-Bolap'!A:R,15,FALSE))))))","v":""},{"$f":"IF(OR(J214=\"\",F214=\"\"),\"\",IF(J214>39,\"E\",IF(F214=\"leicht\",VLOOKUP(J214,'Boden DüV-Bolap'!A:AA,19,FALSE),IF(F214=\"mittel\",VLOOKUP(J214,'Boden DüV-Bolap'!A:AA,23,FALSE),IF(F214=\"schwer\",VLOOKUP(J214,'Boden DüV-Bolap'!A:AA,27,FALSE))))))","v":""}]
[211,null,null,null,null,null,null,null,null,null,null,null,null,null,null,null,null,{"$f":"IF(H215=\"\",\"\",IF(H215>39,\"E\",VLOOKUP(H215,'Boden DüV-Bolap'!A:B,2,FALSE)))","v":""},{"$f":"IF(OR(I215=\"\",F215=\"\"),\"\",IF(I215>39,\"E\",IF(F215=\"leicht\",VLOOKUP(I215,'Boden DüV-Bolap'!A:Q,7,FALSE),IF(F215=\"mittel\",VLOOKUP(I215,'Boden DüV-Bolap'!A:K,11,FALSE),IF(F215=\"schwer\",VLOOKUP(I215,'Boden DüV-Bolap'!A:R,15,FALSE))))))","v":""},{"$f":"IF(OR(J215=\"\",F215=\"\"),\"\",IF(J215>39,\"E\",IF(F215=\"leicht\",VLOOKUP(J215,'Boden DüV-Bolap'!A:AA,19,FALSE),IF(F215=\"mittel\",VLOOKUP(J215,'Boden DüV-Bolap'!A:AA,23,FALSE),IF(F215=\"schwer\",VLOOKUP(J215,'Boden DüV-Bolap'!A:AA,27,FALSE))))))","v":""}]
[212,null,null,null,null,null,null,null,null,null,null,null,null,null,null,null,null,{"$f":"IF(H216=\"\",\"\",IF(H216>39,\"E\",VLOOKUP(H216,'Boden DüV-Bolap'!A:B,2,FALSE)))","v":""},{"$f":"IF(OR(I216=\"\",F216=\"\"),\"\",IF(I216>39,\"E\",IF(F216=\"leicht\",VLOOKUP(I216,'Boden DüV-Bolap'!A:Q,7,FALSE),IF(F216=\"mittel\",VLOOKUP(I216,'Boden DüV-Bolap'!A:K,11,FALSE),IF(F216=\"schwer\",VLOOKUP(I216,'Boden DüV-Bolap'!A:R,15,FALSE))))))","v":""},{"$f":"IF(OR(J216=\"\",F216=\"\"),\"\",IF(J216>39,\"E\",IF(F216=\"leicht\",VLOOKUP(J216,'Boden DüV-Bolap'!A:AA,19,FALSE),IF(F216=\"mittel\",VLOOKUP(J216,'Boden DüV-Bolap'!A:AA,23,FALSE),IF(F216=\"schwer\",VLOOKUP(J216,'Boden DüV-Bolap'!A:AA,27,FALSE))))))","v":""}]
[213,null,null,null,null,null,null,null,null,null,null,null,null,null,null,null,null,{"$f":"IF(H217=\"\",\"\",IF(H217>39,\"E\",VLOOKUP(H217,'Boden DüV-Bolap'!A:B,2,FALSE)))","v":""},{"$f":"IF(OR(I217=\"\",F217=\"\"),\"\",IF(I217>39,\"E\",IF(F217=\"leicht\",VLOOKUP(I217,'Boden DüV-Bolap'!A:Q,7,FALSE),IF(F217=\"mittel\",VLOOKUP(I217,'Boden DüV-Bolap'!A:K,11,FALSE),IF(F217=\"schwer\",VLOOKUP(I217,'Boden DüV-Bolap'!A:R,15,FALSE))))))","v":""},{"$f":"IF(OR(J217=\"\",F217=\"\"),\"\",IF(J217>39,\"E\",IF(F217=\"leicht\",VLOOKUP(J217,'Boden DüV-Bolap'!A:AA,19,FALSE),IF(F217=\"mittel\",VLOOKUP(J217,'Boden DüV-Bolap'!A:AA,23,FALSE),IF(F217=\"schwer\",VLOOKUP(J217,'Boden DüV-Bolap'!A:AA,27,FALSE))))))","v":""}]
[214,null,null,null,null,null,null,null,null,null,null,null,null,null,null,null,null,{"$f":"IF(H218=\"\",\"\",IF(H218>39,\"E\",VLOOKUP(H218,'Boden DüV-Bolap'!A:B,2,FALSE)))","v":""},{"$f":"IF(OR(I218=\"\",F218=\"\"),\"\",IF(I218>39,\"E\",IF(F218=\"leicht\",VLOOKUP(I218,'Boden DüV-Bolap'!A:Q,7,FALSE),IF(F218=\"mittel\",VLOOKUP(I218,'Boden DüV-Bolap'!A:K,11,FALSE),IF(F218=\"schwer\",VLOOKUP(I218,'Boden DüV-Bolap'!A:R,15,FALSE))))))","v":""},{"$f":"IF(OR(J218=\"\",F218=\"\"),\"\",IF(J218>39,\"E\",IF(F218=\"leicht\",VLOOKUP(J218,'Boden DüV-Bolap'!A:AA,19,FALSE),IF(F218=\"mittel\",VLOOKUP(J218,'Boden DüV-Bolap'!A:AA,23,FALSE),IF(F218=\"schwer\",VLOOKUP(J218,'Boden DüV-Bolap'!A:AA,27,FALSE))))))","v":""}]
[215,null,null,null,null,null,null,null,null,null,null,null,null,null,null,null,null,{"$f":"IF(H219=\"\",\"\",IF(H219>39,\"E\",VLOOKUP(H219,'Boden DüV-Bolap'!A:B,2,FALSE)))","v":""},{"$f":"IF(OR(I219=\"\",F219=\"\"),\"\",IF(I219>39,\"E\",IF(F219=\"leicht\",VLOOKUP(I219,'Boden DüV-Bolap'!A:Q,7,FALSE),IF(F219=\"mittel\",VLOOKUP(I219,'Boden DüV-Bolap'!A:K,11,FALSE),IF(F219=\"schwer\",VLOOKUP(I219,'Boden DüV-Bolap'!A:R,15,FALSE))))))","v":""},{"$f":"IF(OR(J219=\"\",F219=\"\"),\"\",IF(J219>39,\"E\",IF(F219=\"leicht\",VLOOKUP(J219,'Boden DüV-Bolap'!A:AA,19,FALSE),IF(F219=\"mittel\",VLOOKUP(J219,'Boden DüV-Bolap'!A:AA,23,FALSE),IF(F219=\"schwer\",VLOOKUP(J219,'Boden DüV-Bolap'!A:AA,27,FALSE))))))","v":""}]
[216,null,null,null,null,null,null,null,null,null,null,null,null,null,null,null,null,{"$f":"IF(H220=\"\",\"\",IF(H220>39,\"E\",VLOOKUP(H220,'Boden DüV-Bolap'!A:B,2,FALSE)))","v":""},{"$f":"IF(OR(I220=\"\",F220=\"\"),\"\",IF(I220>39,\"E\",IF(F220=\"leicht\",VLOOKUP(I220,'Boden DüV-Bolap'!A:Q,7,FALSE),IF(F220=\"mittel\",VLOOKUP(I220,'Boden DüV-Bolap'!A:K,11,FALSE),IF(F220=\"schwer\",VLOOKUP(I220,'Boden DüV-Bolap'!A:R,15,FALSE))))))","v":""},{"$f":"IF(OR(J220=\"\",F220=\"\"),\"\",IF(J220>39,\"E\",IF(F220=\"leicht\",VLOOKUP(J220,'Boden DüV-Bolap'!A:AA,19,FALSE),IF(F220=\"mittel\",VLOOKUP(J220,'Boden DüV-Bolap'!A:AA,23,FALSE),IF(F220=\"schwer\",VLOOKUP(J220,'Boden DüV-Bolap'!A:AA,27,FALSE))))))","v":""}]
[217,null,null,null,null,null,null,null,null,null,null,null,null,null,null,null,null,{"$f":"IF(H221=\"\",\"\",IF(H221>39,\"E\",VLOOKUP(H221,'Boden DüV-Bolap'!A:B,2,FALSE)))","v":""},{"$f":"IF(OR(I221=\"\",F221=\"\"),\"\",IF(I221>39,\"E\",IF(F221=\"leicht\",VLOOKUP(I221,'Boden DüV-Bolap'!A:Q,7,FALSE),IF(F221=\"mittel\",VLOOKUP(I221,'Boden DüV-Bolap'!A:K,11,FALSE),IF(F221=\"schwer\",VLOOKUP(I221,'Boden DüV-Bolap'!A:R,15,FALSE))))))","v":""},{"$f":"IF(OR(J221=\"\",F221=\"\"),\"\",IF(J221>39,\"E\",IF(F221=\"leicht\",VLOOKUP(J221,'Boden DüV-Bolap'!A:AA,19,FALSE),IF(F221=\"mittel\",VLOOKUP(J221,'Boden DüV-Bolap'!A:AA,23,FALSE),IF(F221=\"schwer\",VLOOKUP(J221,'Boden DüV-Bolap'!A:AA,27,FALSE))))))","v":""}]
[218,null,null,null,null,null,null,null,null,null,null,null,null,null,null,null,null,{"$f":"IF(H222=\"\",\"\",IF(H222>39,\"E\",VLOOKUP(H222,'Boden DüV-Bolap'!A:B,2,FALSE)))","v":""},{"$f":"IF(OR(I222=\"\",F222=\"\"),\"\",IF(I222>39,\"E\",IF(F222=\"leicht\",VLOOKUP(I222,'Boden DüV-Bolap'!A:Q,7,FALSE),IF(F222=\"mittel\",VLOOKUP(I222,'Boden DüV-Bolap'!A:K,11,FALSE),IF(F222=\"schwer\",VLOOKUP(I222,'Boden DüV-Bolap'!A:R,15,FALSE))))))","v":""},{"$f":"IF(OR(J222=\"\",F222=\"\"),\"\",IF(J222>39,\"E\",IF(F222=\"leicht\",VLOOKUP(J222,'Boden DüV-Bolap'!A:AA,19,FALSE),IF(F222=\"mittel\",VLOOKUP(J222,'Boden DüV-Bolap'!A:AA,23,FALSE),IF(F222=\"schwer\",VLOOKUP(J222,'Boden DüV-Bolap'!A:AA,27,FALSE))))))","v":""}]
[219,null,null,null,null,null,null,null,null,null,null,null,null,null,null,null,null,{"$f":"IF(H223=\"\",\"\",IF(H223>39,\"E\",VLOOKUP(H223,'Boden DüV-Bolap'!A:B,2,FALSE)))","v":""},{"$f":"IF(OR(I223=\"\",F223=\"\"),\"\",IF(I223>39,\"E\",IF(F223=\"leicht\",VLOOKUP(I223,'Boden DüV-Bolap'!A:Q,7,FALSE),IF(F223=\"mittel\",VLOOKUP(I223,'Boden DüV-Bolap'!A:K,11,FALSE),IF(F223=\"schwer\",VLOOKUP(I223,'Boden DüV-Bolap'!A:R,15,FALSE))))))","v":""},{"$f":"IF(OR(J223=\"\",F223=\"\"),\"\",IF(J223>39,\"E\",IF(F223=\"leicht\",VLOOKUP(J223,'Boden DüV-Bolap'!A:AA,19,FALSE),IF(F223=\"mittel\",VLOOKUP(J223,'Boden DüV-Bolap'!A:AA,23,FALSE),IF(F223=\"schwer\",VLOOKUP(J223,'Boden DüV-Bolap'!A:AA,27,FALSE))))))","v":""}]
[220,null,null,null,null,null,null,null,null,null,null,null,null,null,null,null,null,{"$f":"IF(H224=\"\",\"\",IF(H224>39,\"E\",VLOOKUP(H224,'Boden DüV-Bolap'!A:B,2,FALSE)))","v":""},{"$f":"IF(OR(I224=\"\",F224=\"\"),\"\",IF(I224>39,\"E\",IF(F224=\"leicht\",VLOOKUP(I224,'Boden DüV-Bolap'!A:Q,7,FALSE),IF(F224=\"mittel\",VLOOKUP(I224,'Boden DüV-Bolap'!A:K,11,FALSE),IF(F224=\"schwer\",VLOOKUP(I224,'Boden DüV-Bolap'!A:R,15,FALSE))))))","v":""},{"$f":"IF(OR(J224=\"\",F224=\"\"),\"\",IF(J224>39,\"E\",IF(F224=\"leicht\",VLOOKUP(J224,'Boden DüV-Bolap'!A:AA,19,FALSE),IF(F224=\"mittel\",VLOOKUP(J224,'Boden DüV-Bolap'!A:AA,23,FALSE),IF(F224=\"schwer\",VLOOKUP(J224,'Boden DüV-Bolap'!A:AA,27,FALSE))))))","v":""}]
[221,null,null,null,null,null,null,null,null,null,null,null,null,null,null,null,null,{"$f":"IF(H225=\"\",\"\",IF(H225>39,\"E\",VLOOKUP(H225,'Boden DüV-Bolap'!A:B,2,FALSE)))","v":""},{"$f":"IF(OR(I225=\"\",F225=\"\"),\"\",IF(I225>39,\"E\",IF(F225=\"leicht\",VLOOKUP(I225,'Boden DüV-Bolap'!A:Q,7,FALSE),IF(F225=\"mittel\",VLOOKUP(I225,'Boden DüV-Bolap'!A:K,11,FALSE),IF(F225=\"schwer\",VLOOKUP(I225,'Boden DüV-Bolap'!A:R,15,FALSE))))))","v":""},{"$f":"IF(OR(J225=\"\",F225=\"\"),\"\",IF(J225>39,\"E\",IF(F225=\"leicht\",VLOOKUP(J225,'Boden DüV-Bolap'!A:AA,19,FALSE),IF(F225=\"mittel\",VLOOKUP(J225,'Boden DüV-Bolap'!A:AA,23,FALSE),IF(F225=\"schwer\",VLOOKUP(J225,'Boden DüV-Bolap'!A:AA,27,FALSE))))))","v":""}]
[222,null,null,null,null,null,null,null,null,null,null,null,null,null,null,null,null,{"$f":"IF(H226=\"\",\"\",IF(H226>39,\"E\",VLOOKUP(H226,'Boden DüV-Bolap'!A:B,2,FALSE)))","v":""},{"$f":"IF(OR(I226=\"\",F226=\"\"),\"\",IF(I226>39,\"E\",IF(F226=\"leicht\",VLOOKUP(I226,'Boden DüV-Bolap'!A:Q,7,FALSE),IF(F226=\"mittel\",VLOOKUP(I226,'Boden DüV-Bolap'!A:K,11,FALSE),IF(F226=\"schwer\",VLOOKUP(I226,'Boden DüV-Bolap'!A:R,15,FALSE))))))","v":""},{"$f":"IF(OR(J226=\"\",F226=\"\"),\"\",IF(J226>39,\"E\",IF(F226=\"leicht\",VLOOKUP(J226,'Boden DüV-Bolap'!A:AA,19,FALSE),IF(F226=\"mittel\",VLOOKUP(J226,'Boden DüV-Bolap'!A:AA,23,FALSE),IF(F226=\"schwer\",VLOOKUP(J226,'Boden DüV-Bolap'!A:AA,27,FALSE))))))","v":""}]
[223,null,null,null,null,null,null,null,null,null,null,null,null,null,null,null,null,{"$f":"IF(H227=\"\",\"\",IF(H227>39,\"E\",VLOOKUP(H227,'Boden DüV-Bolap'!A:B,2,FALSE)))","v":""},{"$f":"IF(OR(I227=\"\",F227=\"\"),\"\",IF(I227>39,\"E\",IF(F227=\"leicht\",VLOOKUP(I227,'Boden DüV-Bolap'!A:Q,7,FALSE),IF(F227=\"mittel\",VLOOKUP(I227,'Boden DüV-Bolap'!A:K,11,FALSE),IF(F227=\"schwer\",VLOOKUP(I227,'Boden DüV-Bolap'!A:R,15,FALSE))))))","v":""},{"$f":"IF(OR(J227=\"\",F227=\"\"),\"\",IF(J227>39,\"E\",IF(F227=\"leicht\",VLOOKUP(J227,'Boden DüV-Bolap'!A:AA,19,FALSE),IF(F227=\"mittel\",VLOOKUP(J227,'Boden DüV-Bolap'!A:AA,23,FALSE),IF(F227=\"schwer\",VLOOKUP(J227,'Boden DüV-Bolap'!A:AA,27,FALSE))))))","v":""}]
[224,null,null,null,null,null,null,null,null,null,null,null,null,null,null,null,null,{"$f":"IF(H228=\"\",\"\",IF(H228>39,\"E\",VLOOKUP(H228,'Boden DüV-Bolap'!A:B,2,FALSE)))","v":""},{"$f":"IF(OR(I228=\"\",F228=\"\"),\"\",IF(I228>39,\"E\",IF(F228=\"leicht\",VLOOKUP(I228,'Boden DüV-Bolap'!A:Q,7,FALSE),IF(F228=\"mittel\",VLOOKUP(I228,'Boden DüV-Bolap'!A:K,11,FALSE),IF(F228=\"schwer\",VLOOKUP(I228,'Boden DüV-Bolap'!A:R,15,FALSE))))))","v":""},{"$f":"IF(OR(J228=\"\",F228=\"\"),\"\",IF(J228>39,\"E\",IF(F228=\"leicht\",VLOOKUP(J228,'Boden DüV-Bolap'!A:AA,19,FALSE),IF(F228=\"mittel\",VLOOKUP(J228,'Boden DüV-Bolap'!A:AA,23,FALSE),IF(F228=\"schwer\",VLOOKUP(J228,'Boden DüV-Bolap'!A:AA,27,FALSE))))))","v":""}]
[225,null,null,null,null,null,null,null,null,null,null,null,null,null,null,null,null,{"$f":"IF(H229=\"\",\"\",IF(H229>39,\"E\",VLOOKUP(H229,'Boden DüV-Bolap'!A:B,2,FALSE)))","v":""},{"$f":"IF(OR(I229=\"\",F229=\"\"),\"\",IF(I229>39,\"E\",IF(F229=\"leicht\",VLOOKUP(I229,'Boden DüV-Bolap'!A:Q,7,FALSE),IF(F229=\"mittel\",VLOOKUP(I229,'Boden DüV-Bolap'!A:K,11,FALSE),IF(F229=\"schwer\",VLOOKUP(I229,'Boden DüV-Bolap'!A:R,15,FALSE))))))","v":""},{"$f":"IF(OR(J229=\"\",F229=\"\"),\"\",IF(J229>39,\"E\",IF(F229=\"leicht\",VLOOKUP(J229,'Boden DüV-Bolap'!A:AA,19,FALSE),IF(F229=\"mittel\",VLOOKUP(J229,'Boden DüV-Bolap'!A:AA,23,FALSE),IF(F229=\"schwer\",VLOOKUP(J229,'Boden DüV-Bolap'!A:AA,27,FALSE))))))","v":""}]
[226,null,null,null,null,null,null,null,null,null,null,null,null,null,null,null,null,{"$f":"IF(H230=\"\",\"\",IF(H230>39,\"E\",VLOOKUP(H230,'Boden DüV-Bolap'!A:B,2,FALSE)))","v":""},{"$f":"IF(OR(I230=\"\",F230=\"\"),\"\",IF(I230>39,\"E\",IF(F230=\"leicht\",VLOOKUP(I230,'Boden DüV-Bolap'!A:Q,7,FALSE),IF(F230=\"mittel\",VLOOKUP(I230,'Boden DüV-Bolap'!A:K,11,FALSE),IF(F230=\"schwer\",VLOOKUP(I230,'Boden DüV-Bolap'!A:R,15,FALSE))))))","v":""},{"$f":"IF(OR(J230=\"\",F230=\"\"),\"\",IF(J230>39,\"E\",IF(F230=\"leicht\",VLOOKUP(J230,'Boden DüV-Bolap'!A:AA,19,FALSE),IF(F230=\"mittel\",VLOOKUP(J230,'Boden DüV-Bolap'!A:AA,23,FALSE),IF(F230=\"schwer\",VLOOKUP(J230,'Boden DüV-Bolap'!A:AA,27,FALSE))))))","v":""}]
[227,null,null,null,null,null,null,null,null,null,null,null,null,null,null,null,null,{"$f":"IF(H231=\"\",\"\",IF(H231>39,\"E\",VLOOKUP(H231,'Boden DüV-Bolap'!A:B,2,FALSE)))","v":""},{"$f":"IF(OR(I231=\"\",F231=\"\"),\"\",IF(I231>39,\"E\",IF(F231=\"leicht\",VLOOKUP(I231,'Boden DüV-Bolap'!A:Q,7,FALSE),IF(F231=\"mittel\",VLOOKUP(I231,'Boden DüV-Bolap'!A:K,11,FALSE),IF(F231=\"schwer\",VLOOKUP(I231,'Boden DüV-Bolap'!A:R,15,FALSE))))))","v":""},{"$f":"IF(OR(J231=\"\",F231=\"\"),\"\",IF(J231>39,\"E\",IF(F231=\"leicht\",VLOOKUP(J231,'Boden DüV-Bolap'!A:AA,19,FALSE),IF(F231=\"mittel\",VLOOKUP(J231,'Boden DüV-Bolap'!A:AA,23,FALSE),IF(F231=\"schwer\",VLOOKUP(J231,'Boden DüV-Bolap'!A:AA,27,FALSE))))))","v":""}]
[228,null,null,null,null,null,null,null,null,null,null,null,null,null,null,null,null,{"$f":"IF(H232=\"\",\"\",IF(H232>39,\"E\",VLOOKUP(H232,'Boden DüV-Bolap'!A:B,2,FALSE)))","v":""},{"$f":"IF(OR(I232=\"\",F232=\"\"),\"\",IF(I232>39,\"E\",IF(F232=\"leicht\",VLOOKUP(I232,'Boden DüV-Bolap'!A:Q,7,FALSE),IF(F232=\"mittel\",VLOOKUP(I232,'Boden DüV-Bolap'!A:K,11,FALSE),IF(F232=\"schwer\",VLOOKUP(I232,'Boden DüV-Bolap'!A:R,15,FALSE))))))","v":""},{"$f":"IF(OR(J232=\"\",F232=\"\"),\"\",IF(J232>39,\"E\",IF(F232=\"leicht\",VLOOKUP(J232,'Boden DüV-Bolap'!A:AA,19,FALSE),IF(F232=\"mittel\",VLOOKUP(J232,'Boden DüV-Bolap'!A:AA,23,FALSE),IF(F232=\"schwer\",VLOOKUP(J232,'Boden DüV-Bolap'!A:AA,27,FALSE))))))","v":""}]
[229,null,null,null,null,null,null,null,null,null,null,null,null,null,null,null,null,{"$f":"IF(H233=\"\",\"\",IF(H233>39,\"E\",VLOOKUP(H233,'Boden DüV-Bolap'!A:B,2,FALSE)))","v":""},{"$f":"IF(OR(I233=\"\",F233=\"\"),\"\",IF(I233>39,\"E\",IF(F233=\"leicht\",VLOOKUP(I233,'Boden DüV-Bolap'!A:Q,7,FALSE),IF(F233=\"mittel\",VLOOKUP(I233,'Boden DüV-Bolap'!A:K,11,FALSE),IF(F233=\"schwer\",VLOOKUP(I233,'Boden DüV-Bolap'!A:R,15,FALSE))))))","v":""},{"$f":"IF(OR(J233=\"\",F233=\"\"),\"\",IF(J233>39,\"E\",IF(F233=\"leicht\",VLOOKUP(J233,'Boden DüV-Bolap'!A:AA,19,FALSE),IF(F233=\"mittel\",VLOOKUP(J233,'Boden DüV-Bolap'!A:AA,23,FALSE),IF(F233=\"schwer\",VLOOKUP(J233,'Boden DüV-Bolap'!A:AA,27,FALSE))))))","v":""}]
[230,null,null,null,null,null,null,null,null,null,null,null,null,null,null,null,null,{"$f":"IF(H234=\"\",\"\",IF(H234>39,\"E\",VLOOKUP(H234,'Boden DüV-Bolap'!A:B,2,FALSE)))","v":""},{"$f":"IF(OR(I234=\"\",F234=\"\"),\"\",IF(I234>39,\"E\",IF(F234=\"leicht\",VLOOKUP(I234,'Boden DüV-Bolap'!A:Q,7,FALSE),IF(F234=\"mittel\",VLOOKUP(I234,'Boden DüV-Bolap'!A:K,11,FALSE),IF(F234=\"schwer\",VLOOKUP(I234,'Boden DüV-Bolap'!A:R,15,FALSE))))))","v":""},{"$f":"IF(OR(J234=\"\",F234=\"\"),\"\",IF(J234>39,\"E\",IF(F234=\"leicht\",VLOOKUP(J234,'Boden DüV-Bolap'!A:AA,19,FALSE),IF(F234=\"mittel\",VLOOKUP(J234,'Boden DüV-Bolap'!A:AA,23,FALSE),IF(F234=\"schwer\",VLOOKUP(J234,'Boden DüV-Bolap'!A:AA,27,FALSE))))))","v":""}]
[231,null,null,null,null,null,null,null,null,null,null,null,null,null,null,null,null,{"$f":"IF(H235=\"\",\"\",IF(H235>39,\"E\",VLOOKUP(H235,'Boden DüV-Bolap'!A:B,2,FALSE)))","v":""},{"$f":"IF(OR(I235=\"\",F235=\"\"),\"\",IF(I235>39,\"E\",IF(F235=\"leicht\",VLOOKUP(I235,'Boden DüV-Bolap'!A:Q,7,FALSE),IF(F235=\"mittel\",VLOOKUP(I235,'Boden DüV-Bolap'!A:K,11,FALSE),IF(F235=\"schwer\",VLOOKUP(I235,'Boden DüV-Bolap'!A:R,15,FALSE))))))","v":""},{"$f":"IF(OR(J235=\"\",F235=\"\"),\"\",IF(J235>39,\"E\",IF(F235=\"leicht\",VLOOKUP(J235,'Boden DüV-Bolap'!A:AA,19,FALSE),IF(F235=\"mittel\",VLOOKUP(J235,'Boden DüV-Bolap'!A:AA,23,FALSE),IF(F235=\"schwer\",VLOOKUP(J235,'Boden DüV-Bolap'!A:AA,27,FALSE))))))","v":""}]
[232,null,null,null,null,null,null,null,null,null,null,null,null,null,null,null,null,{"$f":"IF(H236=\"\",\"\",IF(H236>39,\"E\",VLOOKUP(H236,'Boden DüV-Bolap'!A:B,2,FALSE)))","v":""},{"$f":"IF(OR(I236=\"\",F236=\"\"),\"\",IF(I236>39,\"E\",IF(F236=\"leicht\",VLOOKUP(I236,'Boden DüV-Bolap'!A:Q,7,FALSE),IF(F236=\"mittel\",VLOOKUP(I236,'Boden DüV-Bolap'!A:K,11,FALSE),IF(F236=\"schwer\",VLOOKUP(I236,'Boden DüV-Bolap'!A:R,15,FALSE))))))","v":""},{"$f":"IF(OR(J236=\"\",F236=\"\"),\"\",IF(J236>39,\"E\",IF(F236=\"leicht\",VLOOKUP(J236,'Boden DüV-Bolap'!A:AA,19,FALSE),IF(F236=\"mittel\",VLOOKUP(J236,'Boden DüV-Bolap'!A:AA,23,FALSE),IF(F236=\"schwer\",VLOOKUP(J236,'Boden DüV-Bolap'!A:AA,27,FALSE))))))","v":""}]
[233,null,null,null,null,null,null,null,null,null,null,null,null,null,null,null,null,{"$f":"IF(H237=\"\",\"\",IF(H237>39,\"E\",VLOOKUP(H237,'Boden DüV-Bolap'!A:B,2,FALSE)))","v":""},{"$f":"IF(OR(I237=\"\",F237=\"\"),\"\",IF(I237>39,\"E\",IF(F237=\"leicht\",VLOOKUP(I237,'Boden DüV-Bolap'!A:Q,7,FALSE),IF(F237=\"mittel\",VLOOKUP(I237,'Boden DüV-Bolap'!A:K,11,FALSE),IF(F237=\"schwer\",VLOOKUP(I237,'Boden DüV-Bolap'!A:R,15,FALSE))))))","v":""},{"$f":"IF(OR(J237=\"\",F237=\"\"),\"\",IF(J237>39,\"E\",IF(F237=\"leicht\",VLOOKUP(J237,'Boden DüV-Bolap'!A:AA,19,FALSE),IF(F237=\"mittel\",VLOOKUP(J237,'Boden DüV-Bolap'!A:AA,23,FALSE),IF(F237=\"schwer\",VLOOKUP(J237,'Boden DüV-Bolap'!A:AA,27,FALSE))))))","v":""}]
[234,null,null,null,null,null,null,null,null,null,null,null,null,null,null,null,null,{"$f":"IF(H238=\"\",\"\",IF(H238>39,\"E\",VLOOKUP(H238,'Boden DüV-Bolap'!A:B,2,FALSE)))","v":""},{"$f":"IF(OR(I238=\"\",F238=\"\"),\"\",IF(I238>39,\"E\",IF(F238=\"leicht\",VLOOKUP(I238,'Boden DüV-Bolap'!A:Q,7,FALSE),IF(F238=\"mittel\",VLOOKUP(I238,'Boden DüV-Bolap'!A:K,11,FALSE),IF(F238=\"schwer\",VLOOKUP(I238,'Boden DüV-Bolap'!A:R,15,FALSE))))))","v":""},{"$f":"IF(OR(J238=\"\",F238=\"\"),\"\",IF(J238>39,\"E\",IF(F238=\"leicht\",VLOOKUP(J238,'Boden DüV-Bolap'!A:AA,19,FALSE),IF(F238=\"mittel\",VLOOKUP(J238,'Boden DüV-Bolap'!A:AA,23,FALSE),IF(F238=\"schwer\",VLOOKUP(J238,'Boden DüV-Bolap'!A:AA,27,FALSE))))))","v":""}]
[235,null,null,null,null,null,null,null,null,null,null,null,null,null,null,null,null,{"$f":"IF(H239=\"\",\"\",IF(H239>39,\"E\",VLOOKUP(H239,'Boden DüV-Bolap'!A:B,2,FALSE)))","v":""},{"$f":"IF(OR(I239=\"\",F239=\"\"),\"\",IF(I239>39,\"E\",IF(F239=\"leicht\",VLOOKUP(I239,'Boden DüV-Bolap'!A:Q,7,FALSE),IF(F239=\"mittel\",VLOOKUP(I239,'Boden DüV-Bolap'!A:K,11,FALSE),IF(F239=\"schwer\",VLOOKUP(I239,'Boden DüV-Bolap'!A:R,15,FALSE))))))","v":""},{"$f":"IF(OR(J239=\"\",F239=\"\"),\"\",IF(J239>39,\"E\",IF(F239=\"leicht\",VLOOKUP(J239,'Boden DüV-Bolap'!A:AA,19,FALSE),IF(F239=\"mittel\",VLOOKUP(J239,'Boden DüV-Bolap'!A:AA,23,FALSE),IF(F239=\"schwer\",VLOOKUP(J239,'Boden DüV-Bolap'!A:AA,27,FALSE))))))","v":""}]
[236,null,null,null,null,null,null,null,null,null,null,null,null,null,null,null,null,{"$f":"IF(H240=\"\",\"\",IF(H240>39,\"E\",VLOOKUP(H240,'Boden DüV-Bolap'!A:B,2,FALSE)))","v":""},{"$f":"IF(OR(I240=\"\",F240=\"\"),\"\",IF(I240>39,\"E\",IF(F240=\"leicht\",VLOOKUP(I240,'Boden DüV-Bolap'!A:Q,7,FALSE),IF(F240=\"mittel\",VLOOKUP(I240,'Boden DüV-Bolap'!A:K,11,FALSE),IF(F240=\"schwer\",VLOOKUP(I240,'Boden DüV-Bolap'!A:R,15,FALSE))))))","v":""},{"$f":"IF(OR(J240=\"\",F240=\"\"),\"\",IF(J240>39,\"E\",IF(F240=\"leicht\",VLOOKUP(J240,'Boden DüV-Bolap'!A:AA,19,FALSE),IF(F240=\"mittel\",VLOOKUP(J240,'Boden DüV-Bolap'!A:AA,23,FALSE),IF(F240=\"schwer\",VLOOKUP(J240,'Boden DüV-Bolap'!A:AA,27,FALSE))))))","v":""}]
[237,null,null,null,null,null,null,null,null,null,null,null,null,null,null,null,null,{"$f":"IF(H241=\"\",\"\",IF(H241>39,\"E\",VLOOKUP(H241,'Boden DüV-Bolap'!A:B,2,FALSE)))","v":""},{"$f":"IF(OR(I241=\"\",F241=\"\"),\"\",IF(I241>39,\"E\",IF(F241=\"leicht\",VLOOKUP(I241,'Boden DüV-Bolap'!A:Q,7,FALSE),IF(F241=\"mittel\",VLOOKUP(I241,'Boden DüV-Bolap'!A:K,11,FALSE),IF(F241=\"schwer\",VLOOKUP(I241,'Boden DüV-Bolap'!A:R,15,FALSE))))))","v":""},{"$f":"IF(OR(J241=\"\",F241=\"\"),\"\",IF(J241>39,\"E\",IF(F241=\"leicht\",VLOOKUP(J241,'Boden DüV-Bolap'!A:AA,19,FALSE),IF(F241=\"mittel\",VLOOKUP(J241,'Boden DüV-Bolap'!A:AA,23,FALSE),IF(F241=\"schwer\",VLOOKUP(J241,'Boden DüV-Bolap'!A:AA,27,FALSE))))))","v":""}]
[238,null,null,null,null,null,null,null,null,null,null,null,null,null,null,null,null,{"$f":"IF(H242=\"\",\"\",IF(H242>39,\"E\",VLOOKUP(H242,'Boden DüV-Bolap'!A:B,2,FALSE)))","v":""},{"$f":"IF(OR(I242=\"\",F242=\"\"),\"\",IF(I242>39,\"E\",IF(F242=\"leicht\",VLOOKUP(I242,'Boden DüV-Bolap'!A:Q,7,FALSE),IF(F242=\"mittel\",VLOOKUP(I242,'Boden DüV-Bolap'!A:K,11,FALSE),IF(F242=\"schwer\",VLOOKUP(I242,'Boden DüV-Bolap'!A:R,15,FALSE))))))","v":""},{"$f":"IF(OR(J242=\"\",F242=\"\"),\"\",IF(J242>39,\"E\",IF(F242=\"leicht\",VLOOKUP(J242,'Boden DüV-Bolap'!A:AA,19,FALSE),IF(F242=\"mittel\",VLOOKUP(J242,'Boden DüV-Bolap'!A:AA,23,FALSE),IF(F242=\"schwer\",VLOOKUP(J242,'Boden DüV-Bolap'!A:AA,27,FALSE))))))","v":""}]
[239,null,null,null,null,null,null,null,null,null,null,null,null,null,null,null,null,{"$f":"IF(H243=\"\",\"\",IF(H243>39,\"E\",VLOOKUP(H243,'Boden DüV-Bolap'!A:B,2,FALSE)))","v":""},{"$f":"IF(OR(I243=\"\",F243=\"\"),\"\",IF(I243>39,\"E\",IF(F243=\"leicht\",VLOOKUP(I243,'Boden DüV-Bolap'!A:Q,7,FALSE),IF(F243=\"mittel\",VLOOKUP(I243,'Boden DüV-Bolap'!A:K,11,FALSE),IF(F243=\"schwer\",VLOOKUP(I243,'Boden DüV-Bolap'!A:R,15,FALSE))))))","v":""},{"$f":"IF(OR(J243=\"\",F243=\"\"),\"\",IF(J243>39,\"E\",IF(F243=\"leicht\",VLOOKUP(J243,'Boden DüV-Bolap'!A:AA,19,FALSE),IF(F243=\"mittel\",VLOOKUP(J243,'Boden DüV-Bolap'!A:AA,23,FALSE),IF(F243=\"schwer\",VLOOKUP(J243,'Boden DüV-Bolap'!A:AA,27,FALSE))))))","v":""}]
[240,null,null,null,null,null,null,null,null,null,null,null,null,null,null,null,null,{"$f":"IF(H244=\"\",\"\",IF(H244>39,\"E\",VLOOKUP(H244,'Boden DüV-Bolap'!A:B,2,FALSE)))","v":""},{"$f":"IF(OR(I244=\"\",F244=\"\"),\"\",IF(I244>39,\"E\",IF(F244=\"leicht\",VLOOKUP(I244,'Boden DüV-Bolap'!A:Q,7,FALSE),IF(F244=\"mittel\",VLOOKUP(I244,'Boden DüV-Bolap'!A:K,11,FALSE),IF(F244=\"schwer\",VLOOKUP(I244,'Boden DüV-Bolap'!A:R,15,FALSE))))))","v":""},{"$f":"IF(OR(J244=\"\",F244=\"\"),\"\",IF(J244>39,\"E\",IF(F244=\"leicht\",VLOOKUP(J244,'Boden DüV-Bolap'!A:AA,19,FALSE),IF(F244=\"mittel\",VLOOKUP(J244,'Boden DüV-Bolap'!A:AA,23,FALSE),IF(F244=\"schwer\",VLOOKUP(J244,'Boden DüV-Bolap'!A:AA,27,FALSE))))))","v":""}]
[241,null,null,null,null,null,null,null,null,null,null,null,null,null,null,null,null,{"$f":"IF(H245=\"\",\"\",IF(H245>39,\"E\",VLOOKUP(H245,'Boden DüV-Bolap'!A:B,2,FALSE)))","v":""},{"$f":"IF(OR(I245=\"\",F245=\"\"),\"\",IF(I245>39,\"E\",IF(F245=\"leicht\",VLOOKUP(I245,'Boden DüV-Bolap'!A:Q,7,FALSE),IF(F245=\"mittel\",VLOOKUP(I245,'Boden DüV-Bolap'!A:K,11,FALSE),IF(F245=\"schwer\",VLOOKUP(I245,'Boden DüV-Bolap'!A:R,15,FALSE))))))","v":""},{"$f":"IF(OR(J245=\"\",F245=\"\"),\"\",IF(J245>39,\"E\",IF(F245=\"leicht\",VLOOKUP(J245,'Boden DüV-Bolap'!A:AA,19,FALSE),IF(F245=\"mittel\",VLOOKUP(J245,'Boden DüV-Bolap'!A:AA,23,FALSE),IF(F245=\"schwer\",VLOOKUP(J245,'Boden DüV-Bolap'!A:AA,27,FALSE))))))","v":""}]
[242,null,null,null,null,null,null,null,null,null,null,null,null,null,null,null,null,{"$f":"IF(H246=\"\",\"\",IF(H246>39,\"E\",VLOOKUP(H246,'Boden DüV-Bolap'!A:B,2,FALSE)))","v":""},{"$f":"IF(OR(I246=\"\",F246=\"\"),\"\",IF(I246>39,\"E\",IF(F246=\"leicht\",VLOOKUP(I246,'Boden DüV-Bolap'!A:Q,7,FALSE),IF(F246=\"mittel\",VLOOKUP(I246,'Boden DüV-Bolap'!A:K,11,FALSE),IF(F246=\"schwer\",VLOOKUP(I246,'Boden DüV-Bolap'!A:R,15,FALSE))))))","v":""},{"$f":"IF(OR(J246=\"\",F246=\"\"),\"\",IF(J246>39,\"E\",IF(F246=\"leicht\",VLOOKUP(J246,'Boden DüV-Bolap'!A:AA,19,FALSE),IF(F246=\"mittel\",VLOOKUP(J246,'Boden DüV-Bolap'!A:AA,23,FALSE),IF(F246=\"schwer\",VLOOKUP(J246,'Boden DüV-Bolap'!A:AA,27,FALSE))))))","v":""}]
[243,null,null,null,null,null,null,null,null,null,null,null,null,null,null,null,null,{"$f":"IF(H247=\"\",\"\",IF(H247>39,\"E\",VLOOKUP(H247,'Boden DüV-Bolap'!A:B,2,FALSE)))","v":""},{"$f":"IF(OR(I247=\"\",F247=\"\"),\"\",IF(I247>39,\"E\",IF(F247=\"leicht\",VLOOKUP(I247,'Boden DüV-Bolap'!A:Q,7,FALSE),IF(F247=\"mittel\",VLOOKUP(I247,'Boden DüV-Bolap'!A:K,11,FALSE),IF(F247=\"schwer\",VLOOKUP(I247,'Boden DüV-Bolap'!A:R,15,FALSE))))))","v":""},{"$f":"IF(OR(J247=\"\",F247=\"\"),\"\",IF(J247>39,\"E\",IF(F247=\"leicht\",VLOOKUP(J247,'Boden DüV-Bolap'!A:AA,19,FALSE),IF(F247=\"mittel\",VLOOKUP(J247,'Boden DüV-Bolap'!A:AA,23,FALSE),IF(F247=\"schwer\",VLOOKUP(J247,'Boden DüV-Bolap'!A:AA,27,FALSE))))))","v":""}]
[244,null,null,null,null,null,null,null,null,null,null,null,null,null,null,null,null,{"$f":"IF(H248=\"\",\"\",IF(H248>39,\"E\",VLOOKUP(H248,'Boden DüV-Bolap'!A:B,2,FALSE)))","v":""},{"$f":"IF(OR(I248=\"\",F248=\"\"),\"\",IF(I248>39,\"E\",IF(F248=\"leicht\",VLOOKUP(I248,'Boden DüV-Bolap'!A:Q,7,FALSE),IF(F248=\"mittel\",VLOOKUP(I248,'Boden DüV-Bolap'!A:K,11,FALSE),IF(F248=\"schwer\",VLOOKUP(I248,'Boden DüV-Bolap'!A:R,15,FALSE))))))","v":""},{"$f":"IF(OR(J248=\"\",F248=\"\"),\"\",IF(J248>39,\"E\",IF(F248=\"leicht\",VLOOKUP(J248,'Boden DüV-Bolap'!A:AA,19,FALSE),IF(F248=\"mittel\",VLOOKUP(J248,'Boden DüV-Bolap'!A:AA,23,FALSE),IF(F248=\"schwer\",VLOOKUP(J248,'Boden DüV-Bolap'!A:AA,27,FALSE))))))","v":""}]
[245,null,null,null,null,null,null,null,null,null,null,null,null,null,null,null,null,{"$f":"IF(H249=\"\",\"\",IF(H249>39,\"E\",VLOOKUP(H249,'Boden DüV-Bolap'!A:B,2,FALSE)))","v":""},{"$f":"IF(OR(I249=\"\",F249=\"\"),\"\",IF(I249>39,\"E\",IF(F249=\"leicht\",VLOOKUP(I249,'Boden DüV-Bolap'!A:Q,7,FALSE),IF(F249=\"mittel\",VLOOKUP(I249,'Boden DüV-Bolap'!A:K,11,FALSE),IF(F249=\"schwer\",VLOOKUP(I249,'Boden DüV-Bolap'!A:R,15,FALSE))))))","v":""},{"$f":"IF(OR(J249=\"\",F249=\"\"),\"\",IF(J249>39,\"E\",IF(F249=\"leicht\",VLOOKUP(J249,'Boden DüV-Bolap'!A:AA,19,FALSE),IF(F249=\"mittel\",VLOOKUP(J249,'Boden DüV-Bolap'!A:AA,23,FALSE),IF(F249=\"schwer\",VLOOKUP(J249,'Boden DüV-Bolap'!A:AA,27,FALSE))))))","v":""}]
[246,null,null,null,null,null,null,null,null,null,null,null,null,null,null,null,null,{"$f":"IF(H250=\"\",\"\",IF(H250>39,\"E\",VLOOKUP(H250,'Boden DüV-Bolap'!A:B,2,FALSE)))","v":""},{"$f":"IF(OR(I250=\"\",F250=\"\"),\"\",IF(I250>39,\"E\",IF(F250=\"leicht\",VLOOKUP(I250,'Boden DüV-Bolap'!A:Q,7,FALSE),IF(F250=\"mittel\",VLOOKUP(I250,'Boden DüV-Bolap'!A:K,11,FALSE),IF(F250=\"schwer\",VLOOKUP(I250,'Boden DüV-Bolap'!A:R,15,FALSE))))))","v":""},{"$f":"IF(OR(J250=\"\",F250=\"\"),\"\",IF(J250>39,\"E\",IF(F250=\"leicht\",VLOOKUP(J250,'Boden DüV-Bolap'!A:AA,19,FALSE),IF(F250=\"mittel\",VLOOKUP(J250,'Boden DüV-Bolap'!A:AA,23,FALSE),IF(F250=\"schwer\",VLOOKUP(J250,'Boden DüV-Bolap'!A:AA,27,FALSE))))))","v":""}]
[247,null,null,null,null,null,null,null,null,null,null,null,null,null,null,null,null,{"$f":"IF(H251=\"\",\"\",IF(H251>39,\"E\",VLOOKUP(H251,'Boden DüV-Bolap'!A:B,2,FALSE)))","v":""},{"$f":"IF(OR(I251=\"\",F251=\"\"),\"\",IF(I251>39,\"E\",IF(F251=\"leicht\",VLOOKUP(I251,'Boden DüV-Bolap'!A:Q,7,FALSE),IF(F251=\"mittel\",VLOOKUP(I251,'Boden DüV-Bolap'!A:K,11,FALSE),IF(F251=\"schwer\",VLOOKUP(I251,'Boden DüV-Bolap'!A:R,15,FALSE))))))","v":""},{"$f":"IF(OR(J251=\"\",F251=\"\"),\"\",IF(J251>39,\"E\",IF(F251=\"leicht\",VLOOKUP(J251,'Boden DüV-Bolap'!A:AA,19,FALSE),IF(F251=\"mittel\",VLOOKUP(J251,'Boden DüV-Bolap'!A:AA,23,FALSE),IF(F251=\"schwer\",VLOOKUP(J251,'Boden DüV-Bolap'!A:AA,27,FALSE))))))","v":""}]
[248,null,null,null,null,null,null,null,null,null,null,null,null,null,null,null,null,{"$f":"IF(H252=\"\",\"\",IF(H252>39,\"E\",VLOOKUP(H252,'Boden DüV-Bolap'!A:B,2,FALSE)))","v":""},{"$f":"IF(OR(I252=\"\",F252=\"\"),\"\",IF(I252>39,\"E\",IF(F252=\"leicht\",VLOOKUP(I252,'Boden DüV-Bolap'!A:Q,7,FALSE),IF(F252=\"mittel\",VLOOKUP(I252,'Boden DüV-Bolap'!A:K,11,FALSE),IF(F252=\"schwer\",VLOOKUP(I252,'Boden DüV-Bolap'!A:R,15,FALSE))))))","v":""},{"$f":"IF(OR(J252=\"\",F252=\"\"),\"\",IF(J252>39,\"E\",IF(F252=\"leicht\",VLOOKUP(J252,'Boden DüV-Bolap'!A:AA,19,FALSE),IF(F252=\"mittel\",VLOOKUP(J252,'Boden DüV-Bolap'!A:AA,23,FALSE),IF(F252=\"schwer\",VLOOKUP(J252,'Boden DüV-Bolap'!A:AA,27,FALSE))))))","v":""}]
[249,null,null,null,null,null,null,null,null,null,null,null,null,null,null,null,null,{"$f":"IF(H253=\"\",\"\",IF(H253>39,\"E\",VLOOKUP(H253,'Boden DüV-Bolap'!A:B,2,FALSE)))","v":""},{"$f":"IF(OR(I253=\"\",F253=\"\"),\"\",IF(I253>39,\"E\",IF(F253=\"leicht\",VLOOKUP(I253,'Boden DüV-Bolap'!A:Q,7,FALSE),IF(F253=\"mittel\",VLOOKUP(I253,'Boden DüV-Bolap'!A:K,11,FALSE),IF(F253=\"schwer\",VLOOKUP(I253,'Boden DüV-Bolap'!A:R,15,FALSE))))))","v":""},{"$f":"IF(OR(J253=\"\",F253=\"\"),\"\",IF(J253>39,\"E\",IF(F253=\"leicht\",VLOOKUP(J253,'Boden DüV-Bolap'!A:AA,19,FALSE),IF(F253=\"mittel\",VLOOKUP(J253,'Boden DüV-Bolap'!A:AA,23,FALSE),IF(F253=\"schwer\",VLOOKUP(J253,'Boden DüV-Bolap'!A:AA,27,FALSE))))))","v":""}]
[250,null,null,null,null,null,null,null,null,null,null,null,null,null,null,null,null,{"$f":"IF(H254=\"\",\"\",IF(H254>39,\"E\",VLOOKUP(H254,'Boden DüV-Bolap'!A:B,2,FALSE)))","v":""},{"$f":"IF(OR(I254=\"\",F254=\"\"),\"\",IF(I254>39,\"E\",IF(F254=\"leicht\",VLOOKUP(I254,'Boden DüV-Bolap'!A:Q,7,FALSE),IF(F254=\"mittel\",VLOOKUP(I254,'Boden DüV-Bolap'!A:K,11,FALSE),IF(F254=\"schwer\",VLOOKUP(I254,'Boden DüV-Bolap'!A:R,15,FALSE))))))","v":""},{"$f":"IF(OR(J254=\"\",F254=\"\"),\"\",IF(J254>39,\"E\",IF(F254=\"leicht\",VLOOKUP(J254,'Boden DüV-Bolap'!A:AA,19,FALSE),IF(F254=\"mittel\",VLOOKUP(J254,'Boden DüV-Bolap'!A:AA,23,FALSE),IF(F254=\"schwer\",VLOOKUP(J254,'Boden DüV-Bolap'!A:AA,27,FALSE))))))","v":""}]
[251,null,null,null,null,null,null,null,null,null,null,null,null,null,null,null,null,{"$f":"IF(H255=\"\",\"\",IF(H255>39,\"E\",VLOOKUP(H255,'Boden DüV-Bolap'!A:B,2,FALSE)))","v":""},{"$f":"IF(OR(I255=\"\",F255=\"\"),\"\",IF(I255>39,\"E\",IF(F255=\"leicht\",VLOOKUP(I255,'Boden DüV-Bolap'!A:Q,7,FALSE),IF(F255=\"mittel\",VLOOKUP(I255,'Boden DüV-Bolap'!A:K,11,FALSE),IF(F255=\"schwer\",VLOOKUP(I255,'Boden DüV-Bolap'!A:R,15,FALSE))))))","v":""},{"$f":"IF(OR(J255=\"\",F255=\"\"),\"\",IF(J255>39,\"E\",IF(F255=\"leicht\",VLOOKUP(J255,'Boden DüV-Bolap'!A:AA,19,FALSE),IF(F255=\"mittel\",VLOOKUP(J255,'Boden DüV-Bolap'!A:AA,23,FALSE),IF(F255=\"schwer\",VLOOKUP(J255,'Boden DüV-Bolap'!A:AA,27,FALSE))))))","v":""}]
[252,null,null,null,null,null,null,null,null,null,null,null,null,null,null,null,null,{"$f":"IF(H256=\"\",\"\",IF(H256>39,\"E\",VLOOKUP(H256,'Boden DüV-Bolap'!A:B,2,FALSE)))","v":""},{"$f":"IF(OR(I256=\"\",F256=\"\"),\"\",IF(I256>39,\"E\",IF(F256=\"leicht\",VLOOKUP(I256,'Boden DüV-Bolap'!A:Q,7,FALSE),IF(F256=\"mittel\",VLOOKUP(I256,'Boden DüV-Bolap'!A:K,11,FALSE),IF(F256=\"schwer\",VLOOKUP(I256,'Boden DüV-Bolap'!A:R,15,FALSE))))))","v":""},{"$f":"IF(OR(J256=\"\",F256=\"\"),\"\",IF(J256>39,\"E\",IF(F256=\"leicht\",VLOOKUP(J256,'Boden DüV-Bolap'!A:AA,19,FALSE),IF(F256=\"mittel\",VLOOKUP(J256,'Boden DüV-Bolap'!A:AA,23,FALSE),IF(F256=\"schwer\",VLOOKUP(J256,'Boden DüV-Bolap'!A:AA,27,FALSE))))))","v":""}]
[253,null,null,null,null,null,null,null,null,null,null,null,null,null,null,null,null,{"$f":"IF(H257=\"\",\"\",IF(H257>39,\"E\",VLOOKUP(H257,'Boden DüV-Bolap'!A:B,2,FALSE)))","v":""},{"$f":"IF(OR(I257=\"\",F257=\"\"),\"\",IF(I257>39,\"E\",IF(F257=\"leicht\",VLOOKUP(I257,'Boden DüV-Bolap'!A:Q,7,FALSE),IF(F257=\"mittel\",VLOOKUP(I257,'Boden DüV-Bolap'!A:K,11,FALSE),IF(F257=\"schwer\",VLOOKUP(I257,'Boden DüV-Bolap'!A:R,15,FALSE))))))","v":""},{"$f":"IF(OR(J257=\"\",F257=\"\"),\"\",IF(J257>39,\"E\",IF(F257=\"leicht\",VLOOKUP(J257,'Boden DüV-Bolap'!A:AA,19,FALSE),IF(F257=\"mittel\",VLOOKUP(J257,'Boden DüV-Bolap'!A:AA,23,FALSE),IF(F257=\"schwer\",VLOOKUP(J257,'Boden DüV-Bolap'!A:AA,27,FALSE))))))","v":""}]
[254,null,null,null,null,null,null,null,null,null,null,null,null,null,null,null,null,{"$f":"IF(H258=\"\",\"\",IF(H258>39,\"E\",VLOOKUP(H258,'Boden DüV-Bolap'!A:B,2,FALSE)))","v":""},{"$f":"IF(OR(I258=\"\",F258=\"\"),\"\",IF(I258>39,\"E\",IF(F258=\"leicht\",VLOOKUP(I258,'Boden DüV-Bolap'!A:Q,7,FALSE),IF(F258=\"mittel\",VLOOKUP(I258,'Boden DüV-Bolap'!A:K,11,FALSE),IF(F258=\"schwer\",VLOOKUP(I258,'Boden DüV-Bolap'!A:R,15,FALSE))))))","v":""},{"$f":"IF(OR(J258=\"\",F258=\"\"),\"\",IF(J258>39,\"E\",IF(F258=\"leicht\",VLOOKUP(J258,'Boden DüV-Bolap'!A:AA,19,FALSE),IF(F258=\"mittel\",VLOOKUP(J258,'Boden DüV-Bolap'!A:AA,23,FALSE),IF(F258=\"schwer\",VLOOKUP(J258,'Boden DüV-Bolap'!A:AA,27,FALSE))))))","v":""}]
[255,null,null,null,null,null,null,null,null,null,null,null,null,null,null,null,null,{"$f":"IF(H259=\"\",\"\",IF(H259>39,\"E\",VLOOKUP(H259,'Boden DüV-Bolap'!A:B,2,FALSE)))","v":""},{"$f":"IF(OR(I259=\"\",F259=\"\"),\"\",IF(I259>39,\"E\",IF(F259=\"leicht\",VLOOKUP(I259,'Boden DüV-Bolap'!A:Q,7,FALSE),IF(F259=\"mittel\",VLOOKUP(I259,'Boden DüV-Bolap'!A:K,11,FALSE),IF(F259=\"schwer\",VLOOKUP(I259,'Boden DüV-Bolap'!A:R,15,FALSE))))))","v":""},{"$f":"IF(OR(J259=\"\",F259=\"\"),\"\",IF(J259>39,\"E\",IF(F259=\"leicht\",VLOOKUP(J259,'Boden DüV-Bolap'!A:AA,19,FALSE),IF(F259=\"mittel\",VLOOKUP(J259,'Boden DüV-Bolap'!A:AA,23,FALSE),IF(F259=\"schwer\",VLOOKUP(J259,'Boden DüV-Bolap'!A:AA,27,FALSE))))))","v":""}]
[256,null,null,null,null,null,null,null,null,null,null,null,null,null,null,null,null,{"$f":"IF(H260=\"\",\"\",IF(H260>39,\"E\",VLOOKUP(H260,'Boden DüV-Bolap'!A:B,2,FALSE)))","v":""},{"$f":"IF(OR(I260=\"\",F260=\"\"),\"\",IF(I260>39,\"E\",IF(F260=\"leicht\",VLOOKUP(I260,'Boden DüV-Bolap'!A:Q,7,FALSE),IF(F260=\"mittel\",VLOOKUP(I260,'Boden DüV-Bolap'!A:K,11,FALSE),IF(F260=\"schwer\",VLOOKUP(I260,'Boden DüV-Bolap'!A:R,15,FALSE))))))","v":""},{"$f":"IF(OR(J260=\"\",F260=\"\"),\"\",IF(J260>39,\"E\",IF(F260=\"leicht\",VLOOKUP(J260,'Boden DüV-Bolap'!A:AA,19,FALSE),IF(F260=\"mittel\",VLOOKUP(J260,'Boden DüV-Bolap'!A:AA,23,FALSE),IF(F260=\"schwer\",VLOOKUP(J260,'Boden DüV-Bolap'!A:AA,27,FALSE))))))","v":""}]
[257,null,null,null,null,null,null,null,null,null,null,null,null,null,null,null,null,{"$f":"IF(H261=\"\",\"\",IF(H261>39,\"E\",VLOOKUP(H261,'Boden DüV-Bolap'!A:B,2,FALSE)))","v":""},{"$f":"IF(OR(I261=\"\",F261=\"\"),\"\",IF(I261>39,\"E\",IF(F261=\"leicht\",VLOOKUP(I261,'Boden DüV-Bolap'!A:Q,7,FALSE),IF(F261=\"mittel\",VLOOKUP(I261,'Boden DüV-Bolap'!A:K,11,FALSE),IF(F261=\"schwer\",VLOOKUP(I261,'Boden DüV-Bolap'!A:R,15,FALSE))))))","v":""},{"$f":"IF(OR(J261=\"\",F261=\"\"),\"\",IF(J261>39,\"E\",IF(F261=\"leicht\",VLOOKUP(J261,'Boden DüV-Bolap'!A:AA,19,FALSE),IF(F261=\"mittel\",VLOOKUP(J261,'Boden DüV-Bolap'!A:AA,23,FALSE),IF(F261=\"schwer\",VLOOKUP(J261,'Boden DüV-Bolap'!A:AA,27,FALSE))))))","v":""}]
[258,null,null,null,null,null,null,null,null,null,null,null,null,null,null,null,null,{"$f":"IF(H262=\"\",\"\",IF(H262>39,\"E\",VLOOKUP(H262,'Boden DüV-Bolap'!A:B,2,FALSE)))","v":""},{"$f":"IF(OR(I262=\"\",F262=\"\"),\"\",IF(I262>39,\"E\",IF(F262=\"leicht\",VLOOKUP(I262,'Boden DüV-Bolap'!A:Q,7,FALSE),IF(F262=\"mittel\",VLOOKUP(I262,'Boden DüV-Bolap'!A:K,11,FALSE),IF(F262=\"schwer\",VLOOKUP(I262,'Boden DüV-Bolap'!A:R,15,FALSE))))))","v":""},{"$f":"IF(OR(J262=\"\",F262=\"\"),\"\",IF(J262>39,\"E\",IF(F262=\"leicht\",VLOOKUP(J262,'Boden DüV-Bolap'!A:AA,19,FALSE),IF(F262=\"mittel\",VLOOKUP(J262,'Boden DüV-Bolap'!A:AA,23,FALSE),IF(F262=\"schwer\",VLOOKUP(J262,'Boden DüV-Bolap'!A:AA,27,FALSE))))))","v":""}]
[259,null,null,null,null,null,null,null,null,null,null,null,null,null,null,null,null,{"$f":"IF(H263=\"\",\"\",IF(H263>39,\"E\",VLOOKUP(H263,'Boden DüV-Bolap'!A:B,2,FALSE)))","v":""},{"$f":"IF(OR(I263=\"\",F263=\"\"),\"\",IF(I263>39,\"E\",IF(F263=\"leicht\",VLOOKUP(I263,'Boden DüV-Bolap'!A:Q,7,FALSE),IF(F263=\"mittel\",VLOOKUP(I263,'Boden DüV-Bolap'!A:K,11,FALSE),IF(F263=\"schwer\",VLOOKUP(I263,'Boden DüV-Bolap'!A:R,15,FALSE))))))","v":""},{"$f":"IF(OR(J263=\"\",F263=\"\"),\"\",IF(J263>39,\"E\",IF(F263=\"leicht\",VLOOKUP(J263,'Boden DüV-Bolap'!A:AA,19,FALSE),IF(F263=\"mittel\",VLOOKUP(J263,'Boden DüV-Bolap'!A:AA,23,FALSE),IF(F263=\"schwer\",VLOOKUP(J263,'Boden DüV-Bolap'!A:AA,27,FALSE))))))","v":""}]
[260,null,null,null,null,null,null,null,null,null,null,null,null,null,null,null,null,{"$f":"IF(H264=\"\",\"\",IF(H264>39,\"E\",VLOOKUP(H264,'Boden DüV-Bolap'!A:B,2,FALSE)))","v":""},{"$f":"IF(OR(I264=\"\",F264=\"\"),\"\",IF(I264>39,\"E\",IF(F264=\"leicht\",VLOOKUP(I264,'Boden DüV-Bolap'!A:Q,7,FALSE),IF(F264=\"mittel\",VLOOKUP(I264,'Boden DüV-Bolap'!A:K,11,FALSE),IF(F264=\"schwer\",VLOOKUP(I264,'Boden DüV-Bolap'!A:R,15,FALSE))))))","v":""},{"$f":"IF(OR(J264=\"\",F264=\"\"),\"\",IF(J264>39,\"E\",IF(F264=\"leicht\",VLOOKUP(J264,'Boden DüV-Bolap'!A:AA,19,FALSE),IF(F264=\"mittel\",VLOOKUP(J264,'Boden DüV-Bolap'!A:AA,23,FALSE),IF(F264=\"schwer\",VLOOKUP(J264,'Boden DüV-Bolap'!A:AA,27,FALSE))))))","v":""}]
[261,null,null,null,null,null,null,null,null,null,null,null,null,null,null,null,null,{"$f":"IF(H265=\"\",\"\",IF(H265>39,\"E\",VLOOKUP(H265,'Boden DüV-Bolap'!A:B,2,FALSE)))","v":""},{"$f":"IF(OR(I265=\"\",F265=\"\"),\"\",IF(I265>39,\"E\",IF(F265=\"leicht\",VLOOKUP(I265,'Boden DüV-Bolap'!A:Q,7,FALSE),IF(F265=\"mittel\",VLOOKUP(I265,'Boden DüV-Bolap'!A:K,11,FALSE),IF(F265=\"schwer\",VLOOKUP(I265,'Boden DüV-Bolap'!A:R,15,FALSE))))))","v":""},{"$f":"IF(OR(J265=\"\",F265=\"\"),\"\",IF(J265>39,\"E\",IF(F265=\"leicht\",VLOOKUP(J265,'Boden DüV-Bolap'!A:AA,19,FALSE),IF(F265=\"mittel\",VLOOKUP(J265,'Boden DüV-Bolap'!A:AA,23,FALSE),IF(F265=\"schwer\",VLOOKUP(J265,'Boden DüV-Bolap'!A:AA,27,FALSE))))))","v":""}]
[262,null,null,null,null,null,null,null,null,null,null,null,null,null,null,null,null,{"$f":"IF(H266=\"\",\"\",IF(H266>39,\"E\",VLOOKUP(H266,'Boden DüV-Bolap'!A:B,2,FALSE)))","v":""},{"$f":"IF(OR(I266=\"\",F266=\"\"),\"\",IF(I266>39,\"E\",IF(F266=\"leicht\",VLOOKUP(I266,'Boden DüV-Bolap'!A:Q,7,FALSE),IF(F266=\"mittel\",VLOOKUP(I266,'Boden DüV-Bolap'!A:K,11,FALSE),IF(F266=\"schwer\",VLOOKUP(I266,'Boden DüV-Bolap'!A:R,15,FALSE))))))","v":""},{"$f":"IF(OR(J266=\"\",F266=\"\"),\"\",IF(J266>39,\"E\",IF(F266=\"leicht\",VLOOKUP(J266,'Boden DüV-Bolap'!A:AA,19,FALSE),IF(F266=\"mittel\",VLOOKUP(J266,'Boden DüV-Bolap'!A:AA,23,FALSE),IF(F266=\"schwer\",VLOOKUP(J266,'Boden DüV-Bolap'!A:AA,27,FALSE))))))","v":""}]
[263,null,null,null,null,null,null,null,null,null,null,null,null,null,null,null,null,{"$f":"IF(H267=\"\",\"\",IF(H267>39,\"E\",VLOOKUP(H267,'Boden DüV-Bolap'!A:B,2,FALSE)))","v":""},{"$f":"IF(OR(I267=\"\",F267=\"\"),\"\",IF(I267>39,\"E\",IF(F267=\"leicht\",VLOOKUP(I267,'Boden DüV-Bolap'!A:Q,7,FALSE),IF(F267=\"mittel\",VLOOKUP(I267,'Boden DüV-Bolap'!A:K,11,FALSE),IF(F267=\"schwer\",VLOOKUP(I267,'Boden DüV-Bolap'!A:R,15,FALSE))))))","v":""},{"$f":"IF(OR(J267=\"\",F267=\"\"),\"\",IF(J267>39,\"E\",IF(F267=\"leicht\",VLOOKUP(J267,'Boden DüV-Bolap'!A:AA,19,FALSE),IF(F267=\"mittel\",VLOOKUP(J267,'Boden DüV-Bolap'!A:AA,23,FALSE),IF(F267=\"schwer\",VLOOKUP(J267,'Boden DüV-Bolap'!A:AA,27,FALSE))))))","v":""}]
[264,null,null,null,null,null,null,null,null,null,null,null,null,null,null,null,null,{"$f":"IF(H268=\"\",\"\",IF(H268>39,\"E\",VLOOKUP(H268,'Boden DüV-Bolap'!A:B,2,FALSE)))","v":""},{"$f":"IF(OR(I268=\"\",F268=\"\"),\"\",IF(I268>39,\"E\",IF(F268=\"leicht\",VLOOKUP(I268,'Boden DüV-Bolap'!A:Q,7,FALSE),IF(F268=\"mittel\",VLOOKUP(I268,'Boden DüV-Bolap'!A:K,11,FALSE),IF(F268=\"schwer\",VLOOKUP(I268,'Boden DüV-Bolap'!A:R,15,FALSE))))))","v":""},{"$f":"IF(OR(J268=\"\",F268=\"\"),\"\",IF(J268>39,\"E\",IF(F268=\"leicht\",VLOOKUP(J268,'Boden DüV-Bolap'!A:AA,19,FALSE),IF(F268=\"mittel\",VLOOKUP(J268,'Boden DüV-Bolap'!A:AA,23,FALSE),IF(F268=\"schwer\",VLOOKUP(J268,'Boden DüV-Bolap'!A:AA,27,FALSE))))))","v":""}]
[265,null,null,null,null,null,null,null,null,null,null,null,null,null,null,null,null,{"$f":"IF(H269=\"\",\"\",IF(H269>39,\"E\",VLOOKUP(H269,'Boden DüV-Bolap'!A:B,2,FALSE)))","v":""},{"$f":"IF(OR(I269=\"\",F269=\"\"),\"\",IF(I269>39,\"E\",IF(F269=\"leicht\",VLOOKUP(I269,'Boden DüV-Bolap'!A:Q,7,FALSE),IF(F269=\"mittel\",VLOOKUP(I269,'Boden DüV-Bolap'!A:K,11,FALSE),IF(F269=\"schwer\",VLOOKUP(I269,'Boden DüV-Bolap'!A:R,15,FALSE))))))","v":""},{"$f":"IF(OR(J269=\"\",F269=\"\"),\"\",IF(J269>39,\"E\",IF(F269=\"leicht\",VLOOKUP(J269,'Boden DüV-Bolap'!A:AA,19,FALSE),IF(F269=\"mittel\",VLOOKUP(J269,'Boden DüV-Bolap'!A:AA,23,FALSE),IF(F269=\"schwer\",VLOOKUP(J269,'Boden DüV-Bolap'!A:AA,27,FALSE))))))","v":""}]
[266,null,null,null,null,null,null,null,null,null,null,null,null,null,null,null,null,{"$f":"IF(H270=\"\",\"\",IF(H270>39,\"E\",VLOOKUP(H270,'Boden DüV-Bolap'!A:B,2,FALSE)))","v":""},{"$f":"IF(OR(I270=\"\",F270=\"\"),\"\",IF(I270>39,\"E\",IF(F270=\"leicht\",VLOOKUP(I270,'Boden DüV-Bolap'!A:Q,7,FALSE),IF(F270=\"mittel\",VLOOKUP(I270,'Boden DüV-Bolap'!A:K,11,FALSE),IF(F270=\"schwer\",VLOOKUP(I270,'Boden DüV-Bolap'!A:R,15,FALSE))))))","v":""},{"$f":"IF(OR(J270=\"\",F270=\"\"),\"\",IF(J270>39,\"E\",IF(F270=\"leicht\",VLOOKUP(J270,'Boden DüV-Bolap'!A:AA,19,FALSE),IF(F270=\"mittel\",VLOOKUP(J270,'Boden DüV-Bolap'!A:AA,23,FALSE),IF(F270=\"schwer\",VLOOKUP(J270,'Boden DüV-Bolap'!A:AA,27,FALSE))))))","v":""}]
[267,null,null,null,null,null,null,null,null,null,null,null,null,null,null,null,null,{"$f":"IF(H271=\"\",\"\",IF(H271>39,\"E\",VLOOKUP(H271,'Boden DüV-Bolap'!A:B,2,FALSE)))","v":""},{"$f":"IF(OR(I271=\"\",F271=\"\"),\"\",IF(I271>39,\"E\",IF(F271=\"leicht\",VLOOKUP(I271,'Boden DüV-Bolap'!A:Q,7,FALSE),IF(F271=\"mittel\",VLOOKUP(I271,'Boden DüV-Bolap'!A:K,11,FALSE),IF(F271=\"schwer\",VLOOKUP(I271,'Boden DüV-Bolap'!A:R,15,FALSE))))))","v":""},{"$f":"IF(OR(J271=\"\",F271=\"\"),\"\",IF(J271>39,\"E\",IF(F271=\"leicht\",VLOOKUP(J271,'Boden DüV-Bolap'!A:AA,19,FALSE),IF(F271=\"mittel\",VLOOKUP(J271,'Boden DüV-Bolap'!A:AA,23,FALSE),IF(F271=\"schwer\",VLOOKUP(J271,'Boden DüV-Bolap'!A:AA,27,FALSE))))))","v":""}]
[268,null,null,null,null,null,null,null,null,null,null,null,null,null,null,null,null,{"$f":"IF(H272=\"\",\"\",IF(H272>39,\"E\",VLOOKUP(H272,'Boden DüV-Bolap'!A:B,2,FALSE)))","v":""},{"$f":"IF(OR(I272=\"\",F272=\"\"),\"\",IF(I272>39,\"E\",IF(F272=\"leicht\",VLOOKUP(I272,'Boden DüV-Bolap'!A:Q,7,FALSE),IF(F272=\"mittel\",VLOOKUP(I272,'Boden DüV-Bolap'!A:K,11,FALSE),IF(F272=\"schwer\",VLOOKUP(I272,'Boden DüV-Bolap'!A:R,15,FALSE))))))","v":""},{"$f":"IF(OR(J272=\"\",F272=\"\"),\"\",IF(J272>39,\"E\",IF(F272=\"leicht\",VLOOKUP(J272,'Boden DüV-Bolap'!A:AA,19,FALSE),IF(F272=\"mittel\",VLOOKUP(J272,'Boden DüV-Bolap'!A:AA,23,FALSE),IF(F272=\"schwer\",VLOOKUP(J272,'Boden DüV-Bolap'!A:AA,27,FALSE))))))","v":""}]
[269,null,null,null,null,null,null,null,null,null,null,null,null,null,null,null,null,{"$f":"IF(H273=\"\",\"\",IF(H273>39,\"E\",VLOOKUP(H273,'Boden DüV-Bolap'!A:B,2,FALSE)))","v":""},{"$f":"IF(OR(I273=\"\",F273=\"\"),\"\",IF(I273>39,\"E\",IF(F273=\"leicht\",VLOOKUP(I273,'Boden DüV-Bolap'!A:Q,7,FALSE),IF(F273=\"mittel\",VLOOKUP(I273,'Boden DüV-Bolap'!A:K,11,FALSE),IF(F273=\"schwer\",VLOOKUP(I273,'Boden DüV-Bolap'!A:R,15,FALSE))))))","v":""},{"$f":"IF(OR(J273=\"\",F273=\"\"),\"\",IF(J273>39,\"E\",IF(F273=\"leicht\",VLOOKUP(J273,'Boden DüV-Bolap'!A:AA,19,FALSE),IF(F273=\"mittel\",VLOOKUP(J273,'Boden DüV-Bolap'!A:AA,23,FALSE),IF(F273=\"schwer\",VLOOKUP(J273,'Boden DüV-Bolap'!A:AA,27,FALSE))))))","v":""}]
[270,null,null,null,null,null,null,null,null,null,null,null,null,null,null,null,null,{"$f":"IF(H274=\"\",\"\",IF(H274>39,\"E\",VLOOKUP(H274,'Boden DüV-Bolap'!A:B,2,FALSE)))","v":""},{"$f":"IF(OR(I274=\"\",F274=\"\"),\"\",IF(I274>39,\"E\",IF(F274=\"leicht\",VLOOKUP(I274,'Boden DüV-Bolap'!A:Q,7,FALSE),IF(F274=\"mittel\",VLOOKUP(I274,'Boden DüV-Bolap'!A:K,11,FALSE),IF(F274=\"schwer\",VLOOKUP(I274,'Boden DüV-Bolap'!A:R,15,FALSE))))))","v":""},{"$f":"IF(OR(J274=\"\",F274=\"\"),\"\",IF(J274>39,\"E\",IF(F274=\"leicht\",VLOOKUP(J274,'Boden DüV-Bolap'!A:AA,19,FALSE),IF(F274=\"mittel\",VLOOKUP(J274,'Boden DüV-Bolap'!A:AA,23,FALSE),IF(F274=\"schwer\",VLOOKUP(J274,'Boden DüV-Bolap'!A:AA,27,FALSE))))))","v":""}]
[271,null,null,null,null,null,null,null,null,null,null,null,null,null,null,null,null,{"$f":"IF(H275=\"\",\"\",IF(H275>39,\"E\",VLOOKUP(H275,'Boden DüV-Bolap'!A:B,2,FALSE)))","v":""},{"$f":"IF(OR(I275=\"\",F275=\"\"),\"\",IF(I275>39,\"E\",IF(F275=\"leicht\",VLOOKUP(I275,'Boden DüV-Bolap'!A:Q,7,FALSE),IF(F275=\"mittel\",VLOOKUP(I275,'Boden DüV-Bolap'!A:K,11,FALSE),IF(F275=\"schwer\",VLOOKUP(I275,'Boden DüV-Bolap'!A:R,15,FALSE))))))","v":""},{"$f":"IF(OR(J275=\"\",F275=\"\"),\"\",IF(J275>39,\"E\",IF(F275=\"leicht\",VLOOKUP(J275,'Boden DüV-Bolap'!A:AA,19,FALSE),IF(F275=\"mittel\",VLOOKUP(J275,'Boden DüV-Bolap'!A:AA,23,FALSE),IF(F275=\"schwer\",VLOOKUP(J275,'Boden DüV-Bolap'!A:AA,27,FALSE))))))","v":""}]
[272,null,null,null,null,null,null,null,null,null,null,null,null,null,null,null,null,{"$f":"IF(H276=\"\",\"\",IF(H276>39,\"E\",VLOOKUP(H276,'Boden DüV-Bolap'!A:B,2,FALSE)))","v":""},{"$f":"IF(OR(I276=\"\",F276=\"\"),\"\",IF(I276>39,\"E\",IF(F276=\"leicht\",VLOOKUP(I276,'Boden DüV-Bolap'!A:Q,7,FALSE),IF(F276=\"mittel\",VLOOKUP(I276,'Boden DüV-Bolap'!A:K,11,FALSE),IF(F276=\"schwer\",VLOOKUP(I276,'Boden DüV-Bolap'!A:R,15,FALSE))))))","v":""},{"$f":"IF(OR(J276=\"\",F276=\"\"),\"\",IF(J276>39,\"E\",IF(F276=\"leicht\",VLOOKUP(J276,'Boden DüV-Bolap'!A:AA,19,FALSE),IF(F276=\"mittel\",VLOOKUP(J276,'Boden DüV-Bolap'!A:AA,23,FALSE),IF(F276=\"schwer\",VLOOKUP(J276,'Boden DüV-Bolap'!A:AA,27,FALSE))))))","v":""}]
[273,null,null,null,null,null,null,null,null,null,null,null,null,null,null,null,null,{"$f":"IF(H277=\"\",\"\",IF(H277>39,\"E\",VLOOKUP(H277,'Boden DüV-Bolap'!A:B,2,FALSE)))","v":""},{"$f":"IF(OR(I277=\"\",F277=\"\"),\"\",IF(I277>39,\"E\",IF(F277=\"leicht\",VLOOKUP(I277,'Boden DüV-Bolap'!A:Q,7,FALSE),IF(F277=\"mittel\",VLOOKUP(I277,'Boden DüV-Bolap'!A:K,11,FALSE),IF(F277=\"schwer\",VLOOKUP(I277,'Boden DüV-Bolap'!A:R,15,FALSE))))))","v":""},{"$f":"IF(OR(J277=\"\",F277=\"\"),\"\",IF(J277>39,\"E\",IF(F277=\"leicht\",VLOOKUP(J277,'Boden DüV-Bolap'!A:AA,19,FALSE),IF(F277=\"mittel\",VLOOKUP(J277,'Boden DüV-Bolap'!A:AA,23,FALSE),IF(F277=\"schwer\",VLOOKUP(J277,'Boden DüV-Bolap'!A:AA,27,FALSE))))))","v":""}]
[274,null,null,null,null,null,null,null,null,null,null,null,null,null,null,null,null,{"$f":"IF(H278=\"\",\"\",IF(H278>39,\"E\",VLOOKUP(H278,'Boden DüV-Bolap'!A:B,2,FALSE)))","v":""},{"$f":"IF(OR(I278=\"\",F278=\"\"),\"\",IF(I278>39,\"E\",IF(F278=\"leicht\",VLOOKUP(I278,'Boden DüV-Bolap'!A:Q,7,FALSE),IF(F278=\"mittel\",VLOOKUP(I278,'Boden DüV-Bolap'!A:K,11,FALSE),IF(F278=\"schwer\",VLOOKUP(I278,'Boden DüV-Bolap'!A:R,15,FALSE))))))","v":""},{"$f":"IF(OR(J278=\"\",F278=\"\"),\"\",IF(J278>39,\"E\",IF(F278=\"leicht\",VLOOKUP(J278,'Boden DüV-Bolap'!A:AA,19,FALSE),IF(F278=\"mittel\",VLOOKUP(J278,'Boden DüV-Bolap'!A:AA,23,FALSE),IF(F278=\"schwer\",VLOOKUP(J278,'Boden DüV-Bolap'!A:AA,27,FALSE))))))","v":""}]
[275,null,null,null,null,null,null,null,null,null,null,null,null,null,null,null,null,{"$f":"IF(H279=\"\",\"\",IF(H279>39,\"E\",VLOOKUP(H279,'Boden DüV-Bolap'!A:B,2,FALSE)))","v":""},{"$f":"IF(OR(I279=\"\",F279=\"\"),\"\",IF(I279>39,\"E\",IF(F279=\"leicht\",VLOOKUP(I279,'Boden DüV-Bolap'!A:Q,7,FALSE),IF(F279=\"mittel\",VLOOKUP(I279,'Boden DüV-Bolap'!A:K,11,FALSE),IF(F279=\"schwer\",VLOOKUP(I279,'Boden DüV-Bolap'!A:R,15,FALSE))))))","v":""},{"$f":"IF(OR(J279=\"\",F279=\"\"),\"\",IF(J279>39,\"E\",IF(F279=\"leicht\",VLOOKUP(J279,'Boden DüV-Bolap'!A:AA,19,FALSE),IF(F279=\"mittel\",VLOOKUP(J279,'Boden DüV-Bolap'!A:AA,23,FALSE),IF(F279=\"schwer\",VLOOKUP(J279,'Boden DüV-Bolap'!A:AA,27,FALSE))))))","v":""}]
[276,null,null,null,null,null,null,null,null,null,null,null,null,null,null,null,null,{"$f":"IF(H280=\"\",\"\",IF(H280>39,\"E\",VLOOKUP(H280,'Boden DüV-Bolap'!A:B,2,FALSE)))","v":""},{"$f":"IF(OR(I280=\"\",F280=\"\"),\"\",IF(I280>39,\"E\",IF(F280=\"leicht\",VLOOKUP(I280,'Boden DüV-Bolap'!A:Q,7,FALSE),IF(F280=\"mittel\",VLOOKUP(I280,'Boden DüV-Bolap'!A:K,11,FALSE),IF(F280=\"schwer\",VLOOKUP(I280,'Boden DüV-Bolap'!A:R,15,FALSE))))))","v":""},{"$f":"IF(OR(J280=\"\",F280=\"\"),\"\",IF(J280>39,\"E\",IF(F280=\"leicht\",VLOOKUP(J280,'Boden DüV-Bolap'!A:AA,19,FALSE),IF(F280=\"mittel\",VLOOKUP(J280,'Boden DüV-Bolap'!A:AA,23,FALSE),IF(F280=\"schwer\",VLOOKUP(J280,'Boden DüV-Bolap'!A:AA,27,FALSE))))))","v":""}]
[277,null,null,null,null,null,null,null,null,null,null,null,null,null,null,null,null,{"$f":"IF(H281=\"\",\"\",IF(H281>39,\"E\",VLOOKUP(H281,'Boden DüV-Bolap'!A:B,2,FALSE)))","v":""},{"$f":"IF(OR(I281=\"\",F281=\"\"),\"\",IF(I281>39,\"E\",IF(F281=\"leicht\",VLOOKUP(I281,'Boden DüV-Bolap'!A:Q,7,FALSE),IF(F281=\"mittel\",VLOOKUP(I281,'Boden DüV-Bolap'!A:K,11,FALSE),IF(F281=\"schwer\",VLOOKUP(I281,'Boden DüV-Bolap'!A:R,15,FALSE))))))","v":""},{"$f":"IF(OR(J281=\"\",F281=\"\"),\"\",IF(J281>39,\"E\",IF(F281=\"leicht\",VLOOKUP(J281,'Boden DüV-Bolap'!A:AA,19,FALSE),IF(F281=\"mittel\",VLOOKUP(J281,'Boden DüV-Bolap'!A:AA,23,FALSE),IF(F281=\"schwer\",VLOOKUP(J281,'Boden DüV-Bolap'!A:AA,27,FALSE))))))","v":""}]
[278,null,null,null,null,null,null,null,null,null,null,null,null,null,null,null,null,{"$f":"IF(H282=\"\",\"\",IF(H282>39,\"E\",VLOOKUP(H282,'Boden DüV-Bolap'!A:B,2,FALSE)))","v":""},{"$f":"IF(OR(I282=\"\",F282=\"\"),\"\",IF(I282>39,\"E\",IF(F282=\"leicht\",VLOOKUP(I282,'Boden DüV-Bolap'!A:Q,7,FALSE),IF(F282=\"mittel\",VLOOKUP(I282,'Boden DüV-Bolap'!A:K,11,FALSE),IF(F282=\"schwer\",VLOOKUP(I282,'Boden DüV-Bolap'!A:R,15,FALSE))))))","v":""},{"$f":"IF(OR(J282=\"\",F282=\"\"),\"\",IF(J282>39,\"E\",IF(F282=\"leicht\",VLOOKUP(J282,'Boden DüV-Bolap'!A:AA,19,FALSE),IF(F282=\"mittel\",VLOOKUP(J282,'Boden DüV-Bolap'!A:AA,23,FALSE),IF(F282=\"schwer\",VLOOKUP(J282,'Boden DüV-Bolap'!A:AA,27,FALSE))))))","v":""}]
[279,null,null,null,null,null,null,null,null,null,null,null,null,null,null,null,null,{"$f":"IF(H283=\"\",\"\",IF(H283>39,\"E\",VLOOKUP(H283,'Boden DüV-Bolap'!A:B,2,FALSE)))","v":""},{"$f":"IF(OR(I283=\"\",F283=\"\"),\"\",IF(I283>39,\"E\",IF(F283=\"leicht\",VLOOKUP(I283,'Boden DüV-Bolap'!A:Q,7,FALSE),IF(F283=\"mittel\",VLOOKUP(I283,'Boden DüV-Bolap'!A:K,11,FALSE),IF(F283=\"schwer\",VLOOKUP(I283,'Boden DüV-Bolap'!A:R,15,FALSE))))))","v":""},{"$f":"IF(OR(J283=\"\",F283=\"\"),\"\",IF(J283>39,\"E\",IF(F283=\"leicht\",VLOOKUP(J283,'Boden DüV-Bolap'!A:AA,19,FALSE),IF(F283=\"mittel\",VLOOKUP(J283,'Boden DüV-Bolap'!A:AA,23,FALSE),IF(F283=\"schwer\",VLOOKUP(J283,'Boden DüV-Bolap'!A:AA,27,FALSE))))))","v":""}]
[280,null,null,null,null,null,null,null,null,null,null,null,null,null,null,null,null,{"$f":"IF(H284=\"\",\"\",IF(H284>39,\"E\",VLOOKUP(H284,'Boden DüV-Bolap'!A:B,2,FALSE)))","v":""},{"$f":"IF(OR(I284=\"\",F284=\"\"),\"\",IF(I284>39,\"E\",IF(F284=\"leicht\",VLOOKUP(I284,'Boden DüV-Bolap'!A:Q,7,FALSE),IF(F284=\"mittel\",VLOOKUP(I284,'Boden DüV-Bolap'!A:K,11,FALSE),IF(F284=\"schwer\",VLOOKUP(I284,'Boden DüV-Bolap'!A:R,15,FALSE))))))","v":""},{"$f":"IF(OR(J284=\"\",F284=\"\"),\"\",IF(J284>39,\"E\",IF(F284=\"leicht\",VLOOKUP(J284,'Boden DüV-Bolap'!A:AA,19,FALSE),IF(F284=\"mittel\",VLOOKUP(J284,'Boden DüV-Bolap'!A:AA,23,FALSE),IF(F284=\"schwer\",VLOOKUP(J284,'Boden DüV-Bolap'!A:AA,27,FALSE))))))","v":""}]
[281,null,null,null,null,null,null,null,null,null,null,null,null,null,null,null,null,{"$f":"IF(H285=\"\",\"\",IF(H285>39,\"E\",VLOOKUP(H285,'Boden DüV-Bolap'!A:B,2,FALSE)))","v":""},{"$f":"IF(OR(I285=\"\",F285=\"\"),\"\",IF(I285>39,\"E\",IF(F285=\"leicht\",VLOOKUP(I285,'Boden DüV-Bolap'!A:Q,7,FALSE),IF(F285=\"mittel\",VLOOKUP(I285,'Boden DüV-Bolap'!A:K,11,FALSE),IF(F285=\"schwer\",VLOOKUP(I285,'Boden DüV-Bolap'!A:R,15,FALSE))))))","v":""},{"$f":"IF(OR(J285=\"\",F285=\"\"),\"\",IF(J285>39,\"E\",IF(F285=\"leicht\",VLOOKUP(J285,'Boden DüV-Bolap'!A:AA,19,FALSE),IF(F285=\"mittel\",VLOOKUP(J285,'Boden DüV-Bolap'!A:AA,23,FALSE),IF(F285=\"schwer\",VLOOKUP(J285,'Boden DüV-Bolap'!A:AA,27,FALSE))))))","v":""}]
[282,null,null,null,null,null,null,null,null,null,null,null,null,null,null,null,null,{"$f":"IF(H286=\"\",\"\",IF(H286>39,\"E\",VLOOKUP(H286,'Boden DüV-Bolap'!A:B,2,FALSE)))","v":""},{"$f":"IF(OR(I286=\"\",F286=\"\"),\"\",IF(I286>39,\"E\",IF(F286=\"leicht\",VLOOKUP(I286,'Boden DüV-Bolap'!A:Q,7,FALSE),IF(F286=\"mittel\",VLOOKUP(I286,'Boden DüV-Bolap'!A:K,11,FALSE),IF(F286=\"schwer\",VLOOKUP(I286,'Boden DüV-Bolap'!A:R,15,FALSE))))))","v":""},{"$f":"IF(OR(J286=\"\",F286=\"\"),\"\",IF(J286>39,\"E\",IF(F286=\"leicht\",VLOOKUP(J286,'Boden DüV-Bolap'!A:AA,19,FALSE),IF(F286=\"mittel\",VLOOKUP(J286,'Boden DüV-Bolap'!A:AA,23,FALSE),IF(F286=\"schwer\",VLOOKUP(J286,'Boden DüV-Bolap'!A:AA,27,FALSE))))))","v":""}]
[283,null,null,null,null,null,null,null,null,null,null,null,null,null,null,null,null,{"$f":"IF(H287=\"\",\"\",IF(H287>39,\"E\",VLOOKUP(H287,'Boden DüV-Bolap'!A:B,2,FALSE)))","v":""},{"$f":"IF(OR(I287=\"\",F287=\"\"),\"\",IF(I287>39,\"E\",IF(F287=\"leicht\",VLOOKUP(I287,'Boden DüV-Bolap'!A:Q,7,FALSE),IF(F287=\"mittel\",VLOOKUP(I287,'Boden DüV-Bolap'!A:K,11,FALSE),IF(F287=\"schwer\",VLOOKUP(I287,'Boden DüV-Bolap'!A:R,15,FALSE))))))","v":""},{"$f":"IF(OR(J287=\"\",F287=\"\"),\"\",IF(J287>39,\"E\",IF(F287=\"leicht\",VLOOKUP(J287,'Boden DüV-Bolap'!A:AA,19,FALSE),IF(F287=\"mittel\",VLOOKUP(J287,'Boden DüV-Bolap'!A:AA,23,FALSE),IF(F287=\"schwer\",VLOOKUP(J287,'Boden DüV-Bolap'!A:AA,27,FALSE))))))","v":""}]
[284,null,null,null,null,null,null,null,null,null,null,null,null,null,null,null,null,{"$f":"IF(H288=\"\",\"\",IF(H288>39,\"E\",VLOOKUP(H288,'Boden DüV-Bolap'!A:B,2,FALSE)))","v":""},{"$f":"IF(OR(I288=\"\",F288=\"\"),\"\",IF(I288>39,\"E\",IF(F288=\"leicht\",VLOOKUP(I288,'Boden DüV-Bolap'!A:Q,7,FALSE),IF(F288=\"mittel\",VLOOKUP(I288,'Boden DüV-Bolap'!A:K,11,FALSE),IF(F288=\"schwer\",VLOOKUP(I288,'Boden DüV-Bolap'!A:R,15,FALSE))))))","v":""},{"$f":"IF(OR(J288=\"\",F288=\"\"),\"\",IF(J288>39,\"E\",IF(F288=\"leicht\",VLOOKUP(J288,'Boden DüV-Bolap'!A:AA,19,FALSE),IF(F288=\"mittel\",VLOOKUP(J288,'Boden DüV-Bolap'!A:AA,23,FALSE),IF(F288=\"schwer\",VLOOKUP(J288,'Boden DüV-Bolap'!A:AA,27,FALSE))))))","v":""}]
[285,null,null,null,null,null,null,null,null,null,null,null,null,null,null,null,null,{"$f":"IF(H289=\"\",\"\",IF(H289>39,\"E\",VLOOKUP(H289,'Boden DüV-Bolap'!A:B,2,FALSE)))","v":""},{"$f":"IF(OR(I289=\"\",F289=\"\"),\"\",IF(I289>39,\"E\",IF(F289=\"leicht\",VLOOKUP(I289,'Boden DüV-Bolap'!A:Q,7,FALSE),IF(F289=\"mittel\",VLOOKUP(I289,'Boden DüV-Bolap'!A:K,11,FALSE),IF(F289=\"schwer\",VLOOKUP(I289,'Boden DüV-Bolap'!A:R,15,FALSE))))))","v":""},{"$f":"IF(OR(J289=\"\",F289=\"\"),\"\",IF(J289>39,\"E\",IF(F289=\"leicht\",VLOOKUP(J289,'Boden DüV-Bolap'!A:AA,19,FALSE),IF(F289=\"mittel\",VLOOKUP(J289,'Boden DüV-Bolap'!A:AA,23,FALSE),IF(F289=\"schwer\",VLOOKUP(J289,'Boden DüV-Bolap'!A:AA,27,FALSE))))))","v":""}]
[286,null,null,null,null,null,null,null,null,null,null,null,null,null,null,null,null,{"$f":"IF(H290=\"\",\"\",IF(H290>39,\"E\",VLOOKUP(H290,'Boden DüV-Bolap'!A:B,2,FALSE)))","v":""},{"$f":"IF(OR(I290=\"\",F290=\"\"),\"\",IF(I290>39,\"E\",IF(F290=\"leicht\",VLOOKUP(I290,'Boden DüV-Bolap'!A:Q,7,FALSE),IF(F290=\"mittel\",VLOOKUP(I290,'Boden DüV-Bolap'!A:K,11,FALSE),IF(F290=\"schwer\",VLOOKUP(I290,'Boden DüV-Bolap'!A:R,15,FALSE))))))","v":""},{"$f":"IF(OR(J290=\"\",F290=\"\"),\"\",IF(J290>39,\"E\",IF(F290=\"leicht\",VLOOKUP(J290,'Boden DüV-Bolap'!A:AA,19,FALSE),IF(F290=\"mittel\",VLOOKUP(J290,'Boden DüV-Bolap'!A:AA,23,FALSE),IF(F290=\"schwer\",VLOOKUP(J290,'Boden DüV-Bolap'!A:AA,27,FALSE))))))","v":""}]
[287,null,null,null,null,null,null,null,null,null,null,null,null,null,null,null,null,{"$f":"IF(H291=\"\",\"\",IF(H291>39,\"E\",VLOOKUP(H291,'Boden DüV-Bolap'!A:B,2,FALSE)))","v":""},{"$f":"IF(OR(I291=\"\",F291=\"\"),\"\",IF(I291>39,\"E\",IF(F291=\"leicht\",VLOOKUP(I291,'Boden DüV-Bolap'!A:Q,7,FALSE),IF(F291=\"mittel\",VLOOKUP(I291,'Boden DüV-Bolap'!A:K,11,FALSE),IF(F291=\"schwer\",VLOOKUP(I291,'Boden DüV-Bolap'!A:R,15,FALSE))))))","v":""},{"$f":"IF(OR(J291=\"\",F291=\"\"),\"\",IF(J291>39,\"E\",IF(F291=\"leicht\",VLOOKUP(J291,'Boden DüV-Bolap'!A:AA,19,FALSE),IF(F291=\"mittel\",VLOOKUP(J291,'Boden DüV-Bolap'!A:AA,23,FALSE),IF(F291=\"schwer\",VLOOKUP(J291,'Boden DüV-Bolap'!A:AA,27,FALSE))))))","v":""}]
[288,null,null,null,null,null,null,null,null,null,null,null,null,null,null,null,null,{"$f":"IF(H292=\"\",\"\",IF(H292>39,\"E\",VLOOKUP(H292,'Boden DüV-Bolap'!A:B,2,FALSE)))","v":""},{"$f":"IF(OR(I292=\"\",F292=\"\"),\"\",IF(I292>39,\"E\",IF(F292=\"leicht\",VLOOKUP(I292,'Boden DüV-Bolap'!A:Q,7,FALSE),IF(F292=\"mittel\",VLOOKUP(I292,'Boden DüV-Bolap'!A:K,11,FALSE),IF(F292=\"schwer\",VLOOKUP(I292,'Boden DüV-Bolap'!A:R,15,FALSE))))))","v":""},{"$f":"IF(OR(J292=\"\",F292=\"\"),\"\",IF(J292>39,\"E\",IF(F292=\"leicht\",VLOOKUP(J292,'Boden DüV-Bolap'!A:AA,19,FALSE),IF(F292=\"mittel\",VLOOKUP(J292,'Boden DüV-Bolap'!A:AA,23,FALSE),IF(F292=\"schwer\",VLOOKUP(J292,'Boden DüV-Bolap'!A:AA,27,FALSE))))))","v":""}]
[289,null,null,null,null,null,null,null,null,null,null,null,null,null,null,null,null,{"$f":"IF(H293=\"\",\"\",IF(H293>39,\"E\",VLOOKUP(H293,'Boden DüV-Bolap'!A:B,2,FALSE)))","v":""},{"$f":"IF(OR(I293=\"\",F293=\"\"),\"\",IF(I293>39,\"E\",IF(F293=\"leicht\",VLOOKUP(I293,'Boden DüV-Bolap'!A:Q,7,FALSE),IF(F293=\"mittel\",VLOOKUP(I293,'Boden DüV-Bolap'!A:K,11,FALSE),IF(F293=\"schwer\",VLOOKUP(I293,'Boden DüV-Bolap'!A:R,15,FALSE))))))","v":""},{"$f":"IF(OR(J293=\"\",F293=\"\"),\"\",IF(J293>39,\"E\",IF(F293=\"leicht\",VLOOKUP(J293,'Boden DüV-Bolap'!A:AA,19,FALSE),IF(F293=\"mittel\",VLOOKUP(J293,'Boden DüV-Bolap'!A:AA,23,FALSE),IF(F293=\"schwer\",VLOOKUP(J293,'Boden DüV-Bolap'!A:AA,27,FALSE))))))","v":""}]
[290,null,null,null,null,null,null,null,null,null,null,null,null,null,null,null,null,{"$f":"IF(H294=\"\",\"\",IF(H294>39,\"E\",VLOOKUP(H294,'Boden DüV-Bolap'!A:B,2,FALSE)))","v":""},{"$f":"IF(OR(I294=\"\",F294=\"\"),\"\",IF(I294>39,\"E\",IF(F294=\"leicht\",VLOOKUP(I294,'Boden DüV-Bolap'!A:Q,7,FALSE),IF(F294=\"mittel\",VLOOKUP(I294,'Boden DüV-Bolap'!A:K,11,FALSE),IF(F294=\"schwer\",VLOOKUP(I294,'Boden DüV-Bolap'!A:R,15,FALSE))))))","v":""},{"$f":"IF(OR(J294=\"\",F294=\"\"),\"\",IF(J294>39,\"E\",IF(F294=\"leicht\",VLOOKUP(J294,'Boden DüV-Bolap'!A:AA,19,FALSE),IF(F294=\"mittel\",VLOOKUP(J294,'Boden DüV-Bolap'!A:AA,23,FALSE),IF(F294=\"schwer\",VLOOKUP(J294,'Boden DüV-Bolap'!A:AA,27,FALSE))))))","v":""}]
[291,null,null,null,null,null,null,null,null,null,null,null,null,null,null,null,null,{"$f":"IF(H295=\"\",\"\",IF(H295>39,\"E\",VLOOKUP(H295,'Boden DüV-Bolap'!A:B,2,FALSE)))","v":""},{"$f":"IF(OR(I295=\"\",F295=\"\"),\"\",IF(I295>39,\"E\",IF(F295=\"leicht\",VLOOKUP(I295,'Boden DüV-Bolap'!A:Q,7,FALSE),IF(F295=\"mittel\",VLOOKUP(I295,'Boden DüV-Bolap'!A:K,11,FALSE),IF(F295=\"schwer\",VLOOKUP(I295,'Boden DüV-Bolap'!A:R,15,FALSE))))))","v":""},{"$f":"IF(OR(J295=\"\",F295=\"\"),\"\",IF(J295>39,\"E\",IF(F295=\"leicht\",VLOOKUP(J295,'Boden DüV-Bolap'!A:AA,19,FALSE),IF(F295=\"mittel\",VLOOKUP(J295,'Boden DüV-Bolap'!A:AA,23,FALSE),IF(F295=\"schwer\",VLOOKUP(J295,'Boden DüV-Bolap'!A:AA,27,FALSE))))))","v":""}]
[292,null,null,null,null,null,null,null,null,null,null,null,null,null,null,null,null,{"$f":"IF(H296=\"\",\"\",IF(H296>39,\"E\",VLOOKUP(H296,'Boden DüV-Bolap'!A:B,2,FALSE)))","v":""},{"$f":"IF(OR(I296=\"\",F296=\"\"),\"\",IF(I296>39,\"E\",IF(F296=\"leicht\",VLOOKUP(I296,'Boden DüV-Bolap'!A:Q,7,FALSE),IF(F296=\"mittel\",VLOOKUP(I296,'Boden DüV-Bolap'!A:K,11,FALSE),IF(F296=\"schwer\",VLOOKUP(I296,'Boden DüV-Bolap'!A:R,15,FALSE))))))","v":""},{"$f":"IF(OR(J296=\"\",F296=\"\"),\"\",IF(J296>39,\"E\",IF(F296=\"leicht\",VLOOKUP(J296,'Boden DüV-Bolap'!A:AA,19,FALSE),IF(F296=\"mittel\",VLOOKUP(J296,'Boden DüV-Bolap'!A:AA,23,FALSE),IF(F296=\"schwer\",VLOOKUP(J296,'Boden DüV-Bolap'!A:AA,27,FALSE))))))","v":""}]
[293,null,null,null,null,null,null,null,null,null,null,null,null,null,null,null,null,{"$f":"IF(H297=\"\",\"\",IF(H297>39,\"E\",VLOOKUP(H297,'Boden DüV-Bolap'!A:B,2,FALSE)))","v":""},{"$f":"IF(OR(I297=\"\",F297=\"\"),\"\",IF(I297>39,\"E\",IF(F297=\"leicht\",VLOOKUP(I297,'Boden DüV-Bolap'!A:Q,7,FALSE),IF(F297=\"mittel\",VLOOKUP(I297,'Boden DüV-Bolap'!A:K,11,FALSE),IF(F297=\"schwer\",VLOOKUP(I297,'Boden DüV-Bolap'!A:R,15,FALSE))))))","v":""},{"$f":"IF(OR(J297=\"\",F297=\"\"),\"\",IF(J297>39,\"E\",IF(F297=\"leicht\",VLOOKUP(J297,'Boden DüV-Bolap'!A:AA,19,FALSE),IF(F297=\"mittel\",VLOOKUP(J297,'Boden DüV-Bolap'!A:AA,23,FALSE),IF(F297=\"schwer\",VLOOKUP(J297,'Boden DüV-Bolap'!A:AA,27,FALSE))))))","v":""}]
[294,null,null,null,null,null,null,null,null,null,null,null,null,null,null,null,null,{"$f":"IF(H298=\"\",\"\",IF(H298>39,\"E\",VLOOKUP(H298,'Boden DüV-Bolap'!A:B,2,FALSE)))","v":""},{"$f":"IF(OR(I298=\"\",F298=\"\"),\"\",IF(I298>39,\"E\",IF(F298=\"leicht\",VLOOKUP(I298,'Boden DüV-Bolap'!A:Q,7,FALSE),IF(F298=\"mittel\",VLOOKUP(I298,'Boden DüV-Bolap'!A:K,11,FALSE),IF(F298=\"schwer\",VLOOKUP(I298,'Boden DüV-Bolap'!A:R,15,FALSE))))))","v":""},{"$f":"IF(OR(J298=\"\",F298=\"\"),\"\",IF(J298>39,\"E\",IF(F298=\"leicht\",VLOOKUP(J298,'Boden DüV-Bolap'!A:AA,19,FALSE),IF(F298=\"mittel\",VLOOKUP(J298,'Boden DüV-Bolap'!A:AA,23,FALSE),IF(F298=\"schwer\",VLOOKUP(J298,'Boden DüV-Bolap'!A:AA,27,FALSE))))))","v":""}]
[295,null,null,null,null,null,null,null,null,null,null,null,null,null,null,null,null,{"$f":"IF(H299=\"\",\"\",IF(H299>39,\"E\",VLOOKUP(H299,'Boden DüV-Bolap'!A:B,2,FALSE)))","v":""},{"$f":"IF(OR(I299=\"\",F299=\"\"),\"\",IF(I299>39,\"E\",IF(F299=\"leicht\",VLOOKUP(I299,'Boden DüV-Bolap'!A:Q,7,FALSE),IF(F299=\"mittel\",VLOOKUP(I299,'Boden DüV-Bolap'!A:K,11,FALSE),IF(F299=\"schwer\",VLOOKUP(I299,'Boden DüV-Bolap'!A:R,15,FALSE))))))","v":""},{"$f":"IF(OR(J299=\"\",F299=\"\"),\"\",IF(J299>39,\"E\",IF(F299=\"leicht\",VLOOKUP(J299,'Boden DüV-Bolap'!A:AA,19,FALSE),IF(F299=\"mittel\",VLOOKUP(J299,'Boden DüV-Bolap'!A:AA,23,FALSE),IF(F299=\"schwer\",VLOOKUP(J299,'Boden DüV-Bolap'!A:AA,27,FALSE))))))","v":""}]
[296,null,null,null,null,null,null,null,null,null,null,null,null,null,null,null,null,{"$f":"IF(H300=\"\",\"\",IF(H300>39,\"E\",VLOOKUP(H300,'Boden DüV-Bolap'!A:B,2,FALSE)))","v":""},{"$f":"IF(OR(I300=\"\",F300=\"\"),\"\",IF(I300>39,\"E\",IF(F300=\"leicht\",VLOOKUP(I300,'Boden DüV-Bolap'!A:Q,7,FALSE),IF(F300=\"mittel\",VLOOKUP(I300,'Boden DüV-Bolap'!A:K,11,FALSE),IF(F300=\"schwer\",VLOOKUP(I300,'Boden DüV-Bolap'!A:R,15,FALSE))))))","v":""},{"$f":"IF(OR(J300=\"\",F300=\"\"),\"\",IF(J300>39,\"E\",IF(F300=\"leicht\",VLOOKUP(J300,'Boden DüV-Bolap'!A:AA,19,FALSE),IF(F300=\"mittel\",VLOOKUP(J300,'Boden DüV-Bolap'!A:AA,23,FALSE),IF(F300=\"schwer\",VLOOKUP(J300,'Boden DüV-Bolap'!A:AA,27,FALSE))))))","v":""}]
[297,null,null,null,null,null,null,null,null,null,null,null,null,null,null,null,null,{"$f":"IF(H301=\"\",\"\",IF(H301>39,\"E\",VLOOKUP(H301,'Boden DüV-Bolap'!A:B,2,FALSE)))","v":""},{"$f":"IF(OR(I301=\"\",F301=\"\"),\"\",IF(I301>39,\"E\",IF(F301=\"leicht\",VLOOKUP(I301,'Boden DüV-Bolap'!A:Q,7,FALSE),IF(F301=\"mittel\",VLOOKUP(I301,'Boden DüV-Bolap'!A:K,11,FALSE),IF(F301=\"schwer\",VLOOKUP(I301,'Boden DüV-Bolap'!A:R,15,FALSE))))))","v":""},{"$f":"IF(OR(J301=\"\",F301=\"\"),\"\",IF(J301>39,\"E\",IF(F301=\"leicht\",VLOOKUP(J301,'Boden DüV-Bolap'!A:AA,19,FALSE),IF(F301=\"mittel\",VLOOKUP(J301,'Boden DüV-Bolap'!A:AA,23,FALSE),IF(F301=\"schwer\",VLOOKUP(J301,'Boden DüV-Bolap'!A:AA,27,FALSE))))))","v":""}]
[298,null,null,null,null,null,null,null,null,null,null,null,null,null,null,null,null,{"$f":"IF(H302=\"\",\"\",IF(H302>39,\"E\",VLOOKUP(H302,'Boden DüV-Bolap'!A:B,2,FALSE)))","v":""},{"$f":"IF(OR(I302=\"\",F302=\"\"),\"\",IF(I302>39,\"E\",IF(F302=\"leicht\",VLOOKUP(I302,'Boden DüV-Bolap'!A:Q,7,FALSE),IF(F302=\"mittel\",VLOOKUP(I302,'Boden DüV-Bolap'!A:K,11,FALSE),IF(F302=\"schwer\",VLOOKUP(I302,'Boden DüV-Bolap'!A:R,15,FALSE))))))","v":""},{"$f":"IF(OR(J302=\"\",F302=\"\"),\"\",IF(J302>39,\"E\",IF(F302=\"leicht\",VLOOKUP(J302,'Boden DüV-Bolap'!A:AA,19,FALSE),IF(F302=\"mittel\",VLOOKUP(J302,'Boden DüV-Bolap'!A:AA,23,FALSE),IF(F302=\"schwer\",VLOOKUP(J302,'Boden DüV-Bolap'!A:AA,27,FALSE))))))","v":""}]
[299,null,null,null,null,null,null,null,null,null,null,null,null,null,null,null,null,{"$f":"IF(H303=\"\",\"\",IF(H303>39,\"E\",VLOOKUP(H303,'Boden DüV-Bolap'!A:B,2,FALSE)))","v":""},{"$f":"IF(OR(I303=\"\",F303=\"\"),\"\",IF(I303>39,\"E\",IF(F303=\"leicht\",VLOOKUP(I303,'Boden DüV-Bolap'!A:Q,7,FALSE),IF(F303=\"mittel\",VLOOKUP(I303,'Boden DüV-Bolap'!A:K,11,FALSE),IF(F303=\"schwer\",VLOOKUP(I303,'Boden DüV-Bolap'!A:R,15,FALSE))))))","v":""},{"$f":"IF(OR(J303=\"\",F303=\"\"),\"\",IF(J303>39,\"E\",IF(F303=\"leicht\",VLOOKUP(J303,'Boden DüV-Bolap'!A:AA,19,FALSE),IF(F303=\"mittel\",VLOOKUP(J303,'Boden DüV-Bolap'!A:AA,23,FALSE),IF(F303=\"schwer\",VLOOKUP(J303,'Boden DüV-Bolap'!A:AA,27,FALSE))))))","v":""}]
[300,null,null,null,null,null,null,null,null,null,null,null,null,null,null,null,null,{"$f":"IF(H304=\"\",\"\",IF(H304>39,\"E\",VLOOKUP(H304,'Boden DüV-Bolap'!A:B,2,FALSE)))","v":""},{"$f":"IF(OR(I304=\"\",F304=\"\"),\"\",IF(I304>39,\"E\",IF(F304=\"leicht\",VLOOKUP(I304,'Boden DüV-Bolap'!A:Q,7,FALSE),IF(F304=\"mittel\",VLOOKUP(I304,'Boden DüV-Bolap'!A:K,11,FALSE),IF(F304=\"schwer\",VLOOKUP(I304,'Boden DüV-Bolap'!A:R,15,FALSE))))))","v":""},{"$f":"IF(OR(J304=\"\",F304=\"\"),\"\",IF(J304>39,\"E\",IF(F304=\"leicht\",VLOOKUP(J304,'Boden DüV-Bolap'!A:AA,19,FALSE),IF(F304=\"mittel\",VLOOKUP(J304,'Boden DüV-Bolap'!A:AA,23,FALSE),IF(F304=\"schwer\",VLOOKUP(J304,'Boden DüV-Bolap'!A:AA,27,FALSE))))))","v":""}]
[301,null,null,null,null,null,null,null,null,null,null,null,null,null,null,null,null,{"$f":"IF(H305=\"\",\"\",IF(H305>39,\"E\",VLOOKUP(H305,'Boden DüV-Bolap'!A:B,2,FALSE)))","v":""},{"$f":"IF(OR(I305=\"\",F305=\"\"),\"\",IF(I305>39,\"E\",IF(F305=\"leicht\",VLOOKUP(I305,'Boden DüV-Bolap'!A:Q,7,FALSE),IF(F305=\"mittel\",VLOOKUP(I305,'Boden DüV-Bolap'!A:K,11,FALSE),IF(F305=\"schwer\",VLOOKUP(I305,'Boden DüV-Bolap'!A:R,15,FALSE))))))","v":""},{"$f":"IF(OR(J305=\"\",F305=\"\"),\"\",IF(J305>39,\"E\",IF(F305=\"leicht\",VLOOKUP(J305,'Boden DüV-Bolap'!A:AA,19,FALSE),IF(F305=\"mittel\",VLOOKUP(J305,'Boden DüV-Bolap'!A:AA,23,FALSE),IF(F305=\"schwer\",VLOOKUP(J305,'Boden DüV-Bolap'!A:AA,27,FALSE))))))","v":""}]
[302,null,null,null,null,null,null,null,null,null,null,null,null,null,null,null,null,{"$f":"IF(H306=\"\",\"\",IF(H306>39,\"E\",VLOOKUP(H306,'Boden DüV-Bolap'!A:B,2,FALSE)))","v":""},{"$f":"IF(OR(I306=\"\",F306=\"\"),\"\",IF(I306>39,\"E\",IF(F306=\"leicht\",VLOOKUP(I306,'Boden DüV-Bolap'!A:Q,7,FALSE),IF(F306=\"mittel\",VLOOKUP(I306,'Boden DüV-Bolap'!A:K,11,FALSE),IF(F306=\"schwer\",VLOOKUP(I306,'Boden DüV-Bolap'!A:R,15,FALSE))))))","v":""},{"$f":"IF(OR(J306=\"\",F306=\"\"),\"\",IF(J306>39,\"E\",IF(F306=\"leicht\",VLOOKUP(J306,'Boden DüV-Bolap'!A:AA,19,FALSE),IF(F306=\"mittel\",VLOOKUP(J306,'Boden DüV-Bolap'!A:AA,23,FALSE),IF(F306=\"schwer\",VLOOKUP(J306,'Boden DüV-Bolap'!A:AA,27,FALSE))))))","v":""}]
[303,null,null,null,null,null,null,null,null,null,null,null,null,null,null,null,null,{"$f":"IF(H307=\"\",\"\",IF(H307>39,\"E\",VLOOKUP(H307,'Boden DüV-Bolap'!A:B,2,FALSE)))","v":""},{"$f":"IF(OR(I307=\"\",F307=\"\"),\"\",IF(I307>39,\"E\",IF(F307=\"leicht\",VLOOKUP(I307,'Boden DüV-Bolap'!A:Q,7,FALSE),IF(F307=\"mittel\",VLOOKUP(I307,'Boden DüV-Bolap'!A:K,11,FALSE),IF(F307=\"schwer\",VLOOKUP(I307,'Boden DüV-Bolap'!A:R,15,FALSE))))))","v":""},{"$f":"IF(OR(J307=\"\",F307=\"\"),\"\",IF(J307>39,\"E\",IF(F307=\"leicht\",VLOOKUP(J307,'Boden DüV-Bolap'!A:AA,19,FALSE),IF(F307=\"mittel\",VLOOKUP(J307,'Boden DüV-Bolap'!A:AA,23,FALSE),IF(F307=\"schwer\",VLOOKUP(J307,'Boden DüV-Bolap'!A:AA,27,FALSE))))))","v":""}]
[304,null,null,null,null,null,null,null,null,null,null,null,null,null,null,null,null,{"$f":"IF(H308=\"\",\"\",IF(H308>39,\"E\",VLOOKUP(H308,'Boden DüV-Bolap'!A:B,2,FALSE)))","v":""},{"$f":"IF(OR(I308=\"\",F308=\"\"),\"\",IF(I308>39,\"E\",IF(F308=\"leicht\",VLOOKUP(I308,'Boden DüV-Bolap'!A:Q,7,FALSE),IF(F308=\"mittel\",VLOOKUP(I308,'Boden DüV-Bolap'!A:K,11,FALSE),IF(F308=\"schwer\",VLOOKUP(I308,'Boden DüV-Bolap'!A:R,15,FALSE))))))","v":""},{"$f":"IF(OR(J308=\"\",F308=\"\"),\"\",IF(J308>39,\"E\",IF(F308=\"leicht\",VLOOKUP(J308,'Boden DüV-Bolap'!A:AA,19,FALSE),IF(F308=\"mittel\",VLOOKUP(J308,'Boden DüV-Bolap'!A:AA,23,FALSE),IF(F308=\"schwer\",VLOOKUP(J308,'Boden DüV-Bolap'!A:AA,27,FALSE))))))","v":""}]
[305,null,null,null,null,null,null,null,null,null,null,null,null,null,null,null,null,{"$f":"IF(H309=\"\",\"\",IF(H309>39,\"E\",VLOOKUP(H309,'Boden DüV-Bolap'!A:B,2,FALSE)))","v":""},{"$f":"IF(OR(I309=\"\",F309=\"\"),\"\",IF(I309>39,\"E\",IF(F309=\"leicht\",VLOOKUP(I309,'Boden DüV-Bolap'!A:Q,7,FALSE),IF(F309=\"mittel\",VLOOKUP(I309,'Boden DüV-Bolap'!A:K,11,FALSE),IF(F309=\"schwer\",VLOOKUP(I309,'Boden DüV-Bolap'!A:R,15,FALSE))))))","v":""},{"$f":"IF(OR(J309=\"\",F309=\"\"),\"\",IF(J309>39,\"E\",IF(F309=\"leicht\",VLOOKUP(J309,'Boden DüV-Bolap'!A:AA,19,FALSE),IF(F309=\"mittel\",VLOOKUP(J309,'Boden DüV-Bolap'!A:AA,23,FALSE),IF(F309=\"schwer\",VLOOKUP(J309,'Boden DüV-Bolap'!A:AA,27,FALSE))))))","v":""}]
[306,null,null,null,null,null,null,null,null,null,null,null,null,null,null,null,null,{"$f":"IF(H310=\"\",\"\",IF(H310>39,\"E\",VLOOKUP(H310,'Boden DüV-Bolap'!A:B,2,FALSE)))","v":""},{"$f":"IF(OR(I310=\"\",F310=\"\"),\"\",IF(I310>39,\"E\",IF(F310=\"leicht\",VLOOKUP(I310,'Boden DüV-Bolap'!A:Q,7,FALSE),IF(F310=\"mittel\",VLOOKUP(I310,'Boden DüV-Bolap'!A:K,11,FALSE),IF(F310=\"schwer\",VLOOKUP(I310,'Boden DüV-Bolap'!A:R,15,FALSE))))))","v":""},{"$f":"IF(OR(J310=\"\",F310=\"\"),\"\",IF(J310>39,\"E\",IF(F310=\"leicht\",VLOOKUP(J310,'Boden DüV-Bolap'!A:AA,19,FALSE),IF(F310=\"mittel\",VLOOKUP(J310,'Boden DüV-Bolap'!A:AA,23,FALSE),IF(F310=\"schwer\",VLOOKUP(J310,'Boden DüV-Bolap'!A:AA,27,FALSE))))))","v":""}]
[307,null,null,null,null,null,null,null,null,null,null,null,null,null,null,null,null,{"$f":"IF(H311=\"\",\"\",IF(H311>39,\"E\",VLOOKUP(H311,'Boden DüV-Bolap'!A:B,2,FALSE)))","v":""},{"$f":"IF(OR(I311=\"\",F311=\"\"),\"\",IF(I311>39,\"E\",IF(F311=\"leicht\",VLOOKUP(I311,'Boden DüV-Bolap'!A:Q,7,FALSE),IF(F311=\"mittel\",VLOOKUP(I311,'Boden DüV-Bolap'!A:K,11,FALSE),IF(F311=\"schwer\",VLOOKUP(I311,'Boden DüV-Bolap'!A:R,15,FALSE))))))","v":""},{"$f":"IF(OR(J311=\"\",F311=\"\"),\"\",IF(J311>39,\"E\",IF(F311=\"leicht\",VLOOKUP(J311,'Boden DüV-Bolap'!A:AA,19,FALSE),IF(F311=\"mittel\",VLOOKUP(J311,'Boden DüV-Bolap'!A:AA,23,FALSE),IF(F311=\"schwer\",VLOOKUP(J311,'Boden DüV-Bolap'!A:AA,27,FALSE))))))","v":""}]
[308,null,null,null,null,null,null,null,null,null,null,null,null,null,null,null,null,{"$f":"IF(H312=\"\",\"\",IF(H312>39,\"E\",VLOOKUP(H312,'Boden DüV-Bolap'!A:B,2,FALSE)))","v":""},{"$f":"IF(OR(I312=\"\",F312=\"\"),\"\",IF(I312>39,\"E\",IF(F312=\"leicht\",VLOOKUP(I312,'Boden DüV-Bolap'!A:Q,7,FALSE),IF(F312=\"mittel\",VLOOKUP(I312,'Boden DüV-Bolap'!A:K,11,FALSE),IF(F312=\"schwer\",VLOOKUP(I312,'Boden DüV-Bolap'!A:R,15,FALSE))))))","v":""},{"$f":"IF(OR(J312=\"\",F312=\"\"),\"\",IF(J312>39,\"E\",IF(F312=\"leicht\",VLOOKUP(J312,'Boden DüV-Bolap'!A:AA,19,FALSE),IF(F312=\"mittel\",VLOOKUP(J312,'Boden DüV-Bolap'!A:AA,23,FALSE),IF(F312=\"schwer\",VLOOKUP(J312,'Boden DüV-Bolap'!A:AA,27,FALSE))))))","v":""}]
[309,null,null,null,null,null,null,null,null,null,null,null,null,null,null,null,null,{"$f":"IF(H313=\"\",\"\",IF(H313>39,\"E\",VLOOKUP(H313,'Boden DüV-Bolap'!A:B,2,FALSE)))","v":""},{"$f":"IF(OR(I313=\"\",F313=\"\"),\"\",IF(I313>39,\"E\",IF(F313=\"leicht\",VLOOKUP(I313,'Boden DüV-Bolap'!A:Q,7,FALSE),IF(F313=\"mittel\",VLOOKUP(I313,'Boden DüV-Bolap'!A:K,11,FALSE),IF(F313=\"schwer\",VLOOKUP(I313,'Boden DüV-Bolap'!A:R,15,FALSE))))))","v":""},{"$f":"IF(OR(J313=\"\",F313=\"\"),\"\",IF(J313>39,\"E\",IF(F313=\"leicht\",VLOOKUP(J313,'Boden DüV-Bolap'!A:AA,19,FALSE),IF(F313=\"mittel\",VLOOKUP(J313,'Boden DüV-Bolap'!A:AA,23,FALSE),IF(F313=\"schwer\",VLOOKUP(J313,'Boden DüV-Bolap'!A:AA,27,FALSE))))))","v":""}]
[310,null,null,null,null,null,null,null,null,null,null,null,null,null,null,null,null,{"$f":"IF(H314=\"\",\"\",IF(H314>39,\"E\",VLOOKUP(H314,'Boden DüV-Bolap'!A:B,2,FALSE)))","v":""},{"$f":"IF(OR(I314=\"\",F314=\"\"),\"\",IF(I314>39,\"E\",IF(F314=\"leicht\",VLOOKUP(I314,'Boden DüV-Bolap'!A:Q,7,FALSE),IF(F314=\"mittel\",VLOOKUP(I314,'Boden DüV-Bolap'!A:K,11,FALSE),IF(F314=\"schwer\",VLOOKUP(I314,'Boden DüV-Bolap'!A:R,15,FALSE))))))","v":""},{"$f":"IF(OR(J314=\"\",F314=\"\"),\"\",IF(J314>39,\"E\",IF(F314=\"leicht\",VLOOKUP(J314,'Boden DüV-Bolap'!A:AA,19,FALSE),IF(F314=\"mittel\",VLOOKUP(J314,'Boden DüV-Bolap'!A:AA,23,FALSE),IF(F314=\"schwer\",VLOOKUP(J314,'Boden DüV-Bolap'!A:AA,27,FALSE))))))","v":""}]
[311,null,null,null,null,null,null,null,null,null,null,null,null,null,null,null,null,{"$f":"IF(H315=\"\",\"\",IF(H315>39,\"E\",VLOOKUP(H315,'Boden DüV-Bolap'!A:B,2,FALSE)))","v":""},{"$f":"IF(OR(I315=\"\",F315=\"\"),\"\",IF(I315>39,\"E\",IF(F315=\"leicht\",VLOOKUP(I315,'Boden DüV-Bolap'!A:Q,7,FALSE),IF(F315=\"mittel\",VLOOKUP(I315,'Boden DüV-Bolap'!A:K,11,FALSE),IF(F315=\"schwer\",VLOOKUP(I315,'Boden DüV-Bolap'!A:R,15,FALSE))))))","v":""},{"$f":"IF(OR(J315=\"\",F315=\"\"),\"\",IF(J315>39,\"E\",IF(F315=\"leicht\",VLOOKUP(J315,'Boden DüV-Bolap'!A:AA,19,FALSE),IF(F315=\"mittel\",VLOOKUP(J315,'Boden DüV-Bolap'!A:AA,23,FALSE),IF(F315=\"schwer\",VLOOKUP(J315,'Boden DüV-Bolap'!A:AA,27,FALSE))))))","v":""}]
[312,null,null,null,null,null,null,null,null,null,null,null,null,null,null,null,null,{"$f":"IF(H316=\"\",\"\",IF(H316>39,\"E\",VLOOKUP(H316,'Boden DüV-Bolap'!A:B,2,FALSE)))","v":""},{"$f":"IF(OR(I316=\"\",F316=\"\"),\"\",IF(I316>39,\"E\",IF(F316=\"leicht\",VLOOKUP(I316,'Boden DüV-Bolap'!A:Q,7,FALSE),IF(F316=\"mittel\",VLOOKUP(I316,'Boden DüV-Bolap'!A:K,11,FALSE),IF(F316=\"schwer\",VLOOKUP(I316,'Boden DüV-Bolap'!A:R,15,FALSE))))))","v":""},{"$f":"IF(OR(J316=\"\",F316=\"\"),\"\",IF(J316>39,\"E\",IF(F316=\"leicht\",VLOOKUP(J316,'Boden DüV-Bolap'!A:AA,19,FALSE),IF(F316=\"mittel\",VLOOKUP(J316,'Boden DüV-Bolap'!A:AA,23,FALSE),IF(F316=\"schwer\",VLOOKUP(J316,'Boden DüV-Bolap'!A:AA,27,FALSE))))))","v":""}]
[313,null,null,null,null,null,null,null,null,null,null,null,null,null,null,null,null,{"$f":"IF(H317=\"\",\"\",IF(H317>39,\"E\",VLOOKUP(H317,'Boden DüV-Bolap'!A:B,2,FALSE)))","v":""},{"$f":"IF(OR(I317=\"\",F317=\"\"),\"\",IF(I317>39,\"E\",IF(F317=\"leicht\",VLOOKUP(I317,'Boden DüV-Bolap'!A:Q,7,FALSE),IF(F317=\"mittel\",VLOOKUP(I317,'Boden DüV-Bolap'!A:K,11,FALSE),IF(F317=\"schwer\",VLOOKUP(I317,'Boden DüV-Bolap'!A:R,15,FALSE))))))","v":""},{"$f":"IF(OR(J317=\"\",F317=\"\"),\"\",IF(J317>39,\"E\",IF(F317=\"leicht\",VLOOKUP(J317,'Boden DüV-Bolap'!A:AA,19,FALSE),IF(F317=\"mittel\",VLOOKUP(J317,'Boden DüV-Bolap'!A:AA,23,FALSE),IF(F317=\"schwer\",VLOOKUP(J317,'Boden DüV-Bolap'!A:AA,27,FALSE))))))","v":""}]
[314,null,null,null,null,null,null,null,null,null,null,null,null,null,null,null,null,{"$f":"IF(H318=\"\",\"\",IF(H318>39,\"E\",VLOOKUP(H318,'Boden DüV-Bolap'!A:B,2,FALSE)))","v":""},{"$f":"IF(OR(I318=\"\",F318=\"\"),\"\",IF(I318>39,\"E\",IF(F318=\"leicht\",VLOOKUP(I318,'Boden DüV-Bolap'!A:Q,7,FALSE),IF(F318=\"mittel\",VLOOKUP(I318,'Boden DüV-Bolap'!A:K,11,FALSE),IF(F318=\"schwer\",VLOOKUP(I318,'Boden DüV-Bolap'!A:R,15,FALSE))))))","v":""},{"$f":"IF(OR(J318=\"\",F318=\"\"),\"\",IF(J318>39,\"E\",IF(F318=\"leicht\",VLOOKUP(J318,'Boden DüV-Bolap'!A:AA,19,FALSE),IF(F318=\"mittel\",VLOOKUP(J318,'Boden DüV-Bolap'!A:AA,23,FALSE),IF(F318=\"schwer\",VLOOKUP(J318,'Boden DüV-Bolap'!A:AA,27,FALSE))))))","v":""}]
[315,null,null,null,null,null,null,null,null,null,null,null,null,null,null,null,null,{"$f":"IF(H319=\"\",\"\",IF(H319>39,\"E\",VLOOKUP(H319,'Boden DüV-Bolap'!A:B,2,FALSE)))","v":""},{"$f":"IF(OR(I319=\"\",F319=\"\"),\"\",IF(I319>39,\"E\",IF(F319=\"leicht\",VLOOKUP(I319,'Boden DüV-Bolap'!A:Q,7,FALSE),IF(F319=\"mittel\",VLOOKUP(I319,'Boden DüV-Bolap'!A:K,11,FALSE),IF(F319=\"schwer\",VLOOKUP(I319,'Boden DüV-Bolap'!A:R,15,FALSE))))))","v":""},{"$f":"IF(OR(J319=\"\",F319=\"\"),\"\",IF(J319>39,\"E\",IF(F319=\"leicht\",VLOOKUP(J319,'Boden DüV-Bolap'!A:AA,19,FALSE),IF(F319=\"mittel\",VLOOKUP(J319,'Boden DüV-Bolap'!A:AA,23,FALSE),IF(F319=\"schwer\",VLOOKUP(J319,'Boden DüV-Bolap'!A:AA,27,FALSE))))))","v":""}]
[316,null,null,null,null,null,null,null,null,null,null,null,null,null,null,null,null,{"$f":"IF(H320=\"\",\"\",IF(H320>39,\"E\",VLOOKUP(H320,'Boden DüV-Bolap'!A:B,2,FALSE)))","v":""},{"$f":"IF(OR(I320=\"\",F320=\"\"),\"\",IF(I320>39,\"E\",IF(F320=\"leicht\",VLOOKUP(I320,'Boden DüV-Bolap'!A:Q,7,FALSE),IF(F320=\"mittel\",VLOOKUP(I320,'Boden DüV-Bolap'!A:K,11,FALSE),IF(F320=\"schwer\",VLOOKUP(I320,'Boden DüV-Bolap'!A:R,15,FALSE))))))","v":""},{"$f":"IF(OR(J320=\"\",F320=\"\"),\"\",IF(J320>39,\"E\",IF(F320=\"leicht\",VLOOKUP(J320,'Boden DüV-Bolap'!A:AA,19,FALSE),IF(F320=\"mittel\",VLOOKUP(J320,'Boden DüV-Bolap'!A:AA,23,FALSE),IF(F320=\"schwer\",VLOOKUP(J320,'Boden DüV-Bolap'!A:AA,27,FALSE))))))","v":""}]
[317,null,null,null,null,null,null,null,null,null,null,null,null,null,null,null,null,{"$f":"IF(H321=\"\",\"\",IF(H321>39,\"E\",VLOOKUP(H321,'Boden DüV-Bolap'!A:B,2,FALSE)))","v":""},{"$f":"IF(OR(I321=\"\",F321=\"\"),\"\",IF(I321>39,\"E\",IF(F321=\"leicht\",VLOOKUP(I321,'Boden DüV-Bolap'!A:Q,7,FALSE),IF(F321=\"mittel\",VLOOKUP(I321,'Boden DüV-Bolap'!A:K,11,FALSE),IF(F321=\"schwer\",VLOOKUP(I321,'Boden DüV-Bolap'!A:R,15,FALSE))))))","v":""},{"$f":"IF(OR(J321=\"\",F321=\"\"),\"\",IF(J321>39,\"E\",IF(F321=\"leicht\",VLOOKUP(J321,'Boden DüV-Bolap'!A:AA,19,FALSE),IF(F321=\"mittel\",VLOOKUP(J321,'Boden DüV-Bolap'!A:AA,23,FALSE),IF(F321=\"schwer\",VLOOKUP(J321,'Boden DüV-Bolap'!A:AA,27,FALSE))))))","v":""}]
[318,null,null,null,null,null,null,null,null,null,null,null,null,null,null,null,null,{"$f":"IF(H322=\"\",\"\",IF(H322>39,\"E\",VLOOKUP(H322,'Boden DüV-Bolap'!A:B,2,FALSE)))","v":""},{"$f":"IF(OR(I322=\"\",F322=\"\"),\"\",IF(I322>39,\"E\",IF(F322=\"leicht\",VLOOKUP(I322,'Boden DüV-Bolap'!A:Q,7,FALSE),IF(F322=\"mittel\",VLOOKUP(I322,'Boden DüV-Bolap'!A:K,11,FALSE),IF(F322=\"schwer\",VLOOKUP(I322,'Boden DüV-Bolap'!A:R,15,FALSE))))))","v":""},{"$f":"IF(OR(J322=\"\",F322=\"\"),\"\",IF(J322>39,\"E\",IF(F322=\"leicht\",VLOOKUP(J322,'Boden DüV-Bolap'!A:AA,19,FALSE),IF(F322=\"mittel\",VLOOKUP(J322,'Boden DüV-Bolap'!A:AA,23,FALSE),IF(F322=\"schwer\",VLOOKUP(J322,'Boden DüV-Bolap'!A:AA,27,FALSE))))))","v":""}]
[319,null,null,null,null,null,null,null,null,null,null,null,null,null,null,null,null,{"$f":"IF(H323=\"\",\"\",IF(H323>39,\"E\",VLOOKUP(H323,'Boden DüV-Bolap'!A:B,2,FALSE)))","v":""},{"$f":"IF(OR(I323=\"\",F323=\"\"),\"\",IF(I323>39,\"E\",IF(F323=\"leicht\",VLOOKUP(I323,'Boden DüV-Bolap'!A:Q,7,FALSE),IF(F323=\"mittel\",VLOOKUP(I323,'Boden DüV-Bolap'!A:K,11,FALSE),IF(F323=\"schwer\",VLOOKUP(I323,'Boden DüV-Bolap'!A:R,15,FALSE))))))","v":""},{"$f":"IF(OR(J323=\"\",F323=\"\"),\"\",IF(J323>39,\"E\",IF(F323=\"leicht\",VLOOKUP(J323,'Boden DüV-Bolap'!A:AA,19,FALSE),IF(F323=\"mittel\",VLOOKUP(J323,'Boden DüV-Bolap'!A:AA,23,FALSE),IF(F323=\"schwer\",VLOOKUP(J323,'Boden DüV-Bolap'!A:AA,27,FALSE))))))","v":""}]
[320,null,null,null,null,null,null,null,null,null,null,null,null,null,null,null,null,{"$f":"IF(H324=\"\",\"\",IF(H324>39,\"E\",VLOOKUP(H324,'Boden DüV-Bolap'!A:B,2,FALSE)))","v":""},{"$f":"IF(OR(I324=\"\",F324=\"\"),\"\",IF(I324>39,\"E\",IF(F324=\"leicht\",VLOOKUP(I324,'Boden DüV-Bolap'!A:Q,7,FALSE),IF(F324=\"mittel\",VLOOKUP(I324,'Boden DüV-Bolap'!A:K,11,FALSE),IF(F324=\"schwer\",VLOOKUP(I324,'Boden DüV-Bolap'!A:R,15,FALSE))))))","v":""},{"$f":"IF(OR(J324=\"\",F324=\"\"),\"\",IF(J324>39,\"E\",IF(F324=\"leicht\",VLOOKUP(J324,'Boden DüV-Bolap'!A:AA,19,FALSE),IF(F324=\"mittel\",VLOOKUP(J324,'Boden DüV-Bolap'!A:AA,23,FALSE),IF(F324=\"schwer\",VLOOKUP(J324,'Boden DüV-Bolap'!A:AA,27,FALSE))))))","v":""}]
[321,null,null,null,null,null,null,null,null,null,null,null,null,null,null,null,null,{"$f":"IF(H325=\"\",\"\",IF(H325>39,\"E\",VLOOKUP(H325,'Boden DüV-Bolap'!A:B,2,FALSE)))","v":""},{"$f":"IF(OR(I325=\"\",F325=\"\"),\"\",IF(I325>39,\"E\",IF(F325=\"leicht\",VLOOKUP(I325,'Boden DüV-Bolap'!A:Q,7,FALSE),IF(F325=\"mittel\",VLOOKUP(I325,'Boden DüV-Bolap'!A:K,11,FALSE),IF(F325=\"schwer\",VLOOKUP(I325,'Boden DüV-Bolap'!A:R,15,FALSE))))))","v":""},{"$f":"IF(OR(J325=\"\",F325=\"\"),\"\",IF(J325>39,\"E\",IF(F325=\"leicht\",VLOOKUP(J325,'Boden DüV-Bolap'!A:AA,19,FALSE),IF(F325=\"mittel\",VLOOKUP(J325,'Boden DüV-Bolap'!A:AA,23,FALSE),IF(F325=\"schwer\",VLOOKUP(J325,'Boden DüV-Bolap'!A:AA,27,FALSE))))))","v":""}]
[322,null,null,null,null,null,null,null,null,null,null,null,null,null,null,null,null,{"$f":"IF(H326=\"\",\"\",IF(H326>39,\"E\",VLOOKUP(H326,'Boden DüV-Bolap'!A:B,2,FALSE)))","v":""},{"$f":"IF(OR(I326=\"\",F326=\"\"),\"\",IF(I326>39,\"E\",IF(F326=\"leicht\",VLOOKUP(I326,'Boden DüV-Bolap'!A:Q,7,FALSE),IF(F326=\"mittel\",VLOOKUP(I326,'Boden DüV-Bolap'!A:K,11,FALSE),IF(F326=\"schwer\",VLOOKUP(I326,'Boden DüV-Bolap'!A:R,15,FALSE))))))","v":""},{"$f":"IF(OR(J326=\"\",F326=\"\"),\"\",IF(J326>39,\"E\",IF(F326=\"leicht\",VLOOKUP(J326,'Boden DüV-Bolap'!A:AA,19,FALSE),IF(F326=\"mittel\",VLOOKUP(J326,'Boden DüV-Bolap'!A:AA,23,FALSE),IF(F326=\"schwer\",VLOOKUP(J326,'Boden DüV-Bolap'!A:AA,27,FALSE))))))","v":""}]
[323,null,null,null,null,null,null,null,null,null,null,null,null,null,null,null,null,{"$f":"IF(H327=\"\",\"\",IF(H327>39,\"E\",VLOOKUP(H327,'Boden DüV-Bolap'!A:B,2,FALSE)))","v":""},{"$f":"IF(OR(I327=\"\",F327=\"\"),\"\",IF(I327>39,\"E\",IF(F327=\"leicht\",VLOOKUP(I327,'Boden DüV-Bolap'!A:Q,7,FALSE),IF(F327=\"mittel\",VLOOKUP(I327,'Boden DüV-Bolap'!A:K,11,FALSE),IF(F327=\"schwer\",VLOOKUP(I327,'Boden DüV-Bolap'!A:R,15,FALSE))))))","v":""},{"$f":"IF(OR(J327=\"\",F327=\"\"),\"\",IF(J327>39,\"E\",IF(F327=\"leicht\",VLOOKUP(J327,'Boden DüV-Bolap'!A:AA,19,FALSE),IF(F327=\"mittel\",VLOOKUP(J327,'Boden DüV-Bolap'!A:AA,23,FALSE),IF(F327=\"schwer\",VLOOKUP(J327,'Boden DüV-Bolap'!A:AA,27,FALSE))))))","v":""}]
[324,null,null,null,null,null,null,null,null,null,null,null,null,null,null,null,null,{"$f":"IF(H328=\"\",\"\",IF(H328>39,\"E\",VLOOKUP(H328,'Boden DüV-Bolap'!A:B,2,FALSE)))","v":""},{"$f":"IF(OR(I328=\"\",F328=\"\"),\"\",IF(I328>39,\"E\",IF(F328=\"leicht\",VLOOKUP(I328,'Boden DüV-Bolap'!A:Q,7,FALSE),IF(F328=\"mittel\",VLOOKUP(I328,'Boden DüV-Bolap'!A:K,11,FALSE),IF(F328=\"schwer\",VLOOKUP(I328,'Boden DüV-Bolap'!A:R,15,FALSE))))))","v":""},{"$f":"IF(OR(J328=\"\",F328=\"\"),\"\",IF(J328>39,\"E\",IF(F328=\"leicht\",VLOOKUP(J328,'Boden DüV-Bolap'!A:AA,19,FALSE),IF(F328=\"mittel\",VLOOKUP(J328,'Boden DüV-Bolap'!A:AA,23,FALSE),IF(F328=\"schwer\",VLOOKUP(J328,'Boden DüV-Bolap'!A:AA,27,FALSE))))))","v":""}]
[325,null,null,null,null,null,null,null,null,null,null,null,null,null,null,null,null,{"$f":"IF(H329=\"\",\"\",IF(H329>39,\"E\",VLOOKUP(H329,'Boden DüV-Bolap'!A:B,2,FALSE)))","v":""},{"$f":"IF(OR(I329=\"\",F329=\"\"),\"\",IF(I329>39,\"E\",IF(F329=\"leicht\",VLOOKUP(I329,'Boden DüV-Bolap'!A:Q,7,FALSE),IF(F329=\"mittel\",VLOOKUP(I329,'Boden DüV-Bolap'!A:K,11,FALSE),IF(F329=\"schwer\",VLOOKUP(I329,'Boden DüV-Bolap'!A:R,15,FALSE))))))","v":""},{"$f":"IF(OR(J329=\"\",F329=\"\"),\"\",IF(J329>39,\"E\",IF(F329=\"leicht\",VLOOKUP(J329,'Boden DüV-Bolap'!A:AA,19,FALSE),IF(F329=\"mittel\",VLOOKUP(J329,'Boden DüV-Bolap'!A:AA,23,FALSE),IF(F329=\"schwer\",VLOOKUP(J329,'Boden DüV-Bolap'!A:AA,27,FALSE))))))","v":""}]
[326,null,null,null,null,null,null,null,null,null,null,null,null,null,null,null,null,{"$f":"IF(H330=\"\",\"\",IF(H330>39,\"E\",VLOOKUP(H330,'Boden DüV-Bolap'!A:B,2,FALSE)))","v":""},{"$f":"IF(OR(I330=\"\",F330=\"\"),\"\",IF(I330>39,\"E\",IF(F330=\"leicht\",VLOOKUP(I330,'Boden DüV-Bolap'!A:Q,7,FALSE),IF(F330=\"mittel\",VLOOKUP(I330,'Boden DüV-Bolap'!A:K,11,FALSE),IF(F330=\"schwer\",VLOOKUP(I330,'Boden DüV-Bolap'!A:R,15,FALSE))))))","v":""},{"$f":"IF(OR(J330=\"\",F330=\"\"),\"\",IF(J330>39,\"E\",IF(F330=\"leicht\",VLOOKUP(J330,'Boden DüV-Bolap'!A:AA,19,FALSE),IF(F330=\"mittel\",VLOOKUP(J330,'Boden DüV-Bolap'!A:AA,23,FALSE),IF(F330=\"schwer\",VLOOKUP(J330,'Boden DüV-Bolap'!A:AA,27,FALSE))))))","v":""}]
[327,null,null,null,null,null,null,null,null,null,null,null,null,null,null,null,null,{"$f":"IF(H331=\"\",\"\",IF(H331>39,\"E\",VLOOKUP(H331,'Boden DüV-Bolap'!A:B,2,FALSE)))","v":""},{"$f":"IF(OR(I331=\"\",F331=\"\"),\"\",IF(I331>39,\"E\",IF(F331=\"leicht\",VLOOKUP(I331,'Boden DüV-Bolap'!A:Q,7,FALSE),IF(F331=\"mittel\",VLOOKUP(I331,'Boden DüV-Bolap'!A:K,11,FALSE),IF(F331=\"schwer\",VLOOKUP(I331,'Boden DüV-Bolap'!A:R,15,FALSE))))))","v":""},{"$f":"IF(OR(J331=\"\",F331=\"\"),\"\",IF(J331>39,\"E\",IF(F331=\"leicht\",VLOOKUP(J331,'Boden DüV-Bolap'!A:AA,19,FALSE),IF(F331=\"mittel\",VLOOKUP(J331,'Boden DüV-Bolap'!A:AA,23,FALSE),IF(F331=\"schwer\",VLOOKUP(J331,'Boden DüV-Bolap'!A:AA,27,FALSE))))))","v":""}]
[328,null,null,null,null,null,null,null,null,null,null,null,null,null,null,null,null,{"$f":"IF(H332=\"\",\"\",IF(H332>39,\"E\",VLOOKUP(H332,'Boden DüV-Bolap'!A:B,2,FALSE)))","v":""},{"$f":"IF(OR(I332=\"\",F332=\"\"),\"\",IF(I332>39,\"E\",IF(F332=\"leicht\",VLOOKUP(I332,'Boden DüV-Bolap'!A:Q,7,FALSE),IF(F332=\"mittel\",VLOOKUP(I332,'Boden DüV-Bolap'!A:K,11,FALSE),IF(F332=\"schwer\",VLOOKUP(I332,'Boden DüV-Bolap'!A:R,15,FALSE))))))","v":""},{"$f":"IF(OR(J332=\"\",F332=\"\"),\"\",IF(J332>39,\"E\",IF(F332=\"leicht\",VLOOKUP(J332,'Boden DüV-Bolap'!A:AA,19,FALSE),IF(F332=\"mittel\",VLOOKUP(J332,'Boden DüV-Bolap'!A:AA,23,FALSE),IF(F332=\"schwer\",VLOOKUP(J332,'Boden DüV-Bolap'!A:AA,27,FALSE))))))","v":""}]
[329,null,null,null,null,null,null,null,null,null,null,null,null,null,null,null,null,{"$f":"IF(H333=\"\",\"\",IF(H333>39,\"E\",VLOOKUP(H333,'Boden DüV-Bolap'!A:B,2,FALSE)))","v":""},{"$f":"IF(OR(I333=\"\",F333=\"\"),\"\",IF(I333>39,\"E\",IF(F333=\"leicht\",VLOOKUP(I333,'Boden DüV-Bolap'!A:Q,7,FALSE),IF(F333=\"mittel\",VLOOKUP(I333,'Boden DüV-Bolap'!A:K,11,FALSE),IF(F333=\"schwer\",VLOOKUP(I333,'Boden DüV-Bolap'!A:R,15,FALSE))))))","v":""},{"$f":"IF(OR(J333=\"\",F333=\"\"),\"\",IF(J333>39,\"E\",IF(F333=\"leicht\",VLOOKUP(J333,'Boden DüV-Bolap'!A:AA,19,FALSE),IF(F333=\"mittel\",VLOOKUP(J333,'Boden DüV-Bolap'!A:AA,23,FALSE),IF(F333=\"schwer\",VLOOKUP(J333,'Boden DüV-Bolap'!A:AA,27,FALSE))))))","v":""}]
[330,null,null,null,null,null,null,null,null,null,null,null,null,null,null,null,null,{"$f":"IF(H334=\"\",\"\",IF(H334>39,\"E\",VLOOKUP(H334,'Boden DüV-Bolap'!A:B,2,FALSE)))","v":""},{"$f":"IF(OR(I334=\"\",F334=\"\"),\"\",IF(I334>39,\"E\",IF(F334=\"leicht\",VLOOKUP(I334,'Boden DüV-Bolap'!A:Q,7,FALSE),IF(F334=\"mittel\",VLOOKUP(I334,'Boden DüV-Bolap'!A:K,11,FALSE),IF(F334=\"schwer\",VLOOKUP(I334,'Boden DüV-Bolap'!A:R,15,FALSE))))))","v":""},{"$f":"IF(OR(J334=\"\",F334=\"\"),\"\",IF(J334>39,\"E\",IF(F334=\"leicht\",VLOOKUP(J334,'Boden DüV-Bolap'!A:AA,19,FALSE),IF(F334=\"mittel\",VLOOKUP(J334,'Boden DüV-Bolap'!A:AA,23,FALSE),IF(F334=\"schwer\",VLOOKUP(J334,'Boden DüV-Bolap'!A:AA,27,FALSE))))))","v":""}]
[331,null,null,null,null,null,null,null,null,null,null,null,null,null,null,null,null,{"$f":"IF(H335=\"\",\"\",IF(H335>39,\"E\",VLOOKUP(H335,'Boden DüV-Bolap'!A:B,2,FALSE)))","v":""},{"$f":"IF(OR(I335=\"\",F335=\"\"),\"\",IF(I335>39,\"E\",IF(F335=\"leicht\",VLOOKUP(I335,'Boden DüV-Bolap'!A:Q,7,FALSE),IF(F335=\"mittel\",VLOOKUP(I335,'Boden DüV-Bolap'!A:K,11,FALSE),IF(F335=\"schwer\",VLOOKUP(I335,'Boden DüV-Bolap'!A:R,15,FALSE))))))","v":""},{"$f":"IF(OR(J335=\"\",F335=\"\"),\"\",IF(J335>39,\"E\",IF(F335=\"leicht\",VLOOKUP(J335,'Boden DüV-Bolap'!A:AA,19,FALSE),IF(F335=\"mittel\",VLOOKUP(J335,'Boden DüV-Bolap'!A:AA,23,FALSE),IF(F335=\"schwer\",VLOOKUP(J335,'Boden DüV-Bolap'!A:AA,27,FALSE))))))","v":""}]
[332,null,null,null,null,null,null,null,null,null,null,null,null,null,null,null,null,{"$f":"IF(H336=\"\",\"\",IF(H336>39,\"E\",VLOOKUP(H336,'Boden DüV-Bolap'!A:B,2,FALSE)))","v":""},{"$f":"IF(OR(I336=\"\",F336=\"\"),\"\",IF(I336>39,\"E\",IF(F336=\"leicht\",VLOOKUP(I336,'Boden DüV-Bolap'!A:Q,7,FALSE),IF(F336=\"mittel\",VLOOKUP(I336,'Boden DüV-Bolap'!A:K,11,FALSE),IF(F336=\"schwer\",VLOOKUP(I336,'Boden DüV-Bolap'!A:R,15,FALSE))))))","v":""},{"$f":"IF(OR(J336=\"\",F336=\"\"),\"\",IF(J336>39,\"E\",IF(F336=\"leicht\",VLOOKUP(J336,'Boden DüV-Bolap'!A:AA,19,FALSE),IF(F336=\"mittel\",VLOOKUP(J336,'Boden DüV-Bolap'!A:AA,23,FALSE),IF(F336=\"schwer\",VLOOKUP(J336,'Boden DüV-Bolap'!A:AA,27,FALSE))))))","v":""}]
[333,null,null,null,null,null,null,null,null,null,null,null,null,null,null,null,null,{"$f":"IF(H337=\"\",\"\",IF(H337>39,\"E\",VLOOKUP(H337,'Boden DüV-Bolap'!A:B,2,FALSE)))","v":""},{"$f":"IF(OR(I337=\"\",F337=\"\"),\"\",IF(I337>39,\"E\",IF(F337=\"leicht\",VLOOKUP(I337,'Boden DüV-Bolap'!A:Q,7,FALSE),IF(F337=\"mittel\",VLOOKUP(I337,'Boden DüV-Bolap'!A:K,11,FALSE),IF(F337=\"schwer\",VLOOKUP(I337,'Boden DüV-Bolap'!A:R,15,FALSE))))))","v":""},{"$f":"IF(OR(J337=\"\",F337=\"\"),\"\",IF(J337>39,\"E\",IF(F337=\"leicht\",VLOOKUP(J337,'Boden DüV-Bolap'!A:AA,19,FALSE),IF(F337=\"mittel\",VLOOKUP(J337,'Boden DüV-Bolap'!A:AA,23,FALSE),IF(F337=\"schwer\",VLOOKUP(J337,'Boden DüV-Bolap'!A:AA,27,FALSE))))))","v":""}]
[334,null,null,null,null,null,null,null,null,null,null,null,null,null,null,null,null,{"$f":"IF(H338=\"\",\"\",IF(H338>39,\"E\",VLOOKUP(H338,'Boden DüV-Bolap'!A:B,2,FALSE)))","v":""},{"$f":"IF(OR(I338=\"\",F338=\"\"),\"\",IF(I338>39,\"E\",IF(F338=\"leicht\",VLOOKUP(I338,'Boden DüV-Bolap'!A:Q,7,FALSE),IF(F338=\"mittel\",VLOOKUP(I338,'Boden DüV-Bolap'!A:K,11,FALSE),IF(F338=\"schwer\",VLOOKUP(I338,'Boden DüV-Bolap'!A:R,15,FALSE))))))","v":""},{"$f":"IF(OR(J338=\"\",F338=\"\"),\"\",IF(J338>39,\"E\",IF(F338=\"leicht\",VLOOKUP(J338,'Boden DüV-Bolap'!A:AA,19,FALSE),IF(F338=\"mittel\",VLOOKUP(J338,'Boden DüV-Bolap'!A:AA,23,FALSE),IF(F338=\"schwer\",VLOOKUP(J338,'Boden DüV-Bolap'!A:AA,27,FALSE))))))","v":""}]
[335,null,null,null,null,null,null,null,null,null,null,null,null,null,null,null,null,{"$f":"IF(H339=\"\",\"\",IF(H339>39,\"E\",VLOOKUP(H339,'Boden DüV-Bolap'!A:B,2,FALSE)))","v":""},{"$f":"IF(OR(I339=\"\",F339=\"\"),\"\",IF(I339>39,\"E\",IF(F339=\"leicht\",VLOOKUP(I339,'Boden DüV-Bolap'!A:Q,7,FALSE),IF(F339=\"mittel\",VLOOKUP(I339,'Boden DüV-Bolap'!A:K,11,FALSE),IF(F339=\"schwer\",VLOOKUP(I339,'Boden DüV-Bolap'!A:R,15,FALSE))))))","v":""},{"$f":"IF(OR(J339=\"\",F339=\"\"),\"\",IF(J339>39,\"E\",IF(F339=\"leicht\",VLOOKUP(J339,'Boden DüV-Bolap'!A:AA,19,FALSE),IF(F339=\"mittel\",VLOOKUP(J339,'Boden DüV-Bolap'!A:AA,23,FALSE),IF(F339=\"schwer\",VLOOKUP(J339,'Boden DüV-Bolap'!A:AA,27,FALSE))))))","v":""}]
[336,null,null,null,null,null,null,null,null,null,null,null,null,null,null,null,null,{"$f":"IF(H340=\"\",\"\",IF(H340>39,\"E\",VLOOKUP(H340,'Boden DüV-Bolap'!A:B,2,FALSE)))","v":""},{"$f":"IF(OR(I340=\"\",F340=\"\"),\"\",IF(I340>39,\"E\",IF(F340=\"leicht\",VLOOKUP(I340,'Boden DüV-Bolap'!A:Q,7,FALSE),IF(F340=\"mittel\",VLOOKUP(I340,'Boden DüV-Bolap'!A:K,11,FALSE),IF(F340=\"schwer\",VLOOKUP(I340,'Boden DüV-Bolap'!A:R,15,FALSE))))))","v":""},{"$f":"IF(OR(J340=\"\",F340=\"\"),\"\",IF(J340>39,\"E\",IF(F340=\"leicht\",VLOOKUP(J340,'Boden DüV-Bolap'!A:AA,19,FALSE),IF(F340=\"mittel\",VLOOKUP(J340,'Boden DüV-Bolap'!A:AA,23,FALSE),IF(F340=\"schwer\",VLOOKUP(J340,'Boden DüV-Bolap'!A:AA,27,FALSE))))))","v":""}]
[337,null,null,null,null,null,null,null,null,null,null,null,null,null,null,null,null,{"$f":"IF(H341=\"\",\"\",IF(H341>39,\"E\",VLOOKUP(H341,'Boden DüV-Bolap'!A:B,2,FALSE)))","v":""},{"$f":"IF(OR(I341=\"\",F341=\"\"),\"\",IF(I341>39,\"E\",IF(F341=\"leicht\",VLOOKUP(I341,'Boden DüV-Bolap'!A:Q,7,FALSE),IF(F341=\"mittel\",VLOOKUP(I341,'Boden DüV-Bolap'!A:K,11,FALSE),IF(F341=\"schwer\",VLOOKUP(I341,'Boden DüV-Bolap'!A:R,15,FALSE))))))","v":""},{"$f":"IF(OR(J341=\"\",F341=\"\"),\"\",IF(J341>39,\"E\",IF(F341=\"leicht\",VLOOKUP(J341,'Boden DüV-Bolap'!A:AA,19,FALSE),IF(F341=\"mittel\",VLOOKUP(J341,'Boden DüV-Bolap'!A:AA,23,FALSE),IF(F341=\"schwer\",VLOOKUP(J341,'Boden DüV-Bolap'!A:AA,27,FALSE))))))","v":""}]
[338,null,null,null,null,null,null,null,null,null,null,null,null,null,null,null,null,{"$f":"IF(H342=\"\",\"\",IF(H342>39,\"E\",VLOOKUP(H342,'Boden DüV-Bolap'!A:B,2,FALSE)))","v":""},{"$f":"IF(OR(I342=\"\",F342=\"\"),\"\",IF(I342>39,\"E\",IF(F342=\"leicht\",VLOOKUP(I342,'Boden DüV-Bolap'!A:Q,7,FALSE),IF(F342=\"mittel\",VLOOKUP(I342,'Boden DüV-Bolap'!A:K,11,FALSE),IF(F342=\"schwer\",VLOOKUP(I342,'Boden DüV-Bolap'!A:R,15,FALSE))))))","v":""},{"$f":"IF(OR(J342=\"\",F342=\"\"),\"\",IF(J342>39,\"E\",IF(F342=\"leicht\",VLOOKUP(J342,'Boden DüV-Bolap'!A:AA,19,FALSE),IF(F342=\"mittel\",VLOOKUP(J342,'Boden DüV-Bolap'!A:AA,23,FALSE),IF(F342=\"schwer\",VLOOKUP(J342,'Boden DüV-Bolap'!A:AA,27,FALSE))))))","v":""}]
[339,null,null,null,null,null,null,null,null,null,null,null,null,null,null,null,null,{"$f":"IF(H343=\"\",\"\",IF(H343>39,\"E\",VLOOKUP(H343,'Boden DüV-Bolap'!A:B,2,FALSE)))","v":""},{"$f":"IF(OR(I343=\"\",F343=\"\"),\"\",IF(I343>39,\"E\",IF(F343=\"leicht\",VLOOKUP(I343,'Boden DüV-Bolap'!A:Q,7,FALSE),IF(F343=\"mittel\",VLOOKUP(I343,'Boden DüV-Bolap'!A:K,11,FALSE),IF(F343=\"schwer\",VLOOKUP(I343,'Boden DüV-Bolap'!A:R,15,FALSE))))))","v":""},{"$f":"IF(OR(J343=\"\",F343=\"\"),\"\",IF(J343>39,\"E\",IF(F343=\"leicht\",VLOOKUP(J343,'Boden DüV-Bolap'!A:AA,19,FALSE),IF(F343=\"mittel\",VLOOKUP(J343,'Boden DüV-Bolap'!A:AA,23,FALSE),IF(F343=\"schwer\",VLOOKUP(J343,'Boden DüV-Bolap'!A:AA,27,FALSE))))))","v":""}]
[340,null,null,null,null,null,null,null,null,null,null,null,null,null,null,null,null,{"$f":"IF(H344=\"\",\"\",IF(H344>39,\"E\",VLOOKUP(H344,'Boden DüV-Bolap'!A:B,2,FALSE)))","v":""},{"$f":"IF(OR(I344=\"\",F344=\"\"),\"\",IF(I344>39,\"E\",IF(F344=\"leicht\",VLOOKUP(I344,'Boden DüV-Bolap'!A:Q,7,FALSE),IF(F344=\"mittel\",VLOOKUP(I344,'Boden DüV-Bolap'!A:K,11,FALSE),IF(F344=\"schwer\",VLOOKUP(I344,'Boden DüV-Bolap'!A:R,15,FALSE))))))","v":""},{"$f":"IF(OR(J344=\"\",F344=\"\"),\"\",IF(J344>39,\"E\",IF(F344=\"leicht\",VLOOKUP(J344,'Boden DüV-Bolap'!A:AA,19,FALSE),IF(F344=\"mittel\",VLOOKUP(J344,'Boden DüV-Bolap'!A:AA,23,FALSE),IF(F344=\"schwer\",VLOOKUP(J344,'Boden DüV-Bolap'!A:AA,27,FALSE))))))","v":""}]
[341,null,null,null,null,null,null,null,null,null,null,null,null,null,null,null,null,{"$f":"IF(H345=\"\",\"\",IF(H345>39,\"E\",VLOOKUP(H345,'Boden DüV-Bolap'!A:B,2,FALSE)))","v":""},{"$f":"IF(OR(I345=\"\",F345=\"\"),\"\",IF(I345>39,\"E\",IF(F345=\"leicht\",VLOOKUP(I345,'Boden DüV-Bolap'!A:Q,7,FALSE),IF(F345=\"mittel\",VLOOKUP(I345,'Boden DüV-Bolap'!A:K,11,FALSE),IF(F345=\"schwer\",VLOOKUP(I345,'Boden DüV-Bolap'!A:R,15,FALSE))))))","v":""},{"$f":"IF(OR(J345=\"\",F345=\"\"),\"\",IF(J345>39,\"E\",IF(F345=\"leicht\",VLOOKUP(J345,'Boden DüV-Bolap'!A:AA,19,FALSE),IF(F345=\"mittel\",VLOOKUP(J345,'Boden DüV-Bolap'!A:AA,23,FALSE),IF(F345=\"schwer\",VLOOKUP(J345,'Boden DüV-Bolap'!A:AA,27,FALSE))))))","v":""}]
[342,null,null,null,null,null,null,null,null,null,null,null,null,null,null,null,null,{"$f":"IF(H346=\"\",\"\",IF(H346>39,\"E\",VLOOKUP(H346,'Boden DüV-Bolap'!A:B,2,FALSE)))","v":""},{"$f":"IF(OR(I346=\"\",F346=\"\"),\"\",IF(I346>39,\"E\",IF(F346=\"leicht\",VLOOKUP(I346,'Boden DüV-Bolap'!A:Q,7,FALSE),IF(F346=\"mittel\",VLOOKUP(I346,'Boden DüV-Bolap'!A:K,11,FALSE),IF(F346=\"schwer\",VLOOKUP(I346,'Boden DüV-Bolap'!A:R,15,FALSE))))))","v":""},{"$f":"IF(OR(J346=\"\",F346=\"\"),\"\",IF(J346>39,\"E\",IF(F346=\"leicht\",VLOOKUP(J346,'Boden DüV-Bolap'!A:AA,19,FALSE),IF(F346=\"mittel\",VLOOKUP(J346,'Boden DüV-Bolap'!A:AA,23,FALSE),IF(F346=\"schwer\",VLOOKUP(J346,'Boden DüV-Bolap'!A:AA,27,FALSE))))))","v":""}]
[343,null,null,null,null,null,null,null,null,null,null,null,null,null,null,null,null,{"$f":"IF(H347=\"\",\"\",IF(H347>39,\"E\",VLOOKUP(H347,'Boden DüV-Bolap'!A:B,2,FALSE)))","v":""},{"$f":"IF(OR(I347=\"\",F347=\"\"),\"\",IF(I347>39,\"E\",IF(F347=\"leicht\",VLOOKUP(I347,'Boden DüV-Bolap'!A:Q,7,FALSE),IF(F347=\"mittel\",VLOOKUP(I347,'Boden DüV-Bolap'!A:K,11,FALSE),IF(F347=\"schwer\",VLOOKUP(I347,'Boden DüV-Bolap'!A:R,15,FALSE))))))","v":""},{"$f":"IF(OR(J347=\"\",F347=\"\"),\"\",IF(J347>39,\"E\",IF(F347=\"leicht\",VLOOKUP(J347,'Boden DüV-Bolap'!A:AA,19,FALSE),IF(F347=\"mittel\",VLOOKUP(J347,'Boden DüV-Bolap'!A:AA,23,FALSE),IF(F347=\"schwer\",VLOOKUP(J347,'Boden DüV-Bolap'!A:AA,27,FALSE))))))","v":""}]
[344,null,null,null,null,null,null,null,null,null,null,null,null,null,null,null,null,{"$f":"IF(H348=\"\",\"\",IF(H348>39,\"E\",VLOOKUP(H348,'Boden DüV-Bolap'!A:B,2,FALSE)))","v":""},{"$f":"IF(OR(I348=\"\",F348=\"\"),\"\",IF(I348>39,\"E\",IF(F348=\"leicht\",VLOOKUP(I348,'Boden DüV-Bolap'!A:Q,7,FALSE),IF(F348=\"mittel\",VLOOKUP(I348,'Boden DüV-Bolap'!A:K,11,FALSE),IF(F348=\"schwer\",VLOOKUP(I348,'Boden DüV-Bolap'!A:R,15,FALSE))))))","v":""},{"$f":"IF(OR(J348=\"\",F348=\"\"),\"\",IF(J348>39,\"E\",IF(F348=\"leicht\",VLOOKUP(J348,'Boden DüV-Bolap'!A:AA,19,FALSE),IF(F348=\"mittel\",VLOOKUP(J348,'Boden DüV-Bolap'!A:AA,23,FALSE),IF(F348=\"schwer\",VLOOKUP(J348,'Boden DüV-Bolap'!A:AA,27,FALSE))))))","v":""}]
[345,null,null,null,null,null,null,null,null,null,null,null,null,null,null,null,null,{"$f":"IF(H349=\"\",\"\",IF(H349>39,\"E\",VLOOKUP(H349,'Boden DüV-Bolap'!A:B,2,FALSE)))","v":""},{"$f":"IF(OR(I349=\"\",F349=\"\"),\"\",IF(I349>39,\"E\",IF(F349=\"leicht\",VLOOKUP(I349,'Boden DüV-Bolap'!A:Q,7,FALSE),IF(F349=\"mittel\",VLOOKUP(I349,'Boden DüV-Bolap'!A:K,11,FALSE),IF(F349=\"schwer\",VLOOKUP(I349,'Boden DüV-Bolap'!A:R,15,FALSE))))))","v":""},{"$f":"IF(OR(J349=\"\",F349=\"\"),\"\",IF(J349>39,\"E\",IF(F349=\"leicht\",VLOOKUP(J349,'Boden DüV-Bolap'!A:AA,19,FALSE),IF(F349=\"mittel\",VLOOKUP(J349,'Boden DüV-Bolap'!A:AA,23,FALSE),IF(F349=\"schwer\",VLOOKUP(J349,'Boden DüV-Bolap'!A:AA,27,FALSE))))))","v":""}]
[346,null,null,null,null,null,null,null,null,null,null,null,null,null,null,null,null,{"$f":"IF(H350=\"\",\"\",IF(H350>39,\"E\",VLOOKUP(H350,'Boden DüV-Bolap'!A:B,2,FALSE)))","v":""},{"$f":"IF(OR(I350=\"\",F350=\"\"),\"\",IF(I350>39,\"E\",IF(F350=\"leicht\",VLOOKUP(I350,'Boden DüV-Bolap'!A:Q,7,FALSE),IF(F350=\"mittel\",VLOOKUP(I350,'Boden DüV-Bolap'!A:K,11,FALSE),IF(F350=\"schwer\",VLOOKUP(I350,'Boden DüV-Bolap'!A:R,15,FALSE))))))","v":""},{"$f":"IF(OR(J350=\"\",F350=\"\"),\"\",IF(J350>39,\"E\",IF(F350=\"leicht\",VLOOKUP(J350,'Boden DüV-Bolap'!A:AA,19,FALSE),IF(F350=\"mittel\",VLOOKUP(J350,'Boden DüV-Bolap'!A:AA,23,FALSE),IF(F350=\"schwer\",VLOOKUP(J350,'Boden DüV-Bolap'!A:AA,27,FALSE))))))","v":""}]
[347,null,null,null,null,null,null,null,null,null,null,null,null,null,null,null,null,{"$f":"IF(H351=\"\",\"\",IF(H351>39,\"E\",VLOOKUP(H351,'Boden DüV-Bolap'!A:B,2,FALSE)))","v":""},{"$f":"IF(OR(I351=\"\",F351=\"\"),\"\",IF(I351>39,\"E\",IF(F351=\"leicht\",VLOOKUP(I351,'Boden DüV-Bolap'!A:Q,7,FALSE),IF(F351=\"mittel\",VLOOKUP(I351,'Boden DüV-Bolap'!A:K,11,FALSE),IF(F351=\"schwer\",VLOOKUP(I351,'Boden DüV-Bolap'!A:R,15,FALSE))))))","v":""},{"$f":"IF(OR(J351=\"\",F351=\"\"),\"\",IF(J351>39,\"E\",IF(F351=\"leicht\",VLOOKUP(J351,'Boden DüV-Bolap'!A:AA,19,FALSE),IF(F351=\"mittel\",VLOOKUP(J351,'Boden DüV-Bolap'!A:AA,23,FALSE),IF(F351=\"schwer\",VLOOKUP(J351,'Boden DüV-Bolap'!A:AA,27,FALSE))))))","v":""}]
[348,null,null,null,null,null,null,null,null,null,null,null,null,null,null,null,null,{"$f":"IF(H352=\"\",\"\",IF(H352>39,\"E\",VLOOKUP(H352,'Boden DüV-Bolap'!A:B,2,FALSE)))","v":""},{"$f":"IF(OR(I352=\"\",F352=\"\"),\"\",IF(I352>39,\"E\",IF(F352=\"leicht\",VLOOKUP(I352,'Boden DüV-Bolap'!A:Q,7,FALSE),IF(F352=\"mittel\",VLOOKUP(I352,'Boden DüV-Bolap'!A:K,11,FALSE),IF(F352=\"schwer\",VLOOKUP(I352,'Boden DüV-Bolap'!A:R,15,FALSE))))))","v":""},{"$f":"IF(OR(J352=\"\",F352=\"\"),\"\",IF(J352>39,\"E\",IF(F352=\"leicht\",VLOOKUP(J352,'Boden DüV-Bolap'!A:AA,19,FALSE),IF(F352=\"mittel\",VLOOKUP(J352,'Boden DüV-Bolap'!A:AA,23,FALSE),IF(F352=\"schwer\",VLOOKUP(J352,'Boden DüV-Bolap'!A:AA,27,FALSE))))))","v":""}]
[349,null,null,null,null,null,null,null,null,null,null,null,null,null,null,null,null,{"$f":"IF(H353=\"\",\"\",IF(H353>39,\"E\",VLOOKUP(H353,'Boden DüV-Bolap'!A:B,2,FALSE)))","v":""},{"$f":"IF(OR(I353=\"\",F353=\"\"),\"\",IF(I353>39,\"E\",IF(F353=\"leicht\",VLOOKUP(I353,'Boden DüV-Bolap'!A:Q,7,FALSE),IF(F353=\"mittel\",VLOOKUP(I353,'Boden DüV-Bolap'!A:K,11,FALSE),IF(F353=\"schwer\",VLOOKUP(I353,'Boden DüV-Bolap'!A:R,15,FALSE))))))","v":""},{"$f":"IF(OR(J353=\"\",F353=\"\"),\"\",IF(J353>39,\"E\",IF(F353=\"leicht\",VLOOKUP(J353,'Boden DüV-Bolap'!A:AA,19,FALSE),IF(F353=\"mittel\",VLOOKUP(J353,'Boden DüV-Bolap'!A:AA,23,FALSE),IF(F353=\"schwer\",VLOOKUP(J353,'Boden DüV-Bolap'!A:AA,27,FALSE))))))","v":""}]
[350,null,null,null,null,null,null,null,null,null,null,null,null,null,null,null,null,{"$f":"IF(H354=\"\",\"\",IF(H354>39,\"E\",VLOOKUP(H354,'Boden DüV-Bolap'!A:B,2,FALSE)))","v":""},{"$f":"IF(OR(I354=\"\",F354=\"\"),\"\",IF(I354>39,\"E\",IF(F354=\"leicht\",VLOOKUP(I354,'Boden DüV-Bolap'!A:Q,7,FALSE),IF(F354=\"mittel\",VLOOKUP(I354,'Boden DüV-Bolap'!A:K,11,FALSE),IF(F354=\"schwer\",VLOOKUP(I354,'Boden DüV-Bolap'!A:R,15,FALSE))))))","v":""},{"$f":"IF(OR(J354=\"\",F354=\"\"),\"\",IF(J354>39,\"E\",IF(F354=\"leicht\",VLOOKUP(J354,'Boden DüV-Bolap'!A:AA,19,FALSE),IF(F354=\"mittel\",VLOOKUP(J354,'Boden DüV-Bolap'!A:AA,23,FALSE),IF(F354=\"schwer\",VLOOKUP(J354,'Boden DüV-Bolap'!A:AA,27,FALSE))))))","v":""}]
[351,null,null,null,null,null,null,null,null,null,null,null,null,null,null,null,null,{"$f":"IF(H355=\"\",\"\",IF(H355>39,\"E\",VLOOKUP(H355,'Boden DüV-Bolap'!A:B,2,FALSE)))","v":""},{"$f":"IF(OR(I355=\"\",F355=\"\"),\"\",IF(I355>39,\"E\",IF(F355=\"leicht\",VLOOKUP(I355,'Boden DüV-Bolap'!A:Q,7,FALSE),IF(F355=\"mittel\",VLOOKUP(I355,'Boden DüV-Bolap'!A:K,11,FALSE),IF(F355=\"schwer\",VLOOKUP(I355,'Boden DüV-Bolap'!A:R,15,FALSE))))))","v":""},{"$f":"IF(OR(J355=\"\",F355=\"\"),\"\",IF(J355>39,\"E\",IF(F355=\"leicht\",VLOOKUP(J355,'Boden DüV-Bolap'!A:AA,19,FALSE),IF(F355=\"mittel\",VLOOKUP(J355,'Boden DüV-Bolap'!A:AA,23,FALSE),IF(F355=\"schwer\",VLOOKUP(J355,'Boden DüV-Bolap'!A:AA,27,FALSE))))))","v":""}]
[352,null,null,null,null,null,null,null,null,null,null,null,null,null,null,null,null,{"$f":"IF(H356=\"\",\"\",IF(H356>39,\"E\",VLOOKUP(H356,'Boden DüV-Bolap'!A:B,2,FALSE)))","v":""},{"$f":"IF(OR(I356=\"\",F356=\"\"),\"\",IF(I356>39,\"E\",IF(F356=\"leicht\",VLOOKUP(I356,'Boden DüV-Bolap'!A:Q,7,FALSE),IF(F356=\"mittel\",VLOOKUP(I356,'Boden DüV-Bolap'!A:K,11,FALSE),IF(F356=\"schwer\",VLOOKUP(I356,'Boden DüV-Bolap'!A:R,15,FALSE))))))","v":""},{"$f":"IF(OR(J356=\"\",F356=\"\"),\"\",IF(J356>39,\"E\",IF(F356=\"leicht\",VLOOKUP(J356,'Boden DüV-Bolap'!A:AA,19,FALSE),IF(F356=\"mittel\",VLOOKUP(J356,'Boden DüV-Bolap'!A:AA,23,FALSE),IF(F356=\"schwer\",VLOOKUP(J356,'Boden DüV-Bolap'!A:AA,27,FALSE))))))","v":""}]
[353,null,null,null,null,null,null,null,null,null,null,null,null,null,null,null,null,{"$f":"IF(H357=\"\",\"\",IF(H357>39,\"E\",VLOOKUP(H357,'Boden DüV-Bolap'!A:B,2,FALSE)))","v":""},{"$f":"IF(OR(I357=\"\",F357=\"\"),\"\",IF(I357>39,\"E\",IF(F357=\"leicht\",VLOOKUP(I357,'Boden DüV-Bolap'!A:Q,7,FALSE),IF(F357=\"mittel\",VLOOKUP(I357,'Boden DüV-Bolap'!A:K,11,FALSE),IF(F357=\"schwer\",VLOOKUP(I357,'Boden DüV-Bolap'!A:R,15,FALSE))))))","v":""},{"$f":"IF(OR(J357=\"\",F357=\"\"),\"\",IF(J357>39,\"E\",IF(F357=\"leicht\",VLOOKUP(J357,'Boden DüV-Bolap'!A:AA,19,FALSE),IF(F357=\"mittel\",VLOOKUP(J357,'Boden DüV-Bolap'!A:AA,23,FALSE),IF(F357=\"schwer\",VLOOKUP(J357,'Boden DüV-Bolap'!A:AA,27,FALSE))))))","v":""}]
[354,null,null,null,null,null,null,null,null,null,null,null,null,null,null,null,null,{"$f":"IF(H358=\"\",\"\",IF(H358>39,\"E\",VLOOKUP(H358,'Boden DüV-Bolap'!A:B,2,FALSE)))","v":""},{"$f":"IF(OR(I358=\"\",F358=\"\"),\"\",IF(I358>39,\"E\",IF(F358=\"leicht\",VLOOKUP(I358,'Boden DüV-Bolap'!A:Q,7,FALSE),IF(F358=\"mittel\",VLOOKUP(I358,'Boden DüV-Bolap'!A:K,11,FALSE),IF(F358=\"schwer\",VLOOKUP(I358,'Boden DüV-Bolap'!A:R,15,FALSE))))))","v":""},{"$f":"IF(OR(J358=\"\",F358=\"\"),\"\",IF(J358>39,\"E\",IF(F358=\"leicht\",VLOOKUP(J358,'Boden DüV-Bolap'!A:AA,19,FALSE),IF(F358=\"mittel\",VLOOKUP(J358,'Boden DüV-Bolap'!A:AA,23,FALSE),IF(F358=\"schwer\",VLOOKUP(J358,'Boden DüV-Bolap'!A:AA,27,FALSE))))))","v":""}]
[355,null,null,null,null,null,null,null,null,null,null,null,null,null,null,null,null,{"$f":"IF(H359=\"\",\"\",IF(H359>39,\"E\",VLOOKUP(H359,'Boden DüV-Bolap'!A:B,2,FALSE)))","v":""},{"$f":"IF(OR(I359=\"\",F359=\"\"),\"\",IF(I359>39,\"E\",IF(F359=\"leicht\",VLOOKUP(I359,'Boden DüV-Bolap'!A:Q,7,FALSE),IF(F359=\"mittel\",VLOOKUP(I359,'Boden DüV-Bolap'!A:K,11,FALSE),IF(F359=\"schwer\",VLOOKUP(I359,'Boden DüV-Bolap'!A:R,15,FALSE))))))","v":""},{"$f":"IF(OR(J359=\"\",F359=\"\"),\"\",IF(J359>39,\"E\",IF(F359=\"leicht\",VLOOKUP(J359,'Boden DüV-Bolap'!A:AA,19,FALSE),IF(F359=\"mittel\",VLOOKUP(J359,'Boden DüV-Bolap'!A:AA,23,FALSE),IF(F359=\"schwer\",VLOOKUP(J359,'Boden DüV-Bolap'!A:AA,27,FALSE))))))","v":""}]
[356,null,null,null,null,null,null,null,null,null,null,null,null,null,null,null,null,{"$f":"IF(H360=\"\",\"\",IF(H360>39,\"E\",VLOOKUP(H360,'Boden DüV-Bolap'!A:B,2,FALSE)))","v":""},{"$f":"IF(OR(I360=\"\",F360=\"\"),\"\",IF(I360>39,\"E\",IF(F360=\"leicht\",VLOOKUP(I360,'Boden DüV-Bolap'!A:Q,7,FALSE),IF(F360=\"mittel\",VLOOKUP(I360,'Boden DüV-Bolap'!A:K,11,FALSE),IF(F360=\"schwer\",VLOOKUP(I360,'Boden DüV-Bolap'!A:R,15,FALSE))))))","v":""},{"$f":"IF(OR(J360=\"\",F360=\"\"),\"\",IF(J360>39,\"E\",IF(F360=\"leicht\",VLOOKUP(J360,'Boden DüV-Bolap'!A:AA,19,FALSE),IF(F360=\"mittel\",VLOOKUP(J360,'Boden DüV-Bolap'!A:AA,23,FALSE),IF(F360=\"schwer\",VLOOKUP(J360,'Boden DüV-Bolap'!A:AA,27,FALSE))))))","v":""}]
[357,null,null,null,null,null,null,null,null,null,null,null,null,null,null,null,null,{"$f":"IF(H361=\"\",\"\",IF(H361>39,\"E\",VLOOKUP(H361,'Boden DüV-Bolap'!A:B,2,FALSE)))","v":""},{"$f":"IF(OR(I361=\"\",F361=\"\"),\"\",IF(I361>39,\"E\",IF(F361=\"leicht\",VLOOKUP(I361,'Boden DüV-Bolap'!A:Q,7,FALSE),IF(F361=\"mittel\",VLOOKUP(I361,'Boden DüV-Bolap'!A:K,11,FALSE),IF(F361=\"schwer\",VLOOKUP(I361,'Boden DüV-Bolap'!A:R,15,FALSE))))))","v":""},{"$f":"IF(OR(J361=\"\",F361=\"\"),\"\",IF(J361>39,\"E\",IF(F361=\"leicht\",VLOOKUP(J361,'Boden DüV-Bolap'!A:AA,19,FALSE),IF(F361=\"mittel\",VLOOKUP(J361,'Boden DüV-Bolap'!A:AA,23,FALSE),IF(F361=\"schwer\",VLOOKUP(J361,'Boden DüV-Bolap'!A:AA,27,FALSE))))))","v":""}]
[358,null,null,null,null,null,null,null,null,null,null,null,null,null,null,null,null,{"$f":"IF(H362=\"\",\"\",IF(H362>39,\"E\",VLOOKUP(H362,'Boden DüV-Bolap'!A:B,2,FALSE)))","v":""},{"$f":"IF(OR(I362=\"\",F362=\"\"),\"\",IF(I362>39,\"E\",IF(F362=\"leicht\",VLOOKUP(I362,'Boden DüV-Bolap'!A:Q,7,FALSE),IF(F362=\"mittel\",VLOOKUP(I362,'Boden DüV-Bolap'!A:K,11,FALSE),IF(F362=\"schwer\",VLOOKUP(I362,'Boden DüV-Bolap'!A:R,15,FALSE))))))","v":""},{"$f":"IF(OR(J362=\"\",F362=\"\"),\"\",IF(J362>39,\"E\",IF(F362=\"leicht\",VLOOKUP(J362,'Boden DüV-Bolap'!A:AA,19,FALSE),IF(F362=\"mittel\",VLOOKUP(J362,'Boden DüV-Bolap'!A:AA,23,FALSE),IF(F362=\"schwer\",VLOOKUP(J362,'Boden DüV-Bolap'!A:AA,27,FALSE))))))","v":""}]
[359,null,null,null,null,null,null,null,null,null,null,null,null,null,null,null,null,{"$f":"IF(H363=\"\",\"\",IF(H363>39,\"E\",VLOOKUP(H363,'Boden DüV-Bolap'!A:B,2,FALSE)))","v":""},{"$f":"IF(OR(I363=\"\",F363=\"\"),\"\",IF(I363>39,\"E\",IF(F363=\"leicht\",VLOOKUP(I363,'Boden DüV-Bolap'!A:Q,7,FALSE),IF(F363=\"mittel\",VLOOKUP(I363,'Boden DüV-Bolap'!A:K,11,FALSE),IF(F363=\"schwer\",VLOOKUP(I363,'Boden DüV-Bolap'!A:R,15,FALSE))))))","v":""},{"$f":"IF(OR(J363=\"\",F363=\"\"),\"\",IF(J363>39,\"E\",IF(F363=\"leicht\",VLOOKUP(J363,'Boden DüV-Bolap'!A:AA,19,FALSE),IF(F363=\"mittel\",VLOOKUP(J363,'Boden DüV-Bolap'!A:AA,23,FALSE),IF(F363=\"schwer\",VLOOKUP(J363,'Boden DüV-Bolap'!A:AA,27,FALSE))))))","v":""}]
[360,null,null,null,null,null,null,null,null,null,null,null,null,null,null,null,null,{"$f":"IF(H364=\"\",\"\",IF(H364>39,\"E\",VLOOKUP(H364,'Boden DüV-Bolap'!A:B,2,FALSE)))","v":""},{"$f":"IF(OR(I364=\"\",F364=\"\"),\"\",IF(I364>39,\"E\",IF(F364=\"leicht\",VLOOKUP(I364,'Boden DüV-Bolap'!A:Q,7,FALSE),IF(F364=\"mittel\",VLOOKUP(I364,'Boden DüV-Bolap'!A:K,11,FALSE),IF(F364=\"schwer\",VLOOKUP(I364,'Boden DüV-Bolap'!A:R,15,FALSE))))))","v":""},{"$f":"IF(OR(J364=\"\",F364=\"\"),\"\",IF(J364>39,\"E\",IF(F364=\"leicht\",VLOOKUP(J364,'Boden DüV-Bolap'!A:AA,19,FALSE),IF(F364=\"mittel\",VLOOKUP(J364,'Boden DüV-Bolap'!A:AA,23,FALSE),IF(F364=\"schwer\",VLOOKUP(J364,'Boden DüV-Bolap'!A:AA,27,FALSE))))))","v":""}]
[361,null,null,null,null,null,null,null,null,null,null,null,null,null,null,null,null,{"$f":"IF(H365=\"\",\"\",IF(H365>39,\"E\",VLOOKUP(H365,'Boden DüV-Bolap'!A:B,2,FALSE)))","v":""},{"$f":"IF(OR(I365=\"\",F365=\"\"),\"\",IF(I365>39,\"E\",IF(F365=\"leicht\",VLOOKUP(I365,'Boden DüV-Bolap'!A:Q,7,FALSE),IF(F365=\"mittel\",VLOOKUP(I365,'Boden DüV-Bolap'!A:K,11,FALSE),IF(F365=\"schwer\",VLOOKUP(I365,'Boden DüV-Bolap'!A:R,15,FALSE))))))","v":""},{"$f":"IF(OR(J365=\"\",F365=\"\"),\"\",IF(J365>39,\"E\",IF(F365=\"leicht\",VLOOKUP(J365,'Boden DüV-Bolap'!A:AA,19,FALSE),IF(F365=\"mittel\",VLOOKUP(J365,'Boden DüV-Bolap'!A:AA,23,FALSE),IF(F365=\"schwer\",VLOOKUP(J365,'Boden DüV-Bolap'!A:AA,27,FALSE))))))","v":""}]
[362,null,null,null,null,null,null,null,null,null,null,null,null,null,null,null,null,{"$f":"IF(H366=\"\",\"\",IF(H366>39,\"E\",VLOOKUP(H366,'Boden DüV-Bolap'!A:B,2,FALSE)))","v":""},{"$f":"IF(OR(I366=\"\",F366=\"\"),\"\",IF(I366>39,\"E\",IF(F366=\"leicht\",VLOOKUP(I366,'Boden DüV-Bolap'!A:Q,7,FALSE),IF(F366=\"mittel\",VLOOKUP(I366,'Boden DüV-Bolap'!A:K,11,FALSE),IF(F366=\"schwer\",VLOOKUP(I366,'Boden DüV-Bolap'!A:R,15,FALSE))))))","v":""},{"$f":"IF(OR(J366=\"\",F366=\"\"),\"\",IF(J366>39,\"E\",IF(F366=\"leicht\",VLOOKUP(J366,'Boden DüV-Bolap'!A:AA,19,FALSE),IF(F366=\"mittel\",VLOOKUP(J366,'Boden DüV-Bolap'!A:AA,23,FALSE),IF(F366=\"schwer\",VLOOKUP(J366,'Boden DüV-Bolap'!A:AA,27,FALSE))))))","v":""}]
[363,null,null,null,null,null,null,null,null,null,null,null,null,null,null,null,null,{"$f":"IF(H367=\"\",\"\",IF(H367>39,\"E\",VLOOKUP(H367,'Boden DüV-Bolap'!A:B,2,FALSE)))","v":""},{"$f":"IF(OR(I367=\"\",F367=\"\"),\"\",IF(I367>39,\"E\",IF(F367=\"leicht\",VLOOKUP(I367,'Boden DüV-Bolap'!A:Q,7,FALSE),IF(F367=\"mittel\",VLOOKUP(I367,'Boden DüV-Bolap'!A:K,11,FALSE),IF(F367=\"schwer\",VLOOKUP(I367,'Boden DüV-Bolap'!A:R,15,FALSE))))))","v":""},{"$f":"IF(OR(J367=\"\",F367=\"\"),\"\",IF(J367>39,\"E\",IF(F367=\"leicht\",VLOOKUP(J367,'Boden DüV-Bolap'!A:AA,19,FALSE),IF(F367=\"mittel\",VLOOKUP(J367,'Boden DüV-Bolap'!A:AA,23,FALSE),IF(F367=\"schwer\",VLOOKUP(J367,'Boden DüV-Bolap'!A:AA,27,FALSE))))))","v":""}]
[364,null,null,null,null,null,null,null,null,null,null,null,null,null,null,null,null,{"$f":"IF(H368=\"\",\"\",IF(H368>39,\"E\",VLOOKUP(H368,'Boden DüV-Bolap'!A:B,2,FALSE)))","v":""},{"$f":"IF(OR(I368=\"\",F368=\"\"),\"\",IF(I368>39,\"E\",IF(F368=\"leicht\",VLOOKUP(I368,'Boden DüV-Bolap'!A:Q,7,FALSE),IF(F368=\"mittel\",VLOOKUP(I368,'Boden DüV-Bolap'!A:K,11,FALSE),IF(F368=\"schwer\",VLOOKUP(I368,'Boden DüV-Bolap'!A:R,15,FALSE))))))","v":""},{"$f":"IF(OR(J368=\"\",F368=\"\"),\"\",IF(J368>39,\"E\",IF(F368=\"leicht\",VLOOKUP(J368,'Boden DüV-Bolap'!A:AA,19,FALSE),IF(F368=\"mittel\",VLOOKUP(J368,'Boden DüV-Bolap'!A:AA,23,FALSE),IF(F368=\"schwer\",VLOOKUP(J368,'Boden DüV-Bolap'!A:AA,27,FALSE))))))","v":""}]
[365,null,null,null,null,null,null,null,null,null,null,null,null,null,null,null,null,{"$f":"IF(H369=\"\",\"\",IF(H369>39,\"E\",VLOOKUP(H369,'Boden DüV-Bolap'!A:B,2,FALSE)))","v":""},{"$f":"IF(OR(I369=\"\",F369=\"\"),\"\",IF(I369>39,\"E\",IF(F369=\"leicht\",VLOOKUP(I369,'Boden DüV-Bolap'!A:Q,7,FALSE),IF(F369=\"mittel\",VLOOKUP(I369,'Boden DüV-Bolap'!A:K,11,FALSE),IF(F369=\"schwer\",VLOOKUP(I369,'Boden DüV-Bolap'!A:R,15,FALSE))))))","v":""},{"$f":"IF(OR(J369=\"\",F369=\"\"),\"\",IF(J369>39,\"E\",IF(F369=\"leicht\",VLOOKUP(J369,'Boden DüV-Bolap'!A:AA,19,FALSE),IF(F369=\"mittel\",VLOOKUP(J369,'Boden DüV-Bolap'!A:AA,23,FALSE),IF(F369=\"schwer\",VLOOKUP(J369,'Boden DüV-Bolap'!A:AA,27,FALSE))))))","v":""}]
[366,null,null,null,null,null,null,null,null,null,null,null,null,null,null,null,null,{"$f":"IF(H370=\"\",\"\",IF(H370>39,\"E\",VLOOKUP(H370,'Boden DüV-Bolap'!A:B,2,FALSE)))","v":""},{"$f":"IF(OR(I370=\"\",F370=\"\"),\"\",IF(I370>39,\"E\",IF(F370=\"leicht\",VLOOKUP(I370,'Boden DüV-Bolap'!A:Q,7,FALSE),IF(F370=\"mittel\",VLOOKUP(I370,'Boden DüV-Bolap'!A:K,11,FALSE),IF(F370=\"schwer\",VLOOKUP(I370,'Boden DüV-Bolap'!A:R,15,FALSE))))))","v":""},{"$f":"IF(OR(J370=\"\",F370=\"\"),\"\",IF(J370>39,\"E\",IF(F370=\"leicht\",VLOOKUP(J370,'Boden DüV-Bolap'!A:AA,19,FALSE),IF(F370=\"mittel\",VLOOKUP(J370,'Boden DüV-Bolap'!A:AA,23,FALSE),IF(F370=\"schwer\",VLOOKUP(J370,'Boden DüV-Bolap'!A:AA,27,FALSE))))))","v":""}]
[367,null,null,null,null,null,null,null,null,null,null,null,null,null,null,null,null,{"$f":"IF(H371=\"\",\"\",IF(H371>39,\"E\",VLOOKUP(H371,'Boden DüV-Bolap'!A:B,2,FALSE)))","v":""},{"$f":"IF(OR(I371=\"\",F371=\"\"),\"\",IF(I371>39,\"E\",IF(F371=\"leicht\",VLOOKUP(I371,'Boden DüV-Bolap'!A:Q,7,FALSE),IF(F371=\"mittel\",VLOOKUP(I371,'Boden DüV-Bolap'!A:K,11,FALSE),IF(F371=\"schwer\",VLOOKUP(I371,'Boden DüV-Bolap'!A:R,15,FALSE))))))","v":""},{"$f":"IF(OR(J371=\"\",F371=\"\"),\"\",IF(J371>39,\"E\",IF(F371=\"leicht\",VLOOKUP(J371,'Boden DüV-Bolap'!A:AA,19,FALSE),IF(F371=\"mittel\",VLOOKUP(J371,'Boden DüV-Bolap'!A:AA,23,FALSE),IF(F371=\"schwer\",VLOOKUP(J371,'Boden DüV-Bolap'!A:AA,27,FALSE))))))","v":""}]
[368,null,null,null,null,null,null,null,null,null,null,null,null,null,null,null,null,{"$f":"IF(H372=\"\",\"\",IF(H372>39,\"E\",VLOOKUP(H372,'Boden DüV-Bolap'!A:B,2,FALSE)))","v":""},{"$f":"IF(OR(I372=\"\",F372=\"\"),\"\",IF(I372>39,\"E\",IF(F372=\"leicht\",VLOOKUP(I372,'Boden DüV-Bolap'!A:Q,7,FALSE),IF(F372=\"mittel\",VLOOKUP(I372,'Boden DüV-Bolap'!A:K,11,FALSE),IF(F372=\"schwer\",VLOOKUP(I372,'Boden DüV-Bolap'!A:R,15,FALSE))))))","v":""},{"$f":"IF(OR(J372=\"\",F372=\"\"),\"\",IF(J372>39,\"E\",IF(F372=\"leicht\",VLOOKUP(J372,'Boden DüV-Bolap'!A:AA,19,FALSE),IF(F372=\"mittel\",VLOOKUP(J372,'Boden DüV-Bolap'!A:AA,23,FALSE),IF(F372=\"schwer\",VLOOKUP(J372,'Boden DüV-Bolap'!A:AA,27,FALSE))))))","v":""}]
[369,null,null,null,null,null,null,null,null,null,null,null,null,null,null,null,null,{"$f":"IF(H373=\"\",\"\",IF(H373>39,\"E\",VLOOKUP(H373,'Boden DüV-Bolap'!A:B,2,FALSE)))","v":""},{"$f":"IF(OR(I373=\"\",F373=\"\"),\"\",IF(I373>39,\"E\",IF(F373=\"leicht\",VLOOKUP(I373,'Boden DüV-Bolap'!A:Q,7,FALSE),IF(F373=\"mittel\",VLOOKUP(I373,'Boden DüV-Bolap'!A:K,11,FALSE),IF(F373=\"schwer\",VLOOKUP(I373,'Boden DüV-Bolap'!A:R,15,FALSE))))))","v":""},{"$f":"IF(OR(J373=\"\",F373=\"\"),\"\",IF(J373>39,\"E\",IF(F373=\"leicht\",VLOOKUP(J373,'Boden DüV-Bolap'!A:AA,19,FALSE),IF(F373=\"mittel\",VLOOKUP(J373,'Boden DüV-Bolap'!A:AA,23,FALSE),IF(F373=\"schwer\",VLOOKUP(J373,'Boden DüV-Bolap'!A:AA,27,FALSE))))))","v":""}]
[370,null,null,null,null,null,null,null,null,null,null,null,null,null,null,null,null,{"$f":"IF(H374=\"\",\"\",IF(H374>39,\"E\",VLOOKUP(H374,'Boden DüV-Bolap'!A:B,2,FALSE)))","v":""},{"$f":"IF(OR(I374=\"\",F374=\"\"),\"\",IF(I374>39,\"E\",IF(F374=\"leicht\",VLOOKUP(I374,'Boden DüV-Bolap'!A:Q,7,FALSE),IF(F374=\"mittel\",VLOOKUP(I374,'Boden DüV-Bolap'!A:K,11,FALSE),IF(F374=\"schwer\",VLOOKUP(I374,'Boden DüV-Bolap'!A:R,15,FALSE))))))","v":""},{"$f":"IF(OR(J374=\"\",F374=\"\"),\"\",IF(J374>39,\"E\",IF(F374=\"leicht\",VLOOKUP(J374,'Boden DüV-Bolap'!A:AA,19,FALSE),IF(F374=\"mittel\",VLOOKUP(J374,'Boden DüV-Bolap'!A:AA,23,FALSE),IF(F374=\"schwer\",VLOOKUP(J374,'Boden DüV-Bolap'!A:AA,27,FALSE))))))","v":""}]
[371,null,null,null,null,null,null,null,null,null,null,null,null,null,null,null,null,{"$f":"IF(H375=\"\",\"\",IF(H375>39,\"E\",VLOOKUP(H375,'Boden DüV-Bolap'!A:B,2,FALSE)))","v":""},{"$f":"IF(OR(I375=\"\",F375=\"\"),\"\",IF(I375>39,\"E\",IF(F375=\"leicht\",VLOOKUP(I375,'Boden DüV-Bolap'!A:Q,7,FALSE),IF(F375=\"mittel\",VLOOKUP(I375,'Boden DüV-Bolap'!A:K,11,FALSE),IF(F375=\"schwer\",VLOOKUP(I375,'Boden DüV-Bolap'!A:R,15,FALSE))))))","v":""},{"$f":"IF(OR(J375=\"\",F375=\"\"),\"\",IF(J375>39,\"E\",IF(F375=\"leicht\",VLOOKUP(J375,'Boden DüV-Bolap'!A:AA,19,FALSE),IF(F375=\"mittel\",VLOOKUP(J375,'Boden DüV-Bolap'!A:AA,23,FALSE),IF(F375=\"schwer\",VLOOKUP(J375,'Boden DüV-Bolap'!A:AA,27,FALSE))))))","v":""}]
[372,null,null,null,null,null,null,null,null,null,null,null,null,null,null,null,null,{"$f":"IF(H376=\"\",\"\",IF(H376>39,\"E\",VLOOKUP(H376,'Boden DüV-Bolap'!A:B,2,FALSE)))","v":""},{"$f":"IF(OR(I376=\"\",F376=\"\"),\"\",IF(I376>39,\"E\",IF(F376=\"leicht\",VLOOKUP(I376,'Boden DüV-Bolap'!A:Q,7,FALSE),IF(F376=\"mittel\",VLOOKUP(I376,'Boden DüV-Bolap'!A:K,11,FALSE),IF(F376=\"schwer\",VLOOKUP(I376,'Boden DüV-Bolap'!A:R,15,FALSE))))))","v":""},{"$f":"IF(OR(J376=\"\",F376=\"\"),\"\",IF(J376>39,\"E\",IF(F376=\"leicht\",VLOOKUP(J376,'Boden DüV-Bolap'!A:AA,19,FALSE),IF(F376=\"mittel\",VLOOKUP(J376,'Boden DüV-Bolap'!A:AA,23,FALSE),IF(F376=\"schwer\",VLOOKUP(J376,'Boden DüV-Bolap'!A:AA,27,FALSE))))))","v":""}]
[373,null,null,null,null,null,null,null,null,null,null,null,null,null,null,null,null,{"$f":"IF(H377=\"\",\"\",IF(H377>39,\"E\",VLOOKUP(H377,'Boden DüV-Bolap'!A:B,2,FALSE)))","v":""},{"$f":"IF(OR(I377=\"\",F377=\"\"),\"\",IF(I377>39,\"E\",IF(F377=\"leicht\",VLOOKUP(I377,'Boden DüV-Bolap'!A:Q,7,FALSE),IF(F377=\"mittel\",VLOOKUP(I377,'Boden DüV-Bolap'!A:K,11,FALSE),IF(F377=\"schwer\",VLOOKUP(I377,'Boden DüV-Bolap'!A:R,15,FALSE))))))","v":""},{"$f":"IF(OR(J377=\"\",F377=\"\"),\"\",IF(J377>39,\"E\",IF(F377=\"leicht\",VLOOKUP(J377,'Boden DüV-Bolap'!A:AA,19,FALSE),IF(F377=\"mittel\",VLOOKUP(J377,'Boden DüV-Bolap'!A:AA,23,FALSE),IF(F377=\"schwer\",VLOOKUP(J377,'Boden DüV-Bolap'!A:AA,27,FALSE))))))","v":""}]
[374,null,null,null,null,null,null,null,null,null,null,null,null,null,null,null,null,{"$f":"IF(H378=\"\",\"\",IF(H378>39,\"E\",VLOOKUP(H378,'Boden DüV-Bolap'!A:B,2,FALSE)))","v":""},{"$f":"IF(OR(I378=\"\",F378=\"\"),\"\",IF(I378>39,\"E\",IF(F378=\"leicht\",VLOOKUP(I378,'Boden DüV-Bolap'!A:Q,7,FALSE),IF(F378=\"mittel\",VLOOKUP(I378,'Boden DüV-Bolap'!A:K,11,FALSE),IF(F378=\"schwer\",VLOOKUP(I378,'Boden DüV-Bolap'!A:R,15,FALSE))))))","v":""},{"$f":"IF(OR(J378=\"\",F378=\"\"),\"\",IF(J378>39,\"E\",IF(F378=\"leicht\",VLOOKUP(J378,'Boden DüV-Bolap'!A:AA,19,FALSE),IF(F378=\"mittel\",VLOOKUP(J378,'Boden DüV-Bolap'!A:AA,23,FALSE),IF(F378=\"schwer\",VLOOKUP(J378,'Boden DüV-Bolap'!A:AA,27,FALSE))))))","v":""}]
[375,null,null,null,null,null,null,null,null,null,null,null,null,null,null,null,null,{"$f":"IF(H379=\"\",\"\",IF(H379>39,\"E\",VLOOKUP(H379,'Boden DüV-Bolap'!A:B,2,FALSE)))","v":""},{"$f":"IF(OR(I379=\"\",F379=\"\"),\"\",IF(I379>39,\"E\",IF(F379=\"leicht\",VLOOKUP(I379,'Boden DüV-Bolap'!A:Q,7,FALSE),IF(F379=\"mittel\",VLOOKUP(I379,'Boden DüV-Bolap'!A:K,11,FALSE),IF(F379=\"schwer\",VLOOKUP(I379,'Boden DüV-Bolap'!A:R,15,FALSE))))))","v":""},{"$f":"IF(OR(J379=\"\",F379=\"\"),\"\",IF(J379>39,\"E\",IF(F379=\"leicht\",VLOOKUP(J379,'Boden DüV-Bolap'!A:AA,19,FALSE),IF(F379=\"mittel\",VLOOKUP(J379,'Boden DüV-Bolap'!A:AA,23,FALSE),IF(F379=\"schwer\",VLOOKUP(J379,'Boden DüV-Bolap'!A:AA,27,FALSE))))))","v":""}]
[376,null,null,null,null,null,null,null,null,null,null,null,null,null,null,null,null,{"$f":"IF(H380=\"\",\"\",IF(H380>39,\"E\",VLOOKUP(H380,'Boden DüV-Bolap'!A:B,2,FALSE)))","v":""},{"$f":"IF(OR(I380=\"\",F380=\"\"),\"\",IF(I380>39,\"E\",IF(F380=\"leicht\",VLOOKUP(I380,'Boden DüV-Bolap'!A:Q,7,FALSE),IF(F380=\"mittel\",VLOOKUP(I380,'Boden DüV-Bolap'!A:K,11,FALSE),IF(F380=\"schwer\",VLOOKUP(I380,'Boden DüV-Bolap'!A:R,15,FALSE))))))","v":""},{"$f":"IF(OR(J380=\"\",F380=\"\"),\"\",IF(J380>39,\"E\",IF(F380=\"leicht\",VLOOKUP(J380,'Boden DüV-Bolap'!A:AA,19,FALSE),IF(F380=\"mittel\",VLOOKUP(J380,'Boden DüV-Bolap'!A:AA,23,FALSE),IF(F380=\"schwer\",VLOOKUP(J380,'Boden DüV-Bolap'!A:AA,27,FALSE))))))","v":""}]
[377,null,null,null,null,null,null,null,null,null,null,null,null,null,null,null,null,{"$f":"IF(H381=\"\",\"\",IF(H381>39,\"E\",VLOOKUP(H381,'Boden DüV-Bolap'!A:B,2,FALSE)))","v":""},{"$f":"IF(OR(I381=\"\",F381=\"\"),\"\",IF(I381>39,\"E\",IF(F381=\"leicht\",VLOOKUP(I381,'Boden DüV-Bolap'!A:Q,7,FALSE),IF(F381=\"mittel\",VLOOKUP(I381,'Boden DüV-Bolap'!A:K,11,FALSE),IF(F381=\"schwer\",VLOOKUP(I381,'Boden DüV-Bolap'!A:R,15,FALSE))))))","v":""},{"$f":"IF(OR(J381=\"\",F381=\"\"),\"\",IF(J381>39,\"E\",IF(F381=\"leicht\",VLOOKUP(J381,'Boden DüV-Bolap'!A:AA,19,FALSE),IF(F381=\"mittel\",VLOOKUP(J381,'Boden DüV-Bolap'!A:AA,23,FALSE),IF(F381=\"schwer\",VLOOKUP(J381,'Boden DüV-Bolap'!A:AA,27,FALSE))))))","v":""}]
[378,null,null,null,null,null,null,null,null,null,null,null,null,null,null,null,null,{"$f":"IF(H382=\"\",\"\",IF(H382>39,\"E\",VLOOKUP(H382,'Boden DüV-Bolap'!A:B,2,FALSE)))","v":""},{"$f":"IF(OR(I382=\"\",F382=\"\"),\"\",IF(I382>39,\"E\",IF(F382=\"leicht\",VLOOKUP(I382,'Boden DüV-Bolap'!A:Q,7,FALSE),IF(F382=\"mittel\",VLOOKUP(I382,'Boden DüV-Bolap'!A:K,11,FALSE),IF(F382=\"schwer\",VLOOKUP(I382,'Boden DüV-Bolap'!A:R,15,FALSE))))))","v":""},{"$f":"IF(OR(J382=\"\",F382=\"\"),\"\",IF(J382>39,\"E\",IF(F382=\"leicht\",VLOOKUP(J382,'Boden DüV-Bolap'!A:AA,19,FALSE),IF(F382=\"mittel\",VLOOKUP(J382,'Boden DüV-Bolap'!A:AA,23,FALSE),IF(F382=\"schwer\",VLOOKUP(J382,'Boden DüV-Bolap'!A:AA,27,FALSE))))))","v":""}]
[379,null,null,null,null,null,null,null,null,null,null,null,null,null,null,null,null,{"$f":"IF(H383=\"\",\"\",IF(H383>39,\"E\",VLOOKUP(H383,'Boden DüV-Bolap'!A:B,2,FALSE)))","v":""},{"$f":"IF(OR(I383=\"\",F383=\"\"),\"\",IF(I383>39,\"E\",IF(F383=\"leicht\",VLOOKUP(I383,'Boden DüV-Bolap'!A:Q,7,FALSE),IF(F383=\"mittel\",VLOOKUP(I383,'Boden DüV-Bolap'!A:K,11,FALSE),IF(F383=\"schwer\",VLOOKUP(I383,'Boden DüV-Bolap'!A:R,15,FALSE))))))","v":""},{"$f":"IF(OR(J383=\"\",F383=\"\"),\"\",IF(J383>39,\"E\",IF(F383=\"leicht\",VLOOKUP(J383,'Boden DüV-Bolap'!A:AA,19,FALSE),IF(F383=\"mittel\",VLOOKUP(J383,'Boden DüV-Bolap'!A:AA,23,FALSE),IF(F383=\"schwer\",VLOOKUP(J383,'Boden DüV-Bolap'!A:AA,27,FALSE))))))","v":""}]
[380,null,null,null,null,null,null,null,null,null,null,null,null,null,null,null,null,{"$f":"IF(H384=\"\",\"\",IF(H384>39,\"E\",VLOOKUP(H384,'Boden DüV-Bolap'!A:B,2,FALSE)))","v":""},{"$f":"IF(OR(I384=\"\",F384=\"\"),\"\",IF(I384>39,\"E\",IF(F384=\"leicht\",VLOOKUP(I384,'Boden DüV-Bolap'!A:Q,7,FALSE),IF(F384=\"mittel\",VLOOKUP(I384,'Boden DüV-Bolap'!A:K,11,FALSE),IF(F384=\"schwer\",VLOOKUP(I384,'Boden DüV-Bolap'!A:R,15,FALSE))))))","v":""},{"$f":"IF(OR(J384=\"\",F384=\"\"),\"\",IF(J384>39,\"E\",IF(F384=\"leicht\",VLOOKUP(J384,'Boden DüV-Bolap'!A:AA,19,FALSE),IF(F384=\"mittel\",VLOOKUP(J384,'Boden DüV-Bolap'!A:AA,23,FALSE),IF(F384=\"schwer\",VLOOKUP(J384,'Boden DüV-Bolap'!A:AA,27,FALSE))))))","v":""}]
[381,null,null,null,null,null,null,null,null,null,null,null,null,null,null,null,null,{"$f":"IF(H385=\"\",\"\",IF(H385>39,\"E\",VLOOKUP(H385,'Boden DüV-Bolap'!A:B,2,FALSE)))","v":""},{"$f":"IF(OR(I385=\"\",F385=\"\"),\"\",IF(I385>39,\"E\",IF(F385=\"leicht\",VLOOKUP(I385,'Boden DüV-Bolap'!A:Q,7,FALSE),IF(F385=\"mittel\",VLOOKUP(I385,'Boden DüV-Bolap'!A:K,11,FALSE),IF(F385=\"schwer\",VLOOKUP(I385,'Boden DüV-Bolap'!A:R,15,FALSE))))))","v":""},{"$f":"IF(OR(J385=\"\",F385=\"\"),\"\",IF(J385>39,\"E\",IF(F385=\"leicht\",VLOOKUP(J385,'Boden DüV-Bolap'!A:AA,19,FALSE),IF(F385=\"mittel\",VLOOKUP(J385,'Boden DüV-Bolap'!A:AA,23,FALSE),IF(F385=\"schwer\",VLOOKUP(J385,'Boden DüV-Bolap'!A:AA,27,FALSE))))))","v":""}]
[382,null,null,null,null,null,null,null,null,null,null,null,null,null,null,null,null,{"$f":"IF(H386=\"\",\"\",IF(H386>39,\"E\",VLOOKUP(H386,'Boden DüV-Bolap'!A:B,2,FALSE)))","v":""},{"$f":"IF(OR(I386=\"\",F386=\"\"),\"\",IF(I386>39,\"E\",IF(F386=\"leicht\",VLOOKUP(I386,'Boden DüV-Bolap'!A:Q,7,FALSE),IF(F386=\"mittel\",VLOOKUP(I386,'Boden DüV-Bolap'!A:K,11,FALSE),IF(F386=\"schwer\",VLOOKUP(I386,'Boden DüV-Bolap'!A:R,15,FALSE))))))","v":""},{"$f":"IF(OR(J386=\"\",F386=\"\"),\"\",IF(J386>39,\"E\",IF(F386=\"leicht\",VLOOKUP(J386,'Boden DüV-Bolap'!A:AA,19,FALSE),IF(F386=\"mittel\",VLOOKUP(J386,'Boden DüV-Bolap'!A:AA,23,FALSE),IF(F386=\"schwer\",VLOOKUP(J386,'Boden DüV-Bolap'!A:AA,27,FALSE))))))","v":""}]
[383,null,null,null,null,null,null,null,null,null,null,null,null,null,null,null,null,{"$f":"IF(H387=\"\",\"\",IF(H387>39,\"E\",VLOOKUP(H387,'Boden DüV-Bolap'!A:B,2,FALSE)))","v":""},{"$f":"IF(OR(I387=\"\",F387=\"\"),\"\",IF(I387>39,\"E\",IF(F387=\"leicht\",VLOOKUP(I387,'Boden DüV-Bolap'!A:Q,7,FALSE),IF(F387=\"mittel\",VLOOKUP(I387,'Boden DüV-Bolap'!A:K,11,FALSE),IF(F387=\"schwer\",VLOOKUP(I387,'Boden DüV-Bolap'!A:R,15,FALSE))))))","v":""},{"$f":"IF(OR(J387=\"\",F387=\"\"),\"\",IF(J387>39,\"E\",IF(F387=\"leicht\",VLOOKUP(J387,'Boden DüV-Bolap'!A:AA,19,FALSE),IF(F387=\"mittel\",VLOOKUP(J387,'Boden DüV-Bolap'!A:AA,23,FALSE),IF(F387=\"schwer\",VLOOKUP(J387,'Boden DüV-Bolap'!A:AA,27,FALSE))))))","v":""}]
[384,null,null,null,null,null,null,null,null,null,null,null,null,null,null,null,null,{"$f":"IF(H388=\"\",\"\",IF(H388>39,\"E\",VLOOKUP(H388,'Boden DüV-Bolap'!A:B,2,FALSE)))","v":""},{"$f":"IF(OR(I388=\"\",F388=\"\"),\"\",IF(I388>39,\"E\",IF(F388=\"leicht\",VLOOKUP(I388,'Boden DüV-Bolap'!A:Q,7,FALSE),IF(F388=\"mittel\",VLOOKUP(I388,'Boden DüV-Bolap'!A:K,11,FALSE),IF(F388=\"schwer\",VLOOKUP(I388,'Boden DüV-Bolap'!A:R,15,FALSE))))))","v":""},{"$f":"IF(OR(J388=\"\",F388=\"\"),\"\",IF(J388>39,\"E\",IF(F388=\"leicht\",VLOOKUP(J388,'Boden DüV-Bolap'!A:AA,19,FALSE),IF(F388=\"mittel\",VLOOKUP(J388,'Boden DüV-Bolap'!A:AA,23,FALSE),IF(F388=\"schwer\",VLOOKUP(J388,'Boden DüV-Bolap'!A:AA,27,FALSE))))))","v":""}]
[385,null,null,null,null,null,null,null,null,null,null,null,null,null,null,null,null,{"$f":"IF(H389=\"\",\"\",IF(H389>39,\"E\",VLOOKUP(H389,'Boden DüV-Bolap'!A:B,2,FALSE)))","v":""},{"$f":"IF(OR(I389=\"\",F389=\"\"),\"\",IF(I389>39,\"E\",IF(F389=\"leicht\",VLOOKUP(I389,'Boden DüV-Bolap'!A:Q,7,FALSE),IF(F389=\"mittel\",VLOOKUP(I389,'Boden DüV-Bolap'!A:K,11,FALSE),IF(F389=\"schwer\",VLOOKUP(I389,'Boden DüV-Bolap'!A:R,15,FALSE))))))","v":""},{"$f":"IF(OR(J389=\"\",F389=\"\"),\"\",IF(J389>39,\"E\",IF(F389=\"leicht\",VLOOKUP(J389,'Boden DüV-Bolap'!A:AA,19,FALSE),IF(F389=\"mittel\",VLOOKUP(J389,'Boden DüV-Bolap'!A:AA,23,FALSE),IF(F389=\"schwer\",VLOOKUP(J389,'Boden DüV-Bolap'!A:AA,27,FALSE))))))","v":""}]
[386,null,null,null,null,null,null,null,null,null,null,null,null,null,null,null,null,{"$f":"IF(H390=\"\",\"\",IF(H390>39,\"E\",VLOOKUP(H390,'Boden DüV-Bolap'!A:B,2,FALSE)))","v":""},{"$f":"IF(OR(I390=\"\",F390=\"\"),\"\",IF(I390>39,\"E\",IF(F390=\"leicht\",VLOOKUP(I390,'Boden DüV-Bolap'!A:Q,7,FALSE),IF(F390=\"mittel\",VLOOKUP(I390,'Boden DüV-Bolap'!A:K,11,FALSE),IF(F390=\"schwer\",VLOOKUP(I390,'Boden DüV-Bolap'!A:R,15,FALSE))))))","v":""},{"$f":"IF(OR(J390=\"\",F390=\"\"),\"\",IF(J390>39,\"E\",IF(F390=\"leicht\",VLOOKUP(J390,'Boden DüV-Bolap'!A:AA,19,FALSE),IF(F390=\"mittel\",VLOOKUP(J390,'Boden DüV-Bolap'!A:AA,23,FALSE),IF(F390=\"schwer\",VLOOKUP(J390,'Boden DüV-Bolap'!A:AA,27,FALSE))))))","v":""}]
[387,null,null,null,null,null,null,null,null,null,null,null,null,null,null,null,null,{"$f":"IF(H391=\"\",\"\",IF(H391>39,\"E\",VLOOKUP(H391,'Boden DüV-Bolap'!A:B,2,FALSE)))","v":""},{"$f":"IF(OR(I391=\"\",F391=\"\"),\"\",IF(I391>39,\"E\",IF(F391=\"leicht\",VLOOKUP(I391,'Boden DüV-Bolap'!A:Q,7,FALSE),IF(F391=\"mittel\",VLOOKUP(I391,'Boden DüV-Bolap'!A:K,11,FALSE),IF(F391=\"schwer\",VLOOKUP(I391,'Boden DüV-Bolap'!A:R,15,FALSE))))))","v":""},{"$f":"IF(OR(J391=\"\",F391=\"\"),\"\",IF(J391>39,\"E\",IF(F391=\"leicht\",VLOOKUP(J391,'Boden DüV-Bolap'!A:AA,19,FALSE),IF(F391=\"mittel\",VLOOKUP(J391,'Boden DüV-Bolap'!A:AA,23,FALSE),IF(F391=\"schwer\",VLOOKUP(J391,'Boden DüV-Bolap'!A:AA,27,FALSE))))))","v":""}]
[388,null,null,null,null,null,null,null,null,null,null,null,null,null,null,null,null,{"$f":"IF(H392=\"\",\"\",IF(H392>39,\"E\",VLOOKUP(H392,'Boden DüV-Bolap'!A:B,2,FALSE)))","v":""},{"$f":"IF(OR(I392=\"\",F392=\"\"),\"\",IF(I392>39,\"E\",IF(F392=\"leicht\",VLOOKUP(I392,'Boden DüV-Bolap'!A:Q,7,FALSE),IF(F392=\"mittel\",VLOOKUP(I392,'Boden DüV-Bolap'!A:K,11,FALSE),IF(F392=\"schwer\",VLOOKUP(I392,'Boden DüV-Bolap'!A:R,15,FALSE))))))","v":""},{"$f":"IF(OR(J392=\"\",F392=\"\"),\"\",IF(J392>39,\"E\",IF(F392=\"leicht\",VLOOKUP(J392,'Boden DüV-Bolap'!A:AA,19,FALSE),IF(F392=\"mittel\",VLOOKUP(J392,'Boden DüV-Bolap'!A:AA,23,FALSE),IF(F392=\"schwer\",VLOOKUP(J392,'Boden DüV-Bolap'!A:AA,27,FALSE))))))","v":""}]
[389,null,null,null,null,null,null,null,null,null,null,null,null,null,null,null,null,{"$f":"IF(H393=\"\",\"\",IF(H393>39,\"E\",VLOOKUP(H393,'Boden DüV-Bolap'!A:B,2,FALSE)))","v":""},{"$f":"IF(OR(I393=\"\",F393=\"\"),\"\",IF(I393>39,\"E\",IF(F393=\"leicht\",VLOOKUP(I393,'Boden DüV-Bolap'!A:Q,7,FALSE),IF(F393=\"mittel\",VLOOKUP(I393,'Boden DüV-Bolap'!A:K,11,FALSE),IF(F393=\"schwer\",VLOOKUP(I393,'Boden DüV-Bolap'!A:R,15,FALSE))))))","v":""},{"$f":"IF(OR(J393=\"\",F393=\"\"),\"\",IF(J393>39,\"E\",IF(F393=\"leicht\",VLOOKUP(J393,'Boden DüV-Bolap'!A:AA,19,FALSE),IF(F393=\"mittel\",VLOOKUP(J393,'Boden DüV-Bolap'!A:AA,23,FALSE),IF(F393=\"schwer\",VLOOKUP(J393,'Boden DüV-Bolap'!A:AA,27,FALSE))))))","v":""}]
[390,null,null,null,null,null,null,null,null,null,null,null,null,null,null,null,null,{"$f":"IF(H394=\"\",\"\",IF(H394>39,\"E\",VLOOKUP(H394,'Boden DüV-Bolap'!A:B,2,FALSE)))","v":""},{"$f":"IF(OR(I394=\"\",F394=\"\"),\"\",IF(I394>39,\"E\",IF(F394=\"leicht\",VLOOKUP(I394,'Boden DüV-Bolap'!A:Q,7,FALSE),IF(F394=\"mittel\",VLOOKUP(I394,'Boden DüV-Bolap'!A:K,11,FALSE),IF(F394=\"schwer\",VLOOKUP(I394,'Boden DüV-Bolap'!A:R,15,FALSE))))))","v":""},{"$f":"IF(OR(J394=\"\",F394=\"\"),\"\",IF(J394>39,\"E\",IF(F394=\"leicht\",VLOOKUP(J394,'Boden DüV-Bolap'!A:AA,19,FALSE),IF(F394=\"mittel\",VLOOKUP(J394,'Boden DüV-Bolap'!A:AA,23,FALSE),IF(F394=\"schwer\",VLOOKUP(J394,'Boden DüV-Bolap'!A:AA,27,FALSE))))))","v":""}]
[391,null,null,null,null,null,null,null,null,null,null,null,null,null,null,null,null,{"$f":"IF(H395=\"\",\"\",IF(H395>39,\"E\",VLOOKUP(H395,'Boden DüV-Bolap'!A:B,2,FALSE)))","v":""},{"$f":"IF(OR(I395=\"\",F395=\"\"),\"\",IF(I395>39,\"E\",IF(F395=\"leicht\",VLOOKUP(I395,'Boden DüV-Bolap'!A:Q,7,FALSE),IF(F395=\"mittel\",VLOOKUP(I395,'Boden DüV-Bolap'!A:K,11,FALSE),IF(F395=\"schwer\",VLOOKUP(I395,'Boden DüV-Bolap'!A:R,15,FALSE))))))","v":""},{"$f":"IF(OR(J395=\"\",F395=\"\"),\"\",IF(J395>39,\"E\",IF(F395=\"leicht\",VLOOKUP(J395,'Boden DüV-Bolap'!A:AA,19,FALSE),IF(F395=\"mittel\",VLOOKUP(J395,'Boden DüV-Bolap'!A:AA,23,FALSE),IF(F395=\"schwer\",VLOOKUP(J395,'Boden DüV-Bolap'!A:AA,27,FALSE))))))","v":""}]
[392,null,null,null,null,null,null,null,null,null,null,null,null,null,null,null,null,{"$f":"IF(H396=\"\",\"\",IF(H396>39,\"E\",VLOOKUP(H396,'Boden DüV-Bolap'!A:B,2,FALSE)))","v":""},{"$f":"IF(OR(I396=\"\",F396=\"\"),\"\",IF(I396>39,\"E\",IF(F396=\"leicht\",VLOOKUP(I396,'Boden DüV-Bolap'!A:Q,7,FALSE),IF(F396=\"mittel\",VLOOKUP(I396,'Boden DüV-Bolap'!A:K,11,FALSE),IF(F396=\"schwer\",VLOOKUP(I396,'Boden DüV-Bolap'!A:R,15,FALSE))))))","v":""},{"$f":"IF(OR(J396=\"\",F396=\"\"),\"\",IF(J396>39,\"E\",IF(F396=\"leicht\",VLOOKUP(J396,'Boden DüV-Bolap'!A:AA,19,FALSE),IF(F396=\"mittel\",VLOOKUP(J396,'Boden DüV-Bolap'!A:AA,23,FALSE),IF(F396=\"schwer\",VLOOKUP(J396,'Boden DüV-Bolap'!A:AA,27,FALSE))))))","v":""}]
[393,null,null,null,null,null,null,null,null,null,null,null,null,null,null,null,null,{"$f":"IF(H397=\"\",\"\",IF(H397>39,\"E\",VLOOKUP(H397,'Boden DüV-Bolap'!A:B,2,FALSE)))","v":""},{"$f":"IF(OR(I397=\"\",F397=\"\"),\"\",IF(I397>39,\"E\",IF(F397=\"leicht\",VLOOKUP(I397,'Boden DüV-Bolap'!A:Q,7,FALSE),IF(F397=\"mittel\",VLOOKUP(I397,'Boden DüV-Bolap'!A:K,11,FALSE),IF(F397=\"schwer\",VLOOKUP(I397,'Boden DüV-Bolap'!A:R,15,FALSE))))))","v":""},{"$f":"IF(OR(J397=\"\",F397=\"\"),\"\",IF(J397>39,\"E\",IF(F397=\"leicht\",VLOOKUP(J397,'Boden DüV-Bolap'!A:AA,19,FALSE),IF(F397=\"mittel\",VLOOKUP(J397,'Boden DüV-Bolap'!A:AA,23,FALSE),IF(F397=\"schwer\",VLOOKUP(J397,'Boden DüV-Bolap'!A:AA,27,FALSE))))))","v":""}]
[394,null,null,null,null,null,null,null,null,null,null,null,null,null,null,null,null,{"$f":"IF(H398=\"\",\"\",IF(H398>39,\"E\",VLOOKUP(H398,'Boden DüV-Bolap'!A:B,2,FALSE)))","v":""},{"$f":"IF(OR(I398=\"\",F398=\"\"),\"\",IF(I398>39,\"E\",IF(F398=\"leicht\",VLOOKUP(I398,'Boden DüV-Bolap'!A:Q,7,FALSE),IF(F398=\"mittel\",VLOOKUP(I398,'Boden DüV-Bolap'!A:K,11,FALSE),IF(F398=\"schwer\",VLOOKUP(I398,'Boden DüV-Bolap'!A:R,15,FALSE))))))","v":""},{"$f":"IF(OR(J398=\"\",F398=\"\"),\"\",IF(J398>39,\"E\",IF(F398=\"leicht\",VLOOKUP(J398,'Boden DüV-Bolap'!A:AA,19,FALSE),IF(F398=\"mittel\",VLOOKUP(J398,'Boden DüV-Bolap'!A:AA,23,FALSE),IF(F398=\"schwer\",VLOOKUP(J398,'Boden DüV-Bolap'!A:AA,27,FALSE))))))","v":""}]
[395,null,null,null,null,null,null,null,null,null,null,null,null,null,null,null,null,{"$f":"IF(H399=\"\",\"\",IF(H399>39,\"E\",VLOOKUP(H399,'Boden DüV-Bolap'!A:B,2,FALSE)))","v":""},{"$f":"IF(OR(I399=\"\",F399=\"\"),\"\",IF(I399>39,\"E\",IF(F399=\"leicht\",VLOOKUP(I399,'Boden DüV-Bolap'!A:Q,7,FALSE),IF(F399=\"mittel\",VLOOKUP(I399,'Boden DüV-Bolap'!A:K,11,FALSE),IF(F399=\"schwer\",VLOOKUP(I399,'Boden DüV-Bolap'!A:R,15,FALSE))))))","v":""},{"$f":"IF(OR(J399=\"\",F399=\"\"),\"\",IF(J399>39,\"E\",IF(F399=\"leicht\",VLOOKUP(J399,'Boden DüV-Bolap'!A:AA,19,FALSE),IF(F399=\"mittel\",VLOOKUP(J399,'Boden DüV-Bolap'!A:AA,23,FALSE),IF(F399=\"schwer\",VLOOKUP(J399,'Boden DüV-Bolap'!A:AA,27,FALSE))))))","v":""}]
[396,null,null,null,null,null,null,null,null,null,null,null,null,null,null,null,null,{"$f":"IF(H400=\"\",\"\",IF(H400>39,\"E\",VLOOKUP(H400,'Boden DüV-Bolap'!A:B,2,FALSE)))","v":""},{"$f":"IF(OR(I400=\"\",F400=\"\"),\"\",IF(I400>39,\"E\",IF(F400=\"leicht\",VLOOKUP(I400,'Boden DüV-Bolap'!A:Q,7,FALSE),IF(F400=\"mittel\",VLOOKUP(I400,'Boden DüV-Bolap'!A:K,11,FALSE),IF(F400=\"schwer\",VLOOKUP(I400,'Boden DüV-Bolap'!A:R,15,FALSE))))))","v":""},{"$f":"IF(OR(J400=\"\",F400=\"\"),\"\",IF(J400>39,\"E\",IF(F400=\"leicht\",VLOOKUP(J400,'Boden DüV-Bolap'!A:AA,19,FALSE),IF(F400=\"mittel\",VLOOKUP(J400,'Boden DüV-Bolap'!A:AA,23,FALSE),IF(F400=\"schwer\",VLOOKUP(J400,'Boden DüV-Bolap'!A:AA,27,FALSE))))))","v":""}]
[397,null,null,null,null,null,null,null,null,null,null,null,null,null,null,null,null,{"$f":"IF(H401=\"\",\"\",IF(H401>39,\"E\",VLOOKUP(H401,'Boden DüV-Bolap'!A:B,2,FALSE)))","v":""},{"$f":"IF(OR(I401=\"\",F401=\"\"),\"\",IF(I401>39,\"E\",IF(F401=\"leicht\",VLOOKUP(I401,'Boden DüV-Bolap'!A:Q,7,FALSE),IF(F401=\"mittel\",VLOOKUP(I401,'Boden DüV-Bolap'!A:K,11,FALSE),IF(F401=\"schwer\",VLOOKUP(I401,'Boden DüV-Bolap'!A:R,15,FALSE))))))","v":""},{"$f":"IF(OR(J401=\"\",F401=\"\"),\"\",IF(J401>39,\"E\",IF(F401=\"leicht\",VLOOKUP(J401,'Boden DüV-Bolap'!A:AA,19,FALSE),IF(F401=\"mittel\",VLOOKUP(J401,'Boden DüV-Bolap'!A:AA,23,FALSE),IF(F401=\"schwer\",VLOOKUP(J401,'Boden DüV-Bolap'!A:AA,27,FALSE))))))","v":""}]
[398,null,null,null,null,null,null,null,null,null,null,null,null,null,null,null,null,{"$f":"IF(H402=\"\",\"\",IF(H402>39,\"E\",VLOOKUP(H402,'Boden DüV-Bolap'!A:B,2,FALSE)))","v":""},{"$f":"IF(OR(I402=\"\",F402=\"\"),\"\",IF(I402>39,\"E\",IF(F402=\"leicht\",VLOOKUP(I402,'Boden DüV-Bolap'!A:Q,7,FALSE),IF(F402=\"mittel\",VLOOKUP(I402,'Boden DüV-Bolap'!A:K,11,FALSE),IF(F402=\"schwer\",VLOOKUP(I402,'Boden DüV-Bolap'!A:R,15,FALSE))))))","v":""},{"$f":"IF(OR(J402=\"\",F402=\"\"),\"\",IF(J402>39,\"E\",IF(F402=\"leicht\",VLOOKUP(J402,'Boden DüV-Bolap'!A:AA,19,FALSE),IF(F402=\"mittel\",VLOOKUP(J402,'Boden DüV-Bolap'!A:AA,23,FALSE),IF(F402=\"schwer\",VLOOKUP(J402,'Boden DüV-Bolap'!A:AA,27,FALSE))))))","v":""}]
[399,null,null,null,null,null,null,null,null,null,null,null,null,null,null,null,null,{"$f":"IF(H403=\"\",\"\",IF(H403>39,\"E\",VLOOKUP(H403,'Boden DüV-Bolap'!A:B,2,FALSE)))","v":""},{"$f":"IF(OR(I403=\"\",F403=\"\"),\"\",IF(I403>39,\"E\",IF(F403=\"leicht\",VLOOKUP(I403,'Boden DüV-Bolap'!A:Q,7,FALSE),IF(F403=\"mittel\",VLOOKUP(I403,'Boden DüV-Bolap'!A:K,11,FALSE),IF(F403=\"schwer\",VLOOKUP(I403,'Boden DüV-Bolap'!A:R,15,FALSE))))))","v":""},{"$f":"IF(OR(J403=\"\",F403=\"\"),\"\",IF(J403>39,\"E\",IF(F403=\"leicht\",VLOOKUP(J403,'Boden DüV-Bolap'!A:AA,19,FALSE),IF(F403=\"mittel\",VLOOKUP(J403,'Boden DüV-Bolap'!A:AA,23,FALSE),IF(F403=\"schwer\",VLOOKUP(J403,'Boden DüV-Bolap'!A:AA,27,FALSE))))))","v":""}]
[400,null,null,null,null,null,null,null,null,null,null,null,null,null,null,null,null,{"$f":"IF(H404=\"\",\"\",IF(H404>39,\"E\",VLOOKUP(H404,'Boden DüV-Bolap'!A:B,2,FALSE)))","v":""},{"$f":"IF(OR(I404=\"\",F404=\"\"),\"\",IF(I404>39,\"E\",IF(F404=\"leicht\",VLOOKUP(I404,'Boden DüV-Bolap'!A:Q,7,FALSE),IF(F404=\"mittel\",VLOOKUP(I404,'Boden DüV-Bolap'!A:K,11,FALSE),IF(F404=\"schwer\",VLOOKUP(I404,'Boden DüV-Bolap'!A:R,15,FALSE))))))","v":""},{"$f":"IF(OR(J404=\"\",F404=\"\"),\"\",IF(J404>39,\"E\",IF(F404=\"leicht\",VLOOKUP(J404,'Boden DüV-Bolap'!A:AA,19,FALSE),IF(F404=\"mittel\",VLOOKUP(J404,'Boden DüV-Bolap'!A:AA,23,FALSE),IF(F404=\"schwer\",VLOOKUP(J404,'Boden DüV-Bolap'!A:AA,27,FALSE))))))","v":""}]
[401,null,null,null,null,null,null,null,null,null,null,null,null,null,null,null,null,{"$f":"IF(H405=\"\",\"\",IF(H405>39,\"E\",VLOOKUP(H405,'Boden DüV-Bolap'!A:B,2,FALSE)))","v":""},{"$f":"IF(OR(I405=\"\",F405=\"\"),\"\",IF(I405>39,\"E\",IF(F405=\"leicht\",VLOOKUP(I405,'Boden DüV-Bolap'!A:Q,7,FALSE),IF(F405=\"mittel\",VLOOKUP(I405,'Boden DüV-Bolap'!A:K,11,FALSE),IF(F405=\"schwer\",VLOOKUP(I405,'Boden DüV-Bolap'!A:R,15,FALSE))))))","v":""},{"$f":"IF(OR(J405=\"\",F405=\"\"),\"\",IF(J405>39,\"E\",IF(F405=\"leicht\",VLOOKUP(J405,'Boden DüV-Bolap'!A:AA,19,FALSE),IF(F405=\"mittel\",VLOOKUP(J405,'Boden DüV-Bolap'!A:AA,23,FALSE),IF(F405=\"schwer\",VLOOKUP(J405,'Boden DüV-Bolap'!A:AA,27,FALSE))))))","v":""}]
[402,null,null,null,null,null,null,null,null,null,null,null,null,null,null,null,null,{"$f":"IF(H406=\"\",\"\",IF(H406>39,\"E\",VLOOKUP(H406,'Boden DüV-Bolap'!A:B,2,FALSE)))","v":""},{"$f":"IF(OR(I406=\"\",F406=\"\"),\"\",IF(I406>39,\"E\",IF(F406=\"leicht\",VLOOKUP(I406,'Boden DüV-Bolap'!A:Q,7,FALSE),IF(F406=\"mittel\",VLOOKUP(I406,'Boden DüV-Bolap'!A:K,11,FALSE),IF(F406=\"schwer\",VLOOKUP(I406,'Boden DüV-Bolap'!A:R,15,FALSE))))))","v":""},{"$f":"IF(OR(J406=\"\",F406=\"\"),\"\",IF(J406>39,\"E\",IF(F406=\"leicht\",VLOOKUP(J406,'Boden DüV-Bolap'!A:AA,19,FALSE),IF(F406=\"mittel\",VLOOKUP(J406,'Boden DüV-Bolap'!A:AA,23,FALSE),IF(F406=\"schwer\",VLOOKUP(J406,'Boden DüV-Bolap'!A:AA,27,FALSE))))))","v":""}]
[403,null,null,null,null,null,null,null,null,null,null,null,null,null,null,null,null,{"$f":"IF(H407=\"\",\"\",IF(H407>39,\"E\",VLOOKUP(H407,'Boden DüV-Bolap'!A:B,2,FALSE)))","v":""},{"$f":"IF(OR(I407=\"\",F407=\"\"),\"\",IF(I407>39,\"E\",IF(F407=\"leicht\",VLOOKUP(I407,'Boden DüV-Bolap'!A:Q,7,FALSE),IF(F407=\"mittel\",VLOOKUP(I407,'Boden DüV-Bolap'!A:K,11,FALSE),IF(F407=\"schwer\",VLOOKUP(I407,'Boden DüV-Bolap'!A:R,15,FALSE))))))","v":""},{"$f":"IF(OR(J407=\"\",F407=\"\"),\"\",IF(J407>39,\"E\",IF(F407=\"leicht\",VLOOKUP(J407,'Boden DüV-Bolap'!A:AA,19,FALSE),IF(F407=\"mittel\",VLOOKUP(J407,'Boden DüV-Bolap'!A:AA,23,FALSE),IF(F407=\"schwer\",VLOOKUP(J407,'Boden DüV-Bolap'!A:AA,27,FALSE))))))","v":""}]
[404,null,null,null,null,null,null,null,null,null,null,null,null,null,null,null,null,{"$f":"IF(H408=\"\",\"\",IF(H408>39,\"E\",VLOOKUP(H408,'Boden DüV-Bolap'!A:B,2,FALSE)))","v":""},{"$f":"IF(OR(I408=\"\",F408=\"\"),\"\",IF(I408>39,\"E\",IF(F408=\"leicht\",VLOOKUP(I408,'Boden DüV-Bolap'!A:Q,7,FALSE),IF(F408=\"mittel\",VLOOKUP(I408,'Boden DüV-Bolap'!A:K,11,FALSE),IF(F408=\"schwer\",VLOOKUP(I408,'Boden DüV-Bolap'!A:R,15,FALSE))))))","v":""},{"$f":"IF(OR(J408=\"\",F408=\"\"),\"\",IF(J408>39,\"E\",IF(F408=\"leicht\",VLOOKUP(J408,'Boden DüV-Bolap'!A:AA,19,FALSE),IF(F408=\"mittel\",VLOOKUP(J408,'Boden DüV-Bolap'!A:AA,23,FALSE),IF(F408=\"schwer\",VLOOKUP(J408,'Boden DüV-Bolap'!A:AA,27,FALSE))))))","v":""}]
[405,null,null,null,null,null,null,null,null,null,null,null,null,null,null,null,null,{"$f":"IF(H409=\"\",\"\",IF(H409>39,\"E\",VLOOKUP(H409,'Boden DüV-Bolap'!A:B,2,FALSE)))","v":""},{"$f":"IF(OR(I409=\"\",F409=\"\"),\"\",IF(I409>39,\"E\",IF(F409=\"leicht\",VLOOKUP(I409,'Boden DüV-Bolap'!A:Q,7,FALSE),IF(F409=\"mittel\",VLOOKUP(I409,'Boden DüV-Bolap'!A:K,11,FALSE),IF(F409=\"schwer\",VLOOKUP(I409,'Boden DüV-Bolap'!A:R,15,FALSE))))))","v":""},{"$f":"IF(OR(J409=\"\",F409=\"\"),\"\",IF(J409>39,\"E\",IF(F409=\"leicht\",VLOOKUP(J409,'Boden DüV-Bolap'!A:AA,19,FALSE),IF(F409=\"mittel\",VLOOKUP(J409,'Boden DüV-Bolap'!A:AA,23,FALSE),IF(F409=\"schwer\",VLOOKUP(J409,'Boden DüV-Bolap'!A:AA,27,FALSE))))))","v":""}]
[406,null,null,null,null,null,null,null,null,null,null,null,null,null,null,null,null,{"$f":"IF(H410=\"\",\"\",IF(H410>39,\"E\",VLOOKUP(H410,'Boden DüV-Bolap'!A:B,2,FALSE)))","v":""},{"$f":"IF(OR(I410=\"\",F410=\"\"),\"\",IF(I410>39,\"E\",IF(F410=\"leicht\",VLOOKUP(I410,'Boden DüV-Bolap'!A:Q,7,FALSE),IF(F410=\"mittel\",VLOOKUP(I410,'Boden DüV-Bolap'!A:K,11,FALSE),IF(F410=\"schwer\",VLOOKUP(I410,'Boden DüV-Bolap'!A:R,15,FALSE))))))","v":""},{"$f":"IF(OR(J410=\"\",F410=\"\"),\"\",IF(J410>39,\"E\",IF(F410=\"leicht\",VLOOKUP(J410,'Boden DüV-Bolap'!A:AA,19,FALSE),IF(F410=\"mittel\",VLOOKUP(J410,'Boden DüV-Bolap'!A:AA,23,FALSE),IF(F410=\"schwer\",VLOOKUP(J410,'Boden DüV-Bolap'!A:AA,27,FALSE))))))","v":""}]
[407,null,null,null,null,null,null,null,null,null,null,null,null,null,null,null,null,{"$f":"IF(H411=\"\",\"\",IF(H411>39,\"E\",VLOOKUP(H411,'Boden DüV-Bolap'!A:B,2,FALSE)))","v":""},{"$f":"IF(OR(I411=\"\",F411=\"\"),\"\",IF(I411>39,\"E\",IF(F411=\"leicht\",VLOOKUP(I411,'Boden DüV-Bolap'!A:Q,7,FALSE),IF(F411=\"mittel\",VLOOKUP(I411,'Boden DüV-Bolap'!A:K,11,FALSE),IF(F411=\"schwer\",VLOOKUP(I411,'Boden DüV-Bolap'!A:R,15,FALSE))))))","v":""},{"$f":"IF(OR(J411=\"\",F411=\"\"),\"\",IF(J411>39,\"E\",IF(F411=\"leicht\",VLOOKUP(J411,'Boden DüV-Bolap'!A:AA,19,FALSE),IF(F411=\"mittel\",VLOOKUP(J411,'Boden DüV-Bolap'!A:AA,23,FALSE),IF(F411=\"schwer\",VLOOKUP(J411,'Boden DüV-Bolap'!A:AA,27,FALSE))))))","v":""}]
[408,null,null,null,null,null,null,null,null,null,null,null,null,null,null,null,null,{"$f":"IF(H412=\"\",\"\",IF(H412>39,\"E\",VLOOKUP(H412,'Boden DüV-Bolap'!A:B,2,FALSE)))","v":""},{"$f":"IF(OR(I412=\"\",F412=\"\"),\"\",IF(I412>39,\"E\",IF(F412=\"leicht\",VLOOKUP(I412,'Boden DüV-Bolap'!A:Q,7,FALSE),IF(F412=\"mittel\",VLOOKUP(I412,'Boden DüV-Bolap'!A:K,11,FALSE),IF(F412=\"schwer\",VLOOKUP(I412,'Boden DüV-Bolap'!A:R,15,FALSE))))))","v":""},{"$f":"IF(OR(J412=\"\",F412=\"\"),\"\",IF(J412>39,\"E\",IF(F412=\"leicht\",VLOOKUP(J412,'Boden DüV-Bolap'!A:AA,19,FALSE),IF(F412=\"mittel\",VLOOKUP(J412,'Boden DüV-Bolap'!A:AA,23,FALSE),IF(F412=\"schwer\",VLOOKUP(J412,'Boden DüV-Bolap'!A:AA,27,FALSE))))))","v":""}]
[409,null,null,null,null,null,null,null,null,null,null,null,null,null,null,null,null,{"$f":"IF(H413=\"\",\"\",IF(H413>39,\"E\",VLOOKUP(H413,'Boden DüV-Bolap'!A:B,2,FALSE)))","v":""},{"$f":"IF(OR(I413=\"\",F413=\"\"),\"\",IF(I413>39,\"E\",IF(F413=\"leicht\",VLOOKUP(I413,'Boden DüV-Bolap'!A:Q,7,FALSE),IF(F413=\"mittel\",VLOOKUP(I413,'Boden DüV-Bolap'!A:K,11,FALSE),IF(F413=\"schwer\",VLOOKUP(I413,'Boden DüV-Bolap'!A:R,15,FALSE))))))","v":""},{"$f":"IF(OR(J413=\"\",F413=\"\"),\"\",IF(J413>39,\"E\",IF(F413=\"leicht\",VLOOKUP(J413,'Boden DüV-Bolap'!A:AA,19,FALSE),IF(F413=\"mittel\",VLOOKUP(J413,'Boden DüV-Bolap'!A:AA,23,FALSE),IF(F413=\"schwer\",VLOOKUP(J413,'Boden DüV-Bolap'!A:AA,27,FALSE))))))","v":""}]
[410,null,null,null,null,null,null,null,null,null,null,null,null,null,null,null,null,{"$f":"IF(H414=\"\",\"\",IF(H414>39,\"E\",VLOOKUP(H414,'Boden DüV-Bolap'!A:B,2,FALSE)))","v":""},{"$f":"IF(OR(I414=\"\",F414=\"\"),\"\",IF(I414>39,\"E\",IF(F414=\"leicht\",VLOOKUP(I414,'Boden DüV-Bolap'!A:Q,7,FALSE),IF(F414=\"mittel\",VLOOKUP(I414,'Boden DüV-Bolap'!A:K,11,FALSE),IF(F414=\"schwer\",VLOOKUP(I414,'Boden DüV-Bolap'!A:R,15,FALSE))))))","v":""},{"$f":"IF(OR(J414=\"\",F414=\"\"),\"\",IF(J414>39,\"E\",IF(F414=\"leicht\",VLOOKUP(J414,'Boden DüV-Bolap'!A:AA,19,FALSE),IF(F414=\"mittel\",VLOOKUP(J414,'Boden DüV-Bolap'!A:AA,23,FALSE),IF(F414=\"schwer\",VLOOKUP(J414,'Boden DüV-Bolap'!A:AA,27,FALSE))))))","v":""}]
[411,null,null,null,null,null,null,null,null,null,null,null,null,null,null,null,null,{"$f":"IF(H415=\"\",\"\",IF(H415>39,\"E\",VLOOKUP(H415,'Boden DüV-Bolap'!A:B,2,FALSE)))","v":""},{"$f":"IF(OR(I415=\"\",F415=\"\"),\"\",IF(I415>39,\"E\",IF(F415=\"leicht\",VLOOKUP(I415,'Boden DüV-Bolap'!A:Q,7,FALSE),IF(F415=\"mittel\",VLOOKUP(I415,'Boden DüV-Bolap'!A:K,11,FALSE),IF(F415=\"schwer\",VLOOKUP(I415,'Boden DüV-Bolap'!A:R,15,FALSE))))))","v":""},{"$f":"IF(OR(J415=\"\",F415=\"\"),\"\",IF(J415>39,\"E\",IF(F415=\"leicht\",VLOOKUP(J415,'Boden DüV-Bolap'!A:AA,19,FALSE),IF(F415=\"mittel\",VLOOKUP(J415,'Boden DüV-Bolap'!A:AA,23,FALSE),IF(F415=\"schwer\",VLOOKUP(J415,'Boden DüV-Bolap'!A:AA,27,FALSE))))))","v":""}]
[412,null,null,null,null,null,null,null,null,null,null,null,null,null,null,null,null,{"$f":"IF(H416=\"\",\"\",IF(H416>39,\"E\",VLOOKUP(H416,'Boden DüV-Bolap'!A:B,2,FALSE)))","v":""},{"$f":"IF(OR(I416=\"\",F416=\"\"),\"\",IF(I416>39,\"E\",IF(F416=\"leicht\",VLOOKUP(I416,'Boden DüV-Bolap'!A:Q,7,FALSE),IF(F416=\"mittel\",VLOOKUP(I416,'Boden DüV-Bolap'!A:K,11,FALSE),IF(F416=\"schwer\",VLOOKUP(I416,'Boden DüV-Bolap'!A:R,15,FALSE))))))","v":""},{"$f":"IF(OR(J416=\"\",F416=\"\"),\"\",IF(J416>39,\"E\",IF(F416=\"leicht\",VLOOKUP(J416,'Boden DüV-Bolap'!A:AA,19,FALSE),IF(F416=\"mittel\",VLOOKUP(J416,'Boden DüV-Bolap'!A:AA,23,FALSE),IF(F416=\"schwer\",VLOOKUP(J416,'Boden DüV-Bolap'!A:AA,27,FALSE))))))","v":""}]
[413,null,null,null,null,null,null,null,null,null,null,null,null,null,null,null,null,{"$f":"IF(H417=\"\",\"\",IF(H417>39,\"E\",VLOOKUP(H417,'Boden DüV-Bolap'!A:B,2,FALSE)))","v":""},{"$f":"IF(OR(I417=\"\",F417=\"\"),\"\",IF(I417>39,\"E\",IF(F417=\"leicht\",VLOOKUP(I417,'Boden DüV-Bolap'!A:Q,7,FALSE),IF(F417=\"mittel\",VLOOKUP(I417,'Boden DüV-Bolap'!A:K,11,FALSE),IF(F417=\"schwer\",VLOOKUP(I417,'Boden DüV-Bolap'!A:R,15,FALSE))))))","v":""},{"$f":"IF(OR(J417=\"\",F417=\"\"),\"\",IF(J417>39,\"E\",IF(F417=\"leicht\",VLOOKUP(J417,'Boden DüV-Bolap'!A:AA,19,FALSE),IF(F417=\"mittel\",VLOOKUP(J417,'Boden DüV-Bolap'!A:AA,23,FALSE),IF(F417=\"schwer\",VLOOKUP(J417,'Boden DüV-Bolap'!A:AA,27,FALSE))))))","v":""}]
[414,null,null,null,null,null,null,null,null,null,null,null,null,null,null,null,null,{"$f":"IF(H418=\"\",\"\",IF(H418>39,\"E\",VLOOKUP(H418,'Boden DüV-Bolap'!A:B,2,FALSE)))","v":""},{"$f":"IF(OR(I418=\"\",F418=\"\"),\"\",IF(I418>39,\"E\",IF(F418=\"leicht\",VLOOKUP(I418,'Boden DüV-Bolap'!A:Q,7,FALSE),IF(F418=\"mittel\",VLOOKUP(I418,'Boden DüV-Bolap'!A:K,11,FALSE),IF(F418=\"schwer\",VLOOKUP(I418,'Boden DüV-Bolap'!A:R,15,FALSE))))))","v":""},{"$f":"IF(OR(J418=\"\",F418=\"\"),\"\",IF(J418>39,\"E\",IF(F418=\"leicht\",VLOOKUP(J418,'Boden DüV-Bolap'!A:AA,19,FALSE),IF(F418=\"mittel\",VLOOKUP(J418,'Boden DüV-Bolap'!A:AA,23,FALSE),IF(F418=\"schwer\",VLOOKUP(J418,'Boden DüV-Bolap'!A:AA,27,FALSE))))))","v":""}]
[415,null,null,null,null,null,null,null,null,null,null,null,null,null,null,null,null,{"$f":"IF(H419=\"\",\"\",IF(H419>39,\"E\",VLOOKUP(H419,'Boden DüV-Bolap'!A:B,2,FALSE)))","v":""},{"$f":"IF(OR(I419=\"\",F419=\"\"),\"\",IF(I419>39,\"E\",IF(F419=\"leicht\",VLOOKUP(I419,'Boden DüV-Bolap'!A:Q,7,FALSE),IF(F419=\"mittel\",VLOOKUP(I419,'Boden DüV-Bolap'!A:K,11,FALSE),IF(F419=\"schwer\",VLOOKUP(I419,'Boden DüV-Bolap'!A:R,15,FALSE))))))","v":""},{"$f":"IF(OR(J419=\"\",F419=\"\"),\"\",IF(J419>39,\"E\",IF(F419=\"leicht\",VLOOKUP(J419,'Boden DüV-Bolap'!A:AA,19,FALSE),IF(F419=\"mittel\",VLOOKUP(J419,'Boden DüV-Bolap'!A:AA,23,FALSE),IF(F419=\"schwer\",VLOOKUP(J419,'Boden DüV-Bolap'!A:AA,27,FALSE))))))","v":""}]
[416,null,null,null,null,null,null,null,null,null,null,null,null,null,null,null,null,{"$f":"IF(H420=\"\",\"\",IF(H420>39,\"E\",VLOOKUP(H420,'Boden DüV-Bolap'!A:B,2,FALSE)))","v":""},{"$f":"IF(OR(I420=\"\",F420=\"\"),\"\",IF(I420>39,\"E\",IF(F420=\"leicht\",VLOOKUP(I420,'Boden DüV-Bolap'!A:Q,7,FALSE),IF(F420=\"mittel\",VLOOKUP(I420,'Boden DüV-Bolap'!A:K,11,FALSE),IF(F420=\"schwer\",VLOOKUP(I420,'Boden DüV-Bolap'!A:R,15,FALSE))))))","v":""},{"$f":"IF(OR(J420=\"\",F420=\"\"),\"\",IF(J420>39,\"E\",IF(F420=\"leicht\",VLOOKUP(J420,'Boden DüV-Bolap'!A:AA,19,FALSE),IF(F420=\"mittel\",VLOOKUP(J420,'Boden DüV-Bolap'!A:AA,23,FALSE),IF(F420=\"schwer\",VLOOKUP(J420,'Boden DüV-Bolap'!A:AA,27,FALSE))))))","v":""}]
[417,null,null,null,null,null,null,null,null,null,null,null,null,null,null,null,null,{"$f":"IF(H421=\"\",\"\",IF(H421>39,\"E\",VLOOKUP(H421,'Boden DüV-Bolap'!A:B,2,FALSE)))","v":""},{"$f":"IF(OR(I421=\"\",F421=\"\"),\"\",IF(I421>39,\"E\",IF(F421=\"leicht\",VLOOKUP(I421,'Boden DüV-Bolap'!A:Q,7,FALSE),IF(F421=\"mittel\",VLOOKUP(I421,'Boden DüV-Bolap'!A:K,11,FALSE),IF(F421=\"schwer\",VLOOKUP(I421,'Boden DüV-Bolap'!A:R,15,FALSE))))))","v":""},{"$f":"IF(OR(J421=\"\",F421=\"\"),\"\",IF(J421>39,\"E\",IF(F421=\"leicht\",VLOOKUP(J421,'Boden DüV-Bolap'!A:AA,19,FALSE),IF(F421=\"mittel\",VLOOKUP(J421,'Boden DüV-Bolap'!A:AA,23,FALSE),IF(F421=\"schwer\",VLOOKUP(J421,'Boden DüV-Bolap'!A:AA,27,FALSE))))))","v":""}]
[418,null,null,null,null,null,null,null,null,null,null,null,null,null,null,null,null,{"$f":"IF(H422=\"\",\"\",IF(H422>39,\"E\",VLOOKUP(H422,'Boden DüV-Bolap'!A:B,2,FALSE)))","v":""},{"$f":"IF(OR(I422=\"\",F422=\"\"),\"\",IF(I422>39,\"E\",IF(F422=\"leicht\",VLOOKUP(I422,'Boden DüV-Bolap'!A:Q,7,FALSE),IF(F422=\"mittel\",VLOOKUP(I422,'Boden DüV-Bolap'!A:K,11,FALSE),IF(F422=\"schwer\",VLOOKUP(I422,'Boden DüV-Bolap'!A:R,15,FALSE))))))","v":""},{"$f":"IF(OR(J422=\"\",F422=\"\"),\"\",IF(J422>39,\"E\",IF(F422=\"leicht\",VLOOKUP(J422,'Boden DüV-Bolap'!A:AA,19,FALSE),IF(F422=\"mittel\",VLOOKUP(J422,'Boden DüV-Bolap'!A:AA,23,FALSE),IF(F422=\"schwer\",VLOOKUP(J422,'Boden DüV-Bolap'!A:AA,27,FALSE))))))","v":""}]
[419,null,null,null,null,null,null,null,null,null,null,null,null,null,null,null,null,{"$f":"IF(H423=\"\",\"\",IF(H423>39,\"E\",VLOOKUP(H423,'Boden DüV-Bolap'!A:B,2,FALSE)))","v":""},{"$f":"IF(OR(I423=\"\",F423=\"\"),\"\",IF(I423>39,\"E\",IF(F423=\"leicht\",VLOOKUP(I423,'Boden DüV-Bolap'!A:Q,7,FALSE),IF(F423=\"mittel\",VLOOKUP(I423,'Boden DüV-Bolap'!A:K,11,FALSE),IF(F423=\"schwer\",VLOOKUP(I423,'Boden DüV-Bolap'!A:R,15,FALSE))))))","v":""},{"$f":"IF(OR(J423=\"\",F423=\"\"),\"\",IF(J423>39,\"E\",IF(F423=\"leicht\",VLOOKUP(J423,'Boden DüV-Bolap'!A:AA,19,FALSE),IF(F423=\"mittel\",VLOOKUP(J423,'Boden DüV-Bolap'!A:AA,23,FALSE),IF(F423=\"schwer\",VLOOKUP(J423,'Boden DüV-Bolap'!A:AA,27,FALSE))))))","v":""}]
[420,null,null,null,null,null,null,null,null,null,null,null,null,null,null,null,null,{"$f":"IF(H424=\"\",\"\",IF(H424>39,\"E\",VLOOKUP(H424,'Boden DüV-Bolap'!A:B,2,FALSE)))","v":""},{"$f":"IF(OR(I424=\"\",F424=\"\"),\"\",IF(I424>39,\"E\",IF(F424=\"leicht\",VLOOKUP(I424,'Boden DüV-Bolap'!A:Q,7,FALSE),IF(F424=\"mittel\",VLOOKUP(I424,'Boden DüV-Bolap'!A:K,11,FALSE),IF(F424=\"schwer\",VLOOKUP(I424,'Boden DüV-Bolap'!A:R,15,FALSE))))))","v":""},{"$f":"IF(OR(J424=\"\",F424=\"\"),\"\",IF(J424>39,\"E\",IF(F424=\"leicht\",VLOOKUP(J424,'Boden DüV-Bolap'!A:AA,19,FALSE),IF(F424=\"mittel\",VLOOKUP(J424,'Boden DüV-Bolap'!A:AA,23,FALSE),IF(F424=\"schwer\",VLOOKUP(J424,'Boden DüV-Bolap'!A:AA,27,FALSE))))))","v":""}]
[421,null,null,null,null,null,null,null,null,null,null,null,null,null,null,null,null,{"$f":"IF(H425=\"\",\"\",IF(H425>39,\"E\",VLOOKUP(H425,'Boden DüV-Bolap'!A:B,2,FALSE)))","v":""},{"$f":"IF(OR(I425=\"\",F425=\"\"),\"\",IF(I425>39,\"E\",IF(F425=\"leicht\",VLOOKUP(I425,'Boden DüV-Bolap'!A:Q,7,FALSE),IF(F425=\"mittel\",VLOOKUP(I425,'Boden DüV-Bolap'!A:K,11,FALSE),IF(F425=\"schwer\",VLOOKUP(I425,'Boden DüV-Bolap'!A:R,15,FALSE))))))","v":""},{"$f":"IF(OR(J425=\"\",F425=\"\"),\"\",IF(J425>39,\"E\",IF(F425=\"leicht\",VLOOKUP(J425,'Boden DüV-Bolap'!A:AA,19,FALSE),IF(F425=\"mittel\",VLOOKUP(J425,'Boden DüV-Bolap'!A:AA,23,FALSE),IF(F425=\"schwer\",VLOOKUP(J425,'Boden DüV-Bolap'!A:AA,27,FALSE))))))","v":""}]
[422,null,null,null,null,null,null,null,null,null,null,null,null,null,null,null,null,{"$f":"IF(H426=\"\",\"\",IF(H426>39,\"E\",VLOOKUP(H426,'Boden DüV-Bolap'!A:B,2,FALSE)))","v":""},{"$f":"IF(OR(I426=\"\",F426=\"\"),\"\",IF(I426>39,\"E\",IF(F426=\"leicht\",VLOOKUP(I426,'Boden DüV-Bolap'!A:Q,7,FALSE),IF(F426=\"mittel\",VLOOKUP(I426,'Boden DüV-Bolap'!A:K,11,FALSE),IF(F426=\"schwer\",VLOOKUP(I426,'Boden DüV-Bolap'!A:R,15,FALSE))))))","v":""},{"$f":"IF(OR(J426=\"\",F426=\"\"),\"\",IF(J426>39,\"E\",IF(F426=\"leicht\",VLOOKUP(J426,'Boden DüV-Bolap'!A:AA,19,FALSE),IF(F426=\"mittel\",VLOOKUP(J426,'Boden DüV-Bolap'!A:AA,23,FALSE),IF(F426=\"schwer\",VLOOKUP(J426,'Boden DüV-Bolap'!A:AA,27,FALSE))))))","v":""}]
[423,null,null,null,null,null,null,null,null,null,null,null,null,null,null,null,null,{"$f":"IF(H427=\"\",\"\",IF(H427>39,\"E\",VLOOKUP(H427,'Boden DüV-Bolap'!A:B,2,FALSE)))","v":""},{"$f":"IF(OR(I427=\"\",F427=\"\"),\"\",IF(I427>39,\"E\",IF(F427=\"leicht\",VLOOKUP(I427,'Boden DüV-Bolap'!A:Q,7,FALSE),IF(F427=\"mittel\",VLOOKUP(I427,'Boden DüV-Bolap'!A:K,11,FALSE),IF(F427=\"schwer\",VLOOKUP(I427,'Boden DüV-Bolap'!A:R,15,FALSE))))))","v":""},{"$f":"IF(OR(J427=\"\",F427=\"\"),\"\",IF(J427>39,\"E\",IF(F427=\"leicht\",VLOOKUP(J427,'Boden DüV-Bolap'!A:AA,19,FALSE),IF(F427=\"mittel\",VLOOKUP(J427,'Boden DüV-Bolap'!A:AA,23,FALSE),IF(F427=\"schwer\",VLOOKUP(J427,'Boden DüV-Bolap'!A:AA,27,FALSE))))))","v":""}]
[424,null,null,null,null,null,null,null,null,null,null,null,null,null,null,null,null,{"$f":"IF(H428=\"\",\"\",IF(H428>39,\"E\",VLOOKUP(H428,'Boden DüV-Bolap'!A:B,2,FALSE)))","v":""},{"$f":"IF(OR(I428=\"\",F428=\"\"),\"\",IF(I428>39,\"E\",IF(F428=\"leicht\",VLOOKUP(I428,'Boden DüV-Bolap'!A:Q,7,FALSE),IF(F428=\"mittel\",VLOOKUP(I428,'Boden DüV-Bolap'!A:K,11,FALSE),IF(F428=\"schwer\",VLOOKUP(I428,'Boden DüV-Bolap'!A:R,15,FALSE))))))","v":""},{"$f":"IF(OR(J428=\"\",F428=\"\"),\"\",IF(J428>39,\"E\",IF(F428=\"leicht\",VLOOKUP(J428,'Boden DüV-Bolap'!A:AA,19,FALSE),IF(F428=\"mittel\",VLOOKUP(J428,'Boden DüV-Bolap'!A:AA,23,FALSE),IF(F428=\"schwer\",VLOOKUP(J428,'Boden DüV-Bolap'!A:AA,27,FALSE))))))","v":""}]
[425,null,null,null,null,null,null,null,null,null,null,null,null,null,null,null,null,{"$f":"IF(H429=\"\",\"\",IF(H429>39,\"E\",VLOOKUP(H429,'Boden DüV-Bolap'!A:B,2,FALSE)))","v":""},{"$f":"IF(OR(I429=\"\",F429=\"\"),\"\",IF(I429>39,\"E\",IF(F429=\"leicht\",VLOOKUP(I429,'Boden DüV-Bolap'!A:Q,7,FALSE),IF(F429=\"mittel\",VLOOKUP(I429,'Boden DüV-Bolap'!A:K,11,FALSE),IF(F429=\"schwer\",VLOOKUP(I429,'Boden DüV-Bolap'!A:R,15,FALSE))))))","v":""},{"$f":"IF(OR(J429=\"\",F429=\"\"),\"\",IF(J429>39,\"E\",IF(F429=\"leicht\",VLOOKUP(J429,'Boden DüV-Bolap'!A:AA,19,FALSE),IF(F429=\"mittel\",VLOOKUP(J429,'Boden DüV-Bolap'!A:AA,23,FALSE),IF(F429=\"schwer\",VLOOKUP(J429,'Boden DüV-Bolap'!A:AA,27,FALSE))))))","v":""}]
[426,null,null,null,null,null,null,null,null,null,null,null,null,null,null,null,null,{"$f":"IF(H430=\"\",\"\",IF(H430>39,\"E\",VLOOKUP(H430,'Boden DüV-Bolap'!A:B,2,FALSE)))","v":""},{"$f":"IF(OR(I430=\"\",F430=\"\"),\"\",IF(I430>39,\"E\",IF(F430=\"leicht\",VLOOKUP(I430,'Boden DüV-Bolap'!A:Q,7,FALSE),IF(F430=\"mittel\",VLOOKUP(I430,'Boden DüV-Bolap'!A:K,11,FALSE),IF(F430=\"schwer\",VLOOKUP(I430,'Boden DüV-Bolap'!A:R,15,FALSE))))))","v":""},{"$f":"IF(OR(J430=\"\",F430=\"\"),\"\",IF(J430>39,\"E\",IF(F430=\"leicht\",VLOOKUP(J430,'Boden DüV-Bolap'!A:AA,19,FALSE),IF(F430=\"mittel\",VLOOKUP(J430,'Boden DüV-Bolap'!A:AA,23,FALSE),IF(F430=\"schwer\",VLOOKUP(J430,'Boden DüV-Bolap'!A:AA,27,FALSE))))))","v":""}]
[427,null,null,null,null,null,null,null,null,null,null,null,null,null,null,null,null,{"$f":"IF(H431=\"\",\"\",IF(H431>39,\"E\",VLOOKUP(H431,'Boden DüV-Bolap'!A:B,2,FALSE)))","v":""},{"$f":"IF(OR(I431=\"\",F431=\"\"),\"\",IF(I431>39,\"E\",IF(F431=\"leicht\",VLOOKUP(I431,'Boden DüV-Bolap'!A:Q,7,FALSE),IF(F431=\"mittel\",VLOOKUP(I431,'Boden DüV-Bolap'!A:K,11,FALSE),IF(F431=\"schwer\",VLOOKUP(I431,'Boden DüV-Bolap'!A:R,15,FALSE))))))","v":""},{"$f":"IF(OR(J431=\"\",F431=\"\"),\"\",IF(J431>39,\"E\",IF(F431=\"leicht\",VLOOKUP(J431,'Boden DüV-Bolap'!A:AA,19,FALSE),IF(F431=\"mittel\",VLOOKUP(J431,'Boden DüV-Bolap'!A:AA,23,FALSE),IF(F431=\"schwer\",VLOOKUP(J431,'Boden DüV-Bolap'!A:AA,27,FALSE))))))","v":""}]
[428,null,null,null,null,null,null,null,null,null,null,null,null,null,null,null,null,{"$f":"IF(H432=\"\",\"\",IF(H432>39,\"E\",VLOOKUP(H432,'Boden DüV-Bolap'!A:B,2,FALSE)))","v":""},{"$f":"IF(OR(I432=\"\",F432=\"\"),\"\",IF(I432>39,\"E\",IF(F432=\"leicht\",VLOOKUP(I432,'Boden DüV-Bolap'!A:Q,7,FALSE),IF(F432=\"mittel\",VLOOKUP(I432,'Boden DüV-Bolap'!A:K,11,FALSE),IF(F432=\"schwer\",VLOOKUP(I432,'Boden DüV-Bolap'!A:R,15,FALSE))))))","v":""},{"$f":"IF(OR(J432=\"\",F432=\"\"),\"\",IF(J432>39,\"E\",IF(F432=\"leicht\",VLOOKUP(J432,'Boden DüV-Bolap'!A:AA,19,FALSE),IF(F432=\"mittel\",VLOOKUP(J432,'Boden DüV-Bolap'!A:AA,23,FALSE),IF(F432=\"schwer\",VLOOKUP(J432,'Boden DüV-Bolap'!A:AA,27,FALSE))))))","v":""}]
[429,null,null,null,null,null,null,null,null,null,null,null,null,null,null,null,null,{"$f":"IF(H433=\"\",\"\",IF(H433>39,\"E\",VLOOKUP(H433,'Boden DüV-Bolap'!A:B,2,FALSE)))","v":""},{"$f":"IF(OR(I433=\"\",F433=\"\"),\"\",IF(I433>39,\"E\",IF(F433=\"leicht\",VLOOKUP(I433,'Boden DüV-Bolap'!A:Q,7,FALSE),IF(F433=\"mittel\",VLOOKUP(I433,'Boden DüV-Bolap'!A:K,11,FALSE),IF(F433=\"schwer\",VLOOKUP(I433,'Boden DüV-Bolap'!A:R,15,FALSE))))))","v":""},{"$f":"IF(OR(J433=\"\",F433=\"\"),\"\",IF(J433>39,\"E\",IF(F433=\"leicht\",VLOOKUP(J433,'Boden DüV-Bolap'!A:AA,19,FALSE),IF(F433=\"mittel\",VLOOKUP(J433,'Boden DüV-Bolap'!A:AA,23,FALSE),IF(F433=\"schwer\",VLOOKUP(J433,'Boden DüV-Bolap'!A:AA,27,FALSE))))))","v":""}]
[430,null,null,null,null,null,null,null,null,null,null,null,null,null,null,null,null,{"$f":"IF(H434=\"\",\"\",IF(H434>39,\"E\",VLOOKUP(H434,'Boden DüV-Bolap'!A:B,2,FALSE)))","v":""},{"$f":"IF(OR(I434=\"\",F434=\"\"),\"\",IF(I434>39,\"E\",IF(F434=\"leicht\",VLOOKUP(I434,'Boden DüV-Bolap'!A:Q,7,FALSE),IF(F434=\"mittel\",VLOOKUP(I434,'Boden DüV-Bolap'!A:K,11,FALSE),IF(F434=\"schwer\",VLOOKUP(I434,'Boden DüV-Bolap'!A:R,15,FALSE))))))","v":""},{"$f":"IF(OR(J434=\"\",F434=\"\"),\"\",IF(J434>39,\"E\",IF(F434=\"leicht\",VLOOKUP(J434,'Boden DüV-Bolap'!A:AA,19,FALSE),IF(F434=\"mittel\",VLOOKUP(J434,'Boden DüV-Bolap'!A:AA,23,FALSE),IF(F434=\"schwer\",VLOOKUP(J434,'Boden DüV-Bolap'!A:AA,27,FALSE))))))","v":""}]
[431,null,null,null,null,null,null,null,null,null,null,null,null,null,null,null,null,{"$f":"IF(H435=\"\",\"\",IF(H435>39,\"E\",VLOOKUP(H435,'Boden DüV-Bolap'!A:B,2,FALSE)))","v":""},{"$f":"IF(OR(I435=\"\",F435=\"\"),\"\",IF(I435>39,\"E\",IF(F435=\"leicht\",VLOOKUP(I435,'Boden DüV-Bolap'!A:Q,7,FALSE),IF(F435=\"mittel\",VLOOKUP(I435,'Boden DüV-Bolap'!A:K,11,FALSE),IF(F435=\"schwer\",VLOOKUP(I435,'Boden DüV-Bolap'!A:R,15,FALSE))))))","v":""},{"$f":"IF(OR(J435=\"\",F435=\"\"),\"\",IF(J435>39,\"E\",IF(F435=\"leicht\",VLOOKUP(J435,'Boden DüV-Bolap'!A:AA,19,FALSE),IF(F435=\"mittel\",VLOOKUP(J435,'Boden DüV-Bolap'!A:AA,23,FALSE),IF(F435=\"schwer\",VLOOKUP(J435,'Boden DüV-Bolap'!A:AA,27,FALSE))))))","v":""}]
[432,null,null,null,null,null,null,null,null,null,null,null,null,null,null,null,null,{"$f":"IF(H436=\"\",\"\",IF(H436>39,\"E\",VLOOKUP(H436,'Boden DüV-Bolap'!A:B,2,FALSE)))","v":""},{"$f":"IF(OR(I436=\"\",F436=\"\"),\"\",IF(I436>39,\"E\",IF(F436=\"leicht\",VLOOKUP(I436,'Boden DüV-Bolap'!A:Q,7,FALSE),IF(F436=\"mittel\",VLOOKUP(I436,'Boden DüV-Bolap'!A:K,11,FALSE),IF(F436=\"schwer\",VLOOKUP(I436,'Boden DüV-Bolap'!A:R,15,FALSE))))))","v":""},{"$f":"IF(OR(J436=\"\",F436=\"\"),\"\",IF(J436>39,\"E\",IF(F436=\"leicht\",VLOOKUP(J436,'Boden DüV-Bolap'!A:AA,19,FALSE),IF(F436=\"mittel\",VLOOKUP(J436,'Boden DüV-Bolap'!A:AA,23,FALSE),IF(F436=\"schwer\",VLOOKUP(J436,'Boden DüV-Bolap'!A:AA,27,FALSE))))))","v":""}]
[433,null,null,null,null,null,null,null,null,null,null,null,null,null,null,null,null,{"$f":"IF(H437=\"\",\"\",IF(H437>39,\"E\",VLOOKUP(H437,'Boden DüV-Bolap'!A:B,2,FALSE)))","v":""},{"$f":"IF(OR(I437=\"\",F437=\"\"),\"\",IF(I437>39,\"E\",IF(F437=\"leicht\",VLOOKUP(I437,'Boden DüV-Bolap'!A:Q,7,FALSE),IF(F437=\"mittel\",VLOOKUP(I437,'Boden DüV-Bolap'!A:K,11,FALSE),IF(F437=\"schwer\",VLOOKUP(I437,'Boden DüV-Bolap'!A:R,15,FALSE))))))","v":""},{"$f":"IF(OR(J437=\"\",F437=\"\"),\"\",IF(J437>39,\"E\",IF(F437=\"leicht\",VLOOKUP(J437,'Boden DüV-Bolap'!A:AA,19,FALSE),IF(F437=\"mittel\",VLOOKUP(J437,'Boden DüV-Bolap'!A:AA,23,FALSE),IF(F437=\"schwer\",VLOOKUP(J437,'Boden DüV-Bolap'!A:AA,27,FALSE))))))","v":""}]
[434,null,null,null,null,null,null,null,null,null,null,null,null,null,null,null,null,{"$f":"IF(H438=\"\",\"\",IF(H438>39,\"E\",VLOOKUP(H438,'Boden DüV-Bolap'!A:B,2,FALSE)))","v":""},{"$f":"IF(OR(I438=\"\",F438=\"\"),\"\",IF(I438>39,\"E\",IF(F438=\"leicht\",VLOOKUP(I438,'Boden DüV-Bolap'!A:Q,7,FALSE),IF(F438=\"mittel\",VLOOKUP(I438,'Boden DüV-Bolap'!A:K,11,FALSE),IF(F438=\"schwer\",VLOOKUP(I438,'Boden DüV-Bolap'!A:R,15,FALSE))))))","v":""},{"$f":"IF(OR(J438=\"\",F438=\"\"),\"\",IF(J438>39,\"E\",IF(F438=\"leicht\",VLOOKUP(J438,'Boden DüV-Bolap'!A:AA,19,FALSE),IF(F438=\"mittel\",VLOOKUP(J438,'Boden DüV-Bolap'!A:AA,23,FALSE),IF(F438=\"schwer\",VLOOKUP(J438,'Boden DüV-Bolap'!A:AA,27,FALSE))))))","v":""}]
[435,null,null,null,null,null,null,null,null,null,null,null,null,null,null,null,null,{"$f":"IF(H439=\"\",\"\",IF(H439>39,\"E\",VLOOKUP(H439,'Boden DüV-Bolap'!A:B,2,FALSE)))","v":""},{"$f":"IF(OR(I439=\"\",F439=\"\"),\"\",IF(I439>39,\"E\",IF(F439=\"leicht\",VLOOKUP(I439,'Boden DüV-Bolap'!A:Q,7,FALSE),IF(F439=\"mittel\",VLOOKUP(I439,'Boden DüV-Bolap'!A:K,11,FALSE),IF(F439=\"schwer\",VLOOKUP(I439,'Boden DüV-Bolap'!A:R,15,FALSE))))))","v":""},{"$f":"IF(OR(J439=\"\",F439=\"\"),\"\",IF(J439>39,\"E\",IF(F439=\"leicht\",VLOOKUP(J439,'Boden DüV-Bolap'!A:AA,19,FALSE),IF(F439=\"mittel\",VLOOKUP(J439,'Boden DüV-Bolap'!A:AA,23,FALSE),IF(F439=\"schwer\",VLOOKUP(J439,'Boden DüV-Bolap'!A:AA,27,FALSE))))))","v":""}]
[436,null,null,null,null,null,null,null,null,null,null,null,null,null,null,null,null,{"$f":"IF(H440=\"\",\"\",IF(H440>39,\"E\",VLOOKUP(H440,'Boden DüV-Bolap'!A:B,2,FALSE)))","v":""},{"$f":"IF(OR(I440=\"\",F440=\"\"),\"\",IF(I440>39,\"E\",IF(F440=\"leicht\",VLOOKUP(I440,'Boden DüV-Bolap'!A:Q,7,FALSE),IF(F440=\"mittel\",VLOOKUP(I440,'Boden DüV-Bolap'!A:K,11,FALSE),IF(F440=\"schwer\",VLOOKUP(I440,'Boden DüV-Bolap'!A:R,15,FALSE))))))","v":""},{"$f":"IF(OR(J440=\"\",F440=\"\"),\"\",IF(J440>39,\"E\",IF(F440=\"leicht\",VLOOKUP(J440,'Boden DüV-Bolap'!A:AA,19,FALSE),IF(F440=\"mittel\",VLOOKUP(J440,'Boden DüV-Bolap'!A:AA,23,FALSE),IF(F440=\"schwer\",VLOOKUP(J440,'Boden DüV-Bolap'!A:AA,27,FALSE))))))","v":""}]
[437,null,null,null,null,null,null,null,null,null,null,null,null,null,null,null,null,{"$f":"IF(H441=\"\",\"\",IF(H441>39,\"E\",VLOOKUP(H441,'Boden DüV-Bolap'!A:B,2,FALSE)))","v":""},{"$f":"IF(OR(I441=\"\",F441=\"\"),\"\",IF(I441>39,\"E\",IF(F441=\"leicht\",VLOOKUP(I441,'Boden DüV-Bolap'!A:Q,7,FALSE),IF(F441=\"mittel\",VLOOKUP(I441,'Boden DüV-Bolap'!A:K,11,FALSE),IF(F441=\"schwer\",VLOOKUP(I441,'Boden DüV-Bolap'!A:R,15,FALSE))))))","v":""},{"$f":"IF(OR(J441=\"\",F441=\"\"),\"\",IF(J441>39,\"E\",IF(F441=\"leicht\",VLOOKUP(J441,'Boden DüV-Bolap'!A:AA,19,FALSE),IF(F441=\"mittel\",VLOOKUP(J441,'Boden DüV-Bolap'!A:AA,23,FALSE),IF(F441=\"schwer\",VLOOKUP(J441,'Boden DüV-Bolap'!A:AA,27,FALSE))))))","v":""}]
[438,null,null,null,null,null,null,null,null,null,null,null,null,null,null,null,null,{"$f":"IF(H442=\"\",\"\",IF(H442>39,\"E\",VLOOKUP(H442,'Boden DüV-Bolap'!A:B,2,FALSE)))","v":""},{"$f":"IF(OR(I442=\"\",F442=\"\"),\"\",IF(I442>39,\"E\",IF(F442=\"leicht\",VLOOKUP(I442,'Boden DüV-Bolap'!A:Q,7,FALSE),IF(F442=\"mittel\",VLOOKUP(I442,'Boden DüV-Bolap'!A:K,11,FALSE),IF(F442=\"schwer\",VLOOKUP(I442,'Boden DüV-Bolap'!A:R,15,FALSE))))))","v":""},{"$f":"IF(OR(J442=\"\",F442=\"\"),\"\",IF(J442>39,\"E\",IF(F442=\"leicht\",VLOOKUP(J442,'Boden DüV-Bolap'!A:AA,19,FALSE),IF(F442=\"mittel\",VLOOKUP(J442,'Boden DüV-Bolap'!A:AA,23,FALSE),IF(F442=\"schwer\",VLOOKUP(J442,'Boden DüV-Bolap'!A:AA,27,FALSE))))))","v":""}]
[439,null,null,null,null,null,null,null,null,null,null,null,null,null,null,null,null,{"$f":"IF(H443=\"\",\"\",IF(H443>39,\"E\",VLOOKUP(H443,'Boden DüV-Bolap'!A:B,2,FALSE)))","v":""},{"$f":"IF(OR(I443=\"\",F443=\"\"),\"\",IF(I443>39,\"E\",IF(F443=\"leicht\",VLOOKUP(I443,'Boden DüV-Bolap'!A:Q,7,FALSE),IF(F443=\"mittel\",VLOOKUP(I443,'Boden DüV-Bolap'!A:K,11,FALSE),IF(F443=\"schwer\",VLOOKUP(I443,'Boden DüV-Bolap'!A:R,15,FALSE))))))","v":""},{"$f":"IF(OR(J443=\"\",F443=\"\"),\"\",IF(J443>39,\"E\",IF(F443=\"leicht\",VLOOKUP(J443,'Boden DüV-Bolap'!A:AA,19,FALSE),IF(F443=\"mittel\",VLOOKUP(J443,'Boden DüV-Bolap'!A:AA,23,FALSE),IF(F443=\"schwer\",VLOOKUP(J443,'Boden DüV-Bolap'!A:AA,27,FALSE))))))","v":""}]
[440,null,null,null,null,null,null,null,null,null,null,null,null,null,null,null,null,{"$f":"IF(H444=\"\",\"\",IF(H444>39,\"E\",VLOOKUP(H444,'Boden DüV-Bolap'!A:B,2,FALSE)))","v":""},{"$f":"IF(OR(I444=\"\",F444=\"\"),\"\",IF(I444>39,\"E\",IF(F444=\"leicht\",VLOOKUP(I444,'Boden DüV-Bolap'!A:Q,7,FALSE),IF(F444=\"mittel\",VLOOKUP(I444,'Boden DüV-Bolap'!A:K,11,FALSE),IF(F444=\"schwer\",VLOOKUP(I444,'Boden DüV-Bolap'!A:R,15,FALSE))))))","v":""},{"$f":"IF(OR(J444=\"\",F444=\"\"),\"\",IF(J444>39,\"E\",IF(F444=\"leicht\",VLOOKUP(J444,'Boden DüV-Bolap'!A:AA,19,FALSE),IF(F444=\"mittel\",VLOOKUP(J444,'Boden DüV-Bolap'!A:AA,23,FALSE),IF(F444=\"schwer\",VLOOKUP(J444,'Boden DüV-Bolap'!A:AA,27,FALSE))))))","v":""}]
[441,null,null,null,null,null,null,null,null,null,null,null,null,null,null,null,null,{"$f":"IF(H445=\"\",\"\",IF(H445>39,\"E\",VLOOKUP(H445,'Boden DüV-Bolap'!A:B,2,FALSE)))","v":""},{"$f":"IF(OR(I445=\"\",F445=\"\"),\"\",IF(I445>39,\"E\",IF(F445=\"leicht\",VLOOKUP(I445,'Boden DüV-Bolap'!A:Q,7,FALSE),IF(F445=\"mittel\",VLOOKUP(I445,'Boden DüV-Bolap'!A:K,11,FALSE),IF(F445=\"schwer\",VLOOKUP(I445,'Boden DüV-Bolap'!A:R,15,FALSE))))))","v":""},{"$f":"IF(OR(J445=\"\",F445=\"\"),\"\",IF(J445>39,\"E\",IF(F445=\"leicht\",VLOOKUP(J445,'Boden DüV-Bolap'!A:AA,19,FALSE),IF(F445=\"mittel\",VLOOKUP(J445,'Boden DüV-Bolap'!A:AA,23,FALSE),IF(F445=\"schwer\",VLOOKUP(J445,'Boden DüV-Bolap'!A:AA,27,FALSE))))))","v":""}]
[442,null,null,null,null,null,null,null,null,null,null,null,null,null,null,null,null,{"$f":"IF(H446=\"\",\"\",IF(H446>39,\"E\",VLOOKUP(H446,'Boden DüV-Bolap'!A:B,2,FALSE)))","v":""},{"$f":"IF(OR(I446=\"\",F446=\"\"),\"\",IF(I446>39,\"E\",IF(F446=\"leicht\",VLOOKUP(I446,'Boden DüV-Bolap'!A:Q,7,FALSE),IF(F446=\"mittel\",VLOOKUP(I446,'Boden DüV-Bolap'!A:K,11,FALSE),IF(F446=\"schwer\",VLOOKUP(I446,'Boden DüV-Bolap'!A:R,15,FALSE))))))","v":""},{"$f":"IF(OR(J446=\"\",F446=\"\"),\"\",IF(J446>39,\"E\",IF(F446=\"leicht\",VLOOKUP(J446,'Boden DüV-Bolap'!A:AA,19,FALSE),IF(F446=\"mittel\",VLOOKUP(J446,'Boden DüV-Bolap'!A:AA,23,FALSE),IF(F446=\"schwer\",VLOOKUP(J446,'Boden DüV-Bolap'!A:AA,27,FALSE))))))","v":""}]
[443,null,null,null,null,null,null,null,null,null,null,null,null,null,null,null,null,{"$f":"IF(H447=\"\",\"\",IF(H447>39,\"E\",VLOOKUP(H447,'Boden DüV-Bolap'!A:B,2,FALSE)))","v":""},{"$f":"IF(OR(I447=\"\",F447=\"\"),\"\",IF(I447>39,\"E\",IF(F447=\"leicht\",VLOOKUP(I447,'Boden DüV-Bolap'!A:Q,7,FALSE),IF(F447=\"mittel\",VLOOKUP(I447,'Boden DüV-Bolap'!A:K,11,FALSE),IF(F447=\"schwer\",VLOOKUP(I447,'Boden DüV-Bolap'!A:R,15,FALSE))))))","v":""},{"$f":"IF(OR(J447=\"\",F447=\"\"),\"\",IF(J447>39,\"E\",IF(F447=\"leicht\",VLOOKUP(J447,'Boden DüV-Bolap'!A:AA,19,FALSE),IF(F447=\"mittel\",VLOOKUP(J447,'Boden DüV-Bolap'!A:AA,23,FALSE),IF(F447=\"schwer\",VLOOKUP(J447,'Boden DüV-Bolap'!A:AA,27,FALSE))))))","v":""}]
[444,null,null,null,null,null,null,null,null,null,null,null,null,null,null,null,null,{"$f":"IF(H448=\"\",\"\",IF(H448>39,\"E\",VLOOKUP(H448,'Boden DüV-Bolap'!A:B,2,FALSE)))","v":""},{"$f":"IF(OR(I448=\"\",F448=\"\"),\"\",IF(I448>39,\"E\",IF(F448=\"leicht\",VLOOKUP(I448,'Boden DüV-Bolap'!A:Q,7,FALSE),IF(F448=\"mittel\",VLOOKUP(I448,'Boden DüV-Bolap'!A:K,11,FALSE),IF(F448=\"schwer\",VLOOKUP(I448,'Boden DüV-Bolap'!A:R,15,FALSE))))))","v":""},{"$f":"IF(OR(J448=\"\",F448=\"\"),\"\",IF(J448>39,\"E\",IF(F448=\"leicht\",VLOOKUP(J448,'Boden DüV-Bolap'!A:AA,19,FALSE),IF(F448=\"mittel\",VLOOKUP(J448,'Boden DüV-Bolap'!A:AA,23,FALSE),IF(F448=\"schwer\",VLOOKUP(J448,'Boden DüV-Bolap'!A:AA,27,FALSE))))))","v":""}]
[445,null,null,null,null,null,null,null,null,null,null,null,null,null,null,null,null,{"$f":"IF(H449=\"\",\"\",IF(H449>39,\"E\",VLOOKUP(H449,'Boden DüV-Bolap'!A:B,2,FALSE)))","v":""},{"$f":"IF(OR(I449=\"\",F449=\"\"),\"\",IF(I449>39,\"E\",IF(F449=\"leicht\",VLOOKUP(I449,'Boden DüV-Bolap'!A:Q,7,FALSE),IF(F449=\"mittel\",VLOOKUP(I449,'Boden DüV-Bolap'!A:K,11,FALSE),IF(F449=\"schwer\",VLOOKUP(I449,'Boden DüV-Bolap'!A:R,15,FALSE))))))","v":""},{"$f":"IF(OR(J449=\"\",F449=\"\"),\"\",IF(J449>39,\"E\",IF(F449=\"leicht\",VLOOKUP(J449,'Boden DüV-Bolap'!A:AA,19,FALSE),IF(F449=\"mittel\",VLOOKUP(J449,'Boden DüV-Bolap'!A:AA,23,FALSE),IF(F449=\"schwer\",VLOOKUP(J449,'Boden DüV-Bolap'!A:AA,27,FALSE))))))","v":""}]
[446,null,null,null,null,null,null,null,null,null,null,null,null,null,null,null,null,{"$f":"IF(H450=\"\",\"\",IF(H450>39,\"E\",VLOOKUP(H450,'Boden DüV-Bolap'!A:B,2,FALSE)))","v":""},{"$f":"IF(OR(I450=\"\",F450=\"\"),\"\",IF(I450>39,\"E\",IF(F450=\"leicht\",VLOOKUP(I450,'Boden DüV-Bolap'!A:Q,7,FALSE),IF(F450=\"mittel\",VLOOKUP(I450,'Boden DüV-Bolap'!A:K,11,FALSE),IF(F450=\"schwer\",VLOOKUP(I450,'Boden DüV-Bolap'!A:R,15,FALSE))))))","v":""},{"$f":"IF(OR(J450=\"\",F450=\"\"),\"\",IF(J450>39,\"E\",IF(F450=\"leicht\",VLOOKUP(J450,'Boden DüV-Bolap'!A:AA,19,FALSE),IF(F450=\"mittel\",VLOOKUP(J450,'Boden DüV-Bolap'!A:AA,23,FALSE),IF(F450=\"schwer\",VLOOKUP(J450,'Boden DüV-Bolap'!A:AA,27,FALSE))))))","v":""}]
[447,null,null,null,null,null,null,null,null,null,null,null,null,null,null,null,null,{"$f":"IF(H451=\"\",\"\",IF(H451>39,\"E\",VLOOKUP(H451,'Boden DüV-Bolap'!A:B,2,FALSE)))","v":""},{"$f":"IF(OR(I451=\"\",F451=\"\"),\"\",IF(I451>39,\"E\",IF(F451=\"leicht\",VLOOKUP(I451,'Boden DüV-Bolap'!A:Q,7,FALSE),IF(F451=\"mittel\",VLOOKUP(I451,'Boden DüV-Bolap'!A:K,11,FALSE),IF(F451=\"schwer\",VLOOKUP(I451,'Boden DüV-Bolap'!A:R,15,FALSE))))))","v":""},{"$f":"IF(OR(J451=\"\",F451=\"\"),\"\",IF(J451>39,\"E\",IF(F451=\"leicht\",VLOOKUP(J451,'Boden DüV-Bolap'!A:AA,19,FALSE),IF(F451=\"mittel\",VLOOKUP(J451,'Boden DüV-Bolap'!A:AA,23,FALSE),IF(F451=\"schwer\",VLOOKUP(J451,'Boden DüV-Bolap'!A:AA,27,FALSE))))))","v":""}]
[448,null,null,null,null,null,null,null,null,null,null,null,null,null,null,null,null,{"$f":"IF(H452=\"\",\"\",IF(H452>39,\"E\",VLOOKUP(H452,'Boden DüV-Bolap'!A:B,2,FALSE)))","v":""},{"$f":"IF(OR(I452=\"\",F452=\"\"),\"\",IF(I452>39,\"E\",IF(F452=\"leicht\",VLOOKUP(I452,'Boden DüV-Bolap'!A:Q,7,FALSE),IF(F452=\"mittel\",VLOOKUP(I452,'Boden DüV-Bolap'!A:K,11,FALSE),IF(F452=\"schwer\",VLOOKUP(I452,'Boden DüV-Bolap'!A:R,15,FALSE))))))","v":""},{"$f":"IF(OR(J452=\"\",F452=\"\"),\"\",IF(J452>39,\"E\",IF(F452=\"leicht\",VLOOKUP(J452,'Boden DüV-Bolap'!A:AA,19,FALSE),IF(F452=\"mittel\",VLOOKUP(J452,'Boden DüV-Bolap'!A:AA,23,FALSE),IF(F452=\"schwer\",VLOOKUP(J452,'Boden DüV-Bolap'!A:AA,27,FALSE))))))","v":""}]
[449,null,null,null,null,null,null,null,null,null,null,null,null,null,null,null,null,{"$f":"IF(H453=\"\",\"\",IF(H453>39,\"E\",VLOOKUP(H453,'Boden DüV-Bolap'!A:B,2,FALSE)))","v":""},{"$f":"IF(OR(I453=\"\",F453=\"\"),\"\",IF(I453>39,\"E\",IF(F453=\"leicht\",VLOOKUP(I453,'Boden DüV-Bolap'!A:Q,7,FALSE),IF(F453=\"mittel\",VLOOKUP(I453,'Boden DüV-Bolap'!A:K,11,FALSE),IF(F453=\"schwer\",VLOOKUP(I453,'Boden DüV-Bolap'!A:R,15,FALSE))))))","v":""},{"$f":"IF(OR(J453=\"\",F453=\"\"),\"\",IF(J453>39,\"E\",IF(F453=\"leicht\",VLOOKUP(J453,'Boden DüV-Bolap'!A:AA,19,FALSE),IF(F453=\"mittel\",VLOOKUP(J453,'Boden DüV-Bolap'!A:AA,23,FALSE),IF(F453=\"schwer\",VLOOKUP(J453,'Boden DüV-Bolap'!A:AA,27,FALSE))))))","v":""}]
[450,null,null,null,null,null,null,null,null,null,null,null,null,null,null,null,null,{"$f":"IF(H454=\"\",\"\",IF(H454>39,\"E\",VLOOKUP(H454,'Boden DüV-Bolap'!A:B,2,FALSE)))","v":""},{"$f":"IF(OR(I454=\"\",F454=\"\"),\"\",IF(I454>39,\"E\",IF(F454=\"leicht\",VLOOKUP(I454,'Boden DüV-Bolap'!A:Q,7,FALSE),IF(F454=\"mittel\",VLOOKUP(I454,'Boden DüV-Bolap'!A:K,11,FALSE),IF(F454=\"schwer\",VLOOKUP(I454,'Boden DüV-Bolap'!A:R,15,FALSE))))))","v":""},{"$f":"IF(OR(J454=\"\",F454=\"\"),\"\",IF(J454>39,\"E\",IF(F454=\"leicht\",VLOOKUP(J454,'Boden DüV-Bolap'!A:AA,19,FALSE),IF(F454=\"mittel\",VLOOKUP(J454,'Boden DüV-Bolap'!A:AA,23,FALSE),IF(F454=\"schwer\",VLOOKUP(J454,'Boden DüV-Bolap'!A:AA,27,FALSE))))))","v":""}]
[451,null,null,null,null,null,null,null,null,null,null,null,null,null,null,null,null,{"$f":"IF(H455=\"\",\"\",IF(H455>39,\"E\",VLOOKUP(H455,'Boden DüV-Bolap'!A:B,2,FALSE)))","v":""},{"$f":"IF(OR(I455=\"\",F455=\"\"),\"\",IF(I455>39,\"E\",IF(F455=\"leicht\",VLOOKUP(I455,'Boden DüV-Bolap'!A:Q,7,FALSE),IF(F455=\"mittel\",VLOOKUP(I455,'Boden DüV-Bolap'!A:K,11,FALSE),IF(F455=\"schwer\",VLOOKUP(I455,'Boden DüV-Bolap'!A:R,15,FALSE))))))","v":""},{"$f":"IF(OR(J455=\"\",F455=\"\"),\"\",IF(J455>39,\"E\",IF(F455=\"leicht\",VLOOKUP(J455,'Boden DüV-Bolap'!A:AA,19,FALSE),IF(F455=\"mittel\",VLOOKUP(J455,'Boden DüV-Bolap'!A:AA,23,FALSE),IF(F455=\"schwer\",VLOOKUP(J455,'Boden DüV-Bolap'!A:AA,27,FALSE))))))","v":""}]
[452,null,null,null,null,null,null,null,null,null,null,null,null,null,null,null,null,{"$f":"IF(H456=\"\",\"\",IF(H456>39,\"E\",VLOOKUP(H456,'Boden DüV-Bolap'!A:B,2,FALSE)))","v":""},{"$f":"IF(OR(I456=\"\",F456=\"\"),\"\",IF(I456>39,\"E\",IF(F456=\"leicht\",VLOOKUP(I456,'Boden DüV-Bolap'!A:Q,7,FALSE),IF(F456=\"mittel\",VLOOKUP(I456,'Boden DüV-Bolap'!A:K,11,FALSE),IF(F456=\"schwer\",VLOOKUP(I456,'Boden DüV-Bolap'!A:R,15,FALSE))))))","v":""},{"$f":"IF(OR(J456=\"\",F456=\"\"),\"\",IF(J456>39,\"E\",IF(F456=\"leicht\",VLOOKUP(J456,'Boden DüV-Bolap'!A:AA,19,FALSE),IF(F456=\"mittel\",VLOOKUP(J456,'Boden DüV-Bolap'!A:AA,23,FALSE),IF(F456=\"schwer\",VLOOKUP(J456,'Boden DüV-Bolap'!A:AA,27,FALSE))))))","v":""}]
[453,null,null,null,null,null,null,null,null,null,null,null,null,null,null,null,null,{"$f":"IF(H457=\"\",\"\",IF(H457>39,\"E\",VLOOKUP(H457,'Boden DüV-Bolap'!A:B,2,FALSE)))","v":""},{"$f":"IF(OR(I457=\"\",F457=\"\"),\"\",IF(I457>39,\"E\",IF(F457=\"leicht\",VLOOKUP(I457,'Boden DüV-Bolap'!A:Q,7,FALSE),IF(F457=\"mittel\",VLOOKUP(I457,'Boden DüV-Bolap'!A:K,11,FALSE),IF(F457=\"schwer\",VLOOKUP(I457,'Boden DüV-Bolap'!A:R,15,FALSE))))))","v":""},{"$f":"IF(OR(J457=\"\",F457=\"\"),\"\",IF(J457>39,\"E\",IF(F457=\"leicht\",VLOOKUP(J457,'Boden DüV-Bolap'!A:AA,19,FALSE),IF(F457=\"mittel\",VLOOKUP(J457,'Boden DüV-Bolap'!A:AA,23,FALSE),IF(F457=\"schwer\",VLOOKUP(J457,'Boden DüV-Bolap'!A:AA,27,FALSE))))))","v":""}]
[454,null,null,null,null,null,null,null,null,null,null,null,null,null,null,null,null,{"$f":"IF(H458=\"\",\"\",IF(H458>39,\"E\",VLOOKUP(H458,'Boden DüV-Bolap'!A:B,2,FALSE)))","v":""},{"$f":"IF(OR(I458=\"\",F458=\"\"),\"\",IF(I458>39,\"E\",IF(F458=\"leicht\",VLOOKUP(I458,'Boden DüV-Bolap'!A:Q,7,FALSE),IF(F458=\"mittel\",VLOOKUP(I458,'Boden DüV-Bolap'!A:K,11,FALSE),IF(F458=\"schwer\",VLOOKUP(I458,'Boden DüV-Bolap'!A:R,15,FALSE))))))","v":""},{"$f":"IF(OR(J458=\"\",F458=\"\"),\"\",IF(J458>39,\"E\",IF(F458=\"leicht\",VLOOKUP(J458,'Boden DüV-Bolap'!A:AA,19,FALSE),IF(F458=\"mittel\",VLOOKUP(J458,'Boden DüV-Bolap'!A:AA,23,FALSE),IF(F458=\"schwer\",VLOOKUP(J458,'Boden DüV-Bolap'!A:AA,27,FALSE))))))","v":""}]
[455,null,null,null,null,null,null,null,null,null,null,null,null,null,null,null,null,{"$f":"IF(H459=\"\",\"\",IF(H459>39,\"E\",VLOOKUP(H459,'Boden DüV-Bolap'!A:B,2,FALSE)))","v":""},{"$f":"IF(OR(I459=\"\",F459=\"\"),\"\",IF(I459>39,\"E\",IF(F459=\"leicht\",VLOOKUP(I459,'Boden DüV-Bolap'!A:Q,7,FALSE),IF(F459=\"mittel\",VLOOKUP(I459,'Boden DüV-Bolap'!A:K,11,FALSE),IF(F459=\"schwer\",VLOOKUP(I459,'Boden DüV-Bolap'!A:R,15,FALSE))))))","v":""},{"$f":"IF(OR(J459=\"\",F459=\"\"),\"\",IF(J459>39,\"E\",IF(F459=\"leicht\",VLOOKUP(J459,'Boden DüV-Bolap'!A:AA,19,FALSE),IF(F459=\"mittel\",VLOOKUP(J459,'Boden DüV-Bolap'!A:AA,23,FALSE),IF(F459=\"schwer\",VLOOKUP(J459,'Boden DüV-Bolap'!A:AA,27,FALSE))))))","v":""}]
[456,null,null,null,null,null,null,null,null,null,null,null,null,null,null,null,null,{"$f":"IF(H460=\"\",\"\",IF(H460>39,\"E\",VLOOKUP(H460,'Boden DüV-Bolap'!A:B,2,FALSE)))","v":""},{"$f":"IF(OR(I460=\"\",F460=\"\"),\"\",IF(I460>39,\"E\",IF(F460=\"leicht\",VLOOKUP(I460,'Boden DüV-Bolap'!A:Q,7,FALSE),IF(F460=\"mittel\",VLOOKUP(I460,'Boden DüV-Bolap'!A:K,11,FALSE),IF(F460=\"schwer\",VLOOKUP(I460,'Boden DüV-Bolap'!A:R,15,FALSE))))))","v":""},{"$f":"IF(OR(J460=\"\",F460=\"\"),\"\",IF(J460>39,\"E\",IF(F460=\"leicht\",VLOOKUP(J460,'Boden DüV-Bolap'!A:AA,19,FALSE),IF(F460=\"mittel\",VLOOKUP(J460,'Boden DüV-Bolap'!A:AA,23,FALSE),IF(F460=\"schwer\",VLOOKUP(J460,'Boden DüV-Bolap'!A:AA,27,FALSE))))))","v":""}]
[457,null,null,null,null,null,null,null,null,null,null,null,null,null,null,null,null,{"$f":"IF(H461=\"\",\"\",IF(H461>39,\"E\",VLOOKUP(H461,'Boden DüV-Bolap'!A:B,2,FALSE)))","v":""},{"$f":"IF(OR(I461=\"\",F461=\"\"),\"\",IF(I461>39,\"E\",IF(F461=\"leicht\",VLOOKUP(I461,'Boden DüV-Bolap'!A:Q,7,FALSE),IF(F461=\"mittel\",VLOOKUP(I461,'Boden DüV-Bolap'!A:K,11,FALSE),IF(F461=\"schwer\",VLOOKUP(I461,'Boden DüV-Bolap'!A:R,15,FALSE))))))","v":""},{"$f":"IF(OR(J461=\"\",F461=\"\"),\"\",IF(J461>39,\"E\",IF(F461=\"leicht\",VLOOKUP(J461,'Boden DüV-Bolap'!A:AA,19,FALSE),IF(F461=\"mittel\",VLOOKUP(J461,'Boden DüV-Bolap'!A:AA,23,FALSE),IF(F461=\"schwer\",VLOOKUP(J461,'Boden DüV-Bolap'!A:AA,27,FALSE))))))","v":""}]
[458,null,null,null,null,null,null,null,null,null,null,null,null,null,null,null,null,{"$f":"IF(H462=\"\",\"\",IF(H462>39,\"E\",VLOOKUP(H462,'Boden DüV-Bolap'!A:B,2,FALSE)))","v":""},{"$f":"IF(OR(I462=\"\",F462=\"\"),\"\",IF(I462>39,\"E\",IF(F462=\"leicht\",VLOOKUP(I462,'Boden DüV-Bolap'!A:Q,7,FALSE),IF(F462=\"mittel\",VLOOKUP(I462,'Boden DüV-Bolap'!A:K,11,FALSE),IF(F462=\"schwer\",VLOOKUP(I462,'Boden DüV-Bolap'!A:R,15,FALSE))))))","v":""},{"$f":"IF(OR(J462=\"\",F462=\"\"),\"\",IF(J462>39,\"E\",IF(F462=\"leicht\",VLOOKUP(J462,'Boden DüV-Bolap'!A:AA,19,FALSE),IF(F462=\"mittel\",VLOOKUP(J462,'Boden DüV-Bolap'!A:AA,23,FALSE),IF(F462=\"schwer\",VLOOKUP(J462,'Boden DüV-Bolap'!A:AA,27,FALSE))))))","v":""}]
[459,null,null,null,null,null,null,null,null,null,null,null,null,null,null,null,null,{"$f":"IF(H463=\"\",\"\",IF(H463>39,\"E\",VLOOKUP(H463,'Boden DüV-Bolap'!A:B,2,FALSE)))","v":""},{"$f":"IF(OR(I463=\"\",F463=\"\"),\"\",IF(I463>39,\"E\",IF(F463=\"leicht\",VLOOKUP(I463,'Boden DüV-Bolap'!A:Q,7,FALSE),IF(F463=\"mittel\",VLOOKUP(I463,'Boden DüV-Bolap'!A:K,11,FALSE),IF(F463=\"schwer\",VLOOKUP(I463,'Boden DüV-Bolap'!A:R,15,FALSE))))))","v":""},{"$f":"IF(OR(J463=\"\",F463=\"\"),\"\",IF(J463>39,\"E\",IF(F463=\"leicht\",VLOOKUP(J463,'Boden DüV-Bolap'!A:AA,19,FALSE),IF(F463=\"mittel\",VLOOKUP(J463,'Boden DüV-Bolap'!A:AA,23,FALSE),IF(F463=\"schwer\",VLOOKUP(J463,'Boden DüV-Bolap'!A:AA,27,FALSE))))))","v":""}]
[460,null,null,null,null,null,null,null,null,null,null,null,null,null,null,null,null,{"$f":"IF(H464=\"\",\"\",IF(H464>39,\"E\",VLOOKUP(H464,'Boden DüV-Bolap'!A:B,2,FALSE)))","v":""},{"$f":"IF(OR(I464=\"\",F464=\"\"),\"\",IF(I464>39,\"E\",IF(F464=\"leicht\",VLOOKUP(I464,'Boden DüV-Bolap'!A:Q,7,FALSE),IF(F464=\"mittel\",VLOOKUP(I464,'Boden DüV-Bolap'!A:K,11,FALSE),IF(F464=\"schwer\",VLOOKUP(I464,'Boden DüV-Bolap'!A:R,15,FALSE))))))","v":""},{"$f":"IF(OR(J464=\"\",F464=\"\"),\"\",IF(J464>39,\"E\",IF(F464=\"leicht\",VLOOKUP(J464,'Boden DüV-Bolap'!A:AA,19,FALSE),IF(F464=\"mittel\",VLOOKUP(J464,'Boden DüV-Bolap'!A:AA,23,FALSE),IF(F464=\"schwer\",VLOOKUP(J464,'Boden DüV-Bolap'!A:AA,27,FALSE))))))","v":""}]
[461,null,null,null,null,null,null,null,null,null,null,null,null,null,null,null,null,{"$f":"IF(H465=\"\",\"\",IF(H465>39,\"E\",VLOOKUP(H465,'Boden DüV-Bolap'!A:B,2,FALSE)))","v":""},{"$f":"IF(OR(I465=\"\",F465=\"\"),\"\",IF(I465>39,\"E\",IF(F465=\"leicht\",VLOOKUP(I465,'Boden DüV-Bolap'!A:Q,7,FALSE),IF(F465=\"mittel\",VLOOKUP(I465,'Boden DüV-Bolap'!A:K,11,FALSE),IF(F465=\"schwer\",VLOOKUP(I465,'Boden DüV-Bolap'!A:R,15,FALSE))))))","v":""},{"$f":"IF(OR(J465=\"\",F465=\"\"),\"\",IF(J465>39,\"E\",IF(F465=\"leicht\",VLOOKUP(J465,'Boden DüV-Bolap'!A:AA,19,FALSE),IF(F465=\"mittel\",VLOOKUP(J465,'Boden DüV-Bolap'!A:AA,23,FALSE),IF(F465=\"schwer\",VLOOKUP(J465,'Boden DüV-Bolap'!A:AA,27,FALSE))))))","v":""}]
[462,null,null,null,null,null,null,null,null,null,null,null,null,null,null,null,null,{"$f":"IF(H466=\"\",\"\",IF(H466>39,\"E\",VLOOKUP(H466,'Boden DüV-Bolap'!A:B,2,FALSE)))","v":""},{"$f":"IF(OR(I466=\"\",F466=\"\"),\"\",IF(I466>39,\"E\",IF(F466=\"leicht\",VLOOKUP(I466,'Boden DüV-Bolap'!A:Q,7,FALSE),IF(F466=\"mittel\",VLOOKUP(I466,'Boden DüV-Bolap'!A:K,11,FALSE),IF(F466=\"schwer\",VLOOKUP(I466,'Boden DüV-Bolap'!A:R,15,FALSE))))))","v":""},{"$f":"IF(OR(J466=\"\",F466=\"\"),\"\",IF(J466>39,\"E\",IF(F466=\"leicht\",VLOOKUP(J466,'Boden DüV-Bolap'!A:AA,19,FALSE),IF(F466=\"mittel\",VLOOKUP(J466,'Boden DüV-Bolap'!A:AA,23,FALSE),IF(F466=\"schwer\",VLOOKUP(J466,'Boden DüV-Bolap'!A:AA,27,FALSE))))))","v":""}]
[463,null,null,null,null,null,null,null,null,null,null,null,null,null,null,null,null,{"$f":"IF(H467=\"\",\"\",IF(H467>39,\"E\",VLOOKUP(H467,'Boden DüV-Bolap'!A:B,2,FALSE)))","v":""},{"$f":"IF(OR(I467=\"\",F467=\"\"),\"\",IF(I467>39,\"E\",IF(F467=\"leicht\",VLOOKUP(I467,'Boden DüV-Bolap'!A:Q,7,FALSE),IF(F467=\"mittel\",VLOOKUP(I467,'Boden DüV-Bolap'!A:K,11,FALSE),IF(F467=\"schwer\",VLOOKUP(I467,'Boden DüV-Bolap'!A:R,15,FALSE))))))","v":""},{"$f":"IF(OR(J467=\"\",F467=\"\"),\"\",IF(J467>39,\"E\",IF(F467=\"leicht\",VLOOKUP(J467,'Boden DüV-Bolap'!A:AA,19,FALSE),IF(F467=\"mittel\",VLOOKUP(J467,'Boden DüV-Bolap'!A:AA,23,FALSE),IF(F467=\"schwer\",VLOOKUP(J467,'Boden DüV-Bolap'!A:AA,27,FALSE))))))","v":""}]
[464,null,null,null,null,null,null,null,null,null,null,null,null,null,null,null,null,{"$f":"IF(H468=\"\",\"\",IF(H468>39,\"E\",VLOOKUP(H468,'Boden DüV-Bolap'!A:B,2,FALSE)))","v":""},{"$f":"IF(OR(I468=\"\",F468=\"\"),\"\",IF(I468>39,\"E\",IF(F468=\"leicht\",VLOOKUP(I468,'Boden DüV-Bolap'!A:Q,7,FALSE),IF(F468=\"mittel\",VLOOKUP(I468,'Boden DüV-Bolap'!A:K,11,FALSE),IF(F468=\"schwer\",VLOOKUP(I468,'Boden DüV-Bolap'!A:R,15,FALSE))))))","v":""},{"$f":"IF(OR(J468=\"\",F468=\"\"),\"\",IF(J468>39,\"E\",IF(F468=\"leicht\",VLOOKUP(J468,'Boden DüV-Bolap'!A:AA,19,FALSE),IF(F468=\"mittel\",VLOOKUP(J468,'Boden DüV-Bolap'!A:AA,23,FALSE),IF(F468=\"schwer\",VLOOKUP(J468,'Boden DüV-Bolap'!A:AA,27,FALSE))))))","v":""}]
[465,null,null,null,null,null,null,null,null,null,null,null,null,null,null,null,null,{"$f":"IF(H469=\"\",\"\",IF(H469>39,\"E\",VLOOKUP(H469,'Boden DüV-Bolap'!A:B,2,FALSE)))","v":""},{"$f":"IF(OR(I469=\"\",F469=\"\"),\"\",IF(I469>39,\"E\",IF(F469=\"leicht\",VLOOKUP(I469,'Boden DüV-Bolap'!A:Q,7,FALSE),IF(F469=\"mittel\",VLOOKUP(I469,'Boden DüV-Bolap'!A:K,11,FALSE),IF(F469=\"schwer\",VLOOKUP(I469,'Boden DüV-Bolap'!A:R,15,FALSE))))))","v":""},{"$f":"IF(OR(J469=\"\",F469=\"\"),\"\",IF(J469>39,\"E\",IF(F469=\"leicht\",VLOOKUP(J469,'Boden DüV-Bolap'!A:AA,19,FALSE),IF(F469=\"mittel\",VLOOKUP(J469,'Boden DüV-Bolap'!A:AA,23,FALSE),IF(F469=\"schwer\",VLOOKUP(J469,'Boden DüV-Bolap'!A:AA,27,FALSE))))))","v":""}]
[466,null,null,null,null,null,null,null,null,null,null,null,null,null,null,null,null,{"$f":"IF(H470=\"\",\"\",IF(H470>39,\"E\",VLOOKUP(H470,'Boden DüV-Bolap'!A:B,2,FALSE)))","v":""},{"$f":"IF(OR(I470=\"\",F470=\"\"),\"\",IF(I470>39,\"E\",IF(F470=\"leicht\",VLOOKUP(I470,'Boden DüV-Bolap'!A:Q,7,FALSE),IF(F470=\"mittel\",VLOOKUP(I470,'Boden DüV-Bolap'!A:K,11,FALSE),IF(F470=\"schwer\",VLOOKUP(I470,'Boden DüV-Bolap'!A:R,15,FALSE))))))","v":""},{"$f":"IF(OR(J470=\"\",F470=\"\"),\"\",IF(J470>39,\"E\",IF(F470=\"leicht\",VLOOKUP(J470,'Boden DüV-Bolap'!A:AA,19,FALSE),IF(F470=\"mittel\",VLOOKUP(J470,'Boden DüV-Bolap'!A:AA,23,FALSE),IF(F470=\"schwer\",VLOOKUP(J470,'Boden DüV-Bolap'!A:AA,27,FALSE))))))","v":""}]
[467,null,null,null,null,null,null,null,null,null,null,null,null,null,null,null,null,{"$f":"IF(H471=\"\",\"\",IF(H471>39,\"E\",VLOOKUP(H471,'Boden DüV-Bolap'!A:B,2,FALSE)))","v":""},{"$f":"IF(OR(I471=\"\",F471=\"\"),\"\",IF(I471>39,\"E\",IF(F471=\"leicht\",VLOOKUP(I471,'Boden DüV-Bolap'!A:Q,7,FALSE),IF(F471=\"mittel\",VLOOKUP(I471,'Boden DüV-Bolap'!A:K,11,FALSE),IF(F471=\"schwer\",VLOOKUP(I471,'Boden DüV-Bolap'!A:R,15,FALSE))))))","v":""},{"$f":"IF(OR(J471=\"\",F471=\"\"),\"\",IF(J471>39,\"E\",IF(F471=\"leicht\",VLOOKUP(J471,'Boden DüV-Bolap'!A:AA,19,FALSE),IF(F471=\"mittel\",VLOOKUP(J471,'Boden DüV-Bolap'!A:AA,23,FALSE),IF(F471=\"schwer\",VLOOKUP(J471,'Boden DüV-Bolap'!A:AA,27,FALSE))))))","v":""}]
[468,null,null,null,null,null,null,null,null,null,null,null,null,null,null,null,null,{"$f":"IF(H472=\"\",\"\",IF(H472>39,\"E\",VLOOKUP(H472,'Boden DüV-Bolap'!A:B,2,FALSE)))","v":""},{"$f":"IF(OR(I472=\"\",F472=\"\"),\"\",IF(I472>39,\"E\",IF(F472=\"leicht\",VLOOKUP(I472,'Boden DüV-Bolap'!A:Q,7,FALSE),IF(F472=\"mittel\",VLOOKUP(I472,'Boden DüV-Bolap'!A:K,11,FALSE),IF(F472=\"schwer\",VLOOKUP(I472,'Boden DüV-Bolap'!A:R,15,FALSE))))))","v":""},{"$f":"IF(OR(J472=\"\",F472=\"\"),\"\",IF(J472>39,\"E\",IF(F472=\"leicht\",VLOOKUP(J472,'Boden DüV-Bolap'!A:AA,19,FALSE),IF(F472=\"mittel\",VLOOKUP(J472,'Boden DüV-Bolap'!A:AA,23,FALSE),IF(F472=\"schwer\",VLOOKUP(J472,'Boden DüV-Bolap'!A:AA,27,FALSE))))))","v":""}]
[469,null,null,null,null,null,null,null,null,null,null,null,null,null,null,null,null,{"$f":"IF(H473=\"\",\"\",IF(H473>39,\"E\",VLOOKUP(H473,'Boden DüV-Bolap'!A:B,2,FALSE)))","v":""},{"$f":"IF(OR(I473=\"\",F473=\"\"),\"\",IF(I473>39,\"E\",IF(F473=\"leicht\",VLOOKUP(I473,'Boden DüV-Bolap'!A:Q,7,FALSE),IF(F473=\"mittel\",VLOOKUP(I473,'Boden DüV-Bolap'!A:K,11,FALSE),IF(F473=\"schwer\",VLOOKUP(I473,'Boden DüV-Bolap'!A:R,15,FALSE))))))","v":""},{"$f":"IF(OR(J473=\"\",F473=\"\"),\"\",IF(J473>39,\"E\",IF(F473=\"leicht\",VLOOKUP(J473,'Boden DüV-Bolap'!A:AA,19,FALSE),IF(F473=\"mittel\",VLOOKUP(J473,'Boden DüV-Bolap'!A:AA,23,FALSE),IF(F473=\"schwer\",VLOOKUP(J473,'Boden DüV-Bolap'!A:AA,27,FALSE))))))","v":""}]
[470,null,null,null,null,null,null,null,null,null,null,null,null,null,null,null,null,{"$f":"IF(H474=\"\",\"\",IF(H474>39,\"E\",VLOOKUP(H474,'Boden DüV-Bolap'!A:B,2,FALSE)))","v":""},{"$f":"IF(OR(I474=\"\",F474=\"\"),\"\",IF(I474>39,\"E\",IF(F474=\"leicht\",VLOOKUP(I474,'Boden DüV-Bolap'!A:Q,7,FALSE),IF(F474=\"mittel\",VLOOKUP(I474,'Boden DüV-Bolap'!A:K,11,FALSE),IF(F474=\"schwer\",VLOOKUP(I474,'Boden DüV-Bolap'!A:R,15,FALSE))))))","v":""},{"$f":"IF(OR(J474=\"\",F474=\"\"),\"\",IF(J474>39,\"E\",IF(F474=\"leicht\",VLOOKUP(J474,'Boden DüV-Bolap'!A:AA,19,FALSE),IF(F474=\"mittel\",VLOOKUP(J474,'Boden DüV-Bolap'!A:AA,23,FALSE),IF(F474=\"schwer\",VLOOKUP(J474,'Boden DüV-Bolap'!A:AA,27,FALSE))))))","v":""}]
[471,null,null,null,null,null,null,null,null,null,null,null,null,null,null,null,null,{"$f":"IF(H475=\"\",\"\",IF(H475>39,\"E\",VLOOKUP(H475,'Boden DüV-Bolap'!A:B,2,FALSE)))","v":""},{"$f":"IF(OR(I475=\"\",F475=\"\"),\"\",IF(I475>39,\"E\",IF(F475=\"leicht\",VLOOKUP(I475,'Boden DüV-Bolap'!A:Q,7,FALSE),IF(F475=\"mittel\",VLOOKUP(I475,'Boden DüV-Bolap'!A:K,11,FALSE),IF(F475=\"schwer\",VLOOKUP(I475,'Boden DüV-Bolap'!A:R,15,FALSE))))))","v":""},{"$f":"IF(OR(J475=\"\",F475=\"\"),\"\",IF(J475>39,\"E\",IF(F475=\"leicht\",VLOOKUP(J475,'Boden DüV-Bolap'!A:AA,19,FALSE),IF(F475=\"mittel\",VLOOKUP(J475,'Boden DüV-Bolap'!A:AA,23,FALSE),IF(F475=\"schwer\",VLOOKUP(J475,'Boden DüV-Bolap'!A:AA,27,FALSE))))))","v":""}]
[472,null,null,null,null,null,null,null,null,null,null,null,null,null,null,null,null,{"$f":"IF(H476=\"\",\"\",IF(H476>39,\"E\",VLOOKUP(H476,'Boden DüV-Bolap'!A:B,2,FALSE)))","v":""},{"$f":"IF(OR(I476=\"\",F476=\"\"),\"\",IF(I476>39,\"E\",IF(F476=\"leicht\",VLOOKUP(I476,'Boden DüV-Bolap'!A:Q,7,FALSE),IF(F476=\"mittel\",VLOOKUP(I476,'Boden DüV-Bolap'!A:K,11,FALSE),IF(F476=\"schwer\",VLOOKUP(I476,'Boden DüV-Bolap'!A:R,15,FALSE))))))","v":""},{"$f":"IF(OR(J476=\"\",F476=\"\"),\"\",IF(J476>39,\"E\",IF(F476=\"leicht\",VLOOKUP(J476,'Boden DüV-Bolap'!A:AA,19,FALSE),IF(F476=\"mittel\",VLOOKUP(J476,'Boden DüV-Bolap'!A:AA,23,FALSE),IF(F476=\"schwer\",VLOOKUP(J476,'Boden DüV-Bolap'!A:AA,27,FALSE))))))","v":""}]
[473,null,null,null,null,null,null,null,null,null,null,null,null,null,null,null,null,{"$f":"IF(H477=\"\",\"\",IF(H477>39,\"E\",VLOOKUP(H477,'Boden DüV-Bolap'!A:B,2,FALSE)))","v":""},{"$f":"IF(OR(I477=\"\",F477=\"\"),\"\",IF(I477>39,\"E\",IF(F477=\"leicht\",VLOOKUP(I477,'Boden DüV-Bolap'!A:Q,7,FALSE),IF(F477=\"mittel\",VLOOKUP(I477,'Boden DüV-Bolap'!A:K,11,FALSE),IF(F477=\"schwer\",VLOOKUP(I477,'Boden DüV-Bolap'!A:R,15,FALSE))))))","v":""},{"$f":"IF(OR(J477=\"\",F477=\"\"),\"\",IF(J477>39,\"E\",IF(F477=\"leicht\",VLOOKUP(J477,'Boden DüV-Bolap'!A:AA,19,FALSE),IF(F477=\"mittel\",VLOOKUP(J477,'Boden DüV-Bolap'!A:AA,23,FALSE),IF(F477=\"schwer\",VLOOKUP(J477,'Boden DüV-Bolap'!A:AA,27,FALSE))))))","v":""}]
[474,null,null,null,null,null,null,null,null,null,null,null,null,null,null,null,null,{"$f":"IF(H478=\"\",\"\",IF(H478>39,\"E\",VLOOKUP(H478,'Boden DüV-Bolap'!A:B,2,FALSE)))","v":""},{"$f":"IF(OR(I478=\"\",F478=\"\"),\"\",IF(I478>39,\"E\",IF(F478=\"leicht\",VLOOKUP(I478,'Boden DüV-Bolap'!A:Q,7,FALSE),IF(F478=\"mittel\",VLOOKUP(I478,'Boden DüV-Bolap'!A:K,11,FALSE),IF(F478=\"schwer\",VLOOKUP(I478,'Boden DüV-Bolap'!A:R,15,FALSE))))))","v":""},{"$f":"IF(OR(J478=\"\",F478=\"\"),\"\",IF(J478>39,\"E\",IF(F478=\"leicht\",VLOOKUP(J478,'Boden DüV-Bolap'!A:AA,19,FALSE),IF(F478=\"mittel\",VLOOKUP(J478,'Boden DüV-Bolap'!A:AA,23,FALSE),IF(F478=\"schwer\",VLOOKUP(J478,'Boden DüV-Bolap'!A:AA,27,FALSE))))))","v":""}]
[475,null,null,null,null,null,null,null,null,null,null,null,null,null,null,null,null,{"$f":"IF(H479=\"\",\"\",IF(H479>39,\"E\",VLOOKUP(H479,'Boden DüV-Bolap'!A:B,2,FALSE)))","v":""},{"$f":"IF(OR(I479=\"\",F479=\"\"),\"\",IF(I479>39,\"E\",IF(F479=\"leicht\",VLOOKUP(I479,'Boden DüV-Bolap'!A:Q,7,FALSE),IF(F479=\"mittel\",VLOOKUP(I479,'Boden DüV-Bolap'!A:K,11,FALSE),IF(F479=\"schwer\",VLOOKUP(I479,'Boden DüV-Bolap'!A:R,15,FALSE))))))","v":""},{"$f":"IF(OR(J479=\"\",F479=\"\"),\"\",IF(J479>39,\"E\",IF(F479=\"leicht\",VLOOKUP(J479,'Boden DüV-Bolap'!A:AA,19,FALSE),IF(F479=\"mittel\",VLOOKUP(J479,'Boden DüV-Bolap'!A:AA,23,FALSE),IF(F479=\"schwer\",VLOOKUP(J479,'Boden DüV-Bolap'!A:AA,27,FALSE))))))","v":""}]
[476,null,null,null,null,null,null,null,null,null,null,null,null,null,null,null,null,{"$f":"IF(H480=\"\",\"\",IF(H480>39,\"E\",VLOOKUP(H480,'Boden DüV-Bolap'!A:B,2,FALSE)))","v":""},{"$f":"IF(OR(I480=\"\",F480=\"\"),\"\",IF(I480>39,\"E\",IF(F480=\"leicht\",VLOOKUP(I480,'Boden DüV-Bolap'!A:Q,7,FALSE),IF(F480=\"mittel\",VLOOKUP(I480,'Boden DüV-Bolap'!A:K,11,FALSE),IF(F480=\"schwer\",VLOOKUP(I480,'Boden DüV-Bolap'!A:R,15,FALSE))))))","v":""},{"$f":"IF(OR(J480=\"\",F480=\"\"),\"\",IF(J480>39,\"E\",IF(F480=\"leicht\",VLOOKUP(J480,'Boden DüV-Bolap'!A:AA,19,FALSE),IF(F480=\"mittel\",VLOOKUP(J480,'Boden DüV-Bolap'!A:AA,23,FALSE),IF(F480=\"schwer\",VLOOKUP(J480,'Boden DüV-Bolap'!A:AA,27,FALSE))))))","v":""}]
[477,null,null,null,null,null,null,null,null,null,null,null,null,null,null,null,null,{"$f":"IF(H481=\"\",\"\",IF(H481>39,\"E\",VLOOKUP(H481,'Boden DüV-Bolap'!A:B,2,FALSE)))","v":""},{"$f":"IF(OR(I481=\"\",F481=\"\"),\"\",IF(I481>39,\"E\",IF(F481=\"leicht\",VLOOKUP(I481,'Boden DüV-Bolap'!A:Q,7,FALSE),IF(F481=\"mittel\",VLOOKUP(I481,'Boden DüV-Bolap'!A:K,11,FALSE),IF(F481=\"schwer\",VLOOKUP(I481,'Boden DüV-Bolap'!A:R,15,FALSE))))))","v":""},{"$f":"IF(OR(J481=\"\",F481=\"\"),\"\",IF(J481>39,\"E\",IF(F481=\"leicht\",VLOOKUP(J481,'Boden DüV-Bolap'!A:AA,19,FALSE),IF(F481=\"mittel\",VLOOKUP(J481,'Boden DüV-Bolap'!A:AA,23,FALSE),IF(F481=\"schwer\",VLOOKUP(J481,'Boden DüV-Bolap'!A:AA,27,FALSE))))))","v":""}]
[478,null,null,null,null,null,null,null,null,null,null,null,null,null,null,null,null,{"$f":"IF(H482=\"\",\"\",IF(H482>39,\"E\",VLOOKUP(H482,'Boden DüV-Bolap'!A:B,2,FALSE)))","v":""},{"$f":"IF(OR(I482=\"\",F482=\"\"),\"\",IF(I482>39,\"E\",IF(F482=\"leicht\",VLOOKUP(I482,'Boden DüV-Bolap'!A:Q,7,FALSE),IF(F482=\"mittel\",VLOOKUP(I482,'Boden DüV-Bolap'!A:K,11,FALSE),IF(F482=\"schwer\",VLOOKUP(I482,'Boden DüV-Bolap'!A:R,15,FALSE))))))","v":""},{"$f":"IF(OR(J482=\"\",F482=\"\"),\"\",IF(J482>39,\"E\",IF(F482=\"leicht\",VLOOKUP(J482,'Boden DüV-Bolap'!A:AA,19,FALSE),IF(F482=\"mittel\",VLOOKUP(J482,'Boden DüV-Bolap'!A:AA,23,FALSE),IF(F482=\"schwer\",VLOOKUP(J482,'Boden DüV-Bolap'!A:AA,27,FALSE))))))","v":""}]
[479,null,null,null,null,null,null,null,null,null,null,null,null,null,null,null,null,{"$f":"IF(H483=\"\",\"\",IF(H483>39,\"E\",VLOOKUP(H483,'Boden DüV-Bolap'!A:B,2,FALSE)))","v":""},{"$f":"IF(OR(I483=\"\",F483=\"\"),\"\",IF(I483>39,\"E\",IF(F483=\"leicht\",VLOOKUP(I483,'Boden DüV-Bolap'!A:Q,7,FALSE),IF(F483=\"mittel\",VLOOKUP(I483,'Boden DüV-Bolap'!A:K,11,FALSE),IF(F483=\"schwer\",VLOOKUP(I483,'Boden DüV-Bolap'!A:R,15,FALSE))))))","v":""},{"$f":"IF(OR(J483=\"\",F483=\"\"),\"\",IF(J483>39,\"E\",IF(F483=\"leicht\",VLOOKUP(J483,'Boden DüV-Bolap'!A:AA,19,FALSE),IF(F483=\"mittel\",VLOOKUP(J483,'Boden DüV-Bolap'!A:AA,23,FALSE),IF(F483=\"schwer\",VLOOKUP(J483,'Boden DüV-Bolap'!A:AA,27,FALSE))))))","v":""}]
[480,null,null,null,null,null,null,null,null,null,null,null,null,null,null,null,null,{"$f":"IF(H484=\"\",\"\",IF(H484>39,\"E\",VLOOKUP(H484,'Boden DüV-Bolap'!A:B,2,FALSE)))","v":""},{"$f":"IF(OR(I484=\"\",F484=\"\"),\"\",IF(I484>39,\"E\",IF(F484=\"leicht\",VLOOKUP(I484,'Boden DüV-Bolap'!A:Q,7,FALSE),IF(F484=\"mittel\",VLOOKUP(I484,'Boden DüV-Bolap'!A:K,11,FALSE),IF(F484=\"schwer\",VLOOKUP(I484,'Boden DüV-Bolap'!A:R,15,FALSE))))))","v":""},{"$f":"IF(OR(J484=\"\",F484=\"\"),\"\",IF(J484>39,\"E\",IF(F484=\"leicht\",VLOOKUP(J484,'Boden DüV-Bolap'!A:AA,19,FALSE),IF(F484=\"mittel\",VLOOKUP(J484,'Boden DüV-Bolap'!A:AA,23,FALSE),IF(F484=\"schwer\",VLOOKUP(J484,'Boden DüV-Bolap'!A:AA,27,FALSE))))))","v":""}]
[481,null,null,null,null,null,null,null,null,null,null,null,null,null,null,null,null,{"$f":"IF(H485=\"\",\"\",IF(H485>39,\"E\",VLOOKUP(H485,'Boden DüV-Bolap'!A:B,2,FALSE)))","v":""},{"$f":"IF(OR(I485=\"\",F485=\"\"),\"\",IF(I485>39,\"E\",IF(F485=\"leicht\",VLOOKUP(I485,'Boden DüV-Bolap'!A:Q,7,FALSE),IF(F485=\"mittel\",VLOOKUP(I485,'Boden DüV-Bolap'!A:K,11,FALSE),IF(F485=\"schwer\",VLOOKUP(I485,'Boden DüV-Bolap'!A:R,15,FALSE))))))","v":""},{"$f":"IF(OR(J485=\"\",F485=\"\"),\"\",IF(J485>39,\"E\",IF(F485=\"leicht\",VLOOKUP(J485,'Boden DüV-Bolap'!A:AA,19,FALSE),IF(F485=\"mittel\",VLOOKUP(J485,'Boden DüV-Bolap'!A:AA,23,FALSE),IF(F485=\"schwer\",VLOOKUP(J485,'Boden DüV-Bolap'!A:AA,27,FALSE))))))","v":""}]
[482,null,null,null,null,null,null,null,null,null,null,null,null,null,null,null,null,{"$f":"IF(H486=\"\",\"\",IF(H486>39,\"E\",VLOOKUP(H486,'Boden DüV-Bolap'!A:B,2,FALSE)))","v":""},{"$f":"IF(OR(I486=\"\",F486=\"\"),\"\",IF(I486>39,\"E\",IF(F486=\"leicht\",VLOOKUP(I486,'Boden DüV-Bolap'!A:Q,7,FALSE),IF(F486=\"mittel\",VLOOKUP(I486,'Boden DüV-Bolap'!A:K,11,FALSE),IF(F486=\"schwer\",VLOOKUP(I486,'Boden DüV-Bolap'!A:R,15,FALSE))))))","v":""},{"$f":"IF(OR(J486=\"\",F486=\"\"),\"\",IF(J486>39,\"E\",IF(F486=\"leicht\",VLOOKUP(J486,'Boden DüV-Bolap'!A:AA,19,FALSE),IF(F486=\"mittel\",VLOOKUP(J486,'Boden DüV-Bolap'!A:AA,23,FALSE),IF(F486=\"schwer\",VLOOKUP(J486,'Boden DüV-Bolap'!A:AA,27,FALSE))))))","v":""}]
[483,null,null,null,null,null,null,null,null,null,null,null,null,null,null,null,null,{"$f":"IF(H487=\"\",\"\",IF(H487>39,\"E\",VLOOKUP(H487,'Boden DüV-Bolap'!A:B,2,FALSE)))","v":""},{"$f":"IF(OR(I487=\"\",F487=\"\"),\"\",IF(I487>39,\"E\",IF(F487=\"leicht\",VLOOKUP(I487,'Boden DüV-Bolap'!A:Q,7,FALSE),IF(F487=\"mittel\",VLOOKUP(I487,'Boden DüV-Bolap'!A:K,11,FALSE),IF(F487=\"schwer\",VLOOKUP(I487,'Boden DüV-Bolap'!A:R,15,FALSE))))))","v":""},{"$f":"IF(OR(J487=\"\",F487=\"\"),\"\",IF(J487>39,\"E\",IF(F487=\"leicht\",VLOOKUP(J487,'Boden DüV-Bolap'!A:AA,19,FALSE),IF(F487=\"mittel\",VLOOKUP(J487,'Boden DüV-Bolap'!A:AA,23,FALSE),IF(F487=\"schwer\",VLOOKUP(J487,'Boden DüV-Bolap'!A:AA,27,FALSE))))))","v":""}]
[484,null,null,null,null,null,null,null,null,null,null,null,null,null,null,null,null,{"$f":"IF(H488=\"\",\"\",IF(H488>39,\"E\",VLOOKUP(H488,'Boden DüV-Bolap'!A:B,2,FALSE)))","v":""},{"$f":"IF(OR(I488=\"\",F488=\"\"),\"\",IF(I488>39,\"E\",IF(F488=\"leicht\",VLOOKUP(I488,'Boden DüV-Bolap'!A:Q,7,FALSE),IF(F488=\"mittel\",VLOOKUP(I488,'Boden DüV-Bolap'!A:K,11,FALSE),IF(F488=\"schwer\",VLOOKUP(I488,'Boden DüV-Bolap'!A:R,15,FALSE))))))","v":""},{"$f":"IF(OR(J488=\"\",F488=\"\"),\"\",IF(J488>39,\"E\",IF(F488=\"leicht\",VLOOKUP(J488,'Boden DüV-Bolap'!A:AA,19,FALSE),IF(F488=\"mittel\",VLOOKUP(J488,'Boden DüV-Bolap'!A:AA,23,FALSE),IF(F488=\"schwer\",VLOOKUP(J488,'Boden DüV-Bolap'!A:AA,27,FALSE))))))","v":""}]
[485,null,null,null,null,null,null,null,null,null,null,null,null,null,null,null,null,{"$f":"IF(H489=\"\",\"\",IF(H489>39,\"E\",VLOOKUP(H489,'Boden DüV-Bolap'!A:B,2,FALSE)))","v":""},{"$f":"IF(OR(I489=\"\",F489=\"\"),\"\",IF(I489>39,\"E\",IF(F489=\"leicht\",VLOOKUP(I489,'Boden DüV-Bolap'!A:Q,7,FALSE),IF(F489=\"mittel\",VLOOKUP(I489,'Boden DüV-Bolap'!A:K,11,FALSE),IF(F489=\"schwer\",VLOOKUP(I489,'Boden DüV-Bolap'!A:R,15,FALSE))))))","v":""},{"$f":"IF(OR(J489=\"\",F489=\"\"),\"\",IF(J489>39,\"E\",IF(F489=\"leicht\",VLOOKUP(J489,'Boden DüV-Bolap'!A:AA,19,FALSE),IF(F489=\"mittel\",VLOOKUP(J489,'Boden DüV-Bolap'!A:AA,23,FALSE),IF(F489=\"schwer\",VLOOKUP(J489,'Boden DüV-Bolap'!A:AA,27,FALSE))))))","v":""}]
[486,null,null,null,null,null,null,null,null,null,null,null,null,null,null,null,null,{"$f":"IF(H490=\"\",\"\",IF(H490>39,\"E\",VLOOKUP(H490,'Boden DüV-Bolap'!A:B,2,FALSE)))","v":""},{"$f":"IF(OR(I490=\"\",F490=\"\"),\"\",IF(I490>39,\"E\",IF(F490=\"leicht\",VLOOKUP(I490,'Boden DüV-Bolap'!A:Q,7,FALSE),IF(F490=\"mittel\",VLOOKUP(I490,'Boden DüV-Bolap'!A:K,11,FALSE),IF(F490=\"schwer\",VLOOKUP(I490,'Boden DüV-Bolap'!A:R,15,FALSE))))))","v":""},{"$f":"IF(OR(J490=\"\",F490=\"\"),\"\",IF(J490>39,\"E\",IF(F490=\"leicht\",VLOOKUP(J490,'Boden DüV-Bolap'!A:AA,19,FALSE),IF(F490=\"mittel\",VLOOKUP(J490,'Boden DüV-Bolap'!A:AA,23,FALSE),IF(F490=\"schwer\",VLOOKUP(J490,'Boden DüV-Bolap'!A:AA,27,FALSE))))))","v":""}]
[487,null,null,null,null,null,null,null,null,null,null,null,null,null,null,null,null,{"$f":"IF(H491=\"\",\"\",IF(H491>39,\"E\",VLOOKUP(H491,'Boden DüV-Bolap'!A:B,2,FALSE)))","v":""},{"$f":"IF(OR(I491=\"\",F491=\"\"),\"\",IF(I491>39,\"E\",IF(F491=\"leicht\",VLOOKUP(I491,'Boden DüV-Bolap'!A:Q,7,FALSE),IF(F491=\"mittel\",VLOOKUP(I491,'Boden DüV-Bolap'!A:K,11,FALSE),IF(F491=\"schwer\",VLOOKUP(I491,'Boden DüV-Bolap'!A:R,15,FALSE))))))","v":""},{"$f":"IF(OR(J491=\"\",F491=\"\"),\"\",IF(J491>39,\"E\",IF(F491=\"leicht\",VLOOKUP(J491,'Boden DüV-Bolap'!A:AA,19,FALSE),IF(F491=\"mittel\",VLOOKUP(J491,'Boden DüV-Bolap'!A:AA,23,FALSE),IF(F491=\"schwer\",VLOOKUP(J491,'Boden DüV-Bolap'!A:AA,27,FALSE))))))","v":""}]
[488,null,null,null,null,null,null,null,null,null,null,null,null,null,null,null,null,{"$f":"IF(H492=\"\",\"\",IF(H492>39,\"E\",VLOOKUP(H492,'Boden DüV-Bolap'!A:B,2,FALSE)))","v":""},{"$f":"IF(OR(I492=\"\",F492=\"\"),\"\",IF(I492>39,\"E\",IF(F492=\"leicht\",VLOOKUP(I492,'Boden DüV-Bolap'!A:Q,7,FALSE),IF(F492=\"mittel\",VLOOKUP(I492,'Boden DüV-Bolap'!A:K,11,FALSE),IF(F492=\"schwer\",VLOOKUP(I492,'Boden DüV-Bolap'!A:R,15,FALSE))))))","v":""},{"$f":"IF(OR(J492=\"\",F492=\"\"),\"\",IF(J492>39,\"E\",IF(F492=\"leicht\",VLOOKUP(J492,'Boden DüV-Bolap'!A:AA,19,FALSE),IF(F492=\"mittel\",VLOOKUP(J492,'Boden DüV-Bolap'!A:AA,23,FALSE),IF(F492=\"schwer\",VLOOKUP(J492,'Boden DüV-Bolap'!A:AA,27,FALSE))))))","v":""}]
[489,null,null,null,null,null,null,null,null,null,null,null,null,null,null,null,null,{"$f":"IF(H493=\"\",\"\",IF(H493>39,\"E\",VLOOKUP(H493,'Boden DüV-Bolap'!A:B,2,FALSE)))","v":""},{"$f":"IF(OR(I493=\"\",F493=\"\"),\"\",IF(I493>39,\"E\",IF(F493=\"leicht\",VLOOKUP(I493,'Boden DüV-Bolap'!A:Q,7,FALSE),IF(F493=\"mittel\",VLOOKUP(I493,'Boden DüV-Bolap'!A:K,11,FALSE),IF(F493=\"schwer\",VLOOKUP(I493,'Boden DüV-Bolap'!A:R,15,FALSE))))))","v":""},{"$f":"IF(OR(J493=\"\",F493=\"\"),\"\",IF(J493>39,\"E\",IF(F493=\"leicht\",VLOOKUP(J493,'Boden DüV-Bolap'!A:AA,19,FALSE),IF(F493=\"mittel\",VLOOKUP(J493,'Boden DüV-Bolap'!A:AA,23,FALSE),IF(F493=\"schwer\",VLOOKUP(J493,'Boden DüV-Bolap'!A:AA,27,FALSE))))))","v":""}]
[490,null,null,null,null,null,null,null,null,null,null,null,null,null,null,null,null,{"$f":"IF(H494=\"\",\"\",IF(H494>39,\"E\",VLOOKUP(H494,'Boden DüV-Bolap'!A:B,2,FALSE)))","v":""},{"$f":"IF(OR(I494=\"\",F494=\"\"),\"\",IF(I494>39,\"E\",IF(F494=\"leicht\",VLOOKUP(I494,'Boden DüV-Bolap'!A:Q,7,FALSE),IF(F494=\"mittel\",VLOOKUP(I494,'Boden DüV-Bolap'!A:K,11,FALSE),IF(F494=\"schwer\",VLOOKUP(I494,'Boden DüV-Bolap'!A:R,15,FALSE))))))","v":""},{"$f":"IF(OR(J494=\"\",F494=\"\"),\"\",IF(J494>39,\"E\",IF(F494=\"leicht\",VLOOKUP(J494,'Boden DüV-Bolap'!A:AA,19,FALSE),IF(F494=\"mittel\",VLOOKUP(J494,'Boden DüV-Bolap'!A:AA,23,FALSE),IF(F494=\"schwer\",VLOOKUP(J494,'Boden DüV-Bolap'!A:AA,27,FALSE))))))","v":""}]
[491,null,null,null,null,null,null,null,null,null,null,null,null,null,null,null,null,{"$f":"IF(H495=\"\",\"\",IF(H495>39,\"E\",VLOOKUP(H495,'Boden DüV-Bolap'!A:B,2,FALSE)))","v":""},{"$f":"IF(OR(I495=\"\",F495=\"\"),\"\",IF(I495>39,\"E\",IF(F495=\"leicht\",VLOOKUP(I495,'Boden DüV-Bolap'!A:Q,7,FALSE),IF(F495=\"mittel\",VLOOKUP(I495,'Boden DüV-Bolap'!A:K,11,FALSE),IF(F495=\"schwer\",VLOOKUP(I495,'Boden DüV-Bolap'!A:R,15,FALSE))))))","v":""},{"$f":"IF(OR(J495=\"\",F495=\"\"),\"\",IF(J495>39,\"E\",IF(F495=\"leicht\",VLOOKUP(J495,'Boden DüV-Bolap'!A:AA,19,FALSE),IF(F495=\"mittel\",VLOOKUP(J495,'Boden DüV-Bolap'!A:AA,23,FALSE),IF(F495=\"schwer\",VLOOKUP(J495,'Boden DüV-Bolap'!A:AA,27,FALSE))))))","v":""}]
[492,null,null,null,null,null,null,null,null,null,null,null,null,null,null,null,null,{"$f":"IF(H496=\"\",\"\",IF(H496>39,\"E\",VLOOKUP(H496,'Boden DüV-Bolap'!A:B,2,FALSE)))","v":""},{"$f":"IF(OR(I496=\"\",F496=\"\"),\"\",IF(I496>39,\"E\",IF(F496=\"leicht\",VLOOKUP(I496,'Boden DüV-Bolap'!A:Q,7,FALSE),IF(F496=\"mittel\",VLOOKUP(I496,'Boden DüV-Bolap'!A:K,11,FALSE),IF(F496=\"schwer\",VLOOKUP(I496,'Boden DüV-Bolap'!A:R,15,FALSE))))))","v":""},{"$f":"IF(OR(J496=\"\",F496=\"\"),\"\",IF(J496>39,\"E\",IF(F496=\"leicht\",VLOOKUP(J496,'Boden DüV-Bolap'!A:AA,19,FALSE),IF(F496=\"mittel\",VLOOKUP(J496,'Boden DüV-Bolap'!A:AA,23,FALSE),IF(F496=\"schwer\",VLOOKUP(J496,'Boden DüV-Bolap'!A:AA,27,FALSE))))))","v":""}]
[493,null,null,null,null,null,null,null,null,null,null,null,null,null,null,null,null,{"$f":"IF(H497=\"\",\"\",IF(H497>39,\"E\",VLOOKUP(H497,'Boden DüV-Bolap'!A:B,2,FALSE)))","v":""},{"$f":"IF(OR(I497=\"\",F497=\"\"),\"\",IF(I497>39,\"E\",IF(F497=\"leicht\",VLOOKUP(I497,'Boden DüV-Bolap'!A:Q,7,FALSE),IF(F497=\"mittel\",VLOOKUP(I497,'Boden DüV-Bolap'!A:K,11,FALSE),IF(F497=\"schwer\",VLOOKUP(I497,'Boden DüV-Bolap'!A:R,15,FALSE))))))","v":""},{"$f":"IF(OR(J497=\"\",F497=\"\"),\"\",IF(J497>39,\"E\",IF(F497=\"leicht\",VLOOKUP(J497,'Boden DüV-Bolap'!A:AA,19,FALSE),IF(F497=\"mittel\",VLOOKUP(J497,'Boden DüV-Bolap'!A:AA,23,FALSE),IF(F497=\"schwer\",VLOOKUP(J497,'Boden DüV-Bolap'!A:AA,27,FALSE))))))","v":""}]
[494,null,null,null,null,null,null,null,null,null,null,null,null,null,null,null,null,{"$f":"IF(H498=\"\",\"\",IF(H498>39,\"E\",VLOOKUP(H498,'Boden DüV-Bolap'!A:B,2,FALSE)))","v":""},{"$f":"IF(OR(I498=\"\",F498=\"\"),\"\",IF(I498>39,\"E\",IF(F498=\"leicht\",VLOOKUP(I498,'Boden DüV-Bolap'!A:Q,7,FALSE),IF(F498=\"mittel\",VLOOKUP(I498,'Boden DüV-Bolap'!A:K,11,FALSE),IF(F498=\"schwer\",VLOOKUP(I498,'Boden DüV-Bolap'!A:R,15,FALSE))))))","v":""},{"$f":"IF(OR(J498=\"\",F498=\"\"),\"\",IF(J498>39,\"E\",IF(F498=\"leicht\",VLOOKUP(J498,'Boden DüV-Bolap'!A:AA,19,FALSE),IF(F498=\"mittel\",VLOOKUP(J498,'Boden DüV-Bolap'!A:AA,23,FALSE),IF(F498=\"schwer\",VLOOKUP(J498,'Boden DüV-Bolap'!A:AA,27,FALSE))))))","v":""}]
[495,null,null,null,null,null,null,null,null,null,null,null,null,null,null,null,null,{"$f":"IF(H499=\"\",\"\",IF(H499>39,\"E\",VLOOKUP(H499,'Boden DüV-Bolap'!A:B,2,FALSE)))","v":""},{"$f":"IF(OR(I499=\"\",F499=\"\"),\"\",IF(I499>39,\"E\",IF(F499=\"leicht\",VLOOKUP(I499,'Boden DüV-Bolap'!A:Q,7,FALSE),IF(F499=\"mittel\",VLOOKUP(I499,'Boden DüV-Bolap'!A:K,11,FALSE),IF(F499=\"schwer\",VLOOKUP(I499,'Boden DüV-Bolap'!A:R,15,FALSE))))))","v":""},{"$f":"IF(OR(J499=\"\",F499=\"\"),\"\",IF(J499>39,\"E\",IF(F499=\"leicht\",VLOOKUP(J499,'Boden DüV-Bolap'!A:AA,19,FALSE),IF(F499=\"mittel\",VLOOKUP(J499,'Boden DüV-Bolap'!A:AA,23,FALSE),IF(F499=\"schwer\",VLOOKUP(J499,'Boden DüV-Bolap'!A:AA,27,FALSE))))))","v":""}]
[496,null,null,null,null,null,null,null,null,null,null,null,null,null,null,null,null,{"$f":"IF(H500=\"\",\"\",IF(H500>39,\"E\",VLOOKUP(H500,'Boden DüV-Bolap'!A:B,2,FALSE)))","v":""},{"$f":"IF(OR(I500=\"\",F500=\"\"),\"\",IF(I500>39,\"E\",IF(F500=\"leicht\",VLOOKUP(I500,'Boden DüV-Bolap'!A:Q,7,FALSE),IF(F500=\"mittel\",VLOOKUP(I500,'Boden DüV-Bolap'!A:K,11,FALSE),IF(F500=\"schwer\",VLOOKUP(I500,'Boden DüV-Bolap'!A:R,15,FALSE))))))","v":""},{"$f":"IF(OR(J500=\"\",F500=\"\"),\"\",IF(J500>39,\"E\",IF(F500=\"leicht\",VLOOKUP(J500,'Boden DüV-Bolap'!A:AA,19,FALSE),IF(F500=\"mittel\",VLOOKUP(J500,'Boden DüV-Bolap'!A:AA,23,FALSE),IF(F500=\"schwer\",VLOOKUP(J500,'Boden DüV-Bolap'!A:AA,27,FALSE))))))","v":""}]
[497,null,null,null,null,null,null,null,null,null,null,null,null,null,null,null,null,{"$f":"IF(H501=\"\",\"\",IF(H501>39,\"E\",VLOOKUP(H501,'Boden DüV-Bolap'!A:B,2,FALSE)))","v":""},{"$f":"IF(OR(I501=\"\",F501=\"\"),\"\",IF(I501>39,\"E\",IF(F501=\"leicht\",VLOOKUP(I501,'Boden DüV-Bolap'!A:Q,7,FALSE),IF(F501=\"mittel\",VLOOKUP(I501,'Boden DüV-Bolap'!A:K,11,FALSE),IF(F501=\"schwer\",VLOOKUP(I501,'Boden DüV-Bolap'!A:R,15,FALSE))))))","v":""},{"$f":"IF(OR(J501=\"\",F501=\"\"),\"\",IF(J501>39,\"E\",IF(F501=\"leicht\",VLOOKUP(J501,'Boden DüV-Bolap'!A:AA,19,FALSE),IF(F501=\"mittel\",VLOOKUP(J501,'Boden DüV-Bolap'!A:AA,23,FALSE),IF(F501=\"schwer\",VLOOKUP(J501,'Boden DüV-Bolap'!A:AA,27,FALSE))))))","v":""}]
[498,null,null,null,null,null,null,null,null,null,null,null,null,null,null,null,null,{"$f":"IF(H502=\"\",\"\",IF(H502>39,\"E\",VLOOKUP(H502,'Boden DüV-Bolap'!A:B,2,FALSE)))","v":""},{"$f":"IF(OR(I502=\"\",F502=\"\"),\"\",IF(I502>39,\"E\",IF(F502=\"leicht\",VLOOKUP(I502,'Boden DüV-Bolap'!A:Q,7,FALSE),IF(F502=\"mittel\",VLOOKUP(I502,'Boden DüV-Bolap'!A:K,11,FALSE),IF(F502=\"schwer\",VLOOKUP(I502,'Boden DüV-Bolap'!A:R,15,FALSE))))))","v":""},{"$f":"IF(OR(J502=\"\",F502=\"\"),\"\",IF(J502>39,\"E\",IF(F502=\"leicht\",VLOOKUP(J502,'Boden DüV-Bolap'!A:AA,19,FALSE),IF(F502=\"mittel\",VLOOKUP(J502,'Boden DüV-Bolap'!A:AA,23,FALSE),IF(F502=\"schwer\",VLOOKUP(J502,'Boden DüV-Bolap'!A:AA,27,FALSE))))))","v":""}]
[499,null,null,null,null,null,null,null,null,null,null,null,null,null,null,null,null,{"$f":"IF(H503=\"\",\"\",IF(H503>39,\"E\",VLOOKUP(H503,'Boden DüV-Bolap'!A:B,2,FALSE)))","v":""},{"$f":"IF(OR(I503=\"\",F503=\"\"),\"\",IF(I503>39,\"E\",IF(F503=\"leicht\",VLOOKUP(I503,'Boden DüV-Bolap'!A:Q,7,FALSE),IF(F503=\"mittel\",VLOOKUP(I503,'Boden DüV-Bolap'!A:K,11,FALSE),IF(F503=\"schwer\",VLOOKUP(I503,'Boden DüV-Bolap'!A:R,15,FALSE))))))","v":""},{"$f":"IF(OR(J503=\"\",F503=\"\"),\"\",IF(J503>39,\"E\",IF(F503=\"leicht\",VLOOKUP(J503,'Boden DüV-Bolap'!A:AA,19,FALSE),IF(F503=\"mittel\",VLOOKUP(J503,'Boden DüV-Bolap'!A:AA,23,FALSE),IF(F503=\"schwer\",VLOOKUP(J503,'Boden DüV-Bolap'!A:AA,27,FALSE))))))","v":""}]
[500,null,null,null,null,null,null,null,null,null,null,null,null,null,null,null,null,{"$f":"IF(H504=\"\",\"\",IF(H504>39,\"E\",VLOOKUP(H504,'Boden DüV-Bolap'!A:B,2,FALSE)))","v":""},{"$f":"IF(OR(I504=\"\",F504=\"\"),\"\",IF(I504>39,\"E\",IF(F504=\"leicht\",VLOOKUP(I504,'Boden DüV-Bolap'!A:Q,7,FALSE),IF(F504=\"mittel\",VLOOKUP(I504,'Boden DüV-Bolap'!A:K,11,FALSE),IF(F504=\"schwer\",VLOOKUP(I504,'Boden DüV-Bolap'!A:R,15,FALSE))))))","v":""},{"$f":"IF(OR(J504=\"\",F504=\"\"),\"\",IF(J504>39,\"E\",IF(F504=\"leicht\",VLOOKUP(J504,'Boden DüV-Bolap'!A:AA,19,FALSE),IF(F504=\"mittel\",VLOOKUP(J504,'Boden DüV-Bolap'!A:AA,23,FALSE),IF(F504=\"schwer\",VLOOKUP(J504,'Boden DüV-Bolap'!A:AA,27,FALSE))))))","v":""}]

{"sheet":"N-DBE","index":3,"n_rows":47,"n_cols":41,"rows_kept":47,"cut":false,"hidden":false,"merged":[[4,44,4,68],[1,68,1,70],[1,64,1,65],[1,62,1,63],[1,35,1,40],[2,35,3,40],[1,4,1,19],[2,4,2,19],[3,4,3,6],[0,25,0,27],[3,44,3,68]]}
["Stickstoff (N)-Düngebedarfsermittlung DBE nach DüV",null,null,null,null,null,null,null,null,null,null,null,null,null,null,null,null,null,null,null,null,null,null,null,{"$f":"Impressum!A6","v":"Stand:"},{"$f":"Impressum!B6","v":"2025-06-10"}]
["Betrieb:",null,null,null,null,null,null,null,null,null,null,null,null,null,null,null,null,null,null,null,null,null,null,null,null,null,null,null,null,null,null,null,null,null,null,"Nmin-Werte der Region abrufbar unter:"]
["Düngejahr:",null,null,null,null,null,null,null,null,null,null,null,null,null,null,null,null,null,null,null,null,null,null,null,null,null,null,null,null,null,null,null,null,null,null,"https://www.düngeberatung.rlp.de/Duengung/Ackerbau-/-Gruenland/Nmin/Nmin-Empfehlungen"]
["Landw. Nutzfläche LN:",null,null,null,{"$f":"IF(Schlagliste!E3=\"\",\"\",Schlagliste!E3)","v":0}]
[]
[]
[]
["Datum DBE","Bewirtschaftungseinheit, \nSchlag (=Fläche)","Nitratbelastungsgebiet NBG","Phosphatbelastungsgebiet PBG","Fläche Anbau  ha","Kulturgruppe","Kultur (' = nicht in DüV)","N-Bedarfswert kg/ha","bei Düngung in Kulturwoche","bei Ertrag FM dt/ha","Betriebsertrag dt FM/ha","Ertragsdifferenz dt/ha","Ertragsdifferenz %","Differenz dt/ha","Differenz %","Zuschlag dt/ha","Abschlag dt/ha","N-Ertragszu-, abschlag kg/ha","Abdeckung Verfrühung (nicht f. Spargel)","N-Zuschlag Abdeckung kg /ha","Nmin-Probenahmetiefe cm","Nmin kg/ha","Humusgehalt größer 4 %","N-Abschlag Humus kg/ha","Gemüsevorkultur im gleichen Jahr","N-Abschlag Gemüsevorkultur kg/ha","Gemüsevorkultur als ganze Pflanze abgefahren","N-Korrektur Gemüsevorkultur ganze Pflanze kg/ha","Gemüsevorkultur ≥ 4 Wo vor Nmin-Probe eingearbeitet","N-Korrektur Gemüsevorkultur Einarbeitung kg/ha","Vorfrucht (Hauptfrucht Vorjahr)","N-Abschlag Vorfrucht kg/ha","\nZwischenfrucht (Vorjahr)\nLeg.=Leguminosen, n.=nicht, Einarb.=Einarbeitung, Frühj.=Frühjahr","N-Abschlag Zwischenfrucht kg/ha","N-Abschlag organische Düngung Vorjahr","N-Düngebedarf kg/ha","80% N-Düngebedarf NBG kg/ha","N-Düngeobergrenze kg/ha","N-Mangel während Kulturführung?","Max. N-Nachdüngung kg/ha","   Grund für\nhöheren N-Bedarf"]
[null,null,null,null,null,null,null,null,null,null,null,null,null,null,null,null,null,null,null,null,null,null,null,null,null,null,null,null,null,null,null,null,null,null,null,null,null,null,null,"10% DBE"]
[]
[null,null,{"$f":"IF(B11=\"\",\"\",VLOOKUP(B11,Schlagliste!B:D,2,FALSE))","v":""},{"$f":"IF(B11=\"\",\"\",VLOOKUP(B11,Schlagliste!B:D,3,FALSE))","v":""},{"$f":"IF(B11=\"\",\"\",VLOOKUP(B11,Schlagliste!B:E,4,FALSE))","v":""},null,null,{"$f":"IF(OR(G11=\"\",F11=\"\"),\"\",IF(AND(C11=\"ja\",LEFT(G11,5)=\"ZF n.\"),0,(IF(F11=\"G\",VLOOKUP(G11,'Tab 4+5 DüV+Abfuhr_G'!A:C,3,FALSE),IF(F11=\"A\",VLOOKUP(G11,'Tab 2+3 DüV_A'!A:C,3,FALSE),VLOOKUP(G11,'H&G LfL'!B:U,9,FALSE))))))","v":""},{"$f":"IF(OR(F11=\"\",G11=\"\"),\"\",IF(F11=\"G\",VLOOKUP(G11,'Tab 4+5 DüV+Abfuhr_G'!A:D,4,FALSE),IF(F11=\"A\",VLOOKUP(G11,'Tab 2+3 DüV_A'!A:D,4,FALSE),VLOOKUP(G11,'H&G LfL'!B:U,10,FALSE))))","v":""},{"$f":"IF(OR(F11=\"\",G11=\"\"),\"\",IF(F11=\"G\",VLOOKUP(G11,'Tab 4+5 DüV+Abfuhr_G'!A:B,2,FALSE),IF(F11=\"A\",VLOOKUP(G11,'Tab 2+3 DüV_A'!A:B,2,FALSE),VLOOKUP(G11,'H&G LfL'!B:X,2,FALSE))))","v":""},null,{"$f":"IF(OR(K11=\"\",G11=\"\"),\"\",K11-J11)","v":""},{"$f":"IF(OR(F11=\"\",G11=\"\"),\"\",IF(OR(K11=\"\",J11=0),0,L11*100/J11))","v":""},{"$f":"IF(OR(F11=\"\",G11=\"\"),\"\",IF(OR(F11=\"G\",F11=\"HG\"),\"\",IF(F11=\"A\",VLOOKUP(G11,'Tab 2+3 DüV_A'!A:H,6,FALSE),VLOOKUP(G11,'H&G LfL'!B:U,13,FALSE))))","v":""},{"$f":"IF(OR(F11=\"\",G11=\"\"),\"\",IF(F11=\"G\",VLOOKUP(G11,'Tab 4+5 DüV+Abfuhr_G'!A:J,8,FALSE),IF(F11=\"HG\",VLOOKUP(G11,'H&G LfL'!B:U,14,FALSE),\"\")))","v":""},{"$f":"IF(OR(F11=\"\",G11=\"\"),\"\",IF(F11=\"G\",VLOOKUP(G11,'Tab 4+5 DüV+Abfuhr_G'!A:J,9,FALSE),IF(F11=\"A\",VLOOKUP(G11,'Tab 2+3 DüV_A'!A:H,7,FALSE),VLOOKUP(G11,'H&G LfL'!B:U,15,FALSE))))","v":""},{"$f":"IF(OR(F11=\"\",G11=\"\"),\"\",IF(F11=\"G\",VLOOKUP(G11,'Tab 4+5 DüV+Abfuhr_G'!A:J,10,FALSE),IF(F11=\"A\",VLOOKUP(G11,'Tab 2+3 DüV_A'!A:H,8,FALSE),VLOOKUP(G11,'H&G LfL'!B:U,16,FALSE))))","v":""},{"$f":"IF(OR(F11=\"\",G11=\"\"),\"\",IF(OR(F11=\"G\",F11=\"HG\"),IF(OR(O11=\"\",O11=0,K11=\"\",J11=0),\"0\",IF(M11>0,ROUNDDOWN(M11/O11,0)*P11,ROUNDDOWN(M11/O11,0)*Q11)),IF(OR(N11=\"\",N11=0,K11=\"\"),\"0\",IF(L11>0,L11*P11/N11,Q11*L11/N11))))","v":""},null,{"$f":"IF(OR(F11=\"\",G11=\"\"),\"\",IF(OR(S11=\"\",S11=\"nein\",F11=\"A\",F11=\"HG\"),\"0\",VLOOKUP(S11,Verfrühung!A:B,2,FALSE)))","v":""},{"$f":"IF(OR(F11=\"\",G11=\"\"),\"\",IF(F11=\"G\",VLOOKUP(G11,'Tab 4+5 DüV+Abfuhr_G'!A:E,5,FALSE),IF(F11=\"A\",VLOOKUP(G11,'Tab 2+3 DüV_A'!A:L,5,FALSE),VLOOKUP(G11,'H&G LfL'!B:U,11,FALSE))))","v":""},null,null,{"$f":"IF(OR(F11=\"\",G11=\"\"),\"\",IF(W11=\"ja\",-20,\"0\"))","v":""},null,{"$f":"IF(OR(F11=\"\",G11=\"\"),\"\",IF(OR(F11=\"A\",F11=\"HG\",Y11=\"\"),\"0\",-VLOOKUP(Y11,'Tab 4+5 DüV+Abfuhr_G'!A:N,6,FALSE)))","v":""},null,{"$f":"IF(OR(F11=\"\",G11=\"\"),\"\",IF(AA11=\"ja\",-Z11,\"0\"))","v":""},null,{"$f":"IF(OR(F11=\"\",G11=\"\"),\"\",IF(OR(AC11=\"nein\",AC11=\"\",Z11=\"\",AA11=\"ja\",Y11=\"\",F11=\"A\",F11=\"HG\",Y11=\"\"),\"0\",VLOOKUP(Y11,'Tab 4+5 DüV+Abfuhr_G'!A:G,7,FALSE)))","v":""},null,{"$f":"IF(OR(F11=\"\",G11=\"\"),\"\",IF(OR(F11=\"\",G11=\"\",AE11=\"\"),0,IF(AND(F11=\"G\",Y11=\"\"),-VLOOKUP(AE11,'Tab 7 DüV_A-VF'!A:B,2,FALSE),IF(OR(F11=\"A\",F11=\"HG\"),-VLOOKUP(AE11,'Tab 7 DüV_A-VF'!A:B,2,FALSE),0))))","v":""},null,{"$f":"IF(OR(F11=\"\",G11=\"\"),\"\",IF(OR(F11=\"\",G11=\"\",AG11=\"\"),0,IF(AND(F11=\"G\",Y11=\"\"),-VLOOKUP(AG11,'Tab 7 DüV_A-ZF'!A:B,2,FALSE),IF(OR(F11=\"A\",F11=\"HG\"),-VLOOKUP(AG11,'Tab 7 DüV_A-ZF'!A:B,2,FALSE),0))))","v":""},{"$f":"IF(OR(F11=\"\",G11=\"\"),\"\",IF('N-Abschlag org. Düngung'!AJ11=\"\",0,'N-Abschlag org. Düngung'!AJ11))","v":""},{"$f":"IF(OR(F11=\"\",G11=\"\"),\"\",IF(SUM(H11,R11,T11,-V11,X11,Z11,AB11,AD11,AF11,AH11,AI11)<0,\"0\",SUM(H11,R11,T11,-V11,X11,Z11,AB11,AD11,AF11,AH11,AI11)))","v":""},{"$f":"IF(OR(F11=\"\",G11=\"\"),\"\",IF(OR(C11=\"nein\",C11=\"\"),\"\",AJ11-(AJ11*0.2)))","v":""},{"$f":"IF(AJ11=\"\",\"\",IF(AK11=\"\",AJ11,AK11))","v":""},null,{"$f":"IF(OR(F11=\"\",G11=\"\"),\"\",IF(OR(AJ11=\"\",AM11=\"\",AM11=\"nein\"),0,AJ11*0.1))","v":""}]
[null,null,{"$f":"IF(B12=\"\",\"\",VLOOKUP(B12,Schlagliste!B:D,2,FALSE))","v":""},{"$f":"IF(B12=\"\",\"\",VLOOKUP(B12,Schlagliste!B:D,3,FALSE))","v":""},{"$f":"IF(B12=\"\",\"\",VLOOKUP(B12,Schlagliste!B:E,4,FALSE))","v":""},null,null,{"$f":"IF(OR(G12=\"\",F12=\"\"),\"\",IF(AND(C12=\"ja\",LEFT(G12,5)=\"ZF n.\"),0,(IF(F12=\"G\",VLOOKUP(G12,'Tab 4+5 DüV+Abfuhr_G'!A:C,3,FALSE),IF(F12=\"A\",VLOOKUP(G12,'Tab 2+3 DüV_A'!A:C,3,FALSE),VLOOKUP(G12,'H&G LfL'!B:U,9,FALSE))))))","v":""},{"$f":"IF(OR(F12=\"\",G12=\"\"),\"\",IF(F12=\"G\",VLOOKUP(G12,'Tab 4+5 DüV+Abfuhr_G'!A:D,4,FALSE),IF(F12=\"A\",VLOOKUP(G12,'Tab 2+3 DüV_A'!A:D,4,FALSE),VLOOKUP(G12,'H&G LfL'!B:U,10,FALSE))))","v":""},{"$f":"IF(OR(F12=\"\",G12=\"\"),\"\",IF(F12=\"G\",VLOOKUP(G12,'Tab 4+5 DüV+Abfuhr_G'!A:B,2,FALSE),IF(F12=\"A\",VLOOKUP(G12,'Tab 2+3 DüV_A'!A:B,2,FALSE),VLOOKUP(G12,'H&G LfL'!B:X,2,FALSE))))","v":""},null,"","",{"$f":"IF(OR(F12=\"\",G12=\"\"),\"\",IF(OR(F12=\"G\",F12=\"HG\"),\"\",IF(F12=\"A\",VLOOKUP(G12,'Tab 2+3 DüV_A'!A:H,6,FALSE),VLOOKUP(G12,'H&G LfL'!B:U,13,FALSE))))","v":""},{"$f":"IF(OR(F12=\"\",G12=\"\"),\"\",IF(F12=\"G\",VLOOKUP(G12,'Tab 4+5 DüV+Abfuhr_G'!A:J,8,FALSE),IF(F12=\"HG\",VLOOKUP(G12,'H&G LfL'!B:U,14,FALSE),\"\")))","v":""},{"$f":"IF(OR(F12=\"\",G12=\"\"),\"\",IF(F12=\"G\",VLOOKUP(G12,'Tab 4+5 DüV+Abfuhr_G'!A:J,9,FALSE),IF(F12=\"A\",VLOOKUP(G12,'Tab 2+3 DüV_A'!A:H,7,FALSE),VLOOKUP(G12,'H&G LfL'!B:U,15,FALSE))))","v":""},{"$f":"IF(OR(F12=\"\",G12=\"\"),\"\",IF(F12=\"G\",VLOOKUP(G12,'Tab 4+5 DüV+Abfuhr_G'!A:J,10,FALSE),IF(F12=\"A\",VLOOKUP(G12,'Tab 2+3 DüV_A'!A:H,8,FALSE),VLOOKUP(G12,'H&G LfL'!B:U,16,FALSE))))","v":""},"",null,{"$f":"IF(OR(F12=\"\",G12=\"\"),\"\",IF(OR(S12=\"\",S12=\"nein\",F12=\"A\",F12=\"HG\"),\"0\",VLOOKUP(S12,Verfrühung!A:B,2,FALSE)))","v":""},{"$f":"IF(OR(F12=\"\",G12=\"\"),\"\",IF(F12=\"G\",VLOOKUP(G12,'Tab 4+5 DüV+Abfuhr_G'!A:E,5,FALSE),IF(F12=\"A\",VLOOKUP(G12,'Tab 2+3 DüV_A'!A:L,5,FALSE),VLOOKUP(G12,'H&G LfL'!B:U,11,FALSE))))","v":""},null,null,"",null,{"$f":"IF(OR(F12=\"\",G12=\"\"),\"\",IF(OR(F12=\"A\",F12=\"HG\",Y12=\"\"),\"0\",-VLOOKUP(Y12,'Tab 4+5 DüV+Abfuhr_G'!A:N,6,FALSE)))","v":""},null,"",null,{"$f":"IF(OR(F12=\"\",G12=\"\"),\"\",IF(OR(AC12=\"nein\",AC12=\"\",Z12=\"\",AA12=\"ja\",Y12=\"\",F12=\"A\",F12=\"HG\",Y12=\"\"),\"0\",VLOOKUP(Y12,'Tab 4+5 DüV+Abfuhr_G'!A:G,7,FALSE)))","v":""},null,{"$f":"IF(OR(F12=\"\",G12=\"\"),\"\",IF(OR(F12=\"\",G12=\"\",AE12=\"\"),0,IF(AND(F12=\"G\",Y12=\"\"),-VLOOKUP(AE12,'Tab 7 DüV_A-VF'!A:B,2,FALSE),IF(OR(F12=\"A\",F12=\"HG\"),-VLOOKUP(AE12,'Tab 7 DüV_A-VF'!A:B,2,FALSE),0))))","v":""},null,{"$f":"IF(OR(F12=\"\",G12=\"\"),\"\",IF(OR(F12=\"\",G12=\"\",AG12=\"\"),0,IF(AND(F12=\"G\",Y12=\"\"),-VLOOKUP(AG12,'Tab 7 DüV_A-ZF'!A:B,2,FALSE),IF(OR(F12=\"A\",F12=\"HG\"),-VLOOKUP(AG12,'Tab 7 DüV_A-ZF'!A:B,2,FALSE),0))))","v":""},{"$f":"IF(OR(F12=\"\",G12=\"\"),\"\",IF('N-Abschlag org. Düngung'!AJ12=\"\",0,'N-Abschlag org. Düngung'!AJ12))","v":""},"","","",null,""]
[null,null,{"$f":"IF(B13=\"\",\"\",VLOOKUP(B13,Schlagliste!B:D,2,FALSE))","v":""},{"$f":"IF(B13=\"\",\"\",VLOOKUP(B13,Schlagliste!B:D,3,FALSE))","v":""},{"$f":"IF(B13=\"\",\"\",VLOOKUP(B13,Schlagliste!B:E,4,FALSE))","v":""},null,null,{"$f":"IF(OR(G13=\"\",F13=\"\"),\"\",IF(AND(C13=\"ja\",LEFT(G13,5)=\"ZF n.\"),0,(IF(F13=\"G\",VLOOKUP(G13,'Tab 4+5 DüV+Abfuhr_G'!A:C,3,FALSE),IF(F13=\"A\",VLOOKUP(G13,'Tab 2+3 DüV_A'!A:C,3,FALSE),VLOOKUP(G13,'H&G LfL'!B:U,9,FALSE))))))","v":""},{"$f":"IF(OR(F13=\"\",G13=\"\"),\"\",IF(F13=\"G\",VLOOKUP(G13,'Tab 4+5 DüV+Abfuhr_G'!A:D,4,FALSE),IF(F13=\"A\",VLOOKUP(G13,'Tab 2+3 DüV_A'!A:D,4,FALSE),VLOOKUP(G13,'H&G LfL'!B:U,10,FALSE))))","v":""},{"$f":"IF(OR(F13=\"\",G13=\"\"),\"\",IF(F13=\"G\",VLOOKUP(G13,'Tab 4+5 DüV+Abfuhr_G'!A:B,2,FALSE),IF(F13=\"A\",VLOOKUP(G13,'Tab 2+3 DüV_A'!A:B,2,FALSE),VLOOKUP(G13,'H&G LfL'!B:X,2,FALSE))))","v":""},null,"","",{"$f":"IF(OR(F13=\"\",G13=\"\"),\"\",IF(OR(F13=\"G\",F13=\"HG\"),\"\",IF(F13=\"A\",VLOOKUP(G13,'Tab 2+3 DüV_A'!A:H,6,FALSE),VLOOKUP(G13,'H&G LfL'!B:U,13,FALSE))))","v":""},{"$f":"IF(OR(F13=\"\",G13=\"\"),\"\",IF(F13=\"G\",VLOOKUP(G13,'Tab 4+5 DüV+Abfuhr_G'!A:J,8,FALSE),IF(F13=\"HG\",VLOOKUP(G13,'H&G LfL'!B:U,14,FALSE),\"\")))","v":""},{"$f":"IF(OR(F13=\"\",G13=\"\"),\"\",IF(F13=\"G\",VLOOKUP(G13,'Tab 4+5 DüV+Abfuhr_G'!A:J,9,FALSE),IF(F13=\"A\",VLOOKUP(G13,'Tab 2+3 DüV_A'!A:H,7,FALSE),VLOOKUP(G13,'H&G LfL'!B:U,15,FALSE))))","v":""},{"$f":"IF(OR(F13=\"\",G13=\"\"),\"\",IF(F13=\"G\",VLOOKUP(G13,'Tab 4+5 DüV+Abfuhr_G'!A:J,10,FALSE),IF(F13=\"A\",VLOOKUP(G13,'Tab 2+3 DüV_A'!A:H,8,FALSE),VLOOKUP(G13,'H&G LfL'!B:U,16,FALSE))))","v":""},"",null,{"$f":"IF(OR(F13=\"\",G13=\"\"),\"\",IF(OR(S13=\"\",S13=\"nein\",F13=\"A\",F13=\"HG\"),\"0\",VLOOKUP(S13,Verfrühung!A:B,2,FALSE)))","v":""},{"$f":"IF(OR(F13=\"\",G13=\"\"),\"\",IF(F13=\"G\",VLOOKUP(G13,'Tab 4+5 DüV+Abfuhr_G'!A:E,5,FALSE),IF(F13=\"A\",VLOOKUP(G13,'Tab 2+3 DüV_A'!A:L,5,FALSE),VLOOKUP(G13,'H&G LfL'!B:U,11,FALSE))))","v":""},null,null,"",null,{"$f":"IF(OR(F13=\"\",G13=\"\"),\"\",IF(OR(F13=\"A\",F13=\"HG\",Y13=\"\"),\"0\",-VLOOKUP(Y13,'Tab 4+5 DüV+Abfuhr_G'!A:N,6,FALSE)))","v":""},null,"",null,{"$f":"IF(OR(F13=\"\",G13=\"\"),\"\",IF(OR(AC13=\"nein\",AC13=\"\",Z13=\"\",AA13=\"ja\",Y13=\"\",F13=\"A\",F13=\"HG\",Y13=\"\"),\"0\",VLOOKUP(Y13,'Tab 4+5 DüV+Abfuhr_G'!A:G,7,FALSE)))","v":""},null,{"$f":"IF(OR(F13=\"\",G13=\"\"),\"\",IF(OR(F13=\"\",G13=\"\",AE13=\"\"),0,IF(AND(F13=\"G\",Y13=\"\"),-VLOOKUP(AE13,'Tab 7 DüV_A-VF'!A:B,2,FALSE),IF(OR(F13=\"A\",F13=\"HG\"),-VLOOKUP(AE13,'Tab 7 DüV_A-VF'!A:B,2,FALSE),0))))","v":""},null,{"$f":"IF(OR(F13=\"\",G13=\"\"),\"\",IF(OR(F13=\"\",G13=\"\",AG13=\"\"),0,IF(AND(F13=\"G\",Y13=\"\"),-VLOOKUP(AG13,'Tab 7 DüV_A-ZF'!A:B,2,FALSE),IF(OR(F13=\"A\",F13=\"HG\"),-VLOOKUP(AG13,'Tab 7 DüV_A-ZF'!A:B,2,FALSE),0))))","v":""},{"$f":"IF(OR(F13=\"\",G13=\"\"),\"\",IF('N-Abschlag org. Düngung'!AJ13=\"\",0,'N-Abschlag org. Düngung'!AJ13))","v":""},"","","",null,""]
[null,null,{"$f":"IF(B14=\"\",\"\",VLOOKUP(B14,Schlagliste!B:D,2,FALSE))","v":""},{"$f":"IF(B14=\"\",\"\",VLOOKUP(B14,Schlagliste!B:D,3,FALSE))","v":""},{"$f":"IF(B14=\"\",\"\",VLOOKUP(B14,Schlagliste!B:E,4,FALSE))","v":""},null,null,{"$f":"IF(OR(G14=\"\",F14=\"\"),\"\",IF(AND(C14=\"ja\",LEFT(G14,5)=\"ZF n.\"),0,(IF(F14=\"G\",VLOOKUP(G14,'Tab 4+5 DüV+Abfuhr_G'!A:C,3,FALSE),IF(F14=\"A\",VLOOKUP(G14,'Tab 2+3 DüV_A'!A:C,3,FALSE),VLOOKUP(G14,'H&G LfL'!B:U,9,FALSE))))))","v":""},{"$f":"IF(OR(F14=\"\",G14=\"\"),\"\",IF(F14=\"G\",VLOOKUP(G14,'Tab 4+5 DüV+Abfuhr_G'!A:D,4,FALSE),IF(F14=\"A\",VLOOKUP(G14,'Tab 2+3 DüV_A'!A:D,4,FALSE),VLOOKUP(G14,'H&G LfL'!B:U,10,FALSE))))","v":""},{"$f":"IF(OR(F14=\"\",G14=\"\"),\"\",IF(F14=\"G\",VLOOKUP(G14,'Tab 4+5 DüV+Abfuhr_G'!A:B,2,FALSE),IF(F14=\"A\",VLOOKUP(G14,'Tab 2+3 DüV_A'!A:B,2,FALSE),VLOOKUP(G14,'H&G LfL'!B:X,2,FALSE))))","v":""},null,"","",{"$f":"IF(OR(F14=\"\",G14=\"\"),\"\",IF(OR(F14=\"G\",F14=\"HG\"),\"\",IF(F14=\"A\",VLOOKUP(G14,'Tab 2+3 DüV_A'!A:H,6,FALSE),VLOOKUP(G14,'H&G LfL'!B:U,13,FALSE))))","v":""},{"$f":"IF(OR(F14=\"\",G14=\"\"),\"\",IF(F14=\"G\",VLOOKUP(G14,'Tab 4+5 DüV+Abfuhr_G'!A:J,8,FALSE),IF(F14=\"HG\",VLOOKUP(G14,'H&G LfL'!B:U,14,FALSE),\"\")))","v":""},{"$f":"IF(OR(F14=\"\",G14=\"\"),\"\",IF(F14=\"G\",VLOOKUP(G14,'Tab 4+5 DüV+Abfuhr_G'!A:J,9,FALSE),IF(F14=\"A\",VLOOKUP(G14,'Tab 2+3 DüV_A'!A:H,7,FALSE),VLOOKUP(G14,'H&G LfL'!B:U,15,FALSE))))","v":""},{"$f":"IF(OR(F14=\"\",G14=\"\"),\"\",IF(F14=\"G\",VLOOKUP(G14,'Tab 4+5 DüV+Abfuhr_G'!A:J,10,FALSE),IF(F14=\"A\",VLOOKUP(G14,'Tab 2+3 DüV_A'!A:H,8,FALSE),VLOOKUP(G14,'H&G LfL'!B:U,16,FALSE))))","v":""},"",null,{"$f":"IF(OR(F14=\"\",G14=\"\"),\"\",IF(OR(S14=\"\",S14=\"nein\",F14=\"A\",F14=\"HG\"),\"0\",VLOOKUP(S14,Verfrühung!A:B,2,FALSE)))","v":""},{"$f":"IF(OR(F14=\"\",G14=\"\"),\"\",IF(F14=\"G\",VLOOKUP(G14,'Tab 4+5 DüV+Abfuhr_G'!A:E,5,FALSE),IF(F14=\"A\",VLOOKUP(G14,'Tab 2+3 DüV_A'!A:L,5,FALSE),VLOOKUP(G14,'H&G LfL'!B:U,11,FALSE))))","v":""},null,null,"",null,{"$f":"IF(OR(F14=\"\",G14=\"\"),\"\",IF(OR(F14=\"A\",F14=\"HG\",Y14=\"\"),\"0\",-VLOOKUP(Y14,'Tab 4+5 DüV+Abfuhr_G'!A:N,6,FALSE)))","v":""},null,"",null,{"$f":"IF(OR(F14=\"\",G14=\"\"),\"\",IF(OR(AC14=\"nein\",AC14=\"\",Z14=\"\",AA14=\"ja\",Y14=\"\",F14=\"A\",F14=\"HG\",Y14=\"\"),\"0\",VLOOKUP(Y14,'Tab 4+5 DüV+Abfuhr_G'!A:G,7,FALSE)))","v":""},null,{"$f":"IF(OR(F14=\"\",G14=\"\"),\"\",IF(OR(F14=\"\",G14=\"\",AE14=\"\"),0,IF(AND(F14=\"G\",Y14=\"\"),-VLOOKUP(AE14,'Tab 7 DüV_A-VF'!A:B,2,FALSE),IF(OR(F14=\"A\",F14=\"HG\"),-VLOOKUP(AE14,'Tab 7 DüV_A-VF'!A:B,2,FALSE),0))))","v":""},null,{"$f":"IF(OR(F14=\"\",G14=\"\"),\"\",IF(OR(F14=\"\",G14=\"\",AG14=\"\"),0,IF(AND(F14=\"G\",Y14=\"\"),-VLOOKUP(AG14,'Tab 7 DüV_A-ZF'!A:B,2,FALSE),IF(OR(F14=\"A\",F14=\"HG\"),-VLOOKUP(AG14,'Tab 7 DüV_A-ZF'!A:B,2,FALSE),0))))","v":""},{"$f":"IF(OR(F14=\"\",G14=\"\"),\"\",IF('N-Abschlag org. Düngung'!AJ14=\"\",0,'N-Abschlag org. Düngung'!AJ14))","v":""},"","","",null,""]
[null,null,{"$f":"IF(B15=\"\",\"\",VLOOKUP(B15,Schlagliste!B:D,2,FALSE))","v":""},{"$f":"IF(B15=\"\",\"\",VLOOKUP(B15,Schlagliste!B:D,3,FALSE))","v":""},{"$f":"IF(B15=\"\",\"\",VLOOKUP(B15,Schlagliste!B:E,4,FALSE))","v":""},null,null,{"$f":"IF(OR(G15=\"\",F15=\"\"),\"\",IF(AND(C15=\"ja\",LEFT(G15,5)=\"ZF n.\"),0,(IF(F15=\"G\",VLOOKUP(G15,'Tab 4+5 DüV+Abfuhr_G'!A:C,3,FALSE),IF(F15=\"A\",VLOOKUP(G15,'Tab 2+3 DüV_A'!A:C,3,FALSE),VLOOKUP(G15,'H&G LfL'!B:U,9,FALSE))))))","v":""},{"$f":"IF(OR(F15=\"\",G15=\"\"),\"\",IF(F15=\"G\",VLOOKUP(G15,'Tab 4+5 DüV+Abfuhr_G'!A:D,4,FALSE),IF(F15=\"A\",VLOOKUP(G15,'Tab 2+3 DüV_A'!A:D,4,FALSE),VLOOKUP(G15,'H&G LfL'!B:U,10,FALSE))))","v":""},{"$f":"IF(OR(F15=\"\",G15=\"\"),\"\",IF(F15=\"G\",VLOOKUP(G15,'Tab 4+5 DüV+Abfuhr_G'!A:B,2,FALSE),IF(F15=\"A\",VLOOKUP(G15,'Tab 2+3 DüV_A'!A:B,2,FALSE),VLOOKUP(G15,'H&G LfL'!B:X,2,FALSE))))","v":""},null,"","",{"$f":"IF(OR(F15=\"\",G15=\"\"),\"\",IF(OR(F15=\"G\",F15=\"HG\"),\"\",IF(F15=\"A\",VLOOKUP(G15,'Tab 2+3 DüV_A'!A:H,6,FALSE),VLOOKUP(G15,'H&G LfL'!B:U,13,FALSE))))","v":""},{"$f":"IF(OR(F15=\"\",G15=\"\"),\"\",IF(F15=\"G\",VLOOKUP(G15,'Tab 4+5 DüV+Abfuhr_G'!A:J,8,FALSE),IF(F15=\"HG\",VLOOKUP(G15,'H&G LfL'!B:U,14,FALSE),\"\")))","v":""},{"$f":"IF(OR(F15=\"\",G15=\"\"),\"\",IF(F15=\"G\",VLOOKUP(G15,'Tab 4+5 DüV+Abfuhr_G'!A:J,9,FALSE),IF(F15=\"A\",VLOOKUP(G15,'Tab 2+3 DüV_A'!A:H,7,FALSE),VLOOKUP(G15,'H&G LfL'!B:U,15,FALSE))))","v":""},{"$f":"IF(OR(F15=\"\",G15=\"\"),\"\",IF(F15=\"G\",VLOOKUP(G15,'Tab 4+5 DüV+Abfuhr_G'!A:J,10,FALSE),IF(F15=\"A\",VLOOKUP(G15,'Tab 2+3 DüV_A'!A:H,8,FALSE),VLOOKUP(G15,'H&G LfL'!B:U,16,FALSE))))","v":""},"",null,{"$f":"IF(OR(F15=\"\",G15=\"\"),\"\",IF(OR(S15=\"\",S15=\"nein\",F15=\"A\",F15=\"HG\"),\"0\",VLOOKUP(S15,Verfrühung!A:B,2,FALSE)))","v":""},{"$f":"IF(OR(F15=\"\",G15=\"\"),\"\",IF(F15=\"G\",VLOOKUP(G15,'Tab 4+5 DüV+Abfuhr_G'!A:E,5,FALSE),IF(F15=\"A\",VLOOKUP(G15,'Tab 2+3 DüV_A'!A:L,5,FALSE),VLOOKUP(G15,'H&G LfL'!B:U,11,FALSE))))","v":""},null,null,"",null,{"$f":"IF(OR(F15=\"\",G15=\"\"),\"\",IF(OR(F15=\"A\",F15=\"HG\",Y15=\"\"),\"0\",-VLOOKUP(Y15,'Tab 4+5 DüV+Abfuhr_G'!A:N,6,FALSE)))","v":""},null,"",null,{"$f":"IF(OR(F15=\"\",G15=\"\"),\"\",IF(OR(AC15=\"nein\",AC15=\"\",Z15=\"\",AA15=\"ja\",Y15=\"\",F15=\"A\",F15=\"HG\",Y15=\"\"),\"0\",VLOOKUP(Y15,'Tab 4+5 DüV+Abfuhr_G'!A:G,7,FALSE)))","v":""},null,{"$f":"IF(OR(F15=\"\",G15=\"\"),\"\",IF(OR(F15=\"\",G15=\"\",AE15=\"\"),0,IF(AND(F15=\"G\",Y15=\"\"),-VLOOKUP(AE15,'Tab 7 DüV_A-VF'!A:B,2,FALSE),IF(OR(F15=\"A\",F15=\"HG\"),-VLOOKUP(AE15,'Tab 7 DüV_A-VF'!A:B,2,FALSE),0))))","v":""},null,{"$f":"IF(OR(F15=\"\",G15=\"\"),\"\",IF(OR(F15=\"\",G15=\"\",AG15=\"\"),0,IF(AND(F15=\"G\",Y15=\"\"),-VLOOKUP(AG15,'Tab 7 DüV_A-ZF'!A:B,2,FALSE),IF(OR(F15=\"A\",F15=\"HG\"),-VLOOKUP(AG15,'Tab 7 DüV_A-ZF'!A:B,2,FALSE),0))))","v":""},{"$f":"IF(OR(F15=\"\",G15=\"\"),\"\",IF('N-Abschlag org. Düngung'!AJ15=\"\",0,'N-Abschlag org. Düngung'!AJ15))","v":""},"","","",null,""]
[null,null,{"$f":"IF(B16=\"\",\"\",VLOOKUP(B16,Schlagliste!B:D,2,FALSE))","v":""},{"$f":"IF(B16=\"\",\"\",VLOOKUP(B16,Schlagliste!B:D,3,FALSE))","v":""},{"$f":"IF(B16=\"\",\"\",VLOOKUP(B16,Schlagliste!B:E,4,FALSE))","v":""},null,null,{"$f":"IF(OR(G16=\"\",F16=\"\"),\"\",IF(AND(C16=\"ja\",LEFT(G16,5)=\"ZF n.\"),0,(IF(F16=\"G\",VLOOKUP(G16,'Tab 4+5 DüV+Abfuhr_G'!A:C,3,FALSE),IF(F16=\"A\",VLOOKUP(G16,'Tab 2+3 DüV_A'!A:C,3,FALSE),VLOOKUP(G16,'H&G LfL'!B:U,9,FALSE))))))","v":""},{"$f":"IF(OR(F16=\"\",G16=\"\"),\"\",IF(F16=\"G\",VLOOKUP(G16,'Tab 4+5 DüV+Abfuhr_G'!A:D,4,FALSE),IF(F16=\"A\",VLOOKUP(G16,'Tab 2+3 DüV_A'!A:D,4,FALSE),VLOOKUP(G16,'H&G LfL'!B:U,10,FALSE))))","v":""},{"$f":"IF(OR(F16=\"\",G16=\"\"),\"\",IF(F16=\"G\",VLOOKUP(G16,'Tab 4+5 DüV+Abfuhr_G'!A:B,2,FALSE),IF(F16=\"A\",VLOOKUP(G16,'Tab 2+3 DüV_A'!A:B,2,FALSE),VLOOKUP(G16,'H&G LfL'!B:X,2,FALSE))))","v":""},null,"","",{"$f":"IF(OR(F16=\"\",G16=\"\"),\"\",IF(OR(F16=\"G\",F16=\"HG\"),\"\",IF(F16=\"A\",VLOOKUP(G16,'Tab 2+3 DüV_A'!A:H,6,FALSE),VLOOKUP(G16,'H&G LfL'!B:U,13,FALSE))))","v":""},{"$f":"IF(OR(F16=\"\",G16=\"\"),\"\",IF(F16=\"G\",VLOOKUP(G16,'Tab 4+5 DüV+Abfuhr_G'!A:J,8,FALSE),IF(F16=\"HG\",VLOOKUP(G16,'H&G LfL'!B:U,14,FALSE),\"\")))","v":""},{"$f":"IF(OR(F16=\"\",G16=\"\"),\"\",IF(F16=\"G\",VLOOKUP(G16,'Tab 4+5 DüV+Abfuhr_G'!A:J,9,FALSE),IF(F16=\"A\",VLOOKUP(G16,'Tab 2+3 DüV_A'!A:H,7,FALSE),VLOOKUP(G16,'H&G LfL'!B:U,15,FALSE))))","v":""},{"$f":"IF(OR(F16=\"\",G16=\"\"),\"\",IF(F16=\"G\",VLOOKUP(G16,'Tab 4+5 DüV+Abfuhr_G'!A:J,10,FALSE),IF(F16=\"A\",VLOOKUP(G16,'Tab 2+3 DüV_A'!A:H,8,FALSE),VLOOKUP(G16,'H&G LfL'!B:U,16,FALSE))))","v":""},"",null,{"$f":"IF(OR(F16=\"\",G16=\"\"),\"\",IF(OR(S16=\"\",S16=\"nein\",F16=\"A\",F16=\"HG\"),\"0\",VLOOKUP(S16,Verfrühung!A:B,2,FALSE)))","v":""},{"$f":"IF(OR(F16=\"\",G16=\"\"),\"\",IF(F16=\"G\",VLOOKUP(G16,'Tab 4+5 DüV+Abfuhr_G'!A:E,5,FALSE),IF(F16=\"A\",VLOOKUP(G16,'Tab 2+3 DüV_A'!A:L,5,FALSE),VLOOKUP(G16,'H&G LfL'!B:U,11,FALSE))))","v":""},null,null,"",null,{"$f":"IF(OR(F16=\"\",G16=\"\"),\"\",IF(OR(F16=\"A\",F16=\"HG\",Y16=\"\"),\"0\",-VLOOKUP(Y16,'Tab 4+5 DüV+Abfuhr_G'!A:N,6,FALSE)))","v":""},null,"",null,{"$f":"IF(OR(F16=\"\",G16=\"\"),\"\",IF(OR(AC16=\"nein\",AC16=\"\",Z16=\"\",AA16=\"ja\",Y16=\"\",F16=\"A\",F16=\"HG\",Y16=\"\"),\"0\",VLOOKUP(Y16,'Tab 4+5 DüV+Abfuhr_G'!A:G,7,FALSE)))","v":""},null,{"$f":"IF(OR(F16=\"\",G16=\"\"),\"\",IF(OR(F16=\"\",G16=\"\",AE16=\"\"),0,IF(AND(F16=\"G\",Y16=\"\"),-VLOOKUP(AE16,'Tab 7 DüV_A-VF'!A:B,2,FALSE),IF(OR(F16=\"A\",F16=\"HG\"),-VLOOKUP(AE16,'Tab 7 DüV_A-VF'!A:B,2,FALSE),0))))","v":""},null,{"$f":"IF(OR(F16=\"\",G16=\"\"),\"\",IF(OR(F16=\"\",G16=\"\",AG16=\"\"),0,IF(AND(F16=\"G\",Y16=\"\"),-VLOOKUP(AG16,'Tab 7 DüV_A-ZF'!A:B,2,FALSE),IF(OR(F16=\"A\",F16=\"HG\"),-VLOOKUP(AG16,'Tab 7 DüV_A-ZF'!A:B,2,FALSE),0))))","v":""},{"$f":"IF(OR(F16=\"\",G16=\"\"),\"\",IF('N-Abschlag org. Düngung'!AJ16=\"\",0,'N-Abschlag org. Düngung'!AJ16))","v":""},"","","",null,""]
[null,null,{"$f":"IF(B17=\"\",\"\",VLOOKUP(B17,Schlagliste!B:D,2,FALSE))","v":""},{"$f":"IF(B17=\"\",\"\",VLOOKUP(B17,Schlagliste!B:D,3,FALSE))","v":""},{"$f":"IF(B17=\"\",\"\",VLOOKUP(B17,Schlagliste!B:E,4,FALSE))","v":""},null,null,{"$f":"IF(OR(G17=\"\",F17=\"\"),\"\",IF(AND(C17=\"ja\",LEFT(G17,5)=\"ZF n.\"),0,(IF(F17=\"G\",VLOOKUP(G17,'Tab 4+5 DüV+Abfuhr_G'!A:C,3,FALSE),IF(F17=\"A\",VLOOKUP(G17,'Tab 2+3 DüV_A'!A:C,3,FALSE),VLOOKUP(G17,'H&G LfL'!B:U,9,FALSE))))))","v":""},{"$f":"IF(OR(F17=\"\",G17=\"\"),\"\",IF(F17=\"G\",VLOOKUP(G17,'Tab 4+5 DüV+Abfuhr_G'!A:D,4,FALSE),IF(F17=\"A\",VLOOKUP(G17,'Tab 2+3 DüV_A'!A:D,4,FALSE),VLOOKUP(G17,'H&G LfL'!B:U,10,FALSE))))","v":""},{"$f":"IF(OR(F17=\"\",G17=\"\"),\"\",IF(F17=\"G\",VLOOKUP(G17,'Tab 4+5 DüV+Abfuhr_G'!A:B,2,FALSE),IF(F17=\"A\",VLOOKUP(G17,'Tab 2+3 DüV_A'!A:B,2,FALSE),VLOOKUP(G17,'H&G LfL'!B:X,2,FALSE))))","v":""},null,"","",{"$f":"IF(OR(F17=\"\",G17=\"\"),\"\",IF(OR(F17=\"G\",F17=\"HG\"),\"\",IF(F17=\"A\",VLOOKUP(G17,'Tab 2+3 DüV_A'!A:H,6,FALSE),VLOOKUP(G17,'H&G LfL'!B:U,13,FALSE))))","v":""},{"$f":"IF(OR(F17=\"\",G17=\"\"),\"\",IF(F17=\"G\",VLOOKUP(G17,'Tab 4+5 DüV+Abfuhr_G'!A:J,8,FALSE),IF(F17=\"HG\",VLOOKUP(G17,'H&G LfL'!B:U,14,FALSE),\"\")))","v":""},{"$f":"IF(OR(F17=\"\",G17=\"\"),\"\",IF(F17=\"G\",VLOOKUP(G17,'Tab 4+5 DüV+Abfuhr_G'!A:J,9,FALSE),IF(F17=\"A\",VLOOKUP(G17,'Tab 2+3 DüV_A'!A:H,7,FALSE),VLOOKUP(G17,'H&G LfL'!B:U,15,FALSE))))","v":""},{"$f":"IF(OR(F17=\"\",G17=\"\"),\"\",IF(F17=\"G\",VLOOKUP(G17,'Tab 4+5 DüV+Abfuhr_G'!A:J,10,FALSE),IF(F17=\"A\",VLOOKUP(G17,'Tab 2+3 DüV_A'!A:H,8,FALSE),VLOOKUP(G17,'H&G LfL'!B:U,16,FALSE))))","v":""},"",null,{"$f":"IF(OR(F17=\"\",G17=\"\"),\"\",IF(OR(S17=\"\",S17=\"nein\",F17=\"A\",F17=\"HG\"),\"0\",VLOOKUP(S17,Verfrühung!A:B,2,FALSE)))","v":""},{"$f":"IF(OR(F17=\"\",G17=\"\"),\"\",IF(F17=\"G\",VLOOKUP(G17,'Tab 4+5 DüV+Abfuhr_G'!A:E,5,FALSE),IF(F17=\"A\",VLOOKUP(G17,'Tab 2+3 DüV_A'!A:L,5,FALSE),VLOOKUP(G17,'H&G LfL'!B:U,11,FALSE))))","v":""},null,null,"",null,{"$f":"IF(OR(F17=\"\",G17=\"\"),\"\",IF(OR(F17=\"A\",F17=\"HG\",Y17=\"\"),\"0\",-VLOOKUP(Y17,'Tab 4+5 DüV+Abfuhr_G'!A:N,6,FALSE)))","v":""},null,"",null,{"$f":"IF(OR(F17=\"\",G17=\"\"),\"\",IF(OR(AC17=\"nein\",AC17=\"\",Z17=\"\",AA17=\"ja\",Y17=\"\",F17=\"A\",F17=\"HG\",Y17=\"\"),\"0\",VLOOKUP(Y17,'Tab 4+5 DüV+Abfuhr_G'!A:G,7,FALSE)))","v":""},null,{"$f":"IF(OR(F17=\"\",G17=\"\"),\"\",IF(OR(F17=\"\",G17=\"\",AE17=\"\"),0,IF(AND(F17=\"G\",Y17=\"\"),-VLOOKUP(AE17,'Tab 7 DüV_A-VF'!A:B,2,FALSE),IF(OR(F17=\"A\",F17=\"HG\"),-VLOOKUP(AE17,'Tab 7 DüV_A-VF'!A:B,2,FALSE),0))))","v":""},null,{"$f":"IF(OR(F17=\"\",G17=\"\"),\"\",IF(OR(F17=\"\",G17=\"\",AG17=\"\"),0,IF(AND(F17=\"G\",Y17=\"\"),-VLOOKUP(AG17,'Tab 7 DüV_A-ZF'!A:B,2,FALSE),IF(OR(F17=\"A\",F17=\"HG\"),-VLOOKUP(AG17,'Tab 7 DüV_A-ZF'!A:B,2,FALSE),0))))","v":""},{"$f":"IF(OR(F17=\"\",G17=\"\"),\"\",IF('N-Abschlag org. Düngung'!AJ17=\"\",0,'N-Abschlag org. Düngung'!AJ17))","v":""},"","","",null,""]
[null,null,{"$f":"IF(B18=\"\",\"\",VLOOKUP(B18,Schlagliste!B:D,2,FALSE))","v":""},{"$f":"IF(B18=\"\",\"\",VLOOKUP(B18,Schlagliste!B:D,3,FALSE))","v":""},{"$f":"IF(B18=\"\",\"\",VLOOKUP(B18,Schlagliste!B:E,4,FALSE))","v":""},null,null,{"$f":"IF(OR(G18=\"\",F18=\"\"),\"\",IF(AND(C18=\"ja\",LEFT(G18,5)=\"ZF n.\"),0,(IF(F18=\"G\",VLOOKUP(G18,'Tab 4+5 DüV+Abfuhr_G'!A:C,3,FALSE),IF(F18=\"A\",VLOOKUP(G18,'Tab 2+3 DüV_A'!A:C,3,FALSE),VLOOKUP(G18,'H&G LfL'!B:U,9,FALSE))))))","v":""},{"$f":"IF(OR(F18=\"\",G18=\"\"),\"\",IF(F18=\"G\",VLOOKUP(G18,'Tab 4+5 DüV+Abfuhr_G'!A:D,4,FALSE),IF(F18=\"A\",VLOOKUP(G18,'Tab 2+3 DüV_A'!A:D,4,FALSE),VLOOKUP(G18,'H&G LfL'!B:U,10,FALSE))))","v":""},{"$f":"IF(OR(F18=\"\",G18=\"\"),\"\",IF(F18=\"G\",VLOOKUP(G18,'Tab 4+5 DüV+Abfuhr_G'!A:B,2,FALSE),IF(F18=\"A\",VLOOKUP(G18,'Tab 2+3 DüV_A'!A:B,2,FALSE),VLOOKUP(G18,'H&G LfL'!B:X,2,FALSE))))","v":""},null,"","",{"$f":"IF(OR(F18=\"\",G18=\"\"),\"\",IF(OR(F18=\"G\",F18=\"HG\"),\"\",IF(F18=\"A\",VLOOKUP(G18,'Tab 2+3 DüV_A'!A:H,6,FALSE),VLOOKUP(G18,'H&G LfL'!B:U,13,FALSE))))","v":""},{"$f":"IF(OR(F18=\"\",G18=\"\"),\"\",IF(F18=\"G\",VLOOKUP(G18,'Tab 4+5 DüV+Abfuhr_G'!A:J,8,FALSE),IF(F18=\"HG\",VLOOKUP(G18,'H&G LfL'!B:U,14,FALSE),\"\")))","v":""},{"$f":"IF(OR(F18=\"\",G18=\"\"),\"\",IF(F18=\"G\",VLOOKUP(G18,'Tab 4+5 DüV+Abfuhr_G'!A:J,9,FALSE),IF(F18=\"A\",VLOOKUP(G18,'Tab 2+3 DüV_A'!A:H,7,FALSE),VLOOKUP(G18,'H&G LfL'!B:U,15,FALSE))))","v":""},{"$f":"IF(OR(F18=\"\",G18=\"\"),\"\",IF(F18=\"G\",VLOOKUP(G18,'Tab 4+5 DüV+Abfuhr_G'!A:J,10,FALSE),IF(F18=\"A\",VLOOKUP(G18,'Tab 2+3 DüV_A'!A:H,8,FALSE),VLOOKUP(G18,'H&G LfL'!B:U,16,FALSE))))","v":""},"",null,{"$f":"IF(OR(F18=\"\",G18=\"\"),\"\",IF(OR(S18=\"\",S18=\"nein\",F18=\"A\",F18=\"HG\"),\"0\",VLOOKUP(S18,Verfrühung!A:B,2,FALSE)))","v":""},{"$f":"IF(OR(F18=\"\",G18=\"\"),\"\",IF(F18=\"G\",VLOOKUP(G18,'Tab 4+5 DüV+Abfuhr_G'!A:E,5,FALSE),IF(F18=\"A\",VLOOKUP(G18,'Tab 2+3 DüV_A'!A:L,5,FALSE),VLOOKUP(G18,'H&G LfL'!B:U,11,FALSE))))","v":""},null,null,"",null,{"$f":"IF(OR(F18=\"\",G18=\"\"),\"\",IF(OR(F18=\"A\",F18=\"HG\",Y18=\"\"),\"0\",-VLOOKUP(Y18,'Tab 4+5 DüV+Abfuhr_G'!A:N,6,FALSE)))","v":""},null,"",null,{"$f":"IF(OR(F18=\"\",G18=\"\"),\"\",IF(OR(AC18=\"nein\",AC18=\"\",Z18=\"\",AA18=\"ja\",Y18=\"\",F18=\"A\",F18=\"HG\",Y18=\"\"),\"0\",VLOOKUP(Y18,'Tab 4+5 DüV+Abfuhr_G'!A:G,7,FALSE)))","v":""},null,{"$f":"IF(OR(F18=\"\",G18=\"\"),\"\",IF(OR(F18=\"\",G18=\"\",AE18=\"\"),0,IF(AND(F18=\"G\",Y18=\"\"),-VLOOKUP(AE18,'Tab 7 DüV_A-VF'!A:B,2,FALSE),IF(OR(F18=\"A\",F18=\"HG\"),-VLOOKUP(AE18,'Tab 7 DüV_A-VF'!A:B,2,FALSE),0))))","v":""},null,{"$f":"IF(OR(F18=\"\",G18=\"\"),\"\",IF(OR(F18=\"\",G18=\"\",AG18=\"\"),0,IF(AND(F18=\"G\",Y18=\"\"),-VLOOKUP(AG18,'Tab 7 DüV_A-ZF'!A:B,2,FALSE),IF(OR(F18=\"A\",F18=\"HG\"),-VLOOKUP(AG18,'Tab 7 DüV_A-ZF'!A:B,2,FALSE),0))))","v":""},{"$f":"IF(OR(F18=\"\",G18=\"\"),\"\",IF('N-Abschlag org. Düngung'!AJ18=\"\",0,'N-Abschlag org. Düngung'!AJ18))","v":""},"","","",null,""]
[null,null,{"$f":"IF(B19=\"\",\"\",VLOOKUP(B19,Schlagliste!B:D,2,FALSE))","v":""},{"$f":"IF(B19=\"\",\"\",VLOOKUP(B19,Schlagliste!B:D,3,FALSE))","v":""},{"$f":"IF(B19=\"\",\"\",VLOOKUP(B19,Schlagliste!B:E,4,FALSE))","v":""},null,null,{"$f":"IF(OR(G19=\"\",F19=\"\"),\"\",IF(AND(C19=\"ja\",LEFT(G19,5)=\"ZF n.\"),0,(IF(F19=\"G\",VLOOKUP(G19,'Tab 4+5 DüV+Abfuhr_G'!A:C,3,FALSE),IF(F19=\"A\",VLOOKUP(G19,'Tab 2+3 DüV_A'!A:C,3,FALSE),VLOOKUP(G19,'H&G LfL'!B:U,9,FALSE))))))","v":""},{"$f":"IF(OR(F19=\"\",G19=\"\"),\"\",IF(F19=\"G\",VLOOKUP(G19,'Tab 4+5 DüV+Abfuhr_G'!A:D,4,FALSE),IF(F19=\"A\",VLOOKUP(G19,'Tab 2+3 DüV_A'!A:D,4,FALSE),VLOOKUP(G19,'H&G LfL'!B:U,10,FALSE))))","v":""},{"$f":"IF(OR(F19=\"\",G19=\"\"),\"\",IF(F19=\"G\",VLOOKUP(G19,'Tab 4+5 DüV+Abfuhr_G'!A:B,2,FALSE),IF(F19=\"A\",VLOOKUP(G19,'Tab 2+3 DüV_A'!A:B,2,FALSE),VLOOKUP(G19,'H&G LfL'!B:X,2,FALSE))))","v":""},null,"","",{"$f":"IF(OR(F19=\"\",G19=\"\"),\"\",IF(OR(F19=\"G\",F19=\"HG\"),\"\",IF(F19=\"A\",VLOOKUP(G19,'Tab 2+3 DüV_A'!A:H,6,FALSE),VLOOKUP(G19,'H&G LfL'!B:U,13,FALSE))))","v":""},{"$f":"IF(OR(F19=\"\",G19=\"\"),\"\",IF(F19=\"G\",VLOOKUP(G19,'Tab 4+5 DüV+Abfuhr_G'!A:J,8,FALSE),IF(F19=\"HG\",VLOOKUP(G19,'H&G LfL'!B:U,14,FALSE),\"\")))","v":""},{"$f":"IF(OR(F19=\"\",G19=\"\"),\"\",IF(F19=\"G\",VLOOKUP(G19,'Tab 4+5 DüV+Abfuhr_G'!A:J,9,FALSE),IF(F19=\"A\",VLOOKUP(G19,'Tab 2+3 DüV_A'!A:H,7,FALSE),VLOOKUP(G19,'H&G LfL'!B:U,15,FALSE))))","v":""},{"$f":"IF(OR(F19=\"\",G19=\"\"),\"\",IF(F19=\"G\",VLOOKUP(G19,'Tab 4+5 DüV+Abfuhr_G'!A:J,10,FALSE),IF(F19=\"A\",VLOOKUP(G19,'Tab 2+3 DüV_A'!A:H,8,FALSE),VLOOKUP(G19,'H&G LfL'!B:U,16,FALSE))))","v":""},"",null,{"$f":"IF(OR(F19=\"\",G19=\"\"),\"\",IF(OR(S19=\"\",S19=\"nein\",F19=\"A\",F19=\"HG\"),\"0\",VLOOKUP(S19,Verfrühung!A:B,2,FALSE)))","v":""},{"$f":"IF(OR(F19=\"\",G19=\"\"),\"\",IF(F19=\"G\",VLOOKUP(G19,'Tab 4+5 DüV+Abfuhr_G'!A:E,5,FALSE),IF(F19=\"A\",VLOOKUP(G19,'Tab 2+3 DüV_A'!A:L,5,FALSE),VLOOKUP(G19,'H&G LfL'!B:U,11,FALSE))))","v":""},null,null,"",null,{"$f":"IF(OR(F19=\"\",G19=\"\"),\"\",IF(OR(F19=\"A\",F19=\"HG\",Y19=\"\"),\"0\",-VLOOKUP(Y19,'Tab 4+5 DüV+Abfuhr_G'!A:N,6,FALSE)))","v":""},null,"",null,{"$f":"IF(OR(F19=\"\",G19=\"\"),\"\",IF(OR(AC19=\"nein\",AC19=\"\",Z19=\"\",AA19=\"ja\",Y19=\"\",F19=\"A\",F19=\"HG\",Y19=\"\"),\"0\",VLOOKUP(Y19,'Tab 4+5 DüV+Abfuhr_G'!A:G,7,FALSE)))","v":""},null,{"$f":"IF(OR(F19=\"\",G19=\"\"),\"\",IF(OR(F19=\"\",G19=\"\",AE19=\"\"),0,IF(AND(F19=\"G\",Y19=\"\"),-VLOOKUP(AE19,'Tab 7 DüV_A-VF'!A:B,2,FALSE),IF(OR(F19=\"A\",F19=\"HG\"),-VLOOKUP(AE19,'Tab 7 DüV_A-VF'!A:B,2,FALSE),0))))","v":""},null,{"$f":"IF(OR(F19=\"\",G19=\"\"),\"\",IF(OR(F19=\"\",G19=\"\",AG19=\"\"),0,IF(AND(F19=\"G\",Y19=\"\"),-VLOOKUP(AG19,'Tab 7 DüV_A-ZF'!A:B,2,FALSE),IF(OR(F19=\"A\",F19=\"HG\"),-VLOOKUP(AG19,'Tab 7 DüV_A-ZF'!A:B,2,FALSE),0))))","v":""},{"$f":"IF(OR(F19=\"\",G19=\"\"),\"\",IF('N-Abschlag org. Düngung'!AJ19=\"\",0,'N-Abschlag org. Düngung'!AJ19))","v":""},"","","",null,""]
[null,null,{"$f":"IF(B20=\"\",\"\",VLOOKUP(B20,Schlagliste!B:D,2,FALSE))","v":""},{"$f":"IF(B20=\"\",\"\",VLOOKUP(B20,Schlagliste!B:D,3,FALSE))","v":""},{"$f":"IF(B20=\"\",\"\",VLOOKUP(B20,Schlagliste!B:E,4,FALSE))","v":""},null,null,{"$f":"IF(OR(G20=\"\",F20=\"\"),\"\",IF(AND(C20=\"ja\",LEFT(G20,5)=\"ZF n.\"),0,(IF(F20=\"G\",VLOOKUP(G20,'Tab 4+5 DüV+Abfuhr_G'!A:C,3,FALSE),IF(F20=\"A\",VLOOKUP(G20,'Tab 2+3 DüV_A'!A:C,3,FALSE),VLOOKUP(G20,'H&G LfL'!B:U,9,FALSE))))))","v":""},{"$f":"IF(OR(F20=\"\",G20=\"\"),\"\",IF(F20=\"G\",VLOOKUP(G20,'Tab 4+5 DüV+Abfuhr_G'!A:D,4,FALSE),IF(F20=\"A\",VLOOKUP(G20,'Tab 2+3 DüV_A'!A:D,4,FALSE),VLOOKUP(G20,'H&G LfL'!B:U,10,FALSE))))","v":""},{"$f":"IF(OR(F20=\"\",G20=\"\"),\"\",IF(F20=\"G\",VLOOKUP(G20,'Tab 4+5 DüV+Abfuhr_G'!A:B,2,FALSE),IF(F20=\"A\",VLOOKUP(G20,'Tab 2+3 DüV_A'!A:B,2,FALSE),VLOOKUP(G20,'H&G LfL'!B:X,2,FALSE))))","v":""},null,"","",{"$f":"IF(OR(F20=\"\",G20=\"\"),\"\",IF(OR(F20=\"G\",F20=\"HG\"),\"\",IF(F20=\"A\",VLOOKUP(G20,'Tab 2+3 DüV_A'!A:H,6,FALSE),VLOOKUP(G20,'H&G LfL'!B:U,13,FALSE))))","v":""},{"$f":"IF(OR(F20=\"\",G20=\"\"),\"\",IF(F20=\"G\",VLOOKUP(G20,'Tab 4+5 DüV+Abfuhr_G'!A:J,8,FALSE),IF(F20=\"HG\",VLOOKUP(G20,'H&G LfL'!B:U,14,FALSE),\"\")))","v":""},{"$f":"IF(OR(F20=\"\",G20=\"\"),\"\",IF(F20=\"G\",VLOOKUP(G20,'Tab 4+5 DüV+Abfuhr_G'!A:J,9,FALSE),IF(F20=\"A\",VLOOKUP(G20,'Tab 2+3 DüV_A'!A:H,7,FALSE),VLOOKUP(G20,'H&G LfL'!B:U,15,FALSE))))","v":""},{"$f":"IF(OR(F20=\"\",G20=\"\"),\"\",IF(F20=\"G\",VLOOKUP(G20,'Tab 4+5 DüV+Abfuhr_G'!A:J,10,FALSE),IF(F20=\"A\",VLOOKUP(G20,'Tab 2+3 DüV_A'!A:H,8,FALSE),VLOOKUP(G20,'H&G LfL'!B:U,16,FALSE))))","v":""},"",null,{"$f":"IF(OR(F20=\"\",G20=\"\"),\"\",IF(OR(S20=\"\",S20=\"nein\",F20=\"A\",F20=\"HG\"),\"0\",VLOOKUP(S20,Verfrühung!A:B,2,FALSE)))","v":""},{"$f":"IF(OR(F20=\"\",G20=\"\"),\"\",IF(F20=\"G\",VLOOKUP(G20,'Tab 4+5 DüV+Abfuhr_G'!A:E,5,FALSE),IF(F20=\"A\",VLOOKUP(G20,'Tab 2+3 DüV_A'!A:L,5,FALSE),VLOOKUP(G20,'H&G LfL'!B:U,11,FALSE))))","v":""},null,null,"",null,{"$f":"IF(OR(F20=\"\",G20=\"\"),\"\",IF(OR(F20=\"A\",F20=\"HG\",Y20=\"\"),\"0\",-VLOOKUP(Y20,'Tab 4+5 DüV+Abfuhr_G'!A:N,6,FALSE)))","v":""},null,"",null,{"$f":"IF(OR(F20=\"\",G20=\"\"),\"\",IF(OR(AC20=\"nein\",AC20=\"\",Z20=\"\",AA20=\"ja\",Y20=\"\",F20=\"A\",F20=\"HG\",Y20=\"\"),\"0\",VLOOKUP(Y20,'Tab 4+5 DüV+Abfuhr_G'!A:G,7,FALSE)))","v":""},null,{"$f":"IF(OR(F20=\"\",G20=\"\"),\"\",IF(OR(F20=\"\",G20=\"\",AE20=\"\"),0,IF(AND(F20=\"G\",Y20=\"\"),-VLOOKUP(AE20,'Tab 7 DüV_A-VF'!A:B,2,FALSE),IF(OR(F20=\"A\",F20=\"HG\"),-VLOOKUP(AE20,'Tab 7 DüV_A-VF'!A:B,2,FALSE),0))))","v":""},null,{"$f":"IF(OR(F20=\"\",G20=\"\"),\"\",IF(OR(F20=\"\",G20=\"\",AG20=\"\"),0,IF(AND(F20=\"G\",Y20=\"\"),-VLOOKUP(AG20,'Tab 7 DüV_A-ZF'!A:B,2,FALSE),IF(OR(F20=\"A\",F20=\"HG\"),-VLOOKUP(AG20,'Tab 7 DüV_A-ZF'!A:B,2,FALSE),0))))","v":""},{"$f":"IF(OR(F20=\"\",G20=\"\"),\"\",IF('N-Abschlag org. Düngung'!AJ20=\"\",0,'N-Abschlag org. Düngung'!AJ20))","v":""},"","","",null,""]
[null,null,{"$f":"IF(B21=\"\",\"\",VLOOKUP(B21,Schlagliste!B:D,2,FALSE))","v":""},{"$f":"IF(B21=\"\",\"\",VLOOKUP(B21,Schlagliste!B:D,3,FALSE))","v":""},{"$f":"IF(B21=\"\",\"\",VLOOKUP(B21,Schlagliste!B:E,4,FALSE))","v":""},null,null,{"$f":"IF(OR(G21=\"\",F21=\"\"),\"\",IF(AND(C21=\"ja\",LEFT(G21,5)=\"ZF n.\"),0,(IF(F21=\"G\",VLOOKUP(G21,'Tab 4+5 DüV+Abfuhr_G'!A:C,3,FALSE),IF(F21=\"A\",VLOOKUP(G21,'Tab 2+3 DüV_A'!A:C,3,FALSE),VLOOKUP(G21,'H&G LfL'!B:U,9,FALSE))))))","v":""},{"$f":"IF(OR(F21=\"\",G21=\"\"),\"\",IF(F21=\"G\",VLOOKUP(G21,'Tab 4+5 DüV+Abfuhr_G'!A:D,4,FALSE),IF(F21=\"A\",VLOOKUP(G21,'Tab 2+3 DüV_A'!A:D,4,FALSE),VLOOKUP(G21,'H&G LfL'!B:U,10,FALSE))))","v":""},{"$f":"IF(OR(F21=\"\",G21=\"\"),\"\",IF(F21=\"G\",VLOOKUP(G21,'Tab 4+5 DüV+Abfuhr_G'!A:B,2,FALSE),IF(F21=\"A\",VLOOKUP(G21,'Tab 2+3 DüV_A'!A:B,2,FALSE),VLOOKUP(G21,'H&G LfL'!B:X,2,FALSE))))","v":""},null,"","",{"$f":"IF(OR(F21=\"\",G21=\"\"),\"\",IF(OR(F21=\"G\",F21=\"HG\"),\"\",IF(F21=\"A\",VLOOKUP(G21,'Tab 2+3 DüV_A'!A:H,6,FALSE),VLOOKUP(G21,'H&G LfL'!B:U,13,FALSE))))","v":""},{"$f":"IF(OR(F21=\"\",G21=\"\"),\"\",IF(F21=\"G\",VLOOKUP(G21,'Tab 4+5 DüV+Abfuhr_G'!A:J,8,FALSE),IF(F21=\"HG\",VLOOKUP(G21,'H&G LfL'!B:U,14,FALSE),\"\")))","v":""},{"$f":"IF(OR(F21=\"\",G21=\"\"),\"\",IF(F21=\"G\",VLOOKUP(G21,'Tab 4+5 DüV+Abfuhr_G'!A:J,9,FALSE),IF(F21=\"A\",VLOOKUP(G21,'Tab 2+3 DüV_A'!A:H,7,FALSE),VLOOKUP(G21,'H&G LfL'!B:U,15,FALSE))))","v":""},{"$f":"IF(OR(F21=\"\",G21=\"\"),\"\",IF(F21=\"G\",VLOOKUP(G21,'Tab 4+5 DüV+Abfuhr_G'!A:J,10,FALSE),IF(F21=\"A\",VLOOKUP(G21,'Tab 2+3 DüV_A'!A:H,8,FALSE),VLOOKUP(G21,'H&G LfL'!B:U,16,FALSE))))","v":""},"",null,{"$f":"IF(OR(F21=\"\",G21=\"\"),\"\",IF(OR(S21=\"\",S21=\"nein\",F21=\"A\",F21=\"HG\"),\"0\",VLOOKUP(S21,Verfrühung!A:B,2,FALSE)))","v":""},{"$f":"IF(OR(F21=\"\",G21=\"\"),\"\",IF(F21=\"G\",VLOOKUP(G21,'Tab 4+5 DüV+Abfuhr_G'!A:E,5,FALSE),IF(F21=\"A\",VLOOKUP(G21,'Tab 2+3 DüV_A'!A:L,5,FALSE),VLOOKUP(G21,'H&G LfL'!B:U,11,FALSE))))","v":""},null,null,"",null,{"$f":"IF(OR(F21=\"\",G21=\"\"),\"\",IF(OR(F21=\"A\",F21=\"HG\",Y21=\"\"),\"0\",-VLOOKUP(Y21,'Tab 4+5 DüV+Abfuhr_G'!A:N,6,FALSE)))","v":""},null,"",null,{"$f":"IF(OR(F21=\"\",G21=\"\"),\"\",IF(OR(AC21=\"nein\",AC21=\"\",Z21=\"\",AA21=\"ja\",Y21=\"\",F21=\"A\",F21=\"HG\",Y21=\"\"),\"0\",VLOOKUP(Y21,'Tab 4+5 DüV+Abfuhr_G'!A:G,7,FALSE)))","v":""},null,{"$f":"IF(OR(F21=\"\",G21=\"\"),\"\",IF(OR(F21=\"\",G21=\"\",AE21=\"\"),0,IF(AND(F21=\"G\",Y21=\"\"),-VLOOKUP(AE21,'Tab 7 DüV_A-VF'!A:B,2,FALSE),IF(OR(F21=\"A\",F21=\"HG\"),-VLOOKUP(AE21,'Tab 7 DüV_A-VF'!A:B,2,FALSE),0))))","v":""},null,{"$f":"IF(OR(F21=\"\",G21=\"\"),\"\",IF(OR(F21=\"\",G21=\"\",AG21=\"\"),0,IF(AND(F21=\"G\",Y21=\"\"),-VLOOKUP(AG21,'Tab 7 DüV_A-ZF'!A:B,2,FALSE),IF(OR(F21=\"A\",F21=\"HG\"),-VLOOKUP(AG21,'Tab 7 DüV_A-ZF'!A:B,2,FALSE),0))))","v":""},{"$f":"IF(OR(F21=\"\",G21=\"\"),\"\",IF('N-Abschlag org. Düngung'!AJ21=\"\",0,'N-Abschlag org. Düngung'!AJ21))","v":""},"","","",null,""]
[null,null,{"$f":"IF(B22=\"\",\"\",VLOOKUP(B22,Schlagliste!B:D,2,FALSE))","v":""},{"$f":"IF(B22=\"\",\"\",VLOOKUP(B22,Schlagliste!B:D,3,FALSE))","v":""},{"$f":"IF(B22=\"\",\"\",VLOOKUP(B22,Schlagliste!B:E,4,FALSE))","v":""},null,null,{"$f":"IF(OR(G22=\"\",F22=\"\"),\"\",IF(AND(C22=\"ja\",LEFT(G22,5)=\"ZF n.\"),0,(IF(F22=\"G\",VLOOKUP(G22,'Tab 4+5 DüV+Abfuhr_G'!A:C,3,FALSE),IF(F22=\"A\",VLOOKUP(G22,'Tab 2+3 DüV_A'!A:C,3,FALSE),VLOOKUP(G22,'H&G LfL'!B:U,9,FALSE))))))","v":""},{"$f":"IF(OR(F22=\"\",G22=\"\"),\"\",IF(F22=\"G\",VLOOKUP(G22,'Tab 4+5 DüV+Abfuhr_G'!A:D,4,FALSE),IF(F22=\"A\",VLOOKUP(G22,'Tab 2+3 DüV_A'!A:D,4,FALSE),VLOOKUP(G22,'H&G LfL'!B:U,10,FALSE))))","v":""},{"$f":"IF(OR(F22=\"\",G22=\"\"),\"\",IF(F22=\"G\",VLOOKUP(G22,'Tab 4+5 DüV+Abfuhr_G'!A:B,2,FALSE),IF(F22=\"A\",VLOOKUP(G22,'Tab 2+3 DüV_A'!A:B,2,FALSE),VLOOKUP(G22,'H&G LfL'!B:X,2,FALSE))))","v":""},null,"","",{"$f":"IF(OR(F22=\"\",G22=\"\"),\"\",IF(OR(F22=\"G\",F22=\"HG\"),\"\",IF(F22=\"A\",VLOOKUP(G22,'Tab 2+3 DüV_A'!A:H,6,FALSE),VLOOKUP(G22,'H&G LfL'!B:U,13,FALSE))))","v":""},{"$f":"IF(OR(F22=\"\",G22=\"\"),\"\",IF(F22=\"G\",VLOOKUP(G22,'Tab 4+5 DüV+Abfuhr_G'!A:J,8,FALSE),IF(F22=\"HG\",VLOOKUP(G22,'H&G LfL'!B:U,14,FALSE),\"\")))","v":""},{"$f":"IF(OR(F22=\"\",G22=\"\"),\"\",IF(F22=\"G\",VLOOKUP(G22,'Tab 4+5 DüV+Abfuhr_G'!A:J,9,FALSE),IF(F22=\"A\",VLOOKUP(G22,'Tab 2+3 DüV_A'!A:H,7,FALSE),VLOOKUP(G22,'H&G LfL'!B:U,15,FALSE))))","v":""},{"$f":"IF(OR(F22=\"\",G22=\"\"),\"\",IF(F22=\"G\",VLOOKUP(G22,'Tab 4+5 DüV+Abfuhr_G'!A:J,10,FALSE),IF(F22=\"A\",VLOOKUP(G22,'Tab 2+3 DüV_A'!A:H,8,FALSE),VLOOKUP(G22,'H&G LfL'!B:U,16,FALSE))))","v":""},"",null,{"$f":"IF(OR(F22=\"\",G22=\"\"),\"\",IF(OR(S22=\"\",S22=\"nein\",F22=\"A\",F22=\"HG\"),\"0\",VLOOKUP(S22,Verfrühung!A:B,2,FALSE)))","v":""},{"$f":"IF(OR(F22=\"\",G22=\"\"),\"\",IF(F22=\"G\",VLOOKUP(G22,'Tab 4+5 DüV+Abfuhr_G'!A:E,5,FALSE),IF(F22=\"A\",VLOOKUP(G22,'Tab 2+3 DüV_A'!A:L,5,FALSE),VLOOKUP(G22,'H&G LfL'!B:U,11,FALSE))))","v":""},null,null,"",null,{"$f":"IF(OR(F22=\"\",G22=\"\"),\"\",IF(OR(F22=\"A\",F22=\"HG\",Y22=\"\"),\"0\",-VLOOKUP(Y22,'Tab 4+5 DüV+Abfuhr_G'!A:N,6,FALSE)))","v":""},null,"",null,{"$f":"IF(OR(F22=\"\",G22=\"\"),\"\",IF(OR(AC22=\"nein\",AC22=\"\",Z22=\"\",AA22=\"ja\",Y22=\"\",F22=\"A\",F22=\"HG\",Y22=\"\"),\"0\",VLOOKUP(Y22,'Tab 4+5 DüV+Abfuhr_G'!A:G,7,FALSE)))","v":""},null,{"$f":"IF(OR(F22=\"\",G22=\"\"),\"\",IF(OR(F22=\"\",G22=\"\",AE22=\"\"),0,IF(AND(F22=\"G\",Y22=\"\"),-VLOOKUP(AE22,'Tab 7 DüV_A-VF'!A:B,2,FALSE),IF(OR(F22=\"A\",F22=\"HG\"),-VLOOKUP(AE22,'Tab 7 DüV_A-VF'!A:B,2,FALSE),0))))","v":""},null,{"$f":"IF(OR(F22=\"\",G22=\"\"),\"\",IF(OR(F22=\"\",G22=\"\",AG22=\"\"),0,IF(AND(F22=\"G\",Y22=\"\"),-VLOOKUP(AG22,'Tab 7 DüV_A-ZF'!A:B,2,FALSE),IF(OR(F22=\"A\",F22=\"HG\"),-VLOOKUP(AG22,'Tab 7 DüV_A-ZF'!A:B,2,FALSE),0))))","v":""},{"$f":"IF(OR(F22=\"\",G22=\"\"),\"\",IF('N-Abschlag org. Düngung'!AJ22=\"\",0,'N-Abschlag org. Düngung'!AJ22))","v":""},"","","",null,""]
[null,null,{"$f":"IF(B23=\"\",\"\",VLOOKUP(B23,Schlagliste!B:D,2,FALSE))","v":""},{"$f":"IF(B23=\"\",\"\",VLOOKUP(B23,Schlagliste!B:D,3,FALSE))","v":""},{"$f":"IF(B23=\"\",\"\",VLOOKUP(B23,Schlagliste!B:E,4,FALSE))","v":""},null,null,{"$f":"IF(OR(G23=\"\",F23=\"\"),\"\",IF(AND(C23=\"ja\",LEFT(G23,5)=\"ZF n.\"),0,(IF(F23=\"G\",VLOOKUP(G23,'Tab 4+5 DüV+Abfuhr_G'!A:C,3,FALSE),IF(F23=\"A\",VLOOKUP(G23,'Tab 2+3 DüV_A'!A:C,3,FALSE),VLOOKUP(G23,'H&G LfL'!B:U,9,FALSE))))))","v":""},{"$f":"IF(OR(F23=\"\",G23=\"\"),\"\",IF(F23=\"G\",VLOOKUP(G23,'Tab 4+5 DüV+Abfuhr_G'!A:D,4,FALSE),IF(F23=\"A\",VLOOKUP(G23,'Tab 2+3 DüV_A'!A:D,4,FALSE),VLOOKUP(G23,'H&G LfL'!B:U,10,FALSE))))","v":""},{"$f":"IF(OR(F23=\"\",G23=\"\"),\"\",IF(F23=\"G\",VLOOKUP(G23,'Tab 4+5 DüV+Abfuhr_G'!A:B,2,FALSE),IF(F23=\"A\",VLOOKUP(G23,'Tab 2+3 DüV_A'!A:B,2,FALSE),VLOOKUP(G23,'H&G LfL'!B:X,2,FALSE))))","v":""},null,"","",{"$f":"IF(OR(F23=\"\",G23=\"\"),\"\",IF(OR(F23=\"G\",F23=\"HG\"),\"\",IF(F23=\"A\",VLOOKUP(G23,'Tab 2+3 DüV_A'!A:H,6,FALSE),VLOOKUP(G23,'H&G LfL'!B:U,13,FALSE))))","v":""},{"$f":"IF(OR(F23=\"\",G23=\"\"),\"\",IF(F23=\"G\",VLOOKUP(G23,'Tab 4+5 DüV+Abfuhr_G'!A:J,8,FALSE),IF(F23=\"HG\",VLOOKUP(G23,'H&G LfL'!B:U,14,FALSE),\"\")))","v":""},{"$f":"IF(OR(F23=\"\",G23=\"\"),\"\",IF(F23=\"G\",VLOOKUP(G23,'Tab 4+5 DüV+Abfuhr_G'!A:J,9,FALSE),IF(F23=\"A\",VLOOKUP(G23,'Tab 2+3 DüV_A'!A:H,7,FALSE),VLOOKUP(G23,'H&G LfL'!B:U,15,FALSE))))","v":""},{"$f":"IF(OR(F23=\"\",G23=\"\"),\"\",IF(F23=\"G\",VLOOKUP(G23,'Tab 4+5 DüV+Abfuhr_G'!A:J,10,FALSE),IF(F23=\"A\",VLOOKUP(G23,'Tab 2+3 DüV_A'!A:H,8,FALSE),VLOOKUP(G23,'H&G LfL'!B:U,16,FALSE))))","v":""},"",null,{"$f":"IF(OR(F23=\"\",G23=\"\"),\"\",IF(OR(S23=\"\",S23=\"nein\",F23=\"A\",F23=\"HG\"),\"0\",VLOOKUP(S23,Verfrühung!A:B,2,FALSE)))","v":""},{"$f":"IF(OR(F23=\"\",G23=\"\"),\"\",IF(F23=\"G\",VLOOKUP(G23,'Tab 4+5 DüV+Abfuhr_G'!A:E,5,FALSE),IF(F23=\"A\",VLOOKUP(G23,'Tab 2+3 DüV_A'!A:L,5,FALSE),VLOOKUP(G23,'H&G LfL'!B:U,11,FALSE))))","v":""},null,null,"",null,{"$f":"IF(OR(F23=\"\",G23=\"\"),\"\",IF(OR(F23=\"A\",F23=\"HG\",Y23=\"\"),\"0\",-VLOOKUP(Y23,'Tab 4+5 DüV+Abfuhr_G'!A:N,6,FALSE)))","v":""},null,"",null,{"$f":"IF(OR(F23=\"\",G23=\"\"),\"\",IF(OR(AC23=\"nein\",AC23=\"\",Z23=\"\",AA23=\"ja\",Y23=\"\",F23=\"A\",F23=\"HG\",Y23=\"\"),\"0\",VLOOKUP(Y23,'Tab 4+5 DüV+Abfuhr_G'!A:G,7,FALSE)))","v":""},null,{"$f":"IF(OR(F23=\"\",G23=\"\"),\"\",IF(OR(F23=\"\",G23=\"\",AE23=\"\"),0,IF(AND(F23=\"G\",Y23=\"\"),-VLOOKUP(AE23,'Tab 7 DüV_A-VF'!A:B,2,FALSE),IF(OR(F23=\"A\",F23=\"HG\"),-VLOOKUP(AE23,'Tab 7 DüV_A-VF'!A:B,2,FALSE),0))))","v":""},null,{"$f":"IF(OR(F23=\"\",G23=\"\"),\"\",IF(OR(F23=\"\",G23=\"\",AG23=\"\"),0,IF(AND(F23=\"G\",Y23=\"\"),-VLOOKUP(AG23,'Tab 7 DüV_A-ZF'!A:B,2,FALSE),IF(OR(F23=\"A\",F23=\"HG\"),-VLOOKUP(AG23,'Tab 7 DüV_A-ZF'!A:B,2,FALSE),0))))","v":""},{"$f":"IF(OR(F23=\"\",G23=\"\"),\"\",IF('N-Abschlag org. Düngung'!AJ23=\"\",0,'N-Abschlag org. Düngung'!AJ23))","v":""},"","","",null,""]
[null,null,{"$f":"IF(B24=\"\",\"\",VLOOKUP(B24,Schlagliste!B:D,2,FALSE))","v":""},{"$f":"IF(B24=\"\",\"\",VLOOKUP(B24,Schlagliste!B:D,3,FALSE))","v":""},{"$f":"IF(B24=\"\",\"\",VLOOKUP(B24,Schlagliste!B:E,4,FALSE))","v":""},null,null,{"$f":"IF(OR(G24=\"\",F24=\"\"),\"\",IF(AND(C24=\"ja\",LEFT(G24,5)=\"ZF n.\"),0,(IF(F24=\"G\",VLOOKUP(G24,'Tab 4+5 DüV+Abfuhr_G'!A:C,3,FALSE),IF(F24=\"A\",VLOOKUP(G24,'Tab 2+3 DüV_A'!A:C,3,FALSE),VLOOKUP(G24,'H&G LfL'!B:U,9,FALSE))))))","v":""},{"$f":"IF(OR(F24=\"\",G24=\"\"),\"\",IF(F24=\"G\",VLOOKUP(G24,'Tab 4+5 DüV+Abfuhr_G'!A:D,4,FALSE),IF(F24=\"A\",VLOOKUP(G24,'Tab 2+3 DüV_A'!A:D,4,FALSE),VLOOKUP(G24,'H&G LfL'!B:U,10,FALSE))))","v":""},{"$f":"IF(OR(F24=\"\",G24=\"\"),\"\",IF(F24=\"G\",VLOOKUP(G24,'Tab 4+5 DüV+Abfuhr_G'!A:B,2,FALSE),IF(F24=\"A\",VLOOKUP(G24,'Tab 2+3 DüV_A'!A:B,2,FALSE),VLOOKUP(G24,'H&G LfL'!B:X,2,FALSE))))","v":""},null,"","",{"$f":"IF(OR(F24=\"\",G24=\"\"),\"\",IF(OR(F24=\"G\",F24=\"HG\"),\"\",IF(F24=\"A\",VLOOKUP(G24,'Tab 2+3 DüV_A'!A:H,6,FALSE),VLOOKUP(G24,'H&G LfL'!B:U,13,FALSE))))","v":""},{"$f":"IF(OR(F24=\"\",G24=\"\"),\"\",IF(F24=\"G\",VLOOKUP(G24,'Tab 4+5 DüV+Abfuhr_G'!A:J,8,FALSE),IF(F24=\"HG\",VLOOKUP(G24,'H&G LfL'!B:U,14,FALSE),\"\")))","v":""},{"$f":"IF(OR(F24=\"\",G24=\"\"),\"\",IF(F24=\"G\",VLOOKUP(G24,'Tab 4+5 DüV+Abfuhr_G'!A:J,9,FALSE),IF(F24=\"A\",VLOOKUP(G24,'Tab 2+3 DüV_A'!A:H,7,FALSE),VLOOKUP(G24,'H&G LfL'!B:U,15,FALSE))))","v":""},{"$f":"IF(OR(F24=\"\",G24=\"\"),\"\",IF(F24=\"G\",VLOOKUP(G24,'Tab 4+5 DüV+Abfuhr_G'!A:J,10,FALSE),IF(F24=\"A\",VLOOKUP(G24,'Tab 2+3 DüV_A'!A:H,8,FALSE),VLOOKUP(G24,'H&G LfL'!B:U,16,FALSE))))","v":""},"",null,{"$f":"IF(OR(F24=\"\",G24=\"\"),\"\",IF(OR(S24=\"\",S24=\"nein\",F24=\"A\",F24=\"HG\"),\"0\",VLOOKUP(S24,Verfrühung!A:B,2,FALSE)))","v":""},{"$f":"IF(OR(F24=\"\",G24=\"\"),\"\",IF(F24=\"G\",VLOOKUP(G24,'Tab 4+5 DüV+Abfuhr_G'!A:E,5,FALSE),IF(F24=\"A\",VLOOKUP(G24,'Tab 2+3 DüV_A'!A:L,5,FALSE),VLOOKUP(G24,'H&G LfL'!B:U,11,FALSE))))","v":""},null,null,"",null,{"$f":"IF(OR(F24=\"\",G24=\"\"),\"\",IF(OR(F24=\"A\",F24=\"HG\",Y24=\"\"),\"0\",-VLOOKUP(Y24,'Tab 4+5 DüV+Abfuhr_G'!A:N,6,FALSE)))","v":""},null,"",null,{"$f":"IF(OR(F24=\"\",G24=\"\"),\"\",IF(OR(AC24=\"nein\",AC24=\"\",Z24=\"\",AA24=\"ja\",Y24=\"\",F24=\"A\",F24=\"HG\",Y24=\"\"),\"0\",VLOOKUP(Y24,'Tab 4+5 DüV+Abfuhr_G'!A:G,7,FALSE)))","v":""},null,{"$f":"IF(OR(F24=\"\",G24=\"\"),\"\",IF(OR(F24=\"\",G24=\"\",AE24=\"\"),0,IF(AND(F24=\"G\",Y24=\"\"),-VLOOKUP(AE24,'Tab 7 DüV_A-VF'!A:B,2,FALSE),IF(OR(F24=\"A\",F24=\"HG\"),-VLOOKUP(AE24,'Tab 7 DüV_A-VF'!A:B,2,FALSE),0))))","v":""},null,{"$f":"IF(OR(F24=\"\",G24=\"\"),\"\",IF(OR(F24=\"\",G24=\"\",AG24=\"\"),0,IF(AND(F24=\"G\",Y24=\"\"),-VLOOKUP(AG24,'Tab 7 DüV_A-ZF'!A:B,2,FALSE),IF(OR(F24=\"A\",F24=\"HG\"),-VLOOKUP(AG24,'Tab 7 DüV_A-ZF'!A:B,2,FALSE),0))))","v":""},{"$f":"IF(OR(F24=\"\",G24=\"\"),\"\",IF('N-Abschlag org. Düngung'!AJ24=\"\",0,'N-Abschlag org. Düngung'!AJ24))","v":""},"","","",null,""]
[null,null,{"$f":"IF(B25=\"\",\"\",VLOOKUP(B25,Schlagliste!B:D,2,FALSE))","v":""},{"$f":"IF(B25=\"\",\"\",VLOOKUP(B25,Schlagliste!B:D,3,FALSE))","v":""},{"$f":"IF(B25=\"\",\"\",VLOOKUP(B25,Schlagliste!B:E,4,FALSE))","v":""},null,null,{"$f":"IF(OR(G25=\"\",F25=\"\"),\"\",IF(AND(C25=\"ja\",LEFT(G25,5)=\"ZF n.\"),0,(IF(F25=\"G\",VLOOKUP(G25,'Tab 4+5 DüV+Abfuhr_G'!A:C,3,FALSE),IF(F25=\"A\",VLOOKUP(G25,'Tab 2+3 DüV_A'!A:C,3,FALSE),VLOOKUP(G25,'H&G LfL'!B:U,9,FALSE))))))","v":""},{"$f":"IF(OR(F25=\"\",G25=\"\"),\"\",IF(F25=\"G\",VLOOKUP(G25,'Tab 4+5 DüV+Abfuhr_G'!A:D,4,FALSE),IF(F25=\"A\",VLOOKUP(G25,'Tab 2+3 DüV_A'!A:D,4,FALSE),VLOOKUP(G25,'H&G LfL'!B:U,10,FALSE))))","v":""},{"$f":"IF(OR(F25=\"\",G25=\"\"),\"\",IF(F25=\"G\",VLOOKUP(G25,'Tab 4+5 DüV+Abfuhr_G'!A:B,2,FALSE),IF(F25=\"A\",VLOOKUP(G25,'Tab 2+3 DüV_A'!A:B,2,FALSE),VLOOKUP(G25,'H&G LfL'!B:X,2,FALSE))))","v":""},null,"","",{"$f":"IF(OR(F25=\"\",G25=\"\"),\"\",IF(OR(F25=\"G\",F25=\"HG\"),\"\",IF(F25=\"A\",VLOOKUP(G25,'Tab 2+3 DüV_A'!A:H,6,FALSE),VLOOKUP(G25,'H&G LfL'!B:U,13,FALSE))))","v":""},{"$f":"IF(OR(F25=\"\",G25=\"\"),\"\",IF(F25=\"G\",VLOOKUP(G25,'Tab 4+5 DüV+Abfuhr_G'!A:J,8,FALSE),IF(F25=\"HG\",VLOOKUP(G25,'H&G LfL'!B:U,14,FALSE),\"\")))","v":""},{"$f":"IF(OR(F25=\"\",G25=\"\"),\"\",IF(F25=\"G\",VLOOKUP(G25,'Tab 4+5 DüV+Abfuhr_G'!A:J,9,FALSE),IF(F25=\"A\",VLOOKUP(G25,'Tab 2+3 DüV_A'!A:H,7,FALSE),VLOOKUP(G25,'H&G LfL'!B:U,15,FALSE))))","v":""},{"$f":"IF(OR(F25=\"\",G25=\"\"),\"\",IF(F25=\"G\",VLOOKUP(G25,'Tab 4+5 DüV+Abfuhr_G'!A:J,10,FALSE),IF(F25=\"A\",VLOOKUP(G25,'Tab 2+3 DüV_A'!A:H,8,FALSE),VLOOKUP(G25,'H&G LfL'!B:U,16,FALSE))))","v":""},"",null,{"$f":"IF(OR(F25=\"\",G25=\"\"),\"\",IF(OR(S25=\"\",S25=\"nein\",F25=\"A\",F25=\"HG\"),\"0\",VLOOKUP(S25,Verfrühung!A:B,2,FALSE)))","v":""},{"$f":"IF(OR(F25=\"\",G25=\"\"),\"\",IF(F25=\"G\",VLOOKUP(G25,'Tab 4+5 DüV+Abfuhr_G'!A:E,5,FALSE),IF(F25=\"A\",VLOOKUP(G25,'Tab 2+3 DüV_A'!A:L,5,FALSE),VLOOKUP(G25,'H&G LfL'!B:U,11,FALSE))))","v":""},null,null,"",null,{"$f":"IF(OR(F25=\"\",G25=\"\"),\"\",IF(OR(F25=\"A\",F25=\"HG\",Y25=\"\"),\"0\",-VLOOKUP(Y25,'Tab 4+5 DüV+Abfuhr_G'!A:N,6,FALSE)))","v":""},null,"",null,{"$f":"IF(OR(F25=\"\",G25=\"\"),\"\",IF(OR(AC25=\"nein\",AC25=\"\",Z25=\"\",AA25=\"ja\",Y25=\"\",F25=\"A\",F25=\"HG\",Y25=\"\"),\"0\",VLOOKUP(Y25,'Tab 4+5 DüV+Abfuhr_G'!A:G,7,FALSE)))","v":""},null,{"$f":"IF(OR(F25=\"\",G25=\"\"),\"\",IF(OR(F25=\"\",G25=\"\",AE25=\"\"),0,IF(AND(F25=\"G\",Y25=\"\"),-VLOOKUP(AE25,'Tab 7 DüV_A-VF'!A:B,2,FALSE),IF(OR(F25=\"A\",F25=\"HG\"),-VLOOKUP(AE25,'Tab 7 DüV_A-VF'!A:B,2,FALSE),0))))","v":""},null,{"$f":"IF(OR(F25=\"\",G25=\"\"),\"\",IF(OR(F25=\"\",G25=\"\",AG25=\"\"),0,IF(AND(F25=\"G\",Y25=\"\"),-VLOOKUP(AG25,'Tab 7 DüV_A-ZF'!A:B,2,FALSE),IF(OR(F25=\"A\",F25=\"HG\"),-VLOOKUP(AG25,'Tab 7 DüV_A-ZF'!A:B,2,FALSE),0))))","v":""},{"$f":"IF(OR(F25=\"\",G25=\"\"),\"\",IF('N-Abschlag org. Düngung'!AJ25=\"\",0,'N-Abschlag org. Düngung'!AJ25))","v":""},"","","",null,""]
[null,null,{"$f":"IF(B26=\"\",\"\",VLOOKUP(B26,Schlagliste!B:D,2,FALSE))","v":""},{"$f":"IF(B26=\"\",\"\",VLOOKUP(B26,Schlagliste!B:D,3,FALSE))","v":""},{"$f":"IF(B26=\"\",\"\",VLOOKUP(B26,Schlagliste!B:E,4,FALSE))","v":""},null,null,{"$f":"IF(OR(G26=\"\",F26=\"\"),\"\",IF(AND(C26=\"ja\",LEFT(G26,5)=\"ZF n.\"),0,(IF(F26=\"G\",VLOOKUP(G26,'Tab 4+5 DüV+Abfuhr_G'!A:C,3,FALSE),IF(F26=\"A\",VLOOKUP(G26,'Tab 2+3 DüV_A'!A:C,3,FALSE),VLOOKUP(G26,'H&G LfL'!B:U,9,FALSE))))))","v":""},{"$f":"IF(OR(F26=\"\",G26=\"\"),\"\",IF(F26=\"G\",VLOOKUP(G26,'Tab 4+5 DüV+Abfuhr_G'!A:D,4,FALSE),IF(F26=\"A\",VLOOKUP(G26,'Tab 2+3 DüV_A'!A:D,4,FALSE),VLOOKUP(G26,'H&G LfL'!B:U,10,FALSE))))","v":""},{"$f":"IF(OR(F26=\"\",G26=\"\"),\"\",IF(F26=\"G\",VLOOKUP(G26,'Tab 4+5 DüV+Abfuhr_G'!A:B,2,FALSE),IF(F26=\"A\",VLOOKUP(G26,'Tab 2+3 DüV_A'!A:B,2,FALSE),VLOOKUP(G26,'H&G LfL'!B:X,2,FALSE))))","v":""},null,"","",{"$f":"IF(OR(F26=\"\",G26=\"\"),\"\",IF(OR(F26=\"G\",F26=\"HG\"),\"\",IF(F26=\"A\",VLOOKUP(G26,'Tab 2+3 DüV_A'!A:H,6,FALSE),VLOOKUP(G26,'H&G LfL'!B:U,13,FALSE))))","v":""},{"$f":"IF(OR(F26=\"\",G26=\"\"),\"\",IF(F26=\"G\",VLOOKUP(G26,'Tab 4+5 DüV+Abfuhr_G'!A:J,8,FALSE),IF(F26=\"HG\",VLOOKUP(G26,'H&G LfL'!B:U,14,FALSE),\"\")))","v":""},{"$f":"IF(OR(F26=\"\",G26=\"\"),\"\",IF(F26=\"G\",VLOOKUP(G26,'Tab 4+5 DüV+Abfuhr_G'!A:J,9,FALSE),IF(F26=\"A\",VLOOKUP(G26,'Tab 2+3 DüV_A'!A:H,7,FALSE),VLOOKUP(G26,'H&G LfL'!B:U,15,FALSE))))","v":""},{"$f":"IF(OR(F26=\"\",G26=\"\"),\"\",IF(F26=\"G\",VLOOKUP(G26,'Tab 4+5 DüV+Abfuhr_G'!A:J,10,FALSE),IF(F26=\"A\",VLOOKUP(G26,'Tab 2+3 DüV_A'!A:H,8,FALSE),VLOOKUP(G26,'H&G LfL'!B:U,16,FALSE))))","v":""},"",null,{"$f":"IF(OR(F26=\"\",G26=\"\"),\"\",IF(OR(S26=\"\",S26=\"nein\",F26=\"A\",F26=\"HG\"),\"0\",VLOOKUP(S26,Verfrühung!A:B,2,FALSE)))","v":""},{"$f":"IF(OR(F26=\"\",G26=\"\"),\"\",IF(F26=\"G\",VLOOKUP(G26,'Tab 4+5 DüV+Abfuhr_G'!A:E,5,FALSE),IF(F26=\"A\",VLOOKUP(G26,'Tab 2+3 DüV_A'!A:L,5,FALSE),VLOOKUP(G26,'H&G LfL'!B:U,11,FALSE))))","v":""},null,null,"",null,{"$f":"IF(OR(F26=\"\",G26=\"\"),\"\",IF(OR(F26=\"A\",F26=\"HG\",Y26=\"\"),\"0\",-VLOOKUP(Y26,'Tab 4+5 DüV+Abfuhr_G'!A:N,6,FALSE)))","v":""},null,"",null,{"$f":"IF(OR(F26=\"\",G26=\"\"),\"\",IF(OR(AC26=\"nein\",AC26=\"\",Z26=\"\",AA26=\"ja\",Y26=\"\",F26=\"A\",F26=\"HG\",Y26=\"\"),\"0\",VLOOKUP(Y26,'Tab 4+5 DüV+Abfuhr_G'!A:G,7,FALSE)))","v":""},null,{"$f":"IF(OR(F26=\"\",G26=\"\"),\"\",IF(OR(F26=\"\",G26=\"\",AE26=\"\"),0,IF(AND(F26=\"G\",Y26=\"\"),-VLOOKUP(AE26,'Tab 7 DüV_A-VF'!A:B,2,FALSE),IF(OR(F26=\"A\",F26=\"HG\"),-VLOOKUP(AE26,'Tab 7 DüV_A-VF'!A:B,2,FALSE),0))))","v":""},null,{"$f":"IF(OR(F26=\"\",G26=\"\"),\"\",IF(OR(F26=\"\",G26=\"\",AG26=\"\"),0,IF(AND(F26=\"G\",Y26=\"\"),-VLOOKUP(AG26,'Tab 7 DüV_A-ZF'!A:B,2,FALSE),IF(OR(F26=\"A\",F26=\"HG\"),-VLOOKUP(AG26,'Tab 7 DüV_A-ZF'!A:B,2,FALSE),0))))","v":""},{"$f":"IF(OR(F26=\"\",G26=\"\"),\"\",IF('N-Abschlag org. Düngung'!AJ26=\"\",0,'N-Abschlag org. Düngung'!AJ26))","v":""},"","","",null,""]
[null,null,{"$f":"IF(B27=\"\",\"\",VLOOKUP(B27,Schlagliste!B:D,2,FALSE))","v":""},{"$f":"IF(B27=\"\",\"\",VLOOKUP(B27,Schlagliste!B:D,3,FALSE))","v":""},{"$f":"IF(B27=\"\",\"\",VLOOKUP(B27,Schlagliste!B:E,4,FALSE))","v":""},null,null,{"$f":"IF(OR(G27=\"\",F27=\"\"),\"\",IF(AND(C27=\"ja\",LEFT(G27,5)=\"ZF n.\"),0,(IF(F27=\"G\",VLOOKUP(G27,'Tab 4+5 DüV+Abfuhr_G'!A:C,3,FALSE),IF(F27=\"A\",VLOOKUP(G27,'Tab 2+3 DüV_A'!A:C,3,FALSE),VLOOKUP(G27,'H&G LfL'!B:U,9,FALSE))))))","v":""},{"$f":"IF(OR(F27=\"\",G27=\"\"),\"\",IF(F27=\"G\",VLOOKUP(G27,'Tab 4+5 DüV+Abfuhr_G'!A:D,4,FALSE),IF(F27=\"A\",VLOOKUP(G27,'Tab 2+3 DüV_A'!A:D,4,FALSE),VLOOKUP(G27,'H&G LfL'!B:U,10,FALSE))))","v":""},{"$f":"IF(OR(F27=\"\",G27=\"\"),\"\",IF(F27=\"G\",VLOOKUP(G27,'Tab 4+5 DüV+Abfuhr_G'!A:B,2,FALSE),IF(F27=\"A\",VLOOKUP(G27,'Tab 2+3 DüV_A'!A:B,2,FALSE),VLOOKUP(G27,'H&G LfL'!B:X,2,FALSE))))","v":""},null,"","",{"$f":"IF(OR(F27=\"\",G27=\"\"),\"\",IF(OR(F27=\"G\",F27=\"HG\"),\"\",IF(F27=\"A\",VLOOKUP(G27,'Tab 2+3 DüV_A'!A:H,6,FALSE),VLOOKUP(G27,'H&G LfL'!B:U,13,FALSE))))","v":""},{"$f":"IF(OR(F27=\"\",G27=\"\"),\"\",IF(F27=\"G\",VLOOKUP(G27,'Tab 4+5 DüV+Abfuhr_G'!A:J,8,FALSE),IF(F27=\"HG\",VLOOKUP(G27,'H&G LfL'!B:U,14,FALSE),\"\")))","v":""},{"$f":"IF(OR(F27=\"\",G27=\"\"),\"\",IF(F27=\"G\",VLOOKUP(G27,'Tab 4+5 DüV+Abfuhr_G'!A:J,9,FALSE),IF(F27=\"A\",VLOOKUP(G27,'Tab 2+3 DüV_A'!A:H,7,FALSE),VLOOKUP(G27,'H&G LfL'!B:U,15,FALSE))))","v":""},{"$f":"IF(OR(F27=\"\",G27=\"\"),\"\",IF(F27=\"G\",VLOOKUP(G27,'Tab 4+5 DüV+Abfuhr_G'!A:J,10,FALSE),IF(F27=\"A\",VLOOKUP(G27,'Tab 2+3 DüV_A'!A:H,8,FALSE),VLOOKUP(G27,'H&G LfL'!B:U,16,FALSE))))","v":""},"",null,{"$f":"IF(OR(F27=\"\",G27=\"\"),\"\",IF(OR(S27=\"\",S27=\"nein\",F27=\"A\",F27=\"HG\"),\"0\",VLOOKUP(S27,Verfrühung!A:B,2,FALSE)))","v":""},{"$f":"IF(OR(F27=\"\",G27=\"\"),\"\",IF(F27=\"G\",VLOOKUP(G27,'Tab 4+5 DüV+Abfuhr_G'!A:E,5,FALSE),IF(F27=\"A\",VLOOKUP(G27,'Tab 2+3 DüV_A'!A:L,5,FALSE),VLOOKUP(G27,'H&G LfL'!B:U,11,FALSE))))","v":""},null,null,"",null,{"$f":"IF(OR(F27=\"\",G27=\"\"),\"\",IF(OR(F27=\"A\",F27=\"HG\",Y27=\"\"),\"0\",-VLOOKUP(Y27,'Tab 4+5 DüV+Abfuhr_G'!A:N,6,FALSE)))","v":""},null,"",null,{"$f":"IF(OR(F27=\"\",G27=\"\"),\"\",IF(OR(AC27=\"nein\",AC27=\"\",Z27=\"\",AA27=\"ja\",Y27=\"\",F27=\"A\",F27=\"HG\",Y27=\"\"),\"0\",VLOOKUP(Y27,'Tab 4+5 DüV+Abfuhr_G'!A:G,7,FALSE)))","v":""},null,{"$f":"IF(OR(F27=\"\",G27=\"\"),\"\",IF(OR(F27=\"\",G27=\"\",AE27=\"\"),0,IF(AND(F27=\"G\",Y27=\"\"),-VLOOKUP(AE27,'Tab 7 DüV_A-VF'!A:B,2,FALSE),IF(OR(F27=\"A\",F27=\"HG\"),-VLOOKUP(AE27,'Tab 7 DüV_A-VF'!A:B,2,FALSE),0))))","v":""},null,{"$f":"IF(OR(F27=\"\",G27=\"\"),\"\",IF(OR(F27=\"\",G27=\"\",AG27=\"\"),0,IF(AND(F27=\"G\",Y27=\"\"),-VLOOKUP(AG27,'Tab 7 DüV_A-ZF'!A:B,2,FALSE),IF(OR(F27=\"A\",F27=\"HG\"),-VLOOKUP(AG27,'Tab 7 DüV_A-ZF'!A:B,2,FALSE),0))))","v":""},{"$f":"IF(OR(F27=\"\",G27=\"\"),\"\",IF('N-Abschlag org. Düngung'!AJ27=\"\",0,'N-Abschlag org. Düngung'!AJ27))","v":""},"","","",null,""]
[null,null,{"$f":"IF(B28=\"\",\"\",VLOOKUP(B28,Schlagliste!B:D,2,FALSE))","v":""},{"$f":"IF(B28=\"\",\"\",VLOOKUP(B28,Schlagliste!B:D,3,FALSE))","v":""},{"$f":"IF(B28=\"\",\"\",VLOOKUP(B28,Schlagliste!B:E,4,FALSE))","v":""},null,null,{"$f":"IF(OR(G28=\"\",F28=\"\"),\"\",IF(AND(C28=\"ja\",LEFT(G28,5)=\"ZF n.\"),0,(IF(F28=\"G\",VLOOKUP(G28,'Tab 4+5 DüV+Abfuhr_G'!A:C,3,FALSE),IF(F28=\"A\",VLOOKUP(G28,'Tab 2+3 DüV_A'!A:C,3,FALSE),VLOOKUP(G28,'H&G LfL'!B:U,9,FALSE))))))","v":""},{"$f":"IF(OR(F28=\"\",G28=\"\"),\"\",IF(F28=\"G\",VLOOKUP(G28,'Tab 4+5 DüV+Abfuhr_G'!A:D,4,FALSE),IF(F28=\"A\",VLOOKUP(G28,'Tab 2+3 DüV_A'!A:D,4,FALSE),VLOOKUP(G28,'H&G LfL'!B:U,10,FALSE))))","v":""},{"$f":"IF(OR(F28=\"\",G28=\"\"),\"\",IF(F28=\"G\",VLOOKUP(G28,'Tab 4+5 DüV+Abfuhr_G'!A:B,2,FALSE),IF(F28=\"A\",VLOOKUP(G28,'Tab 2+3 DüV_A'!A:B,2,FALSE),VLOOKUP(G28,'H&G LfL'!B:X,2,FALSE))))","v":""},null,"","",{"$f":"IF(OR(F28=\"\",G28=\"\"),\"\",IF(OR(F28=\"G\",F28=\"HG\"),\"\",IF(F28=\"A\",VLOOKUP(G28,'Tab 2+3 DüV_A'!A:H,6,FALSE),VLOOKUP(G28,'H&G LfL'!B:U,13,FALSE))))","v":""},{"$f":"IF(OR(F28=\"\",G28=\"\"),\"\",IF(F28=\"G\",VLOOKUP(G28,'Tab 4+5 DüV+Abfuhr_G'!A:J,8,FALSE),IF(F28=\"HG\",VLOOKUP(G28,'H&G LfL'!B:U,14,FALSE),\"\")))","v":""},{"$f":"IF(OR(F28=\"\",G28=\"\"),\"\",IF(F28=\"G\",VLOOKUP(G28,'Tab 4+5 DüV+Abfuhr_G'!A:J,9,FALSE),IF(F28=\"A\",VLOOKUP(G28,'Tab 2+3 DüV_A'!A:H,7,FALSE),VLOOKUP(G28,'H&G LfL'!B:U,15,FALSE))))","v":""},{"$f":"IF(OR(F28=\"\",G28=\"\"),\"\",IF(F28=\"G\",VLOOKUP(G28,'Tab 4+5 DüV+Abfuhr_G'!A:J,10,FALSE),IF(F28=\"A\",VLOOKUP(G28,'Tab 2+3 DüV_A'!A:H,8,FALSE),VLOOKUP(G28,'H&G LfL'!B:U,16,FALSE))))","v":""},"",null,{"$f":"IF(OR(F28=\"\",G28=\"\"),\"\",IF(OR(S28=\"\",S28=\"nein\",F28=\"A\",F28=\"HG\"),\"0\",VLOOKUP(S28,Verfrühung!A:B,2,FALSE)))","v":""},{"$f":"IF(OR(F28=\"\",G28=\"\"),\"\",IF(F28=\"G\",VLOOKUP(G28,'Tab 4+5 DüV+Abfuhr_G'!A:E,5,FALSE),IF(F28=\"A\",VLOOKUP(G28,'Tab 2+3 DüV_A'!A:L,5,FALSE),VLOOKUP(G28,'H&G LfL'!B:U,11,FALSE))))","v":""},null,null,"",null,{"$f":"IF(OR(F28=\"\",G28=\"\"),\"\",IF(OR(F28=\"A\",F28=\"HG\",Y28=\"\"),\"0\",-VLOOKUP(Y28,'Tab 4+5 DüV+Abfuhr_G'!A:N,6,FALSE)))","v":""},null,"",null,{"$f":"IF(OR(F28=\"\",G28=\"\"),\"\",IF(OR(AC28=\"nein\",AC28=\"\",Z28=\"\",AA28=\"ja\",Y28=\"\",F28=\"A\",F28=\"HG\",Y28=\"\"),\"0\",VLOOKUP(Y28,'Tab 4+5 DüV+Abfuhr_G'!A:G,7,FALSE)))","v":""},null,{"$f":"IF(OR(F28=\"\",G28=\"\"),\"\",IF(OR(F28=\"\",G28=\"\",AE28=\"\"),0,IF(AND(F28=\"G\",Y28=\"\"),-VLOOKUP(AE28,'Tab 7 DüV_A-VF'!A:B,2,FALSE),IF(OR(F28=\"A\",F28=\"HG\"),-VLOOKUP(AE28,'Tab 7 DüV_A-VF'!A:B,2,FALSE),0))))","v":""},null,{"$f":"IF(OR(F28=\"\",G28=\"\"),\"\",IF(OR(F28=\"\",G28=\"\",AG28=\"\"),0,IF(AND(F28=\"G\",Y28=\"\"),-VLOOKUP(AG28,'Tab 7 DüV_A-ZF'!A:B,2,FALSE),IF(OR(F28=\"A\",F28=\"HG\"),-VLOOKUP(AG28,'Tab 7 DüV_A-ZF'!A:B,2,FALSE),0))))","v":""},{"$f":"IF(OR(F28=\"\",G28=\"\"),\"\",IF('N-Abschlag org. Düngung'!AJ28=\"\",0,'N-Abschlag org. Düngung'!AJ28))","v":""},"","","",null,""]
[null,null,{"$f":"IF(B29=\"\",\"\",VLOOKUP(B29,Schlagliste!B:D,2,FALSE))","v":""},{"$f":"IF(B29=\"\",\"\",VLOOKUP(B29,Schlagliste!B:D,3,FALSE))","v":""},{"$f":"IF(B29=\"\",\"\",VLOOKUP(B29,Schlagliste!B:E,4,FALSE))","v":""},null,null,{"$f":"IF(OR(G29=\"\",F29=\"\"),\"\",IF(AND(C29=\"ja\",LEFT(G29,5)=\"ZF n.\"),0,(IF(F29=\"G\",VLOOKUP(G29,'Tab 4+5 DüV+Abfuhr_G'!A:C,3,FALSE),IF(F29=\"A\",VLOOKUP(G29,'Tab 2+3 DüV_A'!A:C,3,FALSE),VLOOKUP(G29,'H&G LfL'!B:U,9,FALSE))))))","v":""},{"$f":"IF(OR(F29=\"\",G29=\"\"),\"\",IF(F29=\"G\",VLOOKUP(G29,'Tab 4+5 DüV+Abfuhr_G'!A:D,4,FALSE),IF(F29=\"A\",VLOOKUP(G29,'Tab 2+3 DüV_A'!A:D,4,FALSE),VLOOKUP(G29,'H&G LfL'!B:U,10,FALSE))))","v":""},{"$f":"IF(OR(F29=\"\",G29=\"\"),\"\",IF(F29=\"G\",VLOOKUP(G29,'Tab 4+5 DüV+Abfuhr_G'!A:B,2,FALSE),IF(F29=\"A\",VLOOKUP(G29,'Tab 2+3 DüV_A'!A:B,2,FALSE),VLOOKUP(G29,'H&G LfL'!B:X,2,FALSE))))","v":""},null,"","",{"$f":"IF(OR(F29=\"\",G29=\"\"),\"\",IF(OR(F29=\"G\",F29=\"HG\"),\"\",IF(F29=\"A\",VLOOKUP(G29,'Tab 2+3 DüV_A'!A:H,6,FALSE),VLOOKUP(G29,'H&G LfL'!B:U,13,FALSE))))","v":""},{"$f":"IF(OR(F29=\"\",G29=\"\"),\"\",IF(F29=\"G\",VLOOKUP(G29,'Tab 4+5 DüV+Abfuhr_G'!A:J,8,FALSE),IF(F29=\"HG\",VLOOKUP(G29,'H&G LfL'!B:U,14,FALSE),\"\")))","v":""},{"$f":"IF(OR(F29=\"\",G29=\"\"),\"\",IF(F29=\"G\",VLOOKUP(G29,'Tab 4+5 DüV+Abfuhr_G'!A:J,9,FALSE),IF(F29=\"A\",VLOOKUP(G29,'Tab 2+3 DüV_A'!A:H,7,FALSE),VLOOKUP(G29,'H&G LfL'!B:U,15,FALSE))))","v":""},{"$f":"IF(OR(F29=\"\",G29=\"\"),\"\",IF(F29=\"G\",VLOOKUP(G29,'Tab 4+5 DüV+Abfuhr_G'!A:J,10,FALSE),IF(F29=\"A\",VLOOKUP(G29,'Tab 2+3 DüV_A'!A:H,8,FALSE),VLOOKUP(G29,'H&G LfL'!B:U,16,FALSE))))","v":""},"",null,{"$f":"IF(OR(F29=\"\",G29=\"\"),\"\",IF(OR(S29=\"\",S29=\"nein\",F29=\"A\",F29=\"HG\"),\"0\",VLOOKUP(S29,Verfrühung!A:B,2,FALSE)))","v":""},{"$f":"IF(OR(F29=\"\",G29=\"\"),\"\",IF(F29=\"G\",VLOOKUP(G29,'Tab 4+5 DüV+Abfuhr_G'!A:E,5,FALSE),IF(F29=\"A\",VLOOKUP(G29,'Tab 2+3 DüV_A'!A:L,5,FALSE),VLOOKUP(G29,'H&G LfL'!B:U,11,FALSE))))","v":""},null,null,"",null,{"$f":"IF(OR(F29=\"\",G29=\"\"),\"\",IF(OR(F29=\"A\",F29=\"HG\",Y29=\"\"),\"0\",-VLOOKUP(Y29,'Tab 4+5 DüV+Abfuhr_G'!A:N,6,FALSE)))","v":""},null,"",null,{"$f":"IF(OR(F29=\"\",G29=\"\"),\"\",IF(OR(AC29=\"nein\",AC29=\"\",Z29=\"\",AA29=\"ja\",Y29=\"\",F29=\"A\",F29=\"HG\",Y29=\"\"),\"0\",VLOOKUP(Y29,'Tab 4+5 DüV+Abfuhr_G'!A:G,7,FALSE)))","v":""},null,{"$f":"IF(OR(F29=\"\",G29=\"\"),\"\",IF(OR(F29=\"\",G29=\"\",AE29=\"\"),0,IF(AND(F29=\"G\",Y29=\"\"),-VLOOKUP(AE29,'Tab 7 DüV_A-VF'!A:B,2,FALSE),IF(OR(F29=\"A\",F29=\"HG\"),-VLOOKUP(AE29,'Tab 7 DüV_A-VF'!A:B,2,FALSE),0))))","v":""},null,{"$f":"IF(OR(F29=\"\",G29=\"\"),\"\",IF(OR(F29=\"\",G29=\"\",AG29=\"\"),0,IF(AND(F29=\"G\",Y29=\"\"),-VLOOKUP(AG29,'Tab 7 DüV_A-ZF'!A:B,2,FALSE),IF(OR(F29=\"A\",F29=\"HG\"),-VLOOKUP(AG29,'Tab 7 DüV_A-ZF'!A:B,2,FALSE),0))))","v":""},{"$f":"IF(OR(F29=\"\",G29=\"\"),\"\",IF('N-Abschlag org. Düngung'!AJ29=\"\",0,'N-Abschlag org. Düngung'!AJ29))","v":""},"","","",null,""]
[null,null,{"$f":"IF(B30=\"\",\"\",VLOOKUP(B30,Schlagliste!B:D,2,FALSE))","v":""},{"$f":"IF(B30=\"\",\"\",VLOOKUP(B30,Schlagliste!B:D,3,FALSE))","v":""},{"$f":"IF(B30=\"\",\"\",VLOOKUP(B30,Schlagliste!B:E,4,FALSE))","v":""},null,null,{"$f":"IF(OR(G30=\"\",F30=\"\"),\"\",IF(AND(C30=\"ja\",LEFT(G30,5)=\"ZF n.\"),0,(IF(F30=\"G\",VLOOKUP(G30,'Tab 4+5 DüV+Abfuhr_G'!A:C,3,FALSE),IF(F30=\"A\",VLOOKUP(G30,'Tab 2+3 DüV_A'!A:C,3,FALSE),VLOOKUP(G30,'H&G LfL'!B:U,9,FALSE))))))","v":""},{"$f":"IF(OR(F30=\"\",G30=\"\"),\"\",IF(F30=\"G\",VLOOKUP(G30,'Tab 4+5 DüV+Abfuhr_G'!A:D,4,FALSE),IF(F30=\"A\",VLOOKUP(G30,'Tab 2+3 DüV_A'!A:D,4,FALSE),VLOOKUP(G30,'H&G LfL'!B:U,10,FALSE))))","v":""},{"$f":"IF(OR(F30=\"\",G30=\"\"),\"\",IF(F30=\"G\",VLOOKUP(G30,'Tab 4+5 DüV+Abfuhr_G'!A:B,2,FALSE),IF(F30=\"A\",VLOOKUP(G30,'Tab 2+3 DüV_A'!A:B,2,FALSE),VLOOKUP(G30,'H&G LfL'!B:X,2,FALSE))))","v":""},null,"","",{"$f":"IF(OR(F30=\"\",G30=\"\"),\"\",IF(OR(F30=\"G\",F30=\"HG\"),\"\",IF(F30=\"A\",VLOOKUP(G30,'Tab 2+3 DüV_A'!A:H,6,FALSE),VLOOKUP(G30,'H&G LfL'!B:U,13,FALSE))))","v":""},{"$f":"IF(OR(F30=\"\",G30=\"\"),\"\",IF(F30=\"G\",VLOOKUP(G30,'Tab 4+5 DüV+Abfuhr_G'!A:J,8,FALSE),IF(F30=\"HG\",VLOOKUP(G30,'H&G LfL'!B:U,14,FALSE),\"\")))","v":""},{"$f":"IF(OR(F30=\"\",G30=\"\"),\"\",IF(F30=\"G\",VLOOKUP(G30,'Tab 4+5 DüV+Abfuhr_G'!A:J,9,FALSE),IF(F30=\"A\",VLOOKUP(G30,'Tab 2+3 DüV_A'!A:H,7,FALSE),VLOOKUP(G30,'H&G LfL'!B:U,15,FALSE))))","v":""},{"$f":"IF(OR(F30=\"\",G30=\"\"),\"\",IF(F30=\"G\",VLOOKUP(G30,'Tab 4+5 DüV+Abfuhr_G'!A:J,10,FALSE),IF(F30=\"A\",VLOOKUP(G30,'Tab 2+3 DüV_A'!A:H,8,FALSE),VLOOKUP(G30,'H&G LfL'!B:U,16,FALSE))))","v":""},"",null,{"$f":"IF(OR(F30=\"\",G30=\"\"),\"\",IF(OR(S30=\"\",S30=\"nein\",F30=\"A\",F30=\"HG\"),\"0\",VLOOKUP(S30,Verfrühung!A:B,2,FALSE)))","v":""},{"$f":"IF(OR(F30=\"\",G30=\"\"),\"\",IF(F30=\"G\",VLOOKUP(G30,'Tab 4+5 DüV+Abfuhr_G'!A:E,5,FALSE),IF(F30=\"A\",VLOOKUP(G30,'Tab 2+3 DüV_A'!A:L,5,FALSE),VLOOKUP(G30,'H&G LfL'!B:U,11,FALSE))))","v":""},null,null,"",null,{"$f":"IF(OR(F30=\"\",G30=\"\"),\"\",IF(OR(F30=\"A\",F30=\"HG\",Y30=\"\"),\"0\",-VLOOKUP(Y30,'Tab 4+5 DüV+Abfuhr_G'!A:N,6,FALSE)))","v":""},null,"",null,{"$f":"IF(OR(F30=\"\",G30=\"\"),\"\",IF(OR(AC30=\"nein\",AC30=\"\",Z30=\"\",AA30=\"ja\",Y30=\"\",F30=\"A\",F30=\"HG\",Y30=\"\"),\"0\",VLOOKUP(Y30,'Tab 4+5 DüV+Abfuhr_G'!A:G,7,FALSE)))","v":""},null,{"$f":"IF(OR(F30=\"\",G30=\"\"),\"\",IF(OR(F30=\"\",G30=\"\",AE30=\"\"),0,IF(AND(F30=\"G\",Y30=\"\"),-VLOOKUP(AE30,'Tab 7 DüV_A-VF'!A:B,2,FALSE),IF(OR(F30=\"A\",F30=\"HG\"),-VLOOKUP(AE30,'Tab 7 DüV_A-VF'!A:B,2,FALSE),0))))","v":""},null,{"$f":"IF(OR(F30=\"\",G30=\"\"),\"\",IF(OR(F30=\"\",G30=\"\",AG30=\"\"),0,IF(AND(F30=\"G\",Y30=\"\"),-VLOOKUP(AG30,'Tab 7 DüV_A-ZF'!A:B,2,FALSE),IF(OR(F30=\"A\",F30=\"HG\"),-VLOOKUP(AG30,'Tab 7 DüV_A-ZF'!A:B,2,FALSE),0))))","v":""},{"$f":"IF(OR(F30=\"\",G30=\"\"),\"\",IF('N-Abschlag org. Düngung'!AJ30=\"\",0,'N-Abschlag org. Düngung'!AJ30))","v":""},"","","",null,""]
[null,null,{"$f":"IF(B31=\"\",\"\",VLOOKUP(B31,Schlagliste!B:D,2,FALSE))","v":""},{"$f":"IF(B31=\"\",\"\",VLOOKUP(B31,Schlagliste!B:D,3,FALSE))","v":""},{"$f":"IF(B31=\"\",\"\",VLOOKUP(B31,Schlagliste!B:E,4,FALSE))","v":""},null,null,{"$f":"IF(OR(G31=\"\",F31=\"\"),\"\",IF(AND(C31=\"ja\",LEFT(G31,5)=\"ZF n.\"),0,(IF(F31=\"G\",VLOOKUP(G31,'Tab 4+5 DüV+Abfuhr_G'!A:C,3,FALSE),IF(F31=\"A\",VLOOKUP(G31,'Tab 2+3 DüV_A'!A:C,3,FALSE),VLOOKUP(G31,'H&G LfL'!B:U,9,FALSE))))))","v":""},{"$f":"IF(OR(F31=\"\",G31=\"\"),\"\",IF(F31=\"G\",VLOOKUP(G31,'Tab 4+5 DüV+Abfuhr_G'!A:D,4,FALSE),IF(F31=\"A\",VLOOKUP(G31,'Tab 2+3 DüV_A'!A:D,4,FALSE),VLOOKUP(G31,'H&G LfL'!B:U,10,FALSE))))","v":""},{"$f":"IF(OR(F31=\"\",G31=\"\"),\"\",IF(F31=\"G\",VLOOKUP(G31,'Tab 4+5 DüV+Abfuhr_G'!A:B,2,FALSE),IF(F31=\"A\",VLOOKUP(G31,'Tab 2+3 DüV_A'!A:B,2,FALSE),VLOOKUP(G31,'H&G LfL'!B:X,2,FALSE))))","v":""},null,"","",{"$f":"IF(OR(F31=\"\",G31=\"\"),\"\",IF(OR(F31=\"G\",F31=\"HG\"),\"\",IF(F31=\"A\",VLOOKUP(G31,'Tab 2+3 DüV_A'!A:H,6,FALSE),VLOOKUP(G31,'H&G LfL'!B:U,13,FALSE))))","v":""},{"$f":"IF(OR(F31=\"\",G31=\"\"),\"\",IF(F31=\"G\",VLOOKUP(G31,'Tab 4+5 DüV+Abfuhr_G'!A:J,8,FALSE),IF(F31=\"HG\",VLOOKUP(G31,'H&G LfL'!B:U,14,FALSE),\"\")))","v":""},{"$f":"IF(OR(F31=\"\",G31=\"\"),\"\",IF(F31=\"G\",VLOOKUP(G31,'Tab 4+5 DüV+Abfuhr_G'!A:J,9,FALSE),IF(F31=\"A\",VLOOKUP(G31,'Tab 2+3 DüV_A'!A:H,7,FALSE),VLOOKUP(G31,'H&G LfL'!B:U,15,FALSE))))","v":""},{"$f":"IF(OR(F31=\"\",G31=\"\"),\"\",IF(F31=\"G\",VLOOKUP(G31,'Tab 4+5 DüV+Abfuhr_G'!A:J,10,FALSE),IF(F31=\"A\",VLOOKUP(G31,'Tab 2+3 DüV_A'!A:H,8,FALSE),VLOOKUP(G31,'H&G LfL'!B:U,16,FALSE))))","v":""},"",null,{"$f":"IF(OR(F31=\"\",G31=\"\"),\"\",IF(OR(S31=\"\",S31=\"nein\",F31=\"A\",F31=\"HG\"),\"0\",VLOOKUP(S31,Verfrühung!A:B,2,FALSE)))","v":""},{"$f":"IF(OR(F31=\"\",G31=\"\"),\"\",IF(F31=\"G\",VLOOKUP(G31,'Tab 4+5 DüV+Abfuhr_G'!A:E,5,FALSE),IF(F31=\"A\",VLOOKUP(G31,'Tab 2+3 DüV_A'!A:L,5,FALSE),VLOOKUP(G31,'H&G LfL'!B:U,11,FALSE))))","v":""},null,null,"",null,{"$f":"IF(OR(F31=\"\",G31=\"\"),\"\",IF(OR(F31=\"A\",F31=\"HG\",Y31=\"\"),\"0\",-VLOOKUP(Y31,'Tab 4+5 DüV+Abfuhr_G'!A:N,6,FALSE)))","v":""},null,"",null,{"$f":"IF(OR(F31=\"\",G31=\"\"),\"\",IF(OR(AC31=\"nein\",AC31=\"\",Z31=\"\",AA31=\"ja\",Y31=\"\",F31=\"A\",F31=\"HG\",Y31=\"\"),\"0\",VLOOKUP(Y31,'Tab 4+5 DüV+Abfuhr_G'!A:G,7,FALSE)))","v":""},null,{"$f":"IF(OR(F31=\"\",G31=\"\"),\"\",IF(OR(F31=\"\",G31=\"\",AE31=\"\"),0,IF(AND(F31=\"G\",Y31=\"\"),-VLOOKUP(AE31,'Tab 7 DüV_A-VF'!A:B,2,FALSE),IF(OR(F31=\"A\",F31=\"HG\"),-VLOOKUP(AE31,'Tab 7 DüV_A-VF'!A:B,2,FALSE),0))))","v":""},null,{"$f":"IF(OR(F31=\"\",G31=\"\"),\"\",IF(OR(F31=\"\",G31=\"\",AG31=\"\"),0,IF(AND(F31=\"G\",Y31=\"\"),-VLOOKUP(AG31,'Tab 7 DüV_A-ZF'!A:B,2,FALSE),IF(OR(F31=\"A\",F31=\"HG\"),-VLOOKUP(AG31,'Tab 7 DüV_A-ZF'!A:B,2,FALSE),0))))","v":""},{"$f":"IF(OR(F31=\"\",G31=\"\"),\"\",IF('N-Abschlag org. Düngung'!AJ31=\"\",0,'N-Abschlag org. Düngung'!AJ31))","v":""},"","","",null,""]
[null,null,{"$f":"IF(B32=\"\",\"\",VLOOKUP(B32,Schlagliste!B:D,2,FALSE))","v":""},{"$f":"IF(B32=\"\",\"\",VLOOKUP(B32,Schlagliste!B:D,3,FALSE))","v":""},{"$f":"IF(B32=\"\",\"\",VLOOKUP(B32,Schlagliste!B:E,4,FALSE))","v":""},null,null,{"$f":"IF(OR(G32=\"\",F32=\"\"),\"\",IF(AND(C32=\"ja\",LEFT(G32,5)=\"ZF n.\"),0,(IF(F32=\"G\",VLOOKUP(G32,'Tab 4+5 DüV+Abfuhr_G'!A:C,3,FALSE),IF(F32=\"A\",VLOOKUP(G32,'Tab 2+3 DüV_A'!A:C,3,FALSE),VLOOKUP(G32,'H&G LfL'!B:U,9,FALSE))))))","v":""},{"$f":"IF(OR(F32=\"\",G32=\"\"),\"\",IF(F32=\"G\",VLOOKUP(G32,'Tab 4+5 DüV+Abfuhr_G'!A:D,4,FALSE),IF(F32=\"A\",VLOOKUP(G32,'Tab 2+3 DüV_A'!A:D,4,FALSE),VLOOKUP(G32,'H&G LfL'!B:U,10,FALSE))))","v":""},{"$f":"IF(OR(F32=\"\",G32=\"\"),\"\",IF(F32=\"G\",VLOOKUP(G32,'Tab 4+5 DüV+Abfuhr_G'!A:B,2,FALSE),IF(F32=\"A\",VLOOKUP(G32,'Tab 2+3 DüV_A'!A:B,2,FALSE),VLOOKUP(G32,'H&G LfL'!B:X,2,FALSE))))","v":""},null,"","",{"$f":"IF(OR(F32=\"\",G32=\"\"),\"\",IF(OR(F32=\"G\",F32=\"HG\"),\"\",IF(F32=\"A\",VLOOKUP(G32,'Tab 2+3 DüV_A'!A:H,6,FALSE),VLOOKUP(G32,'H&G LfL'!B:U,13,FALSE))))","v":""},{"$f":"IF(OR(F32=\"\",G32=\"\"),\"\",IF(F32=\"G\",VLOOKUP(G32,'Tab 4+5 DüV+Abfuhr_G'!A:J,8,FALSE),IF(F32=\"HG\",VLOOKUP(G32,'H&G LfL'!B:U,14,FALSE),\"\")))","v":""},{"$f":"IF(OR(F32=\"\",G32=\"\"),\"\",IF(F32=\"G\",VLOOKUP(G32,'Tab 4+5 DüV+Abfuhr_G'!A:J,9,FALSE),IF(F32=\"A\",VLOOKUP(G32,'Tab 2+3 DüV_A'!A:H,7,FALSE),VLOOKUP(G32,'H&G LfL'!B:U,15,FALSE))))","v":""},{"$f":"IF(OR(F32=\"\",G32=\"\"),\"\",IF(F32=\"G\",VLOOKUP(G32,'Tab 4+5 DüV+Abfuhr_G'!A:J,10,FALSE),IF(F32=\"A\",VLOOKUP(G32,'Tab 2+3 DüV_A'!A:H,8,FALSE),VLOOKUP(G32,'H&G LfL'!B:U,16,FALSE))))","v":""},"",null,{"$f":"IF(OR(F32=\"\",G32=\"\"),\"\",IF(OR(S32=\"\",S32=\"nein\",F32=\"A\",F32=\"HG\"),\"0\",VLOOKUP(S32,Verfrühung!A:B,2,FALSE)))","v":""},{"$f":"IF(OR(F32=\"\",G32=\"\"),\"\",IF(F32=\"G\",VLOOKUP(G32,'Tab 4+5 DüV+Abfuhr_G'!A:E,5,FALSE),IF(F32=\"A\",VLOOKUP(G32,'Tab 2+3 DüV_A'!A:L,5,FALSE),VLOOKUP(G32,'H&G LfL'!B:U,11,FALSE))))","v":""},null,null,"",null,{"$f":"IF(OR(F32=\"\",G32=\"\"),\"\",IF(OR(F32=\"A\",F32=\"HG\",Y32=\"\"),\"0\",-VLOOKUP(Y32,'Tab 4+5 DüV+Abfuhr_G'!A:N,6,FALSE)))","v":""},null,"",null,{"$f":"IF(OR(F32=\"\",G32=\"\"),\"\",IF(OR(AC32=\"nein\",AC32=\"\",Z32=\"\",AA32=\"ja\",Y32=\"\",F32=\"A\",F32=\"HG\",Y32=\"\"),\"0\",VLOOKUP(Y32,'Tab 4+5 DüV+Abfuhr_G'!A:G,7,FALSE)))","v":""},null,{"$f":"IF(OR(F32=\"\",G32=\"\"),\"\",IF(OR(F32=\"\",G32=\"\",AE32=\"\"),0,IF(AND(F32=\"G\",Y32=\"\"),-VLOOKUP(AE32,'Tab 7 DüV_A-VF'!A:B,2,FALSE),IF(OR(F32=\"A\",F32=\"HG\"),-VLOOKUP(AE32,'Tab 7 DüV_A-VF'!A:B,2,FALSE),0))))","v":""},null,{"$f":"IF(OR(F32=\"\",G32=\"\"),\"\",IF(OR(F32=\"\",G32=\"\",AG32=\"\"),0,IF(AND(F32=\"G\",Y32=\"\"),-VLOOKUP(AG32,'Tab 7 DüV_A-ZF'!A:B,2,FALSE),IF(OR(F32=\"A\",F32=\"HG\"),-VLOOKUP(AG32,'Tab 7 DüV_A-ZF'!A:B,2,FALSE),0))))","v":""},{"$f":"IF(OR(F32=\"\",G32=\"\"),\"\",IF('N-Abschlag org. Düngung'!AJ32=\"\",0,'N-Abschlag org. Düngung'!AJ32))","v":""},"","","",null,""]
[null,null,{"$f":"IF(B33=\"\",\"\",VLOOKUP(B33,Schlagliste!B:D,2,FALSE))","v":""},{"$f":"IF(B33=\"\",\"\",VLOOKUP(B33,Schlagliste!B:D,3,FALSE))","v":""},{"$f":"IF(B33=\"\",\"\",VLOOKUP(B33,Schlagliste!B:E,4,FALSE))","v":""},null,null,{"$f":"IF(OR(G33=\"\",F33=\"\"),\"\",IF(AND(C33=\"ja\",LEFT(G33,5)=\"ZF n.\"),0,(IF(F33=\"G\",VLOOKUP(G33,'Tab 4+5 DüV+Abfuhr_G'!A:C,3,FALSE),IF(F33=\"A\",VLOOKUP(G33,'Tab 2+3 DüV_A'!A:C,3,FALSE),VLOOKUP(G33,'H&G LfL'!B:U,9,FALSE))))))","v":""},{"$f":"IF(OR(F33=\"\",G33=\"\"),\"\",IF(F33=\"G\",VLOOKUP(G33,'Tab 4+5 DüV+Abfuhr_G'!A:D,4,FALSE),IF(F33=\"A\",VLOOKUP(G33,'Tab 2+3 DüV_A'!A:D,4,FALSE),VLOOKUP(G33,'H&G LfL'!B:U,10,FALSE))))","v":""},{"$f":"IF(OR(F33=\"\",G33=\"\"),\"\",IF(F33=\"G\",VLOOKUP(G33,'Tab 4+5 DüV+Abfuhr_G'!A:B,2,FALSE),IF(F33=\"A\",VLOOKUP(G33,'Tab 2+3 DüV_A'!A:B,2,FALSE),VLOOKUP(G33,'H&G LfL'!B:X,2,FALSE))))","v":""},null,"","",{"$f":"IF(OR(F33=\"\",G33=\"\"),\"\",IF(OR(F33=\"G\",F33=\"HG\"),\"\",IF(F33=\"A\",VLOOKUP(G33,'Tab 2+3 DüV_A'!A:H,6,FALSE),VLOOKUP(G33,'H&G LfL'!B:U,13,FALSE))))","v":""},{"$f":"IF(OR(F33=\"\",G33=\"\"),\"\",IF(F33=\"G\",VLOOKUP(G33,'Tab 4+5 DüV+Abfuhr_G'!A:J,8,FALSE),IF(F33=\"HG\",VLOOKUP(G33,'H&G LfL'!B:U,14,FALSE),\"\")))","v":""},{"$f":"IF(OR(F33=\"\",G33=\"\"),\"\",IF(F33=\"G\",VLOOKUP(G33,'Tab 4+5 DüV+Abfuhr_G'!A:J,9,FALSE),IF(F33=\"A\",VLOOKUP(G33,'Tab 2+3 DüV_A'!A:H,7,FALSE),VLOOKUP(G33,'H&G LfL'!B:U,15,FALSE))))","v":""},{"$f":"IF(OR(F33=\"\",G33=\"\"),\"\",IF(F33=\"G\",VLOOKUP(G33,'Tab 4+5 DüV+Abfuhr_G'!A:J,10,FALSE),IF(F33=\"A\",VLOOKUP(G33,'Tab 2+3 DüV_A'!A:H,8,FALSE),VLOOKUP(G33,'H&G LfL'!B:U,16,FALSE))))","v":""},"",null,{"$f":"IF(OR(F33=\"\",G33=\"\"),\"\",IF(OR(S33=\"\",S33=\"nein\",F33=\"A\",F33=\"HG\"),\"0\",VLOOKUP(S33,Verfrühung!A:B,2,FALSE)))","v":""},{"$f":"IF(OR(F33=\"\",G33=\"\"),\"\",IF(F33=\"G\",VLOOKUP(G33,'Tab 4+5 DüV+Abfuhr_G'!A:E,5,FALSE),IF(F33=\"A\",VLOOKUP(G33,'Tab 2+3 DüV_A'!A:L,5,FALSE),VLOOKUP(G33,'H&G LfL'!B:U,11,FALSE))))","v":""},null,null,"",null,{"$f":"IF(OR(F33=\"\",G33=\"\"),\"\",IF(OR(F33=\"A\",F33=\"HG\",Y33=\"\"),\"0\",-VLOOKUP(Y33,'Tab 4+5 DüV+Abfuhr_G'!A:N,6,FALSE)))","v":""},null,"",null,{"$f":"IF(OR(F33=\"\",G33=\"\"),\"\",IF(OR(AC33=\"nein\",AC33=\"\",Z33=\"\",AA33=\"ja\",Y33=\"\",F33=\"A\",F33=\"HG\",Y33=\"\"),\"0\",VLOOKUP(Y33,'Tab 4+5 DüV+Abfuhr_G'!A:G,7,FALSE)))","v":""},null,{"$f":"IF(OR(F33=\"\",G33=\"\"),\"\",IF(OR(F33=\"\",G33=\"\",AE33=\"\"),0,IF(AND(F33=\"G\",Y33=\"\"),-VLOOKUP(AE33,'Tab 7 DüV_A-VF'!A:B,2,FALSE),IF(OR(F33=\"A\",F33=\"HG\"),-VLOOKUP(AE33,'Tab 7 DüV_A-VF'!A:B,2,FALSE),0))))","v":""},null,{"$f":"IF(OR(F33=\"\",G33=\"\"),\"\",IF(OR(F33=\"\",G33=\"\",AG33=\"\"),0,IF(AND(F33=\"G\",Y33=\"\"),-VLOOKUP(AG33,'Tab 7 DüV_A-ZF'!A:B,2,FALSE),IF(OR(F33=\"A\",F33=\"HG\"),-VLOOKUP(AG33,'Tab 7 DüV_A-ZF'!A:B,2,FALSE),0))))","v":""},{"$f":"IF(OR(F33=\"\",G33=\"\"),\"\",IF('N-Abschlag org. Düngung'!AJ33=\"\",0,'N-Abschlag org. Düngung'!AJ33))","v":""},"","","",null,""]
[null,null,{"$f":"IF(B34=\"\",\"\",VLOOKUP(B34,Schlagliste!B:D,2,FALSE))","v":""},{"$f":"IF(B34=\"\",\"\",VLOOKUP(B34,Schlagliste!B:D,3,FALSE))","v":""},{"$f":"IF(B34=\"\",\"\",VLOOKUP(B34,Schlagliste!B:E,4,FALSE))","v":""},null,null,{"$f":"IF(OR(G34=\"\",F34=\"\"),\"\",IF(AND(C34=\"ja\",LEFT(G34,5)=\"ZF n.\"),0,(IF(F34=\"G\",VLOOKUP(G34,'Tab 4+5 DüV+Abfuhr_G'!A:C,3,FALSE),IF(F34=\"A\",VLOOKUP(G34,'Tab 2+3 DüV_A'!A:C,3,FALSE),VLOOKUP(G34,'H&G LfL'!B:U,9,FALSE))))))","v":""},{"$f":"IF(OR(F34=\"\",G34=\"\"),\"\",IF(F34=\"G\",VLOOKUP(G34,'Tab 4+5 DüV+Abfuhr_G'!A:D,4,FALSE),IF(F34=\"A\",VLOOKUP(G34,'Tab 2+3 DüV_A'!A:D,4,FALSE),VLOOKUP(G34,'H&G LfL'!B:U,10,FALSE))))","v":""},{"$f":"IF(OR(F34=\"\",G34=\"\"),\"\",IF(F34=\"G\",VLOOKUP(G34,'Tab 4+5 DüV+Abfuhr_G'!A:B,2,FALSE),IF(F34=\"A\",VLOOKUP(G34,'Tab 2+3 DüV_A'!A:B,2,FALSE),VLOOKUP(G34,'H&G LfL'!B:X,2,FALSE))))","v":""},null,"","",{"$f":"IF(OR(F34=\"\",G34=\"\"),\"\",IF(OR(F34=\"G\",F34=\"HG\"),\"\",IF(F34=\"A\",VLOOKUP(G34,'Tab 2+3 DüV_A'!A:H,6,FALSE),VLOOKUP(G34,'H&G LfL'!B:U,13,FALSE))))","v":""},{"$f":"IF(OR(F34=\"\",G34=\"\"),\"\",IF(F34=\"G\",VLOOKUP(G34,'Tab 4+5 DüV+Abfuhr_G'!A:J,8,FALSE),IF(F34=\"HG\",VLOOKUP(G34,'H&G LfL'!B:U,14,FALSE),\"\")))","v":""},{"$f":"IF(OR(F34=\"\",G34=\"\"),\"\",IF(F34=\"G\",VLOOKUP(G34,'Tab 4+5 DüV+Abfuhr_G'!A:J,9,FALSE),IF(F34=\"A\",VLOOKUP(G34,'Tab 2+3 DüV_A'!A:H,7,FALSE),VLOOKUP(G34,'H&G LfL'!B:U,15,FALSE))))","v":""},{"$f":"IF(OR(F34=\"\",G34=\"\"),\"\",IF(F34=\"G\",VLOOKUP(G34,'Tab 4+5 DüV+Abfuhr_G'!A:J,10,FALSE),IF(F34=\"A\",VLOOKUP(G34,'Tab 2+3 DüV_A'!A:H,8,FALSE),VLOOKUP(G34,'H&G LfL'!B:U,16,FALSE))))","v":""},"",null,{"$f":"IF(OR(F34=\"\",G34=\"\"),\"\",IF(OR(S34=\"\",S34=\"nein\",F34=\"A\",F34=\"HG\"),\"0\",VLOOKUP(S34,Verfrühung!A:B,2,FALSE)))","v":""},{"$f":"IF(OR(F34=\"\",G34=\"\"),\"\",IF(F34=\"G\",VLOOKUP(G34,'Tab 4+5 DüV+Abfuhr_G'!A:E,5,FALSE),IF(F34=\"A\",VLOOKUP(G34,'Tab 2+3 DüV_A'!A:L,5,FALSE),VLOOKUP(G34,'H&G LfL'!B:U,11,FALSE))))","v":""},null,null,"",null,{"$f":"IF(OR(F34=\"\",G34=\"\"),\"\",IF(OR(F34=\"A\",F34=\"HG\",Y34=\"\"),\"0\",-VLOOKUP(Y34,'Tab 4+5 DüV+Abfuhr_G'!A:N,6,FALSE)))","v":""},null,"",null,{"$f":"IF(OR(F34=\"\",G34=\"\"),\"\",IF(OR(AC34=\"nein\",AC34=\"\",Z34=\"\",AA34=\"ja\",Y34=\"\",F34=\"A\",F34=\"HG\",Y34=\"\"),\"0\",VLOOKUP(Y34,'Tab 4+5 DüV+Abfuhr_G'!A:G,7,FALSE)))","v":""},null,{"$f":"IF(OR(F34=\"\",G34=\"\"),\"\",IF(OR(F34=\"\",G34=\"\",AE34=\"\"),0,IF(AND(F34=\"G\",Y34=\"\"),-VLOOKUP(AE34,'Tab 7 DüV_A-VF'!A:B,2,FALSE),IF(OR(F34=\"A\",F34=\"HG\"),-VLOOKUP(AE34,'Tab 7 DüV_A-VF'!A:B,2,FALSE),0))))","v":""},null,{"$f":"IF(OR(F34=\"\",G34=\"\"),\"\",IF(OR(F34=\"\",G34=\"\",AG34=\"\"),0,IF(AND(F34=\"G\",Y34=\"\"),-VLOOKUP(AG34,'Tab 7 DüV_A-ZF'!A:B,2,FALSE),IF(OR(F34=\"A\",F34=\"HG\"),-VLOOKUP(AG34,'Tab 7 DüV_A-ZF'!A:B,2,FALSE),0))))","v":""},{"$f":"IF(OR(F34=\"\",G34=\"\"),\"\",IF('N-Abschlag org. Düngung'!AJ34=\"\",0,'N-Abschlag org. Düngung'!AJ34))","v":""},"","","",null,""]
[null,null,{"$f":"IF(B35=\"\",\"\",VLOOKUP(B35,Schlagliste!B:D,2,FALSE))","v":""},{"$f":"IF(B35=\"\",\"\",VLOOKUP(B35,Schlagliste!B:D,3,FALSE))","v":""},{"$f":"IF(B35=\"\",\"\",VLOOKUP(B35,Schlagliste!B:E,4,FALSE))","v":""},null,null,{"$f":"IF(OR(G35=\"\",F35=\"\"),\"\",IF(AND(C35=\"ja\",LEFT(G35,5)=\"ZF n.\"),0,(IF(F35=\"G\",VLOOKUP(G35,'Tab 4+5 DüV+Abfuhr_G'!A:C,3,FALSE),IF(F35=\"A\",VLOOKUP(G35,'Tab 2+3 DüV_A'!A:C,3,FALSE),VLOOKUP(G35,'H&G LfL'!B:U,9,FALSE))))))","v":""},{"$f":"IF(OR(F35=\"\",G35=\"\"),\"\",IF(F35=\"G\",VLOOKUP(G35,'Tab 4+5 DüV+Abfuhr_G'!A:D,4,FALSE),IF(F35=\"A\",VLOOKUP(G35,'Tab 2+3 DüV_A'!A:D,4,FALSE),VLOOKUP(G35,'H&G LfL'!B:U,10,FALSE))))","v":""},{"$f":"IF(OR(F35=\"\",G35=\"\"),\"\",IF(F35=\"G\",VLOOKUP(G35,'Tab 4+5 DüV+Abfuhr_G'!A:B,2,FALSE),IF(F35=\"A\",VLOOKUP(G35,'Tab 2+3 DüV_A'!A:B,2,FALSE),VLOOKUP(G35,'H&G LfL'!B:X,2,FALSE))))","v":""},null,"","",{"$f":"IF(OR(F35=\"\",G35=\"\"),\"\",IF(OR(F35=\"G\",F35=\"HG\"),\"\",IF(F35=\"A\",VLOOKUP(G35,'Tab 2+3 DüV_A'!A:H,6,FALSE),VLOOKUP(G35,'H&G LfL'!B:U,13,FALSE))))","v":""},{"$f":"IF(OR(F35=\"\",G35=\"\"),\"\",IF(F35=\"G\",VLOOKUP(G35,'Tab 4+5 DüV+Abfuhr_G'!A:J,8,FALSE),IF(F35=\"HG\",VLOOKUP(G35,'H&G LfL'!B:U,14,FALSE),\"\")))","v":""},{"$f":"IF(OR(F35=\"\",G35=\"\"),\"\",IF(F35=\"G\",VLOOKUP(G35,'Tab 4+5 DüV+Abfuhr_G'!A:J,9,FALSE),IF(F35=\"A\",VLOOKUP(G35,'Tab 2+3 DüV_A'!A:H,7,FALSE),VLOOKUP(G35,'H&G LfL'!B:U,15,FALSE))))","v":""},{"$f":"IF(OR(F35=\"\",G35=\"\"),\"\",IF(F35=\"G\",VLOOKUP(G35,'Tab 4+5 DüV+Abfuhr_G'!A:J,10,FALSE),IF(F35=\"A\",VLOOKUP(G35,'Tab 2+3 DüV_A'!A:H,8,FALSE),VLOOKUP(G35,'H&G LfL'!B:U,16,FALSE))))","v":""},"",null,{"$f":"IF(OR(F35=\"\",G35=\"\"),\"\",IF(OR(S35=\"\",S35=\"nein\",F35=\"A\",F35=\"HG\"),\"0\",VLOOKUP(S35,Verfrühung!A:B,2,FALSE)))","v":""},{"$f":"IF(OR(F35=\"\",G35=\"\"),\"\",IF(F35=\"G\",VLOOKUP(G35,'Tab 4+5 DüV+Abfuhr_G'!A:E,5,FALSE),IF(F35=\"A\",VLOOKUP(G35,'Tab 2+3 DüV_A'!A:L,5,FALSE),VLOOKUP(G35,'H&G LfL'!B:U,11,FALSE))))","v":""},null,null,"",null,{"$f":"IF(OR(F35=\"\",G35=\"\"),\"\",IF(OR(F35=\"A\",F35=\"HG\",Y35=\"\"),\"0\",-VLOOKUP(Y35,'Tab 4+5 DüV+Abfuhr_G'!A:N,6,FALSE)))","v":""},null,"",null,{"$f":"IF(OR(F35=\"\",G35=\"\"),\"\",IF(OR(AC35=\"nein\",AC35=\"\",Z35=\"\",AA35=\"ja\",Y35=\"\",F35=\"A\",F35=\"HG\",Y35=\"\"),\"0\",VLOOKUP(Y35,'Tab 4+5 DüV+Abfuhr_G'!A:G,7,FALSE)))","v":""},null,{"$f":"IF(OR(F35=\"\",G35=\"\"),\"\",IF(OR(F35=\"\",G35=\"\",AE35=\"\"),0,IF(AND(F35=\"G\",Y35=\"\"),-VLOOKUP(AE35,'Tab 7 DüV_A-VF'!A:B,2,FALSE),IF(OR(F35=\"A\",F35=\"HG\"),-VLOOKUP(AE35,'Tab 7 DüV_A-VF'!A:B,2,FALSE),0))))","v":""},null,{"$f":"IF(OR(F35=\"\",G35=\"\"),\"\",IF(OR(F35=\"\",G35=\"\",AG35=\"\"),0,IF(AND(F35=\"G\",Y35=\"\"),-VLOOKUP(AG35,'Tab 7 DüV_A-ZF'!A:B,2,FALSE),IF(OR(F35=\"A\",F35=\"HG\"),-VLOOKUP(AG35,'Tab 7 DüV_A-ZF'!A:B,2,FALSE),0))))","v":""},{"$f":"IF(OR(F35=\"\",G35=\"\"),\"\",IF('N-Abschlag org. Düngung'!AJ35=\"\",0,'N-Abschlag org. Düngung'!AJ35))","v":""},"","","",null,""]
[null,null,{"$f":"IF(B36=\"\",\"\",VLOOKUP(B36,Schlagliste!B:D,2,FALSE))","v":""},{"$f":"IF(B36=\"\",\"\",VLOOKUP(B36,Schlagliste!B:D,3,FALSE))","v":""},{"$f":"IF(B36=\"\",\"\",VLOOKUP(B36,Schlagliste!B:E,4,FALSE))","v":""},null,null,{"$f":"IF(OR(G36=\"\",F36=\"\"),\"\",IF(AND(C36=\"ja\",LEFT(G36,5)=\"ZF n.\"),0,(IF(F36=\"G\",VLOOKUP(G36,'Tab 4+5 DüV+Abfuhr_G'!A:C,3,FALSE),IF(F36=\"A\",VLOOKUP(G36,'Tab 2+3 DüV_A'!A:C,3,FALSE),VLOOKUP(G36,'H&G LfL'!B:U,9,FALSE))))))","v":""},{"$f":"IF(OR(F36=\"\",G36=\"\"),\"\",IF(F36=\"G\",VLOOKUP(G36,'Tab 4+5 DüV+Abfuhr_G'!A:D,4,FALSE),IF(F36=\"A\",VLOOKUP(G36,'Tab 2+3 DüV_A'!A:D,4,FALSE),VLOOKUP(G36,'H&G LfL'!B:U,10,FALSE))))","v":""},{"$f":"IF(OR(F36=\"\",G36=\"\"),\"\",IF(F36=\"G\",VLOOKUP(G36,'Tab 4+5 DüV+Abfuhr_G'!A:B,2,FALSE),IF(F36=\"A\",VLOOKUP(G36,'Tab 2+3 DüV_A'!A:B,2,FALSE),VLOOKUP(G36,'H&G LfL'!B:X,2,FALSE))))","v":""},null,"","",{"$f":"IF(OR(F36=\"\",G36=\"\"),\"\",IF(OR(F36=\"G\",F36=\"HG\"),\"\",IF(F36=\"A\",VLOOKUP(G36,'Tab 2+3 DüV_A'!A:H,6,FALSE),VLOOKUP(G36,'H&G LfL'!B:U,13,FALSE))))","v":""},{"$f":"IF(OR(F36=\"\",G36=\"\"),\"\",IF(F36=\"G\",VLOOKUP(G36,'Tab 4+5 DüV+Abfuhr_G'!A:J,8,FALSE),IF(F36=\"HG\",VLOOKUP(G36,'H&G LfL'!B:U,14,FALSE),\"\")))","v":""},{"$f":"IF(OR(F36=\"\",G36=\"\"),\"\",IF(F36=\"G\",VLOOKUP(G36,'Tab 4+5 DüV+Abfuhr_G'!A:J,9,FALSE),IF(F36=\"A\",VLOOKUP(G36,'Tab 2+3 DüV_A'!A:H,7,FALSE),VLOOKUP(G36,'H&G LfL'!B:U,15,FALSE))))","v":""},{"$f":"IF(OR(F36=\"\",G36=\"\"),\"\",IF(F36=\"G\",VLOOKUP(G36,'Tab 4+5 DüV+Abfuhr_G'!A:J,10,FALSE),IF(F36=\"A\",VLOOKUP(G36,'Tab 2+3 DüV_A'!A:H,8,FALSE),VLOOKUP(G36,'H&G LfL'!B:U,16,FALSE))))","v":""},"",null,{"$f":"IF(OR(F36=\"\",G36=\"\"),\"\",IF(OR(S36=\"\",S36=\"nein\",F36=\"A\",F36=\"HG\"),\"0\",VLOOKUP(S36,Verfrühung!A:B,2,FALSE)))","v":""},{"$f":"IF(OR(F36=\"\",G36=\"\"),\"\",IF(F36=\"G\",VLOOKUP(G36,'Tab 4+5 DüV+Abfuhr_G'!A:E,5,FALSE),IF(F36=\"A\",VLOOKUP(G36,'Tab 2+3 DüV_A'!A:L,5,FALSE),VLOOKUP(G36,'H&G LfL'!B:U,11,FALSE))))","v":""},null,null,"",null,{"$f":"IF(OR(F36=\"\",G36=\"\"),\"\",IF(OR(F36=\"A\",F36=\"HG\",Y36=\"\"),\"0\",-VLOOKUP(Y36,'Tab 4+5 DüV+Abfuhr_G'!A:N,6,FALSE)))","v":""},null,"",null,{"$f":"IF(OR(F36=\"\",G36=\"\"),\"\",IF(OR(AC36=\"nein\",AC36=\"\",Z36=\"\",AA36=\"ja\",Y36=\"\",F36=\"A\",F36=\"HG\",Y36=\"\"),\"0\",VLOOKUP(Y36,'Tab 4+5 DüV+Abfuhr_G'!A:G,7,FALSE)))","v":""},null,{"$f":"IF(OR(F36=\"\",G36=\"\"),\"\",IF(OR(F36=\"\",G36=\"\",AE36=\"\"),0,IF(AND(F36=\"G\",Y36=\"\"),-VLOOKUP(AE36,'Tab 7 DüV_A-VF'!A:B,2,FALSE),IF(OR(F36=\"A\",F36=\"HG\"),-VLOOKUP(AE36,'Tab 7 DüV_A-VF'!A:B,2,FALSE),0))))","v":""},null,{"$f":"IF(OR(F36=\"\",G36=\"\"),\"\",IF(OR(F36=\"\",G36=\"\",AG36=\"\"),0,IF(AND(F36=\"G\",Y36=\"\"),-VLOOKUP(AG36,'Tab 7 DüV_A-ZF'!A:B,2,FALSE),IF(OR(F36=\"A\",F36=\"HG\"),-VLOOKUP(AG36,'Tab 7 DüV_A-ZF'!A:B,2,FALSE),0))))","v":""},{"$f":"IF(OR(F36=\"\",G36=\"\"),\"\",IF('N-Abschlag org. Düngung'!AJ36=\"\",0,'N-Abschlag org. Düngung'!AJ36))","v":""},"","","",null,""]
[null,null,{"$f":"IF(B37=\"\",\"\",VLOOKUP(B37,Schlagliste!B:D,2,FALSE))","v":""},{"$f":"IF(B37=\"\",\"\",VLOOKUP(B37,Schlagliste!B:D,3,FALSE))","v":""},{"$f":"IF(B37=\"\",\"\",VLOOKUP(B37,Schlagliste!B:E,4,FALSE))","v":""},null,null,{"$f":"IF(OR(G37=\"\",F37=\"\"),\"\",IF(AND(C37=\"ja\",LEFT(G37,5)=\"ZF n.\"),0,(IF(F37=\"G\",VLOOKUP(G37,'Tab 4+5 DüV+Abfuhr_G'!A:C,3,FALSE),IF(F37=\"A\",VLOOKUP(G37,'Tab 2+3 DüV_A'!A:C,3,FALSE),VLOOKUP(G37,'H&G LfL'!B:U,9,FALSE))))))","v":""},{"$f":"IF(OR(F37=\"\",G37=\"\"),\"\",IF(F37=\"G\",VLOOKUP(G37,'Tab 4+5 DüV+Abfuhr_G'!A:D,4,FALSE),IF(F37=\"A\",VLOOKUP(G37,'Tab 2+3 DüV_A'!A:D,4,FALSE),VLOOKUP(G37,'H&G LfL'!B:U,10,FALSE))))","v":""},{"$f":"IF(OR(F37=\"\",G37=\"\"),\"\",IF(F37=\"G\",VLOOKUP(G37,'Tab 4+5 DüV+Abfuhr_G'!A:B,2,FALSE),IF(F37=\"A\",VLOOKUP(G37,'Tab 2+3 DüV_A'!A:B,2,FALSE),VLOOKUP(G37,'H&G LfL'!B:X,2,FALSE))))","v":""},null,"","",{"$f":"IF(OR(F37=\"\",G37=\"\"),\"\",IF(OR(F37=\"G\",F37=\"HG\"),\"\",IF(F37=\"A\",VLOOKUP(G37,'Tab 2+3 DüV_A'!A:H,6,FALSE),VLOOKUP(G37,'H&G LfL'!B:U,13,FALSE))))","v":""},{"$f":"IF(OR(F37=\"\",G37=\"\"),\"\",IF(F37=\"G\",VLOOKUP(G37,'Tab 4+5 DüV+Abfuhr_G'!A:J,8,FALSE),IF(F37=\"HG\",VLOOKUP(G37,'H&G LfL'!B:U,14,FALSE),\"\")))","v":""},{"$f":"IF(OR(F37=\"\",G37=\"\"),\"\",IF(F37=\"G\",VLOOKUP(G37,'Tab 4+5 DüV+Abfuhr_G'!A:J,9,FALSE),IF(F37=\"A\",VLOOKUP(G37,'Tab 2+3 DüV_A'!A:H,7,FALSE),VLOOKUP(G37,'H&G LfL'!B:U,15,FALSE))))","v":""},{"$f":"IF(OR(F37=\"\",G37=\"\"),\"\",IF(F37=\"G\",VLOOKUP(G37,'Tab 4+5 DüV+Abfuhr_G'!A:J,10,FALSE),IF(F37=\"A\",VLOOKUP(G37,'Tab 2+3 DüV_A'!A:H,8,FALSE),VLOOKUP(G37,'H&G LfL'!B:U,16,FALSE))))","v":""},"",null,{"$f":"IF(OR(F37=\"\",G37=\"\"),\"\",IF(OR(S37=\"\",S37=\"nein\",F37=\"A\",F37=\"HG\"),\"0\",VLOOKUP(S37,Verfrühung!A:B,2,FALSE)))","v":""},{"$f":"IF(OR(F37=\"\",G37=\"\"),\"\",IF(F37=\"G\",VLOOKUP(G37,'Tab 4+5 DüV+Abfuhr_G'!A:E,5,FALSE),IF(F37=\"A\",VLOOKUP(G37,'Tab 2+3 DüV_A'!A:L,5,FALSE),VLOOKUP(G37,'H&G LfL'!B:U,11,FALSE))))","v":""},null,null,"",null,{"$f":"IF(OR(F37=\"\",G37=\"\"),\"\",IF(OR(F37=\"A\",F37=\"HG\",Y37=\"\"),\"0\",-VLOOKUP(Y37,'Tab 4+5 DüV+Abfuhr_G'!A:N,6,FALSE)))","v":""},null,"",null,{"$f":"IF(OR(F37=\"\",G37=\"\"),\"\",IF(OR(AC37=\"nein\",AC37=\"\",Z37=\"\",AA37=\"ja\",Y37=\"\",F37=\"A\",F37=\"HG\",Y37=\"\"),\"0\",VLOOKUP(Y37,'Tab 4+5 DüV+Abfuhr_G'!A:G,7,FALSE)))","v":""},null,{"$f":"IF(OR(F37=\"\",G37=\"\"),\"\",IF(OR(F37=\"\",G37=\"\",AE37=\"\"),0,IF(AND(F37=\"G\",Y37=\"\"),-VLOOKUP(AE37,'Tab 7 DüV_A-VF'!A:B,2,FALSE),IF(OR(F37=\"A\",F37=\"HG\"),-VLOOKUP(AE37,'Tab 7 DüV_A-VF'!A:B,2,FALSE),0))))","v":""},null,{"$f":"IF(OR(F37=\"\",G37=\"\"),\"\",IF(OR(F37=\"\",G37=\"\",AG37=\"\"),0,IF(AND(F37=\"G\",Y37=\"\"),-VLOOKUP(AG37,'Tab 7 DüV_A-ZF'!A:B,2,FALSE),IF(OR(F37=\"A\",F37=\"HG\"),-VLOOKUP(AG37,'Tab 7 DüV_A-ZF'!A:B,2,FALSE),0))))","v":""},{"$f":"IF(OR(F37=\"\",G37=\"\"),\"\",IF('N-Abschlag org. Düngung'!AJ37=\"\",0,'N-Abschlag org. Düngung'!AJ37))","v":""},"","","",null,""]
[null,null,{"$f":"IF(B38=\"\",\"\",VLOOKUP(B38,Schlagliste!B:D,2,FALSE))","v":""},{"$f":"IF(B38=\"\",\"\",VLOOKUP(B38,Schlagliste!B:D,3,FALSE))","v":""},{"$f":"IF(B38=\"\",\"\",VLOOKUP(B38,Schlagliste!B:E,4,FALSE))","v":""},null,null,{"$f":"IF(OR(G38=\"\",F38=\"\"),\"\",IF(AND(C38=\"ja\",LEFT(G38,5)=\"ZF n.\"),0,(IF(F38=\"G\",VLOOKUP(G38,'Tab 4+5 DüV+Abfuhr_G'!A:C,3,FALSE),IF(F38=\"A\",VLOOKUP(G38,'Tab 2+3 DüV_A'!A:C,3,FALSE),VLOOKUP(G38,'H&G LfL'!B:U,9,FALSE))))))","v":""},{"$f":"IF(OR(F38=\"\",G38=\"\"),\"\",IF(F38=\"G\",VLOOKUP(G38,'Tab 4+5 DüV+Abfuhr_G'!A:D,4,FALSE),IF(F38=\"A\",VLOOKUP(G38,'Tab 2+3 DüV_A'!A:D,4,FALSE),VLOOKUP(G38,'H&G LfL'!B:U,10,FALSE))))","v":""},{"$f":"IF(OR(F38=\"\",G38=\"\"),\"\",IF(F38=\"G\",VLOOKUP(G38,'Tab 4+5 DüV+Abfuhr_G'!A:B,2,FALSE),IF(F38=\"A\",VLOOKUP(G38,'Tab 2+3 DüV_A'!A:B,2,FALSE),VLOOKUP(G38,'H&G LfL'!B:X,2,FALSE))))","v":""},null,"","",{"$f":"IF(OR(F38=\"\",G38=\"\"),\"\",IF(OR(F38=\"G\",F38=\"HG\"),\"\",IF(F38=\"A\",VLOOKUP(G38,'Tab 2+3 DüV_A'!A:H,6,FALSE),VLOOKUP(G38,'H&G LfL'!B:U,13,FALSE))))","v":""},{"$f":"IF(OR(F38=\"\",G38=\"\"),\"\",IF(F38=\"G\",VLOOKUP(G38,'Tab 4+5 DüV+Abfuhr_G'!A:J,8,FALSE),IF(F38=\"HG\",VLOOKUP(G38,'H&G LfL'!B:U,14,FALSE),\"\")))","v":""},{"$f":"IF(OR(F38=\"\",G38=\"\"),\"\",IF(F38=\"G\",VLOOKUP(G38,'Tab 4+5 DüV+Abfuhr_G'!A:J,9,FALSE),IF(F38=\"A\",VLOOKUP(G38,'Tab 2+3 DüV_A'!A:H,7,FALSE),VLOOKUP(G38,'H&G LfL'!B:U,15,FALSE))))","v":""},{"$f":"IF(OR(F38=\"\",G38=\"\"),\"\",IF(F38=\"G\",VLOOKUP(G38,'Tab 4+5 DüV+Abfuhr_G'!A:J,10,FALSE),IF(F38=\"A\",VLOOKUP(G38,'Tab 2+3 DüV_A'!A:H,8,FALSE),VLOOKUP(G38,'H&G LfL'!B:U,16,FALSE))))","v":""},"",null,{"$f":"IF(OR(F38=\"\",G38=\"\"),\"\",IF(OR(S38=\"\",S38=\"nein\",F38=\"A\",F38=\"HG\"),\"0\",VLOOKUP(S38,Verfrühung!A:B,2,FALSE)))","v":""},{"$f":"IF(OR(F38=\"\",G38=\"\"),\"\",IF(F38=\"G\",VLOOKUP(G38,'Tab 4+5 DüV+Abfuhr_G'!A:E,5,FALSE),IF(F38=\"A\",VLOOKUP(G38,'Tab 2+3 DüV_A'!A:L,5,FALSE),VLOOKUP(G38,'H&G LfL'!B:U,11,FALSE))))","v":""},null,null,"",null,{"$f":"IF(OR(F38=\"\",G38=\"\"),\"\",IF(OR(F38=\"A\",F38=\"HG\",Y38=\"\"),\"0\",-VLOOKUP(Y38,'Tab 4+5 DüV+Abfuhr_G'!A:N,6,FALSE)))","v":""},null,"",null,{"$f":"IF(OR(F38=\"\",G38=\"\"),\"\",IF(OR(AC38=\"nein\",AC38=\"\",Z38=\"\",AA38=\"ja\",Y38=\"\",F38=\"A\",F38=\"HG\",Y38=\"\"),\"0\",VLOOKUP(Y38,'Tab 4+5 DüV+Abfuhr_G'!A:G,7,FALSE)))","v":""},null,{"$f":"IF(OR(F38=\"\",G38=\"\"),\"\",IF(OR(F38=\"\",G38=\"\",AE38=\"\"),0,IF(AND(F38=\"G\",Y38=\"\"),-VLOOKUP(AE38,'Tab 7 DüV_A-VF'!A:B,2,FALSE),IF(OR(F38=\"A\",F38=\"HG\"),-VLOOKUP(AE38,'Tab 7 DüV_A-VF'!A:B,2,FALSE),0))))","v":""},null,{"$f":"IF(OR(F38=\"\",G38=\"\"),\"\",IF(OR(F38=\"\",G38=\"\",AG38=\"\"),0,IF(AND(F38=\"G\",Y38=\"\"),-VLOOKUP(AG38,'Tab 7 DüV_A-ZF'!A:B,2,FALSE),IF(OR(F38=\"A\",F38=\"HG\"),-VLOOKUP(AG38,'Tab 7 DüV_A-ZF'!A:B,2,FALSE),0))))","v":""},{"$f":"IF(OR(F38=\"\",G38=\"\"),\"\",IF('N-Abschlag org. Düngung'!AJ38=\"\",0,'N-Abschlag org. Düngung'!AJ38))","v":""},"","","",null,""]
[null,null,{"$f":"IF(B39=\"\",\"\",VLOOKUP(B39,Schlagliste!B:D,2,FALSE))","v":""},{"$f":"IF(B39=\"\",\"\",VLOOKUP(B39,Schlagliste!B:D,3,FALSE))","v":""},{"$f":"IF(B39=\"\",\"\",VLOOKUP(B39,Schlagliste!B:E,4,FALSE))","v":""},null,null,{"$f":"IF(OR(G39=\"\",F39=\"\"),\"\",IF(AND(C39=\"ja\",LEFT(G39,5)=\"ZF n.\"),0,(IF(F39=\"G\",VLOOKUP(G39,'Tab 4+5 DüV+Abfuhr_G'!A:C,3,FALSE),IF(F39=\"A\",VLOOKUP(G39,'Tab 2+3 DüV_A'!A:C,3,FALSE),VLOOKUP(G39,'H&G LfL'!B:U,9,FALSE))))))","v":""},{"$f":"IF(OR(F39=\"\",G39=\"\"),\"\",IF(F39=\"G\",VLOOKUP(G39,'Tab 4+5 DüV+Abfuhr_G'!A:D,4,FALSE),IF(F39=\"A\",VLOOKUP(G39,'Tab 2+3 DüV_A'!A:D,4,FALSE),VLOOKUP(G39,'H&G LfL'!B:U,10,FALSE))))","v":""},{"$f":"IF(OR(F39=\"\",G39=\"\"),\"\",IF(F39=\"G\",VLOOKUP(G39,'Tab 4+5 DüV+Abfuhr_G'!A:B,2,FALSE),IF(F39=\"A\",VLOOKUP(G39,'Tab 2+3 DüV_A'!A:B,2,FALSE),VLOOKUP(G39,'H&G LfL'!B:X,2,FALSE))))","v":""},null,"","",{"$f":"IF(OR(F39=\"\",G39=\"\"),\"\",IF(OR(F39=\"G\",F39=\"HG\"),\"\",IF(F39=\"A\",VLOOKUP(G39,'Tab 2+3 DüV_A'!A:H,6,FALSE),VLOOKUP(G39,'H&G LfL'!B:U,13,FALSE))))","v":""},{"$f":"IF(OR(F39=\"\",G39=\"\"),\"\",IF(F39=\"G\",VLOOKUP(G39,'Tab 4+5 DüV+Abfuhr_G'!A:J,8,FALSE),IF(F39=\"HG\",VLOOKUP(G39,'H&G LfL'!B:U,14,FALSE),\"\")))","v":""},{"$f":"IF(OR(F39=\"\",G39=\"\"),\"\",IF(F39=\"G\",VLOOKUP(G39,'Tab 4+5 DüV+Abfuhr_G'!A:J,9,FALSE),IF(F39=\"A\",VLOOKUP(G39,'Tab 2+3 DüV_A'!A:H,7,FALSE),VLOOKUP(G39,'H&G LfL'!B:U,15,FALSE))))","v":""},{"$f":"IF(OR(F39=\"\",G39=\"\"),\"\",IF(F39=\"G\",VLOOKUP(G39,'Tab 4+5 DüV+Abfuhr_G'!A:J,10,FALSE),IF(F39=\"A\",VLOOKUP(G39,'Tab 2+3 DüV_A'!A:H,8,FALSE),VLOOKUP(G39,'H&G LfL'!B:U,16,FALSE))))","v":""},"",null,{"$f":"IF(OR(F39=\"\",G39=\"\"),\"\",IF(OR(S39=\"\",S39=\"nein\",F39=\"A\",F39=\"HG\"),\"0\",VLOOKUP(S39,Verfrühung!A:B,2,FALSE)))","v":""},{"$f":"IF(OR(F39=\"\",G39=\"\"),\"\",IF(F39=\"G\",VLOOKUP(G39,'Tab 4+5 DüV+Abfuhr_G'!A:E,5,FALSE),IF(F39=\"A\",VLOOKUP(G39,'Tab 2+3 DüV_A'!A:L,5,FALSE),VLOOKUP(G39,'H&G LfL'!B:U,11,FALSE))))","v":""},null,null,"",null,{"$f":"IF(OR(F39=\"\",G39=\"\"),\"\",IF(OR(F39=\"A\",F39=\"HG\",Y39=\"\"),\"0\",-VLOOKUP(Y39,'Tab 4+5 DüV+Abfuhr_G'!A:N,6,FALSE)))","v":""},null,"",null,{"$f":"IF(OR(F39=\"\",G39=\"\"),\"\",IF(OR(AC39=\"nein\",AC39=\"\",Z39=\"\",AA39=\"ja\",Y39=\"\",F39=\"A\",F39=\"HG\",Y39=\"\"),\"0\",VLOOKUP(Y39,'Tab 4+5 DüV+Abfuhr_G'!A:G,7,FALSE)))","v":""},null,{"$f":"IF(OR(F39=\"\",G39=\"\"),\"\",IF(OR(F39=\"\",G39=\"\",AE39=\"\"),0,IF(AND(F39=\"G\",Y39=\"\"),-VLOOKUP(AE39,'Tab 7 DüV_A-VF'!A:B,2,FALSE),IF(OR(F39=\"A\",F39=\"HG\"),-VLOOKUP(AE39,'Tab 7 DüV_A-VF'!A:B,2,FALSE),0))))","v":""},null,{"$f":"IF(OR(F39=\"\",G39=\"\"),\"\",IF(OR(F39=\"\",G39=\"\",AG39=\"\"),0,IF(AND(F39=\"G\",Y39=\"\"),-VLOOKUP(AG39,'Tab 7 DüV_A-ZF'!A:B,2,FALSE),IF(OR(F39=\"A\",F39=\"HG\"),-VLOOKUP(AG39,'Tab 7 DüV_A-ZF'!A:B,2,FALSE),0))))","v":""},{"$f":"IF(OR(F39=\"\",G39=\"\"),\"\",IF('N-Abschlag org. Düngung'!AJ39=\"\",0,'N-Abschlag org. Düngung'!AJ39))","v":""},"","","",null,""]
[null,null,{"$f":"IF(B40=\"\",\"\",VLOOKUP(B40,Schlagliste!B:D,2,FALSE))","v":""},{"$f":"IF(B40=\"\",\"\",VLOOKUP(B40,Schlagliste!B:D,3,FALSE))","v":""},{"$f":"IF(B40=\"\",\"\",VLOOKUP(B40,Schlagliste!B:E,4,FALSE))","v":""},null,null,{"$f":"IF(OR(G40=\"\",F40=\"\"),\"\",IF(AND(C40=\"ja\",LEFT(G40,5)=\"ZF n.\"),0,(IF(F40=\"G\",VLOOKUP(G40,'Tab 4+5 DüV+Abfuhr_G'!A:C,3,FALSE),IF(F40=\"A\",VLOOKUP(G40,'Tab 2+3 DüV_A'!A:C,3,FALSE),VLOOKUP(G40,'H&G LfL'!B:U,9,FALSE))))))","v":""},{"$f":"IF(OR(F40=\"\",G40=\"\"),\"\",IF(F40=\"G\",VLOOKUP(G40,'Tab 4+5 DüV+Abfuhr_G'!A:D,4,FALSE),IF(F40=\"A\",VLOOKUP(G40,'Tab 2+3 DüV_A'!A:D,4,FALSE),VLOOKUP(G40,'H&G LfL'!B:U,10,FALSE))))","v":""},{"$f":"IF(OR(F40=\"\",G40=\"\"),\"\",IF(F40=\"G\",VLOOKUP(G40,'Tab 4+5 DüV+Abfuhr_G'!A:B,2,FALSE),IF(F40=\"A\",VLOOKUP(G40,'Tab 2+3 DüV_A'!A:B,2,FALSE),VLOOKUP(G40,'H&G LfL'!B:X,2,FALSE))))","v":""},null,"","",{"$f":"IF(OR(F40=\"\",G40=\"\"),\"\",IF(OR(F40=\"G\",F40=\"HG\"),\"\",IF(F40=\"A\",VLOOKUP(G40,'Tab 2+3 DüV_A'!A:H,6,FALSE),VLOOKUP(G40,'H&G LfL'!B:U,13,FALSE))))","v":""},{"$f":"IF(OR(F40=\"\",G40=\"\"),\"\",IF(F40=\"G\",VLOOKUP(G40,'Tab 4+5 DüV+Abfuhr_G'!A:J,8,FALSE),IF(F40=\"HG\",VLOOKUP(G40,'H&G LfL'!B:U,14,FALSE),\"\")))","v":""},{"$f":"IF(OR(F40=\"\",G40=\"\"),\"\",IF(F40=\"G\",VLOOKUP(G40,'Tab 4+5 DüV+Abfuhr_G'!A:J,9,FALSE),IF(F40=\"A\",VLOOKUP(G40,'Tab 2+3 DüV_A'!A:H,7,FALSE),VLOOKUP(G40,'H&G LfL'!B:U,15,FALSE))))","v":""},{"$f":"IF(OR(F40=\"\",G40=\"\"),\"\",IF(F40=\"G\",VLOOKUP(G40,'Tab 4+5 DüV+Abfuhr_G'!A:J,10,FALSE),IF(F40=\"A\",VLOOKUP(G40,'Tab 2+3 DüV_A'!A:H,8,FALSE),VLOOKUP(G40,'H&G LfL'!B:U,16,FALSE))))","v":""},"",null,{"$f":"IF(OR(F40=\"\",G40=\"\"),\"\",IF(OR(S40=\"\",S40=\"nein\",F40=\"A\",F40=\"HG\"),\"0\",VLOOKUP(S40,Verfrühung!A:B,2,FALSE)))","v":""},{"$f":"IF(OR(F40=\"\",G40=\"\"),\"\",IF(F40=\"G\",VLOOKUP(G40,'Tab 4+5 DüV+Abfuhr_G'!A:E,5,FALSE),IF(F40=\"A\",VLOOKUP(G40,'Tab 2+3 DüV_A'!A:L,5,FALSE),VLOOKUP(G40,'H&G LfL'!B:U,11,FALSE))))","v":""},null,null,"",null,{"$f":"IF(OR(F40=\"\",G40=\"\"),\"\",IF(OR(F40=\"A\",F40=\"HG\",Y40=\"\"),\"0\",-VLOOKUP(Y40,'Tab 4+5 DüV+Abfuhr_G'!A:N,6,FALSE)))","v":""},null,"",null,{"$f":"IF(OR(F40=\"\",G40=\"\"),\"\",IF(OR(AC40=\"nein\",AC40=\"\",Z40=\"\",AA40=\"ja\",Y40=\"\",F40=\"A\",F40=\"HG\",Y40=\"\"),\"0\",VLOOKUP(Y40,'Tab 4+5 DüV+Abfuhr_G'!A:G,7,FALSE)))","v":""},null,{"$f":"IF(OR(F40=\"\",G40=\"\"),\"\",IF(OR(F40=\"\",G40=\"\",AE40=\"\"),0,IF(AND(F40=\"G\",Y40=\"\"),-VLOOKUP(AE40,'Tab 7 DüV_A-VF'!A:B,2,FALSE),IF(OR(F40=\"A\",F40=\"HG\"),-VLOOKUP(AE40,'Tab 7 DüV_A-VF'!A:B,2,FALSE),0))))","v":""},null,{"$f":"IF(OR(F40=\"\",G40=\"\"),\"\",IF(OR(F40=\"\",G40=\"\",AG40=\"\"),0,IF(AND(F40=\"G\",Y40=\"\"),-VLOOKUP(AG40,'Tab 7 DüV_A-ZF'!A:B,2,FALSE),IF(OR(F40=\"A\",F40=\"HG\"),-VLOOKUP(AG40,'Tab 7 DüV_A-ZF'!A:B,2,FALSE),0))))","v":""},{"$f":"IF(OR(F40=\"\",G40=\"\"),\"\",IF('N-Abschlag org. Düngung'!AJ40=\"\",0,'N-Abschlag org. Düngung'!AJ40))","v":""},"","","",null,""]
[null,null,{"$f":"IF(B41=\"\",\"\",VLOOKUP(B41,Schlagliste!B:D,2,FALSE))","v":""},{"$f":"IF(B41=\"\",\"\",VLOOKUP(B41,Schlagliste!B:D,3,FALSE))","v":""},{"$f":"IF(B41=\"\",\"\",VLOOKUP(B41,Schlagliste!B:E,4,FALSE))","v":""},null,null,{"$f":"IF(OR(G41=\"\",F41=\"\"),\"\",IF(AND(C41=\"ja\",LEFT(G41,5)=\"ZF n.\"),0,(IF(F41=\"G\",VLOOKUP(G41,'Tab 4+5 DüV+Abfuhr_G'!A:C,3,FALSE),IF(F41=\"A\",VLOOKUP(G41,'Tab 2+3 DüV_A'!A:C,3,FALSE),VLOOKUP(G41,'H&G LfL'!B:U,9,FALSE))))))","v":""},{"$f":"IF(OR(F41=\"\",G41=\"\"),\"\",IF(F41=\"G\",VLOOKUP(G41,'Tab 4+5 DüV+Abfuhr_G'!A:D,4,FALSE),IF(F41=\"A\",VLOOKUP(G41,'Tab 2+3 DüV_A'!A:D,4,FALSE),VLOOKUP(G41,'H&G LfL'!B:U,10,FALSE))))","v":""},{"$f":"IF(OR(F41=\"\",G41=\"\"),\"\",IF(F41=\"G\",VLOOKUP(G41,'Tab 4+5 DüV+Abfuhr_G'!A:B,2,FALSE),IF(F41=\"A\",VLOOKUP(G41,'Tab 2+3 DüV_A'!A:B,2,FALSE),VLOOKUP(G41,'H&G LfL'!B:X,2,FALSE))))","v":""},null,"","",{"$f":"IF(OR(F41=\"\",G41=\"\"),\"\",IF(OR(F41=\"G\",F41=\"HG\"),\"\",IF(F41=\"A\",VLOOKUP(G41,'Tab 2+3 DüV_A'!A:H,6,FALSE),VLOOKUP(G41,'H&G LfL'!B:U,13,FALSE))))","v":""},{"$f":"IF(OR(F41=\"\",G41=\"\"),\"\",IF(F41=\"G\",VLOOKUP(G41,'Tab 4+5 DüV+Abfuhr_G'!A:J,8,FALSE),IF(F41=\"HG\",VLOOKUP(G41,'H&G LfL'!B:U,14,FALSE),\"\")))","v":""},{"$f":"IF(OR(F41=\"\",G41=\"\"),\"\",IF(F41=\"G\",VLOOKUP(G41,'Tab 4+5 DüV+Abfuhr_G'!A:J,9,FALSE),IF(F41=\"A\",VLOOKUP(G41,'Tab 2+3 DüV_A'!A:H,7,FALSE),VLOOKUP(G41,'H&G LfL'!B:U,15,FALSE))))","v":""},{"$f":"IF(OR(F41=\"\",G41=\"\"),\"\",IF(F41=\"G\",VLOOKUP(G41,'Tab 4+5 DüV+Abfuhr_G'!A:J,10,FALSE),IF(F41=\"A\",VLOOKUP(G41,'Tab 2+3 DüV_A'!A:H,8,FALSE),VLOOKUP(G41,'H&G LfL'!B:U,16,FALSE))))","v":""},"",null,{"$f":"IF(OR(F41=\"\",G41=\"\"),\"\",IF(OR(S41=\"\",S41=\"nein\",F41=\"A\",F41=\"HG\"),\"0\",VLOOKUP(S41,Verfrühung!A:B,2,FALSE)))","v":""},{"$f":"IF(OR(F41=\"\",G41=\"\"),\"\",IF(F41=\"G\",VLOOKUP(G41,'Tab 4+5 DüV+Abfuhr_G'!A:E,5,FALSE),IF(F41=\"A\",VLOOKUP(G41,'Tab 2+3 DüV_A'!A:L,5,FALSE),VLOOKUP(G41,'H&G LfL'!B:U,11,FALSE))))","v":""},null,null,"",null,{"$f":"IF(OR(F41=\"\",G41=\"\"),\"\",IF(OR(F41=\"A\",F41=\"HG\",Y41=\"\"),\"0\",-VLOOKUP(Y41,'Tab 4+5 DüV+Abfuhr_G'!A:N,6,FALSE)))","v":""},null,"",null,{"$f":"IF(OR(F41=\"\",G41=\"\"),\"\",IF(OR(AC41=\"nein\",AC41=\"\",Z41=\"\",AA41=\"ja\",Y41=\"\",F41=\"A\",F41=\"HG\",Y41=\"\"),\"0\",VLOOKUP(Y41,'Tab 4+5 DüV+Abfuhr_G'!A:G,7,FALSE)))","v":""},null,{"$f":"IF(OR(F41=\"\",G41=\"\"),\"\",IF(OR(F41=\"\",G41=\"\",AE41=\"\"),0,IF(AND(F41=\"G\",Y41=\"\"),-VLOOKUP(AE41,'Tab 7 DüV_A-VF'!A:B,2,FALSE),IF(OR(F41=\"A\",F41=\"HG\"),-VLOOKUP(AE41,'Tab 7 DüV_A-VF'!A:B,2,FALSE),0))))","v":""},null,{"$f":"IF(OR(F41=\"\",G41=\"\"),\"\",IF(OR(F41=\"\",G41=\"\",AG41=\"\"),0,IF(AND(F41=\"G\",Y41=\"\"),-VLOOKUP(AG41,'Tab 7 DüV_A-ZF'!A:B,2,FALSE),IF(OR(F41=\"A\",F41=\"HG\"),-VLOOKUP(AG41,'Tab 7 DüV_A-ZF'!A:B,2,FALSE),0))))","v":""},{"$f":"IF(OR(F41=\"\",G41=\"\"),\"\",IF('N-Abschlag org. Düngung'!AJ41=\"\",0,'N-Abschlag org. Düngung'!AJ41))","v":""},"","","",null,""]
[null,null,{"$f":"IF(B42=\"\",\"\",VLOOKUP(B42,Schlagliste!B:D,2,FALSE))","v":""},{"$f":"IF(B42=\"\",\"\",VLOOKUP(B42,Schlagliste!B:D,3,FALSE))","v":""},{"$f":"IF(B42=\"\",\"\",VLOOKUP(B42,Schlagliste!B:E,4,FALSE))","v":""},null,null,{"$f":"IF(OR(G42=\"\",F42=\"\"),\"\",IF(AND(C42=\"ja\",LEFT(G42,5)=\"ZF n.\"),0,(IF(F42=\"G\",VLOOKUP(G42,'Tab 4+5 DüV+Abfuhr_G'!A:C,3,FALSE),IF(F42=\"A\",VLOOKUP(G42,'Tab 2+3 DüV_A'!A:C,3,FALSE),VLOOKUP(G42,'H&G LfL'!B:U,9,FALSE))))))","v":""},{"$f":"IF(OR(F42=\"\",G42=\"\"),\"\",IF(F42=\"G\",VLOOKUP(G42,'Tab 4+5 DüV+Abfuhr_G'!A:D,4,FALSE),IF(F42=\"A\",VLOOKUP(G42,'Tab 2+3 DüV_A'!A:D,4,FALSE),VLOOKUP(G42,'H&G LfL'!B:U,10,FALSE))))","v":""},{"$f":"IF(OR(F42=\"\",G42=\"\"),\"\",IF(F42=\"G\",VLOOKUP(G42,'Tab 4+5 DüV+Abfuhr_G'!A:B,2,FALSE),IF(F42=\"A\",VLOOKUP(G42,'Tab 2+3 DüV_A'!A:B,2,FALSE),VLOOKUP(G42,'H&G LfL'!B:X,2,FALSE))))","v":""},null,"","",{"$f":"IF(OR(F42=\"\",G42=\"\"),\"\",IF(OR(F42=\"G\",F42=\"HG\"),\"\",IF(F42=\"A\",VLOOKUP(G42,'Tab 2+3 DüV_A'!A:H,6,FALSE),VLOOKUP(G42,'H&G LfL'!B:U,13,FALSE))))","v":""},{"$f":"IF(OR(F42=\"\",G42=\"\"),\"\",IF(F42=\"G\",VLOOKUP(G42,'Tab 4+5 DüV+Abfuhr_G'!A:J,8,FALSE),IF(F42=\"HG\",VLOOKUP(G42,'H&G LfL'!B:U,14,FALSE),\"\")))","v":""},{"$f":"IF(OR(F42=\"\",G42=\"\"),\"\",IF(F42=\"G\",VLOOKUP(G42,'Tab 4+5 DüV+Abfuhr_G'!A:J,9,FALSE),IF(F42=\"A\",VLOOKUP(G42,'Tab 2+3 DüV_A'!A:H,7,FALSE),VLOOKUP(G42,'H&G LfL'!B:U,15,FALSE))))","v":""},{"$f":"IF(OR(F42=\"\",G42=\"\"),\"\",IF(F42=\"G\",VLOOKUP(G42,'Tab 4+5 DüV+Abfuhr_G'!A:J,10,FALSE),IF(F42=\"A\",VLOOKUP(G42,'Tab 2+3 DüV_A'!A:H,8,FALSE),VLOOKUP(G42,'H&G LfL'!B:U,16,FALSE))))","v":""},"",null,{"$f":"IF(OR(F42=\"\",G42=\"\"),\"\",IF(OR(S42=\"\",S42=\"nein\",F42=\"A\",F42=\"HG\"),\"0\",VLOOKUP(S42,Verfrühung!A:B,2,FALSE)))","v":""},{"$f":"IF(OR(F42=\"\",G42=\"\"),\"\",IF(F42=\"G\",VLOOKUP(G42,'Tab 4+5 DüV+Abfuhr_G'!A:E,5,FALSE),IF(F42=\"A\",VLOOKUP(G42,'Tab 2+3 DüV_A'!A:L,5,FALSE),VLOOKUP(G42,'H&G LfL'!B:U,11,FALSE))))","v":""},null,null,"",null,{"$f":"IF(OR(F42=\"\",G42=\"\"),\"\",IF(OR(F42=\"A\",F42=\"HG\",Y42=\"\"),\"0\",-VLOOKUP(Y42,'Tab 4+5 DüV+Abfuhr_G'!A:N,6,FALSE)))","v":""},null,"",null,{"$f":"IF(OR(F42=\"\",G42=\"\"),\"\",IF(OR(AC42=\"nein\",AC42=\"\",Z42=\"\",AA42=\"ja\",Y42=\"\",F42=\"A\",F42=\"HG\",Y42=\"\"),\"0\",VLOOKUP(Y42,'Tab 4+5 DüV+Abfuhr_G'!A:G,7,FALSE)))","v":""},null,{"$f":"IF(OR(F42=\"\",G42=\"\"),\"\",IF(OR(F42=\"\",G42=\"\",AE42=\"\"),0,IF(AND(F42=\"G\",Y42=\"\"),-VLOOKUP(AE42,'Tab 7 DüV_A-VF'!A:B,2,FALSE),IF(OR(F42=\"A\",F42=\"HG\"),-VLOOKUP(AE42,'Tab 7 DüV_A-VF'!A:B,2,FALSE),0))))","v":""},null,{"$f":"IF(OR(F42=\"\",G42=\"\"),\"\",IF(OR(F42=\"\",G42=\"\",AG42=\"\"),0,IF(AND(F42=\"G\",Y42=\"\"),-VLOOKUP(AG42,'Tab 7 DüV_A-ZF'!A:B,2,FALSE),IF(OR(F42=\"A\",F42=\"HG\"),-VLOOKUP(AG42,'Tab 7 DüV_A-ZF'!A:B,2,FALSE),0))))","v":""},{"$f":"IF(OR(F42=\"\",G42=\"\"),\"\",IF('N-Abschlag org. Düngung'!AJ42=\"\",0,'N-Abschlag org. Düngung'!AJ42))","v":""},"","","",null,""]
[null,null,{"$f":"IF(B43=\"\",\"\",VLOOKUP(B43,Schlagliste!B:D,2,FALSE))","v":""},{"$f":"IF(B43=\"\",\"\",VLOOKUP(B43,Schlagliste!B:D,3,FALSE))","v":""},{"$f":"IF(B43=\"\",\"\",VLOOKUP(B43,Schlagliste!B:E,4,FALSE))","v":""},null,null,{"$f":"IF(OR(G43=\"\",F43=\"\"),\"\",IF(AND(C43=\"ja\",LEFT(G43,5)=\"ZF n.\"),0,(IF(F43=\"G\",VLOOKUP(G43,'Tab 4+5 DüV+Abfuhr_G'!A:C,3,FALSE),IF(F43=\"A\",VLOOKUP(G43,'Tab 2+3 DüV_A'!A:C,3,FALSE),VLOOKUP(G43,'H&G LfL'!B:U,9,FALSE))))))","v":""},{"$f":"IF(OR(F43=\"\",G43=\"\"),\"\",IF(F43=\"G\",VLOOKUP(G43,'Tab 4+5 DüV+Abfuhr_G'!A:D,4,FALSE),IF(F43=\"A\",VLOOKUP(G43,'Tab 2+3 DüV_A'!A:D,4,FALSE),VLOOKUP(G43,'H&G LfL'!B:U,10,FALSE))))","v":""},{"$f":"IF(OR(F43=\"\",G43=\"\"),\"\",IF(F43=\"G\",VLOOKUP(G43,'Tab 4+5 DüV+Abfuhr_G'!A:B,2,FALSE),IF(F43=\"A\",VLOOKUP(G43,'Tab 2+3 DüV_A'!A:B,2,FALSE),VLOOKUP(G43,'H&G LfL'!B:X,2,FALSE))))","v":""},null,"","",{"$f":"IF(OR(F43=\"\",G43=\"\"),\"\",IF(OR(F43=\"G\",F43=\"HG\"),\"\",IF(F43=\"A\",VLOOKUP(G43,'Tab 2+3 DüV_A'!A:H,6,FALSE),VLOOKUP(G43,'H&G LfL'!B:U,13,FALSE))))","v":""},{"$f":"IF(OR(F43=\"\",G43=\"\"),\"\",IF(F43=\"G\",VLOOKUP(G43,'Tab 4+5 DüV+Abfuhr_G'!A:J,8,FALSE),IF(F43=\"HG\",VLOOKUP(G43,'H&G LfL'!B:U,14,FALSE),\"\")))","v":""},{"$f":"IF(OR(F43=\"\",G43=\"\"),\"\",IF(F43=\"G\",VLOOKUP(G43,'Tab 4+5 DüV+Abfuhr_G'!A:J,9,FALSE),IF(F43=\"A\",VLOOKUP(G43,'Tab 2+3 DüV_A'!A:H,7,FALSE),VLOOKUP(G43,'H&G LfL'!B:U,15,FALSE))))","v":""},{"$f":"IF(OR(F43=\"\",G43=\"\"),\"\",IF(F43=\"G\",VLOOKUP(G43,'Tab 4+5 DüV+Abfuhr_G'!A:J,10,FALSE),IF(F43=\"A\",VLOOKUP(G43,'Tab 2+3 DüV_A'!A:H,8,FALSE),VLOOKUP(G43,'H&G LfL'!B:U,16,FALSE))))","v":""},"",null,{"$f":"IF(OR(F43=\"\",G43=\"\"),\"\",IF(OR(S43=\"\",S43=\"nein\",F43=\"A\",F43=\"HG\"),\"0\",VLOOKUP(S43,Verfrühung!A:B,2,FALSE)))","v":""},{"$f":"IF(OR(F43=\"\",G43=\"\"),\"\",IF(F43=\"G\",VLOOKUP(G43,'Tab 4+5 DüV+Abfuhr_G'!A:E,5,FALSE),IF(F43=\"A\",VLOOKUP(G43,'Tab 2+3 DüV_A'!A:L,5,FALSE),VLOOKUP(G43,'H&G LfL'!B:U,11,FALSE))))","v":""},null,null,"",null,{"$f":"IF(OR(F43=\"\",G43=\"\"),\"\",IF(OR(F43=\"A\",F43=\"HG\",Y43=\"\"),\"0\",-VLOOKUP(Y43,'Tab 4+5 DüV+Abfuhr_G'!A:N,6,FALSE)))","v":""},null,"",null,{"$f":"IF(OR(F43=\"\",G43=\"\"),\"\",IF(OR(AC43=\"nein\",AC43=\"\",Z43=\"\",AA43=\"ja\",Y43=\"\",F43=\"A\",F43=\"HG\",Y43=\"\"),\"0\",VLOOKUP(Y43,'Tab 4+5 DüV+Abfuhr_G'!A:G,7,FALSE)))","v":""},null,{"$f":"IF(OR(F43=\"\",G43=\"\"),\"\",IF(OR(F43=\"\",G43=\"\",AE43=\"\"),0,IF(AND(F43=\"G\",Y43=\"\"),-VLOOKUP(AE43,'Tab 7 DüV_A-VF'!A:B,2,FALSE),IF(OR(F43=\"A\",F43=\"HG\"),-VLOOKUP(AE43,'Tab 7 DüV_A-VF'!A:B,2,FALSE),0))))","v":""},null,{"$f":"IF(OR(F43=\"\",G43=\"\"),\"\",IF(OR(F43=\"\",G43=\"\",AG43=\"\"),0,IF(AND(F43=\"G\",Y43=\"\"),-VLOOKUP(AG43,'Tab 7 DüV_A-ZF'!A:B,2,FALSE),IF(OR(F43=\"A\",F43=\"HG\"),-VLOOKUP(AG43,'Tab 7 DüV_A-ZF'!A:B,2,FALSE),0))))","v":""},{"$f":"IF(OR(F43=\"\",G43=\"\"),\"\",IF('N-Abschlag org. Düngung'!AJ43=\"\",0,'N-Abschlag org. Düngung'!AJ43))","v":""},"","","",null,""]
[null,null,{"$f":"IF(B44=\"\",\"\",VLOOKUP(B44,Schlagliste!B:D,2,FALSE))","v":""},{"$f":"IF(B44=\"\",\"\",VLOOKUP(B44,Schlagliste!B:D,3,FALSE))","v":""},{"$f":"IF(B44=\"\",\"\",VLOOKUP(B44,Schlagliste!B:E,4,FALSE))","v":""},null,null,{"$f":"IF(OR(G44=\"\",F44=\"\"),\"\",IF(AND(C44=\"ja\",LEFT(G44,5)=\"ZF n.\"),0,(IF(F44=\"G\",VLOOKUP(G44,'Tab 4+5 DüV+Abfuhr_G'!A:C,3,FALSE),IF(F44=\"A\",VLOOKUP(G44,'Tab 2+3 DüV_A'!A:C,3,FALSE),VLOOKUP(G44,'H&G LfL'!B:U,9,FALSE))))))","v":""},{"$f":"IF(OR(F44=\"\",G44=\"\"),\"\",IF(F44=\"G\",VLOOKUP(G44,'Tab 4+5 DüV+Abfuhr_G'!A:D,4,FALSE),IF(F44=\"A\",VLOOKUP(G44,'Tab 2+3 DüV_A'!A:D,4,FALSE),VLOOKUP(G44,'H&G LfL'!B:U,10,FALSE))))","v":""},{"$f":"IF(OR(F44=\"\",G44=\"\"),\"\",IF(F44=\"G\",VLOOKUP(G44,'Tab 4+5 DüV+Abfuhr_G'!A:B,2,FALSE),IF(F44=\"A\",VLOOKUP(G44,'Tab 2+3 DüV_A'!A:B,2,FALSE),VLOOKUP(G44,'H&G LfL'!B:X,2,FALSE))))","v":""},null,"","",{"$f":"IF(OR(F44=\"\",G44=\"\"),\"\",IF(OR(F44=\"G\",F44=\"HG\"),\"\",IF(F44=\"A\",VLOOKUP(G44,'Tab 2+3 DüV_A'!A:H,6,FALSE),VLOOKUP(G44,'H&G LfL'!B:U,13,FALSE))))","v":""},{"$f":"IF(OR(F44=\"\",G44=\"\"),\"\",IF(F44=\"G\",VLOOKUP(G44,'Tab 4+5 DüV+Abfuhr_G'!A:J,8,FALSE),IF(F44=\"HG\",VLOOKUP(G44,'H&G LfL'!B:U,14,FALSE),\"\")))","v":""},{"$f":"IF(OR(F44=\"\",G44=\"\"),\"\",IF(F44=\"G\",VLOOKUP(G44,'Tab 4+5 DüV+Abfuhr_G'!A:J,9,FALSE),IF(F44=\"A\",VLOOKUP(G44,'Tab 2+3 DüV_A'!A:H,7,FALSE),VLOOKUP(G44,'H&G LfL'!B:U,15,FALSE))))","v":""},{"$f":"IF(OR(F44=\"\",G44=\"\"),\"\",IF(F44=\"G\",VLOOKUP(G44,'Tab 4+5 DüV+Abfuhr_G'!A:J,10,FALSE),IF(F44=\"A\",VLOOKUP(G44,'Tab 2+3 DüV_A'!A:H,8,FALSE),VLOOKUP(G44,'H&G LfL'!B:U,16,FALSE))))","v":""},"",null,{"$f":"IF(OR(F44=\"\",G44=\"\"),\"\",IF(OR(S44=\"\",S44=\"nein\",F44=\"A\",F44=\"HG\"),\"0\",VLOOKUP(S44,Verfrühung!A:B,2,FALSE)))","v":""},{"$f":"IF(OR(F44=\"\",G44=\"\"),\"\",IF(F44=\"G\",VLOOKUP(G44,'Tab 4+5 DüV+Abfuhr_G'!A:E,5,FALSE),IF(F44=\"A\",VLOOKUP(G44,'Tab 2+3 DüV_A'!A:L,5,FALSE),VLOOKUP(G44,'H&G LfL'!B:U,11,FALSE))))","v":""},null,null,"",null,{"$f":"IF(OR(F44=\"\",G44=\"\"),\"\",IF(OR(F44=\"A\",F44=\"HG\",Y44=\"\"),\"0\",-VLOOKUP(Y44,'Tab 4+5 DüV+Abfuhr_G'!A:N,6,FALSE)))","v":""},null,"",null,{"$f":"IF(OR(F44=\"\",G44=\"\"),\"\",IF(OR(AC44=\"nein\",AC44=\"\",Z44=\"\",AA44=\"ja\",Y44=\"\",F44=\"A\",F44=\"HG\",Y44=\"\"),\"0\",VLOOKUP(Y44,'Tab 4+5 DüV+Abfuhr_G'!A:G,7,FALSE)))","v":""},null,{"$f":"IF(OR(F44=\"\",G44=\"\"),\"\",IF(OR(F44=\"\",G44=\"\",AE44=\"\"),0,IF(AND(F44=\"G\",Y44=\"\"),-VLOOKUP(AE44,'Tab 7 DüV_A-VF'!A:B,2,FALSE),IF(OR(F44=\"A\",F44=\"HG\"),-VLOOKUP(AE44,'Tab 7 DüV_A-VF'!A:B,2,FALSE),0))))","v":""},null,{"$f":"IF(OR(F44=\"\",G44=\"\"),\"\",IF(OR(F44=\"\",G44=\"\",AG44=\"\"),0,IF(AND(F44=\"G\",Y44=\"\"),-VLOOKUP(AG44,'Tab 7 DüV_A-ZF'!A:B,2,FALSE),IF(OR(F44=\"A\",F44=\"HG\"),-VLOOKUP(AG44,'Tab 7 DüV_A-ZF'!A:B,2,FALSE),0))))","v":""},{"$f":"IF(OR(F44=\"\",G44=\"\"),\"\",IF('N-Abschlag org. Düngung'!AJ44=\"\",0,'N-Abschlag org. Düngung'!AJ44))","v":""},"","","",null,""]
[null,null,{"$f":"IF(B45=\"\",\"\",VLOOKUP(B45,Schlagliste!B:D,2,FALSE))","v":""},{"$f":"IF(B45=\"\",\"\",VLOOKUP(B45,Schlagliste!B:D,3,FALSE))","v":""},{"$f":"IF(B45=\"\",\"\",VLOOKUP(B45,Schlagliste!B:E,4,FALSE))","v":""},null,null,{"$f":"IF(OR(G45=\"\",F45=\"\"),\"\",IF(AND(C45=\"ja\",LEFT(G45,5)=\"ZF n.\"),0,(IF(F45=\"G\",VLOOKUP(G45,'Tab 4+5 DüV+Abfuhr_G'!A:C,3,FALSE),IF(F45=\"A\",VLOOKUP(G45,'Tab 2+3 DüV_A'!A:C,3,FALSE),VLOOKUP(G45,'H&G LfL'!B:U,9,FALSE))))))","v":""},{"$f":"IF(OR(F45=\"\",G45=\"\"),\"\",IF(F45=\"G\",VLOOKUP(G45,'Tab 4+5 DüV+Abfuhr_G'!A:D,4,FALSE),IF(F45=\"A\",VLOOKUP(G45,'Tab 2+3 DüV_A'!A:D,4,FALSE),VLOOKUP(G45,'H&G LfL'!B:U,10,FALSE))))","v":""},{"$f":"IF(OR(F45=\"\",G45=\"\"),\"\",IF(F45=\"G\",VLOOKUP(G45,'Tab 4+5 DüV+Abfuhr_G'!A:B,2,FALSE),IF(F45=\"A\",VLOOKUP(G45,'Tab 2+3 DüV_A'!A:B,2,FALSE),VLOOKUP(G45,'H&G LfL'!B:X,2,FALSE))))","v":""},null,"","",{"$f":"IF(OR(F45=\"\",G45=\"\"),\"\",IF(OR(F45=\"G\",F45=\"HG\"),\"\",IF(F45=\"A\",VLOOKUP(G45,'Tab 2+3 DüV_A'!A:H,6,FALSE),VLOOKUP(G45,'H&G LfL'!B:U,13,FALSE))))","v":""},{"$f":"IF(OR(F45=\"\",G45=\"\"),\"\",IF(F45=\"G\",VLOOKUP(G45,'Tab 4+5 DüV+Abfuhr_G'!A:J,8,FALSE),IF(F45=\"HG\",VLOOKUP(G45,'H&G LfL'!B:U,14,FALSE),\"\")))","v":""},{"$f":"IF(OR(F45=\"\",G45=\"\"),\"\",IF(F45=\"G\",VLOOKUP(G45,'Tab 4+5 DüV+Abfuhr_G'!A:J,9,FALSE),IF(F45=\"A\",VLOOKUP(G45,'Tab 2+3 DüV_A'!A:H,7,FALSE),VLOOKUP(G45,'H&G LfL'!B:U,15,FALSE))))","v":""},{"$f":"IF(OR(F45=\"\",G45=\"\"),\"\",IF(F45=\"G\",VLOOKUP(G45,'Tab 4+5 DüV+Abfuhr_G'!A:J,10,FALSE),IF(F45=\"A\",VLOOKUP(G45,'Tab 2+3 DüV_A'!A:H,8,FALSE),VLOOKUP(G45,'H&G LfL'!B:U,16,FALSE))))","v":""},"",null,{"$f":"IF(OR(F45=\"\",G45=\"\"),\"\",IF(OR(S45=\"\",S45=\"nein\",F45=\"A\",F45=\"HG\"),\"0\",VLOOKUP(S45,Verfrühung!A:B,2,FALSE)))","v":""},{"$f":"IF(OR(F45=\"\",G45=\"\"),\"\",IF(F45=\"G\",VLOOKUP(G45,'Tab 4+5 DüV+Abfuhr_G'!A:E,5,FALSE),IF(F45=\"A\",VLOOKUP(G45,'Tab 2+3 DüV_A'!A:L,5,FALSE),VLOOKUP(G45,'H&G LfL'!B:U,11,FALSE))))","v":""},null,null,"",null,{"$f":"IF(OR(F45=\"\",G45=\"\"),\"\",IF(OR(F45=\"A\",F45=\"HG\",Y45=\"\"),\"0\",-VLOOKUP(Y45,'Tab 4+5 DüV+Abfuhr_G'!A:N,6,FALSE)))","v":""},null,"",null,{"$f":"IF(OR(F45=\"\",G45=\"\"),\"\",IF(OR(AC45=\"nein\",AC45=\"\",Z45=\"\",AA45=\"ja\",Y45=\"\",F45=\"A\",F45=\"HG\",Y45=\"\"),\"0\",VLOOKUP(Y45,'Tab 4+5 DüV+Abfuhr_G'!A:G,7,FALSE)))","v":""},null,{"$f":"IF(OR(F45=\"\",G45=\"\"),\"\",IF(OR(F45=\"\",G45=\"\",AE45=\"\"),0,IF(AND(F45=\"G\",Y45=\"\"),-VLOOKUP(AE45,'Tab 7 DüV_A-VF'!A:B,2,FALSE),IF(OR(F45=\"A\",F45=\"HG\"),-VLOOKUP(AE45,'Tab 7 DüV_A-VF'!A:B,2,FALSE),0))))","v":""},null,{"$f":"IF(OR(F45=\"\",G45=\"\"),\"\",IF(OR(F45=\"\",G45=\"\",AG45=\"\"),0,IF(AND(F45=\"G\",Y45=\"\"),-VLOOKUP(AG45,'Tab 7 DüV_A-ZF'!A:B,2,FALSE),IF(OR(F45=\"A\",F45=\"HG\"),-VLOOKUP(AG45,'Tab 7 DüV_A-ZF'!A:B,2,FALSE),0))))","v":""},{"$f":"IF(OR(F45=\"\",G45=\"\"),\"\",IF('N-Abschlag org. Düngung'!AJ45=\"\",0,'N-Abschlag org. Düngung'!AJ45))","v":""},"","","",null,""]
[null,null,{"$f":"IF(B46=\"\",\"\",VLOOKUP(B46,Schlagliste!B:D,2,FALSE))","v":""},{"$f":"IF(B46=\"\",\"\",VLOOKUP(B46,Schlagliste!B:D,3,FALSE))","v":""},{"$f":"IF(B46=\"\",\"\",VLOOKUP(B46,Schlagliste!B:E,4,FALSE))","v":""},null,null,{"$f":"IF(OR(G46=\"\",F46=\"\"),\"\",IF(AND(C46=\"ja\",LEFT(G46,5)=\"ZF n.\"),0,(IF(F46=\"G\",VLOOKUP(G46,'Tab 4+5 DüV+Abfuhr_G'!A:C,3,FALSE),IF(F46=\"A\",VLOOKUP(G46,'Tab 2+3 DüV_A'!A:C,3,FALSE),VLOOKUP(G46,'H&G LfL'!B:U,9,FALSE))))))","v":""},{"$f":"IF(OR(F46=\"\",G46=\"\"),\"\",IF(F46=\"G\",VLOOKUP(G46,'Tab 4+5 DüV+Abfuhr_G'!A:D,4,FALSE),IF(F46=\"A\",VLOOKUP(G46,'Tab 2+3 DüV_A'!A:D,4,FALSE),VLOOKUP(G46,'H&G LfL'!B:U,10,FALSE))))","v":""},{"$f":"IF(OR(F46=\"\",G46=\"\"),\"\",IF(F46=\"G\",VLOOKUP(G46,'Tab 4+5 DüV+Abfuhr_G'!A:B,2,FALSE),IF(F46=\"A\",VLOOKUP(G46,'Tab 2+3 DüV_A'!A:B,2,FALSE),VLOOKUP(G46,'H&G LfL'!B:X,2,FALSE))))","v":""},null,"","",{"$f":"IF(OR(F46=\"\",G46=\"\"),\"\",IF(OR(F46=\"G\",F46=\"HG\"),\"\",IF(F46=\"A\",VLOOKUP(G46,'Tab 2+3 DüV_A'!A:H,6,FALSE),VLOOKUP(G46,'H&G LfL'!B:U,13,FALSE))))","v":""},{"$f":"IF(OR(F46=\"\",G46=\"\"),\"\",IF(F46=\"G\",VLOOKUP(G46,'Tab 4+5 DüV+Abfuhr_G'!A:J,8,FALSE),IF(F46=\"HG\",VLOOKUP(G46,'H&G LfL'!B:U,14,FALSE),\"\")))","v":""},{"$f":"IF(OR(F46=\"\",G46=\"\"),\"\",IF(F46=\"G\",VLOOKUP(G46,'Tab 4+5 DüV+Abfuhr_G'!A:J,9,FALSE),IF(F46=\"A\",VLOOKUP(G46,'Tab 2+3 DüV_A'!A:H,7,FALSE),VLOOKUP(G46,'H&G LfL'!B:U,15,FALSE))))","v":""},{"$f":"IF(OR(F46=\"\",G46=\"\"),\"\",IF(F46=\"G\",VLOOKUP(G46,'Tab 4+5 DüV+Abfuhr_G'!A:J,10,FALSE),IF(F46=\"A\",VLOOKUP(G46,'Tab 2+3 DüV_A'!A:H,8,FALSE),VLOOKUP(G46,'H&G LfL'!B:U,16,FALSE))))","v":""},"",null,{"$f":"IF(OR(F46=\"\",G46=\"\"),\"\",IF(OR(S46=\"\",S46=\"nein\",F46=\"A\",F46=\"HG\"),\"0\",VLOOKUP(S46,Verfrühung!A:B,2,FALSE)))","v":""},{"$f":"IF(OR(F46=\"\",G46=\"\"),\"\",IF(F46=\"G\",VLOOKUP(G46,'Tab 4+5 DüV+Abfuhr_G'!A:E,5,FALSE),IF(F46=\"A\",VLOOKUP(G46,'Tab 2+3 DüV_A'!A:L,5,FALSE),VLOOKUP(G46,'H&G LfL'!B:U,11,FALSE))))","v":""},null,null,"",null,{"$f":"IF(OR(F46=\"\",G46=\"\"),\"\",IF(OR(F46=\"A\",F46=\"HG\",Y46=\"\"),\"0\",-VLOOKUP(Y46,'Tab 4+5 DüV+Abfuhr_G'!A:N,6,FALSE)))","v":""},null,"",null,{"$f":"IF(OR(F46=\"\",G46=\"\"),\"\",IF(OR(AC46=\"nein\",AC46=\"\",Z46=\"\",AA46=\"ja\",Y46=\"\",F46=\"A\",F46=\"HG\",Y46=\"\"),\"0\",VLOOKUP(Y46,'Tab 4+5 DüV+Abfuhr_G'!A:G,7,FALSE)))","v":""},null,{"$f":"IF(OR(F46=\"\",G46=\"\"),\"\",IF(OR(F46=\"\",G46=\"\",AE46=\"\"),0,IF(AND(F46=\"G\",Y46=\"\"),-VLOOKUP(AE46,'Tab 7 DüV_A-VF'!A:B,2,FALSE),IF(OR(F46=\"A\",F46=\"HG\"),-VLOOKUP(AE46,'Tab 7 DüV_A-VF'!A:B,2,FALSE),0))))","v":""},null,{"$f":"IF(OR(F46=\"\",G46=\"\"),\"\",IF(OR(F46=\"\",G46=\"\",AG46=\"\"),0,IF(AND(F46=\"G\",Y46=\"\"),-VLOOKUP(AG46,'Tab 7 DüV_A-ZF'!A:B,2,FALSE),IF(OR(F46=\"A\",F46=\"HG\"),-VLOOKUP(AG46,'Tab 7 DüV_A-ZF'!A:B,2,FALSE),0))))","v":""},{"$f":"IF(OR(F46=\"\",G46=\"\"),\"\",IF('N-Abschlag org. Düngung'!AJ46=\"\",0,'N-Abschlag org. Düngung'!AJ46))","v":""},"","","",null,""]
[null,null,{"$f":"IF(B47=\"\",\"\",VLOOKUP(B47,Schlagliste!B:D,2,FALSE))","v":""},{"$f":"IF(B47=\"\",\"\",VLOOKUP(B47,Schlagliste!B:D,3,FALSE))","v":""},{"$f":"IF(B47=\"\",\"\",VLOOKUP(B47,Schlagliste!B:E,4,FALSE))","v":""},null,null,{"$f":"IF(OR(G47=\"\",F47=\"\"),\"\",IF(AND(C47=\"ja\",LEFT(G47,5)=\"ZF n.\"),0,(IF(F47=\"G\",VLOOKUP(G47,'Tab 4+5 DüV+Abfuhr_G'!A:C,3,FALSE),IF(F47=\"A\",VLOOKUP(G47,'Tab 2+3 DüV_A'!A:C,3,FALSE),VLOOKUP(G47,'H&G LfL'!B:U,9,FALSE))))))","v":""},{"$f":"IF(OR(F47=\"\",G47=\"\"),\"\",IF(F47=\"G\",VLOOKUP(G47,'Tab 4+5 DüV+Abfuhr_G'!A:D,4,FALSE),IF(F47=\"A\",VLOOKUP(G47,'Tab 2+3 DüV_A'!A:D,4,FALSE),VLOOKUP(G47,'H&G LfL'!B:U,10,FALSE))))","v":""},{"$f":"IF(OR(F47=\"\",G47=\"\"),\"\",IF(F47=\"G\",VLOOKUP(G47,'Tab 4+5 DüV+Abfuhr_G'!A:B,2,FALSE),IF(F47=\"A\",VLOOKUP(G47,'Tab 2+3 DüV_A'!A:B,2,FALSE),VLOOKUP(G47,'H&G LfL'!B:X,2,FALSE))))","v":""},null,{"$f":"IF(OR(K47=\"\",G47=\"\"),\"\",K47-J47)","v":""},{"$f":"IF(OR(F47=\"\",G47=\"\"),\"\",IF(OR(K47=\"\",J47=0),0,L47*100/J47))","v":""},{"$f":"IF(OR(F47=\"\",G47=\"\"),\"\",IF(OR(F47=\"G\",F47=\"HG\"),\"\",IF(F47=\"A\",VLOOKUP(G47,'Tab 2+3 DüV_A'!A:H,6,FALSE),VLOOKUP(G47,'H&G LfL'!B:U,13,FALSE))))","v":""},{"$f":"IF(OR(F47=\"\",G47=\"\"),\"\",IF(F47=\"G\",VLOOKUP(G47,'Tab 4+5 DüV+Abfuhr_G'!A:J,8,FALSE),IF(F47=\"HG\",VLOOKUP(G47,'H&G LfL'!B:U,14,FALSE),\"\")))","v":""},{"$f":"IF(OR(F47=\"\",G47=\"\"),\"\",IF(F47=\"G\",VLOOKUP(G47,'Tab 4+5 DüV+Abfuhr_G'!A:J,9,FALSE),IF(F47=\"A\",VLOOKUP(G47,'Tab 2+3 DüV_A'!A:H,7,FALSE),VLOOKUP(G47,'H&G LfL'!B:U,15,FALSE))))","v":""},{"$f":"IF(OR(F47=\"\",G47=\"\"),\"\",IF(F47=\"G\",VLOOKUP(G47,'Tab 4+5 DüV+Abfuhr_G'!A:J,10,FALSE),IF(F47=\"A\",VLOOKUP(G47,'Tab 2+3 DüV_A'!A:H,8,FALSE),VLOOKUP(G47,'H&G LfL'!B:U,16,FALSE))))","v":""},{"$f":"IF(OR(F47=\"\",G47=\"\"),\"\",IF(OR(F47=\"G\",F47=\"HG\"),IF(OR(O47=\"\",O47=0,K47=\"\",J47=0),\"0\",IF(M47>0,ROUNDDOWN(M47/O47,0)*P47,ROUNDDOWN(M47/O47,0)*Q47)),IF(OR(N47=\"\",N47=0,K47=\"\"),\"0\",IF(L47>0,L47*P47/N47,Q47*L47/N47))))","v":""},null,{"$f":"IF(OR(F47=\"\",G47=\"\"),\"\",IF(OR(S47=\"\",S47=\"nein\",F47=\"A\",F47=\"HG\"),\"0\",VLOOKUP(S47,Verfrühung!A:B,2,FALSE)))","v":""},{"$f":"IF(OR(F47=\"\",G47=\"\"),\"\",IF(F47=\"G\",VLOOKUP(G47,'Tab 4+5 DüV+Abfuhr_G'!A:E,5,FALSE),IF(F47=\"A\",VLOOKUP(G47,'Tab 2+3 DüV_A'!A:L,5,FALSE),VLOOKUP(G47,'H&G LfL'!B:U,11,FALSE))))","v":""},null,null,{"$f":"IF(OR(F47=\"\",G47=\"\"),\"\",IF(W47=\"ja\",-20,\"0\"))","v":""},null,{"$f":"IF(OR(F47=\"\",G47=\"\"),\"\",IF(OR(F47=\"A\",F47=\"HG\",Y47=\"\"),\"0\",-VLOOKUP(Y47,'Tab 4+5 DüV+Abfuhr_G'!A:N,6,FALSE)))","v":""},null,{"$f":"IF(OR(F47=\"\",G47=\"\"),\"\",IF(AA47=\"ja\",-Z47,\"0\"))","v":""},null,{"$f":"IF(OR(F47=\"\",G47=\"\"),\"\",IF(OR(AC47=\"nein\",AC47=\"\",Z47=\"\",AA47=\"ja\",Y47=\"\",F47=\"A\",F47=\"HG\",Y47=\"\"),\"0\",VLOOKUP(Y47,'Tab 4+5 DüV+Abfuhr_G'!A:G,7,FALSE)))","v":""},null,{"$f":"IF(OR(F47=\"\",G47=\"\"),\"\",IF(OR(F47=\"\",G47=\"\",AE47=\"\"),0,IF(AND(F47=\"G\",Y47=\"\"),-VLOOKUP(AE47,'Tab 7 DüV_A-VF'!A:B,2,FALSE),IF(OR(F47=\"A\",F47=\"HG\"),-VLOOKUP(AE47,'Tab 7 DüV_A-VF'!A:B,2,FALSE),0))))","v":""},null,{"$f":"IF(OR(F47=\"\",G47=\"\"),\"\",IF(OR(F47=\"\",G47=\"\",AG47=\"\"),0,IF(AND(F47=\"G\",Y47=\"\"),-VLOOKUP(AG47,'Tab 7 DüV_A-ZF'!A:B,2,FALSE),IF(OR(F47=\"A\",F47=\"HG\"),-VLOOKUP(AG47,'Tab 7 DüV_A-ZF'!A:B,2,FALSE),0))))","v":""},{"$f":"IF(OR(F47=\"\",G47=\"\"),\"\",IF('N-Abschlag org. Düngung'!AJ47=\"\",0,'N-Abschlag org. Düngung'!AJ47))","v":""},{"$f":"IF(OR(F47=\"\",G47=\"\"),\"\",IF(SUM(H47,R47,T47,-V47,X47,Z47,AB47,AD47,AF47,AH47,AI47)<0,\"0\",SUM(H47,R47,T47,-V47,X47,Z47,AB47,AD47,AF47,AH47,AI47)))","v":""},{"$f":"IF(OR(F47=\"\",G47=\"\"),\"\",IF(OR(C47=\"nein\",C47=\"\"),\"\",AJ47-(AJ47*0.2)))","v":""},{"$f":"IF(AJ47=\"\",\"\",IF(AK47=\"\",AJ47,AK47))","v":""},null,{"$f":"IF(OR(F47=\"\",G47=\"\"),\"\",IF(OR(AJ47=\"\",AM47=\"\",AM47=\"nein\"),0,AJ47*0.1))","v":""}]

{"sheet":"N-Abschlag org. Düngung","index":4,"n_rows":47,"n_cols":36,"rows_kept":47,"cut":false,"hidden":false,"merged":[[1,7,1,11],[2,7,2,11],[3,7,3,11],[0,36,0,37],[0,34,0,35],[0,31,0,33]]}
["Stickstoff (N)-Abschläge aus der organischen Düngung zu den Kulturen der Vorjahre",null,null,null,null,null,null,null,null,null,null,null,null,null,null,null,null,null,null,null,null,null,{"$f":"Impressum!A6","v":"Stand:"},{"$f":"Impressum!B6","v":"2025-06-10"}]
[{"$f":"'N-DBE'!A2","v":"Betrieb:"},null,null,null,null,null,null,{"$f":"IF('N-DBE'!E2=\"\",\"\",'N-DBE'!E2)","v":""}]
[{"$f":"'N-DBE'!A3","v":"Düngejahr:"},null,null,null,null,null,null,{"$f":"IF('N-DBE'!E3=\"\",\"\",'N-DBE'!E3)","v":""}]
[{"$f":"'N-DBE'!A4","v":"Landw. Nutzfläche LN:"},null,null,null,null,null,null,{"$f":"IF('N-DBE'!E4=\"\",\"\",'N-DBE'!E4)","v":0}]
[]
[]
[]
[{"$f":"'N-DBE'!A8","v":"Datum DBE"},{"$f":"'N-DBE'!B8","v":"Bewirtschaftungseinheit, \nSchlag (=Fläche)"},{"$f":"'N-DBE'!C8","v":"Nitratbelastungsgebiet NBG"},{"$f":"'N-DBE'!D8","v":"Phosphatbelastungsgebiet PBG"},{"$f":"'N-DBE'!E8","v":"Fläche Anbau  ha"},{"$f":"'N-DBE'!F8","v":"Kulturgruppe"},"Kultur (' = nicht in DüV)","Kompost 1. Vorjahr","ausgebrachte Menge t, m³/ha","Ngesamt-Gehalt kg FM/t","N-Abschlag kg/ha","Kompost 2. Vorjahr","ausgebrachte Menge t, m³/ha","Ngesamt-Gehalt kg FM/t","N-Abschlag kg/ha","Kompost 3. Vorjahr","ausgebrachte Menge t, m³/ha","Ngesamt-Gehalt kg FM/t","N-Abschlag kg/ha","1. andere organische Dünger Vorjahr","ausgebrachte Menge t, m³/ha","Ngesamt-Gehalt kg FM/t, m³","N-Abschlag kg/ha","2. andere organische Dünger Vorjahr","ausgebrachte Menge t, m³/ha","Ngesamt-Gehalt kg FM/t, m³","N-Abschlag kg/ha","3. andere organische Dünger Vorjahr","ausgebrachte Menge t, m³/ha","Ngesamt-Gehalt kg FM/t, m³","N-Abschlag kg/ha","4. andere organische Dünger Vorjahr","ausgebrachte Menge t, m³/ha","Ngesamt-Gehalt kg FM/t, m³","N-Abschlag kg/ha","Summe N-Abschläge kg/ha"]
[null,null,null,null,null,null,null,{"$f":"IF($H$3=\"\",\"\",$H$3-1)","v":""},null,null,null,{"$f":"IF($H$3=\"\",\"\",$H$3-2)","v":""},null,null,null,{"$f":"IF($H$3=\"\",\"\",$H$3-3)","v":""},null,null,null,{"$f":"IF($H$3=\"\",\"\",$H$3-1)","v":""},null,null,null,{"$f":"IF($H$3=\"\",\"\",$H$3-1)","v":""},null,null,null,{"$f":"IF($H$3=\"\",\"\",$H$3-1)","v":""},null,null,null,{"$f":"IF($H$3=\"\",\"\",$H$3-1)","v":""}]
[]
[{"$f":"IF('N-DBE'!A11=\"\",\"\",'N-DBE'!A11)","v":""},{"$f":"IF('N-DBE'!B11=\"\",\"\",'N-DBE'!B11)","v":""},{"$f":"IF('N-DBE'!C11=\"\",\"\",'N-DBE'!C11)","v":""},{"$f":"IF('N-DBE'!D11=\"\",\"\",'N-DBE'!D11)","v":""},{"$f":"IF('N-DBE'!E11=\"\",\"\",'N-DBE'!E11)","v":""},{"$f":"IF('N-DBE'!F11=\"\",\"\",'N-DBE'!F11)","v":""},{"$f":"IF('N-DBE'!G11=\"\",\"\",'N-DBE'!G11)","v":""},null,null,{"$f":"IF(OR(H11=\"_keine\",H11=\"\"),\"\",VLOOKUP(H11,'Tab org. Kompost_N-expert'!B:H,3,FALSE))","v":""},{"$f":"IF(OR(H11=\"\",H11=\"_keine\"),\"\",(-I11*J11*4/100))","v":""},null,null,{"$f":"IF(OR(L11=\"_keine\",L11=\"\"),\"\",VLOOKUP(L11,'Tab org. Kompost_N-expert'!B:H,3,FALSE))","v":""},{"$f":"IF(OR(L11=\"\",L11=\"_keine\"),\"\",(-M11*N11*3/100))","v":""},null,null,{"$f":"IF(OR(P11=\"_keine\",P11=\"\"),\"\",VLOOKUP(P11,'Tab org. Kompost_N-expert'!B:H,3,FALSE))","v":""},{"$f":"IF(OR(P11=\"\",P11=\"_keine\"),\"\",(-Q11*R11*3/100))","v":""},null,null,{"$f":"IF(OR(T11=\"_keine\",T11=\"\"),\"\",VLOOKUP(T11,'Tab org. D_N-expert'!$B:$H,3,FALSE))","v":""},{"$f":"IF(OR(T11=\"\",T11=\"_keine\"),\"\",(-V11*U11*10/100))","v":""},null,null,{"$f":"IF(OR(X11=\"_keine\",X11=\"\"),\"\",VLOOKUP(X11,'Tab org. D_N-expert'!$B:$H,3,FALSE))","v":""},{"$f":"IF(OR(X11=\"\",X11=\"_keine\"),\"\",(-Z11*Y11*10/100))","v":""},null,null,{"$f":"IF(OR(AB11=\"_keine\",AB11=\"\"),\"\",VLOOKUP(AB11,'Tab org. D_N-expert'!$B:$H,3,FALSE))","v":""},{"$f":"IF(OR(AB11=\"\",AB11=\"_keine\"),\"\",(-AD11*AC11*10/100))","v":""},null,null,{"$f":"IF(OR(AF11=\"_keine\",AF11=\"\"),\"\",VLOOKUP(AF11,'Tab org. D_N-expert'!$B:$H,3,FALSE))","v":""},{"$f":"IF(OR(AF11=\"\",AF11=\"_keine\"),\"\",(-AH11*AG11*10/100))","v":""},{"$f":"IF(AND(K11=\"\",O11=\"\",S11=\"\",W11=\"\",AA11=\"\",AE11=\"\",AI11=\"\"),\"\",SUM(K11,O11,S11,W11,AA11,AE11,AI11))","v":""}]
[{"$f":"IF('N-DBE'!A12=\"\",\"\",'N-DBE'!A12)","v":""},{"$f":"IF('N-DBE'!B12=\"\",\"\",'N-DBE'!B12)","v":""},{"$f":"IF('N-DBE'!C12=\"\",\"\",'N-DBE'!C12)","v":""},{"$f":"IF('N-DBE'!D12=\"\",\"\",'N-DBE'!D12)","v":""},{"$f":"IF('N-DBE'!E12=\"\",\"\",'N-DBE'!E12)","v":""},{"$f":"IF('N-DBE'!F12=\"\",\"\",'N-DBE'!F12)","v":""},{"$f":"IF('N-DBE'!G12=\"\",\"\",'N-DBE'!G12)","v":""},null,null,{"$f":"IF(OR(H12=\"_keine\",H12=\"\"),\"\",VLOOKUP(H12,'Tab org. Kompost_N-expert'!B:H,3,FALSE))","v":""},"",null,null,{"$f":"IF(OR(L12=\"_keine\",L12=\"\"),\"\",VLOOKUP(L12,'Tab org. Kompost_N-expert'!B:H,3,FALSE))","v":""},"",null,null,{"$f":"IF(OR(P12=\"_keine\",P12=\"\"),\"\",VLOOKUP(P12,'Tab org. Kompost_N-expert'!B:H,3,FALSE))","v":""},"",null,null,{"$f":"IF(OR(T12=\"_keine\",T12=\"\"),\"\",VLOOKUP(T12,'Tab org. D_N-expert'!$B:$H,3,FALSE))","v":""},"",null,null,{"$f":"IF(OR(X12=\"_keine\",X12=\"\"),\"\",VLOOKUP(X12,'Tab org. D_N-expert'!$B:$H,3,FALSE))","v":""},"",null,null,{"$f":"IF(OR(AB12=\"_keine\",AB12=\"\"),\"\",VLOOKUP(AB12,'Tab org. D_N-expert'!$B:$H,3,FALSE))","v":""},"",null,null,{"$f":"IF(OR(AF12=\"_keine\",AF12=\"\"),\"\",VLOOKUP(AF12,'Tab org. D_N-expert'!$B:$H,3,FALSE))","v":""},"",""]
[{"$f":"IF('N-DBE'!A13=\"\",\"\",'N-DBE'!A13)","v":""},{"$f":"IF('N-DBE'!B13=\"\",\"\",'N-DBE'!B13)","v":""},{"$f":"IF('N-DBE'!C13=\"\",\"\",'N-DBE'!C13)","v":""},{"$f":"IF('N-DBE'!D13=\"\",\"\",'N-DBE'!D13)","v":""},{"$f":"IF('N-DBE'!E13=\"\",\"\",'N-DBE'!E13)","v":""},{"$f":"IF('N-DBE'!F13=\"\",\"\",'N-DBE'!F13)","v":""},{"$f":"IF('N-DBE'!G13=\"\",\"\",'N-DBE'!G13)","v":""},null,null,{"$f":"IF(OR(H13=\"_keine\",H13=\"\"),\"\",VLOOKUP(H13,'Tab org. Kompost_N-expert'!B:H,3,FALSE))","v":""},"",null,null,{"$f":"IF(OR(L13=\"_keine\",L13=\"\"),\"\",VLOOKUP(L13,'Tab org. Kompost_N-expert'!B:H,3,FALSE))","v":""},"",null,null,{"$f":"IF(OR(P13=\"_keine\",P13=\"\"),\"\",VLOOKUP(P13,'Tab org. Kompost_N-expert'!B:H,3,FALSE))","v":""},"",null,null,{"$f":"IF(OR(T13=\"_keine\",T13=\"\"),\"\",VLOOKUP(T13,'Tab org. D_N-expert'!$B:$H,3,FALSE))","v":""},"",null,null,{"$f":"IF(OR(X13=\"_keine\",X13=\"\"),\"\",VLOOKUP(X13,'Tab org. D_N-expert'!$B:$H,3,FALSE))","v":""},"",null,null,{"$f":"IF(OR(AB13=\"_keine\",AB13=\"\"),\"\",VLOOKUP(AB13,'Tab org. D_N-expert'!$B:$H,3,FALSE))","v":""},"",null,null,{"$f":"IF(OR(AF13=\"_keine\",AF13=\"\"),\"\",VLOOKUP(AF13,'Tab org. D_N-expert'!$B:$H,3,FALSE))","v":""},"",""]
[{"$f":"IF('N-DBE'!A14=\"\",\"\",'N-DBE'!A14)","v":""},{"$f":"IF('N-DBE'!B14=\"\",\"\",'N-DBE'!B14)","v":""},{"$f":"IF('N-DBE'!C14=\"\",\"\",'N-DBE'!C14)","v":""},{"$f":"IF('N-DBE'!D14=\"\",\"\",'N-DBE'!D14)","v":""},{"$f":"IF('N-DBE'!E14=\"\",\"\",'N-DBE'!E14)","v":""},{"$f":"IF('N-DBE'!F14=\"\",\"\",'N-DBE'!F14)","v":""},{"$f":"IF('N-DBE'!G14=\"\",\"\",'N-DBE'!G14)","v":""},null,null,{"$f":"IF(OR(H14=\"_keine\",H14=\"\"),\"\",VLOOKUP(H14,'Tab org. Kompost_N-expert'!B:H,3,FALSE))","v":""},"",null,null,{"$f":"IF(OR(L14=\"_keine\",L14=\"\"),\"\",VLOOKUP(L14,'Tab org. Kompost_N-expert'!B:H,3,FALSE))","v":""},"",null,null,{"$f":"IF(OR(P14=\"_keine\",P14=\"\"),\"\",VLOOKUP(P14,'Tab org. Kompost_N-expert'!B:H,3,FALSE))","v":""},"",null,null,{"$f":"IF(OR(T14=\"_keine\",T14=\"\"),\"\",VLOOKUP(T14,'Tab org. D_N-expert'!$B:$H,3,FALSE))","v":""},"",null,null,{"$f":"IF(OR(X14=\"_keine\",X14=\"\"),\"\",VLOOKUP(X14,'Tab org. D_N-expert'!$B:$H,3,FALSE))","v":""},"",null,null,{"$f":"IF(OR(AB14=\"_keine\",AB14=\"\"),\"\",VLOOKUP(AB14,'Tab org. D_N-expert'!$B:$H,3,FALSE))","v":""},"",null,null,{"$f":"IF(OR(AF14=\"_keine\",AF14=\"\"),\"\",VLOOKUP(AF14,'Tab org. D_N-expert'!$B:$H,3,FALSE))","v":""},"",""]
[{"$f":"IF('N-DBE'!A15=\"\",\"\",'N-DBE'!A15)","v":""},{"$f":"IF('N-DBE'!B15=\"\",\"\",'N-DBE'!B15)","v":""},{"$f":"IF('N-DBE'!C15=\"\",\"\",'N-DBE'!C15)","v":""},{"$f":"IF('N-DBE'!D15=\"\",\"\",'N-DBE'!D15)","v":""},{"$f":"IF('N-DBE'!E15=\"\",\"\",'N-DBE'!E15)","v":""},{"$f":"IF('N-DBE'!F15=\"\",\"\",'N-DBE'!F15)","v":""},{"$f":"IF('N-DBE'!G15=\"\",\"\",'N-DBE'!G15)","v":""},null,null,{"$f":"IF(OR(H15=\"_keine\",H15=\"\"),\"\",VLOOKUP(H15,'Tab org. Kompost_N-expert'!B:H,3,FALSE))","v":""},"",null,null,{"$f":"IF(OR(L15=\"_keine\",L15=\"\"),\"\",VLOOKUP(L15,'Tab org. Kompost_N-expert'!B:H,3,FALSE))","v":""},"",null,null,{"$f":"IF(OR(P15=\"_keine\",P15=\"\"),\"\",VLOOKUP(P15,'Tab org. Kompost_N-expert'!B:H,3,FALSE))","v":""},"",null,null,{"$f":"IF(OR(T15=\"_keine\",T15=\"\"),\"\",VLOOKUP(T15,'Tab org. D_N-expert'!$B:$H,3,FALSE))","v":""},"",null,null,{"$f":"IF(OR(X15=\"_keine\",X15=\"\"),\"\",VLOOKUP(X15,'Tab org. D_N-expert'!$B:$H,3,FALSE))","v":""},"",null,null,{"$f":"IF(OR(AB15=\"_keine\",AB15=\"\"),\"\",VLOOKUP(AB15,'Tab org. D_N-expert'!$B:$H,3,FALSE))","v":""},"",null,null,{"$f":"IF(OR(AF15=\"_keine\",AF15=\"\"),\"\",VLOOKUP(AF15,'Tab org. D_N-expert'!$B:$H,3,FALSE))","v":""},"",""]
[{"$f":"IF('N-DBE'!A16=\"\",\"\",'N-DBE'!A16)","v":""},{"$f":"IF('N-DBE'!B16=\"\",\"\",'N-DBE'!B16)","v":""},{"$f":"IF('N-DBE'!C16=\"\",\"\",'N-DBE'!C16)","v":""},{"$f":"IF('N-DBE'!D16=\"\",\"\",'N-DBE'!D16)","v":""},{"$f":"IF('N-DBE'!E16=\"\",\"\",'N-DBE'!E16)","v":""},{"$f":"IF('N-DBE'!F16=\"\",\"\",'N-DBE'!F16)","v":""},{"$f":"IF('N-DBE'!G16=\"\",\"\",'N-DBE'!G16)","v":""},null,null,{"$f":"IF(OR(H16=\"_keine\",H16=\"\"),\"\",VLOOKUP(H16,'Tab org. Kompost_N-expert'!B:H,3,FALSE))","v":""},"",null,null,{"$f":"IF(OR(L16=\"_keine\",L16=\"\"),\"\",VLOOKUP(L16,'Tab org. Kompost_N-expert'!B:H,3,FALSE))","v":""},"",null,null,{"$f":"IF(OR(P16=\"_keine\",P16=\"\"),\"\",VLOOKUP(P16,'Tab org. Kompost_N-expert'!B:H,3,FALSE))","v":""},"",null,null,{"$f":"IF(OR(T16=\"_keine\",T16=\"\"),\"\",VLOOKUP(T16,'Tab org. D_N-expert'!$B:$H,3,FALSE))","v":""},"",null,null,{"$f":"IF(OR(X16=\"_keine\",X16=\"\"),\"\",VLOOKUP(X16,'Tab org. D_N-expert'!$B:$H,3,FALSE))","v":""},"",null,null,{"$f":"IF(OR(AB16=\"_keine\",AB16=\"\"),\"\",VLOOKUP(AB16,'Tab org. D_N-expert'!$B:$H,3,FALSE))","v":""},"",null,null,{"$f":"IF(OR(AF16=\"_keine\",AF16=\"\"),\"\",VLOOKUP(AF16,'Tab org. D_N-expert'!$B:$H,3,FALSE))","v":""},"",""]
[{"$f":"IF('N-DBE'!A17=\"\",\"\",'N-DBE'!A17)","v":""},{"$f":"IF('N-DBE'!B17=\"\",\"\",'N-DBE'!B17)","v":""},{"$f":"IF('N-DBE'!C17=\"\",\"\",'N-DBE'!C17)","v":""},{"$f":"IF('N-DBE'!D17=\"\",\"\",'N-DBE'!D17)","v":""},{"$f":"IF('N-DBE'!E17=\"\",\"\",'N-DBE'!E17)","v":""},{"$f":"IF('N-DBE'!F17=\"\",\"\",'N-DBE'!F17)","v":""},{"$f":"IF('N-DBE'!G17=\"\",\"\",'N-DBE'!G17)","v":""},null,null,{"$f":"IF(OR(H17=\"_keine\",H17=\"\"),\"\",VLOOKUP(H17,'Tab org. Kompost_N-expert'!B:H,3,FALSE))","v":""},"",null,null,{"$f":"IF(OR(L17=\"_keine\",L17=\"\"),\"\",VLOOKUP(L17,'Tab org. Kompost_N-expert'!B:H,3,FALSE))","v":""},"",null,null,{"$f":"IF(OR(P17=\"_keine\",P17=\"\"),\"\",VLOOKUP(P17,'Tab org. Kompost_N-expert'!B:H,3,FALSE))","v":""},"",null,null,{"$f":"IF(OR(T17=\"_keine\",T17=\"\"),\"\",VLOOKUP(T17,'Tab org. D_N-expert'!$B:$H,3,FALSE))","v":""},"",null,null,{"$f":"IF(OR(X17=\"_keine\",X17=\"\"),\"\",VLOOKUP(X17,'Tab org. D_N-expert'!$B:$H,3,FALSE))","v":""},"",null,null,{"$f":"IF(OR(AB17=\"_keine\",AB17=\"\"),\"\",VLOOKUP(AB17,'Tab org. D_N-expert'!$B:$H,3,FALSE))","v":""},"",null,null,{"$f":"IF(OR(AF17=\"_keine\",AF17=\"\"),\"\",VLOOKUP(AF17,'Tab org. D_N-expert'!$B:$H,3,FALSE))","v":""},"",""]
[{"$f":"IF('N-DBE'!A18=\"\",\"\",'N-DBE'!A18)","v":""},{"$f":"IF('N-DBE'!B18=\"\",\"\",'N-DBE'!B18)","v":""},{"$f":"IF('N-DBE'!C18=\"\",\"\",'N-DBE'!C18)","v":""},{"$f":"IF('N-DBE'!D18=\"\",\"\",'N-DBE'!D18)","v":""},{"$f":"IF('N-DBE'!E18=\"\",\"\",'N-DBE'!E18)","v":""},{"$f":"IF('N-DBE'!F18=\"\",\"\",'N-DBE'!F18)","v":""},{"$f":"IF('N-DBE'!G18=\"\",\"\",'N-DBE'!G18)","v":""},null,null,{"$f":"IF(OR(H18=\"_keine\",H18=\"\"),\"\",VLOOKUP(H18,'Tab org. Kompost_N-expert'!B:H,3,FALSE))","v":""},"",null,null,{"$f":"IF(OR(L18=\"_keine\",L18=\"\"),\"\",VLOOKUP(L18,'Tab org. Kompost_N-expert'!B:H,3,FALSE))","v":""},"",null,null,{"$f":"IF(OR(P18=\"_keine\",P18=\"\"),\"\",VLOOKUP(P18,'Tab org. Kompost_N-expert'!B:H,3,FALSE))","v":""},"",null,null,{"$f":"IF(OR(T18=\"_keine\",T18=\"\"),\"\",VLOOKUP(T18,'Tab org. D_N-expert'!$B:$H,3,FALSE))","v":""},"",null,null,{"$f":"IF(OR(X18=\"_keine\",X18=\"\"),\"\",VLOOKUP(X18,'Tab org. D_N-expert'!$B:$H,3,FALSE))","v":""},"",null,null,{"$f":"IF(OR(AB18=\"_keine\",AB18=\"\"),\"\",VLOOKUP(AB18,'Tab org. D_N-expert'!$B:$H,3,FALSE))","v":""},"",null,null,{"$f":"IF(OR(AF18=\"_keine\",AF18=\"\"),\"\",VLOOKUP(AF18,'Tab org. D_N-expert'!$B:$H,3,FALSE))","v":""},"",""]
[{"$f":"IF('N-DBE'!A19=\"\",\"\",'N-DBE'!A19)","v":""},{"$f":"IF('N-DBE'!B19=\"\",\"\",'N-DBE'!B19)","v":""},{"$f":"IF('N-DBE'!C19=\"\",\"\",'N-DBE'!C19)","v":""},{"$f":"IF('N-DBE'!D19=\"\",\"\",'N-DBE'!D19)","v":""},{"$f":"IF('N-DBE'!E19=\"\",\"\",'N-DBE'!E19)","v":""},{"$f":"IF('N-DBE'!F19=\"\",\"\",'N-DBE'!F19)","v":""},{"$f":"IF('N-DBE'!G19=\"\",\"\",'N-DBE'!G19)","v":""},null,null,{"$f":"IF(OR(H19=\"_keine\",H19=\"\"),\"\",VLOOKUP(H19,'Tab org. Kompost_N-expert'!B:H,3,FALSE))","v":""},"",null,null,{"$f":"IF(OR(L19=\"_keine\",L19=\"\"),\"\",VLOOKUP(L19,'Tab org. Kompost_N-expert'!B:H,3,FALSE))","v":""},"",null,null,{"$f":"IF(OR(P19=\"_keine\",P19=\"\"),\"\",VLOOKUP(P19,'Tab org. Kompost_N-expert'!B:H,3,FALSE))","v":""},"",null,null,{"$f":"IF(OR(T19=\"_keine\",T19=\"\"),\"\",VLOOKUP(T19,'Tab org. D_N-expert'!$B:$H,3,FALSE))","v":""},"",null,null,{"$f":"IF(OR(X19=\"_keine\",X19=\"\"),\"\",VLOOKUP(X19,'Tab org. D_N-expert'!$B:$H,3,FALSE))","v":""},"",null,null,{"$f":"IF(OR(AB19=\"_keine\",AB19=\"\"),\"\",VLOOKUP(AB19,'Tab org. D_N-expert'!$B:$H,3,FALSE))","v":""},"",null,null,{"$f":"IF(OR(AF19=\"_keine\",AF19=\"\"),\"\",VLOOKUP(AF19,'Tab org. D_N-expert'!$B:$H,3,FALSE))","v":""},"",""]
[{"$f":"IF('N-DBE'!A20=\"\",\"\",'N-DBE'!A20)","v":""},{"$f":"IF('N-DBE'!B20=\"\",\"\",'N-DBE'!B20)","v":""},{"$f":"IF('N-DBE'!C20=\"\",\"\",'N-DBE'!C20)","v":""},{"$f":"IF('N-DBE'!D20=\"\",\"\",'N-DBE'!D20)","v":""},{"$f":"IF('N-DBE'!E20=\"\",\"\",'N-DBE'!E20)","v":""},{"$f":"IF('N-DBE'!F20=\"\",\"\",'N-DBE'!F20)","v":""},{"$f":"IF('N-DBE'!G20=\"\",\"\",'N-DBE'!G20)","v":""},null,null,{"$f":"IF(OR(H20=\"_keine\",H20=\"\"),\"\",VLOOKUP(H20,'Tab org. Kompost_N-expert'!B:H,3,FALSE))","v":""},"",null,null,{"$f":"IF(OR(L20=\"_keine\",L20=\"\"),\"\",VLOOKUP(L20,'Tab org. Kompost_N-expert'!B:H,3,FALSE))","v":""},"",null,null,{"$f":"IF(OR(P20=\"_keine\",P20=\"\"),\"\",VLOOKUP(P20,'Tab org. Kompost_N-expert'!B:H,3,FALSE))","v":""},"",null,null,{"$f":"IF(OR(T20=\"_keine\",T20=\"\"),\"\",VLOOKUP(T20,'Tab org. D_N-expert'!$B:$H,3,FALSE))","v":""},"",null,null,{"$f":"IF(OR(X20=\"_keine\",X20=\"\"),\"\",VLOOKUP(X20,'Tab org. D_N-expert'!$B:$H,3,FALSE))","v":""},"",null,null,{"$f":"IF(OR(AB20=\"_keine\",AB20=\"\"),\"\",VLOOKUP(AB20,'Tab org. D_N-expert'!$B:$H,3,FALSE))","v":""},"",null,null,{"$f":"IF(OR(AF20=\"_keine\",AF20=\"\"),\"\",VLOOKUP(AF20,'Tab org. D_N-expert'!$B:$H,3,FALSE))","v":""},"",""]
[{"$f":"IF('N-DBE'!A21=\"\",\"\",'N-DBE'!A21)","v":""},{"$f":"IF('N-DBE'!B21=\"\",\"\",'N-DBE'!B21)","v":""},{"$f":"IF('N-DBE'!C21=\"\",\"\",'N-DBE'!C21)","v":""},{"$f":"IF('N-DBE'!D21=\"\",\"\",'N-DBE'!D21)","v":""},{"$f":"IF('N-DBE'!E21=\"\",\"\",'N-DBE'!E21)","v":""},{"$f":"IF('N-DBE'!F21=\"\",\"\",'N-DBE'!F21)","v":""},{"$f":"IF('N-DBE'!G21=\"\",\"\",'N-DBE'!G21)","v":""},null,null,{"$f":"IF(OR(H21=\"_keine\",H21=\"\"),\"\",VLOOKUP(H21,'Tab org. Kompost_N-expert'!B:H,3,FALSE))","v":""},"",null,null,{"$f":"IF(OR(L21=\"_keine\",L21=\"\"),\"\",VLOOKUP(L21,'Tab org. Kompost_N-expert'!B:H,3,FALSE))","v":""},"",null,null,{"$f":"IF(OR(P21=\"_keine\",P21=\"\"),\"\",VLOOKUP(P21,'Tab org. Kompost_N-expert'!B:H,3,FALSE))","v":""},"",null,null,{"$f":"IF(OR(T21=\"_keine\",T21=\"\"),\"\",VLOOKUP(T21,'Tab org. D_N-expert'!$B:$H,3,FALSE))","v":""},"",null,null,{"$f":"IF(OR(X21=\"_keine\",X21=\"\"),\"\",VLOOKUP(X21,'Tab org. D_N-expert'!$B:$H,3,FALSE))","v":""},"",null,null,{"$f":"IF(OR(AB21=\"_keine\",AB21=\"\"),\"\",VLOOKUP(AB21,'Tab org. D_N-expert'!$B:$H,3,FALSE))","v":""},"",null,null,{"$f":"IF(OR(AF21=\"_keine\",AF21=\"\"),\"\",VLOOKUP(AF21,'Tab org. D_N-expert'!$B:$H,3,FALSE))","v":""},"",""]
[{"$f":"IF('N-DBE'!A22=\"\",\"\",'N-DBE'!A22)","v":""},{"$f":"IF('N-DBE'!B22=\"\",\"\",'N-DBE'!B22)","v":""},{"$f":"IF('N-DBE'!C22=\"\",\"\",'N-DBE'!C22)","v":""},{"$f":"IF('N-DBE'!D22=\"\",\"\",'N-DBE'!D22)","v":""},{"$f":"IF('N-DBE'!E22=\"\",\"\",'N-DBE'!E22)","v":""},{"$f":"IF('N-DBE'!F22=\"\",\"\",'N-DBE'!F22)","v":""},{"$f":"IF('N-DBE'!G22=\"\",\"\",'N-DBE'!G22)","v":""},null,null,{"$f":"IF(OR(H22=\"_keine\",H22=\"\"),\"\",VLOOKUP(H22,'Tab org. Kompost_N-expert'!B:H,3,FALSE))","v":""},"",null,null,{"$f":"IF(OR(L22=\"_keine\",L22=\"\"),\"\",VLOOKUP(L22,'Tab org. Kompost_N-expert'!B:H,3,FALSE))","v":""},"",null,null,{"$f":"IF(OR(P22=\"_keine\",P22=\"\"),\"\",VLOOKUP(P22,'Tab org. Kompost_N-expert'!B:H,3,FALSE))","v":""},"",null,null,{"$f":"IF(OR(T22=\"_keine\",T22=\"\"),\"\",VLOOKUP(T22,'Tab org. D_N-expert'!$B:$H,3,FALSE))","v":""},"",null,null,{"$f":"IF(OR(X22=\"_keine\",X22=\"\"),\"\",VLOOKUP(X22,'Tab org. D_N-expert'!$B:$H,3,FALSE))","v":""},"",null,null,{"$f":"IF(OR(AB22=\"_keine\",AB22=\"\"),\"\",VLOOKUP(AB22,'Tab org. D_N-expert'!$B:$H,3,FALSE))","v":""},"",null,null,{"$f":"IF(OR(AF22=\"_keine\",AF22=\"\"),\"\",VLOOKUP(AF22,'Tab org. D_N-expert'!$B:$H,3,FALSE))","v":""},"",""]
[{"$f":"IF('N-DBE'!A23=\"\",\"\",'N-DBE'!A23)","v":""},{"$f":"IF('N-DBE'!B23=\"\",\"\",'N-DBE'!B23)","v":""},{"$f":"IF('N-DBE'!C23=\"\",\"\",'N-DBE'!C23)","v":""},{"$f":"IF('N-DBE'!D23=\"\",\"\",'N-DBE'!D23)","v":""},{"$f":"IF('N-DBE'!E23=\"\",\"\",'N-DBE'!E23)","v":""},{"$f":"IF('N-DBE'!F23=\"\",\"\",'N-DBE'!F23)","v":""},{"$f":"IF('N-DBE'!G23=\"\",\"\",'N-DBE'!G23)","v":""},null,null,{"$f":"IF(OR(H23=\"_keine\",H23=\"\"),\"\",VLOOKUP(H23,'Tab org. Kompost_N-expert'!B:H,3,FALSE))","v":""},"",null,null,{"$f":"IF(OR(L23=\"_keine\",L23=\"\"),\"\",VLOOKUP(L23,'Tab org. Kompost_N-expert'!B:H,3,FALSE))","v":""},"",null,null,{"$f":"IF(OR(P23=\"_keine\",P23=\"\"),\"\",VLOOKUP(P23,'Tab org. Kompost_N-expert'!B:H,3,FALSE))","v":""},"",null,null,{"$f":"IF(OR(T23=\"_keine\",T23=\"\"),\"\",VLOOKUP(T23,'Tab org. D_N-expert'!$B:$H,3,FALSE))","v":""},"",null,null,{"$f":"IF(OR(X23=\"_keine\",X23=\"\"),\"\",VLOOKUP(X23,'Tab org. D_N-expert'!$B:$H,3,FALSE))","v":""},"",null,null,{"$f":"IF(OR(AB23=\"_keine\",AB23=\"\"),\"\",VLOOKUP(AB23,'Tab org. D_N-expert'!$B:$H,3,FALSE))","v":""},"",null,null,{"$f":"IF(OR(AF23=\"_keine\",AF23=\"\"),\"\",VLOOKUP(AF23,'Tab org. D_N-expert'!$B:$H,3,FALSE))","v":""},"",""]
[{"$f":"IF('N-DBE'!A24=\"\",\"\",'N-DBE'!A24)","v":""},{"$f":"IF('N-DBE'!B24=\"\",\"\",'N-DBE'!B24)","v":""},{"$f":"IF('N-DBE'!C24=\"\",\"\",'N-DBE'!C24)","v":""},{"$f":"IF('N-DBE'!D24=\"\",\"\",'N-DBE'!D24)","v":""},{"$f":"IF('N-DBE'!E24=\"\",\"\",'N-DBE'!E24)","v":""},{"$f":"IF('N-DBE'!F24=\"\",\"\",'N-DBE'!F24)","v":""},{"$f":"IF('N-DBE'!G24=\"\",\"\",'N-DBE'!G24)","v":""},null,null,{"$f":"IF(OR(H24=\"_keine\",H24=\"\"),\"\",VLOOKUP(H24,'Tab org. Kompost_N-expert'!B:H,3,FALSE))","v":""},"",null,null,{"$f":"IF(OR(L24=\"_keine\",L24=\"\"),\"\",VLOOKUP(L24,'Tab org. Kompost_N-expert'!B:H,3,FALSE))","v":""},"",null,null,{"$f":"IF(OR(P24=\"_keine\",P24=\"\"),\"\",VLOOKUP(P24,'Tab org. Kompost_N-expert'!B:H,3,FALSE))","v":""},"",null,null,{"$f":"IF(OR(T24=\"_keine\",T24=\"\"),\"\",VLOOKUP(T24,'Tab org. D_N-expert'!$B:$H,3,FALSE))","v":""},"",null,null,{"$f":"IF(OR(X24=\"_keine\",X24=\"\"),\"\",VLOOKUP(X24,'Tab org. D_N-expert'!$B:$H,3,FALSE))","v":""},"",null,null,{"$f":"IF(OR(AB24=\"_keine\",AB24=\"\"),\"\",VLOOKUP(AB24,'Tab org. D_N-expert'!$B:$H,3,FALSE))","v":""},"",null,null,{"$f":"IF(OR(AF24=\"_keine\",AF24=\"\"),\"\",VLOOKUP(AF24,'Tab org. D_N-expert'!$B:$H,3,FALSE))","v":""},"",""]
[{"$f":"IF('N-DBE'!A25=\"\",\"\",'N-DBE'!A25)","v":""},{"$f":"IF('N-DBE'!B25=\"\",\"\",'N-DBE'!B25)","v":""},{"$f":"IF('N-DBE'!C25=\"\",\"\",'N-DBE'!C25)","v":""},{"$f":"IF('N-DBE'!D25=\"\",\"\",'N-DBE'!D25)","v":""},{"$f":"IF('N-DBE'!E25=\"\",\"\",'N-DBE'!E25)","v":""},{"$f":"IF('N-DBE'!F25=\"\",\"\",'N-DBE'!F25)","v":""},{"$f":"IF('N-DBE'!G25=\"\",\"\",'N-DBE'!G25)","v":""},null,null,{"$f":"IF(OR(H25=\"_keine\",H25=\"\"),\"\",VLOOKUP(H25,'Tab org. Kompost_N-expert'!B:H,3,FALSE))","v":""},"",null,null,{"$f":"IF(OR(L25=\"_keine\",L25=\"\"),\"\",VLOOKUP(L25,'Tab org. Kompost_N-expert'!B:H,3,FALSE))","v":""},"",null,null,{"$f":"IF(OR(P25=\"_keine\",P25=\"\"),\"\",VLOOKUP(P25,'Tab org. Kompost_N-expert'!B:H,3,FALSE))","v":""},"",null,null,{"$f":"IF(OR(T25=\"_keine\",T25=\"\"),\"\",VLOOKUP(T25,'Tab org. D_N-expert'!$B:$H,3,FALSE))","v":""},"",null,null,{"$f":"IF(OR(X25=\"_keine\",X25=\"\"),\"\",VLOOKUP(X25,'Tab org. D_N-expert'!$B:$H,3,FALSE))","v":""},"",null,null,{"$f":"IF(OR(AB25=\"_keine\",AB25=\"\"),\"\",VLOOKUP(AB25,'Tab org. D_N-expert'!$B:$H,3,FALSE))","v":""},"",null,null,{"$f":"IF(OR(AF25=\"_keine\",AF25=\"\"),\"\",VLOOKUP(AF25,'Tab org. D_N-expert'!$B:$H,3,FALSE))","v":""},"",""]
[{"$f":"IF('N-DBE'!A26=\"\",\"\",'N-DBE'!A26)","v":""},{"$f":"IF('N-DBE'!B26=\"\",\"\",'N-DBE'!B26)","v":""},{"$f":"IF('N-DBE'!C26=\"\",\"\",'N-DBE'!C26)","v":""},{"$f":"IF('N-DBE'!D26=\"\",\"\",'N-DBE'!D26)","v":""},{"$f":"IF('N-DBE'!E26=\"\",\"\",'N-DBE'!E26)","v":""},{"$f":"IF('N-DBE'!F26=\"\",\"\",'N-DBE'!F26)","v":""},{"$f":"IF('N-DBE'!G26=\"\",\"\",'N-DBE'!G26)","v":""},null,null,{"$f":"IF(OR(H26=\"_keine\",H26=\"\"),\"\",VLOOKUP(H26,'Tab org. Kompost_N-expert'!B:H,3,FALSE))","v":""},"",null,null,{"$f":"IF(OR(L26=\"_keine\",L26=\"\"),\"\",VLOOKUP(L26,'Tab org. Kompost_N-expert'!B:H,3,FALSE))","v":""},"",null,null,{"$f":"IF(OR(P26=\"_keine\",P26=\"\"),\"\",VLOOKUP(P26,'Tab org. Kompost_N-expert'!B:H,3,FALSE))","v":""},"",null,null,{"$f":"IF(OR(T26=\"_keine\",T26=\"\"),\"\",VLOOKUP(T26,'Tab org. D_N-expert'!$B:$H,3,FALSE))","v":""},"",null,null,{"$f":"IF(OR(X26=\"_keine\",X26=\"\"),\"\",VLOOKUP(X26,'Tab org. D_N-expert'!$B:$H,3,FALSE))","v":""},"",null,null,{"$f":"IF(OR(AB26=\"_keine\",AB26=\"\"),\"\",VLOOKUP(AB26,'Tab org. D_N-expert'!$B:$H,3,FALSE))","v":""},"",null,null,{"$f":"IF(OR(AF26=\"_keine\",AF26=\"\"),\"\",VLOOKUP(AF26,'Tab org. D_N-expert'!$B:$H,3,FALSE))","v":""},"",""]
[{"$f":"IF('N-DBE'!A27=\"\",\"\",'N-DBE'!A27)","v":""},{"$f":"IF('N-DBE'!B27=\"\",\"\",'N-DBE'!B27)","v":""},{"$f":"IF('N-DBE'!C27=\"\",\"\",'N-DBE'!C27)","v":""},{"$f":"IF('N-DBE'!D27=\"\",\"\",'N-DBE'!D27)","v":""},{"$f":"IF('N-DBE'!E27=\"\",\"\",'N-DBE'!E27)","v":""},{"$f":"IF('N-DBE'!F27=\"\",\"\",'N-DBE'!F27)","v":""},{"$f":"IF('N-DBE'!G27=\"\",\"\",'N-DBE'!G27)","v":""},null,null,{"$f":"IF(OR(H27=\"_keine\",H27=\"\"),\"\",VLOOKUP(H27,'Tab org. Kompost_N-expert'!B:H,3,FALSE))","v":""},"",null,null,{"$f":"IF(OR(L27=\"_keine\",L27=\"\"),\"\",VLOOKUP(L27,'Tab org. Kompost_N-expert'!B:H,3,FALSE))","v":""},"",null,null,{"$f":"IF(OR(P27=\"_keine\",P27=\"\"),\"\",VLOOKUP(P27,'Tab org. Kompost_N-expert'!B:H,3,FALSE))","v":""},"",null,null,{"$f":"IF(OR(T27=\"_keine\",T27=\"\"),\"\",VLOOKUP(T27,'Tab org. D_N-expert'!$B:$H,3,FALSE))","v":""},"",null,null,{"$f":"IF(OR(X27=\"_keine\",X27=\"\"),\"\",VLOOKUP(X27,'Tab org. D_N-expert'!$B:$H,3,FALSE))","v":""},"",null,null,{"$f":"IF(OR(AB27=\"_keine\",AB27=\"\"),\"\",VLOOKUP(AB27,'Tab org. D_N-expert'!$B:$H,3,FALSE))","v":""},"",null,null,{"$f":"IF(OR(AF27=\"_keine\",AF27=\"\"),\"\",VLOOKUP(AF27,'Tab org. D_N-expert'!$B:$H,3,FALSE))","v":""},"",""]
[{"$f":"IF('N-DBE'!A28=\"\",\"\",'N-DBE'!A28)","v":""},{"$f":"IF('N-DBE'!B28=\"\",\"\",'N-DBE'!B28)","v":""},{"$f":"IF('N-DBE'!C28=\"\",\"\",'N-DBE'!C28)","v":""},{"$f":"IF('N-DBE'!D28=\"\",\"\",'N-DBE'!D28)","v":""},{"$f":"IF('N-DBE'!E28=\"\",\"\",'N-DBE'!E28)","v":""},{"$f":"IF('N-DBE'!F28=\"\",\"\",'N-DBE'!F28)","v":""},{"$f":"IF('N-DBE'!G28=\"\",\"\",'N-DBE'!G28)","v":""},null,null,{"$f":"IF(OR(H28=\"_keine\",H28=\"\"),\"\",VLOOKUP(H28,'Tab org. Kompost_N-expert'!B:H,3,FALSE))","v":""},"",null,null,{"$f":"IF(OR(L28=\"_keine\",L28=\"\"),\"\",VLOOKUP(L28,'Tab org. Kompost_N-expert'!B:H,3,FALSE))","v":""},"",null,null,{"$f":"IF(OR(P28=\"_keine\",P28=\"\"),\"\",VLOOKUP(P28,'Tab org. Kompost_N-expert'!B:H,3,FALSE))","v":""},"",null,null,{"$f":"IF(OR(T28=\"_keine\",T28=\"\"),\"\",VLOOKUP(T28,'Tab org. D_N-expert'!$B:$H,3,FALSE))","v":""},"",null,null,{"$f":"IF(OR(X28=\"_keine\",X28=\"\"),\"\",VLOOKUP(X28,'Tab org. D_N-expert'!$B:$H,3,FALSE))","v":""},"",null,null,{"$f":"IF(OR(AB28=\"_keine\",AB28=\"\"),\"\",VLOOKUP(AB28,'Tab org. D_N-expert'!$B:$H,3,FALSE))","v":""},"",null,null,{"$f":"IF(OR(AF28=\"_keine\",AF28=\"\"),\"\",VLOOKUP(AF28,'Tab org. D_N-expert'!$B:$H,3,FALSE))","v":""},"",""]
[{"$f":"IF('N-DBE'!A29=\"\",\"\",'N-DBE'!A29)","v":""},{"$f":"IF('N-DBE'!B29=\"\",\"\",'N-DBE'!B29)","v":""},{"$f":"IF('N-DBE'!C29=\"\",\"\",'N-DBE'!C29)","v":""},{"$f":"IF('N-DBE'!D29=\"\",\"\",'N-DBE'!D29)","v":""},{"$f":"IF('N-DBE'!E29=\"\",\"\",'N-DBE'!E29)","v":""},{"$f":"IF('N-DBE'!F29=\"\",\"\",'N-DBE'!F29)","v":""},{"$f":"IF('N-DBE'!G29=\"\",\"\",'N-DBE'!G29)","v":""},null,null,{"$f":"IF(OR(H29=\"_keine\",H29=\"\"),\"\",VLOOKUP(H29,'Tab org. Kompost_N-expert'!B:H,3,FALSE))","v":""},"",null,null,{"$f":"IF(OR(L29=\"_keine\",L29=\"\"),\"\",VLOOKUP(L29,'Tab org. Kompost_N-expert'!B:H,3,FALSE))","v":""},"",null,null,{"$f":"IF(OR(P29=\"_keine\",P29=\"\"),\"\",VLOOKUP(P29,'Tab org. Kompost_N-expert'!B:H,3,FALSE))","v":""},"",null,null,{"$f":"IF(OR(T29=\"_keine\",T29=\"\"),\"\",VLOOKUP(T29,'Tab org. D_N-expert'!$B:$H,3,FALSE))","v":""},"",null,null,{"$f":"IF(OR(X29=\"_keine\",X29=\"\"),\"\",VLOOKUP(X29,'Tab org. D_N-expert'!$B:$H,3,FALSE))","v":""},"",null,null,{"$f":"IF(OR(AB29=\"_keine\",AB29=\"\"),\"\",VLOOKUP(AB29,'Tab org. D_N-expert'!$B:$H,3,FALSE))","v":""},"",null,null,{"$f":"IF(OR(AF29=\"_keine\",AF29=\"\"),\"\",VLOOKUP(AF29,'Tab org. D_N-expert'!$B:$H,3,FALSE))","v":""},"",""]
[{"$f":"IF('N-DBE'!A30=\"\",\"\",'N-DBE'!A30)","v":""},{"$f":"IF('N-DBE'!B30=\"\",\"\",'N-DBE'!B30)","v":""},{"$f":"IF('N-DBE'!C30=\"\",\"\",'N-DBE'!C30)","v":""},{"$f":"IF('N-DBE'!D30=\"\",\"\",'N-DBE'!D30)","v":""},{"$f":"IF('N-DBE'!E30=\"\",\"\",'N-DBE'!E30)","v":""},{"$f":"IF('N-DBE'!F30=\"\",\"\",'N-DBE'!F30)","v":""},{"$f":"IF('N-DBE'!G30=\"\",\"\",'N-DBE'!G30)","v":""},null,null,{"$f":"IF(OR(H30=\"_keine\",H30=\"\"),\"\",VLOOKUP(H30,'Tab org. Kompost_N-expert'!B:H,3,FALSE))","v":""},"",null,null,{"$f":"IF(OR(L30=\"_keine\",L30=\"\"),\"\",VLOOKUP(L30,'Tab org. Kompost_N-expert'!B:H,3,FALSE))","v":""},"",null,null,{"$f":"IF(OR(P30=\"_keine\",P30=\"\"),\"\",VLOOKUP(P30,'Tab org. Kompost_N-expert'!B:H,3,FALSE))","v":""},"",null,null,{"$f":"IF(OR(T30=\"_keine\",T30=\"\"),\"\",VLOOKUP(T30,'Tab org. D_N-expert'!$B:$H,3,FALSE))","v":""},"",null,null,{"$f":"IF(OR(X30=\"_keine\",X30=\"\"),\"\",VLOOKUP(X30,'Tab org. D_N-expert'!$B:$H,3,FALSE))","v":""},"",null,null,{"$f":"IF(OR(AB30=\"_keine\",AB30=\"\"),\"\",VLOOKUP(AB30,'Tab org. D_N-expert'!$B:$H,3,FALSE))","v":""},"",null,null,{"$f":"IF(OR(AF30=\"_keine\",AF30=\"\"),\"\",VLOOKUP(AF30,'Tab org. D_N-expert'!$B:$H,3,FALSE))","v":""},"",""]
[{"$f":"IF('N-DBE'!A31=\"\",\"\",'N-DBE'!A31)","v":""},{"$f":"IF('N-DBE'!B31=\"\",\"\",'N-DBE'!B31)","v":""},{"$f":"IF('N-DBE'!C31=\"\",\"\",'N-DBE'!C31)","v":""},{"$f":"IF('N-DBE'!D31=\"\",\"\",'N-DBE'!D31)","v":""},{"$f":"IF('N-DBE'!E31=\"\",\"\",'N-DBE'!E31)","v":""},{"$f":"IF('N-DBE'!F31=\"\",\"\",'N-DBE'!F31)","v":""},{"$f":"IF('N-DBE'!G31=\"\",\"\",'N-DBE'!G31)","v":""},null,null,{"$f":"IF(OR(H31=\"_keine\",H31=\"\"),\"\",VLOOKUP(H31,'Tab org. Kompost_N-expert'!B:H,3,FALSE))","v":""},"",null,null,{"$f":"IF(OR(L31=\"_keine\",L31=\"\"),\"\",VLOOKUP(L31,'Tab org. Kompost_N-expert'!B:H,3,FALSE))","v":""},"",null,null,{"$f":"IF(OR(P31=\"_keine\",P31=\"\"),\"\",VLOOKUP(P31,'Tab org. Kompost_N-expert'!B:H,3,FALSE))","v":""},"",null,null,{"$f":"IF(OR(T31=\"_keine\",T31=\"\"),\"\",VLOOKUP(T31,'Tab org. D_N-expert'!$B:$H,3,FALSE))","v":""},"",null,null,{"$f":"IF(OR(X31=\"_keine\",X31=\"\"),\"\",VLOOKUP(X31,'Tab org. D_N-expert'!$B:$H,3,FALSE))","v":""},"",null,null,{"$f":"IF(OR(AB31=\"_keine\",AB31=\"\"),\"\",VLOOKUP(AB31,'Tab org. D_N-expert'!$B:$H,3,FALSE))","v":""},"",null,null,{"$f":"IF(OR(AF31=\"_keine\",AF31=\"\"),\"\",VLOOKUP(AF31,'Tab org. D_N-expert'!$B:$H,3,FALSE))","v":""},"",""]
[{"$f":"IF('N-DBE'!A32=\"\",\"\",'N-DBE'!A32)","v":""},{"$f":"IF('N-DBE'!B32=\"\",\"\",'N-DBE'!B32)","v":""},{"$f":"IF('N-DBE'!C32=\"\",\"\",'N-DBE'!C32)","v":""},{"$f":"IF('N-DBE'!D32=\"\",\"\",'N-DBE'!D32)","v":""},{"$f":"IF('N-DBE'!E32=\"\",\"\",'N-DBE'!E32)","v":""},{"$f":"IF('N-DBE'!F32=\"\",\"\",'N-DBE'!F32)","v":""},{"$f":"IF('N-DBE'!G32=\"\",\"\",'N-DBE'!G32)","v":""},null,null,{"$f":"IF(OR(H32=\"_keine\",H32=\"\"),\"\",VLOOKUP(H32,'Tab org. Kompost_N-expert'!B:H,3,FALSE))","v":""},"",null,null,{"$f":"IF(OR(L32=\"_keine\",L32=\"\"),\"\",VLOOKUP(L32,'Tab org. Kompost_N-expert'!B:H,3,FALSE))","v":""},"",null,null,{"$f":"IF(OR(P32=\"_keine\",P32=\"\"),\"\",VLOOKUP(P32,'Tab org. Kompost_N-expert'!B:H,3,FALSE))","v":""},"",null,null,{"$f":"IF(OR(T32=\"_keine\",T32=\"\"),\"\",VLOOKUP(T32,'Tab org. D_N-expert'!$B:$H,3,FALSE))","v":""},"",null,null,{"$f":"IF(OR(X32=\"_keine\",X32=\"\"),\"\",VLOOKUP(X32,'Tab org. D_N-expert'!$B:$H,3,FALSE))","v":""},"",null,null,{"$f":"IF(OR(AB32=\"_keine\",AB32=\"\"),\"\",VLOOKUP(AB32,'Tab org. D_N-expert'!$B:$H,3,FALSE))","v":""},"",null,null,{"$f":"IF(OR(AF32=\"_keine\",AF32=\"\"),\"\",VLOOKUP(AF32,'Tab org. D_N-expert'!$B:$H,3,FALSE))","v":""},"",""]
[{"$f":"IF('N-DBE'!A33=\"\",\"\",'N-DBE'!A33)","v":""},{"$f":"IF('N-DBE'!B33=\"\",\"\",'N-DBE'!B33)","v":""},{"$f":"IF('N-DBE'!C33=\"\",\"\",'N-DBE'!C33)","v":""},{"$f":"IF('N-DBE'!D33=\"\",\"\",'N-DBE'!D33)","v":""},{"$f":"IF('N-DBE'!E33=\"\",\"\",'N-DBE'!E33)","v":""},{"$f":"IF('N-DBE'!F33=\"\",\"\",'N-DBE'!F33)","v":""},{"$f":"IF('N-DBE'!G33=\"\",\"\",'N-DBE'!G33)","v":""},null,null,{"$f":"IF(OR(H33=\"_keine\",H33=\"\"),\"\",VLOOKUP(H33,'Tab org. Kompost_N-expert'!B:H,3,FALSE))","v":""},"",null,null,{"$f":"IF(OR(L33=\"_keine\",L33=\"\"),\"\",VLOOKUP(L33,'Tab org. Kompost_N-expert'!B:H,3,FALSE))","v":""},"",null,null,{"$f":"IF(OR(P33=\"_keine\",P33=\"\"),\"\",VLOOKUP(P33,'Tab org. Kompost_N-expert'!B:H,3,FALSE))","v":""},"",null,null,{"$f":"IF(OR(T33=\"_keine\",T33=\"\"),\"\",VLOOKUP(T33,'Tab org. D_N-expert'!$B:$H,3,FALSE))","v":""},"",null,null,{"$f":"IF(OR(X33=\"_keine\",X33=\"\"),\"\",VLOOKUP(X33,'Tab org. D_N-expert'!$B:$H,3,FALSE))","v":""},"",null,null,{"$f":"IF(OR(AB33=\"_keine\",AB33=\"\"),\"\",VLOOKUP(AB33,'Tab org. D_N-expert'!$B:$H,3,FALSE))","v":""},"",null,null,{"$f":"IF(OR(AF33=\"_keine\",AF33=\"\"),\"\",VLOOKUP(AF33,'Tab org. D_N-expert'!$B:$H,3,FALSE))","v":""},"",""]
[{"$f":"IF('N-DBE'!A34=\"\",\"\",'N-DBE'!A34)","v":""},{"$f":"IF('N-DBE'!B34=\"\",\"\",'N-DBE'!B34)","v":""},{"$f":"IF('N-DBE'!C34=\"\",\"\",'N-DBE'!C34)","v":""},{"$f":"IF('N-DBE'!D34=\"\",\"\",'N-DBE'!D34)","v":""},{"$f":"IF('N-DBE'!E34=\"\",\"\",'N-DBE'!E34)","v":""},{"$f":"IF('N-DBE'!F34=\"\",\"\",'N-DBE'!F34)","v":""},{"$f":"IF('N-DBE'!G34=\"\",\"\",'N-DBE'!G34)","v":""},null,null,{"$f":"IF(OR(H34=\"_keine\",H34=\"\"),\"\",VLOOKUP(H34,'Tab org. Kompost_N-expert'!B:H,3,FALSE))","v":""},"",null,null,{"$f":"IF(OR(L34=\"_keine\",L34=\"\"),\"\",VLOOKUP(L34,'Tab org. Kompost_N-expert'!B:H,3,FALSE))","v":""},"",null,null,{"$f":"IF(OR(P34=\"_keine\",P34=\"\"),\"\",VLOOKUP(P34,'Tab org. Kompost_N-expert'!B:H,3,FALSE))","v":""},"",null,null,{"$f":"IF(OR(T34=\"_keine\",T34=\"\"),\"\",VLOOKUP(T34,'Tab org. D_N-expert'!$B:$H,3,FALSE))","v":""},"",null,null,{"$f":"IF(OR(X34=\"_keine\",X34=\"\"),\"\",VLOOKUP(X34,'Tab org. D_N-expert'!$B:$H,3,FALSE))","v":""},"",null,null,{"$f":"IF(OR(AB34=\"_keine\",AB34=\"\"),\"\",VLOOKUP(AB34,'Tab org. D_N-expert'!$B:$H,3,FALSE))","v":""},"",null,null,{"$f":"IF(OR(AF34=\"_keine\",AF34=\"\"),\"\",VLOOKUP(AF34,'Tab org. D_N-expert'!$B:$H,3,FALSE))","v":""},"",""]
[{"$f":"IF('N-DBE'!A35=\"\",\"\",'N-DBE'!A35)","v":""},{"$f":"IF('N-DBE'!B35=\"\",\"\",'N-DBE'!B35)","v":""},{"$f":"IF('N-DBE'!C35=\"\",\"\",'N-DBE'!C35)","v":""},{"$f":"IF('N-DBE'!D35=\"\",\"\",'N-DBE'!D35)","v":""},{"$f":"IF('N-DBE'!E35=\"\",\"\",'N-DBE'!E35)","v":""},{"$f":"IF('N-DBE'!F35=\"\",\"\",'N-DBE'!F35)","v":""},{"$f":"IF('N-DBE'!G35=\"\",\"\",'N-DBE'!G35)","v":""},null,null,{"$f":"IF(OR(H35=\"_keine\",H35=\"\"),\"\",VLOOKUP(H35,'Tab org. Kompost_N-expert'!B:H,3,FALSE))","v":""},"",null,null,{"$f":"IF(OR(L35=\"_keine\",L35=\"\"),\"\",VLOOKUP(L35,'Tab org. Kompost_N-expert'!B:H,3,FALSE))","v":""},"",null,null,{"$f":"IF(OR(P35=\"_keine\",P35=\"\"),\"\",VLOOKUP(P35,'Tab org. Kompost_N-expert'!B:H,3,FALSE))","v":""},"",null,null,{"$f":"IF(OR(T35=\"_keine\",T35=\"\"),\"\",VLOOKUP(T35,'Tab org. D_N-expert'!$B:$H,3,FALSE))","v":""},"",null,null,{"$f":"IF(OR(X35=\"_keine\",X35=\"\"),\"\",VLOOKUP(X35,'Tab org. D_N-expert'!$B:$H,3,FALSE))","v":""},"",null,null,{"$f":"IF(OR(AB35=\"_keine\",AB35=\"\"),\"\",VLOOKUP(AB35,'Tab org. D_N-expert'!$B:$H,3,FALSE))","v":""},"",null,null,{"$f":"IF(OR(AF35=\"_keine\",AF35=\"\"),\"\",VLOOKUP(AF35,'Tab org. D_N-expert'!$B:$H,3,FALSE))","v":""},"",""]
[{"$f":"IF('N-DBE'!A36=\"\",\"\",'N-DBE'!A36)","v":""},{"$f":"IF('N-DBE'!B36=\"\",\"\",'N-DBE'!B36)","v":""},{"$f":"IF('N-DBE'!C36=\"\",\"\",'N-DBE'!C36)","v":""},{"$f":"IF('N-DBE'!D36=\"\",\"\",'N-DBE'!D36)","v":""},{"$f":"IF('N-DBE'!E36=\"\",\"\",'N-DBE'!E36)","v":""},{"$f":"IF('N-DBE'!F36=\"\",\"\",'N-DBE'!F36)","v":""},{"$f":"IF('N-DBE'!G36=\"\",\"\",'N-DBE'!G36)","v":""},null,null,{"$f":"IF(OR(H36=\"_keine\",H36=\"\"),\"\",VLOOKUP(H36,'Tab org. Kompost_N-expert'!B:H,3,FALSE))","v":""},"",null,null,{"$f":"IF(OR(L36=\"_keine\",L36=\"\"),\"\",VLOOKUP(L36,'Tab org. Kompost_N-expert'!B:H,3,FALSE))","v":""},"",null,null,{"$f":"IF(OR(P36=\"_keine\",P36=\"\"),\"\",VLOOKUP(P36,'Tab org. Kompost_N-expert'!B:H,3,FALSE))","v":""},"",null,null,{"$f":"IF(OR(T36=\"_keine\",T36=\"\"),\"\",VLOOKUP(T36,'Tab org. D_N-expert'!$B:$H,3,FALSE))","v":""},"",null,null,{"$f":"IF(OR(X36=\"_keine\",X36=\"\"),\"\",VLOOKUP(X36,'Tab org. D_N-expert'!$B:$H,3,FALSE))","v":""},"",null,null,{"$f":"IF(OR(AB36=\"_keine\",AB36=\"\"),\"\",VLOOKUP(AB36,'Tab org. D_N-expert'!$B:$H,3,FALSE))","v":""},"",null,null,{"$f":"IF(OR(AF36=\"_keine\",AF36=\"\"),\"\",VLOOKUP(AF36,'Tab org. D_N-expert'!$B:$H,3,FALSE))","v":""},"",""]
[{"$f":"IF('N-DBE'!A37=\"\",\"\",'N-DBE'!A37)","v":""},{"$f":"IF('N-DBE'!B37=\"\",\"\",'N-DBE'!B37)","v":""},{"$f":"IF('N-DBE'!C37=\"\",\"\",'N-DBE'!C37)","v":""},{"$f":"IF('N-DBE'!D37=\"\",\"\",'N-DBE'!D37)","v":""},{"$f":"IF('N-DBE'!E37=\"\",\"\",'N-DBE'!E37)","v":""},{"$f":"IF('N-DBE'!F37=\"\",\"\",'N-DBE'!F37)","v":""},{"$f":"IF('N-DBE'!G37=\"\",\"\",'N-DBE'!G37)","v":""},null,null,{"$f":"IF(OR(H37=\"_keine\",H37=\"\"),\"\",VLOOKUP(H37,'Tab org. Kompost_N-expert'!B:H,3,FALSE))","v":""},"",null,null,{"$f":"IF(OR(L37=\"_keine\",L37=\"\"),\"\",VLOOKUP(L37,'Tab org. Kompost_N-expert'!B:H,3,FALSE))","v":""},"",null,null,{"$f":"IF(OR(P37=\"_keine\",P37=\"\"),\"\",VLOOKUP(P37,'Tab org. Kompost_N-expert'!B:H,3,FALSE))","v":""},"",null,null,{"$f":"IF(OR(T37=\"_keine\",T37=\"\"),\"\",VLOOKUP(T37,'Tab org. D_N-expert'!$B:$H,3,FALSE))","v":""},"",null,null,{"$f":"IF(OR(X37=\"_keine\",X37=\"\"),\"\",VLOOKUP(X37,'Tab org. D_N-expert'!$B:$H,3,FALSE))","v":""},"",null,null,{"$f":"IF(OR(AB37=\"_keine\",AB37=\"\"),\"\",VLOOKUP(AB37,'Tab org. D_N-expert'!$B:$H,3,FALSE))","v":""},"",null,null,{"$f":"IF(OR(AF37=\"_keine\",AF37=\"\"),\"\",VLOOKUP(AF37,'Tab org. D_N-expert'!$B:$H,3,FALSE))","v":""},"",""]
[{"$f":"IF('N-DBE'!A38=\"\",\"\",'N-DBE'!A38)","v":""},{"$f":"IF('N-DBE'!B38=\"\",\"\",'N-DBE'!B38)","v":""},{"$f":"IF('N-DBE'!C38=\"\",\"\",'N-DBE'!C38)","v":""},{"$f":"IF('N-DBE'!D38=\"\",\"\",'N-DBE'!D38)","v":""},{"$f":"IF('N-DBE'!E38=\"\",\"\",'N-DBE'!E38)","v":""},{"$f":"IF('N-DBE'!F38=\"\",\"\",'N-DBE'!F38)","v":""},{"$f":"IF('N-DBE'!G38=\"\",\"\",'N-DBE'!G38)","v":""},null,null,{"$f":"IF(OR(H38=\"_keine\",H38=\"\"),\"\",VLOOKUP(H38,'Tab org. Kompost_N-expert'!B:H,3,FALSE))","v":""},"",null,null,{"$f":"IF(OR(L38=\"_keine\",L38=\"\"),\"\",VLOOKUP(L38,'Tab org. Kompost_N-expert'!B:H,3,FALSE))","v":""},"",null,null,{"$f":"IF(OR(P38=\"_keine\",P38=\"\"),\"\",VLOOKUP(P38,'Tab org. Kompost_N-expert'!B:H,3,FALSE))","v":""},"",null,null,{"$f":"IF(OR(T38=\"_keine\",T38=\"\"),\"\",VLOOKUP(T38,'Tab org. D_N-expert'!$B:$H,3,FALSE))","v":""},"",null,null,{"$f":"IF(OR(X38=\"_keine\",X38=\"\"),\"\",VLOOKUP(X38,'Tab org. D_N-expert'!$B:$H,3,FALSE))","v":""},"",null,null,{"$f":"IF(OR(AB38=\"_keine\",AB38=\"\"),\"\",VLOOKUP(AB38,'Tab org. D_N-expert'!$B:$H,3,FALSE))","v":""},"",null,null,{"$f":"IF(OR(AF38=\"_keine\",AF38=\"\"),\"\",VLOOKUP(AF38,'Tab org. D_N-expert'!$B:$H,3,FALSE))","v":""},"",""]
[{"$f":"IF('N-DBE'!A39=\"\",\"\",'N-DBE'!A39)","v":""},{"$f":"IF('N-DBE'!B39=\"\",\"\",'N-DBE'!B39)","v":""},{"$f":"IF('N-DBE'!C39=\"\",\"\",'N-DBE'!C39)","v":""},{"$f":"IF('N-DBE'!D39=\"\",\"\",'N-DBE'!D39)","v":""},{"$f":"IF('N-DBE'!E39=\"\",\"\",'N-DBE'!E39)","v":""},{"$f":"IF('N-DBE'!F39=\"\",\"\",'N-DBE'!F39)","v":""},{"$f":"IF('N-DBE'!G39=\"\",\"\",'N-DBE'!G39)","v":""},null,null,{"$f":"IF(OR(H39=\"_keine\",H39=\"\"),\"\",VLOOKUP(H39,'Tab org. Kompost_N-expert'!B:H,3,FALSE))","v":""},"",null,null,{"$f":"IF(OR(L39=\"_keine\",L39=\"\"),\"\",VLOOKUP(L39,'Tab org. Kompost_N-expert'!B:H,3,FALSE))","v":""},"",null,null,{"$f":"IF(OR(P39=\"_keine\",P39=\"\"),\"\",VLOOKUP(P39,'Tab org. Kompost_N-expert'!B:H,3,FALSE))","v":""},"",null,null,{"$f":"IF(OR(T39=\"_keine\",T39=\"\"),\"\",VLOOKUP(T39,'Tab org. D_N-expert'!$B:$H,3,FALSE))","v":""},"",null,null,{"$f":"IF(OR(X39=\"_keine\",X39=\"\"),\"\",VLOOKUP(X39,'Tab org. D_N-expert'!$B:$H,3,FALSE))","v":""},"",null,null,{"$f":"IF(OR(AB39=\"_keine\",AB39=\"\"),\"\",VLOOKUP(AB39,'Tab org. D_N-expert'!$B:$H,3,FALSE))","v":""},"",null,null,{"$f":"IF(OR(AF39=\"_keine\",AF39=\"\"),\"\",VLOOKUP(AF39,'Tab org. D_N-expert'!$B:$H,3,FALSE))","v":""},"",""]
[{"$f":"IF('N-DBE'!A40=\"\",\"\",'N-DBE'!A40)","v":""},{"$f":"IF('N-DBE'!B40=\"\",\"\",'N-DBE'!B40)","v":""},{"$f":"IF('N-DBE'!C40=\"\",\"\",'N-DBE'!C40)","v":""},{"$f":"IF('N-DBE'!D40=\"\",\"\",'N-DBE'!D40)","v":""},{"$f":"IF('N-DBE'!E40=\"\",\"\",'N-DBE'!E40)","v":""},{"$f":"IF('N-DBE'!F40=\"\",\"\",'N-DBE'!F40)","v":""},{"$f":"IF('N-DBE'!G40=\"\",\"\",'N-DBE'!G40)","v":""},null,null,{"$f":"IF(OR(H40=\"_keine\",H40=\"\"),\"\",VLOOKUP(H40,'Tab org. Kompost_N-expert'!B:H,3,FALSE))","v":""},"",null,null,{"$f":"IF(OR(L40=\"_keine\",L40=\"\"),\"\",VLOOKUP(L40,'Tab org. Kompost_N-expert'!B:H,3,FALSE))","v":""},"",null,null,{"$f":"IF(OR(P40=\"_keine\",P40=\"\"),\"\",VLOOKUP(P40,'Tab org. Kompost_N-expert'!B:H,3,FALSE))","v":""},"",null,null,{"$f":"IF(OR(T40=\"_keine\",T40=\"\"),\"\",VLOOKUP(T40,'Tab org. D_N-expert'!$B:$H,3,FALSE))","v":""},"",null,null,{"$f":"IF(OR(X40=\"_keine\",X40=\"\"),\"\",VLOOKUP(X40,'Tab org. D_N-expert'!$B:$H,3,FALSE))","v":""},"",null,null,{"$f":"IF(OR(AB40=\"_keine\",AB40=\"\"),\"\",VLOOKUP(AB40,'Tab org. D_N-expert'!$B:$H,3,FALSE))","v":""},"",null,null,{"$f":"IF(OR(AF40=\"_keine\",AF40=\"\"),\"\",VLOOKUP(AF40,'Tab org. D_N-expert'!$B:$H,3,FALSE))","v":""},"",""]
[{"$f":"IF('N-DBE'!A41=\"\",\"\",'N-DBE'!A41)","v":""},{"$f":"IF('N-DBE'!B41=\"\",\"\",'N-DBE'!B41)","v":""},{"$f":"IF('N-DBE'!C41=\"\",\"\",'N-DBE'!C41)","v":""},{"$f":"IF('N-DBE'!D41=\"\",\"\",'N-DBE'!D41)","v":""},{"$f":"IF('N-DBE'!E41=\"\",\"\",'N-DBE'!E41)","v":""},{"$f":"IF('N-DBE'!F41=\"\",\"\",'N-DBE'!F41)","v":""},{"$f":"IF('N-DBE'!G41=\"\",\"\",'N-DBE'!G41)","v":""},null,null,{"$f":"IF(OR(H41=\"_keine\",H41=\"\"),\"\",VLOOKUP(H41,'Tab org. Kompost_N-expert'!B:H,3,FALSE))","v":""},"",null,null,{"$f":"IF(OR(L41=\"_keine\",L41=\"\"),\"\",VLOOKUP(L41,'Tab org. Kompost_N-expert'!B:H,3,FALSE))","v":""},"",null,null,{"$f":"IF(OR(P41=\"_keine\",P41=\"\"),\"\",VLOOKUP(P41,'Tab org. Kompost_N-expert'!B:H,3,FALSE))","v":""},"",null,null,{"$f":"IF(OR(T41=\"_keine\",T41=\"\"),\"\",VLOOKUP(T41,'Tab org. D_N-expert'!$B:$H,3,FALSE))","v":""},"",null,null,{"$f":"IF(OR(X41=\"_keine\",X41=\"\"),\"\",VLOOKUP(X41,'Tab org. D_N-expert'!$B:$H,3,FALSE))","v":""},"",null,null,{"$f":"IF(OR(AB41=\"_keine\",AB41=\"\"),\"\",VLOOKUP(AB41,'Tab org. D_N-expert'!$B:$H,3,FALSE))","v":""},"",null,null,{"$f":"IF(OR(AF41=\"_keine\",AF41=\"\"),\"\",VLOOKUP(AF41,'Tab org. D_N-expert'!$B:$H,3,FALSE))","v":""},"",""]
[{"$f":"IF('N-DBE'!A42=\"\",\"\",'N-DBE'!A42)","v":""},{"$f":"IF('N-DBE'!B42=\"\",\"\",'N-DBE'!B42)","v":""},{"$f":"IF('N-DBE'!C42=\"\",\"\",'N-DBE'!C42)","v":""},{"$f":"IF('N-DBE'!D42=\"\",\"\",'N-DBE'!D42)","v":""},{"$f":"IF('N-DBE'!E42=\"\",\"\",'N-DBE'!E42)","v":""},{"$f":"IF('N-DBE'!F42=\"\",\"\",'N-DBE'!F42)","v":""},{"$f":"IF('N-DBE'!G42=\"\",\"\",'N-DBE'!G42)","v":""},null,null,{"$f":"IF(OR(H42=\"_keine\",H42=\"\"),\"\",VLOOKUP(H42,'Tab org. Kompost_N-expert'!B:H,3,FALSE))","v":""},"",null,null,{"$f":"IF(OR(L42=\"_keine\",L42=\"\"),\"\",VLOOKUP(L42,'Tab org. Kompost_N-expert'!B:H,3,FALSE))","v":""},"",null,null,{"$f":"IF(OR(P42=\"_keine\",P42=\"\"),\"\",VLOOKUP(P42,'Tab org. Kompost_N-expert'!B:H,3,FALSE))","v":""},"",null,null,{"$f":"IF(OR(T42=\"_keine\",T42=\"\"),\"\",VLOOKUP(T42,'Tab org. D_N-expert'!$B:$H,3,FALSE))","v":""},"",null,null,{"$f":"IF(OR(X42=\"_keine\",X42=\"\"),\"\",VLOOKUP(X42,'Tab org. D_N-expert'!$B:$H,3,FALSE))","v":""},"",null,null,{"$f":"IF(OR(AB42=\"_keine\",AB42=\"\"),\"\",VLOOKUP(AB42,'Tab org. D_N-expert'!$B:$H,3,FALSE))","v":""},"",null,null,{"$f":"IF(OR(AF42=\"_keine\",AF42=\"\"),\"\",VLOOKUP(AF42,'Tab org. D_N-expert'!$B:$H,3,FALSE))","v":""},"",""]
[{"$f":"IF('N-DBE'!A43=\"\",\"\",'N-DBE'!A43)","v":""},{"$f":"IF('N-DBE'!B43=\"\",\"\",'N-DBE'!B43)","v":""},{"$f":"IF('N-DBE'!C43=\"\",\"\",'N-DBE'!C43)","v":""},{"$f":"IF('N-DBE'!D43=\"\",\"\",'N-DBE'!D43)","v":""},{"$f":"IF('N-DBE'!E43=\"\",\"\",'N-DBE'!E43)","v":""},{"$f":"IF('N-DBE'!F43=\"\",\"\",'N-DBE'!F43)","v":""},{"$f":"IF('N-DBE'!G43=\"\",\"\",'N-DBE'!G43)","v":""},null,null,{"$f":"IF(OR(H43=\"_keine\",H43=\"\"),\"\",VLOOKUP(H43,'Tab org. Kompost_N-expert'!B:H,3,FALSE))","v":""},"",null,null,{"$f":"IF(OR(L43=\"_keine\",L43=\"\"),\"\",VLOOKUP(L43,'Tab org. Kompost_N-expert'!B:H,3,FALSE))","v":""},"",null,null,{"$f":"IF(OR(P43=\"_keine\",P43=\"\"),\"\",VLOOKUP(P43,'Tab org. Kompost_N-expert'!B:H,3,FALSE))","v":""},"",null,null,{"$f":"IF(OR(T43=\"_keine\",T43=\"\"),\"\",VLOOKUP(T43,'Tab org. D_N-expert'!$B:$H,3,FALSE))","v":""},"",null,null,{"$f":"IF(OR(X43=\"_keine\",X43=\"\"),\"\",VLOOKUP(X43,'Tab org. D_N-expert'!$B:$H,3,FALSE))","v":""},"",null,null,{"$f":"IF(OR(AB43=\"_keine\",AB43=\"\"),\"\",VLOOKUP(AB43,'Tab org. D_N-expert'!$B:$H,3,FALSE))","v":""},"",null,null,{"$f":"IF(OR(AF43=\"_keine\",AF43=\"\"),\"\",VLOOKUP(AF43,'Tab org. D_N-expert'!$B:$H,3,FALSE))","v":""},"",""]
[{"$f":"IF('N-DBE'!A44=\"\",\"\",'N-DBE'!A44)","v":""},{"$f":"IF('N-DBE'!B44=\"\",\"\",'N-DBE'!B44)","v":""},{"$f":"IF('N-DBE'!C44=\"\",\"\",'N-DBE'!C44)","v":""},{"$f":"IF('N-DBE'!D44=\"\",\"\",'N-DBE'!D44)","v":""},{"$f":"IF('N-DBE'!E44=\"\",\"\",'N-DBE'!E44)","v":""},{"$f":"IF('N-DBE'!F44=\"\",\"\",'N-DBE'!F44)","v":""},{"$f":"IF('N-DBE'!G44=\"\",\"\",'N-DBE'!G44)","v":""},null,null,{"$f":"IF(OR(H44=\"_keine\",H44=\"\"),\"\",VLOOKUP(H44,'Tab org. Kompost_N-expert'!B:H,3,FALSE))","v":""},"",null,null,{"$f":"IF(OR(L44=\"_keine\",L44=\"\"),\"\",VLOOKUP(L44,'Tab org. Kompost_N-expert'!B:H,3,FALSE))","v":""},"",null,null,{"$f":"IF(OR(P44=\"_keine\",P44=\"\"),\"\",VLOOKUP(P44,'Tab org. Kompost_N-expert'!B:H,3,FALSE))","v":""},"",null,null,{"$f":"IF(OR(T44=\"_keine\",T44=\"\"),\"\",VLOOKUP(T44,'Tab org. D_N-expert'!$B:$H,3,FALSE))","v":""},"",null,null,{"$f":"IF(OR(X44=\"_keine\",X44=\"\"),\"\",VLOOKUP(X44,'Tab org. D_N-expert'!$B:$H,3,FALSE))","v":""},"",null,null,{"$f":"IF(OR(AB44=\"_keine\",AB44=\"\"),\"\",VLOOKUP(AB44,'Tab org. D_N-expert'!$B:$H,3,FALSE))","v":""},"",null,null,{"$f":"IF(OR(AF44=\"_keine\",AF44=\"\"),\"\",VLOOKUP(AF44,'Tab org. D_N-expert'!$B:$H,3,FALSE))","v":""},"",""]
[{"$f":"IF('N-DBE'!A45=\"\",\"\",'N-DBE'!A45)","v":""},{"$f":"IF('N-DBE'!B45=\"\",\"\",'N-DBE'!B45)","v":""},{"$f":"IF('N-DBE'!C45=\"\",\"\",'N-DBE'!C45)","v":""},{"$f":"IF('N-DBE'!D45=\"\",\"\",'N-DBE'!D45)","v":""},{"$f":"IF('N-DBE'!E45=\"\",\"\",'N-DBE'!E45)","v":""},{"$f":"IF('N-DBE'!F45=\"\",\"\",'N-DBE'!F45)","v":""},{"$f":"IF('N-DBE'!G45=\"\",\"\",'N-DBE'!G45)","v":""},null,null,{"$f":"IF(OR(H45=\"_keine\",H45=\"\"),\"\",VLOOKUP(H45,'Tab org. Kompost_N-expert'!B:H,3,FALSE))","v":""},"",null,null,{"$f":"IF(OR(L45=\"_keine\",L45=\"\"),\"\",VLOOKUP(L45,'Tab org. Kompost_N-expert'!B:H,3,FALSE))","v":""},"",null,null,{"$f":"IF(OR(P45=\"_keine\",P45=\"\"),\"\",VLOOKUP(P45,'Tab org. Kompost_N-expert'!B:H,3,FALSE))","v":""},"",null,null,{"$f":"IF(OR(T45=\"_keine\",T45=\"\"),\"\",VLOOKUP(T45,'Tab org. D_N-expert'!$B:$H,3,FALSE))","v":""},"",null,null,{"$f":"IF(OR(X45=\"_keine\",X45=\"\"),\"\",VLOOKUP(X45,'Tab org. D_N-expert'!$B:$H,3,FALSE))","v":""},"",null,null,{"$f":"IF(OR(AB45=\"_keine\",AB45=\"\"),\"\",VLOOKUP(AB45,'Tab org. D_N-expert'!$B:$H,3,FALSE))","v":""},"",null,null,{"$f":"IF(OR(AF45=\"_keine\",AF45=\"\"),\"\",VLOOKUP(AF45,'Tab org. D_N-expert'!$B:$H,3,FALSE))","v":""},"",""]
[{"$f":"IF('N-DBE'!A46=\"\",\"\",'N-DBE'!A46)","v":""},{"$f":"IF('N-DBE'!B46=\"\",\"\",'N-DBE'!B46)","v":""},{"$f":"IF('N-DBE'!C46=\"\",\"\",'N-DBE'!C46)","v":""},{"$f":"IF('N-DBE'!D46=\"\",\"\",'N-DBE'!D46)","v":""},{"$f":"IF('N-DBE'!E46=\"\",\"\",'N-DBE'!E46)","v":""},{"$f":"IF('N-DBE'!F46=\"\",\"\",'N-DBE'!F46)","v":""},{"$f":"IF('N-DBE'!G46=\"\",\"\",'N-DBE'!G46)","v":""},null,null,{"$f":"IF(OR(H46=\"_keine\",H46=\"\"),\"\",VLOOKUP(H46,'Tab org. Kompost_N-expert'!B:H,3,FALSE))","v":""},"",null,null,{"$f":"IF(OR(L46=\"_keine\",L46=\"\"),\"\",VLOOKUP(L46,'Tab org. Kompost_N-expert'!B:H,3,FALSE))","v":""},"",null,null,{"$f":"IF(OR(P46=\"_keine\",P46=\"\"),\"\",VLOOKUP(P46,'Tab org. Kompost_N-expert'!B:H,3,FALSE))","v":""},"",null,null,{"$f":"IF(OR(T46=\"_keine\",T46=\"\"),\"\",VLOOKUP(T46,'Tab org. D_N-expert'!$B:$H,3,FALSE))","v":""},"",null,null,{"$f":"IF(OR(X46=\"_keine\",X46=\"\"),\"\",VLOOKUP(X46,'Tab org. D_N-expert'!$B:$H,3,FALSE))","v":""},"",null,null,{"$f":"IF(OR(AB46=\"_keine\",AB46=\"\"),\"\",VLOOKUP(AB46,'Tab org. D_N-expert'!$B:$H,3,FALSE))","v":""},"",null,null,{"$f":"IF(OR(AF46=\"_keine\",AF46=\"\"),\"\",VLOOKUP(AF46,'Tab org. D_N-expert'!$B:$H,3,FALSE))","v":""},"",""]
[{"$f":"IF('N-DBE'!A47=\"\",\"\",'N-DBE'!A47)","v":""},{"$f":"IF('N-DBE'!B47=\"\",\"\",'N-DBE'!B47)","v":""},{"$f":"IF('N-DBE'!C47=\"\",\"\",'N-DBE'!C47)","v":""},{"$f":"IF('N-DBE'!D47=\"\",\"\",'N-DBE'!D47)","v":""},{"$f":"IF('N-DBE'!E47=\"\",\"\",'N-DBE'!E47)","v":""},{"$f":"IF('N-DBE'!F47=\"\",\"\",'N-DBE'!F47)","v":""},{"$f":"IF('N-DBE'!G47=\"\",\"\",'N-DBE'!G47)","v":""},null,null,{"$f":"IF(OR(H47=\"_keine\",H47=\"\"),\"\",VLOOKUP(H47,'Tab org. Kompost_N-expert'!B:H,3,FALSE))","v":""},{"$f":"IF(OR(H47=\"\",H47=\"_keine\"),\"\",(-I47*J47*4/100))","v":""},null,null,{"$f":"IF(OR(L47=\"_keine\",L47=\"\"),\"\",VLOOKUP(L47,'Tab org. Kompost_N-expert'!B:H,3,FALSE))","v":""},{"$f":"IF(OR(L47=\"\",L47=\"_keine\"),\"\",(-M47*N47*3/100))","v":""},null,null,{"$f":"IF(OR(P47=\"_keine\",P47=\"\"),\"\",VLOOKUP(P47,'Tab org. Kompost_N-expert'!B:H,3,FALSE))","v":""},{"$f":"IF(OR(P47=\"\",P47=\"_keine\"),\"\",(-Q47*R47*3/100))","v":""},null,null,{"$f":"IF(OR(T47=\"_keine\",T47=\"\"),\"\",VLOOKUP(T47,'Tab org. D_N-expert'!$B:$H,3,FALSE))","v":""},{"$f":"IF(OR(T47=\"\",T47=\"_keine\"),\"\",(-V47*U47*10/100))","v":""},null,null,{"$f":"IF(OR(X47=\"_keine\",X47=\"\"),\"\",VLOOKUP(X47,'Tab org. D_N-expert'!$B:$H,3,FALSE))","v":""},{"$f":"IF(OR(X47=\"\",X47=\"_keine\"),\"\",(-Z47*Y47*10/100))","v":""},null,null,{"$f":"IF(OR(AB47=\"_keine\",AB47=\"\"),\"\",VLOOKUP(AB47,'Tab org. D_N-expert'!$B:$H,3,FALSE))","v":""},{"$f":"IF(OR(AB47=\"\",AB47=\"_keine\"),\"\",(-AD47*AC47*10/100))","v":""},null,null,{"$f":"IF(OR(AF47=\"_keine\",AF47=\"\"),\"\",VLOOKUP(AF47,'Tab org. D_N-expert'!$B:$H,3,FALSE))","v":""},{"$f":"IF(OR(AF47=\"\",AF47=\"_keine\"),\"\",(-AH47*AG47*10/100))","v":""},{"$f":"IF(AND(K47=\"\",O47=\"\",S47=\"\",W47=\"\",AA47=\"\",AE47=\"\",AI47=\"\"),\"\",SUM(K47,O47,S47,W47,AA47,AE47,AI47))","v":""}]

{"sheet":"P-(K-Mg)-DBE","index":5,"n_rows":47,"n_cols":36,"rows_kept":47,"cut":false,"hidden":false,"merged":[[1,4,1,12],[2,4,2,12],[3,4,3,12],[1,36,1,37],[1,31,1,32],[2,28,2,32],[2,34,2,35],[1,25,1,27]]}
["Phosphat (P2O5)-Düngebedarfsermittlung DBE nach DüV sowie Kalium als K2O und Magnesium als MgO"]
[{"$f":"'N-DBE'!A2","v":"Betrieb:"},null,null,null,{"$f":"IF('N-DBE'!E2=\"\",\"\",'N-DBE'!E2)","v":""},null,null,null,null,null,null,null,null,null,null,null,null,null,null,null,null,null,null,null,{"$f":"Impressum!A6","v":"Stand:"},{"$f":"Impressum!B6","v":"2025-06-10"}]
[{"$f":"'N-DBE'!A3","v":"Düngejahr:"},null,null,null,{"$f":"IF('N-DBE'!E3=\"\",\"\",'N-DBE'!E3)","v":""}]
[{"$f":"'N-DBE'!A4","v":"Landw. Nutzfläche LN:"},null,null,null,{"$f":"IF('N-DBE'!E4=\"\",\"\",'N-DBE'!E4)","v":0}]
[]
[]
[]
[{"$f":"'N-DBE'!A8","v":"Datum DBE"},{"$f":"'N-DBE'!B8","v":"Bewirtschaftungseinheit, \nSchlag (=Fläche)"},{"$f":"'N-DBE'!C8","v":"Nitratbelastungsgebiet NBG"},{"$f":"'N-DBE'!D8","v":"Phosphatbelastungsgebiet PBG"},{"$f":"'N-DBE'!E8","v":"Fläche Anbau  ha"},{"$f":"'N-DBE'!F8","v":"Kulturgruppe"},"Kultur (' = nicht in DüV)","P2O5-Abfuhr DüV-Ertrag kg /ha","P2O5-Ertragszu-, abschlag kg/ha","P2O5-Gehalt mg/100 g Boden (CAL)","P2O5-Bodengehaltsklasse DLR/Bolap","P2O5-Bodenzu-, abschlag","P2O5-Festlegung (Rhizom, Speicherwurzel)","P2O5-Düngeobergrenze kg/ha (DüV)","P2O5-Düngebedarf kg/ha","P2O5-Düngeobergrenze kg/Fläche","P2O5-Mangel während Kulturführung?","Max. P2O5-Nachdüngung kg/ha","Bodenart","K2O-Feldabfuhr DüV-Ertrag kg/ha","K2O-Ertragszu-, abschlag kg/ha","K2O-Gehalt mg/100 g Boden","K2O-Bodengehaltsklasse","K2O-Bodenzu-, abschlag kg/ha","K2O-Festlegung (Rhizom, Speicherwurzeln)","K2O-Düngebedarf kg/ha","K2O-Düngebedarf kg/Fläche","MgO-Feldabfuhr","MgO-Ertragszu-, abschlag kg/ha","MgO-Gehalt mg/100 g Boden","MgO-Bodengehaltsklasse","MgO-Bodenzu-, abschlag kg/ha","MgO-Festlegung (Rhizom, Speicherwurzeln)","MgO-Düngebedarf kg/ha","MgO-Düngebedarf kg/Fläche","Grund für\nhöheren P-Bedarf"]
[]
[]
[{"$f":"IF('N-DBE'!A11=\"\",\"\",'N-DBE'!A11)","v":""},{"$f":"IF('N-DBE'!B11=\"\",\"\",'N-DBE'!B11)","v":""},{"$f":"IF('N-DBE'!C11=\"\",\"\",'N-DBE'!C11)","v":""},{"$f":"IF('N-DBE'!D11=\"\",\"\",'N-DBE'!D11)","v":""},{"$f":"IF('N-DBE'!E11=\"\",\"\",'N-DBE'!E11)","v":""},{"$f":"IF('N-DBE'!F11=\"\",\"\",'N-DBE'!F11)","v":""},{"$f":"IF('N-DBE'!G11=\"\",\"\",'N-DBE'!G11)","v":""},{"$f":"IF(OR(F11=\"\",G11=\"\"),\"\",IF(F11=\"g\",VLOOKUP(G11,'Tab 4+5 DüV+Abfuhr_G'!A:N,12,FALSE)*'N-DBE'!J11,IF(F11=\"A\",VLOOKUP(G11,'Tab 2+3 DüV_A'!A:L,10,FALSE)*'N-DBE'!J11,VLOOKUP(G11,'H&G LfL'!B:U,18,FALSE)*'N-DBE'!J11)))","v":""},{"$f":"IF(OR(F11=\"\",G11=\"\"),\"\",IF(OR('N-DBE'!K11=\"\",'N-DBE'!M11=0),0,IF('N-DBE'!K11=0,-H11,('N-DBE'!K11*H11/'N-DBE'!J11)-H11)))","v":""},{"$f":"IF(OR(B11=\"\",G11=\"\"),\"\",IF(VLOOKUP(B11,Schlagliste!B:J,7,FALSE)=\"\",\"\",VLOOKUP(B11,Schlagliste!B:J,7,FALSE)))","v":""},{"$f":"IF(J11=\"\",\"\",IF(J11>39,\"E\",VLOOKUP(J11,'Boden DüV-Bolap'!A:B,2,FALSE)))","v":""},{"$f":"IF(J11=\"\",\"\",IF(J11>39,0,VLOOKUP(J11,'Boden DüV-Bolap'!A:C,3,FALSE)))","v":""},{"$f":"IF(OR(F11=\"\",G11=\"\"),\"\",IF(OR(F11=\"A\",F11=\"HG\"),0,VLOOKUP(G11,'Tab 4+5 DüV+Abfuhr_G'!A:Q,15,FALSE)))","v":""},{"$f":"IF(OR(F11=\"\",G11=\"\"),\"\",IF(J11=\"\",SUM(H11,I11),SUM(H11:I11,L11,M11)))","v":""},{"$f":"IF(OR(F11=\"\",G11=\"\"),\"\",IF(J11=\"\",SUM(H11,I11),IF(OR(K11=\"D\",K11=\"E\"),(H11+M11)*VLOOKUP(K11,'Boden DüV-Bolap'!B:E,4,FALSE),SUM(H11,I11,L11,M11))))","v":""},{"$f":"IF(OR(B11=\"\",F11=\"\",G11=\"\"),\"\",N11*E11)","v":""},null,{"$f":"IF(N11=\"\",\"\",IF(OR(Q11=\"\",Q11=\"nein\"),0,N11*0.1))","v":""},{"$f":"IF(OR(B11=\"\",G11=\"\"),\"\",IF(VLOOKUP(B11,Schlagliste!B:J,5,FALSE)=\"\",\"\",VLOOKUP(B11,Schlagliste!B:J,5,FALSE)))","v":""},{"$f":"IF(OR(F11=\"\",G11=\"\"),\"\",IF(F11=\"g\",VLOOKUP(G11,'Tab 4+5 DüV+Abfuhr_G'!A:N,13,FALSE)*'N-DBE'!J11,IF(F11=\"A\",VLOOKUP(G11,'Tab 2+3 DüV_A'!A:L,11,FALSE)*'N-DBE'!J11,VLOOKUP(G11,'H&G LfL'!B:U,19,FALSE)*'N-DBE'!J11)))","v":""},{"$f":"IF(OR(F11=\"\",G11=\"\"),\"\",IF(OR('N-DBE'!K11=\"\",'N-DBE'!M11=0),0,IF('N-DBE'!K11=0,-T11,('N-DBE'!K11*T11/'N-DBE'!J11)-T11)))","v":""},{"$f":"IF(OR(B11=\"\",G11=\"\"),\"\",IF(VLOOKUP(B11,Schlagliste!B:J,8,FALSE)=\"\",\"\",VLOOKUP(B11,Schlagliste!B:J,8,FALSE)))","v":""},{"$f":"IF(OR(V11=\"\",S11=\"\"),\"\",IF(V11>39,0,IF(S11=\"leicht\",VLOOKUP(V11,'Boden DüV-Bolap'!A:Q,7,FALSE),IF(S11=\"mittel\",VLOOKUP(V11,'Boden DüV-Bolap'!A:K,11,FALSE),IF(S11=\"schwer\",VLOOKUP(V11,'Boden DüV-Bolap'!A:R,15,FALSE))))))","v":""},{"$f":"IF(OR(F11=\"\",G11=\"\",S11=\"\",V11=\"\"),\"\",IF(V11>39,0,IF(AND(S11=\"leicht\",V11<14),VLOOKUP(V11,'Boden DüV-Bolap'!A:Q,8,FALSE),IF(AND(S11=\"leicht\",V11>13),VLOOKUP(V11,'Boden DüV-Bolap'!A:Q,9,FALSE)*(T11+U11)-(T11+U11),IF(AND(S11=\"mittel\",V11<18),VLOOKUP(V11,'Boden DüV-Bolap'!A:Q,12,FALSE),IF(AND(S11=\"mittel\",V11>17),VLOOKUP(V11,'Boden DüV-Bolap'!A:Q,13,FALSE)*(T11+U11)-(T11+U11),IF(AND(S11=\"schwer\",V11<22),VLOOKUP(V11,'Boden DüV-Bolap'!A:Q,16,FALSE),IF(AND(S11=\"schwer\",V11>21),VLOOKUP(V11,'Boden DüV-Bolap'!A:Q,17,FALSE)*(T11+U11)-(T11+U11)))))))))","v":""},{"$f":"IF(OR(F11=\"\",G11=\"\"),\"\",IF(OR(F11=\"A\",F11=\"HG\"),0,VLOOKUP(G11,'Tab 4+5 DüV+Abfuhr_G'!A:Q,16,FALSE)))","v":""},{"$f":"IF(OR(F11=\"\",G11=\"\"),\"\",IF(V11=\"\",SUM(T11,U11),SUM(T11:U11,X11:Y11)))","v":""},{"$f":"IF(OR(B11=\"\",F11=\"\",G11=\"\"),\"\",Z11*E11)","v":""},{"$f":"IF(OR(F11=\"\",G11=\"\"),\"\",IF(F11=\"g\",VLOOKUP(G11,'Tab 4+5 DüV+Abfuhr_G'!A:N,14,FALSE)*'N-DBE'!J11,IF(F11=\"A\",VLOOKUP(G11,'Tab 2+3 DüV_A'!A:L,12,FALSE)*'N-DBE'!J11,VLOOKUP(G11,'H&G LfL'!B:U,20,FALSE)*'N-DBE'!J11)))","v":""},{"$f":"IF(OR(F11=\"\",G11=\"\"),\"\",IF(OR('N-DBE'!K11=\"\",'N-DBE'!M11=0),0,IF('N-DBE'!K11=0,-AB11,('N-DBE'!K11*AB11/'N-DBE'!J11)-AB11)))","v":""},{"$f":"IF(OR(B11=\"\",G11=\"\"),\"\",IF(VLOOKUP(B11,Schlagliste!B:J,9,FALSE)=\"\",\"\",VLOOKUP(B11,Schlagliste!B:J,9,FALSE)))","v":""},{"$f":"IF(OR(AD11=\"\",S11=\"\"),\"\",IF(AD11>39,0,IF(S11=\"leicht\",VLOOKUP(AD11,'Boden DüV-Bolap'!A:AA,19,FALSE),IF(S11=\"mittel\",VLOOKUP(AD11,'Boden DüV-Bolap'!A:AA,23,FALSE),IF(S11=\"schwer\",VLOOKUP(AD11,'Boden DüV-Bolap'!A:AA,27,FALSE))))))","v":""},{"$f":"IF(OR(F11=\"\",G11=\"\",S11=\"\",AD11=\"\"),\"\",IF(AD11>39,0,IF(AND(S11=\"leicht\",AD11<7),VLOOKUP(AD11,'Boden DüV-Bolap'!A:AC,20,FALSE),IF(AND(S11=\"leicht\",AD11>6),VLOOKUP(AD11,'Boden DüV-Bolap'!A:AC,21,FALSE)*(AB11+AC11)-(AB11+AC11),IF(AND(S11=\"mittel\",AD11<11),VLOOKUP(AD11,'Boden DüV-Bolap'!A:AC,24,FALSE),IF(AND(S11=\"mittel\",AD11>10),VLOOKUP(AD11,'Boden DüV-Bolap'!A:AC,25,FALSE)*(AB11+AC11)-(AB11+AC11),IF(AND(S11=\"schwer\",AD11<15),VLOOKUP(AD11,'Boden DüV-Bolap'!A:AC,28,FALSE),IF(AND(S11=\"schwer\",AD11>14),VLOOKUP(AD11,'Boden DüV-Bolap'!A:AC,29,FALSE)*(AB11+AC11)-(AB11+AC11)))))))))","v":""},{"$f":"IF(OR(F11=\"\",G11=\"\"),\"\",IF(OR(F11=\"A\",F11=\"HG\"),0,VLOOKUP(G11,'Tab 4+5 DüV+Abfuhr_G'!A:Q,17,FALSE)))","v":""},{"$f":"IF(OR(F11=\"\",G11=\"\"),\"\",IF(AD11=\"\",SUM(AB11,AC11),SUM(AB11:AC11,AF11:AG11)))","v":""},{"$f":"IF(OR(B11=\"\",F11=\"\",G11=\"\"),\"\",AH11*E11)","v":""}]
[{"$f":"IF('N-DBE'!A12=\"\",\"\",'N-DBE'!A12)","v":""},{"$f":"IF('N-DBE'!B12=\"\",\"\",'N-DBE'!B12)","v":""},{"$f":"IF('N-DBE'!C12=\"\",\"\",'N-DBE'!C12)","v":""},{"$f":"IF('N-DBE'!D12=\"\",\"\",'N-DBE'!D12)","v":""},{"$f":"IF('N-DBE'!E12=\"\",\"\",'N-DBE'!E12)","v":""},{"$f":"IF('N-DBE'!F12=\"\",\"\",'N-DBE'!F12)","v":""},{"$f":"IF('N-DBE'!G12=\"\",\"\",'N-DBE'!G12)","v":""},{"$f":"IF(OR(F12=\"\",G12=\"\"),\"\",IF(F12=\"g\",VLOOKUP(G12,'Tab 4+5 DüV+Abfuhr_G'!A:N,12,FALSE)*'N-DBE'!J12,IF(F12=\"A\",VLOOKUP(G12,'Tab 2+3 DüV_A'!A:L,10,FALSE)*'N-DBE'!J12,VLOOKUP(G12,'H&G LfL'!B:U,18,FALSE)*'N-DBE'!J12)))","v":""},{"$f":"IF(OR(F12=\"\",G12=\"\"),\"\",IF(OR('N-DBE'!K12=\"\",'N-DBE'!M12=0),0,IF('N-DBE'!K12=0,-H12,('N-DBE'!K12*H12/'N-DBE'!J12)-H12)))","v":""},{"$f":"IF(OR(B12=\"\",G12=\"\"),\"\",IF(VLOOKUP(B12,Schlagliste!B:J,7,FALSE)=\"\",\"\",VLOOKUP(B12,Schlagliste!B:J,7,FALSE)))","v":""},{"$f":"IF(J12=\"\",\"\",IF(J12>39,\"E\",VLOOKUP(J12,'Boden DüV-Bolap'!A:B,2,FALSE)))","v":""},{"$f":"IF(J12=\"\",\"\",IF(J12>39,0,VLOOKUP(J12,'Boden DüV-Bolap'!A:C,3,FALSE)))","v":""},{"$f":"IF(OR(F12=\"\",G12=\"\"),\"\",IF(OR(F12=\"A\",F12=\"HG\"),0,VLOOKUP(G12,'Tab 4+5 DüV+Abfuhr_G'!A:Q,15,FALSE)))","v":""},"",{"$f":"IF(OR(F12=\"\",G12=\"\"),\"\",IF(J12=\"\",SUM(H12,I12),IF(OR(K12=\"D\",K12=\"E\"),(H12+M12)*VLOOKUP(K12,'Boden DüV-Bolap'!B:E,4,FALSE),SUM(H12,I12,L12,M12))))","v":""},"",null,"",{"$f":"IF(OR(B12=\"\",G12=\"\"),\"\",IF(VLOOKUP(B12,Schlagliste!B:J,5,FALSE)=\"\",\"\",VLOOKUP(B12,Schlagliste!B:J,5,FALSE)))","v":""},{"$f":"IF(OR(F12=\"\",G12=\"\"),\"\",IF(F12=\"g\",VLOOKUP(G12,'Tab 4+5 DüV+Abfuhr_G'!A:N,13,FALSE)*'N-DBE'!J12,IF(F12=\"A\",VLOOKUP(G12,'Tab 2+3 DüV_A'!A:L,11,FALSE)*'N-DBE'!J12,VLOOKUP(G12,'H&G LfL'!B:U,19,FALSE)*'N-DBE'!J12)))","v":""},{"$f":"IF(OR(F12=\"\",G12=\"\"),\"\",IF(OR('N-DBE'!K12=\"\",'N-DBE'!M12=0),0,IF('N-DBE'!K12=0,-T12,('N-DBE'!K12*T12/'N-DBE'!J12)-T12)))","v":""},{"$f":"IF(OR(B12=\"\",G12=\"\"),\"\",IF(VLOOKUP(B12,Schlagliste!B:J,8,FALSE)=\"\",\"\",VLOOKUP(B12,Schlagliste!B:J,8,FALSE)))","v":""},{"$f":"IF(OR(V12=\"\",S12=\"\"),\"\",IF(V12>39,0,IF(S12=\"leicht\",VLOOKUP(V12,'Boden DüV-Bolap'!A:Q,7,FALSE),IF(S12=\"mittel\",VLOOKUP(V12,'Boden DüV-Bolap'!A:K,11,FALSE),IF(S12=\"schwer\",VLOOKUP(V12,'Boden DüV-Bolap'!A:R,15,FALSE))))))","v":""},{"$f":"IF(OR(F12=\"\",G12=\"\",S12=\"\",V12=\"\"),\"\",IF(V12>39,0,IF(AND(S12=\"leicht\",V12<14),VLOOKUP(V12,'Boden DüV-Bolap'!A:Q,8,FALSE),IF(AND(S12=\"leicht\",V12>13),VLOOKUP(V12,'Boden DüV-Bolap'!A:Q,9,FALSE)*(T12+U12)-(T12+U12),IF(AND(S12=\"mittel\",V12<18),VLOOKUP(V12,'Boden DüV-Bolap'!A:Q,12,FALSE),IF(AND(S12=\"mittel\",V12>17),VLOOKUP(V12,'Boden DüV-Bolap'!A:Q,13,FALSE)*(T12+U12)-(T12+U12),IF(AND(S12=\"schwer\",V12<22),VLOOKUP(V12,'Boden DüV-Bolap'!A:Q,16,FALSE),IF(AND(S12=\"schwer\",V12>21),VLOOKUP(V12,'Boden DüV-Bolap'!A:Q,17,FALSE)*(T12+U12)-(T12+U12)))))))))","v":""},{"$f":"IF(OR(F12=\"\",G12=\"\"),\"\",IF(OR(F12=\"A\",F12=\"HG\"),0,VLOOKUP(G12,'Tab 4+5 DüV+Abfuhr_G'!A:Q,16,FALSE)))","v":""},"","",{"$f":"IF(OR(F12=\"\",G12=\"\"),\"\",IF(F12=\"g\",VLOOKUP(G12,'Tab 4+5 DüV+Abfuhr_G'!A:N,14,FALSE)*'N-DBE'!J12,IF(F12=\"A\",VLOOKUP(G12,'Tab 2+3 DüV_A'!A:L,12,FALSE)*'N-DBE'!J12,VLOOKUP(G12,'H&G LfL'!B:U,20,FALSE)*'N-DBE'!J12)))","v":""},{"$f":"IF(OR(F12=\"\",G12=\"\"),\"\",IF(OR('N-DBE'!K12=\"\",'N-DBE'!M12=0),0,IF('N-DBE'!K12=0,-AB12,('N-DBE'!K12*AB12/'N-DBE'!J12)-AB12)))","v":""},{"$f":"IF(OR(B12=\"\",G12=\"\"),\"\",IF(VLOOKUP(B12,Schlagliste!B:J,9,FALSE)=\"\",\"\",VLOOKUP(B12,Schlagliste!B:J,9,FALSE)))","v":""},{"$f":"IF(OR(AD12=\"\",S12=\"\"),\"\",IF(AD12>39,0,IF(S12=\"leicht\",VLOOKUP(AD12,'Boden DüV-Bolap'!A:AA,19,FALSE),IF(S12=\"mittel\",VLOOKUP(AD12,'Boden DüV-Bolap'!A:AA,23,FALSE),IF(S12=\"schwer\",VLOOKUP(AD12,'Boden DüV-Bolap'!A:AA,27,FALSE))))))","v":""},{"$f":"IF(OR(F12=\"\",G12=\"\",S12=\"\",AD12=\"\"),\"\",IF(AD12>39,0,IF(AND(S12=\"leicht\",AD12<7),VLOOKUP(AD12,'Boden DüV-Bolap'!A:AC,20,FALSE),IF(AND(S12=\"leicht\",AD12>6),VLOOKUP(AD12,'Boden DüV-Bolap'!A:AC,21,FALSE)*(AB12+AC12)-(AB12+AC12),IF(AND(S12=\"mittel\",AD12<11),VLOOKUP(AD12,'Boden DüV-Bolap'!A:AC,24,FALSE),IF(AND(S12=\"mittel\",AD12>10),VLOOKUP(AD12,'Boden DüV-Bolap'!A:AC,25,FALSE)*(AB12+AC12)-(AB12+AC12),IF(AND(S12=\"schwer\",AD12<15),VLOOKUP(AD12,'Boden DüV-Bolap'!A:AC,28,FALSE),IF(AND(S12=\"schwer\",AD12>14),VLOOKUP(AD12,'Boden DüV-Bolap'!A:AC,29,FALSE)*(AB12+AC12)-(AB12+AC12)))))))))","v":""},{"$f":"IF(OR(F12=\"\",G12=\"\"),\"\",IF(OR(F12=\"A\",F12=\"HG\"),0,VLOOKUP(G12,'Tab 4+5 DüV+Abfuhr_G'!A:Q,17,FALSE)))","v":""},"",""]
[{"$f":"IF('N-DBE'!A13=\"\",\"\",'N-DBE'!A13)","v":""},{"$f":"IF('N-DBE'!B13=\"\",\"\",'N-DBE'!B13)","v":""},{"$f":"IF('N-DBE'!C13=\"\",\"\",'N-DBE'!C13)","v":""},{"$f":"IF('N-DBE'!D13=\"\",\"\",'N-DBE'!D13)","v":""},{"$f":"IF('N-DBE'!E13=\"\",\"\",'N-DBE'!E13)","v":""},{"$f":"IF('N-DBE'!F13=\"\",\"\",'N-DBE'!F13)","v":""},{"$f":"IF('N-DBE'!G13=\"\",\"\",'N-DBE'!G13)","v":""},{"$f":"IF(OR(F13=\"\",G13=\"\"),\"\",IF(F13=\"g\",VLOOKUP(G13,'Tab 4+5 DüV+Abfuhr_G'!A:N,12,FALSE)*'N-DBE'!J13,IF(F13=\"A\",VLOOKUP(G13,'Tab 2+3 DüV_A'!A:L,10,FALSE)*'N-DBE'!J13,VLOOKUP(G13,'H&G LfL'!B:U,18,FALSE)*'N-DBE'!J13)))","v":""},{"$f":"IF(OR(F13=\"\",G13=\"\"),\"\",IF(OR('N-DBE'!K13=\"\",'N-DBE'!M13=0),0,IF('N-DBE'!K13=0,-H13,('N-DBE'!K13*H13/'N-DBE'!J13)-H13)))","v":""},{"$f":"IF(OR(B13=\"\",G13=\"\"),\"\",IF(VLOOKUP(B13,Schlagliste!B:J,7,FALSE)=\"\",\"\",VLOOKUP(B13,Schlagliste!B:J,7,FALSE)))","v":""},{"$f":"IF(J13=\"\",\"\",IF(J13>39,\"E\",VLOOKUP(J13,'Boden DüV-Bolap'!A:B,2,FALSE)))","v":""},{"$f":"IF(J13=\"\",\"\",IF(J13>39,0,VLOOKUP(J13,'Boden DüV-Bolap'!A:C,3,FALSE)))","v":""},{"$f":"IF(OR(F13=\"\",G13=\"\"),\"\",IF(OR(F13=\"A\",F13=\"HG\"),0,VLOOKUP(G13,'Tab 4+5 DüV+Abfuhr_G'!A:Q,15,FALSE)))","v":""},"",{"$f":"IF(OR(F13=\"\",G13=\"\"),\"\",IF(J13=\"\",SUM(H13,I13),IF(OR(K13=\"D\",K13=\"E\"),(H13+M13)*VLOOKUP(K13,'Boden DüV-Bolap'!B:E,4,FALSE),SUM(H13,I13,L13,M13))))","v":""},"",null,"",{"$f":"IF(OR(B13=\"\",G13=\"\"),\"\",IF(VLOOKUP(B13,Schlagliste!B:J,5,FALSE)=\"\",\"\",VLOOKUP(B13,Schlagliste!B:J,5,FALSE)))","v":""},{"$f":"IF(OR(F13=\"\",G13=\"\"),\"\",IF(F13=\"g\",VLOOKUP(G13,'Tab 4+5 DüV+Abfuhr_G'!A:N,13,FALSE)*'N-DBE'!J13,IF(F13=\"A\",VLOOKUP(G13,'Tab 2+3 DüV_A'!A:L,11,FALSE)*'N-DBE'!J13,VLOOKUP(G13,'H&G LfL'!B:U,19,FALSE)*'N-DBE'!J13)))","v":""},{"$f":"IF(OR(F13=\"\",G13=\"\"),\"\",IF(OR('N-DBE'!K13=\"\",'N-DBE'!M13=0),0,IF('N-DBE'!K13=0,-T13,('N-DBE'!K13*T13/'N-DBE'!J13)-T13)))","v":""},{"$f":"IF(OR(B13=\"\",G13=\"\"),\"\",IF(VLOOKUP(B13,Schlagliste!B:J,8,FALSE)=\"\",\"\",VLOOKUP(B13,Schlagliste!B:J,8,FALSE)))","v":""},{"$f":"IF(OR(V13=\"\",S13=\"\"),\"\",IF(V13>39,0,IF(S13=\"leicht\",VLOOKUP(V13,'Boden DüV-Bolap'!A:Q,7,FALSE),IF(S13=\"mittel\",VLOOKUP(V13,'Boden DüV-Bolap'!A:K,11,FALSE),IF(S13=\"schwer\",VLOOKUP(V13,'Boden DüV-Bolap'!A:R,15,FALSE))))))","v":""},{"$f":"IF(OR(F13=\"\",G13=\"\",S13=\"\",V13=\"\"),\"\",IF(V13>39,0,IF(AND(S13=\"leicht\",V13<14),VLOOKUP(V13,'Boden DüV-Bolap'!A:Q,8,FALSE),IF(AND(S13=\"leicht\",V13>13),VLOOKUP(V13,'Boden DüV-Bolap'!A:Q,9,FALSE)*(T13+U13)-(T13+U13),IF(AND(S13=\"mittel\",V13<18),VLOOKUP(V13,'Boden DüV-Bolap'!A:Q,12,FALSE),IF(AND(S13=\"mittel\",V13>17),VLOOKUP(V13,'Boden DüV-Bolap'!A:Q,13,FALSE)*(T13+U13)-(T13+U13),IF(AND(S13=\"schwer\",V13<22),VLOOKUP(V13,'Boden DüV-Bolap'!A:Q,16,FALSE),IF(AND(S13=\"schwer\",V13>21),VLOOKUP(V13,'Boden DüV-Bolap'!A:Q,17,FALSE)*(T13+U13)-(T13+U13)))))))))","v":""},{"$f":"IF(OR(F13=\"\",G13=\"\"),\"\",IF(OR(F13=\"A\",F13=\"HG\"),0,VLOOKUP(G13,'Tab 4+5 DüV+Abfuhr_G'!A:Q,16,FALSE)))","v":""},"","",{"$f":"IF(OR(F13=\"\",G13=\"\"),\"\",IF(F13=\"g\",VLOOKUP(G13,'Tab 4+5 DüV+Abfuhr_G'!A:N,14,FALSE)*'N-DBE'!J13,IF(F13=\"A\",VLOOKUP(G13,'Tab 2+3 DüV_A'!A:L,12,FALSE)*'N-DBE'!J13,VLOOKUP(G13,'H&G LfL'!B:U,20,FALSE)*'N-DBE'!J13)))","v":""},{"$f":"IF(OR(F13=\"\",G13=\"\"),\"\",IF(OR('N-DBE'!K13=\"\",'N-DBE'!M13=0),0,IF('N-DBE'!K13=0,-AB13,('N-DBE'!K13*AB13/'N-DBE'!J13)-AB13)))","v":""},{"$f":"IF(OR(B13=\"\",G13=\"\"),\"\",IF(VLOOKUP(B13,Schlagliste!B:J,9,FALSE)=\"\",\"\",VLOOKUP(B13,Schlagliste!B:J,9,FALSE)))","v":""},{"$f":"IF(OR(AD13=\"\",S13=\"\"),\"\",IF(AD13>39,0,IF(S13=\"leicht\",VLOOKUP(AD13,'Boden DüV-Bolap'!A:AA,19,FALSE),IF(S13=\"mittel\",VLOOKUP(AD13,'Boden DüV-Bolap'!A:AA,23,FALSE),IF(S13=\"schwer\",VLOOKUP(AD13,'Boden DüV-Bolap'!A:AA,27,FALSE))))))","v":""},{"$f":"IF(OR(F13=\"\",G13=\"\",S13=\"\",AD13=\"\"),\"\",IF(AD13>39,0,IF(AND(S13=\"leicht\",AD13<7),VLOOKUP(AD13,'Boden DüV-Bolap'!A:AC,20,FALSE),IF(AND(S13=\"leicht\",AD13>6),VLOOKUP(AD13,'Boden DüV-Bolap'!A:AC,21,FALSE)*(AB13+AC13)-(AB13+AC13),IF(AND(S13=\"mittel\",AD13<11),VLOOKUP(AD13,'Boden DüV-Bolap'!A:AC,24,FALSE),IF(AND(S13=\"mittel\",AD13>10),VLOOKUP(AD13,'Boden DüV-Bolap'!A:AC,25,FALSE)*(AB13+AC13)-(AB13+AC13),IF(AND(S13=\"schwer\",AD13<15),VLOOKUP(AD13,'Boden DüV-Bolap'!A:AC,28,FALSE),IF(AND(S13=\"schwer\",AD13>14),VLOOKUP(AD13,'Boden DüV-Bolap'!A:AC,29,FALSE)*(AB13+AC13)-(AB13+AC13)))))))))","v":""},{"$f":"IF(OR(F13=\"\",G13=\"\"),\"\",IF(OR(F13=\"A\",F13=\"HG\"),0,VLOOKUP(G13,'Tab 4+5 DüV+Abfuhr_G'!A:Q,17,FALSE)))","v":""},"",""]
[{"$f":"IF('N-DBE'!A14=\"\",\"\",'N-DBE'!A14)","v":""},{"$f":"IF('N-DBE'!B14=\"\",\"\",'N-DBE'!B14)","v":""},{"$f":"IF('N-DBE'!C14=\"\",\"\",'N-DBE'!C14)","v":""},{"$f":"IF('N-DBE'!D14=\"\",\"\",'N-DBE'!D14)","v":""},{"$f":"IF('N-DBE'!E14=\"\",\"\",'N-DBE'!E14)","v":""},{"$f":"IF('N-DBE'!F14=\"\",\"\",'N-DBE'!F14)","v":""},{"$f":"IF('N-DBE'!G14=\"\",\"\",'N-DBE'!G14)","v":""},{"$f":"IF(OR(F14=\"\",G14=\"\"),\"\",IF(F14=\"g\",VLOOKUP(G14,'Tab 4+5 DüV+Abfuhr_G'!A:N,12,FALSE)*'N-DBE'!J14,IF(F14=\"A\",VLOOKUP(G14,'Tab 2+3 DüV_A'!A:L,10,FALSE)*'N-DBE'!J14,VLOOKUP(G14,'H&G LfL'!B:U,18,FALSE)*'N-DBE'!J14)))","v":""},{"$f":"IF(OR(F14=\"\",G14=\"\"),\"\",IF(OR('N-DBE'!K14=\"\",'N-DBE'!M14=0),0,IF('N-DBE'!K14=0,-H14,('N-DBE'!K14*H14/'N-DBE'!J14)-H14)))","v":""},{"$f":"IF(OR(B14=\"\",G14=\"\"),\"\",IF(VLOOKUP(B14,Schlagliste!B:J,7,FALSE)=\"\",\"\",VLOOKUP(B14,Schlagliste!B:J,7,FALSE)))","v":""},{"$f":"IF(J14=\"\",\"\",IF(J14>39,\"E\",VLOOKUP(J14,'Boden DüV-Bolap'!A:B,2,FALSE)))","v":""},{"$f":"IF(J14=\"\",\"\",IF(J14>39,0,VLOOKUP(J14,'Boden DüV-Bolap'!A:C,3,FALSE)))","v":""},{"$f":"IF(OR(F14=\"\",G14=\"\"),\"\",IF(OR(F14=\"A\",F14=\"HG\"),0,VLOOKUP(G14,'Tab 4+5 DüV+Abfuhr_G'!A:Q,15,FALSE)))","v":""},"",{"$f":"IF(OR(F14=\"\",G14=\"\"),\"\",IF(J14=\"\",SUM(H14,I14),IF(OR(K14=\"D\",K14=\"E\"),(H14+M14)*VLOOKUP(K14,'Boden DüV-Bolap'!B:E,4,FALSE),SUM(H14,I14,L14,M14))))","v":""},"",null,"",{"$f":"IF(OR(B14=\"\",G14=\"\"),\"\",IF(VLOOKUP(B14,Schlagliste!B:J,5,FALSE)=\"\",\"\",VLOOKUP(B14,Schlagliste!B:J,5,FALSE)))","v":""},{"$f":"IF(OR(F14=\"\",G14=\"\"),\"\",IF(F14=\"g\",VLOOKUP(G14,'Tab 4+5 DüV+Abfuhr_G'!A:N,13,FALSE)*'N-DBE'!J14,IF(F14=\"A\",VLOOKUP(G14,'Tab 2+3 DüV_A'!A:L,11,FALSE)*'N-DBE'!J14,VLOOKUP(G14,'H&G LfL'!B:U,19,FALSE)*'N-DBE'!J14)))","v":""},{"$f":"IF(OR(F14=\"\",G14=\"\"),\"\",IF(OR('N-DBE'!K14=\"\",'N-DBE'!M14=0),0,IF('N-DBE'!K14=0,-T14,('N-DBE'!K14*T14/'N-DBE'!J14)-T14)))","v":""},{"$f":"IF(OR(B14=\"\",G14=\"\"),\"\",IF(VLOOKUP(B14,Schlagliste!B:J,8,FALSE)=\"\",\"\",VLOOKUP(B14,Schlagliste!B:J,8,FALSE)))","v":""},{"$f":"IF(OR(V14=\"\",S14=\"\"),\"\",IF(V14>39,0,IF(S14=\"leicht\",VLOOKUP(V14,'Boden DüV-Bolap'!A:Q,7,FALSE),IF(S14=\"mittel\",VLOOKUP(V14,'Boden DüV-Bolap'!A:K,11,FALSE),IF(S14=\"schwer\",VLOOKUP(V14,'Boden DüV-Bolap'!A:R,15,FALSE))))))","v":""},{"$f":"IF(OR(F14=\"\",G14=\"\",S14=\"\",V14=\"\"),\"\",IF(V14>39,0,IF(AND(S14=\"leicht\",V14<14),VLOOKUP(V14,'Boden DüV-Bolap'!A:Q,8,FALSE),IF(AND(S14=\"leicht\",V14>13),VLOOKUP(V14,'Boden DüV-Bolap'!A:Q,9,FALSE)*(T14+U14)-(T14+U14),IF(AND(S14=\"mittel\",V14<18),VLOOKUP(V14,'Boden DüV-Bolap'!A:Q,12,FALSE),IF(AND(S14=\"mittel\",V14>17),VLOOKUP(V14,'Boden DüV-Bolap'!A:Q,13,FALSE)*(T14+U14)-(T14+U14),IF(AND(S14=\"schwer\",V14<22),VLOOKUP(V14,'Boden DüV-Bolap'!A:Q,16,FALSE),IF(AND(S14=\"schwer\",V14>21),VLOOKUP(V14,'Boden DüV-Bolap'!A:Q,17,FALSE)*(T14+U14)-(T14+U14)))))))))","v":""},{"$f":"IF(OR(F14=\"\",G14=\"\"),\"\",IF(OR(F14=\"A\",F14=\"HG\"),0,VLOOKUP(G14,'Tab 4+5 DüV+Abfuhr_G'!A:Q,16,FALSE)))","v":""},"","",{"$f":"IF(OR(F14=\"\",G14=\"\"),\"\",IF(F14=\"g\",VLOOKUP(G14,'Tab 4+5 DüV+Abfuhr_G'!A:N,14,FALSE)*'N-DBE'!J14,IF(F14=\"A\",VLOOKUP(G14,'Tab 2+3 DüV_A'!A:L,12,FALSE)*'N-DBE'!J14,VLOOKUP(G14,'H&G LfL'!B:U,20,FALSE)*'N-DBE'!J14)))","v":""},{"$f":"IF(OR(F14=\"\",G14=\"\"),\"\",IF(OR('N-DBE'!K14=\"\",'N-DBE'!M14=0),0,IF('N-DBE'!K14=0,-AB14,('N-DBE'!K14*AB14/'N-DBE'!J14)-AB14)))","v":""},{"$f":"IF(OR(B14=\"\",G14=\"\"),\"\",IF(VLOOKUP(B14,Schlagliste!B:J,9,FALSE)=\"\",\"\",VLOOKUP(B14,Schlagliste!B:J,9,FALSE)))","v":""},{"$f":"IF(OR(AD14=\"\",S14=\"\"),\"\",IF(AD14>39,0,IF(S14=\"leicht\",VLOOKUP(AD14,'Boden DüV-Bolap'!A:AA,19,FALSE),IF(S14=\"mittel\",VLOOKUP(AD14,'Boden DüV-Bolap'!A:AA,23,FALSE),IF(S14=\"schwer\",VLOOKUP(AD14,'Boden DüV-Bolap'!A:AA,27,FALSE))))))","v":""},{"$f":"IF(OR(F14=\"\",G14=\"\",S14=\"\",AD14=\"\"),\"\",IF(AD14>39,0,IF(AND(S14=\"leicht\",AD14<7),VLOOKUP(AD14,'Boden DüV-Bolap'!A:AC,20,FALSE),IF(AND(S14=\"leicht\",AD14>6),VLOOKUP(AD14,'Boden DüV-Bolap'!A:AC,21,FALSE)*(AB14+AC14)-(AB14+AC14),IF(AND(S14=\"mittel\",AD14<11),VLOOKUP(AD14,'Boden DüV-Bolap'!A:AC,24,FALSE),IF(AND(S14=\"mittel\",AD14>10),VLOOKUP(AD14,'Boden DüV-Bolap'!A:AC,25,FALSE)*(AB14+AC14)-(AB14+AC14),IF(AND(S14=\"schwer\",AD14<15),VLOOKUP(AD14,'Boden DüV-Bolap'!A:AC,28,FALSE),IF(AND(S14=\"schwer\",AD14>14),VLOOKUP(AD14,'Boden DüV-Bolap'!A:AC,29,FALSE)*(AB14+AC14)-(AB14+AC14)))))))))","v":""},{"$f":"IF(OR(F14=\"\",G14=\"\"),\"\",IF(OR(F14=\"A\",F14=\"HG\"),0,VLOOKUP(G14,'Tab 4+5 DüV+Abfuhr_G'!A:Q,17,FALSE)))","v":""},"",""]
[{"$f":"IF('N-DBE'!A15=\"\",\"\",'N-DBE'!A15)","v":""},{"$f":"IF('N-DBE'!B15=\"\",\"\",'N-DBE'!B15)","v":""},{"$f":"IF('N-DBE'!C15=\"\",\"\",'N-DBE'!C15)","v":""},{"$f":"IF('N-DBE'!D15=\"\",\"\",'N-DBE'!D15)","v":""},{"$f":"IF('N-DBE'!E15=\"\",\"\",'N-DBE'!E15)","v":""},{"$f":"IF('N-DBE'!F15=\"\",\"\",'N-DBE'!F15)","v":""},{"$f":"IF('N-DBE'!G15=\"\",\"\",'N-DBE'!G15)","v":""},{"$f":"IF(OR(F15=\"\",G15=\"\"),\"\",IF(F15=\"g\",VLOOKUP(G15,'Tab 4+5 DüV+Abfuhr_G'!A:N,12,FALSE)*'N-DBE'!J15,IF(F15=\"A\",VLOOKUP(G15,'Tab 2+3 DüV_A'!A:L,10,FALSE)*'N-DBE'!J15,VLOOKUP(G15,'H&G LfL'!B:U,18,FALSE)*'N-DBE'!J15)))","v":""},{"$f":"IF(OR(F15=\"\",G15=\"\"),\"\",IF(OR('N-DBE'!K15=\"\",'N-DBE'!M15=0),0,IF('N-DBE'!K15=0,-H15,('N-DBE'!K15*H15/'N-DBE'!J15)-H15)))","v":""},{"$f":"IF(OR(B15=\"\",G15=\"\"),\"\",IF(VLOOKUP(B15,Schlagliste!B:J,7,FALSE)=\"\",\"\",VLOOKUP(B15,Schlagliste!B:J,7,FALSE)))","v":""},{"$f":"IF(J15=\"\",\"\",IF(J15>39,\"E\",VLOOKUP(J15,'Boden DüV-Bolap'!A:B,2,FALSE)))","v":""},{"$f":"IF(J15=\"\",\"\",IF(J15>39,0,VLOOKUP(J15,'Boden DüV-Bolap'!A:C,3,FALSE)))","v":""},{"$f":"IF(OR(F15=\"\",G15=\"\"),\"\",IF(OR(F15=\"A\",F15=\"HG\"),0,VLOOKUP(G15,'Tab 4+5 DüV+Abfuhr_G'!A:Q,15,FALSE)))","v":""},"",{"$f":"IF(OR(F15=\"\",G15=\"\"),\"\",IF(J15=\"\",SUM(H15,I15),IF(OR(K15=\"D\",K15=\"E\"),(H15+M15)*VLOOKUP(K15,'Boden DüV-Bolap'!B:E,4,FALSE),SUM(H15,I15,L15,M15))))","v":""},"",null,"",{"$f":"IF(OR(B15=\"\",G15=\"\"),\"\",IF(VLOOKUP(B15,Schlagliste!B:J,5,FALSE)=\"\",\"\",VLOOKUP(B15,Schlagliste!B:J,5,FALSE)))","v":""},{"$f":"IF(OR(F15=\"\",G15=\"\"),\"\",IF(F15=\"g\",VLOOKUP(G15,'Tab 4+5 DüV+Abfuhr_G'!A:N,13,FALSE)*'N-DBE'!J15,IF(F15=\"A\",VLOOKUP(G15,'Tab 2+3 DüV_A'!A:L,11,FALSE)*'N-DBE'!J15,VLOOKUP(G15,'H&G LfL'!B:U,19,FALSE)*'N-DBE'!J15)))","v":""},{"$f":"IF(OR(F15=\"\",G15=\"\"),\"\",IF(OR('N-DBE'!K15=\"\",'N-DBE'!M15=0),0,IF('N-DBE'!K15=0,-T15,('N-DBE'!K15*T15/'N-DBE'!J15)-T15)))","v":""},{"$f":"IF(OR(B15=\"\",G15=\"\"),\"\",IF(VLOOKUP(B15,Schlagliste!B:J,8,FALSE)=\"\",\"\",VLOOKUP(B15,Schlagliste!B:J,8,FALSE)))","v":""},{"$f":"IF(OR(V15=\"\",S15=\"\"),\"\",IF(V15>39,0,IF(S15=\"leicht\",VLOOKUP(V15,'Boden DüV-Bolap'!A:Q,7,FALSE),IF(S15=\"mittel\",VLOOKUP(V15,'Boden DüV-Bolap'!A:K,11,FALSE),IF(S15=\"schwer\",VLOOKUP(V15,'Boden DüV-Bolap'!A:R,15,FALSE))))))","v":""},{"$f":"IF(OR(F15=\"\",G15=\"\",S15=\"\",V15=\"\"),\"\",IF(V15>39,0,IF(AND(S15=\"leicht\",V15<14),VLOOKUP(V15,'Boden DüV-Bolap'!A:Q,8,FALSE),IF(AND(S15=\"leicht\",V15>13),VLOOKUP(V15,'Boden DüV-Bolap'!A:Q,9,FALSE)*(T15+U15)-(T15+U15),IF(AND(S15=\"mittel\",V15<18),VLOOKUP(V15,'Boden DüV-Bolap'!A:Q,12,FALSE),IF(AND(S15=\"mittel\",V15>17),VLOOKUP(V15,'Boden DüV-Bolap'!A:Q,13,FALSE)*(T15+U15)-(T15+U15),IF(AND(S15=\"schwer\",V15<22),VLOOKUP(V15,'Boden DüV-Bolap'!A:Q,16,FALSE),IF(AND(S15=\"schwer\",V15>21),VLOOKUP(V15,'Boden DüV-Bolap'!A:Q,17,FALSE)*(T15+U15)-(T15+U15)))))))))","v":""},{"$f":"IF(OR(F15=\"\",G15=\"\"),\"\",IF(OR(F15=\"A\",F15=\"HG\"),0,VLOOKUP(G15,'Tab 4+5 DüV+Abfuhr_G'!A:Q,16,FALSE)))","v":""},"","",{"$f":"IF(OR(F15=\"\",G15=\"\"),\"\",IF(F15=\"g\",VLOOKUP(G15,'Tab 4+5 DüV+Abfuhr_G'!A:N,14,FALSE)*'N-DBE'!J15,IF(F15=\"A\",VLOOKUP(G15,'Tab 2+3 DüV_A'!A:L,12,FALSE)*'N-DBE'!J15,VLOOKUP(G15,'H&G LfL'!B:U,20,FALSE)*'N-DBE'!J15)))","v":""},{"$f":"IF(OR(F15=\"\",G15=\"\"),\"\",IF(OR('N-DBE'!K15=\"\",'N-DBE'!M15=0),0,IF('N-DBE'!K15=0,-AB15,('N-DBE'!K15*AB15/'N-DBE'!J15)-AB15)))","v":""},{"$f":"IF(OR(B15=\"\",G15=\"\"),\"\",IF(VLOOKUP(B15,Schlagliste!B:J,9,FALSE)=\"\",\"\",VLOOKUP(B15,Schlagliste!B:J,9,FALSE)))","v":""},{"$f":"IF(OR(AD15=\"\",S15=\"\"),\"\",IF(AD15>39,0,IF(S15=\"leicht\",VLOOKUP(AD15,'Boden DüV-Bolap'!A:AA,19,FALSE),IF(S15=\"mittel\",VLOOKUP(AD15,'Boden DüV-Bolap'!A:AA,23,FALSE),IF(S15=\"schwer\",VLOOKUP(AD15,'Boden DüV-Bolap'!A:AA,27,FALSE))))))","v":""},{"$f":"IF(OR(F15=\"\",G15=\"\",S15=\"\",AD15=\"\"),\"\",IF(AD15>39,0,IF(AND(S15=\"leicht\",AD15<7),VLOOKUP(AD15,'Boden DüV-Bolap'!A:AC,20,FALSE),IF(AND(S15=\"leicht\",AD15>6),VLOOKUP(AD15,'Boden DüV-Bolap'!A:AC,21,FALSE)*(AB15+AC15)-(AB15+AC15),IF(AND(S15=\"mittel\",AD15<11),VLOOKUP(AD15,'Boden DüV-Bolap'!A:AC,24,FALSE),IF(AND(S15=\"mittel\",AD15>10),VLOOKUP(AD15,'Boden DüV-Bolap'!A:AC,25,FALSE)*(AB15+AC15)-(AB15+AC15),IF(AND(S15=\"schwer\",AD15<15),VLOOKUP(AD15,'Boden DüV-Bolap'!A:AC,28,FALSE),IF(AND(S15=\"schwer\",AD15>14),VLOOKUP(AD15,'Boden DüV-Bolap'!A:AC,29,FALSE)*(AB15+AC15)-(AB15+AC15)))))))))","v":""},{"$f":"IF(OR(F15=\"\",G15=\"\"),\"\",IF(OR(F15=\"A\",F15=\"HG\"),0,VLOOKUP(G15,'Tab 4+5 DüV+Abfuhr_G'!A:Q,17,FALSE)))","v":""},"",""]
[{"$f":"IF('N-DBE'!A16=\"\",\"\",'N-DBE'!A16)","v":""},{"$f":"IF('N-DBE'!B16=\"\",\"\",'N-DBE'!B16)","v":""},{"$f":"IF('N-DBE'!C16=\"\",\"\",'N-DBE'!C16)","v":""},{"$f":"IF('N-DBE'!D16=\"\",\"\",'N-DBE'!D16)","v":""},{"$f":"IF('N-DBE'!E16=\"\",\"\",'N-DBE'!E16)","v":""},{"$f":"IF('N-DBE'!F16=\"\",\"\",'N-DBE'!F16)","v":""},{"$f":"IF('N-DBE'!G16=\"\",\"\",'N-DBE'!G16)","v":""},{"$f":"IF(OR(F16=\"\",G16=\"\"),\"\",IF(F16=\"g\",VLOOKUP(G16,'Tab 4+5 DüV+Abfuhr_G'!A:N,12,FALSE)*'N-DBE'!J16,IF(F16=\"A\",VLOOKUP(G16,'Tab 2+3 DüV_A'!A:L,10,FALSE)*'N-DBE'!J16,VLOOKUP(G16,'H&G LfL'!B:U,18,FALSE)*'N-DBE'!J16)))","v":""},{"$f":"IF(OR(F16=\"\",G16=\"\"),\"\",IF(OR('N-DBE'!K16=\"\",'N-DBE'!M16=0),0,IF('N-DBE'!K16=0,-H16,('N-DBE'!K16*H16/'N-DBE'!J16)-H16)))","v":""},{"$f":"IF(OR(B16=\"\",G16=\"\"),\"\",IF(VLOOKUP(B16,Schlagliste!B:J,7,FALSE)=\"\",\"\",VLOOKUP(B16,Schlagliste!B:J,7,FALSE)))","v":""},{"$f":"IF(J16=\"\",\"\",IF(J16>39,\"E\",VLOOKUP(J16,'Boden DüV-Bolap'!A:B,2,FALSE)))","v":""},{"$f":"IF(J16=\"\",\"\",IF(J16>39,0,VLOOKUP(J16,'Boden DüV-Bolap'!A:C,3,FALSE)))","v":""},{"$f":"IF(OR(F16=\"\",G16=\"\"),\"\",IF(OR(F16=\"A\",F16=\"HG\"),0,VLOOKUP(G16,'Tab 4+5 DüV+Abfuhr_G'!A:Q,15,FALSE)))","v":""},"",{"$f":"IF(OR(F16=\"\",G16=\"\"),\"\",IF(J16=\"\",SUM(H16,I16),IF(OR(K16=\"D\",K16=\"E\"),(H16+M16)*VLOOKUP(K16,'Boden DüV-Bolap'!B:E,4,FALSE),SUM(H16,I16,L16,M16))))","v":""},"",null,"",{"$f":"IF(OR(B16=\"\",G16=\"\"),\"\",IF(VLOOKUP(B16,Schlagliste!B:J,5,FALSE)=\"\",\"\",VLOOKUP(B16,Schlagliste!B:J,5,FALSE)))","v":""},{"$f":"IF(OR(F16=\"\",G16=\"\"),\"\",IF(F16=\"g\",VLOOKUP(G16,'Tab 4+5 DüV+Abfuhr_G'!A:N,13,FALSE)*'N-DBE'!J16,IF(F16=\"A\",VLOOKUP(G16,'Tab 2+3 DüV_A'!A:L,11,FALSE)*'N-DBE'!J16,VLOOKUP(G16,'H&G LfL'!B:U,19,FALSE)*'N-DBE'!J16)))","v":""},{"$f":"IF(OR(F16=\"\",G16=\"\"),\"\",IF(OR('N-DBE'!K16=\"\",'N-DBE'!M16=0),0,IF('N-DBE'!K16=0,-T16,('N-DBE'!K16*T16/'N-DBE'!J16)-T16)))","v":""},{"$f":"IF(OR(B16=\"\",G16=\"\"),\"\",IF(VLOOKUP(B16,Schlagliste!B:J,8,FALSE)=\"\",\"\",VLOOKUP(B16,Schlagliste!B:J,8,FALSE)))","v":""},{"$f":"IF(OR(V16=\"\",S16=\"\"),\"\",IF(V16>39,0,IF(S16=\"leicht\",VLOOKUP(V16,'Boden DüV-Bolap'!A:Q,7,FALSE),IF(S16=\"mittel\",VLOOKUP(V16,'Boden DüV-Bolap'!A:K,11,FALSE),IF(S16=\"schwer\",VLOOKUP(V16,'Boden DüV-Bolap'!A:R,15,FALSE))))))","v":""},{"$f":"IF(OR(F16=\"\",G16=\"\",S16=\"\",V16=\"\"),\"\",IF(V16>39,0,IF(AND(S16=\"leicht\",V16<14),VLOOKUP(V16,'Boden DüV-Bolap'!A:Q,8,FALSE),IF(AND(S16=\"leicht\",V16>13),VLOOKUP(V16,'Boden DüV-Bolap'!A:Q,9,FALSE)*(T16+U16)-(T16+U16),IF(AND(S16=\"mittel\",V16<18),VLOOKUP(V16,'Boden DüV-Bolap'!A:Q,12,FALSE),IF(AND(S16=\"mittel\",V16>17),VLOOKUP(V16,'Boden DüV-Bolap'!A:Q,13,FALSE)*(T16+U16)-(T16+U16),IF(AND(S16=\"schwer\",V16<22),VLOOKUP(V16,'Boden DüV-Bolap'!A:Q,16,FALSE),IF(AND(S16=\"schwer\",V16>21),VLOOKUP(V16,'Boden DüV-Bolap'!A:Q,17,FALSE)*(T16+U16)-(T16+U16)))))))))","v":""},{"$f":"IF(OR(F16=\"\",G16=\"\"),\"\",IF(OR(F16=\"A\",F16=\"HG\"),0,VLOOKUP(G16,'Tab 4+5 DüV+Abfuhr_G'!A:Q,16,FALSE)))","v":""},"","",{"$f":"IF(OR(F16=\"\",G16=\"\"),\"\",IF(F16=\"g\",VLOOKUP(G16,'Tab 4+5 DüV+Abfuhr_G'!A:N,14,FALSE)*'N-DBE'!J16,IF(F16=\"A\",VLOOKUP(G16,'Tab 2+3 DüV_A'!A:L,12,FALSE)*'N-DBE'!J16,VLOOKUP(G16,'H&G LfL'!B:U,20,FALSE)*'N-DBE'!J16)))","v":""},{"$f":"IF(OR(F16=\"\",G16=\"\"),\"\",IF(OR('N-DBE'!K16=\"\",'N-DBE'!M16=0),0,IF('N-DBE'!K16=0,-AB16,('N-DBE'!K16*AB16/'N-DBE'!J16)-AB16)))","v":""},{"$f":"IF(OR(B16=\"\",G16=\"\"),\"\",IF(VLOOKUP(B16,Schlagliste!B:J,9,FALSE)=\"\",\"\",VLOOKUP(B16,Schlagliste!B:J,9,FALSE)))","v":""},{"$f":"IF(OR(AD16=\"\",S16=\"\"),\"\",IF(AD16>39,0,IF(S16=\"leicht\",VLOOKUP(AD16,'Boden DüV-Bolap'!A:AA,19,FALSE),IF(S16=\"mittel\",VLOOKUP(AD16,'Boden DüV-Bolap'!A:AA,23,FALSE),IF(S16=\"schwer\",VLOOKUP(AD16,'Boden DüV-Bolap'!A:AA,27,FALSE))))))","v":""},{"$f":"IF(OR(F16=\"\",G16=\"\",S16=\"\",AD16=\"\"),\"\",IF(AD16>39,0,IF(AND(S16=\"leicht\",AD16<7),VLOOKUP(AD16,'Boden DüV-Bolap'!A:AC,20,FALSE),IF(AND(S16=\"leicht\",AD16>6),VLOOKUP(AD16,'Boden DüV-Bolap'!A:AC,21,FALSE)*(AB16+AC16)-(AB16+AC16),IF(AND(S16=\"mittel\",AD16<11),VLOOKUP(AD16,'Boden DüV-Bolap'!A:AC,24,FALSE),IF(AND(S16=\"mittel\",AD16>10),VLOOKUP(AD16,'Boden DüV-Bolap'!A:AC,25,FALSE)*(AB16+AC16)-(AB16+AC16),IF(AND(S16=\"schwer\",AD16<15),VLOOKUP(AD16,'Boden DüV-Bolap'!A:AC,28,FALSE),IF(AND(S16=\"schwer\",AD16>14),VLOOKUP(AD16,'Boden DüV-Bolap'!A:AC,29,FALSE)*(AB16+AC16)-(AB16+AC16)))))))))","v":""},{"$f":"IF(OR(F16=\"\",G16=\"\"),\"\",IF(OR(F16=\"A\",F16=\"HG\"),0,VLOOKUP(G16,'Tab 4+5 DüV+Abfuhr_G'!A:Q,17,FALSE)))","v":""},"",""]
[{"$f":"IF('N-DBE'!A17=\"\",\"\",'N-DBE'!A17)","v":""},{"$f":"IF('N-DBE'!B17=\"\",\"\",'N-DBE'!B17)","v":""},{"$f":"IF('N-DBE'!C17=\"\",\"\",'N-DBE'!C17)","v":""},{"$f":"IF('N-DBE'!D17=\"\",\"\",'N-DBE'!D17)","v":""},{"$f":"IF('N-DBE'!E17=\"\",\"\",'N-DBE'!E17)","v":""},{"$f":"IF('N-DBE'!F17=\"\",\"\",'N-DBE'!F17)","v":""},{"$f":"IF('N-DBE'!G17=\"\",\"\",'N-DBE'!G17)","v":""},{"$f":"IF(OR(F17=\"\",G17=\"\"),\"\",IF(F17=\"g\",VLOOKUP(G17,'Tab 4+5 DüV+Abfuhr_G'!A:N,12,FALSE)*'N-DBE'!J17,IF(F17=\"A\",VLOOKUP(G17,'Tab 2+3 DüV_A'!A:L,10,FALSE)*'N-DBE'!J17,VLOOKUP(G17,'H&G LfL'!B:U,18,FALSE)*'N-DBE'!J17)))","v":""},{"$f":"IF(OR(F17=\"\",G17=\"\"),\"\",IF(OR('N-DBE'!K17=\"\",'N-DBE'!M17=0),0,IF('N-DBE'!K17=0,-H17,('N-DBE'!K17*H17/'N-DBE'!J17)-H17)))","v":""},{"$f":"IF(OR(B17=\"\",G17=\"\"),\"\",IF(VLOOKUP(B17,Schlagliste!B:J,7,FALSE)=\"\",\"\",VLOOKUP(B17,Schlagliste!B:J,7,FALSE)))","v":""},{"$f":"IF(J17=\"\",\"\",IF(J17>39,\"E\",VLOOKUP(J17,'Boden DüV-Bolap'!A:B,2,FALSE)))","v":""},{"$f":"IF(J17=\"\",\"\",IF(J17>39,0,VLOOKUP(J17,'Boden DüV-Bolap'!A:C,3,FALSE)))","v":""},{"$f":"IF(OR(F17=\"\",G17=\"\"),\"\",IF(OR(F17=\"A\",F17=\"HG\"),0,VLOOKUP(G17,'Tab 4+5 DüV+Abfuhr_G'!A:Q,15,FALSE)))","v":""},"",{"$f":"IF(OR(F17=\"\",G17=\"\"),\"\",IF(J17=\"\",SUM(H17,I17),IF(OR(K17=\"D\",K17=\"E\"),(H17+M17)*VLOOKUP(K17,'Boden DüV-Bolap'!B:E,4,FALSE),SUM(H17,I17,L17,M17))))","v":""},"",null,"",{"$f":"IF(OR(B17=\"\",G17=\"\"),\"\",IF(VLOOKUP(B17,Schlagliste!B:J,5,FALSE)=\"\",\"\",VLOOKUP(B17,Schlagliste!B:J,5,FALSE)))","v":""},{"$f":"IF(OR(F17=\"\",G17=\"\"),\"\",IF(F17=\"g\",VLOOKUP(G17,'Tab 4+5 DüV+Abfuhr_G'!A:N,13,FALSE)*'N-DBE'!J17,IF(F17=\"A\",VLOOKUP(G17,'Tab 2+3 DüV_A'!A:L,11,FALSE)*'N-DBE'!J17,VLOOKUP(G17,'H&G LfL'!B:U,19,FALSE)*'N-DBE'!J17)))","v":""},{"$f":"IF(OR(F17=\"\",G17=\"\"),\"\",IF(OR('N-DBE'!K17=\"\",'N-DBE'!M17=0),0,IF('N-DBE'!K17=0,-T17,('N-DBE'!K17*T17/'N-DBE'!J17)-T17)))","v":""},{"$f":"IF(OR(B17=\"\",G17=\"\"),\"\",IF(VLOOKUP(B17,Schlagliste!B:J,8,FALSE)=\"\",\"\",VLOOKUP(B17,Schlagliste!B:J,8,FALSE)))","v":""},{"$f":"IF(OR(V17=\"\",S17=\"\"),\"\",IF(V17>39,0,IF(S17=\"leicht\",VLOOKUP(V17,'Boden DüV-Bolap'!A:Q,7,FALSE),IF(S17=\"mittel\",VLOOKUP(V17,'Boden DüV-Bolap'!A:K,11,FALSE),IF(S17=\"schwer\",VLOOKUP(V17,'Boden DüV-Bolap'!A:R,15,FALSE))))))","v":""},{"$f":"IF(OR(F17=\"\",G17=\"\",S17=\"\",V17=\"\"),\"\",IF(V17>39,0,IF(AND(S17=\"leicht\",V17<14),VLOOKUP(V17,'Boden DüV-Bolap'!A:Q,8,FALSE),IF(AND(S17=\"leicht\",V17>13),VLOOKUP(V17,'Boden DüV-Bolap'!A:Q,9,FALSE)*(T17+U17)-(T17+U17),IF(AND(S17=\"mittel\",V17<18),VLOOKUP(V17,'Boden DüV-Bolap'!A:Q,12,FALSE),IF(AND(S17=\"mittel\",V17>17),VLOOKUP(V17,'Boden DüV-Bolap'!A:Q,13,FALSE)*(T17+U17)-(T17+U17),IF(AND(S17=\"schwer\",V17<22),VLOOKUP(V17,'Boden DüV-Bolap'!A:Q,16,FALSE),IF(AND(S17=\"schwer\",V17>21),VLOOKUP(V17,'Boden DüV-Bolap'!A:Q,17,FALSE)*(T17+U17)-(T17+U17)))))))))","v":""},{"$f":"IF(OR(F17=\"\",G17=\"\"),\"\",IF(OR(F17=\"A\",F17=\"HG\"),0,VLOOKUP(G17,'Tab 4+5 DüV+Abfuhr_G'!A:Q,16,FALSE)))","v":""},"","",{"$f":"IF(OR(F17=\"\",G17=\"\"),\"\",IF(F17=\"g\",VLOOKUP(G17,'Tab 4+5 DüV+Abfuhr_G'!A:N,14,FALSE)*'N-DBE'!J17,IF(F17=\"A\",VLOOKUP(G17,'Tab 2+3 DüV_A'!A:L,12,FALSE)*'N-DBE'!J17,VLOOKUP(G17,'H&G LfL'!B:U,20,FALSE)*'N-DBE'!J17)))","v":""},{"$f":"IF(OR(F17=\"\",G17=\"\"),\"\",IF(OR('N-DBE'!K17=\"\",'N-DBE'!M17=0),0,IF('N-DBE'!K17=0,-AB17,('N-DBE'!K17*AB17/'N-DBE'!J17)-AB17)))","v":""},{"$f":"IF(OR(B17=\"\",G17=\"\"),\"\",IF(VLOOKUP(B17,Schlagliste!B:J,9,FALSE)=\"\",\"\",VLOOKUP(B17,Schlagliste!B:J,9,FALSE)))","v":""},{"$f":"IF(OR(AD17=\"\",S17=\"\"),\"\",IF(AD17>39,0,IF(S17=\"leicht\",VLOOKUP(AD17,'Boden DüV-Bolap'!A:AA,19,FALSE),IF(S17=\"mittel\",VLOOKUP(AD17,'Boden DüV-Bolap'!A:AA,23,FALSE),IF(S17=\"schwer\",VLOOKUP(AD17,'Boden DüV-Bolap'!A:AA,27,FALSE))))))","v":""},{"$f":"IF(OR(F17=\"\",G17=\"\",S17=\"\",AD17=\"\"),\"\",IF(AD17>39,0,IF(AND(S17=\"leicht\",AD17<7),VLOOKUP(AD17,'Boden DüV-Bolap'!A:AC,20,FALSE),IF(AND(S17=\"leicht\",AD17>6),VLOOKUP(AD17,'Boden DüV-Bolap'!A:AC,21,FALSE)*(AB17+AC17)-(AB17+AC17),IF(AND(S17=\"mittel\",AD17<11),VLOOKUP(AD17,'Boden DüV-Bolap'!A:AC,24,FALSE),IF(AND(S17=\"mittel\",AD17>10),VLOOKUP(AD17,'Boden DüV-Bolap'!A:AC,25,FALSE)*(AB17+AC17)-(AB17+AC17),IF(AND(S17=\"schwer\",AD17<15),VLOOKUP(AD17,'Boden DüV-Bolap'!A:AC,28,FALSE),IF(AND(S17=\"schwer\",AD17>14),VLOOKUP(AD17,'Boden DüV-Bolap'!A:AC,29,FALSE)*(AB17+AC17)-(AB17+AC17)))))))))","v":""},{"$f":"IF(OR(F17=\"\",G17=\"\"),\"\",IF(OR(F17=\"A\",F17=\"HG\"),0,VLOOKUP(G17,'Tab 4+5 DüV+Abfuhr_G'!A:Q,17,FALSE)))","v":""},"",""]
[{"$f":"IF('N-DBE'!A18=\"\",\"\",'N-DBE'!A18)","v":""},{"$f":"IF('N-DBE'!B18=\"\",\"\",'N-DBE'!B18)","v":""},{"$f":"IF('N-DBE'!C18=\"\",\"\",'N-DBE'!C18)","v":""},{"$f":"IF('N-DBE'!D18=\"\",\"\",'N-DBE'!D18)","v":""},{"$f":"IF('N-DBE'!E18=\"\",\"\",'N-DBE'!E18)","v":""},{"$f":"IF('N-DBE'!F18=\"\",\"\",'N-DBE'!F18)","v":""},{"$f":"IF('N-DBE'!G18=\"\",\"\",'N-DBE'!G18)","v":""},{"$f":"IF(OR(F18=\"\",G18=\"\"),\"\",IF(F18=\"g\",VLOOKUP(G18,'Tab 4+5 DüV+Abfuhr_G'!A:N,12,FALSE)*'N-DBE'!J18,IF(F18=\"A\",VLOOKUP(G18,'Tab 2+3 DüV_A'!A:L,10,FALSE)*'N-DBE'!J18,VLOOKUP(G18,'H&G LfL'!B:U,18,FALSE)*'N-DBE'!J18)))","v":""},{"$f":"IF(OR(F18=\"\",G18=\"\"),\"\",IF(OR('N-DBE'!K18=\"\",'N-DBE'!M18=0),0,IF('N-DBE'!K18=0,-H18,('N-DBE'!K18*H18/'N-DBE'!J18)-H18)))","v":""},{"$f":"IF(OR(B18=\"\",G18=\"\"),\"\",IF(VLOOKUP(B18,Schlagliste!B:J,7,FALSE)=\"\",\"\",VLOOKUP(B18,Schlagliste!B:J,7,FALSE)))","v":""},{"$f":"IF(J18=\"\",\"\",IF(J18>39,\"E\",VLOOKUP(J18,'Boden DüV-Bolap'!A:B,2,FALSE)))","v":""},{"$f":"IF(J18=\"\",\"\",IF(J18>39,0,VLOOKUP(J18,'Boden DüV-Bolap'!A:C,3,FALSE)))","v":""},{"$f":"IF(OR(F18=\"\",G18=\"\"),\"\",IF(OR(F18=\"A\",F18=\"HG\"),0,VLOOKUP(G18,'Tab 4+5 DüV+Abfuhr_G'!A:Q,15,FALSE)))","v":""},"",{"$f":"IF(OR(F18=\"\",G18=\"\"),\"\",IF(J18=\"\",SUM(H18,I18),IF(OR(K18=\"D\",K18=\"E\"),(H18+M18)*VLOOKUP(K18,'Boden DüV-Bolap'!B:E,4,FALSE),SUM(H18,I18,L18,M18))))","v":""},"",null,"",{"$f":"IF(OR(B18=\"\",G18=\"\"),\"\",IF(VLOOKUP(B18,Schlagliste!B:J,5,FALSE)=\"\",\"\",VLOOKUP(B18,Schlagliste!B:J,5,FALSE)))","v":""},{"$f":"IF(OR(F18=\"\",G18=\"\"),\"\",IF(F18=\"g\",VLOOKUP(G18,'Tab 4+5 DüV+Abfuhr_G'!A:N,13,FALSE)*'N-DBE'!J18,IF(F18=\"A\",VLOOKUP(G18,'Tab 2+3 DüV_A'!A:L,11,FALSE)*'N-DBE'!J18,VLOOKUP(G18,'H&G LfL'!B:U,19,FALSE)*'N-DBE'!J18)))","v":""},{"$f":"IF(OR(F18=\"\",G18=\"\"),\"\",IF(OR('N-DBE'!K18=\"\",'N-DBE'!M18=0),0,IF('N-DBE'!K18=0,-T18,('N-DBE'!K18*T18/'N-DBE'!J18)-T18)))","v":""},{"$f":"IF(OR(B18=\"\",G18=\"\"),\"\",IF(VLOOKUP(B18,Schlagliste!B:J,8,FALSE)=\"\",\"\",VLOOKUP(B18,Schlagliste!B:J,8,FALSE)))","v":""},{"$f":"IF(OR(V18=\"\",S18=\"\"),\"\",IF(V18>39,0,IF(S18=\"leicht\",VLOOKUP(V18,'Boden DüV-Bolap'!A:Q,7,FALSE),IF(S18=\"mittel\",VLOOKUP(V18,'Boden DüV-Bolap'!A:K,11,FALSE),IF(S18=\"schwer\",VLOOKUP(V18,'Boden DüV-Bolap'!A:R,15,FALSE))))))","v":""},{"$f":"IF(OR(F18=\"\",G18=\"\",S18=\"\",V18=\"\"),\"\",IF(V18>39,0,IF(AND(S18=\"leicht\",V18<14),VLOOKUP(V18,'Boden DüV-Bolap'!A:Q,8,FALSE),IF(AND(S18=\"leicht\",V18>13),VLOOKUP(V18,'Boden DüV-Bolap'!A:Q,9,FALSE)*(T18+U18)-(T18+U18),IF(AND(S18=\"mittel\",V18<18),VLOOKUP(V18,'Boden DüV-Bolap'!A:Q,12,FALSE),IF(AND(S18=\"mittel\",V18>17),VLOOKUP(V18,'Boden DüV-Bolap'!A:Q,13,FALSE)*(T18+U18)-(T18+U18),IF(AND(S18=\"schwer\",V18<22),VLOOKUP(V18,'Boden DüV-Bolap'!A:Q,16,FALSE),IF(AND(S18=\"schwer\",V18>21),VLOOKUP(V18,'Boden DüV-Bolap'!A:Q,17,FALSE)*(T18+U18)-(T18+U18)))))))))","v":""},{"$f":"IF(OR(F18=\"\",G18=\"\"),\"\",IF(OR(F18=\"A\",F18=\"HG\"),0,VLOOKUP(G18,'Tab 4+5 DüV+Abfuhr_G'!A:Q,16,FALSE)))","v":""},"","",{"$f":"IF(OR(F18=\"\",G18=\"\"),\"\",IF(F18=\"g\",VLOOKUP(G18,'Tab 4+5 DüV+Abfuhr_G'!A:N,14,FALSE)*'N-DBE'!J18,IF(F18=\"A\",VLOOKUP(G18,'Tab 2+3 DüV_A'!A:L,12,FALSE)*'N-DBE'!J18,VLOOKUP(G18,'H&G LfL'!B:U,20,FALSE)*'N-DBE'!J18)))","v":""},{"$f":"IF(OR(F18=\"\",G18=\"\"),\"\",IF(OR('N-DBE'!K18=\"\",'N-DBE'!M18=0),0,IF('N-DBE'!K18=0,-AB18,('N-DBE'!K18*AB18/'N-DBE'!J18)-AB18)))","v":""},{"$f":"IF(OR(B18=\"\",G18=\"\"),\"\",IF(VLOOKUP(B18,Schlagliste!B:J,9,FALSE)=\"\",\"\",VLOOKUP(B18,Schlagliste!B:J,9,FALSE)))","v":""},{"$f":"IF(OR(AD18=\"\",S18=\"\"),\"\",IF(AD18>39,0,IF(S18=\"leicht\",VLOOKUP(AD18,'Boden DüV-Bolap'!A:AA,19,FALSE),IF(S18=\"mittel\",VLOOKUP(AD18,'Boden DüV-Bolap'!A:AA,23,FALSE),IF(S18=\"schwer\",VLOOKUP(AD18,'Boden DüV-Bolap'!A:AA,27,FALSE))))))","v":""},{"$f":"IF(OR(F18=\"\",G18=\"\",S18=\"\",AD18=\"\"),\"\",IF(AD18>39,0,IF(AND(S18=\"leicht\",AD18<7),VLOOKUP(AD18,'Boden DüV-Bolap'!A:AC,20,FALSE),IF(AND(S18=\"leicht\",AD18>6),VLOOKUP(AD18,'Boden DüV-Bolap'!A:AC,21,FALSE)*(AB18+AC18)-(AB18+AC18),IF(AND(S18=\"mittel\",AD18<11),VLOOKUP(AD18,'Boden DüV-Bolap'!A:AC,24,FALSE),IF(AND(S18=\"mittel\",AD18>10),VLOOKUP(AD18,'Boden DüV-Bolap'!A:AC,25,FALSE)*(AB18+AC18)-(AB18+AC18),IF(AND(S18=\"schwer\",AD18<15),VLOOKUP(AD18,'Boden DüV-Bolap'!A:AC,28,FALSE),IF(AND(S18=\"schwer\",AD18>14),VLOOKUP(AD18,'Boden DüV-Bolap'!A:AC,29,FALSE)*(AB18+AC18)-(AB18+AC18)))))))))","v":""},{"$f":"IF(OR(F18=\"\",G18=\"\"),\"\",IF(OR(F18=\"A\",F18=\"HG\"),0,VLOOKUP(G18,'Tab 4+5 DüV+Abfuhr_G'!A:Q,17,FALSE)))","v":""},"",""]
[{"$f":"IF('N-DBE'!A19=\"\",\"\",'N-DBE'!A19)","v":""},{"$f":"IF('N-DBE'!B19=\"\",\"\",'N-DBE'!B19)","v":""},{"$f":"IF('N-DBE'!C19=\"\",\"\",'N-DBE'!C19)","v":""},{"$f":"IF('N-DBE'!D19=\"\",\"\",'N-DBE'!D19)","v":""},{"$f":"IF('N-DBE'!E19=\"\",\"\",'N-DBE'!E19)","v":""},{"$f":"IF('N-DBE'!F19=\"\",\"\",'N-DBE'!F19)","v":""},{"$f":"IF('N-DBE'!G19=\"\",\"\",'N-DBE'!G19)","v":""},{"$f":"IF(OR(F19=\"\",G19=\"\"),\"\",IF(F19=\"g\",VLOOKUP(G19,'Tab 4+5 DüV+Abfuhr_G'!A:N,12,FALSE)*'N-DBE'!J19,IF(F19=\"A\",VLOOKUP(G19,'Tab 2+3 DüV_A'!A:L,10,FALSE)*'N-DBE'!J19,VLOOKUP(G19,'H&G LfL'!B:U,18,FALSE)*'N-DBE'!J19)))","v":""},{"$f":"IF(OR(F19=\"\",G19=\"\"),\"\",IF(OR('N-DBE'!K19=\"\",'N-DBE'!M19=0),0,IF('N-DBE'!K19=0,-H19,('N-DBE'!K19*H19/'N-DBE'!J19)-H19)))","v":""},{"$f":"IF(OR(B19=\"\",G19=\"\"),\"\",IF(VLOOKUP(B19,Schlagliste!B:J,7,FALSE)=\"\",\"\",VLOOKUP(B19,Schlagliste!B:J,7,FALSE)))","v":""},{"$f":"IF(J19=\"\",\"\",IF(J19>39,\"E\",VLOOKUP(J19,'Boden DüV-Bolap'!A:B,2,FALSE)))","v":""},{"$f":"IF(J19=\"\",\"\",IF(J19>39,0,VLOOKUP(J19,'Boden DüV-Bolap'!A:C,3,FALSE)))","v":""},{"$f":"IF(OR(F19=\"\",G19=\"\"),\"\",IF(OR(F19=\"A\",F19=\"HG\"),0,VLOOKUP(G19,'Tab 4+5 DüV+Abfuhr_G'!A:Q,15,FALSE)))","v":""},"",{"$f":"IF(OR(F19=\"\",G19=\"\"),\"\",IF(J19=\"\",SUM(H19,I19),IF(OR(K19=\"D\",K19=\"E\"),(H19+M19)*VLOOKUP(K19,'Boden DüV-Bolap'!B:E,4,FALSE),SUM(H19,I19,L19,M19))))","v":""},"",null,"",{"$f":"IF(OR(B19=\"\",G19=\"\"),\"\",IF(VLOOKUP(B19,Schlagliste!B:J,5,FALSE)=\"\",\"\",VLOOKUP(B19,Schlagliste!B:J,5,FALSE)))","v":""},{"$f":"IF(OR(F19=\"\",G19=\"\"),\"\",IF(F19=\"g\",VLOOKUP(G19,'Tab 4+5 DüV+Abfuhr_G'!A:N,13,FALSE)*'N-DBE'!J19,IF(F19=\"A\",VLOOKUP(G19,'Tab 2+3 DüV_A'!A:L,11,FALSE)*'N-DBE'!J19,VLOOKUP(G19,'H&G LfL'!B:U,19,FALSE)*'N-DBE'!J19)))","v":""},{"$f":"IF(OR(F19=\"\",G19=\"\"),\"\",IF(OR('N-DBE'!K19=\"\",'N-DBE'!M19=0),0,IF('N-DBE'!K19=0,-T19,('N-DBE'!K19*T19/'N-DBE'!J19)-T19)))","v":""},{"$f":"IF(OR(B19=\"\",G19=\"\"),\"\",IF(VLOOKUP(B19,Schlagliste!B:J,8,FALSE)=\"\",\"\",VLOOKUP(B19,Schlagliste!B:J,8,FALSE)))","v":""},{"$f":"IF(OR(V19=\"\",S19=\"\"),\"\",IF(V19>39,0,IF(S19=\"leicht\",VLOOKUP(V19,'Boden DüV-Bolap'!A:Q,7,FALSE),IF(S19=\"mittel\",VLOOKUP(V19,'Boden DüV-Bolap'!A:K,11,FALSE),IF(S19=\"schwer\",VLOOKUP(V19,'Boden DüV-Bolap'!A:R,15,FALSE))))))","v":""},{"$f":"IF(OR(F19=\"\",G19=\"\",S19=\"\",V19=\"\"),\"\",IF(V19>39,0,IF(AND(S19=\"leicht\",V19<14),VLOOKUP(V19,'Boden DüV-Bolap'!A:Q,8,FALSE),IF(AND(S19=\"leicht\",V19>13),VLOOKUP(V19,'Boden DüV-Bolap'!A:Q,9,FALSE)*(T19+U19)-(T19+U19),IF(AND(S19=\"mittel\",V19<18),VLOOKUP(V19,'Boden DüV-Bolap'!A:Q,12,FALSE),IF(AND(S19=\"mittel\",V19>17),VLOOKUP(V19,'Boden DüV-Bolap'!A:Q,13,FALSE)*(T19+U19)-(T19+U19),IF(AND(S19=\"schwer\",V19<22),VLOOKUP(V19,'Boden DüV-Bolap'!A:Q,16,FALSE),IF(AND(S19=\"schwer\",V19>21),VLOOKUP(V19,'Boden DüV-Bolap'!A:Q,17,FALSE)*(T19+U19)-(T19+U19)))))))))","v":""},{"$f":"IF(OR(F19=\"\",G19=\"\"),\"\",IF(OR(F19=\"A\",F19=\"HG\"),0,VLOOKUP(G19,'Tab 4+5 DüV+Abfuhr_G'!A:Q,16,FALSE)))","v":""},"","",{"$f":"IF(OR(F19=\"\",G19=\"\"),\"\",IF(F19=\"g\",VLOOKUP(G19,'Tab 4+5 DüV+Abfuhr_G'!A:N,14,FALSE)*'N-DBE'!J19,IF(F19=\"A\",VLOOKUP(G19,'Tab 2+3 DüV_A'!A:L,12,FALSE)*'N-DBE'!J19,VLOOKUP(G19,'H&G LfL'!B:U,20,FALSE)*'N-DBE'!J19)))","v":""},{"$f":"IF(OR(F19=\"\",G19=\"\"),\"\",IF(OR('N-DBE'!K19=\"\",'N-DBE'!M19=0),0,IF('N-DBE'!K19=0,-AB19,('N-DBE'!K19*AB19/'N-DBE'!J19)-AB19)))","v":""},{"$f":"IF(OR(B19=\"\",G19=\"\"),\"\",IF(VLOOKUP(B19,Schlagliste!B:J,9,FALSE)=\"\",\"\",VLOOKUP(B19,Schlagliste!B:J,9,FALSE)))","v":""},{"$f":"IF(OR(AD19=\"\",S19=\"\"),\"\",IF(AD19>39,0,IF(S19=\"leicht\",VLOOKUP(AD19,'Boden DüV-Bolap'!A:AA,19,FALSE),IF(S19=\"mittel\",VLOOKUP(AD19,'Boden DüV-Bolap'!A:AA,23,FALSE),IF(S19=\"schwer\",VLOOKUP(AD19,'Boden DüV-Bolap'!A:AA,27,FALSE))))))","v":""},{"$f":"IF(OR(F19=\"\",G19=\"\",S19=\"\",AD19=\"\"),\"\",IF(AD19>39,0,IF(AND(S19=\"leicht\",AD19<7),VLOOKUP(AD19,'Boden DüV-Bolap'!A:AC,20,FALSE),IF(AND(S19=\"leicht\",AD19>6),VLOOKUP(AD19,'Boden DüV-Bolap'!A:AC,21,FALSE)*(AB19+AC19)-(AB19+AC19),IF(AND(S19=\"mittel\",AD19<11),VLOOKUP(AD19,'Boden DüV-Bolap'!A:AC,24,FALSE),IF(AND(S19=\"mittel\",AD19>10),VLOOKUP(AD19,'Boden DüV-Bolap'!A:AC,25,FALSE)*(AB19+AC19)-(AB19+AC19),IF(AND(S19=\"schwer\",AD19<15),VLOOKUP(AD19,'Boden DüV-Bolap'!A:AC,28,FALSE),IF(AND(S19=\"schwer\",AD19>14),VLOOKUP(AD19,'Boden DüV-Bolap'!A:AC,29,FALSE)*(AB19+AC19)-(AB19+AC19)))))))))","v":""},{"$f":"IF(OR(F19=\"\",G19=\"\"),\"\",IF(OR(F19=\"A\",F19=\"HG\"),0,VLOOKUP(G19,'Tab 4+5 DüV+Abfuhr_G'!A:Q,17,FALSE)))","v":""},"",""]
[{"$f":"IF('N-DBE'!A20=\"\",\"\",'N-DBE'!A20)","v":""},{"$f":"IF('N-DBE'!B20=\"\",\"\",'N-DBE'!B20)","v":""},{"$f":"IF('N-DBE'!C20=\"\",\"\",'N-DBE'!C20)","v":""},{"$f":"IF('N-DBE'!D20=\"\",\"\",'N-DBE'!D20)","v":""},{"$f":"IF('N-DBE'!E20=\"\",\"\",'N-DBE'!E20)","v":""},{"$f":"IF('N-DBE'!F20=\"\",\"\",'N-DBE'!F20)","v":""},{"$f":"IF('N-DBE'!G20=\"\",\"\",'N-DBE'!G20)","v":""},{"$f":"IF(OR(F20=\"\",G20=\"\"),\"\",IF(F20=\"g\",VLOOKUP(G20,'Tab 4+5 DüV+Abfuhr_G'!A:N,12,FALSE)*'N-DBE'!J20,IF(F20=\"A\",VLOOKUP(G20,'Tab 2+3 DüV_A'!A:L,10,FALSE)*'N-DBE'!J20,VLOOKUP(G20,'H&G LfL'!B:U,18,FALSE)*'N-DBE'!J20)))","v":""},{"$f":"IF(OR(F20=\"\",G20=\"\"),\"\",IF(OR('N-DBE'!K20=\"\",'N-DBE'!M20=0),0,IF('N-DBE'!K20=0,-H20,('N-DBE'!K20*H20/'N-DBE'!J20)-H20)))","v":""},{"$f":"IF(OR(B20=\"\",G20=\"\"),\"\",IF(VLOOKUP(B20,Schlagliste!B:J,7,FALSE)=\"\",\"\",VLOOKUP(B20,Schlagliste!B:J,7,FALSE)))","v":""},{"$f":"IF(J20=\"\",\"\",IF(J20>39,\"E\",VLOOKUP(J20,'Boden DüV-Bolap'!A:B,2,FALSE)))","v":""},{"$f":"IF(J20=\"\",\"\",IF(J20>39,0,VLOOKUP(J20,'Boden DüV-Bolap'!A:C,3,FALSE)))","v":""},{"$f":"IF(OR(F20=\"\",G20=\"\"),\"\",IF(OR(F20=\"A\",F20=\"HG\"),0,VLOOKUP(G20,'Tab 4+5 DüV+Abfuhr_G'!A:Q,15,FALSE)))","v":""},"",{"$f":"IF(OR(F20=\"\",G20=\"\"),\"\",IF(J20=\"\",SUM(H20,I20),IF(OR(K20=\"D\",K20=\"E\"),(H20+M20)*VLOOKUP(K20,'Boden DüV-Bolap'!B:E,4,FALSE),SUM(H20,I20,L20,M20))))","v":""},"",null,"",{"$f":"IF(OR(B20=\"\",G20=\"\"),\"\",IF(VLOOKUP(B20,Schlagliste!B:J,5,FALSE)=\"\",\"\",VLOOKUP(B20,Schlagliste!B:J,5,FALSE)))","v":""},{"$f":"IF(OR(F20=\"\",G20=\"\"),\"\",IF(F20=\"g\",VLOOKUP(G20,'Tab 4+5 DüV+Abfuhr_G'!A:N,13,FALSE)*'N-DBE'!J20,IF(F20=\"A\",VLOOKUP(G20,'Tab 2+3 DüV_A'!A:L,11,FALSE)*'N-DBE'!J20,VLOOKUP(G20,'H&G LfL'!B:U,19,FALSE)*'N-DBE'!J20)))","v":""},{"$f":"IF(OR(F20=\"\",G20=\"\"),\"\",IF(OR('N-DBE'!K20=\"\",'N-DBE'!M20=0),0,IF('N-DBE'!K20=0,-T20,('N-DBE'!K20*T20/'N-DBE'!J20)-T20)))","v":""},{"$f":"IF(OR(B20=\"\",G20=\"\"),\"\",IF(VLOOKUP(B20,Schlagliste!B:J,8,FALSE)=\"\",\"\",VLOOKUP(B20,Schlagliste!B:J,8,FALSE)))","v":""},{"$f":"IF(OR(V20=\"\",S20=\"\"),\"\",IF(V20>39,0,IF(S20=\"leicht\",VLOOKUP(V20,'Boden DüV-Bolap'!A:Q,7,FALSE),IF(S20=\"mittel\",VLOOKUP(V20,'Boden DüV-Bolap'!A:K,11,FALSE),IF(S20=\"schwer\",VLOOKUP(V20,'Boden DüV-Bolap'!A:R,15,FALSE))))))","v":""},{"$f":"IF(OR(F20=\"\",G20=\"\",S20=\"\",V20=\"\"),\"\",IF(V20>39,0,IF(AND(S20=\"leicht\",V20<14),VLOOKUP(V20,'Boden DüV-Bolap'!A:Q,8,FALSE),IF(AND(S20=\"leicht\",V20>13),VLOOKUP(V20,'Boden DüV-Bolap'!A:Q,9,FALSE)*(T20+U20)-(T20+U20),IF(AND(S20=\"mittel\",V20<18),VLOOKUP(V20,'Boden DüV-Bolap'!A:Q,12,FALSE),IF(AND(S20=\"mittel\",V20>17),VLOOKUP(V20,'Boden DüV-Bolap'!A:Q,13,FALSE)*(T20+U20)-(T20+U20),IF(AND(S20=\"schwer\",V20<22),VLOOKUP(V20,'Boden DüV-Bolap'!A:Q,16,FALSE),IF(AND(S20=\"schwer\",V20>21),VLOOKUP(V20,'Boden DüV-Bolap'!A:Q,17,FALSE)*(T20+U20)-(T20+U20)))))))))","v":""},{"$f":"IF(OR(F20=\"\",G20=\"\"),\"\",IF(OR(F20=\"A\",F20=\"HG\"),0,VLOOKUP(G20,'Tab 4+5 DüV+Abfuhr_G'!A:Q,16,FALSE)))","v":""},"","",{"$f":"IF(OR(F20=\"\",G20=\"\"),\"\",IF(F20=\"g\",VLOOKUP(G20,'Tab 4+5 DüV+Abfuhr_G'!A:N,14,FALSE)*'N-DBE'!J20,IF(F20=\"A\",VLOOKUP(G20,'Tab 2+3 DüV_A'!A:L,12,FALSE)*'N-DBE'!J20,VLOOKUP(G20,'H&G LfL'!B:U,20,FALSE)*'N-DBE'!J20)))","v":""},{"$f":"IF(OR(F20=\"\",G20=\"\"),\"\",IF(OR('N-DBE'!K20=\"\",'N-DBE'!M20=0),0,IF('N-DBE'!K20=0,-AB20,('N-DBE'!K20*AB20/'N-DBE'!J20)-AB20)))","v":""},{"$f":"IF(OR(B20=\"\",G20=\"\"),\"\",IF(VLOOKUP(B20,Schlagliste!B:J,9,FALSE)=\"\",\"\",VLOOKUP(B20,Schlagliste!B:J,9,FALSE)))","v":""},{"$f":"IF(OR(AD20=\"\",S20=\"\"),\"\",IF(AD20>39,0,IF(S20=\"leicht\",VLOOKUP(AD20,'Boden DüV-Bolap'!A:AA,19,FALSE),IF(S20=\"mittel\",VLOOKUP(AD20,'Boden DüV-Bolap'!A:AA,23,FALSE),IF(S20=\"schwer\",VLOOKUP(AD20,'Boden DüV-Bolap'!A:AA,27,FALSE))))))","v":""},{"$f":"IF(OR(F20=\"\",G20=\"\",S20=\"\",AD20=\"\"),\"\",IF(AD20>39,0,IF(AND(S20=\"leicht\",AD20<7),VLOOKUP(AD20,'Boden DüV-Bolap'!A:AC,20,FALSE),IF(AND(S20=\"leicht\",AD20>6),VLOOKUP(AD20,'Boden DüV-Bolap'!A:AC,21,FALSE)*(AB20+AC20)-(AB20+AC20),IF(AND(S20=\"mittel\",AD20<11),VLOOKUP(AD20,'Boden DüV-Bolap'!A:AC,24,FALSE),IF(AND(S20=\"mittel\",AD20>10),VLOOKUP(AD20,'Boden DüV-Bolap'!A:AC,25,FALSE)*(AB20+AC20)-(AB20+AC20),IF(AND(S20=\"schwer\",AD20<15),VLOOKUP(AD20,'Boden DüV-Bolap'!A:AC,28,FALSE),IF(AND(S20=\"schwer\",AD20>14),VLOOKUP(AD20,'Boden DüV-Bolap'!A:AC,29,FALSE)*(AB20+AC20)-(AB20+AC20)))))))))","v":""},{"$f":"IF(OR(F20=\"\",G20=\"\"),\"\",IF(OR(F20=\"A\",F20=\"HG\"),0,VLOOKUP(G20,'Tab 4+5 DüV+Abfuhr_G'!A:Q,17,FALSE)))","v":""},"",""]
[{"$f":"IF('N-DBE'!A21=\"\",\"\",'N-DBE'!A21)","v":""},{"$f":"IF('N-DBE'!B21=\"\",\"\",'N-DBE'!B21)","v":""},{"$f":"IF('N-DBE'!C21=\"\",\"\",'N-DBE'!C21)","v":""},{"$f":"IF('N-DBE'!D21=\"\",\"\",'N-DBE'!D21)","v":""},{"$f":"IF('N-DBE'!E21=\"\",\"\",'N-DBE'!E21)","v":""},{"$f":"IF('N-DBE'!F21=\"\",\"\",'N-DBE'!F21)","v":""},{"$f":"IF('N-DBE'!G21=\"\",\"\",'N-DBE'!G21)","v":""},{"$f":"IF(OR(F21=\"\",G21=\"\"),\"\",IF(F21=\"g\",VLOOKUP(G21,'Tab 4+5 DüV+Abfuhr_G'!A:N,12,FALSE)*'N-DBE'!J21,IF(F21=\"A\",VLOOKUP(G21,'Tab 2+3 DüV_A'!A:L,10,FALSE)*'N-DBE'!J21,VLOOKUP(G21,'H&G LfL'!B:U,18,FALSE)*'N-DBE'!J21)))","v":""},{"$f":"IF(OR(F21=\"\",G21=\"\"),\"\",IF(OR('N-DBE'!K21=\"\",'N-DBE'!M21=0),0,IF('N-DBE'!K21=0,-H21,('N-DBE'!K21*H21/'N-DBE'!J21)-H21)))","v":""},{"$f":"IF(OR(B21=\"\",G21=\"\"),\"\",IF(VLOOKUP(B21,Schlagliste!B:J,7,FALSE)=\"\",\"\",VLOOKUP(B21,Schlagliste!B:J,7,FALSE)))","v":""},{"$f":"IF(J21=\"\",\"\",IF(J21>39,\"E\",VLOOKUP(J21,'Boden DüV-Bolap'!A:B,2,FALSE)))","v":""},{"$f":"IF(J21=\"\",\"\",IF(J21>39,0,VLOOKUP(J21,'Boden DüV-Bolap'!A:C,3,FALSE)))","v":""},{"$f":"IF(OR(F21=\"\",G21=\"\"),\"\",IF(OR(F21=\"A\",F21=\"HG\"),0,VLOOKUP(G21,'Tab 4+5 DüV+Abfuhr_G'!A:Q,15,FALSE)))","v":""},"",{"$f":"IF(OR(F21=\"\",G21=\"\"),\"\",IF(J21=\"\",SUM(H21,I21),IF(OR(K21=\"D\",K21=\"E\"),(H21+M21)*VLOOKUP(K21,'Boden DüV-Bolap'!B:E,4,FALSE),SUM(H21,I21,L21,M21))))","v":""},"",null,"",{"$f":"IF(OR(B21=\"\",G21=\"\"),\"\",IF(VLOOKUP(B21,Schlagliste!B:J,5,FALSE)=\"\",\"\",VLOOKUP(B21,Schlagliste!B:J,5,FALSE)))","v":""},{"$f":"IF(OR(F21=\"\",G21=\"\"),\"\",IF(F21=\"g\",VLOOKUP(G21,'Tab 4+5 DüV+Abfuhr_G'!A:N,13,FALSE)*'N-DBE'!J21,IF(F21=\"A\",VLOOKUP(G21,'Tab 2+3 DüV_A'!A:L,11,FALSE)*'N-DBE'!J21,VLOOKUP(G21,'H&G LfL'!B:U,19,FALSE)*'N-DBE'!J21)))","v":""},{"$f":"IF(OR(F21=\"\",G21=\"\"),\"\",IF(OR('N-DBE'!K21=\"\",'N-DBE'!M21=0),0,IF('N-DBE'!K21=0,-T21,('N-DBE'!K21*T21/'N-DBE'!J21)-T21)))","v":""},{"$f":"IF(OR(B21=\"\",G21=\"\"),\"\",IF(VLOOKUP(B21,Schlagliste!B:J,8,FALSE)=\"\",\"\",VLOOKUP(B21,Schlagliste!B:J,8,FALSE)))","v":""},{"$f":"IF(OR(V21=\"\",S21=\"\"),\"\",IF(V21>39,0,IF(S21=\"leicht\",VLOOKUP(V21,'Boden DüV-Bolap'!A:Q,7,FALSE),IF(S21=\"mittel\",VLOOKUP(V21,'Boden DüV-Bolap'!A:K,11,FALSE),IF(S21=\"schwer\",VLOOKUP(V21,'Boden DüV-Bolap'!A:R,15,FALSE))))))","v":""},{"$f":"IF(OR(F21=\"\",G21=\"\",S21=\"\",V21=\"\"),\"\",IF(V21>39,0,IF(AND(S21=\"leicht\",V21<14),VLOOKUP(V21,'Boden DüV-Bolap'!A:Q,8,FALSE),IF(AND(S21=\"leicht\",V21>13),VLOOKUP(V21,'Boden DüV-Bolap'!A:Q,9,FALSE)*(T21+U21)-(T21+U21),IF(AND(S21=\"mittel\",V21<18),VLOOKUP(V21,'Boden DüV-Bolap'!A:Q,12,FALSE),IF(AND(S21=\"mittel\",V21>17),VLOOKUP(V21,'Boden DüV-Bolap'!A:Q,13,FALSE)*(T21+U21)-(T21+U21),IF(AND(S21=\"schwer\",V21<22),VLOOKUP(V21,'Boden DüV-Bolap'!A:Q,16,FALSE),IF(AND(S21=\"schwer\",V21>21),VLOOKUP(V21,'Boden DüV-Bolap'!A:Q,17,FALSE)*(T21+U21)-(T21+U21)))))))))","v":""},{"$f":"IF(OR(F21=\"\",G21=\"\"),\"\",IF(OR(F21=\"A\",F21=\"HG\"),0,VLOOKUP(G21,'Tab 4+5 DüV+Abfuhr_G'!A:Q,16,FALSE)))","v":""},"","",{"$f":"IF(OR(F21=\"\",G21=\"\"),\"\",IF(F21=\"g\",VLOOKUP(G21,'Tab 4+5 DüV+Abfuhr_G'!A:N,14,FALSE)*'N-DBE'!J21,IF(F21=\"A\",VLOOKUP(G21,'Tab 2+3 DüV_A'!A:L,12,FALSE)*'N-DBE'!J21,VLOOKUP(G21,'H&G LfL'!B:U,20,FALSE)*'N-DBE'!J21)))","v":""},{"$f":"IF(OR(F21=\"\",G21=\"\"),\"\",IF(OR('N-DBE'!K21=\"\",'N-DBE'!M21=0),0,IF('N-DBE'!K21=0,-AB21,('N-DBE'!K21*AB21/'N-DBE'!J21)-AB21)))","v":""},{"$f":"IF(OR(B21=\"\",G21=\"\"),\"\",IF(VLOOKUP(B21,Schlagliste!B:J,9,FALSE)=\"\",\"\",VLOOKUP(B21,Schlagliste!B:J,9,FALSE)))","v":""},{"$f":"IF(OR(AD21=\"\",S21=\"\"),\"\",IF(AD21>39,0,IF(S21=\"leicht\",VLOOKUP(AD21,'Boden DüV-Bolap'!A:AA,19,FALSE),IF(S21=\"mittel\",VLOOKUP(AD21,'Boden DüV-Bolap'!A:AA,23,FALSE),IF(S21=\"schwer\",VLOOKUP(AD21,'Boden DüV-Bolap'!A:AA,27,FALSE))))))","v":""},{"$f":"IF(OR(F21=\"\",G21=\"\",S21=\"\",AD21=\"\"),\"\",IF(AD21>39,0,IF(AND(S21=\"leicht\",AD21<7),VLOOKUP(AD21,'Boden DüV-Bolap'!A:AC,20,FALSE),IF(AND(S21=\"leicht\",AD21>6),VLOOKUP(AD21,'Boden DüV-Bolap'!A:AC,21,FALSE)*(AB21+AC21)-(AB21+AC21),IF(AND(S21=\"mittel\",AD21<11),VLOOKUP(AD21,'Boden DüV-Bolap'!A:AC,24,FALSE),IF(AND(S21=\"mittel\",AD21>10),VLOOKUP(AD21,'Boden DüV-Bolap'!A:AC,25,FALSE)*(AB21+AC21)-(AB21+AC21),IF(AND(S21=\"schwer\",AD21<15),VLOOKUP(AD21,'Boden DüV-Bolap'!A:AC,28,FALSE),IF(AND(S21=\"schwer\",AD21>14),VLOOKUP(AD21,'Boden DüV-Bolap'!A:AC,29,FALSE)*(AB21+AC21)-(AB21+AC21)))))))))","v":""},{"$f":"IF(OR(F21=\"\",G21=\"\"),\"\",IF(OR(F21=\"A\",F21=\"HG\"),0,VLOOKUP(G21,'Tab 4+5 DüV+Abfuhr_G'!A:Q,17,FALSE)))","v":""},"",""]
[{"$f":"IF('N-DBE'!A22=\"\",\"\",'N-DBE'!A22)","v":""},{"$f":"IF('N-DBE'!B22=\"\",\"\",'N-DBE'!B22)","v":""},{"$f":"IF('N-DBE'!C22=\"\",\"\",'N-DBE'!C22)","v":""},{"$f":"IF('N-DBE'!D22=\"\",\"\",'N-DBE'!D22)","v":""},{"$f":"IF('N-DBE'!E22=\"\",\"\",'N-DBE'!E22)","v":""},{"$f":"IF('N-DBE'!F22=\"\",\"\",'N-DBE'!F22)","v":""},{"$f":"IF('N-DBE'!G22=\"\",\"\",'N-DBE'!G22)","v":""},{"$f":"IF(OR(F22=\"\",G22=\"\"),\"\",IF(F22=\"g\",VLOOKUP(G22,'Tab 4+5 DüV+Abfuhr_G'!A:N,12,FALSE)*'N-DBE'!J22,IF(F22=\"A\",VLOOKUP(G22,'Tab 2+3 DüV_A'!A:L,10,FALSE)*'N-DBE'!J22,VLOOKUP(G22,'H&G LfL'!B:U,18,FALSE)*'N-DBE'!J22)))","v":""},{"$f":"IF(OR(F22=\"\",G22=\"\"),\"\",IF(OR('N-DBE'!K22=\"\",'N-DBE'!M22=0),0,IF('N-DBE'!K22=0,-H22,('N-DBE'!K22*H22/'N-DBE'!J22)-H22)))","v":""},{"$f":"IF(OR(B22=\"\",G22=\"\"),\"\",IF(VLOOKUP(B22,Schlagliste!B:J,7,FALSE)=\"\",\"\",VLOOKUP(B22,Schlagliste!B:J,7,FALSE)))","v":""},{"$f":"IF(J22=\"\",\"\",IF(J22>39,\"E\",VLOOKUP(J22,'Boden DüV-Bolap'!A:B,2,FALSE)))","v":""},{"$f":"IF(J22=\"\",\"\",IF(J22>39,0,VLOOKUP(J22,'Boden DüV-Bolap'!A:C,3,FALSE)))","v":""},{"$f":"IF(OR(F22=\"\",G22=\"\"),\"\",IF(OR(F22=\"A\",F22=\"HG\"),0,VLOOKUP(G22,'Tab 4+5 DüV+Abfuhr_G'!A:Q,15,FALSE)))","v":""},"",{"$f":"IF(OR(F22=\"\",G22=\"\"),\"\",IF(J22=\"\",SUM(H22,I22),IF(OR(K22=\"D\",K22=\"E\"),(H22+M22)*VLOOKUP(K22,'Boden DüV-Bolap'!B:E,4,FALSE),SUM(H22,I22,L22,M22))))","v":""},"",null,"",{"$f":"IF(OR(B22=\"\",G22=\"\"),\"\",IF(VLOOKUP(B22,Schlagliste!B:J,5,FALSE)=\"\",\"\",VLOOKUP(B22,Schlagliste!B:J,5,FALSE)))","v":""},{"$f":"IF(OR(F22=\"\",G22=\"\"),\"\",IF(F22=\"g\",VLOOKUP(G22,'Tab 4+5 DüV+Abfuhr_G'!A:N,13,FALSE)*'N-DBE'!J22,IF(F22=\"A\",VLOOKUP(G22,'Tab 2+3 DüV_A'!A:L,11,FALSE)*'N-DBE'!J22,VLOOKUP(G22,'H&G LfL'!B:U,19,FALSE)*'N-DBE'!J22)))","v":""},{"$f":"IF(OR(F22=\"\",G22=\"\"),\"\",IF(OR('N-DBE'!K22=\"\",'N-DBE'!M22=0),0,IF('N-DBE'!K22=0,-T22,('N-DBE'!K22*T22/'N-DBE'!J22)-T22)))","v":""},{"$f":"IF(OR(B22=\"\",G22=\"\"),\"\",IF(VLOOKUP(B22,Schlagliste!B:J,8,FALSE)=\"\",\"\",VLOOKUP(B22,Schlagliste!B:J,8,FALSE)))","v":""},{"$f":"IF(OR(V22=\"\",S22=\"\"),\"\",IF(V22>39,0,IF(S22=\"leicht\",VLOOKUP(V22,'Boden DüV-Bolap'!A:Q,7,FALSE),IF(S22=\"mittel\",VLOOKUP(V22,'Boden DüV-Bolap'!A:K,11,FALSE),IF(S22=\"schwer\",VLOOKUP(V22,'Boden DüV-Bolap'!A:R,15,FALSE))))))","v":""},{"$f":"IF(OR(F22=\"\",G22=\"\",S22=\"\",V22=\"\"),\"\",IF(V22>39,0,IF(AND(S22=\"leicht\",V22<14),VLOOKUP(V22,'Boden DüV-Bolap'!A:Q,8,FALSE),IF(AND(S22=\"leicht\",V22>13),VLOOKUP(V22,'Boden DüV-Bolap'!A:Q,9,FALSE)*(T22+U22)-(T22+U22),IF(AND(S22=\"mittel\",V22<18),VLOOKUP(V22,'Boden DüV-Bolap'!A:Q,12,FALSE),IF(AND(S22=\"mittel\",V22>17),VLOOKUP(V22,'Boden DüV-Bolap'!A:Q,13,FALSE)*(T22+U22)-(T22+U22),IF(AND(S22=\"schwer\",V22<22),VLOOKUP(V22,'Boden DüV-Bolap'!A:Q,16,FALSE),IF(AND(S22=\"schwer\",V22>21),VLOOKUP(V22,'Boden DüV-Bolap'!A:Q,17,FALSE)*(T22+U22)-(T22+U22)))))))))","v":""},{"$f":"IF(OR(F22=\"\",G22=\"\"),\"\",IF(OR(F22=\"A\",F22=\"HG\"),0,VLOOKUP(G22,'Tab 4+5 DüV+Abfuhr_G'!A:Q,16,FALSE)))","v":""},"","",{"$f":"IF(OR(F22=\"\",G22=\"\"),\"\",IF(F22=\"g\",VLOOKUP(G22,'Tab 4+5 DüV+Abfuhr_G'!A:N,14,FALSE)*'N-DBE'!J22,IF(F22=\"A\",VLOOKUP(G22,'Tab 2+3 DüV_A'!A:L,12,FALSE)*'N-DBE'!J22,VLOOKUP(G22,'H&G LfL'!B:U,20,FALSE)*'N-DBE'!J22)))","v":""},{"$f":"IF(OR(F22=\"\",G22=\"\"),\"\",IF(OR('N-DBE'!K22=\"\",'N-DBE'!M22=0),0,IF('N-DBE'!K22=0,-AB22,('N-DBE'!K22*AB22/'N-DBE'!J22)-AB22)))","v":""},{"$f":"IF(OR(B22=\"\",G22=\"\"),\"\",IF(VLOOKUP(B22,Schlagliste!B:J,9,FALSE)=\"\",\"\",VLOOKUP(B22,Schlagliste!B:J,9,FALSE)))","v":""},{"$f":"IF(OR(AD22=\"\",S22=\"\"),\"\",IF(AD22>39,0,IF(S22=\"leicht\",VLOOKUP(AD22,'Boden DüV-Bolap'!A:AA,19,FALSE),IF(S22=\"mittel\",VLOOKUP(AD22,'Boden DüV-Bolap'!A:AA,23,FALSE),IF(S22=\"schwer\",VLOOKUP(AD22,'Boden DüV-Bolap'!A:AA,27,FALSE))))))","v":""},{"$f":"IF(OR(F22=\"\",G22=\"\",S22=\"\",AD22=\"\"),\"\",IF(AD22>39,0,IF(AND(S22=\"leicht\",AD22<7),VLOOKUP(AD22,'Boden DüV-Bolap'!A:AC,20,FALSE),IF(AND(S22=\"leicht\",AD22>6),VLOOKUP(AD22,'Boden DüV-Bolap'!A:AC,21,FALSE)*(AB22+AC22)-(AB22+AC22),IF(AND(S22=\"mittel\",AD22<11),VLOOKUP(AD22,'Boden DüV-Bolap'!A:AC,24,FALSE),IF(AND(S22=\"mittel\",AD22>10),VLOOKUP(AD22,'Boden DüV-Bolap'!A:AC,25,FALSE)*(AB22+AC22)-(AB22+AC22),IF(AND(S22=\"schwer\",AD22<15),VLOOKUP(AD22,'Boden DüV-Bolap'!A:AC,28,FALSE),IF(AND(S22=\"schwer\",AD22>14),VLOOKUP(AD22,'Boden DüV-Bolap'!A:AC,29,FALSE)*(AB22+AC22)-(AB22+AC22)))))))))","v":""},{"$f":"IF(OR(F22=\"\",G22=\"\"),\"\",IF(OR(F22=\"A\",F22=\"HG\"),0,VLOOKUP(G22,'Tab 4+5 DüV+Abfuhr_G'!A:Q,17,FALSE)))","v":""},"",""]
[{"$f":"IF('N-DBE'!A23=\"\",\"\",'N-DBE'!A23)","v":""},{"$f":"IF('N-DBE'!B23=\"\",\"\",'N-DBE'!B23)","v":""},{"$f":"IF('N-DBE'!C23=\"\",\"\",'N-DBE'!C23)","v":""},{"$f":"IF('N-DBE'!D23=\"\",\"\",'N-DBE'!D23)","v":""},{"$f":"IF('N-DBE'!E23=\"\",\"\",'N-DBE'!E23)","v":""},{"$f":"IF('N-DBE'!F23=\"\",\"\",'N-DBE'!F23)","v":""},{"$f":"IF('N-DBE'!G23=\"\",\"\",'N-DBE'!G23)","v":""},{"$f":"IF(OR(F23=\"\",G23=\"\"),\"\",IF(F23=\"g\",VLOOKUP(G23,'Tab 4+5 DüV+Abfuhr_G'!A:N,12,FALSE)*'N-DBE'!J23,IF(F23=\"A\",VLOOKUP(G23,'Tab 2+3 DüV_A'!A:L,10,FALSE)*'N-DBE'!J23,VLOOKUP(G23,'H&G LfL'!B:U,18,FALSE)*'N-DBE'!J23)))","v":""},{"$f":"IF(OR(F23=\"\",G23=\"\"),\"\",IF(OR('N-DBE'!K23=\"\",'N-DBE'!M23=0),0,IF('N-DBE'!K23=0,-H23,('N-DBE'!K23*H23/'N-DBE'!J23)-H23)))","v":""},{"$f":"IF(OR(B23=\"\",G23=\"\"),\"\",IF(VLOOKUP(B23,Schlagliste!B:J,7,FALSE)=\"\",\"\",VLOOKUP(B23,Schlagliste!B:J,7,FALSE)))","v":""},{"$f":"IF(J23=\"\",\"\",IF(J23>39,\"E\",VLOOKUP(J23,'Boden DüV-Bolap'!A:B,2,FALSE)))","v":""},{"$f":"IF(J23=\"\",\"\",IF(J23>39,0,VLOOKUP(J23,'Boden DüV-Bolap'!A:C,3,FALSE)))","v":""},{"$f":"IF(OR(F23=\"\",G23=\"\"),\"\",IF(OR(F23=\"A\",F23=\"HG\"),0,VLOOKUP(G23,'Tab 4+5 DüV+Abfuhr_G'!A:Q,15,FALSE)))","v":""},"",{"$f":"IF(OR(F23=\"\",G23=\"\"),\"\",IF(J23=\"\",SUM(H23,I23),IF(OR(K23=\"D\",K23=\"E\"),(H23+M23)*VLOOKUP(K23,'Boden DüV-Bolap'!B:E,4,FALSE),SUM(H23,I23,L23,M23))))","v":""},"",null,"",{"$f":"IF(OR(B23=\"\",G23=\"\"),\"\",IF(VLOOKUP(B23,Schlagliste!B:J,5,FALSE)=\"\",\"\",VLOOKUP(B23,Schlagliste!B:J,5,FALSE)))","v":""},{"$f":"IF(OR(F23=\"\",G23=\"\"),\"\",IF(F23=\"g\",VLOOKUP(G23,'Tab 4+5 DüV+Abfuhr_G'!A:N,13,FALSE)*'N-DBE'!J23,IF(F23=\"A\",VLOOKUP(G23,'Tab 2+3 DüV_A'!A:L,11,FALSE)*'N-DBE'!J23,VLOOKUP(G23,'H&G LfL'!B:U,19,FALSE)*'N-DBE'!J23)))","v":""},{"$f":"IF(OR(F23=\"\",G23=\"\"),\"\",IF(OR('N-DBE'!K23=\"\",'N-DBE'!M23=0),0,IF('N-DBE'!K23=0,-T23,('N-DBE'!K23*T23/'N-DBE'!J23)-T23)))","v":""},{"$f":"IF(OR(B23=\"\",G23=\"\"),\"\",IF(VLOOKUP(B23,Schlagliste!B:J,8,FALSE)=\"\",\"\",VLOOKUP(B23,Schlagliste!B:J,8,FALSE)))","v":""},{"$f":"IF(OR(V23=\"\",S23=\"\"),\"\",IF(V23>39,0,IF(S23=\"leicht\",VLOOKUP(V23,'Boden DüV-Bolap'!A:Q,7,FALSE),IF(S23=\"mittel\",VLOOKUP(V23,'Boden DüV-Bolap'!A:K,11,FALSE),IF(S23=\"schwer\",VLOOKUP(V23,'Boden DüV-Bolap'!A:R,15,FALSE))))))","v":""},{"$f":"IF(OR(F23=\"\",G23=\"\",S23=\"\",V23=\"\"),\"\",IF(V23>39,0,IF(AND(S23=\"leicht\",V23<14),VLOOKUP(V23,'Boden DüV-Bolap'!A:Q,8,FALSE),IF(AND(S23=\"leicht\",V23>13),VLOOKUP(V23,'Boden DüV-Bolap'!A:Q,9,FALSE)*(T23+U23)-(T23+U23),IF(AND(S23=\"mittel\",V23<18),VLOOKUP(V23,'Boden DüV-Bolap'!A:Q,12,FALSE),IF(AND(S23=\"mittel\",V23>17),VLOOKUP(V23,'Boden DüV-Bolap'!A:Q,13,FALSE)*(T23+U23)-(T23+U23),IF(AND(S23=\"schwer\",V23<22),VLOOKUP(V23,'Boden DüV-Bolap'!A:Q,16,FALSE),IF(AND(S23=\"schwer\",V23>21),VLOOKUP(V23,'Boden DüV-Bolap'!A:Q,17,FALSE)*(T23+U23)-(T23+U23)))))))))","v":""},{"$f":"IF(OR(F23=\"\",G23=\"\"),\"\",IF(OR(F23=\"A\",F23=\"HG\"),0,VLOOKUP(G23,'Tab 4+5 DüV+Abfuhr_G'!A:Q,16,FALSE)))","v":""},"","",{"$f":"IF(OR(F23=\"\",G23=\"\"),\"\",IF(F23=\"g\",VLOOKUP(G23,'Tab 4+5 DüV+Abfuhr_G'!A:N,14,FALSE)*'N-DBE'!J23,IF(F23=\"A\",VLOOKUP(G23,'Tab 2+3 DüV_A'!A:L,12,FALSE)*'N-DBE'!J23,VLOOKUP(G23,'H&G LfL'!B:U,20,FALSE)*'N-DBE'!J23)))","v":""},{"$f":"IF(OR(F23=\"\",G23=\"\"),\"\",IF(OR('N-DBE'!K23=\"\",'N-DBE'!M23=0),0,IF('N-DBE'!K23=0,-AB23,('N-DBE'!K23*AB23/'N-DBE'!J23)-AB23)))","v":""},{"$f":"IF(OR(B23=\"\",G23=\"\"),\"\",IF(VLOOKUP(B23,Schlagliste!B:J,9,FALSE)=\"\",\"\",VLOOKUP(B23,Schlagliste!B:J,9,FALSE)))","v":""},{"$f":"IF(OR(AD23=\"\",S23=\"\"),\"\",IF(AD23>39,0,IF(S23=\"leicht\",VLOOKUP(AD23,'Boden DüV-Bolap'!A:AA,19,FALSE),IF(S23=\"mittel\",VLOOKUP(AD23,'Boden DüV-Bolap'!A:AA,23,FALSE),IF(S23=\"schwer\",VLOOKUP(AD23,'Boden DüV-Bolap'!A:AA,27,FALSE))))))","v":""},{"$f":"IF(OR(F23=\"\",G23=\"\",S23=\"\",AD23=\"\"),\"\",IF(AD23>39,0,IF(AND(S23=\"leicht\",AD23<7),VLOOKUP(AD23,'Boden DüV-Bolap'!A:AC,20,FALSE),IF(AND(S23=\"leicht\",AD23>6),VLOOKUP(AD23,'Boden DüV-Bolap'!A:AC,21,FALSE)*(AB23+AC23)-(AB23+AC23),IF(AND(S23=\"mittel\",AD23<11),VLOOKUP(AD23,'Boden DüV-Bolap'!A:AC,24,FALSE),IF(AND(S23=\"mittel\",AD23>10),VLOOKUP(AD23,'Boden DüV-Bolap'!A:AC,25,FALSE)*(AB23+AC23)-(AB23+AC23),IF(AND(S23=\"schwer\",AD23<15),VLOOKUP(AD23,'Boden DüV-Bolap'!A:AC,28,FALSE),IF(AND(S23=\"schwer\",AD23>14),VLOOKUP(AD23,'Boden DüV-Bolap'!A:AC,29,FALSE)*(AB23+AC23)-(AB23+AC23)))))))))","v":""},{"$f":"IF(OR(F23=\"\",G23=\"\"),\"\",IF(OR(F23=\"A\",F23=\"HG\"),0,VLOOKUP(G23,'Tab 4+5 DüV+Abfuhr_G'!A:Q,17,FALSE)))","v":""},"",""]
[{"$f":"IF('N-DBE'!A24=\"\",\"\",'N-DBE'!A24)","v":""},{"$f":"IF('N-DBE'!B24=\"\",\"\",'N-DBE'!B24)","v":""},{"$f":"IF('N-DBE'!C24=\"\",\"\",'N-DBE'!C24)","v":""},{"$f":"IF('N-DBE'!D24=\"\",\"\",'N-DBE'!D24)","v":""},{"$f":"IF('N-DBE'!E24=\"\",\"\",'N-DBE'!E24)","v":""},{"$f":"IF('N-DBE'!F24=\"\",\"\",'N-DBE'!F24)","v":""},{"$f":"IF('N-DBE'!G24=\"\",\"\",'N-DBE'!G24)","v":""},{"$f":"IF(OR(F24=\"\",G24=\"\"),\"\",IF(F24=\"g\",VLOOKUP(G24,'Tab 4+5 DüV+Abfuhr_G'!A:N,12,FALSE)*'N-DBE'!J24,IF(F24=\"A\",VLOOKUP(G24,'Tab 2+3 DüV_A'!A:L,10,FALSE)*'N-DBE'!J24,VLOOKUP(G24,'H&G LfL'!B:U,18,FALSE)*'N-DBE'!J24)))","v":""},{"$f":"IF(OR(F24=\"\",G24=\"\"),\"\",IF(OR('N-DBE'!K24=\"\",'N-DBE'!M24=0),0,IF('N-DBE'!K24=0,-H24,('N-DBE'!K24*H24/'N-DBE'!J24)-H24)))","v":""},{"$f":"IF(OR(B24=\"\",G24=\"\"),\"\",IF(VLOOKUP(B24,Schlagliste!B:J,7,FALSE)=\"\",\"\",VLOOKUP(B24,Schlagliste!B:J,7,FALSE)))","v":""},{"$f":"IF(J24=\"\",\"\",IF(J24>39,\"E\",VLOOKUP(J24,'Boden DüV-Bolap'!A:B,2,FALSE)))","v":""},{"$f":"IF(J24=\"\",\"\",IF(J24>39,0,VLOOKUP(J24,'Boden DüV-Bolap'!A:C,3,FALSE)))","v":""},{"$f":"IF(OR(F24=\"\",G24=\"\"),\"\",IF(OR(F24=\"A\",F24=\"HG\"),0,VLOOKUP(G24,'Tab 4+5 DüV+Abfuhr_G'!A:Q,15,FALSE)))","v":""},"",{"$f":"IF(OR(F24=\"\",G24=\"\"),\"\",IF(J24=\"\",SUM(H24,I24),IF(OR(K24=\"D\",K24=\"E\"),(H24+M24)*VLOOKUP(K24,'Boden DüV-Bolap'!B:E,4,FALSE),SUM(H24,I24,L24,M24))))","v":""},"",null,"",{"$f":"IF(OR(B24=\"\",G24=\"\"),\"\",IF(VLOOKUP(B24,Schlagliste!B:J,5,FALSE)=\"\",\"\",VLOOKUP(B24,Schlagliste!B:J,5,FALSE)))","v":""},{"$f":"IF(OR(F24=\"\",G24=\"\"),\"\",IF(F24=\"g\",VLOOKUP(G24,'Tab 4+5 DüV+Abfuhr_G'!A:N,13,FALSE)*'N-DBE'!J24,IF(F24=\"A\",VLOOKUP(G24,'Tab 2+3 DüV_A'!A:L,11,FALSE)*'N-DBE'!J24,VLOOKUP(G24,'H&G LfL'!B:U,19,FALSE)*'N-DBE'!J24)))","v":""},{"$f":"IF(OR(F24=\"\",G24=\"\"),\"\",IF(OR('N-DBE'!K24=\"\",'N-DBE'!M24=0),0,IF('N-DBE'!K24=0,-T24,('N-DBE'!K24*T24/'N-DBE'!J24)-T24)))","v":""},{"$f":"IF(OR(B24=\"\",G24=\"\"),\"\",IF(VLOOKUP(B24,Schlagliste!B:J,8,FALSE)=\"\",\"\",VLOOKUP(B24,Schlagliste!B:J,8,FALSE)))","v":""},{"$f":"IF(OR(V24=\"\",S24=\"\"),\"\",IF(V24>39,0,IF(S24=\"leicht\",VLOOKUP(V24,'Boden DüV-Bolap'!A:Q,7,FALSE),IF(S24=\"mittel\",VLOOKUP(V24,'Boden DüV-Bolap'!A:K,11,FALSE),IF(S24=\"schwer\",VLOOKUP(V24,'Boden DüV-Bolap'!A:R,15,FALSE))))))","v":""},{"$f":"IF(OR(F24=\"\",G24=\"\",S24=\"\",V24=\"\"),\"\",IF(V24>39,0,IF(AND(S24=\"leicht\",V24<14),VLOOKUP(V24,'Boden DüV-Bolap'!A:Q,8,FALSE),IF(AND(S24=\"leicht\",V24>13),VLOOKUP(V24,'Boden DüV-Bolap'!A:Q,9,FALSE)*(T24+U24)-(T24+U24),IF(AND(S24=\"mittel\",V24<18),VLOOKUP(V24,'Boden DüV-Bolap'!A:Q,12,FALSE),IF(AND(S24=\"mittel\",V24>17),VLOOKUP(V24,'Boden DüV-Bolap'!A:Q,13,FALSE)*(T24+U24)-(T24+U24),IF(AND(S24=\"schwer\",V24<22),VLOOKUP(V24,'Boden DüV-Bolap'!A:Q,16,FALSE),IF(AND(S24=\"schwer\",V24>21),VLOOKUP(V24,'Boden DüV-Bolap'!A:Q,17,FALSE)*(T24+U24)-(T24+U24)))))))))","v":""},{"$f":"IF(OR(F24=\"\",G24=\"\"),\"\",IF(OR(F24=\"A\",F24=\"HG\"),0,VLOOKUP(G24,'Tab 4+5 DüV+Abfuhr_G'!A:Q,16,FALSE)))","v":""},"","",{"$f":"IF(OR(F24=\"\",G24=\"\"),\"\",IF(F24=\"g\",VLOOKUP(G24,'Tab 4+5 DüV+Abfuhr_G'!A:N,14,FALSE)*'N-DBE'!J24,IF(F24=\"A\",VLOOKUP(G24,'Tab 2+3 DüV_A'!A:L,12,FALSE)*'N-DBE'!J24,VLOOKUP(G24,'H&G LfL'!B:U,20,FALSE)*'N-DBE'!J24)))","v":""},{"$f":"IF(OR(F24=\"\",G24=\"\"),\"\",IF(OR('N-DBE'!K24=\"\",'N-DBE'!M24=0),0,IF('N-DBE'!K24=0,-AB24,('N-DBE'!K24*AB24/'N-DBE'!J24)-AB24)))","v":""},{"$f":"IF(OR(B24=\"\",G24=\"\"),\"\",IF(VLOOKUP(B24,Schlagliste!B:J,9,FALSE)=\"\",\"\",VLOOKUP(B24,Schlagliste!B:J,9,FALSE)))","v":""},{"$f":"IF(OR(AD24=\"\",S24=\"\"),\"\",IF(AD24>39,0,IF(S24=\"leicht\",VLOOKUP(AD24,'Boden DüV-Bolap'!A:AA,19,FALSE),IF(S24=\"mittel\",VLOOKUP(AD24,'Boden DüV-Bolap'!A:AA,23,FALSE),IF(S24=\"schwer\",VLOOKUP(AD24,'Boden DüV-Bolap'!A:AA,27,FALSE))))))","v":""},{"$f":"IF(OR(F24=\"\",G24=\"\",S24=\"\",AD24=\"\"),\"\",IF(AD24>39,0,IF(AND(S24=\"leicht\",AD24<7),VLOOKUP(AD24,'Boden DüV-Bolap'!A:AC,20,FALSE),IF(AND(S24=\"leicht\",AD24>6),VLOOKUP(AD24,'Boden DüV-Bolap'!A:AC,21,FALSE)*(AB24+AC24)-(AB24+AC24),IF(AND(S24=\"mittel\",AD24<11),VLOOKUP(AD24,'Boden DüV-Bolap'!A:AC,24,FALSE),IF(AND(S24=\"mittel\",AD24>10),VLOOKUP(AD24,'Boden DüV-Bolap'!A:AC,25,FALSE)*(AB24+AC24)-(AB24+AC24),IF(AND(S24=\"schwer\",AD24<15),VLOOKUP(AD24,'Boden DüV-Bolap'!A:AC,28,FALSE),IF(AND(S24=\"schwer\",AD24>14),VLOOKUP(AD24,'Boden DüV-Bolap'!A:AC,29,FALSE)*(AB24+AC24)-(AB24+AC24)))))))))","v":""},{"$f":"IF(OR(F24=\"\",G24=\"\"),\"\",IF(OR(F24=\"A\",F24=\"HG\"),0,VLOOKUP(G24,'Tab 4+5 DüV+Abfuhr_G'!A:Q,17,FALSE)))","v":""},"",""]
[{"$f":"IF('N-DBE'!A25=\"\",\"\",'N-DBE'!A25)","v":""},{"$f":"IF('N-DBE'!B25=\"\",\"\",'N-DBE'!B25)","v":""},{"$f":"IF('N-DBE'!C25=\"\",\"\",'N-DBE'!C25)","v":""},{"$f":"IF('N-DBE'!D25=\"\",\"\",'N-DBE'!D25)","v":""},{"$f":"IF('N-DBE'!E25=\"\",\"\",'N-DBE'!E25)","v":""},{"$f":"IF('N-DBE'!F25=\"\",\"\",'N-DBE'!F25)","v":""},{"$f":"IF('N-DBE'!G25=\"\",\"\",'N-DBE'!G25)","v":""},{"$f":"IF(OR(F25=\"\",G25=\"\"),\"\",IF(F25=\"g\",VLOOKUP(G25,'Tab 4+5 DüV+Abfuhr_G'!A:N,12,FALSE)*'N-DBE'!J25,IF(F25=\"A\",VLOOKUP(G25,'Tab 2+3 DüV_A'!A:L,10,FALSE)*'N-DBE'!J25,VLOOKUP(G25,'H&G LfL'!B:U,18,FALSE)*'N-DBE'!J25)))","v":""},{"$f":"IF(OR(F25=\"\",G25=\"\"),\"\",IF(OR('N-DBE'!K25=\"\",'N-DBE'!M25=0),0,IF('N-DBE'!K25=0,-H25,('N-DBE'!K25*H25/'N-DBE'!J25)-H25)))","v":""},{"$f":"IF(OR(B25=\"\",G25=\"\"),\"\",IF(VLOOKUP(B25,Schlagliste!B:J,7,FALSE)=\"\",\"\",VLOOKUP(B25,Schlagliste!B:J,7,FALSE)))","v":""},{"$f":"IF(J25=\"\",\"\",IF(J25>39,\"E\",VLOOKUP(J25,'Boden DüV-Bolap'!A:B,2,FALSE)))","v":""},{"$f":"IF(J25=\"\",\"\",IF(J25>39,0,VLOOKUP(J25,'Boden DüV-Bolap'!A:C,3,FALSE)))","v":""},{"$f":"IF(OR(F25=\"\",G25=\"\"),\"\",IF(OR(F25=\"A\",F25=\"HG\"),0,VLOOKUP(G25,'Tab 4+5 DüV+Abfuhr_G'!A:Q,15,FALSE)))","v":""},"",{"$f":"IF(OR(F25=\"\",G25=\"\"),\"\",IF(J25=\"\",SUM(H25,I25),IF(OR(K25=\"D\",K25=\"E\"),(H25+M25)*VLOOKUP(K25,'Boden DüV-Bolap'!B:E,4,FALSE),SUM(H25,I25,L25,M25))))","v":""},"",null,"",{"$f":"IF(OR(B25=\"\",G25=\"\"),\"\",IF(VLOOKUP(B25,Schlagliste!B:J,5,FALSE)=\"\",\"\",VLOOKUP(B25,Schlagliste!B:J,5,FALSE)))","v":""},{"$f":"IF(OR(F25=\"\",G25=\"\"),\"\",IF(F25=\"g\",VLOOKUP(G25,'Tab 4+5 DüV+Abfuhr_G'!A:N,13,FALSE)*'N-DBE'!J25,IF(F25=\"A\",VLOOKUP(G25,'Tab 2+3 DüV_A'!A:L,11,FALSE)*'N-DBE'!J25,VLOOKUP(G25,'H&G LfL'!B:U,19,FALSE)*'N-DBE'!J25)))","v":""},{"$f":"IF(OR(F25=\"\",G25=\"\"),\"\",IF(OR('N-DBE'!K25=\"\",'N-DBE'!M25=0),0,IF('N-DBE'!K25=0,-T25,('N-DBE'!K25*T25/'N-DBE'!J25)-T25)))","v":""},{"$f":"IF(OR(B25=\"\",G25=\"\"),\"\",IF(VLOOKUP(B25,Schlagliste!B:J,8,FALSE)=\"\",\"\",VLOOKUP(B25,Schlagliste!B:J,8,FALSE)))","v":""},{"$f":"IF(OR(V25=\"\",S25=\"\"),\"\",IF(V25>39,0,IF(S25=\"leicht\",VLOOKUP(V25,'Boden DüV-Bolap'!A:Q,7,FALSE),IF(S25=\"mittel\",VLOOKUP(V25,'Boden DüV-Bolap'!A:K,11,FALSE),IF(S25=\"schwer\",VLOOKUP(V25,'Boden DüV-Bolap'!A:R,15,FALSE))))))","v":""},{"$f":"IF(OR(F25=\"\",G25=\"\",S25=\"\",V25=\"\"),\"\",IF(V25>39,0,IF(AND(S25=\"leicht\",V25<14),VLOOKUP(V25,'Boden DüV-Bolap'!A:Q,8,FALSE),IF(AND(S25=\"leicht\",V25>13),VLOOKUP(V25,'Boden DüV-Bolap'!A:Q,9,FALSE)*(T25+U25)-(T25+U25),IF(AND(S25=\"mittel\",V25<18),VLOOKUP(V25,'Boden DüV-Bolap'!A:Q,12,FALSE),IF(AND(S25=\"mittel\",V25>17),VLOOKUP(V25,'Boden DüV-Bolap'!A:Q,13,FALSE)*(T25+U25)-(T25+U25),IF(AND(S25=\"schwer\",V25<22),VLOOKUP(V25,'Boden DüV-Bolap'!A:Q,16,FALSE),IF(AND(S25=\"schwer\",V25>21),VLOOKUP(V25,'Boden DüV-Bolap'!A:Q,17,FALSE)*(T25+U25)-(T25+U25)))))))))","v":""},{"$f":"IF(OR(F25=\"\",G25=\"\"),\"\",IF(OR(F25=\"A\",F25=\"HG\"),0,VLOOKUP(G25,'Tab 4+5 DüV+Abfuhr_G'!A:Q,16,FALSE)))","v":""},"","",{"$f":"IF(OR(F25=\"\",G25=\"\"),\"\",IF(F25=\"g\",VLOOKUP(G25,'Tab 4+5 DüV+Abfuhr_G'!A:N,14,FALSE)*'N-DBE'!J25,IF(F25=\"A\",VLOOKUP(G25,'Tab 2+3 DüV_A'!A:L,12,FALSE)*'N-DBE'!J25,VLOOKUP(G25,'H&G LfL'!B:U,20,FALSE)*'N-DBE'!J25)))","v":""},{"$f":"IF(OR(F25=\"\",G25=\"\"),\"\",IF(OR('N-DBE'!K25=\"\",'N-DBE'!M25=0),0,IF('N-DBE'!K25=0,-AB25,('N-DBE'!K25*AB25/'N-DBE'!J25)-AB25)))","v":""},{"$f":"IF(OR(B25=\"\",G25=\"\"),\"\",IF(VLOOKUP(B25,Schlagliste!B:J,9,FALSE)=\"\",\"\",VLOOKUP(B25,Schlagliste!B:J,9,FALSE)))","v":""},{"$f":"IF(OR(AD25=\"\",S25=\"\"),\"\",IF(AD25>39,0,IF(S25=\"leicht\",VLOOKUP(AD25,'Boden DüV-Bolap'!A:AA,19,FALSE),IF(S25=\"mittel\",VLOOKUP(AD25,'Boden DüV-Bolap'!A:AA,23,FALSE),IF(S25=\"schwer\",VLOOKUP(AD25,'Boden DüV-Bolap'!A:AA,27,FALSE))))))","v":""},{"$f":"IF(OR(F25=\"\",G25=\"\",S25=\"\",AD25=\"\"),\"\",IF(AD25>39,0,IF(AND(S25=\"leicht\",AD25<7),VLOOKUP(AD25,'Boden DüV-Bolap'!A:AC,20,FALSE),IF(AND(S25=\"leicht\",AD25>6),VLOOKUP(AD25,'Boden DüV-Bolap'!A:AC,21,FALSE)*(AB25+AC25)-(AB25+AC25),IF(AND(S25=\"mittel\",AD25<11),VLOOKUP(AD25,'Boden DüV-Bolap'!A:AC,24,FALSE),IF(AND(S25=\"mittel\",AD25>10),VLOOKUP(AD25,'Boden DüV-Bolap'!A:AC,25,FALSE)*(AB25+AC25)-(AB25+AC25),IF(AND(S25=\"schwer\",AD25<15),VLOOKUP(AD25,'Boden DüV-Bolap'!A:AC,28,FALSE),IF(AND(S25=\"schwer\",AD25>14),VLOOKUP(AD25,'Boden DüV-Bolap'!A:AC,29,FALSE)*(AB25+AC25)-(AB25+AC25)))))))))","v":""},{"$f":"IF(OR(F25=\"\",G25=\"\"),\"\",IF(OR(F25=\"A\",F25=\"HG\"),0,VLOOKUP(G25,'Tab 4+5 DüV+Abfuhr_G'!A:Q,17,FALSE)))","v":""},"",""]
[{"$f":"IF('N-DBE'!A26=\"\",\"\",'N-DBE'!A26)","v":""},{"$f":"IF('N-DBE'!B26=\"\",\"\",'N-DBE'!B26)","v":""},{"$f":"IF('N-DBE'!C26=\"\",\"\",'N-DBE'!C26)","v":""},{"$f":"IF('N-DBE'!D26=\"\",\"\",'N-DBE'!D26)","v":""},{"$f":"IF('N-DBE'!E26=\"\",\"\",'N-DBE'!E26)","v":""},{"$f":"IF('N-DBE'!F26=\"\",\"\",'N-DBE'!F26)","v":""},{"$f":"IF('N-DBE'!G26=\"\",\"\",'N-DBE'!G26)","v":""},{"$f":"IF(OR(F26=\"\",G26=\"\"),\"\",IF(F26=\"g\",VLOOKUP(G26,'Tab 4+5 DüV+Abfuhr_G'!A:N,12,FALSE)*'N-DBE'!J26,IF(F26=\"A\",VLOOKUP(G26,'Tab 2+3 DüV_A'!A:L,10,FALSE)*'N-DBE'!J26,VLOOKUP(G26,'H&G LfL'!B:U,18,FALSE)*'N-DBE'!J26)))","v":""},{"$f":"IF(OR(F26=\"\",G26=\"\"),\"\",IF(OR('N-DBE'!K26=\"\",'N-DBE'!M26=0),0,IF('N-DBE'!K26=0,-H26,('N-DBE'!K26*H26/'N-DBE'!J26)-H26)))","v":""},{"$f":"IF(OR(B26=\"\",G26=\"\"),\"\",IF(VLOOKUP(B26,Schlagliste!B:J,7,FALSE)=\"\",\"\",VLOOKUP(B26,Schlagliste!B:J,7,FALSE)))","v":""},{"$f":"IF(J26=\"\",\"\",IF(J26>39,\"E\",VLOOKUP(J26,'Boden DüV-Bolap'!A:B,2,FALSE)))","v":""},{"$f":"IF(J26=\"\",\"\",IF(J26>39,0,VLOOKUP(J26,'Boden DüV-Bolap'!A:C,3,FALSE)))","v":""},{"$f":"IF(OR(F26=\"\",G26=\"\"),\"\",IF(OR(F26=\"A\",F26=\"HG\"),0,VLOOKUP(G26,'Tab 4+5 DüV+Abfuhr_G'!A:Q,15,FALSE)))","v":""},"",{"$f":"IF(OR(F26=\"\",G26=\"\"),\"\",IF(J26=\"\",SUM(H26,I26),IF(OR(K26=\"D\",K26=\"E\"),(H26+M26)*VLOOKUP(K26,'Boden DüV-Bolap'!B:E,4,FALSE),SUM(H26,I26,L26,M26))))","v":""},"",null,"",{"$f":"IF(OR(B26=\"\",G26=\"\"),\"\",IF(VLOOKUP(B26,Schlagliste!B:J,5,FALSE)=\"\",\"\",VLOOKUP(B26,Schlagliste!B:J,5,FALSE)))","v":""},{"$f":"IF(OR(F26=\"\",G26=\"\"),\"\",IF(F26=\"g\",VLOOKUP(G26,'Tab 4+5 DüV+Abfuhr_G'!A:N,13,FALSE)*'N-DBE'!J26,IF(F26=\"A\",VLOOKUP(G26,'Tab 2+3 DüV_A'!A:L,11,FALSE)*'N-DBE'!J26,VLOOKUP(G26,'H&G LfL'!B:U,19,FALSE)*'N-DBE'!J26)))","v":""},{"$f":"IF(OR(F26=\"\",G26=\"\"),\"\",IF(OR('N-DBE'!K26=\"\",'N-DBE'!M26=0),0,IF('N-DBE'!K26=0,-T26,('N-DBE'!K26*T26/'N-DBE'!J26)-T26)))","v":""},{"$f":"IF(OR(B26=\"\",G26=\"\"),\"\",IF(VLOOKUP(B26,Schlagliste!B:J,8,FALSE)=\"\",\"\",VLOOKUP(B26,Schlagliste!B:J,8,FALSE)))","v":""},{"$f":"IF(OR(V26=\"\",S26=\"\"),\"\",IF(V26>39,0,IF(S26=\"leicht\",VLOOKUP(V26,'Boden DüV-Bolap'!A:Q,7,FALSE),IF(S26=\"mittel\",VLOOKUP(V26,'Boden DüV-Bolap'!A:K,11,FALSE),IF(S26=\"schwer\",VLOOKUP(V26,'Boden DüV-Bolap'!A:R,15,FALSE))))))","v":""},{"$f":"IF(OR(F26=\"\",G26=\"\",S26=\"\",V26=\"\"),\"\",IF(V26>39,0,IF(AND(S26=\"leicht\",V26<14),VLOOKUP(V26,'Boden DüV-Bolap'!A:Q,8,FALSE),IF(AND(S26=\"leicht\",V26>13),VLOOKUP(V26,'Boden DüV-Bolap'!A:Q,9,FALSE)*(T26+U26)-(T26+U26),IF(AND(S26=\"mittel\",V26<18),VLOOKUP(V26,'Boden DüV-Bolap'!A:Q,12,FALSE),IF(AND(S26=\"mittel\",V26>17),VLOOKUP(V26,'Boden DüV-Bolap'!A:Q,13,FALSE)*(T26+U26)-(T26+U26),IF(AND(S26=\"schwer\",V26<22),VLOOKUP(V26,'Boden DüV-Bolap'!A:Q,16,FALSE),IF(AND(S26=\"schwer\",V26>21),VLOOKUP(V26,'Boden DüV-Bolap'!A:Q,17,FALSE)*(T26+U26)-(T26+U26)))))))))","v":""},{"$f":"IF(OR(F26=\"\",G26=\"\"),\"\",IF(OR(F26=\"A\",F26=\"HG\"),0,VLOOKUP(G26,'Tab 4+5 DüV+Abfuhr_G'!A:Q,16,FALSE)))","v":""},"","",{"$f":"IF(OR(F26=\"\",G26=\"\"),\"\",IF(F26=\"g\",VLOOKUP(G26,'Tab 4+5 DüV+Abfuhr_G'!A:N,14,FALSE)*'N-DBE'!J26,IF(F26=\"A\",VLOOKUP(G26,'Tab 2+3 DüV_A'!A:L,12,FALSE)*'N-DBE'!J26,VLOOKUP(G26,'H&G LfL'!B:U,20,FALSE)*'N-DBE'!J26)))","v":""},{"$f":"IF(OR(F26=\"\",G26=\"\"),\"\",IF(OR('N-DBE'!K26=\"\",'N-DBE'!M26=0),0,IF('N-DBE'!K26=0,-AB26,('N-DBE'!K26*AB26/'N-DBE'!J26)-AB26)))","v":""},{"$f":"IF(OR(B26=\"\",G26=\"\"),\"\",IF(VLOOKUP(B26,Schlagliste!B:J,9,FALSE)=\"\",\"\",VLOOKUP(B26,Schlagliste!B:J,9,FALSE)))","v":""},{"$f":"IF(OR(AD26=\"\",S26=\"\"),\"\",IF(AD26>39,0,IF(S26=\"leicht\",VLOOKUP(AD26,'Boden DüV-Bolap'!A:AA,19,FALSE),IF(S26=\"mittel\",VLOOKUP(AD26,'Boden DüV-Bolap'!A:AA,23,FALSE),IF(S26=\"schwer\",VLOOKUP(AD26,'Boden DüV-Bolap'!A:AA,27,FALSE))))))","v":""},{"$f":"IF(OR(F26=\"\",G26=\"\",S26=\"\",AD26=\"\"),\"\",IF(AD26>39,0,IF(AND(S26=\"leicht\",AD26<7),VLOOKUP(AD26,'Boden DüV-Bolap'!A:AC,20,FALSE),IF(AND(S26=\"leicht\",AD26>6),VLOOKUP(AD26,'Boden DüV-Bolap'!A:AC,21,FALSE)*(AB26+AC26)-(AB26+AC26),IF(AND(S26=\"mittel\",AD26<11),VLOOKUP(AD26,'Boden DüV-Bolap'!A:AC,24,FALSE),IF(AND(S26=\"mittel\",AD26>10),VLOOKUP(AD26,'Boden DüV-Bolap'!A:AC,25,FALSE)*(AB26+AC26)-(AB26+AC26),IF(AND(S26=\"schwer\",AD26<15),VLOOKUP(AD26,'Boden DüV-Bolap'!A:AC,28,FALSE),IF(AND(S26=\"schwer\",AD26>14),VLOOKUP(AD26,'Boden DüV-Bolap'!A:AC,29,FALSE)*(AB26+AC26)-(AB26+AC26)))))))))","v":""},{"$f":"IF(OR(F26=\"\",G26=\"\"),\"\",IF(OR(F26=\"A\",F26=\"HG\"),0,VLOOKUP(G26,'Tab 4+5 DüV+Abfuhr_G'!A:Q,17,FALSE)))","v":""},"",""]
[{"$f":"IF('N-DBE'!A27=\"\",\"\",'N-DBE'!A27)","v":""},{"$f":"IF('N-DBE'!B27=\"\",\"\",'N-DBE'!B27)","v":""},{"$f":"IF('N-DBE'!C27=\"\",\"\",'N-DBE'!C27)","v":""},{"$f":"IF('N-DBE'!D27=\"\",\"\",'N-DBE'!D27)","v":""},{"$f":"IF('N-DBE'!E27=\"\",\"\",'N-DBE'!E27)","v":""},{"$f":"IF('N-DBE'!F27=\"\",\"\",'N-DBE'!F27)","v":""},{"$f":"IF('N-DBE'!G27=\"\",\"\",'N-DBE'!G27)","v":""},{"$f":"IF(OR(F27=\"\",G27=\"\"),\"\",IF(F27=\"g\",VLOOKUP(G27,'Tab 4+5 DüV+Abfuhr_G'!A:N,12,FALSE)*'N-DBE'!J27,IF(F27=\"A\",VLOOKUP(G27,'Tab 2+3 DüV_A'!A:L,10,FALSE)*'N-DBE'!J27,VLOOKUP(G27,'H&G LfL'!B:U,18,FALSE)*'N-DBE'!J27)))","v":""},{"$f":"IF(OR(F27=\"\",G27=\"\"),\"\",IF(OR('N-DBE'!K27=\"\",'N-DBE'!M27=0),0,IF('N-DBE'!K27=0,-H27,('N-DBE'!K27*H27/'N-DBE'!J27)-H27)))","v":""},{"$f":"IF(OR(B27=\"\",G27=\"\"),\"\",IF(VLOOKUP(B27,Schlagliste!B:J,7,FALSE)=\"\",\"\",VLOOKUP(B27,Schlagliste!B:J,7,FALSE)))","v":""},{"$f":"IF(J27=\"\",\"\",IF(J27>39,\"E\",VLOOKUP(J27,'Boden DüV-Bolap'!A:B,2,FALSE)))","v":""},{"$f":"IF(J27=\"\",\"\",IF(J27>39,0,VLOOKUP(J27,'Boden DüV-Bolap'!A:C,3,FALSE)))","v":""},{"$f":"IF(OR(F27=\"\",G27=\"\"),\"\",IF(OR(F27=\"A\",F27=\"HG\"),0,VLOOKUP(G27,'Tab 4+5 DüV+Abfuhr_G'!A:Q,15,FALSE)))","v":""},"",{"$f":"IF(OR(F27=\"\",G27=\"\"),\"\",IF(J27=\"\",SUM(H27,I27),IF(OR(K27=\"D\",K27=\"E\"),(H27+M27)*VLOOKUP(K27,'Boden DüV-Bolap'!B:E,4,FALSE),SUM(H27,I27,L27,M27))))","v":""},"",null,"",{"$f":"IF(OR(B27=\"\",G27=\"\"),\"\",IF(VLOOKUP(B27,Schlagliste!B:J,5,FALSE)=\"\",\"\",VLOOKUP(B27,Schlagliste!B:J,5,FALSE)))","v":""},{"$f":"IF(OR(F27=\"\",G27=\"\"),\"\",IF(F27=\"g\",VLOOKUP(G27,'Tab 4+5 DüV+Abfuhr_G'!A:N,13,FALSE)*'N-DBE'!J27,IF(F27=\"A\",VLOOKUP(G27,'Tab 2+3 DüV_A'!A:L,11,FALSE)*'N-DBE'!J27,VLOOKUP(G27,'H&G LfL'!B:U,19,FALSE)*'N-DBE'!J27)))","v":""},{"$f":"IF(OR(F27=\"\",G27=\"\"),\"\",IF(OR('N-DBE'!K27=\"\",'N-DBE'!M27=0),0,IF('N-DBE'!K27=0,-T27,('N-DBE'!K27*T27/'N-DBE'!J27)-T27)))","v":""},{"$f":"IF(OR(B27=\"\",G27=\"\"),\"\",IF(VLOOKUP(B27,Schlagliste!B:J,8,FALSE)=\"\",\"\",VLOOKUP(B27,Schlagliste!B:J,8,FALSE)))","v":""},{"$f":"IF(OR(V27=\"\",S27=\"\"),\"\",IF(V27>39,0,IF(S27=\"leicht\",VLOOKUP(V27,'Boden DüV-Bolap'!A:Q,7,FALSE),IF(S27=\"mittel\",VLOOKUP(V27,'Boden DüV-Bolap'!A:K,11,FALSE),IF(S27=\"schwer\",VLOOKUP(V27,'Boden DüV-Bolap'!A:R,15,FALSE))))))","v":""},{"$f":"IF(OR(F27=\"\",G27=\"\",S27=\"\",V27=\"\"),\"\",IF(V27>39,0,IF(AND(S27=\"leicht\",V27<14),VLOOKUP(V27,'Boden DüV-Bolap'!A:Q,8,FALSE),IF(AND(S27=\"leicht\",V27>13),VLOOKUP(V27,'Boden DüV-Bolap'!A:Q,9,FALSE)*(T27+U27)-(T27+U27),IF(AND(S27=\"mittel\",V27<18),VLOOKUP(V27,'Boden DüV-Bolap'!A:Q,12,FALSE),IF(AND(S27=\"mittel\",V27>17),VLOOKUP(V27,'Boden DüV-Bolap'!A:Q,13,FALSE)*(T27+U27)-(T27+U27),IF(AND(S27=\"schwer\",V27<22),VLOOKUP(V27,'Boden DüV-Bolap'!A:Q,16,FALSE),IF(AND(S27=\"schwer\",V27>21),VLOOKUP(V27,'Boden DüV-Bolap'!A:Q,17,FALSE)*(T27+U27)-(T27+U27)))))))))","v":""},{"$f":"IF(OR(F27=\"\",G27=\"\"),\"\",IF(OR(F27=\"A\",F27=\"HG\"),0,VLOOKUP(G27,'Tab 4+5 DüV+Abfuhr_G'!A:Q,16,FALSE)))","v":""},"","",{"$f":"IF(OR(F27=\"\",G27=\"\"),\"\",IF(F27=\"g\",VLOOKUP(G27,'Tab 4+5 DüV+Abfuhr_G'!A:N,14,FALSE)*'N-DBE'!J27,IF(F27=\"A\",VLOOKUP(G27,'Tab 2+3 DüV_A'!A:L,12,FALSE)*'N-DBE'!J27,VLOOKUP(G27,'H&G LfL'!B:U,20,FALSE)*'N-DBE'!J27)))","v":""},{"$f":"IF(OR(F27=\"\",G27=\"\"),\"\",IF(OR('N-DBE'!K27=\"\",'N-DBE'!M27=0),0,IF('N-DBE'!K27=0,-AB27,('N-DBE'!K27*AB27/'N-DBE'!J27)-AB27)))","v":""},{"$f":"IF(OR(B27=\"\",G27=\"\"),\"\",IF(VLOOKUP(B27,Schlagliste!B:J,9,FALSE)=\"\",\"\",VLOOKUP(B27,Schlagliste!B:J,9,FALSE)))","v":""},{"$f":"IF(OR(AD27=\"\",S27=\"\"),\"\",IF(AD27>39,0,IF(S27=\"leicht\",VLOOKUP(AD27,'Boden DüV-Bolap'!A:AA,19,FALSE),IF(S27=\"mittel\",VLOOKUP(AD27,'Boden DüV-Bolap'!A:AA,23,FALSE),IF(S27=\"schwer\",VLOOKUP(AD27,'Boden DüV-Bolap'!A:AA,27,FALSE))))))","v":""},{"$f":"IF(OR(F27=\"\",G27=\"\",S27=\"\",AD27=\"\"),\"\",IF(AD27>39,0,IF(AND(S27=\"leicht\",AD27<7),VLOOKUP(AD27,'Boden DüV-Bolap'!A:AC,20,FALSE),IF(AND(S27=\"leicht\",AD27>6),VLOOKUP(AD27,'Boden DüV-Bolap'!A:AC,21,FALSE)*(AB27+AC27)-(AB27+AC27),IF(AND(S27=\"mittel\",AD27<11),VLOOKUP(AD27,'Boden DüV-Bolap'!A:AC,24,FALSE),IF(AND(S27=\"mittel\",AD27>10),VLOOKUP(AD27,'Boden DüV-Bolap'!A:AC,25,FALSE)*(AB27+AC27)-(AB27+AC27),IF(AND(S27=\"schwer\",AD27<15),VLOOKUP(AD27,'Boden DüV-Bolap'!A:AC,28,FALSE),IF(AND(S27=\"schwer\",AD27>14),VLOOKUP(AD27,'Boden DüV-Bolap'!A:AC,29,FALSE)*(AB27+AC27)-(AB27+AC27)))))))))","v":""},{"$f":"IF(OR(F27=\"\",G27=\"\"),\"\",IF(OR(F27=\"A\",F27=\"HG\"),0,VLOOKUP(G27,'Tab 4+5 DüV+Abfuhr_G'!A:Q,17,FALSE)))","v":""},"",""]
[{"$f":"IF('N-DBE'!A28=\"\",\"\",'N-DBE'!A28)","v":""},{"$f":"IF('N-DBE'!B28=\"\",\"\",'N-DBE'!B28)","v":""},{"$f":"IF('N-DBE'!C28=\"\",\"\",'N-DBE'!C28)","v":""},{"$f":"IF('N-DBE'!D28=\"\",\"\",'N-DBE'!D28)","v":""},{"$f":"IF('N-DBE'!E28=\"\",\"\",'N-DBE'!E28)","v":""},{"$f":"IF('N-DBE'!F28=\"\",\"\",'N-DBE'!F28)","v":""},{"$f":"IF('N-DBE'!G28=\"\",\"\",'N-DBE'!G28)","v":""},{"$f":"IF(OR(F28=\"\",G28=\"\"),\"\",IF(F28=\"g\",VLOOKUP(G28,'Tab 4+5 DüV+Abfuhr_G'!A:N,12,FALSE)*'N-DBE'!J28,IF(F28=\"A\",VLOOKUP(G28,'Tab 2+3 DüV_A'!A:L,10,FALSE)*'N-DBE'!J28,VLOOKUP(G28,'H&G LfL'!B:U,18,FALSE)*'N-DBE'!J28)))","v":""},{"$f":"IF(OR(F28=\"\",G28=\"\"),\"\",IF(OR('N-DBE'!K28=\"\",'N-DBE'!M28=0),0,IF('N-DBE'!K28=0,-H28,('N-DBE'!K28*H28/'N-DBE'!J28)-H28)))","v":""},{"$f":"IF(OR(B28=\"\",G28=\"\"),\"\",IF(VLOOKUP(B28,Schlagliste!B:J,7,FALSE)=\"\",\"\",VLOOKUP(B28,Schlagliste!B:J,7,FALSE)))","v":""},{"$f":"IF(J28=\"\",\"\",IF(J28>39,\"E\",VLOOKUP(J28,'Boden DüV-Bolap'!A:B,2,FALSE)))","v":""},{"$f":"IF(J28=\"\",\"\",IF(J28>39,0,VLOOKUP(J28,'Boden DüV-Bolap'!A:C,3,FALSE)))","v":""},{"$f":"IF(OR(F28=\"\",G28=\"\"),\"\",IF(OR(F28=\"A\",F28=\"HG\"),0,VLOOKUP(G28,'Tab 4+5 DüV+Abfuhr_G'!A:Q,15,FALSE)))","v":""},"",{"$f":"IF(OR(F28=\"\",G28=\"\"),\"\",IF(J28=\"\",SUM(H28,I28),IF(OR(K28=\"D\",K28=\"E\"),(H28+M28)*VLOOKUP(K28,'Boden DüV-Bolap'!B:E,4,FALSE),SUM(H28,I28,L28,M28))))","v":""},"",null,"",{"$f":"IF(OR(B28=\"\",G28=\"\"),\"\",IF(VLOOKUP(B28,Schlagliste!B:J,5,FALSE)=\"\",\"\",VLOOKUP(B28,Schlagliste!B:J,5,FALSE)))","v":""},{"$f":"IF(OR(F28=\"\",G28=\"\"),\"\",IF(F28=\"g\",VLOOKUP(G28,'Tab 4+5 DüV+Abfuhr_G'!A:N,13,FALSE)*'N-DBE'!J28,IF(F28=\"A\",VLOOKUP(G28,'Tab 2+3 DüV_A'!A:L,11,FALSE)*'N-DBE'!J28,VLOOKUP(G28,'H&G LfL'!B:U,19,FALSE)*'N-DBE'!J28)))","v":""},{"$f":"IF(OR(F28=\"\",G28=\"\"),\"\",IF(OR('N-DBE'!K28=\"\",'N-DBE'!M28=0),0,IF('N-DBE'!K28=0,-T28,('N-DBE'!K28*T28/'N-DBE'!J28)-T28)))","v":""},{"$f":"IF(OR(B28=\"\",G28=\"\"),\"\",IF(VLOOKUP(B28,Schlagliste!B:J,8,FALSE)=\"\",\"\",VLOOKUP(B28,Schlagliste!B:J,8,FALSE)))","v":""},{"$f":"IF(OR(V28=\"\",S28=\"\"),\"\",IF(V28>39,0,IF(S28=\"leicht\",VLOOKUP(V28,'Boden DüV-Bolap'!A:Q,7,FALSE),IF(S28=\"mittel\",VLOOKUP(V28,'Boden DüV-Bolap'!A:K,11,FALSE),IF(S28=\"schwer\",VLOOKUP(V28,'Boden DüV-Bolap'!A:R,15,FALSE))))))","v":""},{"$f":"IF(OR(F28=\"\",G28=\"\",S28=\"\",V28=\"\"),\"\",IF(V28>39,0,IF(AND(S28=\"leicht\",V28<14),VLOOKUP(V28,'Boden DüV-Bolap'!A:Q,8,FALSE),IF(AND(S28=\"leicht\",V28>13),VLOOKUP(V28,'Boden DüV-Bolap'!A:Q,9,FALSE)*(T28+U28)-(T28+U28),IF(AND(S28=\"mittel\",V28<18),VLOOKUP(V28,'Boden DüV-Bolap'!A:Q,12,FALSE),IF(AND(S28=\"mittel\",V28>17),VLOOKUP(V28,'Boden DüV-Bolap'!A:Q,13,FALSE)*(T28+U28)-(T28+U28),IF(AND(S28=\"schwer\",V28<22),VLOOKUP(V28,'Boden DüV-Bolap'!A:Q,16,FALSE),IF(AND(S28=\"schwer\",V28>21),VLOOKUP(V28,'Boden DüV-Bolap'!A:Q,17,FALSE)*(T28+U28)-(T28+U28)))))))))","v":""},{"$f":"IF(OR(F28=\"\",G28=\"\"),\"\",IF(OR(F28=\"A\",F28=\"HG\"),0,VLOOKUP(G28,'Tab 4+5 DüV+Abfuhr_G'!A:Q,16,FALSE)))","v":""},"","",{"$f":"IF(OR(F28=\"\",G28=\"\"),\"\",IF(F28=\"g\",VLOOKUP(G28,'Tab 4+5 DüV+Abfuhr_G'!A:N,14,FALSE)*'N-DBE'!J28,IF(F28=\"A\",VLOOKUP(G28,'Tab 2+3 DüV_A'!A:L,12,FALSE)*'N-DBE'!J28,VLOOKUP(G28,'H&G LfL'!B:U,20,FALSE)*'N-DBE'!J28)))","v":""},{"$f":"IF(OR(F28=\"\",G28=\"\"),\"\",IF(OR('N-DBE'!K28=\"\",'N-DBE'!M28=0),0,IF('N-DBE'!K28=0,-AB28,('N-DBE'!K28*AB28/'N-DBE'!J28)-AB28)))","v":""},{"$f":"IF(OR(B28=\"\",G28=\"\"),\"\",IF(VLOOKUP(B28,Schlagliste!B:J,9,FALSE)=\"\",\"\",VLOOKUP(B28,Schlagliste!B:J,9,FALSE)))","v":""},{"$f":"IF(OR(AD28=\"\",S28=\"\"),\"\",IF(AD28>39,0,IF(S28=\"leicht\",VLOOKUP(AD28,'Boden DüV-Bolap'!A:AA,19,FALSE),IF(S28=\"mittel\",VLOOKUP(AD28,'Boden DüV-Bolap'!A:AA,23,FALSE),IF(S28=\"schwer\",VLOOKUP(AD28,'Boden DüV-Bolap'!A:AA,27,FALSE))))))","v":""},{"$f":"IF(OR(F28=\"\",G28=\"\",S28=\"\",AD28=\"\"),\"\",IF(AD28>39,0,IF(AND(S28=\"leicht\",AD28<7),VLOOKUP(AD28,'Boden DüV-Bolap'!A:AC,20,FALSE),IF(AND(S28=\"leicht\",AD28>6),VLOOKUP(AD28,'Boden DüV-Bolap'!A:AC,21,FALSE)*(AB28+AC28)-(AB28+AC28),IF(AND(S28=\"mittel\",AD28<11),VLOOKUP(AD28,'Boden DüV-Bolap'!A:AC,24,FALSE),IF(AND(S28=\"mittel\",AD28>10),VLOOKUP(AD28,'Boden DüV-Bolap'!A:AC,25,FALSE)*(AB28+AC28)-(AB28+AC28),IF(AND(S28=\"schwer\",AD28<15),VLOOKUP(AD28,'Boden DüV-Bolap'!A:AC,28,FALSE),IF(AND(S28=\"schwer\",AD28>14),VLOOKUP(AD28,'Boden DüV-Bolap'!A:AC,29,FALSE)*(AB28+AC28)-(AB28+AC28)))))))))","v":""},{"$f":"IF(OR(F28=\"\",G28=\"\"),\"\",IF(OR(F28=\"A\",F28=\"HG\"),0,VLOOKUP(G28,'Tab 4+5 DüV+Abfuhr_G'!A:Q,17,FALSE)))","v":""},"",""]
[{"$f":"IF('N-DBE'!A29=\"\",\"\",'N-DBE'!A29)","v":""},{"$f":"IF('N-DBE'!B29=\"\",\"\",'N-DBE'!B29)","v":""},{"$f":"IF('N-DBE'!C29=\"\",\"\",'N-DBE'!C29)","v":""},{"$f":"IF('N-DBE'!D29=\"\",\"\",'N-DBE'!D29)","v":""},{"$f":"IF('N-DBE'!E29=\"\",\"\",'N-DBE'!E29)","v":""},{"$f":"IF('N-DBE'!F29=\"\",\"\",'N-DBE'!F29)","v":""},{"$f":"IF('N-DBE'!G29=\"\",\"\",'N-DBE'!G29)","v":""},{"$f":"IF(OR(F29=\"\",G29=\"\"),\"\",IF(F29=\"g\",VLOOKUP(G29,'Tab 4+5 DüV+Abfuhr_G'!A:N,12,FALSE)*'N-DBE'!J29,IF(F29=\"A\",VLOOKUP(G29,'Tab 2+3 DüV_A'!A:L,10,FALSE)*'N-DBE'!J29,VLOOKUP(G29,'H&G LfL'!B:U,18,FALSE)*'N-DBE'!J29)))","v":""},{"$f":"IF(OR(F29=\"\",G29=\"\"),\"\",IF(OR('N-DBE'!K29=\"\",'N-DBE'!M29=0),0,IF('N-DBE'!K29=0,-H29,('N-DBE'!K29*H29/'N-DBE'!J29)-H29)))","v":""},{"$f":"IF(OR(B29=\"\",G29=\"\"),\"\",IF(VLOOKUP(B29,Schlagliste!B:J,7,FALSE)=\"\",\"\",VLOOKUP(B29,Schlagliste!B:J,7,FALSE)))","v":""},{"$f":"IF(J29=\"\",\"\",IF(J29>39,\"E\",VLOOKUP(J29,'Boden DüV-Bolap'!A:B,2,FALSE)))","v":""},{"$f":"IF(J29=\"\",\"\",IF(J29>39,0,VLOOKUP(J29,'Boden DüV-Bolap'!A:C,3,FALSE)))","v":""},{"$f":"IF(OR(F29=\"\",G29=\"\"),\"\",IF(OR(F29=\"A\",F29=\"HG\"),0,VLOOKUP(G29,'Tab 4+5 DüV+Abfuhr_G'!A:Q,15,FALSE)))","v":""},"",{"$f":"IF(OR(F29=\"\",G29=\"\"),\"\",IF(J29=\"\",SUM(H29,I29),IF(OR(K29=\"D\",K29=\"E\"),(H29+M29)*VLOOKUP(K29,'Boden DüV-Bolap'!B:E,4,FALSE),SUM(H29,I29,L29,M29))))","v":""},"",null,"",{"$f":"IF(OR(B29=\"\",G29=\"\"),\"\",IF(VLOOKUP(B29,Schlagliste!B:J,5,FALSE)=\"\",\"\",VLOOKUP(B29,Schlagliste!B:J,5,FALSE)))","v":""},{"$f":"IF(OR(F29=\"\",G29=\"\"),\"\",IF(F29=\"g\",VLOOKUP(G29,'Tab 4+5 DüV+Abfuhr_G'!A:N,13,FALSE)*'N-DBE'!J29,IF(F29=\"A\",VLOOKUP(G29,'Tab 2+3 DüV_A'!A:L,11,FALSE)*'N-DBE'!J29,VLOOKUP(G29,'H&G LfL'!B:U,19,FALSE)*'N-DBE'!J29)))","v":""},{"$f":"IF(OR(F29=\"\",G29=\"\"),\"\",IF(OR('N-DBE'!K29=\"\",'N-DBE'!M29=0),0,IF('N-DBE'!K29=0,-T29,('N-DBE'!K29*T29/'N-DBE'!J29)-T29)))","v":""},{"$f":"IF(OR(B29=\"\",G29=\"\"),\"\",IF(VLOOKUP(B29,Schlagliste!B:J,8,FALSE)=\"\",\"\",VLOOKUP(B29,Schlagliste!B:J,8,FALSE)))","v":""},{"$f":"IF(OR(V29=\"\",S29=\"\"),\"\",IF(V29>39,0,IF(S29=\"leicht\",VLOOKUP(V29,'Boden DüV-Bolap'!A:Q,7,FALSE),IF(S29=\"mittel\",VLOOKUP(V29,'Boden DüV-Bolap'!A:K,11,FALSE),IF(S29=\"schwer\",VLOOKUP(V29,'Boden DüV-Bolap'!A:R,15,FALSE))))))","v":""},{"$f":"IF(OR(F29=\"\",G29=\"\",S29=\"\",V29=\"\"),\"\",IF(V29>39,0,IF(AND(S29=\"leicht\",V29<14),VLOOKUP(V29,'Boden DüV-Bolap'!A:Q,8,FALSE),IF(AND(S29=\"leicht\",V29>13),VLOOKUP(V29,'Boden DüV-Bolap'!A:Q,9,FALSE)*(T29+U29)-(T29+U29),IF(AND(S29=\"mittel\",V29<18),VLOOKUP(V29,'Boden DüV-Bolap'!A:Q,12,FALSE),IF(AND(S29=\"mittel\",V29>17),VLOOKUP(V29,'Boden DüV-Bolap'!A:Q,13,FALSE)*(T29+U29)-(T29+U29),IF(AND(S29=\"schwer\",V29<22),VLOOKUP(V29,'Boden DüV-Bolap'!A:Q,16,FALSE),IF(AND(S29=\"schwer\",V29>21),VLOOKUP(V29,'Boden DüV-Bolap'!A:Q,17,FALSE)*(T29+U29)-(T29+U29)))))))))","v":""},{"$f":"IF(OR(F29=\"\",G29=\"\"),\"\",IF(OR(F29=\"A\",F29=\"HG\"),0,VLOOKUP(G29,'Tab 4+5 DüV+Abfuhr_G'!A:Q,16,FALSE)))","v":""},"","",{"$f":"IF(OR(F29=\"\",G29=\"\"),\"\",IF(F29=\"g\",VLOOKUP(G29,'Tab 4+5 DüV+Abfuhr_G'!A:N,14,FALSE)*'N-DBE'!J29,IF(F29=\"A\",VLOOKUP(G29,'Tab 2+3 DüV_A'!A:L,12,FALSE)*'N-DBE'!J29,VLOOKUP(G29,'H&G LfL'!B:U,20,FALSE)*'N-DBE'!J29)))","v":""},{"$f":"IF(OR(F29=\"\",G29=\"\"),\"\",IF(OR('N-DBE'!K29=\"\",'N-DBE'!M29=0),0,IF('N-DBE'!K29=0,-AB29,('N-DBE'!K29*AB29/'N-DBE'!J29)-AB29)))","v":""},{"$f":"IF(OR(B29=\"\",G29=\"\"),\"\",IF(VLOOKUP(B29,Schlagliste!B:J,9,FALSE)=\"\",\"\",VLOOKUP(B29,Schlagliste!B:J,9,FALSE)))","v":""},{"$f":"IF(OR(AD29=\"\",S29=\"\"),\"\",IF(AD29>39,0,IF(S29=\"leicht\",VLOOKUP(AD29,'Boden DüV-Bolap'!A:AA,19,FALSE),IF(S29=\"mittel\",VLOOKUP(AD29,'Boden DüV-Bolap'!A:AA,23,FALSE),IF(S29=\"schwer\",VLOOKUP(AD29,'Boden DüV-Bolap'!A:AA,27,FALSE))))))","v":""},{"$f":"IF(OR(F29=\"\",G29=\"\",S29=\"\",AD29=\"\"),\"\",IF(AD29>39,0,IF(AND(S29=\"leicht\",AD29<7),VLOOKUP(AD29,'Boden DüV-Bolap'!A:AC,20,FALSE),IF(AND(S29=\"leicht\",AD29>6),VLOOKUP(AD29,'Boden DüV-Bolap'!A:AC,21,FALSE)*(AB29+AC29)-(AB29+AC29),IF(AND(S29=\"mittel\",AD29<11),VLOOKUP(AD29,'Boden DüV-Bolap'!A:AC,24,FALSE),IF(AND(S29=\"mittel\",AD29>10),VLOOKUP(AD29,'Boden DüV-Bolap'!A:AC,25,FALSE)*(AB29+AC29)-(AB29+AC29),IF(AND(S29=\"schwer\",AD29<15),VLOOKUP(AD29,'Boden DüV-Bolap'!A:AC,28,FALSE),IF(AND(S29=\"schwer\",AD29>14),VLOOKUP(AD29,'Boden DüV-Bolap'!A:AC,29,FALSE)*(AB29+AC29)-(AB29+AC29)))))))))","v":""},{"$f":"IF(OR(F29=\"\",G29=\"\"),\"\",IF(OR(F29=\"A\",F29=\"HG\"),0,VLOOKUP(G29,'Tab 4+5 DüV+Abfuhr_G'!A:Q,17,FALSE)))","v":""},"",""]
[{"$f":"IF('N-DBE'!A30=\"\",\"\",'N-DBE'!A30)","v":""},{"$f":"IF('N-DBE'!B30=\"\",\"\",'N-DBE'!B30)","v":""},{"$f":"IF('N-DBE'!C30=\"\",\"\",'N-DBE'!C30)","v":""},{"$f":"IF('N-DBE'!D30=\"\",\"\",'N-DBE'!D30)","v":""},{"$f":"IF('N-DBE'!E30=\"\",\"\",'N-DBE'!E30)","v":""},{"$f":"IF('N-DBE'!F30=\"\",\"\",'N-DBE'!F30)","v":""},{"$f":"IF('N-DBE'!G30=\"\",\"\",'N-DBE'!G30)","v":""},{"$f":"IF(OR(F30=\"\",G30=\"\"),\"\",IF(F30=\"g\",VLOOKUP(G30,'Tab 4+5 DüV+Abfuhr_G'!A:N,12,FALSE)*'N-DBE'!J30,IF(F30=\"A\",VLOOKUP(G30,'Tab 2+3 DüV_A'!A:L,10,FALSE)*'N-DBE'!J30,VLOOKUP(G30,'H&G LfL'!B:U,18,FALSE)*'N-DBE'!J30)))","v":""},{"$f":"IF(OR(F30=\"\",G30=\"\"),\"\",IF(OR('N-DBE'!K30=\"\",'N-DBE'!M30=0),0,IF('N-DBE'!K30=0,-H30,('N-DBE'!K30*H30/'N-DBE'!J30)-H30)))","v":""},{"$f":"IF(OR(B30=\"\",G30=\"\"),\"\",IF(VLOOKUP(B30,Schlagliste!B:J,7,FALSE)=\"\",\"\",VLOOKUP(B30,Schlagliste!B:J,7,FALSE)))","v":""},{"$f":"IF(J30=\"\",\"\",IF(J30>39,\"E\",VLOOKUP(J30,'Boden DüV-Bolap'!A:B,2,FALSE)))","v":""},{"$f":"IF(J30=\"\",\"\",IF(J30>39,0,VLOOKUP(J30,'Boden DüV-Bolap'!A:C,3,FALSE)))","v":""},{"$f":"IF(OR(F30=\"\",G30=\"\"),\"\",IF(OR(F30=\"A\",F30=\"HG\"),0,VLOOKUP(G30,'Tab 4+5 DüV+Abfuhr_G'!A:Q,15,FALSE)))","v":""},"",{"$f":"IF(OR(F30=\"\",G30=\"\"),\"\",IF(J30=\"\",SUM(H30,I30),IF(OR(K30=\"D\",K30=\"E\"),(H30+M30)*VLOOKUP(K30,'Boden DüV-Bolap'!B:E,4,FALSE),SUM(H30,I30,L30,M30))))","v":""},"",null,"",{"$f":"IF(OR(B30=\"\",G30=\"\"),\"\",IF(VLOOKUP(B30,Schlagliste!B:J,5,FALSE)=\"\",\"\",VLOOKUP(B30,Schlagliste!B:J,5,FALSE)))","v":""},{"$f":"IF(OR(F30=\"\",G30=\"\"),\"\",IF(F30=\"g\",VLOOKUP(G30,'Tab 4+5 DüV+Abfuhr_G'!A:N,13,FALSE)*'N-DBE'!J30,IF(F30=\"A\",VLOOKUP(G30,'Tab 2+3 DüV_A'!A:L,11,FALSE)*'N-DBE'!J30,VLOOKUP(G30,'H&G LfL'!B:U,19,FALSE)*'N-DBE'!J30)))","v":""},{"$f":"IF(OR(F30=\"\",G30=\"\"),\"\",IF(OR('N-DBE'!K30=\"\",'N-DBE'!M30=0),0,IF('N-DBE'!K30=0,-T30,('N-DBE'!K30*T30/'N-DBE'!J30)-T30)))","v":""},{"$f":"IF(OR(B30=\"\",G30=\"\"),\"\",IF(VLOOKUP(B30,Schlagliste!B:J,8,FALSE)=\"\",\"\",VLOOKUP(B30,Schlagliste!B:J,8,FALSE)))","v":""},{"$f":"IF(OR(V30=\"\",S30=\"\"),\"\",IF(V30>39,0,IF(S30=\"leicht\",VLOOKUP(V30,'Boden DüV-Bolap'!A:Q,7,FALSE),IF(S30=\"mittel\",VLOOKUP(V30,'Boden DüV-Bolap'!A:K,11,FALSE),IF(S30=\"schwer\",VLOOKUP(V30,'Boden DüV-Bolap'!A:R,15,FALSE))))))","v":""},{"$f":"IF(OR(F30=\"\",G30=\"\",S30=\"\",V30=\"\"),\"\",IF(V30>39,0,IF(AND(S30=\"leicht\",V30<14),VLOOKUP(V30,'Boden DüV-Bolap'!A:Q,8,FALSE),IF(AND(S30=\"leicht\",V30>13),VLOOKUP(V30,'Boden DüV-Bolap'!A:Q,9,FALSE)*(T30+U30)-(T30+U30),IF(AND(S30=\"mittel\",V30<18),VLOOKUP(V30,'Boden DüV-Bolap'!A:Q,12,FALSE),IF(AND(S30=\"mittel\",V30>17),VLOOKUP(V30,'Boden DüV-Bolap'!A:Q,13,FALSE)*(T30+U30)-(T30+U30),IF(AND(S30=\"schwer\",V30<22),VLOOKUP(V30,'Boden DüV-Bolap'!A:Q,16,FALSE),IF(AND(S30=\"schwer\",V30>21),VLOOKUP(V30,'Boden DüV-Bolap'!A:Q,17,FALSE)*(T30+U30)-(T30+U30)))))))))","v":""},{"$f":"IF(OR(F30=\"\",G30=\"\"),\"\",IF(OR(F30=\"A\",F30=\"HG\"),0,VLOOKUP(G30,'Tab 4+5 DüV+Abfuhr_G'!A:Q,16,FALSE)))","v":""},"","",{"$f":"IF(OR(F30=\"\",G30=\"\"),\"\",IF(F30=\"g\",VLOOKUP(G30,'Tab 4+5 DüV+Abfuhr_G'!A:N,14,FALSE)*'N-DBE'!J30,IF(F30=\"A\",VLOOKUP(G30,'Tab 2+3 DüV_A'!A:L,12,FALSE)*'N-DBE'!J30,VLOOKUP(G30,'H&G LfL'!B:U,20,FALSE)*'N-DBE'!J30)))","v":""},{"$f":"IF(OR(F30=\"\",G30=\"\"),\"\",IF(OR('N-DBE'!K30=\"\",'N-DBE'!M30=0),0,IF('N-DBE'!K30=0,-AB30,('N-DBE'!K30*AB30/'N-DBE'!J30)-AB30)))","v":""},{"$f":"IF(OR(B30=\"\",G30=\"\"),\"\",IF(VLOOKUP(B30,Schlagliste!B:J,9,FALSE)=\"\",\"\",VLOOKUP(B30,Schlagliste!B:J,9,FALSE)))","v":""},{"$f":"IF(OR(AD30=\"\",S30=\"\"),\"\",IF(AD30>39,0,IF(S30=\"leicht\",VLOOKUP(AD30,'Boden DüV-Bolap'!A:AA,19,FALSE),IF(S30=\"mittel\",VLOOKUP(AD30,'Boden DüV-Bolap'!A:AA,23,FALSE),IF(S30=\"schwer\",VLOOKUP(AD30,'Boden DüV-Bolap'!A:AA,27,FALSE))))))","v":""},{"$f":"IF(OR(F30=\"\",G30=\"\",S30=\"\",AD30=\"\"),\"\",IF(AD30>39,0,IF(AND(S30=\"leicht\",AD30<7),VLOOKUP(AD30,'Boden DüV-Bolap'!A:AC,20,FALSE),IF(AND(S30=\"leicht\",AD30>6),VLOOKUP(AD30,'Boden DüV-Bolap'!A:AC,21,FALSE)*(AB30+AC30)-(AB30+AC30),IF(AND(S30=\"mittel\",AD30<11),VLOOKUP(AD30,'Boden DüV-Bolap'!A:AC,24,FALSE),IF(AND(S30=\"mittel\",AD30>10),VLOOKUP(AD30,'Boden DüV-Bolap'!A:AC,25,FALSE)*(AB30+AC30)-(AB30+AC30),IF(AND(S30=\"schwer\",AD30<15),VLOOKUP(AD30,'Boden DüV-Bolap'!A:AC,28,FALSE),IF(AND(S30=\"schwer\",AD30>14),VLOOKUP(AD30,'Boden DüV-Bolap'!A:AC,29,FALSE)*(AB30+AC30)-(AB30+AC30)))))))))","v":""},{"$f":"IF(OR(F30=\"\",G30=\"\"),\"\",IF(OR(F30=\"A\",F30=\"HG\"),0,VLOOKUP(G30,'Tab 4+5 DüV+Abfuhr_G'!A:Q,17,FALSE)))","v":""},"",""]
[{"$f":"IF('N-DBE'!A31=\"\",\"\",'N-DBE'!A31)","v":""},{"$f":"IF('N-DBE'!B31=\"\",\"\",'N-DBE'!B31)","v":""},{"$f":"IF('N-DBE'!C31=\"\",\"\",'N-DBE'!C31)","v":""},{"$f":"IF('N-DBE'!D31=\"\",\"\",'N-DBE'!D31)","v":""},{"$f":"IF('N-DBE'!E31=\"\",\"\",'N-DBE'!E31)","v":""},{"$f":"IF('N-DBE'!F31=\"\",\"\",'N-DBE'!F31)","v":""},{"$f":"IF('N-DBE'!G31=\"\",\"\",'N-DBE'!G31)","v":""},{"$f":"IF(OR(F31=\"\",G31=\"\"),\"\",IF(F31=\"g\",VLOOKUP(G31,'Tab 4+5 DüV+Abfuhr_G'!A:N,12,FALSE)*'N-DBE'!J31,IF(F31=\"A\",VLOOKUP(G31,'Tab 2+3 DüV_A'!A:L,10,FALSE)*'N-DBE'!J31,VLOOKUP(G31,'H&G LfL'!B:U,18,FALSE)*'N-DBE'!J31)))","v":""},{"$f":"IF(OR(F31=\"\",G31=\"\"),\"\",IF(OR('N-DBE'!K31=\"\",'N-DBE'!M31=0),0,IF('N-DBE'!K31=0,-H31,('N-DBE'!K31*H31/'N-DBE'!J31)-H31)))","v":""},{"$f":"IF(OR(B31=\"\",G31=\"\"),\"\",IF(VLOOKUP(B31,Schlagliste!B:J,7,FALSE)=\"\",\"\",VLOOKUP(B31,Schlagliste!B:J,7,FALSE)))","v":""},{"$f":"IF(J31=\"\",\"\",IF(J31>39,\"E\",VLOOKUP(J31,'Boden DüV-Bolap'!A:B,2,FALSE)))","v":""},{"$f":"IF(J31=\"\",\"\",IF(J31>39,0,VLOOKUP(J31,'Boden DüV-Bolap'!A:C,3,FALSE)))","v":""},{"$f":"IF(OR(F31=\"\",G31=\"\"),\"\",IF(OR(F31=\"A\",F31=\"HG\"),0,VLOOKUP(G31,'Tab 4+5 DüV+Abfuhr_G'!A:Q,15,FALSE)))","v":""},"",{"$f":"IF(OR(F31=\"\",G31=\"\"),\"\",IF(J31=\"\",SUM(H31,I31),IF(OR(K31=\"D\",K31=\"E\"),(H31+M31)*VLOOKUP(K31,'Boden DüV-Bolap'!B:E,4,FALSE),SUM(H31,I31,L31,M31))))","v":""},"",null,"",{"$f":"IF(OR(B31=\"\",G31=\"\"),\"\",IF(VLOOKUP(B31,Schlagliste!B:J,5,FALSE)=\"\",\"\",VLOOKUP(B31,Schlagliste!B:J,5,FALSE)))","v":""},{"$f":"IF(OR(F31=\"\",G31=\"\"),\"\",IF(F31=\"g\",VLOOKUP(G31,'Tab 4+5 DüV+Abfuhr_G'!A:N,13,FALSE)*'N-DBE'!J31,IF(F31=\"A\",VLOOKUP(G31,'Tab 2+3 DüV_A'!A:L,11,FALSE)*'N-DBE'!J31,VLOOKUP(G31,'H&G LfL'!B:U,19,FALSE)*'N-DBE'!J31)))","v":""},{"$f":"IF(OR(F31=\"\",G31=\"\"),\"\",IF(OR('N-DBE'!K31=\"\",'N-DBE'!M31=0),0,IF('N-DBE'!K31=0,-T31,('N-DBE'!K31*T31/'N-DBE'!J31)-T31)))","v":""},{"$f":"IF(OR(B31=\"\",G31=\"\"),\"\",IF(VLOOKUP(B31,Schlagliste!B:J,8,FALSE)=\"\",\"\",VLOOKUP(B31,Schlagliste!B:J,8,FALSE)))","v":""},{"$f":"IF(OR(V31=\"\",S31=\"\"),\"\",IF(V31>39,0,IF(S31=\"leicht\",VLOOKUP(V31,'Boden DüV-Bolap'!A:Q,7,FALSE),IF(S31=\"mittel\",VLOOKUP(V31,'Boden DüV-Bolap'!A:K,11,FALSE),IF(S31=\"schwer\",VLOOKUP(V31,'Boden DüV-Bolap'!A:R,15,FALSE))))))","v":""},{"$f":"IF(OR(F31=\"\",G31=\"\",S31=\"\",V31=\"\"),\"\",IF(V31>39,0,IF(AND(S31=\"leicht\",V31<14),VLOOKUP(V31,'Boden DüV-Bolap'!A:Q,8,FALSE),IF(AND(S31=\"leicht\",V31>13),VLOOKUP(V31,'Boden DüV-Bolap'!A:Q,9,FALSE)*(T31+U31)-(T31+U31),IF(AND(S31=\"mittel\",V31<18),VLOOKUP(V31,'Boden DüV-Bolap'!A:Q,12,FALSE),IF(AND(S31=\"mittel\",V31>17),VLOOKUP(V31,'Boden DüV-Bolap'!A:Q,13,FALSE)*(T31+U31)-(T31+U31),IF(AND(S31=\"schwer\",V31<22),VLOOKUP(V31,'Boden DüV-Bolap'!A:Q,16,FALSE),IF(AND(S31=\"schwer\",V31>21),VLOOKUP(V31,'Boden DüV-Bolap'!A:Q,17,FALSE)*(T31+U31)-(T31+U31)))))))))","v":""},{"$f":"IF(OR(F31=\"\",G31=\"\"),\"\",IF(OR(F31=\"A\",F31=\"HG\"),0,VLOOKUP(G31,'Tab 4+5 DüV+Abfuhr_G'!A:Q,16,FALSE)))","v":""},"","",{"$f":"IF(OR(F31=\"\",G31=\"\"),\"\",IF(F31=\"g\",VLOOKUP(G31,'Tab 4+5 DüV+Abfuhr_G'!A:N,14,FALSE)*'N-DBE'!J31,IF(F31=\"A\",VLOOKUP(G31,'Tab 2+3 DüV_A'!A:L,12,FALSE)*'N-DBE'!J31,VLOOKUP(G31,'H&G LfL'!B:U,20,FALSE)*'N-DBE'!J31)))","v":""},{"$f":"IF(OR(F31=\"\",G31=\"\"),\"\",IF(OR('N-DBE'!K31=\"\",'N-DBE'!M31=0),0,IF('N-DBE'!K31=0,-AB31,('N-DBE'!K31*AB31/'N-DBE'!J31)-AB31)))","v":""},{"$f":"IF(OR(B31=\"\",G31=\"\"),\"\",IF(VLOOKUP(B31,Schlagliste!B:J,9,FALSE)=\"\",\"\",VLOOKUP(B31,Schlagliste!B:J,9,FALSE)))","v":""},{"$f":"IF(OR(AD31=\"\",S31=\"\"),\"\",IF(AD31>39,0,IF(S31=\"leicht\",VLOOKUP(AD31,'Boden DüV-Bolap'!A:AA,19,FALSE),IF(S31=\"mittel\",VLOOKUP(AD31,'Boden DüV-Bolap'!A:AA,23,FALSE),IF(S31=\"schwer\",VLOOKUP(AD31,'Boden DüV-Bolap'!A:AA,27,FALSE))))))","v":""},{"$f":"IF(OR(F31=\"\",G31=\"\",S31=\"\",AD31=\"\"),\"\",IF(AD31>39,0,IF(AND(S31=\"leicht\",AD31<7),VLOOKUP(AD31,'Boden DüV-Bolap'!A:AC,20,FALSE),IF(AND(S31=\"leicht\",AD31>6),VLOOKUP(AD31,'Boden DüV-Bolap'!A:AC,21,FALSE)*(AB31+AC31)-(AB31+AC31),IF(AND(S31=\"mittel\",AD31<11),VLOOKUP(AD31,'Boden DüV-Bolap'!A:AC,24,FALSE),IF(AND(S31=\"mittel\",AD31>10),VLOOKUP(AD31,'Boden DüV-Bolap'!A:AC,25,FALSE)*(AB31+AC31)-(AB31+AC31),IF(AND(S31=\"schwer\",AD31<15),VLOOKUP(AD31,'Boden DüV-Bolap'!A:AC,28,FALSE),IF(AND(S31=\"schwer\",AD31>14),VLOOKUP(AD31,'Boden DüV-Bolap'!A:AC,29,FALSE)*(AB31+AC31)-(AB31+AC31)))))))))","v":""},{"$f":"IF(OR(F31=\"\",G31=\"\"),\"\",IF(OR(F31=\"A\",F31=\"HG\"),0,VLOOKUP(G31,'Tab 4+5 DüV+Abfuhr_G'!A:Q,17,FALSE)))","v":""},"",""]
[{"$f":"IF('N-DBE'!A32=\"\",\"\",'N-DBE'!A32)","v":""},{"$f":"IF('N-DBE'!B32=\"\",\"\",'N-DBE'!B32)","v":""},{"$f":"IF('N-DBE'!C32=\"\",\"\",'N-DBE'!C32)","v":""},{"$f":"IF('N-DBE'!D32=\"\",\"\",'N-DBE'!D32)","v":""},{"$f":"IF('N-DBE'!E32=\"\",\"\",'N-DBE'!E32)","v":""},{"$f":"IF('N-DBE'!F32=\"\",\"\",'N-DBE'!F32)","v":""},{"$f":"IF('N-DBE'!G32=\"\",\"\",'N-DBE'!G32)","v":""},{"$f":"IF(OR(F32=\"\",G32=\"\"),\"\",IF(F32=\"g\",VLOOKUP(G32,'Tab 4+5 DüV+Abfuhr_G'!A:N,12,FALSE)*'N-DBE'!J32,IF(F32=\"A\",VLOOKUP(G32,'Tab 2+3 DüV_A'!A:L,10,FALSE)*'N-DBE'!J32,VLOOKUP(G32,'H&G LfL'!B:U,18,FALSE)*'N-DBE'!J32)))","v":""},{"$f":"IF(OR(F32=\"\",G32=\"\"),\"\",IF(OR('N-DBE'!K32=\"\",'N-DBE'!M32=0),0,IF('N-DBE'!K32=0,-H32,('N-DBE'!K32*H32/'N-DBE'!J32)-H32)))","v":""},{"$f":"IF(OR(B32=\"\",G32=\"\"),\"\",IF(VLOOKUP(B32,Schlagliste!B:J,7,FALSE)=\"\",\"\",VLOOKUP(B32,Schlagliste!B:J,7,FALSE)))","v":""},{"$f":"IF(J32=\"\",\"\",IF(J32>39,\"E\",VLOOKUP(J32,'Boden DüV-Bolap'!A:B,2,FALSE)))","v":""},{"$f":"IF(J32=\"\",\"\",IF(J32>39,0,VLOOKUP(J32,'Boden DüV-Bolap'!A:C,3,FALSE)))","v":""},{"$f":"IF(OR(F32=\"\",G32=\"\"),\"\",IF(OR(F32=\"A\",F32=\"HG\"),0,VLOOKUP(G32,'Tab 4+5 DüV+Abfuhr_G'!A:Q,15,FALSE)))","v":""},"",{"$f":"IF(OR(F32=\"\",G32=\"\"),\"\",IF(J32=\"\",SUM(H32,I32),IF(OR(K32=\"D\",K32=\"E\"),(H32+M32)*VLOOKUP(K32,'Boden DüV-Bolap'!B:E,4,FALSE),SUM(H32,I32,L32,M32))))","v":""},"",null,"",{"$f":"IF(OR(B32=\"\",G32=\"\"),\"\",IF(VLOOKUP(B32,Schlagliste!B:J,5,FALSE)=\"\",\"\",VLOOKUP(B32,Schlagliste!B:J,5,FALSE)))","v":""},{"$f":"IF(OR(F32=\"\",G32=\"\"),\"\",IF(F32=\"g\",VLOOKUP(G32,'Tab 4+5 DüV+Abfuhr_G'!A:N,13,FALSE)*'N-DBE'!J32,IF(F32=\"A\",VLOOKUP(G32,'Tab 2+3 DüV_A'!A:L,11,FALSE)*'N-DBE'!J32,VLOOKUP(G32,'H&G LfL'!B:U,19,FALSE)*'N-DBE'!J32)))","v":""},{"$f":"IF(OR(F32=\"\",G32=\"\"),\"\",IF(OR('N-DBE'!K32=\"\",'N-DBE'!M32=0),0,IF('N-DBE'!K32=0,-T32,('N-DBE'!K32*T32/'N-DBE'!J32)-T32)))","v":""},{"$f":"IF(OR(B32=\"\",G32=\"\"),\"\",IF(VLOOKUP(B32,Schlagliste!B:J,8,FALSE)=\"\",\"\",VLOOKUP(B32,Schlagliste!B:J,8,FALSE)))","v":""},{"$f":"IF(OR(V32=\"\",S32=\"\"),\"\",IF(V32>39,0,IF(S32=\"leicht\",VLOOKUP(V32,'Boden DüV-Bolap'!A:Q,7,FALSE),IF(S32=\"mittel\",VLOOKUP(V32,'Boden DüV-Bolap'!A:K,11,FALSE),IF(S32=\"schwer\",VLOOKUP(V32,'Boden DüV-Bolap'!A:R,15,FALSE))))))","v":""},{"$f":"IF(OR(F32=\"\",G32=\"\",S32=\"\",V32=\"\"),\"\",IF(V32>39,0,IF(AND(S32=\"leicht\",V32<14),VLOOKUP(V32,'Boden DüV-Bolap'!A:Q,8,FALSE),IF(AND(S32=\"leicht\",V32>13),VLOOKUP(V32,'Boden DüV-Bolap'!A:Q,9,FALSE)*(T32+U32)-(T32+U32),IF(AND(S32=\"mittel\",V32<18),VLOOKUP(V32,'Boden DüV-Bolap'!A:Q,12,FALSE),IF(AND(S32=\"mittel\",V32>17),VLOOKUP(V32,'Boden DüV-Bolap'!A:Q,13,FALSE)*(T32+U32)-(T32+U32),IF(AND(S32=\"schwer\",V32<22),VLOOKUP(V32,'Boden DüV-Bolap'!A:Q,16,FALSE),IF(AND(S32=\"schwer\",V32>21),VLOOKUP(V32,'Boden DüV-Bolap'!A:Q,17,FALSE)*(T32+U32)-(T32+U32)))))))))","v":""},{"$f":"IF(OR(F32=\"\",G32=\"\"),\"\",IF(OR(F32=\"A\",F32=\"HG\"),0,VLOOKUP(G32,'Tab 4+5 DüV+Abfuhr_G'!A:Q,16,FALSE)))","v":""},"","",{"$f":"IF(OR(F32=\"\",G32=\"\"),\"\",IF(F32=\"g\",VLOOKUP(G32,'Tab 4+5 DüV+Abfuhr_G'!A:N,14,FALSE)*'N-DBE'!J32,IF(F32=\"A\",VLOOKUP(G32,'Tab 2+3 DüV_A'!A:L,12,FALSE)*'N-DBE'!J32,VLOOKUP(G32,'H&G LfL'!B:U,20,FALSE)*'N-DBE'!J32)))","v":""},{"$f":"IF(OR(F32=\"\",G32=\"\"),\"\",IF(OR('N-DBE'!K32=\"\",'N-DBE'!M32=0),0,IF('N-DBE'!K32=0,-AB32,('N-DBE'!K32*AB32/'N-DBE'!J32)-AB32)))","v":""},{"$f":"IF(OR(B32=\"\",G32=\"\"),\"\",IF(VLOOKUP(B32,Schlagliste!B:J,9,FALSE)=\"\",\"\",VLOOKUP(B32,Schlagliste!B:J,9,FALSE)))","v":""},{"$f":"IF(OR(AD32=\"\",S32=\"\"),\"\",IF(AD32>39,0,IF(S32=\"leicht\",VLOOKUP(AD32,'Boden DüV-Bolap'!A:AA,19,FALSE),IF(S32=\"mittel\",VLOOKUP(AD32,'Boden DüV-Bolap'!A:AA,23,FALSE),IF(S32=\"schwer\",VLOOKUP(AD32,'Boden DüV-Bolap'!A:AA,27,FALSE))))))","v":""},{"$f":"IF(OR(F32=\"\",G32=\"\",S32=\"\",AD32=\"\"),\"\",IF(AD32>39,0,IF(AND(S32=\"leicht\",AD32<7),VLOOKUP(AD32,'Boden DüV-Bolap'!A:AC,20,FALSE),IF(AND(S32=\"leicht\",AD32>6),VLOOKUP(AD32,'Boden DüV-Bolap'!A:AC,21,FALSE)*(AB32+AC32)-(AB32+AC32),IF(AND(S32=\"mittel\",AD32<11),VLOOKUP(AD32,'Boden DüV-Bolap'!A:AC,24,FALSE),IF(AND(S32=\"mittel\",AD32>10),VLOOKUP(AD32,'Boden DüV-Bolap'!A:AC,25,FALSE)*(AB32+AC32)-(AB32+AC32),IF(AND(S32=\"schwer\",AD32<15),VLOOKUP(AD32,'Boden DüV-Bolap'!A:AC,28,FALSE),IF(AND(S32=\"schwer\",AD32>14),VLOOKUP(AD32,'Boden DüV-Bolap'!A:AC,29,FALSE)*(AB32+AC32)-(AB32+AC32)))))))))","v":""},{"$f":"IF(OR(F32=\"\",G32=\"\"),\"\",IF(OR(F32=\"A\",F32=\"HG\"),0,VLOOKUP(G32,'Tab 4+5 DüV+Abfuhr_G'!A:Q,17,FALSE)))","v":""},"",""]
[{"$f":"IF('N-DBE'!A33=\"\",\"\",'N-DBE'!A33)","v":""},{"$f":"IF('N-DBE'!B33=\"\",\"\",'N-DBE'!B33)","v":""},{"$f":"IF('N-DBE'!C33=\"\",\"\",'N-DBE'!C33)","v":""},{"$f":"IF('N-DBE'!D33=\"\",\"\",'N-DBE'!D33)","v":""},{"$f":"IF('N-DBE'!E33=\"\",\"\",'N-DBE'!E33)","v":""},{"$f":"IF('N-DBE'!F33=\"\",\"\",'N-DBE'!F33)","v":""},{"$f":"IF('N-DBE'!G33=\"\",\"\",'N-DBE'!G33)","v":""},{"$f":"IF(OR(F33=\"\",G33=\"\"),\"\",IF(F33=\"g\",VLOOKUP(G33,'Tab 4+5 DüV+Abfuhr_G'!A:N,12,FALSE)*'N-DBE'!J33,IF(F33=\"A\",VLOOKUP(G33,'Tab 2+3 DüV_A'!A:L,10,FALSE)*'N-DBE'!J33,VLOOKUP(G33,'H&G LfL'!B:U,18,FALSE)*'N-DBE'!J33)))","v":""},{"$f":"IF(OR(F33=\"\",G33=\"\"),\"\",IF(OR('N-DBE'!K33=\"\",'N-DBE'!M33=0),0,IF('N-DBE'!K33=0,-H33,('N-DBE'!K33*H33/'N-DBE'!J33)-H33)))","v":""},{"$f":"IF(OR(B33=\"\",G33=\"\"),\"\",IF(VLOOKUP(B33,Schlagliste!B:J,7,FALSE)=\"\",\"\",VLOOKUP(B33,Schlagliste!B:J,7,FALSE)))","v":""},{"$f":"IF(J33=\"\",\"\",IF(J33>39,\"E\",VLOOKUP(J33,'Boden DüV-Bolap'!A:B,2,FALSE)))","v":""},{"$f":"IF(J33=\"\",\"\",IF(J33>39,0,VLOOKUP(J33,'Boden DüV-Bolap'!A:C,3,FALSE)))","v":""},{"$f":"IF(OR(F33=\"\",G33=\"\"),\"\",IF(OR(F33=\"A\",F33=\"HG\"),0,VLOOKUP(G33,'Tab 4+5 DüV+Abfuhr_G'!A:Q,15,FALSE)))","v":""},"",{"$f":"IF(OR(F33=\"\",G33=\"\"),\"\",IF(J33=\"\",SUM(H33,I33),IF(OR(K33=\"D\",K33=\"E\"),(H33+M33)*VLOOKUP(K33,'Boden DüV-Bolap'!B:E,4,FALSE),SUM(H33,I33,L33,M33))))","v":""},"",null,"",{"$f":"IF(OR(B33=\"\",G33=\"\"),\"\",IF(VLOOKUP(B33,Schlagliste!B:J,5,FALSE)=\"\",\"\",VLOOKUP(B33,Schlagliste!B:J,5,FALSE)))","v":""},{"$f":"IF(OR(F33=\"\",G33=\"\"),\"\",IF(F33=\"g\",VLOOKUP(G33,'Tab 4+5 DüV+Abfuhr_G'!A:N,13,FALSE)*'N-DBE'!J33,IF(F33=\"A\",VLOOKUP(G33,'Tab 2+3 DüV_A'!A:L,11,FALSE)*'N-DBE'!J33,VLOOKUP(G33,'H&G LfL'!B:U,19,FALSE)*'N-DBE'!J33)))","v":""},{"$f":"IF(OR(F33=\"\",G33=\"\"),\"\",IF(OR('N-DBE'!K33=\"\",'N-DBE'!M33=0),0,IF('N-DBE'!K33=0,-T33,('N-DBE'!K33*T33/'N-DBE'!J33)-T33)))","v":""},{"$f":"IF(OR(B33=\"\",G33=\"\"),\"\",IF(VLOOKUP(B33,Schlagliste!B:J,8,FALSE)=\"\",\"\",VLOOKUP(B33,Schlagliste!B:J,8,FALSE)))","v":""},{"$f":"IF(OR(V33=\"\",S33=\"\"),\"\",IF(V33>39,0,IF(S33=\"leicht\",VLOOKUP(V33,'Boden DüV-Bolap'!A:Q,7,FALSE),IF(S33=\"mittel\",VLOOKUP(V33,'Boden DüV-Bolap'!A:K,11,FALSE),IF(S33=\"schwer\",VLOOKUP(V33,'Boden DüV-Bolap'!A:R,15,FALSE))))))","v":""},{"$f":"IF(OR(F33=\"\",G33=\"\",S33=\"\",V33=\"\"),\"\",IF(V33>39,0,IF(AND(S33=\"leicht\",V33<14),VLOOKUP(V33,'Boden DüV-Bolap'!A:Q,8,FALSE),IF(AND(S33=\"leicht\",V33>13),VLOOKUP(V33,'Boden DüV-Bolap'!A:Q,9,FALSE)*(T33+U33)-(T33+U33),IF(AND(S33=\"mittel\",V33<18),VLOOKUP(V33,'Boden DüV-Bolap'!A:Q,12,FALSE),IF(AND(S33=\"mittel\",V33>17),VLOOKUP(V33,'Boden DüV-Bolap'!A:Q,13,FALSE)*(T33+U33)-(T33+U33),IF(AND(S33=\"schwer\",V33<22),VLOOKUP(V33,'Boden DüV-Bolap'!A:Q,16,FALSE),IF(AND(S33=\"schwer\",V33>21),VLOOKUP(V33,'Boden DüV-Bolap'!A:Q,17,FALSE)*(T33+U33)-(T33+U33)))))))))","v":""},{"$f":"IF(OR(F33=\"\",G33=\"\"),\"\",IF(OR(F33=\"A\",F33=\"HG\"),0,VLOOKUP(G33,'Tab 4+5 DüV+Abfuhr_G'!A:Q,16,FALSE)))","v":""},"","",{"$f":"IF(OR(F33=\"\",G33=\"\"),\"\",IF(F33=\"g\",VLOOKUP(G33,'Tab 4+5 DüV+Abfuhr_G'!A:N,14,FALSE)*'N-DBE'!J33,IF(F33=\"A\",VLOOKUP(G33,'Tab 2+3 DüV_A'!A:L,12,FALSE)*'N-DBE'!J33,VLOOKUP(G33,'H&G LfL'!B:U,20,FALSE)*'N-DBE'!J33)))","v":""},{"$f":"IF(OR(F33=\"\",G33=\"\"),\"\",IF(OR('N-DBE'!K33=\"\",'N-DBE'!M33=0),0,IF('N-DBE'!K33=0,-AB33,('N-DBE'!K33*AB33/'N-DBE'!J33)-AB33)))","v":""},{"$f":"IF(OR(B33=\"\",G33=\"\"),\"\",IF(VLOOKUP(B33,Schlagliste!B:J,9,FALSE)=\"\",\"\",VLOOKUP(B33,Schlagliste!B:J,9,FALSE)))","v":""},{"$f":"IF(OR(AD33=\"\",S33=\"\"),\"\",IF(AD33>39,0,IF(S33=\"leicht\",VLOOKUP(AD33,'Boden DüV-Bolap'!A:AA,19,FALSE),IF(S33=\"mittel\",VLOOKUP(AD33,'Boden DüV-Bolap'!A:AA,23,FALSE),IF(S33=\"schwer\",VLOOKUP(AD33,'Boden DüV-Bolap'!A:AA,27,FALSE))))))","v":""},{"$f":"IF(OR(F33=\"\",G33=\"\",S33=\"\",AD33=\"\"),\"\",IF(AD33>39,0,IF(AND(S33=\"leicht\",AD33<7),VLOOKUP(AD33,'Boden DüV-Bolap'!A:AC,20,FALSE),IF(AND(S33=\"leicht\",AD33>6),VLOOKUP(AD33,'Boden DüV-Bolap'!A:AC,21,FALSE)*(AB33+AC33)-(AB33+AC33),IF(AND(S33=\"mittel\",AD33<11),VLOOKUP(AD33,'Boden DüV-Bolap'!A:AC,24,FALSE),IF(AND(S33=\"mittel\",AD33>10),VLOOKUP(AD33,'Boden DüV-Bolap'!A:AC,25,FALSE)*(AB33+AC33)-(AB33+AC33),IF(AND(S33=\"schwer\",AD33<15),VLOOKUP(AD33,'Boden DüV-Bolap'!A:AC,28,FALSE),IF(AND(S33=\"schwer\",AD33>14),VLOOKUP(AD33,'Boden DüV-Bolap'!A:AC,29,FALSE)*(AB33+AC33)-(AB33+AC33)))))))))","v":""},{"$f":"IF(OR(F33=\"\",G33=\"\"),\"\",IF(OR(F33=\"A\",F33=\"HG\"),0,VLOOKUP(G33,'Tab 4+5 DüV+Abfuhr_G'!A:Q,17,FALSE)))","v":""},"",""]
[{"$f":"IF('N-DBE'!A34=\"\",\"\",'N-DBE'!A34)","v":""},{"$f":"IF('N-DBE'!B34=\"\",\"\",'N-DBE'!B34)","v":""},{"$f":"IF('N-DBE'!C34=\"\",\"\",'N-DBE'!C34)","v":""},{"$f":"IF('N-DBE'!D34=\"\",\"\",'N-DBE'!D34)","v":""},{"$f":"IF('N-DBE'!E34=\"\",\"\",'N-DBE'!E34)","v":""},{"$f":"IF('N-DBE'!F34=\"\",\"\",'N-DBE'!F34)","v":""},{"$f":"IF('N-DBE'!G34=\"\",\"\",'N-DBE'!G34)","v":""},{"$f":"IF(OR(F34=\"\",G34=\"\"),\"\",IF(F34=\"g\",VLOOKUP(G34,'Tab 4+5 DüV+Abfuhr_G'!A:N,12,FALSE)*'N-DBE'!J34,IF(F34=\"A\",VLOOKUP(G34,'Tab 2+3 DüV_A'!A:L,10,FALSE)*'N-DBE'!J34,VLOOKUP(G34,'H&G LfL'!B:U,18,FALSE)*'N-DBE'!J34)))","v":""},{"$f":"IF(OR(F34=\"\",G34=\"\"),\"\",IF(OR('N-DBE'!K34=\"\",'N-DBE'!M34=0),0,IF('N-DBE'!K34=0,-H34,('N-DBE'!K34*H34/'N-DBE'!J34)-H34)))","v":""},{"$f":"IF(OR(B34=\"\",G34=\"\"),\"\",IF(VLOOKUP(B34,Schlagliste!B:J,7,FALSE)=\"\",\"\",VLOOKUP(B34,Schlagliste!B:J,7,FALSE)))","v":""},{"$f":"IF(J34=\"\",\"\",IF(J34>39,\"E\",VLOOKUP(J34,'Boden DüV-Bolap'!A:B,2,FALSE)))","v":""},{"$f":"IF(J34=\"\",\"\",IF(J34>39,0,VLOOKUP(J34,'Boden DüV-Bolap'!A:C,3,FALSE)))","v":""},{"$f":"IF(OR(F34=\"\",G34=\"\"),\"\",IF(OR(F34=\"A\",F34=\"HG\"),0,VLOOKUP(G34,'Tab 4+5 DüV+Abfuhr_G'!A:Q,15,FALSE)))","v":""},"",{"$f":"IF(OR(F34=\"\",G34=\"\"),\"\",IF(J34=\"\",SUM(H34,I34),IF(OR(K34=\"D\",K34=\"E\"),(H34+M34)*VLOOKUP(K34,'Boden DüV-Bolap'!B:E,4,FALSE),SUM(H34,I34,L34,M34))))","v":""},"",null,"",{"$f":"IF(OR(B34=\"\",G34=\"\"),\"\",IF(VLOOKUP(B34,Schlagliste!B:J,5,FALSE)=\"\",\"\",VLOOKUP(B34,Schlagliste!B:J,5,FALSE)))","v":""},{"$f":"IF(OR(F34=\"\",G34=\"\"),\"\",IF(F34=\"g\",VLOOKUP(G34,'Tab 4+5 DüV+Abfuhr_G'!A:N,13,FALSE)*'N-DBE'!J34,IF(F34=\"A\",VLOOKUP(G34,'Tab 2+3 DüV_A'!A:L,11,FALSE)*'N-DBE'!J34,VLOOKUP(G34,'H&G LfL'!B:U,19,FALSE)*'N-DBE'!J34)))","v":""},{"$f":"IF(OR(F34=\"\",G34=\"\"),\"\",IF(OR('N-DBE'!K34=\"\",'N-DBE'!M34=0),0,IF('N-DBE'!K34=0,-T34,('N-DBE'!K34*T34/'N-DBE'!J34)-T34)))","v":""},{"$f":"IF(OR(B34=\"\",G34=\"\"),\"\",IF(VLOOKUP(B34,Schlagliste!B:J,8,FALSE)=\"\",\"\",VLOOKUP(B34,Schlagliste!B:J,8,FALSE)))","v":""},{"$f":"IF(OR(V34=\"\",S34=\"\"),\"\",IF(V34>39,0,IF(S34=\"leicht\",VLOOKUP(V34,'Boden DüV-Bolap'!A:Q,7,FALSE),IF(S34=\"mittel\",VLOOKUP(V34,'Boden DüV-Bolap'!A:K,11,FALSE),IF(S34=\"schwer\",VLOOKUP(V34,'Boden DüV-Bolap'!A:R,15,FALSE))))))","v":""},{"$f":"IF(OR(F34=\"\",G34=\"\",S34=\"\",V34=\"\"),\"\",IF(V34>39,0,IF(AND(S34=\"leicht\",V34<14),VLOOKUP(V34,'Boden DüV-Bolap'!A:Q,8,FALSE),IF(AND(S34=\"leicht\",V34>13),VLOOKUP(V34,'Boden DüV-Bolap'!A:Q,9,FALSE)*(T34+U34)-(T34+U34),IF(AND(S34=\"mittel\",V34<18),VLOOKUP(V34,'Boden DüV-Bolap'!A:Q,12,FALSE),IF(AND(S34=\"mittel\",V34>17),VLOOKUP(V34,'Boden DüV-Bolap'!A:Q,13,FALSE)*(T34+U34)-(T34+U34),IF(AND(S34=\"schwer\",V34<22),VLOOKUP(V34,'Boden DüV-Bolap'!A:Q,16,FALSE),IF(AND(S34=\"schwer\",V34>21),VLOOKUP(V34,'Boden DüV-Bolap'!A:Q,17,FALSE)*(T34+U34)-(T34+U34)))))))))","v":""},{"$f":"IF(OR(F34=\"\",G34=\"\"),\"\",IF(OR(F34=\"A\",F34=\"HG\"),0,VLOOKUP(G34,'Tab 4+5 DüV+Abfuhr_G'!A:Q,16,FALSE)))","v":""},"","",{"$f":"IF(OR(F34=\"\",G34=\"\"),\"\",IF(F34=\"g\",VLOOKUP(G34,'Tab 4+5 DüV+Abfuhr_G'!A:N,14,FALSE)*'N-DBE'!J34,IF(F34=\"A\",VLOOKUP(G34,'Tab 2+3 DüV_A'!A:L,12,FALSE)*'N-DBE'!J34,VLOOKUP(G34,'H&G LfL'!B:U,20,FALSE)*'N-DBE'!J34)))","v":""},{"$f":"IF(OR(F34=\"\",G34=\"\"),\"\",IF(OR('N-DBE'!K34=\"\",'N-DBE'!M34=0),0,IF('N-DBE'!K34=0,-AB34,('N-DBE'!K34*AB34/'N-DBE'!J34)-AB34)))","v":""},{"$f":"IF(OR(B34=\"\",G34=\"\"),\"\",IF(VLOOKUP(B34,Schlagliste!B:J,9,FALSE)=\"\",\"\",VLOOKUP(B34,Schlagliste!B:J,9,FALSE)))","v":""},{"$f":"IF(OR(AD34=\"\",S34=\"\"),\"\",IF(AD34>39,0,IF(S34=\"leicht\",VLOOKUP(AD34,'Boden DüV-Bolap'!A:AA,19,FALSE),IF(S34=\"mittel\",VLOOKUP(AD34,'Boden DüV-Bolap'!A:AA,23,FALSE),IF(S34=\"schwer\",VLOOKUP(AD34,'Boden DüV-Bolap'!A:AA,27,FALSE))))))","v":""},{"$f":"IF(OR(F34=\"\",G34=\"\",S34=\"\",AD34=\"\"),\"\",IF(AD34>39,0,IF(AND(S34=\"leicht\",AD34<7),VLOOKUP(AD34,'Boden DüV-Bolap'!A:AC,20,FALSE),IF(AND(S34=\"leicht\",AD34>6),VLOOKUP(AD34,'Boden DüV-Bolap'!A:AC,21,FALSE)*(AB34+AC34)-(AB34+AC34),IF(AND(S34=\"mittel\",AD34<11),VLOOKUP(AD34,'Boden DüV-Bolap'!A:AC,24,FALSE),IF(AND(S34=\"mittel\",AD34>10),VLOOKUP(AD34,'Boden DüV-Bolap'!A:AC,25,FALSE)*(AB34+AC34)-(AB34+AC34),IF(AND(S34=\"schwer\",AD34<15),VLOOKUP(AD34,'Boden DüV-Bolap'!A:AC,28,FALSE),IF(AND(S34=\"schwer\",AD34>14),VLOOKUP(AD34,'Boden DüV-Bolap'!A:AC,29,FALSE)*(AB34+AC34)-(AB34+AC34)))))))))","v":""},{"$f":"IF(OR(F34=\"\",G34=\"\"),\"\",IF(OR(F34=\"A\",F34=\"HG\"),0,VLOOKUP(G34,'Tab 4+5 DüV+Abfuhr_G'!A:Q,17,FALSE)))","v":""},"",""]
[{"$f":"IF('N-DBE'!A35=\"\",\"\",'N-DBE'!A35)","v":""},{"$f":"IF('N-DBE'!B35=\"\",\"\",'N-DBE'!B35)","v":""},{"$f":"IF('N-DBE'!C35=\"\",\"\",'N-DBE'!C35)","v":""},{"$f":"IF('N-DBE'!D35=\"\",\"\",'N-DBE'!D35)","v":""},{"$f":"IF('N-DBE'!E35=\"\",\"\",'N-DBE'!E35)","v":""},{"$f":"IF('N-DBE'!F35=\"\",\"\",'N-DBE'!F35)","v":""},{"$f":"IF('N-DBE'!G35=\"\",\"\",'N-DBE'!G35)","v":""},{"$f":"IF(OR(F35=\"\",G35=\"\"),\"\",IF(F35=\"g\",VLOOKUP(G35,'Tab 4+5 DüV+Abfuhr_G'!A:N,12,FALSE)*'N-DBE'!J35,IF(F35=\"A\",VLOOKUP(G35,'Tab 2+3 DüV_A'!A:L,10,FALSE)*'N-DBE'!J35,VLOOKUP(G35,'H&G LfL'!B:U,18,FALSE)*'N-DBE'!J35)))","v":""},{"$f":"IF(OR(F35=\"\",G35=\"\"),\"\",IF(OR('N-DBE'!K35=\"\",'N-DBE'!M35=0),0,IF('N-DBE'!K35=0,-H35,('N-DBE'!K35*H35/'N-DBE'!J35)-H35)))","v":""},{"$f":"IF(OR(B35=\"\",G35=\"\"),\"\",IF(VLOOKUP(B35,Schlagliste!B:J,7,FALSE)=\"\",\"\",VLOOKUP(B35,Schlagliste!B:J,7,FALSE)))","v":""},{"$f":"IF(J35=\"\",\"\",IF(J35>39,\"E\",VLOOKUP(J35,'Boden DüV-Bolap'!A:B,2,FALSE)))","v":""},{"$f":"IF(J35=\"\",\"\",IF(J35>39,0,VLOOKUP(J35,'Boden DüV-Bolap'!A:C,3,FALSE)))","v":""},{"$f":"IF(OR(F35=\"\",G35=\"\"),\"\",IF(OR(F35=\"A\",F35=\"HG\"),0,VLOOKUP(G35,'Tab 4+5 DüV+Abfuhr_G'!A:Q,15,FALSE)))","v":""},"",{"$f":"IF(OR(F35=\"\",G35=\"\"),\"\",IF(J35=\"\",SUM(H35,I35),IF(OR(K35=\"D\",K35=\"E\"),(H35+M35)*VLOOKUP(K35,'Boden DüV-Bolap'!B:E,4,FALSE),SUM(H35,I35,L35,M35))))","v":""},"",null,"",{"$f":"IF(OR(B35=\"\",G35=\"\"),\"\",IF(VLOOKUP(B35,Schlagliste!B:J,5,FALSE)=\"\",\"\",VLOOKUP(B35,Schlagliste!B:J,5,FALSE)))","v":""},{"$f":"IF(OR(F35=\"\",G35=\"\"),\"\",IF(F35=\"g\",VLOOKUP(G35,'Tab 4+5 DüV+Abfuhr_G'!A:N,13,FALSE)*'N-DBE'!J35,IF(F35=\"A\",VLOOKUP(G35,'Tab 2+3 DüV_A'!A:L,11,FALSE)*'N-DBE'!J35,VLOOKUP(G35,'H&G LfL'!B:U,19,FALSE)*'N-DBE'!J35)))","v":""},{"$f":"IF(OR(F35=\"\",G35=\"\"),\"\",IF(OR('N-DBE'!K35=\"\",'N-DBE'!M35=0),0,IF('N-DBE'!K35=0,-T35,('N-DBE'!K35*T35/'N-DBE'!J35)-T35)))","v":""},{"$f":"IF(OR(B35=\"\",G35=\"\"),\"\",IF(VLOOKUP(B35,Schlagliste!B:J,8,FALSE)=\"\",\"\",VLOOKUP(B35,Schlagliste!B:J,8,FALSE)))","v":""},{"$f":"IF(OR(V35=\"\",S35=\"\"),\"\",IF(V35>39,0,IF(S35=\"leicht\",VLOOKUP(V35,'Boden DüV-Bolap'!A:Q,7,FALSE),IF(S35=\"mittel\",VLOOKUP(V35,'Boden DüV-Bolap'!A:K,11,FALSE),IF(S35=\"schwer\",VLOOKUP(V35,'Boden DüV-Bolap'!A:R,15,FALSE))))))","v":""},{"$f":"IF(OR(F35=\"\",G35=\"\",S35=\"\",V35=\"\"),\"\",IF(V35>39,0,IF(AND(S35=\"leicht\",V35<14),VLOOKUP(V35,'Boden DüV-Bolap'!A:Q,8,FALSE),IF(AND(S35=\"leicht\",V35>13),VLOOKUP(V35,'Boden DüV-Bolap'!A:Q,9,FALSE)*(T35+U35)-(T35+U35),IF(AND(S35=\"mittel\",V35<18),VLOOKUP(V35,'Boden DüV-Bolap'!A:Q,12,FALSE),IF(AND(S35=\"mittel\",V35>17),VLOOKUP(V35,'Boden DüV-Bolap'!A:Q,13,FALSE)*(T35+U35)-(T35+U35),IF(AND(S35=\"schwer\",V35<22),VLOOKUP(V35,'Boden DüV-Bolap'!A:Q,16,FALSE),IF(AND(S35=\"schwer\",V35>21),VLOOKUP(V35,'Boden DüV-Bolap'!A:Q,17,FALSE)*(T35+U35)-(T35+U35)))))))))","v":""},{"$f":"IF(OR(F35=\"\",G35=\"\"),\"\",IF(OR(F35=\"A\",F35=\"HG\"),0,VLOOKUP(G35,'Tab 4+5 DüV+Abfuhr_G'!A:Q,16,FALSE)))","v":""},"","",{"$f":"IF(OR(F35=\"\",G35=\"\"),\"\",IF(F35=\"g\",VLOOKUP(G35,'Tab 4+5 DüV+Abfuhr_G'!A:N,14,FALSE)*'N-DBE'!J35,IF(F35=\"A\",VLOOKUP(G35,'Tab 2+3 DüV_A'!A:L,12,FALSE)*'N-DBE'!J35,VLOOKUP(G35,'H&G LfL'!B:U,20,FALSE)*'N-DBE'!J35)))","v":""},{"$f":"IF(OR(F35=\"\",G35=\"\"),\"\",IF(OR('N-DBE'!K35=\"\",'N-DBE'!M35=0),0,IF('N-DBE'!K35=0,-AB35,('N-DBE'!K35*AB35/'N-DBE'!J35)-AB35)))","v":""},{"$f":"IF(OR(B35=\"\",G35=\"\"),\"\",IF(VLOOKUP(B35,Schlagliste!B:J,9,FALSE)=\"\",\"\",VLOOKUP(B35,Schlagliste!B:J,9,FALSE)))","v":""},{"$f":"IF(OR(AD35=\"\",S35=\"\"),\"\",IF(AD35>39,0,IF(S35=\"leicht\",VLOOKUP(AD35,'Boden DüV-Bolap'!A:AA,19,FALSE),IF(S35=\"mittel\",VLOOKUP(AD35,'Boden DüV-Bolap'!A:AA,23,FALSE),IF(S35=\"schwer\",VLOOKUP(AD35,'Boden DüV-Bolap'!A:AA,27,FALSE))))))","v":""},{"$f":"IF(OR(F35=\"\",G35=\"\",S35=\"\",AD35=\"\"),\"\",IF(AD35>39,0,IF(AND(S35=\"leicht\",AD35<7),VLOOKUP(AD35,'Boden DüV-Bolap'!A:AC,20,FALSE),IF(AND(S35=\"leicht\",AD35>6),VLOOKUP(AD35,'Boden DüV-Bolap'!A:AC,21,FALSE)*(AB35+AC35)-(AB35+AC35),IF(AND(S35=\"mittel\",AD35<11),VLOOKUP(AD35,'Boden DüV-Bolap'!A:AC,24,FALSE),IF(AND(S35=\"mittel\",AD35>10),VLOOKUP(AD35,'Boden DüV-Bolap'!A:AC,25,FALSE)*(AB35+AC35)-(AB35+AC35),IF(AND(S35=\"schwer\",AD35<15),VLOOKUP(AD35,'Boden DüV-Bolap'!A:AC,28,FALSE),IF(AND(S35=\"schwer\",AD35>14),VLOOKUP(AD35,'Boden DüV-Bolap'!A:AC,29,FALSE)*(AB35+AC35)-(AB35+AC35)))))))))","v":""},{"$f":"IF(OR(F35=\"\",G35=\"\"),\"\",IF(OR(F35=\"A\",F35=\"HG\"),0,VLOOKUP(G35,'Tab 4+5 DüV+Abfuhr_G'!A:Q,17,FALSE)))","v":""},"",""]
[{"$f":"IF('N-DBE'!A36=\"\",\"\",'N-DBE'!A36)","v":""},{"$f":"IF('N-DBE'!B36=\"\",\"\",'N-DBE'!B36)","v":""},{"$f":"IF('N-DBE'!C36=\"\",\"\",'N-DBE'!C36)","v":""},{"$f":"IF('N-DBE'!D36=\"\",\"\",'N-DBE'!D36)","v":""},{"$f":"IF('N-DBE'!E36=\"\",\"\",'N-DBE'!E36)","v":""},{"$f":"IF('N-DBE'!F36=\"\",\"\",'N-DBE'!F36)","v":""},{"$f":"IF('N-DBE'!G36=\"\",\"\",'N-DBE'!G36)","v":""},{"$f":"IF(OR(F36=\"\",G36=\"\"),\"\",IF(F36=\"g\",VLOOKUP(G36,'Tab 4+5 DüV+Abfuhr_G'!A:N,12,FALSE)*'N-DBE'!J36,IF(F36=\"A\",VLOOKUP(G36,'Tab 2+3 DüV_A'!A:L,10,FALSE)*'N-DBE'!J36,VLOOKUP(G36,'H&G LfL'!B:U,18,FALSE)*'N-DBE'!J36)))","v":""},{"$f":"IF(OR(F36=\"\",G36=\"\"),\"\",IF(OR('N-DBE'!K36=\"\",'N-DBE'!M36=0),0,IF('N-DBE'!K36=0,-H36,('N-DBE'!K36*H36/'N-DBE'!J36)-H36)))","v":""},{"$f":"IF(OR(B36=\"\",G36=\"\"),\"\",IF(VLOOKUP(B36,Schlagliste!B:J,7,FALSE)=\"\",\"\",VLOOKUP(B36,Schlagliste!B:J,7,FALSE)))","v":""},{"$f":"IF(J36=\"\",\"\",IF(J36>39,\"E\",VLOOKUP(J36,'Boden DüV-Bolap'!A:B,2,FALSE)))","v":""},{"$f":"IF(J36=\"\",\"\",IF(J36>39,0,VLOOKUP(J36,'Boden DüV-Bolap'!A:C,3,FALSE)))","v":""},{"$f":"IF(OR(F36=\"\",G36=\"\"),\"\",IF(OR(F36=\"A\",F36=\"HG\"),0,VLOOKUP(G36,'Tab 4+5 DüV+Abfuhr_G'!A:Q,15,FALSE)))","v":""},"",{"$f":"IF(OR(F36=\"\",G36=\"\"),\"\",IF(J36=\"\",SUM(H36,I36),IF(OR(K36=\"D\",K36=\"E\"),(H36+M36)*VLOOKUP(K36,'Boden DüV-Bolap'!B:E,4,FALSE),SUM(H36,I36,L36,M36))))","v":""},"",null,"",{"$f":"IF(OR(B36=\"\",G36=\"\"),\"\",IF(VLOOKUP(B36,Schlagliste!B:J,5,FALSE)=\"\",\"\",VLOOKUP(B36,Schlagliste!B:J,5,FALSE)))","v":""},{"$f":"IF(OR(F36=\"\",G36=\"\"),\"\",IF(F36=\"g\",VLOOKUP(G36,'Tab 4+5 DüV+Abfuhr_G'!A:N,13,FALSE)*'N-DBE'!J36,IF(F36=\"A\",VLOOKUP(G36,'Tab 2+3 DüV_A'!A:L,11,FALSE)*'N-DBE'!J36,VLOOKUP(G36,'H&G LfL'!B:U,19,FALSE)*'N-DBE'!J36)))","v":""},{"$f":"IF(OR(F36=\"\",G36=\"\"),\"\",IF(OR('N-DBE'!K36=\"\",'N-DBE'!M36=0),0,IF('N-DBE'!K36=0,-T36,('N-DBE'!K36*T36/'N-DBE'!J36)-T36)))","v":""},{"$f":"IF(OR(B36=\"\",G36=\"\"),\"\",IF(VLOOKUP(B36,Schlagliste!B:J,8,FALSE)=\"\",\"\",VLOOKUP(B36,Schlagliste!B:J,8,FALSE)))","v":""},{"$f":"IF(OR(V36=\"\",S36=\"\"),\"\",IF(V36>39,0,IF(S36=\"leicht\",VLOOKUP(V36,'Boden DüV-Bolap'!A:Q,7,FALSE),IF(S36=\"mittel\",VLOOKUP(V36,'Boden DüV-Bolap'!A:K,11,FALSE),IF(S36=\"schwer\",VLOOKUP(V36,'Boden DüV-Bolap'!A:R,15,FALSE))))))","v":""},{"$f":"IF(OR(F36=\"\",G36=\"\",S36=\"\",V36=\"\"),\"\",IF(V36>39,0,IF(AND(S36=\"leicht\",V36<14),VLOOKUP(V36,'Boden DüV-Bolap'!A:Q,8,FALSE),IF(AND(S36=\"leicht\",V36>13),VLOOKUP(V36,'Boden DüV-Bolap'!A:Q,9,FALSE)*(T36+U36)-(T36+U36),IF(AND(S36=\"mittel\",V36<18),VLOOKUP(V36,'Boden DüV-Bolap'!A:Q,12,FALSE),IF(AND(S36=\"mittel\",V36>17),VLOOKUP(V36,'Boden DüV-Bolap'!A:Q,13,FALSE)*(T36+U36)-(T36+U36),IF(AND(S36=\"schwer\",V36<22),VLOOKUP(V36,'Boden DüV-Bolap'!A:Q,16,FALSE),IF(AND(S36=\"schwer\",V36>21),VLOOKUP(V36,'Boden DüV-Bolap'!A:Q,17,FALSE)*(T36+U36)-(T36+U36)))))))))","v":""},{"$f":"IF(OR(F36=\"\",G36=\"\"),\"\",IF(OR(F36=\"A\",F36=\"HG\"),0,VLOOKUP(G36,'Tab 4+5 DüV+Abfuhr_G'!A:Q,16,FALSE)))","v":""},"","",{"$f":"IF(OR(F36=\"\",G36=\"\"),\"\",IF(F36=\"g\",VLOOKUP(G36,'Tab 4+5 DüV+Abfuhr_G'!A:N,14,FALSE)*'N-DBE'!J36,IF(F36=\"A\",VLOOKUP(G36,'Tab 2+3 DüV_A'!A:L,12,FALSE)*'N-DBE'!J36,VLOOKUP(G36,'H&G LfL'!B:U,20,FALSE)*'N-DBE'!J36)))","v":""},{"$f":"IF(OR(F36=\"\",G36=\"\"),\"\",IF(OR('N-DBE'!K36=\"\",'N-DBE'!M36=0),0,IF('N-DBE'!K36=0,-AB36,('N-DBE'!K36*AB36/'N-DBE'!J36)-AB36)))","v":""},{"$f":"IF(OR(B36=\"\",G36=\"\"),\"\",IF(VLOOKUP(B36,Schlagliste!B:J,9,FALSE)=\"\",\"\",VLOOKUP(B36,Schlagliste!B:J,9,FALSE)))","v":""},{"$f":"IF(OR(AD36=\"\",S36=\"\"),\"\",IF(AD36>39,0,IF(S36=\"leicht\",VLOOKUP(AD36,'Boden DüV-Bolap'!A:AA,19,FALSE),IF(S36=\"mittel\",VLOOKUP(AD36,'Boden DüV-Bolap'!A:AA,23,FALSE),IF(S36=\"schwer\",VLOOKUP(AD36,'Boden DüV-Bolap'!A:AA,27,FALSE))))))","v":""},{"$f":"IF(OR(F36=\"\",G36=\"\",S36=\"\",AD36=\"\"),\"\",IF(AD36>39,0,IF(AND(S36=\"leicht\",AD36<7),VLOOKUP(AD36,'Boden DüV-Bolap'!A:AC,20,FALSE),IF(AND(S36=\"leicht\",AD36>6),VLOOKUP(AD36,'Boden DüV-Bolap'!A:AC,21,FALSE)*(AB36+AC36)-(AB36+AC36),IF(AND(S36=\"mittel\",AD36<11),VLOOKUP(AD36,'Boden DüV-Bolap'!A:AC,24,FALSE),IF(AND(S36=\"mittel\",AD36>10),VLOOKUP(AD36,'Boden DüV-Bolap'!A:AC,25,FALSE)*(AB36+AC36)-(AB36+AC36),IF(AND(S36=\"schwer\",AD36<15),VLOOKUP(AD36,'Boden DüV-Bolap'!A:AC,28,FALSE),IF(AND(S36=\"schwer\",AD36>14),VLOOKUP(AD36,'Boden DüV-Bolap'!A:AC,29,FALSE)*(AB36+AC36)-(AB36+AC36)))))))))","v":""},{"$f":"IF(OR(F36=\"\",G36=\"\"),\"\",IF(OR(F36=\"A\",F36=\"HG\"),0,VLOOKUP(G36,'Tab 4+5 DüV+Abfuhr_G'!A:Q,17,FALSE)))","v":""},"",""]
[{"$f":"IF('N-DBE'!A37=\"\",\"\",'N-DBE'!A37)","v":""},{"$f":"IF('N-DBE'!B37=\"\",\"\",'N-DBE'!B37)","v":""},{"$f":"IF('N-DBE'!C37=\"\",\"\",'N-DBE'!C37)","v":""},{"$f":"IF('N-DBE'!D37=\"\",\"\",'N-DBE'!D37)","v":""},{"$f":"IF('N-DBE'!E37=\"\",\"\",'N-DBE'!E37)","v":""},{"$f":"IF('N-DBE'!F37=\"\",\"\",'N-DBE'!F37)","v":""},{"$f":"IF('N-DBE'!G37=\"\",\"\",'N-DBE'!G37)","v":""},{"$f":"IF(OR(F37=\"\",G37=\"\"),\"\",IF(F37=\"g\",VLOOKUP(G37,'Tab 4+5 DüV+Abfuhr_G'!A:N,12,FALSE)*'N-DBE'!J37,IF(F37=\"A\",VLOOKUP(G37,'Tab 2+3 DüV_A'!A:L,10,FALSE)*'N-DBE'!J37,VLOOKUP(G37,'H&G LfL'!B:U,18,FALSE)*'N-DBE'!J37)))","v":""},{"$f":"IF(OR(F37=\"\",G37=\"\"),\"\",IF(OR('N-DBE'!K37=\"\",'N-DBE'!M37=0),0,IF('N-DBE'!K37=0,-H37,('N-DBE'!K37*H37/'N-DBE'!J37)-H37)))","v":""},{"$f":"IF(OR(B37=\"\",G37=\"\"),\"\",IF(VLOOKUP(B37,Schlagliste!B:J,7,FALSE)=\"\",\"\",VLOOKUP(B37,Schlagliste!B:J,7,FALSE)))","v":""},{"$f":"IF(J37=\"\",\"\",IF(J37>39,\"E\",VLOOKUP(J37,'Boden DüV-Bolap'!A:B,2,FALSE)))","v":""},{"$f":"IF(J37=\"\",\"\",IF(J37>39,0,VLOOKUP(J37,'Boden DüV-Bolap'!A:C,3,FALSE)))","v":""},{"$f":"IF(OR(F37=\"\",G37=\"\"),\"\",IF(OR(F37=\"A\",F37=\"HG\"),0,VLOOKUP(G37,'Tab 4+5 DüV+Abfuhr_G'!A:Q,15,FALSE)))","v":""},"",{"$f":"IF(OR(F37=\"\",G37=\"\"),\"\",IF(J37=\"\",SUM(H37,I37),IF(OR(K37=\"D\",K37=\"E\"),(H37+M37)*VLOOKUP(K37,'Boden DüV-Bolap'!B:E,4,FALSE),SUM(H37,I37,L37,M37))))","v":""},"",null,"",{"$f":"IF(OR(B37=\"\",G37=\"\"),\"\",IF(VLOOKUP(B37,Schlagliste!B:J,5,FALSE)=\"\",\"\",VLOOKUP(B37,Schlagliste!B:J,5,FALSE)))","v":""},{"$f":"IF(OR(F37=\"\",G37=\"\"),\"\",IF(F37=\"g\",VLOOKUP(G37,'Tab 4+5 DüV+Abfuhr_G'!A:N,13,FALSE)*'N-DBE'!J37,IF(F37=\"A\",VLOOKUP(G37,'Tab 2+3 DüV_A'!A:L,11,FALSE)*'N-DBE'!J37,VLOOKUP(G37,'H&G LfL'!B:U,19,FALSE)*'N-DBE'!J37)))","v":""},{"$f":"IF(OR(F37=\"\",G37=\"\"),\"\",IF(OR('N-DBE'!K37=\"\",'N-DBE'!M37=0),0,IF('N-DBE'!K37=0,-T37,('N-DBE'!K37*T37/'N-DBE'!J37)-T37)))","v":""},{"$f":"IF(OR(B37=\"\",G37=\"\"),\"\",IF(VLOOKUP(B37,Schlagliste!B:J,8,FALSE)=\"\",\"\",VLOOKUP(B37,Schlagliste!B:J,8,FALSE)))","v":""},{"$f":"IF(OR(V37=\"\",S37=\"\"),\"\",IF(V37>39,0,IF(S37=\"leicht\",VLOOKUP(V37,'Boden DüV-Bolap'!A:Q,7,FALSE),IF(S37=\"mittel\",VLOOKUP(V37,'Boden DüV-Bolap'!A:K,11,FALSE),IF(S37=\"schwer\",VLOOKUP(V37,'Boden DüV-Bolap'!A:R,15,FALSE))))))","v":""},{"$f":"IF(OR(F37=\"\",G37=\"\",S37=\"\",V37=\"\"),\"\",IF(V37>39,0,IF(AND(S37=\"leicht\",V37<14),VLOOKUP(V37,'Boden DüV-Bolap'!A:Q,8,FALSE),IF(AND(S37=\"leicht\",V37>13),VLOOKUP(V37,'Boden DüV-Bolap'!A:Q,9,FALSE)*(T37+U37)-(T37+U37),IF(AND(S37=\"mittel\",V37<18),VLOOKUP(V37,'Boden DüV-Bolap'!A:Q,12,FALSE),IF(AND(S37=\"mittel\",V37>17),VLOOKUP(V37,'Boden DüV-Bolap'!A:Q,13,FALSE)*(T37+U37)-(T37+U37),IF(AND(S37=\"schwer\",V37<22),VLOOKUP(V37,'Boden DüV-Bolap'!A:Q,16,FALSE),IF(AND(S37=\"schwer\",V37>21),VLOOKUP(V37,'Boden DüV-Bolap'!A:Q,17,FALSE)*(T37+U37)-(T37+U37)))))))))","v":""},{"$f":"IF(OR(F37=\"\",G37=\"\"),\"\",IF(OR(F37=\"A\",F37=\"HG\"),0,VLOOKUP(G37,'Tab 4+5 DüV+Abfuhr_G'!A:Q,16,FALSE)))","v":""},"","",{"$f":"IF(OR(F37=\"\",G37=\"\"),\"\",IF(F37=\"g\",VLOOKUP(G37,'Tab 4+5 DüV+Abfuhr_G'!A:N,14,FALSE)*'N-DBE'!J37,IF(F37=\"A\",VLOOKUP(G37,'Tab 2+3 DüV_A'!A:L,12,FALSE)*'N-DBE'!J37,VLOOKUP(G37,'H&G LfL'!B:U,20,FALSE)*'N-DBE'!J37)))","v":""},{"$f":"IF(OR(F37=\"\",G37=\"\"),\"\",IF(OR('N-DBE'!K37=\"\",'N-DBE'!M37=0),0,IF('N-DBE'!K37=0,-AB37,('N-DBE'!K37*AB37/'N-DBE'!J37)-AB37)))","v":""},{"$f":"IF(OR(B37=\"\",G37=\"\"),\"\",IF(VLOOKUP(B37,Schlagliste!B:J,9,FALSE)=\"\",\"\",VLOOKUP(B37,Schlagliste!B:J,9,FALSE)))","v":""},{"$f":"IF(OR(AD37=\"\",S37=\"\"),\"\",IF(AD37>39,0,IF(S37=\"leicht\",VLOOKUP(AD37,'Boden DüV-Bolap'!A:AA,19,FALSE),IF(S37=\"mittel\",VLOOKUP(AD37,'Boden DüV-Bolap'!A:AA,23,FALSE),IF(S37=\"schwer\",VLOOKUP(AD37,'Boden DüV-Bolap'!A:AA,27,FALSE))))))","v":""},{"$f":"IF(OR(F37=\"\",G37=\"\",S37=\"\",AD37=\"\"),\"\",IF(AD37>39,0,IF(AND(S37=\"leicht\",AD37<7),VLOOKUP(AD37,'Boden DüV-Bolap'!A:AC,20,FALSE),IF(AND(S37=\"leicht\",AD37>6),VLOOKUP(AD37,'Boden DüV-Bolap'!A:AC,21,FALSE)*(AB37+AC37)-(AB37+AC37),IF(AND(S37=\"mittel\",AD37<11),VLOOKUP(AD37,'Boden DüV-Bolap'!A:AC,24,FALSE),IF(AND(S37=\"mittel\",AD37>10),VLOOKUP(AD37,'Boden DüV-Bolap'!A:AC,25,FALSE)*(AB37+AC37)-(AB37+AC37),IF(AND(S37=\"schwer\",AD37<15),VLOOKUP(AD37,'Boden DüV-Bolap'!A:AC,28,FALSE),IF(AND(S37=\"schwer\",AD37>14),VLOOKUP(AD37,'Boden DüV-Bolap'!A:AC,29,FALSE)*(AB37+AC37)-(AB37+AC37)))))))))","v":""},{"$f":"IF(OR(F37=\"\",G37=\"\"),\"\",IF(OR(F37=\"A\",F37=\"HG\"),0,VLOOKUP(G37,'Tab 4+5 DüV+Abfuhr_G'!A:Q,17,FALSE)))","v":""},"",""]
[{"$f":"IF('N-DBE'!A38=\"\",\"\",'N-DBE'!A38)","v":""},{"$f":"IF('N-DBE'!B38=\"\",\"\",'N-DBE'!B38)","v":""},{"$f":"IF('N-DBE'!C38=\"\",\"\",'N-DBE'!C38)","v":""},{"$f":"IF('N-DBE'!D38=\"\",\"\",'N-DBE'!D38)","v":""},{"$f":"IF('N-DBE'!E38=\"\",\"\",'N-DBE'!E38)","v":""},{"$f":"IF('N-DBE'!F38=\"\",\"\",'N-DBE'!F38)","v":""},{"$f":"IF('N-DBE'!G38=\"\",\"\",'N-DBE'!G38)","v":""},{"$f":"IF(OR(F38=\"\",G38=\"\"),\"\",IF(F38=\"g\",VLOOKUP(G38,'Tab 4+5 DüV+Abfuhr_G'!A:N,12,FALSE)*'N-DBE'!J38,IF(F38=\"A\",VLOOKUP(G38,'Tab 2+3 DüV_A'!A:L,10,FALSE)*'N-DBE'!J38,VLOOKUP(G38,'H&G LfL'!B:U,18,FALSE)*'N-DBE'!J38)))","v":""},{"$f":"IF(OR(F38=\"\",G38=\"\"),\"\",IF(OR('N-DBE'!K38=\"\",'N-DBE'!M38=0),0,IF('N-DBE'!K38=0,-H38,('N-DBE'!K38*H38/'N-DBE'!J38)-H38)))","v":""},{"$f":"IF(OR(B38=\"\",G38=\"\"),\"\",IF(VLOOKUP(B38,Schlagliste!B:J,7,FALSE)=\"\",\"\",VLOOKUP(B38,Schlagliste!B:J,7,FALSE)))","v":""},{"$f":"IF(J38=\"\",\"\",IF(J38>39,\"E\",VLOOKUP(J38,'Boden DüV-Bolap'!A:B,2,FALSE)))","v":""},{"$f":"IF(J38=\"\",\"\",IF(J38>39,0,VLOOKUP(J38,'Boden DüV-Bolap'!A:C,3,FALSE)))","v":""},{"$f":"IF(OR(F38=\"\",G38=\"\"),\"\",IF(OR(F38=\"A\",F38=\"HG\"),0,VLOOKUP(G38,'Tab 4+5 DüV+Abfuhr_G'!A:Q,15,FALSE)))","v":""},"",{"$f":"IF(OR(F38=\"\",G38=\"\"),\"\",IF(J38=\"\",SUM(H38,I38),IF(OR(K38=\"D\",K38=\"E\"),(H38+M38)*VLOOKUP(K38,'Boden DüV-Bolap'!B:E,4,FALSE),SUM(H38,I38,L38,M38))))","v":""},"",null,"",{"$f":"IF(OR(B38=\"\",G38=\"\"),\"\",IF(VLOOKUP(B38,Schlagliste!B:J,5,FALSE)=\"\",\"\",VLOOKUP(B38,Schlagliste!B:J,5,FALSE)))","v":""},{"$f":"IF(OR(F38=\"\",G38=\"\"),\"\",IF(F38=\"g\",VLOOKUP(G38,'Tab 4+5 DüV+Abfuhr_G'!A:N,13,FALSE)*'N-DBE'!J38,IF(F38=\"A\",VLOOKUP(G38,'Tab 2+3 DüV_A'!A:L,11,FALSE)*'N-DBE'!J38,VLOOKUP(G38,'H&G LfL'!B:U,19,FALSE)*'N-DBE'!J38)))","v":""},{"$f":"IF(OR(F38=\"\",G38=\"\"),\"\",IF(OR('N-DBE'!K38=\"\",'N-DBE'!M38=0),0,IF('N-DBE'!K38=0,-T38,('N-DBE'!K38*T38/'N-DBE'!J38)-T38)))","v":""},{"$f":"IF(OR(B38=\"\",G38=\"\"),\"\",IF(VLOOKUP(B38,Schlagliste!B:J,8,FALSE)=\"\",\"\",VLOOKUP(B38,Schlagliste!B:J,8,FALSE)))","v":""},{"$f":"IF(OR(V38=\"\",S38=\"\"),\"\",IF(V38>39,0,IF(S38=\"leicht\",VLOOKUP(V38,'Boden DüV-Bolap'!A:Q,7,FALSE),IF(S38=\"mittel\",VLOOKUP(V38,'Boden DüV-Bolap'!A:K,11,FALSE),IF(S38=\"schwer\",VLOOKUP(V38,'Boden DüV-Bolap'!A:R,15,FALSE))))))","v":""},{"$f":"IF(OR(F38=\"\",G38=\"\",S38=\"\",V38=\"\"),\"\",IF(V38>39,0,IF(AND(S38=\"leicht\",V38<14),VLOOKUP(V38,'Boden DüV-Bolap'!A:Q,8,FALSE),IF(AND(S38=\"leicht\",V38>13),VLOOKUP(V38,'Boden DüV-Bolap'!A:Q,9,FALSE)*(T38+U38)-(T38+U38),IF(AND(S38=\"mittel\",V38<18),VLOOKUP(V38,'Boden DüV-Bolap'!A:Q,12,FALSE),IF(AND(S38=\"mittel\",V38>17),VLOOKUP(V38,'Boden DüV-Bolap'!A:Q,13,FALSE)*(T38+U38)-(T38+U38),IF(AND(S38=\"schwer\",V38<22),VLOOKUP(V38,'Boden DüV-Bolap'!A:Q,16,FALSE),IF(AND(S38=\"schwer\",V38>21),VLOOKUP(V38,'Boden DüV-Bolap'!A:Q,17,FALSE)*(T38+U38)-(T38+U38)))))))))","v":""},{"$f":"IF(OR(F38=\"\",G38=\"\"),\"\",IF(OR(F38=\"A\",F38=\"HG\"),0,VLOOKUP(G38,'Tab 4+5 DüV+Abfuhr_G'!A:Q,16,FALSE)))","v":""},"","",{"$f":"IF(OR(F38=\"\",G38=\"\"),\"\",IF(F38=\"g\",VLOOKUP(G38,'Tab 4+5 DüV+Abfuhr_G'!A:N,14,FALSE)*'N-DBE'!J38,IF(F38=\"A\",VLOOKUP(G38,'Tab 2+3 DüV_A'!A:L,12,FALSE)*'N-DBE'!J38,VLOOKUP(G38,'H&G LfL'!B:U,20,FALSE)*'N-DBE'!J38)))","v":""},{"$f":"IF(OR(F38=\"\",G38=\"\"),\"\",IF(OR('N-DBE'!K38=\"\",'N-DBE'!M38=0),0,IF('N-DBE'!K38=0,-AB38,('N-DBE'!K38*AB38/'N-DBE'!J38)-AB38)))","v":""},{"$f":"IF(OR(B38=\"\",G38=\"\"),\"\",IF(VLOOKUP(B38,Schlagliste!B:J,9,FALSE)=\"\",\"\",VLOOKUP(B38,Schlagliste!B:J,9,FALSE)))","v":""},{"$f":"IF(OR(AD38=\"\",S38=\"\"),\"\",IF(AD38>39,0,IF(S38=\"leicht\",VLOOKUP(AD38,'Boden DüV-Bolap'!A:AA,19,FALSE),IF(S38=\"mittel\",VLOOKUP(AD38,'Boden DüV-Bolap'!A:AA,23,FALSE),IF(S38=\"schwer\",VLOOKUP(AD38,'Boden DüV-Bolap'!A:AA,27,FALSE))))))","v":""},{"$f":"IF(OR(F38=\"\",G38=\"\",S38=\"\",AD38=\"\"),\"\",IF(AD38>39,0,IF(AND(S38=\"leicht\",AD38<7),VLOOKUP(AD38,'Boden DüV-Bolap'!A:AC,20,FALSE),IF(AND(S38=\"leicht\",AD38>6),VLOOKUP(AD38,'Boden DüV-Bolap'!A:AC,21,FALSE)*(AB38+AC38)-(AB38+AC38),IF(AND(S38=\"mittel\",AD38<11),VLOOKUP(AD38,'Boden DüV-Bolap'!A:AC,24,FALSE),IF(AND(S38=\"mittel\",AD38>10),VLOOKUP(AD38,'Boden DüV-Bolap'!A:AC,25,FALSE)*(AB38+AC38)-(AB38+AC38),IF(AND(S38=\"schwer\",AD38<15),VLOOKUP(AD38,'Boden DüV-Bolap'!A:AC,28,FALSE),IF(AND(S38=\"schwer\",AD38>14),VLOOKUP(AD38,'Boden DüV-Bolap'!A:AC,29,FALSE)*(AB38+AC38)-(AB38+AC38)))))))))","v":""},{"$f":"IF(OR(F38=\"\",G38=\"\"),\"\",IF(OR(F38=\"A\",F38=\"HG\"),0,VLOOKUP(G38,'Tab 4+5 DüV+Abfuhr_G'!A:Q,17,FALSE)))","v":""},"",""]
[{"$f":"IF('N-DBE'!A39=\"\",\"\",'N-DBE'!A39)","v":""},{"$f":"IF('N-DBE'!B39=\"\",\"\",'N-DBE'!B39)","v":""},{"$f":"IF('N-DBE'!C39=\"\",\"\",'N-DBE'!C39)","v":""},{"$f":"IF('N-DBE'!D39=\"\",\"\",'N-DBE'!D39)","v":""},{"$f":"IF('N-DBE'!E39=\"\",\"\",'N-DBE'!E39)","v":""},{"$f":"IF('N-DBE'!F39=\"\",\"\",'N-DBE'!F39)","v":""},{"$f":"IF('N-DBE'!G39=\"\",\"\",'N-DBE'!G39)","v":""},{"$f":"IF(OR(F39=\"\",G39=\"\"),\"\",IF(F39=\"g\",VLOOKUP(G39,'Tab 4+5 DüV+Abfuhr_G'!A:N,12,FALSE)*'N-DBE'!J39,IF(F39=\"A\",VLOOKUP(G39,'Tab 2+3 DüV_A'!A:L,10,FALSE)*'N-DBE'!J39,VLOOKUP(G39,'H&G LfL'!B:U,18,FALSE)*'N-DBE'!J39)))","v":""},{"$f":"IF(OR(F39=\"\",G39=\"\"),\"\",IF(OR('N-DBE'!K39=\"\",'N-DBE'!M39=0),0,IF('N-DBE'!K39=0,-H39,('N-DBE'!K39*H39/'N-DBE'!J39)-H39)))","v":""},{"$f":"IF(OR(B39=\"\",G39=\"\"),\"\",IF(VLOOKUP(B39,Schlagliste!B:J,7,FALSE)=\"\",\"\",VLOOKUP(B39,Schlagliste!B:J,7,FALSE)))","v":""},{"$f":"IF(J39=\"\",\"\",IF(J39>39,\"E\",VLOOKUP(J39,'Boden DüV-Bolap'!A:B,2,FALSE)))","v":""},{"$f":"IF(J39=\"\",\"\",IF(J39>39,0,VLOOKUP(J39,'Boden DüV-Bolap'!A:C,3,FALSE)))","v":""},{"$f":"IF(OR(F39=\"\",G39=\"\"),\"\",IF(OR(F39=\"A\",F39=\"HG\"),0,VLOOKUP(G39,'Tab 4+5 DüV+Abfuhr_G'!A:Q,15,FALSE)))","v":""},"",{"$f":"IF(OR(F39=\"\",G39=\"\"),\"\",IF(J39=\"\",SUM(H39,I39),IF(OR(K39=\"D\",K39=\"E\"),(H39+M39)*VLOOKUP(K39,'Boden DüV-Bolap'!B:E,4,FALSE),SUM(H39,I39,L39,M39))))","v":""},"",null,"",{"$f":"IF(OR(B39=\"\",G39=\"\"),\"\",IF(VLOOKUP(B39,Schlagliste!B:J,5,FALSE)=\"\",\"\",VLOOKUP(B39,Schlagliste!B:J,5,FALSE)))","v":""},{"$f":"IF(OR(F39=\"\",G39=\"\"),\"\",IF(F39=\"g\",VLOOKUP(G39,'Tab 4+5 DüV+Abfuhr_G'!A:N,13,FALSE)*'N-DBE'!J39,IF(F39=\"A\",VLOOKUP(G39,'Tab 2+3 DüV_A'!A:L,11,FALSE)*'N-DBE'!J39,VLOOKUP(G39,'H&G LfL'!B:U,19,FALSE)*'N-DBE'!J39)))","v":""},{"$f":"IF(OR(F39=\"\",G39=\"\"),\"\",IF(OR('N-DBE'!K39=\"\",'N-DBE'!M39=0),0,IF('N-DBE'!K39=0,-T39,('N-DBE'!K39*T39/'N-DBE'!J39)-T39)))","v":""},{"$f":"IF(OR(B39=\"\",G39=\"\"),\"\",IF(VLOOKUP(B39,Schlagliste!B:J,8,FALSE)=\"\",\"\",VLOOKUP(B39,Schlagliste!B:J,8,FALSE)))","v":""},{"$f":"IF(OR(V39=\"\",S39=\"\"),\"\",IF(V39>39,0,IF(S39=\"leicht\",VLOOKUP(V39,'Boden DüV-Bolap'!A:Q,7,FALSE),IF(S39=\"mittel\",VLOOKUP(V39,'Boden DüV-Bolap'!A:K,11,FALSE),IF(S39=\"schwer\",VLOOKUP(V39,'Boden DüV-Bolap'!A:R,15,FALSE))))))","v":""},{"$f":"IF(OR(F39=\"\",G39=\"\",S39=\"\",V39=\"\"),\"\",IF(V39>39,0,IF(AND(S39=\"leicht\",V39<14),VLOOKUP(V39,'Boden DüV-Bolap'!A:Q,8,FALSE),IF(AND(S39=\"leicht\",V39>13),VLOOKUP(V39,'Boden DüV-Bolap'!A:Q,9,FALSE)*(T39+U39)-(T39+U39),IF(AND(S39=\"mittel\",V39<18),VLOOKUP(V39,'Boden DüV-Bolap'!A:Q,12,FALSE),IF(AND(S39=\"mittel\",V39>17),VLOOKUP(V39,'Boden DüV-Bolap'!A:Q,13,FALSE)*(T39+U39)-(T39+U39),IF(AND(S39=\"schwer\",V39<22),VLOOKUP(V39,'Boden DüV-Bolap'!A:Q,16,FALSE),IF(AND(S39=\"schwer\",V39>21),VLOOKUP(V39,'Boden DüV-Bolap'!A:Q,17,FALSE)*(T39+U39)-(T39+U39)))))))))","v":""},{"$f":"IF(OR(F39=\"\",G39=\"\"),\"\",IF(OR(F39=\"A\",F39=\"HG\"),0,VLOOKUP(G39,'Tab 4+5 DüV+Abfuhr_G'!A:Q,16,FALSE)))","v":""},"","",{"$f":"IF(OR(F39=\"\",G39=\"\"),\"\",IF(F39=\"g\",VLOOKUP(G39,'Tab 4+5 DüV+Abfuhr_G'!A:N,14,FALSE)*'N-DBE'!J39,IF(F39=\"A\",VLOOKUP(G39,'Tab 2+3 DüV_A'!A:L,12,FALSE)*'N-DBE'!J39,VLOOKUP(G39,'H&G LfL'!B:U,20,FALSE)*'N-DBE'!J39)))","v":""},{"$f":"IF(OR(F39=\"\",G39=\"\"),\"\",IF(OR('N-DBE'!K39=\"\",'N-DBE'!M39=0),0,IF('N-DBE'!K39=0,-AB39,('N-DBE'!K39*AB39/'N-DBE'!J39)-AB39)))","v":""},{"$f":"IF(OR(B39=\"\",G39=\"\"),\"\",IF(VLOOKUP(B39,Schlagliste!B:J,9,FALSE)=\"\",\"\",VLOOKUP(B39,Schlagliste!B:J,9,FALSE)))","v":""},{"$f":"IF(OR(AD39=\"\",S39=\"\"),\"\",IF(AD39>39,0,IF(S39=\"leicht\",VLOOKUP(AD39,'Boden DüV-Bolap'!A:AA,19,FALSE),IF(S39=\"mittel\",VLOOKUP(AD39,'Boden DüV-Bolap'!A:AA,23,FALSE),IF(S39=\"schwer\",VLOOKUP(AD39,'Boden DüV-Bolap'!A:AA,27,FALSE))))))","v":""},{"$f":"IF(OR(F39=\"\",G39=\"\",S39=\"\",AD39=\"\"),\"\",IF(AD39>39,0,IF(AND(S39=\"leicht\",AD39<7),VLOOKUP(AD39,'Boden DüV-Bolap'!A:AC,20,FALSE),IF(AND(S39=\"leicht\",AD39>6),VLOOKUP(AD39,'Boden DüV-Bolap'!A:AC,21,FALSE)*(AB39+AC39)-(AB39+AC39),IF(AND(S39=\"mittel\",AD39<11),VLOOKUP(AD39,'Boden DüV-Bolap'!A:AC,24,FALSE),IF(AND(S39=\"mittel\",AD39>10),VLOOKUP(AD39,'Boden DüV-Bolap'!A:AC,25,FALSE)*(AB39+AC39)-(AB39+AC39),IF(AND(S39=\"schwer\",AD39<15),VLOOKUP(AD39,'Boden DüV-Bolap'!A:AC,28,FALSE),IF(AND(S39=\"schwer\",AD39>14),VLOOKUP(AD39,'Boden DüV-Bolap'!A:AC,29,FALSE)*(AB39+AC39)-(AB39+AC39)))))))))","v":""},{"$f":"IF(OR(F39=\"\",G39=\"\"),\"\",IF(OR(F39=\"A\",F39=\"HG\"),0,VLOOKUP(G39,'Tab 4+5 DüV+Abfuhr_G'!A:Q,17,FALSE)))","v":""},"",""]
[{"$f":"IF('N-DBE'!A40=\"\",\"\",'N-DBE'!A40)","v":""},{"$f":"IF('N-DBE'!B40=\"\",\"\",'N-DBE'!B40)","v":""},{"$f":"IF('N-DBE'!C40=\"\",\"\",'N-DBE'!C40)","v":""},{"$f":"IF('N-DBE'!D40=\"\",\"\",'N-DBE'!D40)","v":""},{"$f":"IF('N-DBE'!E40=\"\",\"\",'N-DBE'!E40)","v":""},{"$f":"IF('N-DBE'!F40=\"\",\"\",'N-DBE'!F40)","v":""},{"$f":"IF('N-DBE'!G40=\"\",\"\",'N-DBE'!G40)","v":""},{"$f":"IF(OR(F40=\"\",G40=\"\"),\"\",IF(F40=\"g\",VLOOKUP(G40,'Tab 4+5 DüV+Abfuhr_G'!A:N,12,FALSE)*'N-DBE'!J40,IF(F40=\"A\",VLOOKUP(G40,'Tab 2+3 DüV_A'!A:L,10,FALSE)*'N-DBE'!J40,VLOOKUP(G40,'H&G LfL'!B:U,18,FALSE)*'N-DBE'!J40)))","v":""},{"$f":"IF(OR(F40=\"\",G40=\"\"),\"\",IF(OR('N-DBE'!K40=\"\",'N-DBE'!M40=0),0,IF('N-DBE'!K40=0,-H40,('N-DBE'!K40*H40/'N-DBE'!J40)-H40)))","v":""},{"$f":"IF(OR(B40=\"\",G40=\"\"),\"\",IF(VLOOKUP(B40,Schlagliste!B:J,7,FALSE)=\"\",\"\",VLOOKUP(B40,Schlagliste!B:J,7,FALSE)))","v":""},{"$f":"IF(J40=\"\",\"\",IF(J40>39,\"E\",VLOOKUP(J40,'Boden DüV-Bolap'!A:B,2,FALSE)))","v":""},{"$f":"IF(J40=\"\",\"\",IF(J40>39,0,VLOOKUP(J40,'Boden DüV-Bolap'!A:C,3,FALSE)))","v":""},{"$f":"IF(OR(F40=\"\",G40=\"\"),\"\",IF(OR(F40=\"A\",F40=\"HG\"),0,VLOOKUP(G40,'Tab 4+5 DüV+Abfuhr_G'!A:Q,15,FALSE)))","v":""},"",{"$f":"IF(OR(F40=\"\",G40=\"\"),\"\",IF(J40=\"\",SUM(H40,I40),IF(OR(K40=\"D\",K40=\"E\"),(H40+M40)*VLOOKUP(K40,'Boden DüV-Bolap'!B:E,4,FALSE),SUM(H40,I40,L40,M40))))","v":""},"",null,"",{"$f":"IF(OR(B40=\"\",G40=\"\"),\"\",IF(VLOOKUP(B40,Schlagliste!B:J,5,FALSE)=\"\",\"\",VLOOKUP(B40,Schlagliste!B:J,5,FALSE)))","v":""},{"$f":"IF(OR(F40=\"\",G40=\"\"),\"\",IF(F40=\"g\",VLOOKUP(G40,'Tab 4+5 DüV+Abfuhr_G'!A:N,13,FALSE)*'N-DBE'!J40,IF(F40=\"A\",VLOOKUP(G40,'Tab 2+3 DüV_A'!A:L,11,FALSE)*'N-DBE'!J40,VLOOKUP(G40,'H&G LfL'!B:U,19,FALSE)*'N-DBE'!J40)))","v":""},{"$f":"IF(OR(F40=\"\",G40=\"\"),\"\",IF(OR('N-DBE'!K40=\"\",'N-DBE'!M40=0),0,IF('N-DBE'!K40=0,-T40,('N-DBE'!K40*T40/'N-DBE'!J40)-T40)))","v":""},{"$f":"IF(OR(B40=\"\",G40=\"\"),\"\",IF(VLOOKUP(B40,Schlagliste!B:J,8,FALSE)=\"\",\"\",VLOOKUP(B40,Schlagliste!B:J,8,FALSE)))","v":""},{"$f":"IF(OR(V40=\"\",S40=\"\"),\"\",IF(V40>39,0,IF(S40=\"leicht\",VLOOKUP(V40,'Boden DüV-Bolap'!A:Q,7,FALSE),IF(S40=\"mittel\",VLOOKUP(V40,'Boden DüV-Bolap'!A:K,11,FALSE),IF(S40=\"schwer\",VLOOKUP(V40,'Boden DüV-Bolap'!A:R,15,FALSE))))))","v":""},{"$f":"IF(OR(F40=\"\",G40=\"\",S40=\"\",V40=\"\"),\"\",IF(V40>39,0,IF(AND(S40=\"leicht\",V40<14),VLOOKUP(V40,'Boden DüV-Bolap'!A:Q,8,FALSE),IF(AND(S40=\"leicht\",V40>13),VLOOKUP(V40,'Boden DüV-Bolap'!A:Q,9,FALSE)*(T40+U40)-(T40+U40),IF(AND(S40=\"mittel\",V40<18),VLOOKUP(V40,'Boden DüV-Bolap'!A:Q,12,FALSE),IF(AND(S40=\"mittel\",V40>17),VLOOKUP(V40,'Boden DüV-Bolap'!A:Q,13,FALSE)*(T40+U40)-(T40+U40),IF(AND(S40=\"schwer\",V40<22),VLOOKUP(V40,'Boden DüV-Bolap'!A:Q,16,FALSE),IF(AND(S40=\"schwer\",V40>21),VLOOKUP(V40,'Boden DüV-Bolap'!A:Q,17,FALSE)*(T40+U40)-(T40+U40)))))))))","v":""},{"$f":"IF(OR(F40=\"\",G40=\"\"),\"\",IF(OR(F40=\"A\",F40=\"HG\"),0,VLOOKUP(G40,'Tab 4+5 DüV+Abfuhr_G'!A:Q,16,FALSE)))","v":""},"","",{"$f":"IF(OR(F40=\"\",G40=\"\"),\"\",IF(F40=\"g\",VLOOKUP(G40,'Tab 4+5 DüV+Abfuhr_G'!A:N,14,FALSE)*'N-DBE'!J40,IF(F40=\"A\",VLOOKUP(G40,'Tab 2+3 DüV_A'!A:L,12,FALSE)*'N-DBE'!J40,VLOOKUP(G40,'H&G LfL'!B:U,20,FALSE)*'N-DBE'!J40)))","v":""},{"$f":"IF(OR(F40=\"\",G40=\"\"),\"\",IF(OR('N-DBE'!K40=\"\",'N-DBE'!M40=0),0,IF('N-DBE'!K40=0,-AB40,('N-DBE'!K40*AB40/'N-DBE'!J40)-AB40)))","v":""},{"$f":"IF(OR(B40=\"\",G40=\"\"),\"\",IF(VLOOKUP(B40,Schlagliste!B:J,9,FALSE)=\"\",\"\",VLOOKUP(B40,Schlagliste!B:J,9,FALSE)))","v":""},{"$f":"IF(OR(AD40=\"\",S40=\"\"),\"\",IF(AD40>39,0,IF(S40=\"leicht\",VLOOKUP(AD40,'Boden DüV-Bolap'!A:AA,19,FALSE),IF(S40=\"mittel\",VLOOKUP(AD40,'Boden DüV-Bolap'!A:AA,23,FALSE),IF(S40=\"schwer\",VLOOKUP(AD40,'Boden DüV-Bolap'!A:AA,27,FALSE))))))","v":""},{"$f":"IF(OR(F40=\"\",G40=\"\",S40=\"\",AD40=\"\"),\"\",IF(AD40>39,0,IF(AND(S40=\"leicht\",AD40<7),VLOOKUP(AD40,'Boden DüV-Bolap'!A:AC,20,FALSE),IF(AND(S40=\"leicht\",AD40>6),VLOOKUP(AD40,'Boden DüV-Bolap'!A:AC,21,FALSE)*(AB40+AC40)-(AB40+AC40),IF(AND(S40=\"mittel\",AD40<11),VLOOKUP(AD40,'Boden DüV-Bolap'!A:AC,24,FALSE),IF(AND(S40=\"mittel\",AD40>10),VLOOKUP(AD40,'Boden DüV-Bolap'!A:AC,25,FALSE)*(AB40+AC40)-(AB40+AC40),IF(AND(S40=\"schwer\",AD40<15),VLOOKUP(AD40,'Boden DüV-Bolap'!A:AC,28,FALSE),IF(AND(S40=\"schwer\",AD40>14),VLOOKUP(AD40,'Boden DüV-Bolap'!A:AC,29,FALSE)*(AB40+AC40)-(AB40+AC40)))))))))","v":""},{"$f":"IF(OR(F40=\"\",G40=\"\"),\"\",IF(OR(F40=\"A\",F40=\"HG\"),0,VLOOKUP(G40,'Tab 4+5 DüV+Abfuhr_G'!A:Q,17,FALSE)))","v":""},"",""]
[{"$f":"IF('N-DBE'!A41=\"\",\"\",'N-DBE'!A41)","v":""},{"$f":"IF('N-DBE'!B41=\"\",\"\",'N-DBE'!B41)","v":""},{"$f":"IF('N-DBE'!C41=\"\",\"\",'N-DBE'!C41)","v":""},{"$f":"IF('N-DBE'!D41=\"\",\"\",'N-DBE'!D41)","v":""},{"$f":"IF('N-DBE'!E41=\"\",\"\",'N-DBE'!E41)","v":""},{"$f":"IF('N-DBE'!F41=\"\",\"\",'N-DBE'!F41)","v":""},{"$f":"IF('N-DBE'!G41=\"\",\"\",'N-DBE'!G41)","v":""},{"$f":"IF(OR(F41=\"\",G41=\"\"),\"\",IF(F41=\"g\",VLOOKUP(G41,'Tab 4+5 DüV+Abfuhr_G'!A:N,12,FALSE)*'N-DBE'!J41,IF(F41=\"A\",VLOOKUP(G41,'Tab 2+3 DüV_A'!A:L,10,FALSE)*'N-DBE'!J41,VLOOKUP(G41,'H&G LfL'!B:U,18,FALSE)*'N-DBE'!J41)))","v":""},{"$f":"IF(OR(F41=\"\",G41=\"\"),\"\",IF(OR('N-DBE'!K41=\"\",'N-DBE'!M41=0),0,IF('N-DBE'!K41=0,-H41,('N-DBE'!K41*H41/'N-DBE'!J41)-H41)))","v":""},{"$f":"IF(OR(B41=\"\",G41=\"\"),\"\",IF(VLOOKUP(B41,Schlagliste!B:J,7,FALSE)=\"\",\"\",VLOOKUP(B41,Schlagliste!B:J,7,FALSE)))","v":""},{"$f":"IF(J41=\"\",\"\",IF(J41>39,\"E\",VLOOKUP(J41,'Boden DüV-Bolap'!A:B,2,FALSE)))","v":""},{"$f":"IF(J41=\"\",\"\",IF(J41>39,0,VLOOKUP(J41,'Boden DüV-Bolap'!A:C,3,FALSE)))","v":""},{"$f":"IF(OR(F41=\"\",G41=\"\"),\"\",IF(OR(F41=\"A\",F41=\"HG\"),0,VLOOKUP(G41,'Tab 4+5 DüV+Abfuhr_G'!A:Q,15,FALSE)))","v":""},"",{"$f":"IF(OR(F41=\"\",G41=\"\"),\"\",IF(J41=\"\",SUM(H41,I41),IF(OR(K41=\"D\",K41=\"E\"),(H41+M41)*VLOOKUP(K41,'Boden DüV-Bolap'!B:E,4,FALSE),SUM(H41,I41,L41,M41))))","v":""},"",null,"",{"$f":"IF(OR(B41=\"\",G41=\"\"),\"\",IF(VLOOKUP(B41,Schlagliste!B:J,5,FALSE)=\"\",\"\",VLOOKUP(B41,Schlagliste!B:J,5,FALSE)))","v":""},{"$f":"IF(OR(F41=\"\",G41=\"\"),\"\",IF(F41=\"g\",VLOOKUP(G41,'Tab 4+5 DüV+Abfuhr_G'!A:N,13,FALSE)*'N-DBE'!J41,IF(F41=\"A\",VLOOKUP(G41,'Tab 2+3 DüV_A'!A:L,11,FALSE)*'N-DBE'!J41,VLOOKUP(G41,'H&G LfL'!B:U,19,FALSE)*'N-DBE'!J41)))","v":""},{"$f":"IF(OR(F41=\"\",G41=\"\"),\"\",IF(OR('N-DBE'!K41=\"\",'N-DBE'!M41=0),0,IF('N-DBE'!K41=0,-T41,('N-DBE'!K41*T41/'N-DBE'!J41)-T41)))","v":""},{"$f":"IF(OR(B41=\"\",G41=\"\"),\"\",IF(VLOOKUP(B41,Schlagliste!B:J,8,FALSE)=\"\",\"\",VLOOKUP(B41,Schlagliste!B:J,8,FALSE)))","v":""},{"$f":"IF(OR(V41=\"\",S41=\"\"),\"\",IF(V41>39,0,IF(S41=\"leicht\",VLOOKUP(V41,'Boden DüV-Bolap'!A:Q,7,FALSE),IF(S41=\"mittel\",VLOOKUP(V41,'Boden DüV-Bolap'!A:K,11,FALSE),IF(S41=\"schwer\",VLOOKUP(V41,'Boden DüV-Bolap'!A:R,15,FALSE))))))","v":""},{"$f":"IF(OR(F41=\"\",G41=\"\",S41=\"\",V41=\"\"),\"\",IF(V41>39,0,IF(AND(S41=\"leicht\",V41<14),VLOOKUP(V41,'Boden DüV-Bolap'!A:Q,8,FALSE),IF(AND(S41=\"leicht\",V41>13),VLOOKUP(V41,'Boden DüV-Bolap'!A:Q,9,FALSE)*(T41+U41)-(T41+U41),IF(AND(S41=\"mittel\",V41<18),VLOOKUP(V41,'Boden DüV-Bolap'!A:Q,12,FALSE),IF(AND(S41=\"mittel\",V41>17),VLOOKUP(V41,'Boden DüV-Bolap'!A:Q,13,FALSE)*(T41+U41)-(T41+U41),IF(AND(S41=\"schwer\",V41<22),VLOOKUP(V41,'Boden DüV-Bolap'!A:Q,16,FALSE),IF(AND(S41=\"schwer\",V41>21),VLOOKUP(V41,'Boden DüV-Bolap'!A:Q,17,FALSE)*(T41+U41)-(T41+U41)))))))))","v":""},{"$f":"IF(OR(F41=\"\",G41=\"\"),\"\",IF(OR(F41=\"A\",F41=\"HG\"),0,VLOOKUP(G41,'Tab 4+5 DüV+Abfuhr_G'!A:Q,16,FALSE)))","v":""},"","",{"$f":"IF(OR(F41=\"\",G41=\"\"),\"\",IF(F41=\"g\",VLOOKUP(G41,'Tab 4+5 DüV+Abfuhr_G'!A:N,14,FALSE)*'N-DBE'!J41,IF(F41=\"A\",VLOOKUP(G41,'Tab 2+3 DüV_A'!A:L,12,FALSE)*'N-DBE'!J41,VLOOKUP(G41,'H&G LfL'!B:U,20,FALSE)*'N-DBE'!J41)))","v":""},{"$f":"IF(OR(F41=\"\",G41=\"\"),\"\",IF(OR('N-DBE'!K41=\"\",'N-DBE'!M41=0),0,IF('N-DBE'!K41=0,-AB41,('N-DBE'!K41*AB41/'N-DBE'!J41)-AB41)))","v":""},{"$f":"IF(OR(B41=\"\",G41=\"\"),\"\",IF(VLOOKUP(B41,Schlagliste!B:J,9,FALSE)=\"\",\"\",VLOOKUP(B41,Schlagliste!B:J,9,FALSE)))","v":""},{"$f":"IF(OR(AD41=\"\",S41=\"\"),\"\",IF(AD41>39,0,IF(S41=\"leicht\",VLOOKUP(AD41,'Boden DüV-Bolap'!A:AA,19,FALSE),IF(S41=\"mittel\",VLOOKUP(AD41,'Boden DüV-Bolap'!A:AA,23,FALSE),IF(S41=\"schwer\",VLOOKUP(AD41,'Boden DüV-Bolap'!A:AA,27,FALSE))))))","v":""},{"$f":"IF(OR(F41=\"\",G41=\"\",S41=\"\",AD41=\"\"),\"\",IF(AD41>39,0,IF(AND(S41=\"leicht\",AD41<7),VLOOKUP(AD41,'Boden DüV-Bolap'!A:AC,20,FALSE),IF(AND(S41=\"leicht\",AD41>6),VLOOKUP(AD41,'Boden DüV-Bolap'!A:AC,21,FALSE)*(AB41+AC41)-(AB41+AC41),IF(AND(S41=\"mittel\",AD41<11),VLOOKUP(AD41,'Boden DüV-Bolap'!A:AC,24,FALSE),IF(AND(S41=\"mittel\",AD41>10),VLOOKUP(AD41,'Boden DüV-Bolap'!A:AC,25,FALSE)*(AB41+AC41)-(AB41+AC41),IF(AND(S41=\"schwer\",AD41<15),VLOOKUP(AD41,'Boden DüV-Bolap'!A:AC,28,FALSE),IF(AND(S41=\"schwer\",AD41>14),VLOOKUP(AD41,'Boden DüV-Bolap'!A:AC,29,FALSE)*(AB41+AC41)-(AB41+AC41)))))))))","v":""},{"$f":"IF(OR(F41=\"\",G41=\"\"),\"\",IF(OR(F41=\"A\",F41=\"HG\"),0,VLOOKUP(G41,'Tab 4+5 DüV+Abfuhr_G'!A:Q,17,FALSE)))","v":""},"",""]
[{"$f":"IF('N-DBE'!A42=\"\",\"\",'N-DBE'!A42)","v":""},{"$f":"IF('N-DBE'!B42=\"\",\"\",'N-DBE'!B42)","v":""},{"$f":"IF('N-DBE'!C42=\"\",\"\",'N-DBE'!C42)","v":""},{"$f":"IF('N-DBE'!D42=\"\",\"\",'N-DBE'!D42)","v":""},{"$f":"IF('N-DBE'!E42=\"\",\"\",'N-DBE'!E42)","v":""},{"$f":"IF('N-DBE'!F42=\"\",\"\",'N-DBE'!F42)","v":""},{"$f":"IF('N-DBE'!G42=\"\",\"\",'N-DBE'!G42)","v":""},{"$f":"IF(OR(F42=\"\",G42=\"\"),\"\",IF(F42=\"g\",VLOOKUP(G42,'Tab 4+5 DüV+Abfuhr_G'!A:N,12,FALSE)*'N-DBE'!J42,IF(F42=\"A\",VLOOKUP(G42,'Tab 2+3 DüV_A'!A:L,10,FALSE)*'N-DBE'!J42,VLOOKUP(G42,'H&G LfL'!B:U,18,FALSE)*'N-DBE'!J42)))","v":""},{"$f":"IF(OR(F42=\"\",G42=\"\"),\"\",IF(OR('N-DBE'!K42=\"\",'N-DBE'!M42=0),0,IF('N-DBE'!K42=0,-H42,('N-DBE'!K42*H42/'N-DBE'!J42)-H42)))","v":""},{"$f":"IF(OR(B42=\"\",G42=\"\"),\"\",IF(VLOOKUP(B42,Schlagliste!B:J,7,FALSE)=\"\",\"\",VLOOKUP(B42,Schlagliste!B:J,7,FALSE)))","v":""},{"$f":"IF(J42=\"\",\"\",IF(J42>39,\"E\",VLOOKUP(J42,'Boden DüV-Bolap'!A:B,2,FALSE)))","v":""},{"$f":"IF(J42=\"\",\"\",IF(J42>39,0,VLOOKUP(J42,'Boden DüV-Bolap'!A:C,3,FALSE)))","v":""},{"$f":"IF(OR(F42=\"\",G42=\"\"),\"\",IF(OR(F42=\"A\",F42=\"HG\"),0,VLOOKUP(G42,'Tab 4+5 DüV+Abfuhr_G'!A:Q,15,FALSE)))","v":""},"",{"$f":"IF(OR(F42=\"\",G42=\"\"),\"\",IF(J42=\"\",SUM(H42,I42),IF(OR(K42=\"D\",K42=\"E\"),(H42+M42)*VLOOKUP(K42,'Boden DüV-Bolap'!B:E,4,FALSE),SUM(H42,I42,L42,M42))))","v":""},"",null,"",{"$f":"IF(OR(B42=\"\",G42=\"\"),\"\",IF(VLOOKUP(B42,Schlagliste!B:J,5,FALSE)=\"\",\"\",VLOOKUP(B42,Schlagliste!B:J,5,FALSE)))","v":""},{"$f":"IF(OR(F42=\"\",G42=\"\"),\"\",IF(F42=\"g\",VLOOKUP(G42,'Tab 4+5 DüV+Abfuhr_G'!A:N,13,FALSE)*'N-DBE'!J42,IF(F42=\"A\",VLOOKUP(G42,'Tab 2+3 DüV_A'!A:L,11,FALSE)*'N-DBE'!J42,VLOOKUP(G42,'H&G LfL'!B:U,19,FALSE)*'N-DBE'!J42)))","v":""},{"$f":"IF(OR(F42=\"\",G42=\"\"),\"\",IF(OR('N-DBE'!K42=\"\",'N-DBE'!M42=0),0,IF('N-DBE'!K42=0,-T42,('N-DBE'!K42*T42/'N-DBE'!J42)-T42)))","v":""},{"$f":"IF(OR(B42=\"\",G42=\"\"),\"\",IF(VLOOKUP(B42,Schlagliste!B:J,8,FALSE)=\"\",\"\",VLOOKUP(B42,Schlagliste!B:J,8,FALSE)))","v":""},{"$f":"IF(OR(V42=\"\",S42=\"\"),\"\",IF(V42>39,0,IF(S42=\"leicht\",VLOOKUP(V42,'Boden DüV-Bolap'!A:Q,7,FALSE),IF(S42=\"mittel\",VLOOKUP(V42,'Boden DüV-Bolap'!A:K,11,FALSE),IF(S42=\"schwer\",VLOOKUP(V42,'Boden DüV-Bolap'!A:R,15,FALSE))))))","v":""},{"$f":"IF(OR(F42=\"\",G42=\"\",S42=\"\",V42=\"\"),\"\",IF(V42>39,0,IF(AND(S42=\"leicht\",V42<14),VLOOKUP(V42,'Boden DüV-Bolap'!A:Q,8,FALSE),IF(AND(S42=\"leicht\",V42>13),VLOOKUP(V42,'Boden DüV-Bolap'!A:Q,9,FALSE)*(T42+U42)-(T42+U42),IF(AND(S42=\"mittel\",V42<18),VLOOKUP(V42,'Boden DüV-Bolap'!A:Q,12,FALSE),IF(AND(S42=\"mittel\",V42>17),VLOOKUP(V42,'Boden DüV-Bolap'!A:Q,13,FALSE)*(T42+U42)-(T42+U42),IF(AND(S42=\"schwer\",V42<22),VLOOKUP(V42,'Boden DüV-Bolap'!A:Q,16,FALSE),IF(AND(S42=\"schwer\",V42>21),VLOOKUP(V42,'Boden DüV-Bolap'!A:Q,17,FALSE)*(T42+U42)-(T42+U42)))))))))","v":""},{"$f":"IF(OR(F42=\"\",G42=\"\"),\"\",IF(OR(F42=\"A\",F42=\"HG\"),0,VLOOKUP(G42,'Tab 4+5 DüV+Abfuhr_G'!A:Q,16,FALSE)))","v":""},"","",{"$f":"IF(OR(F42=\"\",G42=\"\"),\"\",IF(F42=\"g\",VLOOKUP(G42,'Tab 4+5 DüV+Abfuhr_G'!A:N,14,FALSE)*'N-DBE'!J42,IF(F42=\"A\",VLOOKUP(G42,'Tab 2+3 DüV_A'!A:L,12,FALSE)*'N-DBE'!J42,VLOOKUP(G42,'H&G LfL'!B:U,20,FALSE)*'N-DBE'!J42)))","v":""},{"$f":"IF(OR(F42=\"\",G42=\"\"),\"\",IF(OR('N-DBE'!K42=\"\",'N-DBE'!M42=0),0,IF('N-DBE'!K42=0,-AB42,('N-DBE'!K42*AB42/'N-DBE'!J42)-AB42)))","v":""},{"$f":"IF(OR(B42=\"\",G42=\"\"),\"\",IF(VLOOKUP(B42,Schlagliste!B:J,9,FALSE)=\"\",\"\",VLOOKUP(B42,Schlagliste!B:J,9,FALSE)))","v":""},{"$f":"IF(OR(AD42=\"\",S42=\"\"),\"\",IF(AD42>39,0,IF(S42=\"leicht\",VLOOKUP(AD42,'Boden DüV-Bolap'!A:AA,19,FALSE),IF(S42=\"mittel\",VLOOKUP(AD42,'Boden DüV-Bolap'!A:AA,23,FALSE),IF(S42=\"schwer\",VLOOKUP(AD42,'Boden DüV-Bolap'!A:AA,27,FALSE))))))","v":""},{"$f":"IF(OR(F42=\"\",G42=\"\",S42=\"\",AD42=\"\"),\"\",IF(AD42>39,0,IF(AND(S42=\"leicht\",AD42<7),VLOOKUP(AD42,'Boden DüV-Bolap'!A:AC,20,FALSE),IF(AND(S42=\"leicht\",AD42>6),VLOOKUP(AD42,'Boden DüV-Bolap'!A:AC,21,FALSE)*(AB42+AC42)-(AB42+AC42),IF(AND(S42=\"mittel\",AD42<11),VLOOKUP(AD42,'Boden DüV-Bolap'!A:AC,24,FALSE),IF(AND(S42=\"mittel\",AD42>10),VLOOKUP(AD42,'Boden DüV-Bolap'!A:AC,25,FALSE)*(AB42+AC42)-(AB42+AC42),IF(AND(S42=\"schwer\",AD42<15),VLOOKUP(AD42,'Boden DüV-Bolap'!A:AC,28,FALSE),IF(AND(S42=\"schwer\",AD42>14),VLOOKUP(AD42,'Boden DüV-Bolap'!A:AC,29,FALSE)*(AB42+AC42)-(AB42+AC42)))))))))","v":""},{"$f":"IF(OR(F42=\"\",G42=\"\"),\"\",IF(OR(F42=\"A\",F42=\"HG\"),0,VLOOKUP(G42,'Tab 4+5 DüV+Abfuhr_G'!A:Q,17,FALSE)))","v":""},"",""]
[{"$f":"IF('N-DBE'!A43=\"\",\"\",'N-DBE'!A43)","v":""},{"$f":"IF('N-DBE'!B43=\"\",\"\",'N-DBE'!B43)","v":""},{"$f":"IF('N-DBE'!C43=\"\",\"\",'N-DBE'!C43)","v":""},{"$f":"IF('N-DBE'!D43=\"\",\"\",'N-DBE'!D43)","v":""},{"$f":"IF('N-DBE'!E43=\"\",\"\",'N-DBE'!E43)","v":""},{"$f":"IF('N-DBE'!F43=\"\",\"\",'N-DBE'!F43)","v":""},{"$f":"IF('N-DBE'!G43=\"\",\"\",'N-DBE'!G43)","v":""},{"$f":"IF(OR(F43=\"\",G43=\"\"),\"\",IF(F43=\"g\",VLOOKUP(G43,'Tab 4+5 DüV+Abfuhr_G'!A:N,12,FALSE)*'N-DBE'!J43,IF(F43=\"A\",VLOOKUP(G43,'Tab 2+3 DüV_A'!A:L,10,FALSE)*'N-DBE'!J43,VLOOKUP(G43,'H&G LfL'!B:U,18,FALSE)*'N-DBE'!J43)))","v":""},{"$f":"IF(OR(F43=\"\",G43=\"\"),\"\",IF(OR('N-DBE'!K43=\"\",'N-DBE'!M43=0),0,IF('N-DBE'!K43=0,-H43,('N-DBE'!K43*H43/'N-DBE'!J43)-H43)))","v":""},{"$f":"IF(OR(B43=\"\",G43=\"\"),\"\",IF(VLOOKUP(B43,Schlagliste!B:J,7,FALSE)=\"\",\"\",VLOOKUP(B43,Schlagliste!B:J,7,FALSE)))","v":""},{"$f":"IF(J43=\"\",\"\",IF(J43>39,\"E\",VLOOKUP(J43,'Boden DüV-Bolap'!A:B,2,FALSE)))","v":""},{"$f":"IF(J43=\"\",\"\",IF(J43>39,0,VLOOKUP(J43,'Boden DüV-Bolap'!A:C,3,FALSE)))","v":""},{"$f":"IF(OR(F43=\"\",G43=\"\"),\"\",IF(OR(F43=\"A\",F43=\"HG\"),0,VLOOKUP(G43,'Tab 4+5 DüV+Abfuhr_G'!A:Q,15,FALSE)))","v":""},"",{"$f":"IF(OR(F43=\"\",G43=\"\"),\"\",IF(J43=\"\",SUM(H43,I43),IF(OR(K43=\"D\",K43=\"E\"),(H43+M43)*VLOOKUP(K43,'Boden DüV-Bolap'!B:E,4,FALSE),SUM(H43,I43,L43,M43))))","v":""},"",null,"",{"$f":"IF(OR(B43=\"\",G43=\"\"),\"\",IF(VLOOKUP(B43,Schlagliste!B:J,5,FALSE)=\"\",\"\",VLOOKUP(B43,Schlagliste!B:J,5,FALSE)))","v":""},{"$f":"IF(OR(F43=\"\",G43=\"\"),\"\",IF(F43=\"g\",VLOOKUP(G43,'Tab 4+5 DüV+Abfuhr_G'!A:N,13,FALSE)*'N-DBE'!J43,IF(F43=\"A\",VLOOKUP(G43,'Tab 2+3 DüV_A'!A:L,11,FALSE)*'N-DBE'!J43,VLOOKUP(G43,'H&G LfL'!B:U,19,FALSE)*'N-DBE'!J43)))","v":""},{"$f":"IF(OR(F43=\"\",G43=\"\"),\"\",IF(OR('N-DBE'!K43=\"\",'N-DBE'!M43=0),0,IF('N-DBE'!K43=0,-T43,('N-DBE'!K43*T43/'N-DBE'!J43)-T43)))","v":""},{"$f":"IF(OR(B43=\"\",G43=\"\"),\"\",IF(VLOOKUP(B43,Schlagliste!B:J,8,FALSE)=\"\",\"\",VLOOKUP(B43,Schlagliste!B:J,8,FALSE)))","v":""},{"$f":"IF(OR(V43=\"\",S43=\"\"),\"\",IF(V43>39,0,IF(S43=\"leicht\",VLOOKUP(V43,'Boden DüV-Bolap'!A:Q,7,FALSE),IF(S43=\"mittel\",VLOOKUP(V43,'Boden DüV-Bolap'!A:K,11,FALSE),IF(S43=\"schwer\",VLOOKUP(V43,'Boden DüV-Bolap'!A:R,15,FALSE))))))","v":""},{"$f":"IF(OR(F43=\"\",G43=\"\",S43=\"\",V43=\"\"),\"\",IF(V43>39,0,IF(AND(S43=\"leicht\",V43<14),VLOOKUP(V43,'Boden DüV-Bolap'!A:Q,8,FALSE),IF(AND(S43=\"leicht\",V43>13),VLOOKUP(V43,'Boden DüV-Bolap'!A:Q,9,FALSE)*(T43+U43)-(T43+U43),IF(AND(S43=\"mittel\",V43<18),VLOOKUP(V43,'Boden DüV-Bolap'!A:Q,12,FALSE),IF(AND(S43=\"mittel\",V43>17),VLOOKUP(V43,'Boden DüV-Bolap'!A:Q,13,FALSE)*(T43+U43)-(T43+U43),IF(AND(S43=\"schwer\",V43<22),VLOOKUP(V43,'Boden DüV-Bolap'!A:Q,16,FALSE),IF(AND(S43=\"schwer\",V43>21),VLOOKUP(V43,'Boden DüV-Bolap'!A:Q,17,FALSE)*(T43+U43)-(T43+U43)))))))))","v":""},{"$f":"IF(OR(F43=\"\",G43=\"\"),\"\",IF(OR(F43=\"A\",F43=\"HG\"),0,VLOOKUP(G43,'Tab 4+5 DüV+Abfuhr_G'!A:Q,16,FALSE)))","v":""},"","",{"$f":"IF(OR(F43=\"\",G43=\"\"),\"\",IF(F43=\"g\",VLOOKUP(G43,'Tab 4+5 DüV+Abfuhr_G'!A:N,14,FALSE)*'N-DBE'!J43,IF(F43=\"A\",VLOOKUP(G43,'Tab 2+3 DüV_A'!A:L,12,FALSE)*'N-DBE'!J43,VLOOKUP(G43,'H&G LfL'!B:U,20,FALSE)*'N-DBE'!J43)))","v":""},{"$f":"IF(OR(F43=\"\",G43=\"\"),\"\",IF(OR('N-DBE'!K43=\"\",'N-DBE'!M43=0),0,IF('N-DBE'!K43=0,-AB43,('N-DBE'!K43*AB43/'N-DBE'!J43)-AB43)))","v":""},{"$f":"IF(OR(B43=\"\",G43=\"\"),\"\",IF(VLOOKUP(B43,Schlagliste!B:J,9,FALSE)=\"\",\"\",VLOOKUP(B43,Schlagliste!B:J,9,FALSE)))","v":""},{"$f":"IF(OR(AD43=\"\",S43=\"\"),\"\",IF(AD43>39,0,IF(S43=\"leicht\",VLOOKUP(AD43,'Boden DüV-Bolap'!A:AA,19,FALSE),IF(S43=\"mittel\",VLOOKUP(AD43,'Boden DüV-Bolap'!A:AA,23,FALSE),IF(S43=\"schwer\",VLOOKUP(AD43,'Boden DüV-Bolap'!A:AA,27,FALSE))))))","v":""},{"$f":"IF(OR(F43=\"\",G43=\"\",S43=\"\",AD43=\"\"),\"\",IF(AD43>39,0,IF(AND(S43=\"leicht\",AD43<7),VLOOKUP(AD43,'Boden DüV-Bolap'!A:AC,20,FALSE),IF(AND(S43=\"leicht\",AD43>6),VLOOKUP(AD43,'Boden DüV-Bolap'!A:AC,21,FALSE)*(AB43+AC43)-(AB43+AC43),IF(AND(S43=\"mittel\",AD43<11),VLOOKUP(AD43,'Boden DüV-Bolap'!A:AC,24,FALSE),IF(AND(S43=\"mittel\",AD43>10),VLOOKUP(AD43,'Boden DüV-Bolap'!A:AC,25,FALSE)*(AB43+AC43)-(AB43+AC43),IF(AND(S43=\"schwer\",AD43<15),VLOOKUP(AD43,'Boden DüV-Bolap'!A:AC,28,FALSE),IF(AND(S43=\"schwer\",AD43>14),VLOOKUP(AD43,'Boden DüV-Bolap'!A:AC,29,FALSE)*(AB43+AC43)-(AB43+AC43)))))))))","v":""},{"$f":"IF(OR(F43=\"\",G43=\"\"),\"\",IF(OR(F43=\"A\",F43=\"HG\"),0,VLOOKUP(G43,'Tab 4+5 DüV+Abfuhr_G'!A:Q,17,FALSE)))","v":""},"",""]
[{"$f":"IF('N-DBE'!A44=\"\",\"\",'N-DBE'!A44)","v":""},{"$f":"IF('N-DBE'!B44=\"\",\"\",'N-DBE'!B44)","v":""},{"$f":"IF('N-DBE'!C44=\"\",\"\",'N-DBE'!C44)","v":""},{"$f":"IF('N-DBE'!D44=\"\",\"\",'N-DBE'!D44)","v":""},{"$f":"IF('N-DBE'!E44=\"\",\"\",'N-DBE'!E44)","v":""},{"$f":"IF('N-DBE'!F44=\"\",\"\",'N-DBE'!F44)","v":""},{"$f":"IF('N-DBE'!G44=\"\",\"\",'N-DBE'!G44)","v":""},{"$f":"IF(OR(F44=\"\",G44=\"\"),\"\",IF(F44=\"g\",VLOOKUP(G44,'Tab 4+5 DüV+Abfuhr_G'!A:N,12,FALSE)*'N-DBE'!J44,IF(F44=\"A\",VLOOKUP(G44,'Tab 2+3 DüV_A'!A:L,10,FALSE)*'N-DBE'!J44,VLOOKUP(G44,'H&G LfL'!B:U,18,FALSE)*'N-DBE'!J44)))","v":""},{"$f":"IF(OR(F44=\"\",G44=\"\"),\"\",IF(OR('N-DBE'!K44=\"\",'N-DBE'!M44=0),0,IF('N-DBE'!K44=0,-H44,('N-DBE'!K44*H44/'N-DBE'!J44)-H44)))","v":""},{"$f":"IF(OR(B44=\"\",G44=\"\"),\"\",IF(VLOOKUP(B44,Schlagliste!B:J,7,FALSE)=\"\",\"\",VLOOKUP(B44,Schlagliste!B:J,7,FALSE)))","v":""},{"$f":"IF(J44=\"\",\"\",IF(J44>39,\"E\",VLOOKUP(J44,'Boden DüV-Bolap'!A:B,2,FALSE)))","v":""},{"$f":"IF(J44=\"\",\"\",IF(J44>39,0,VLOOKUP(J44,'Boden DüV-Bolap'!A:C,3,FALSE)))","v":""},{"$f":"IF(OR(F44=\"\",G44=\"\"),\"\",IF(OR(F44=\"A\",F44=\"HG\"),0,VLOOKUP(G44,'Tab 4+5 DüV+Abfuhr_G'!A:Q,15,FALSE)))","v":""},"",{"$f":"IF(OR(F44=\"\",G44=\"\"),\"\",IF(J44=\"\",SUM(H44,I44),IF(OR(K44=\"D\",K44=\"E\"),(H44+M44)*VLOOKUP(K44,'Boden DüV-Bolap'!B:E,4,FALSE),SUM(H44,I44,L44,M44))))","v":""},"",null,"",{"$f":"IF(OR(B44=\"\",G44=\"\"),\"\",IF(VLOOKUP(B44,Schlagliste!B:J,5,FALSE)=\"\",\"\",VLOOKUP(B44,Schlagliste!B:J,5,FALSE)))","v":""},{"$f":"IF(OR(F44=\"\",G44=\"\"),\"\",IF(F44=\"g\",VLOOKUP(G44,'Tab 4+5 DüV+Abfuhr_G'!A:N,13,FALSE)*'N-DBE'!J44,IF(F44=\"A\",VLOOKUP(G44,'Tab 2+3 DüV_A'!A:L,11,FALSE)*'N-DBE'!J44,VLOOKUP(G44,'H&G LfL'!B:U,19,FALSE)*'N-DBE'!J44)))","v":""},{"$f":"IF(OR(F44=\"\",G44=\"\"),\"\",IF(OR('N-DBE'!K44=\"\",'N-DBE'!M44=0),0,IF('N-DBE'!K44=0,-T44,('N-DBE'!K44*T44/'N-DBE'!J44)-T44)))","v":""},{"$f":"IF(OR(B44=\"\",G44=\"\"),\"\",IF(VLOOKUP(B44,Schlagliste!B:J,8,FALSE)=\"\",\"\",VLOOKUP(B44,Schlagliste!B:J,8,FALSE)))","v":""},{"$f":"IF(OR(V44=\"\",S44=\"\"),\"\",IF(V44>39,0,IF(S44=\"leicht\",VLOOKUP(V44,'Boden DüV-Bolap'!A:Q,7,FALSE),IF(S44=\"mittel\",VLOOKUP(V44,'Boden DüV-Bolap'!A:K,11,FALSE),IF(S44=\"schwer\",VLOOKUP(V44,'Boden DüV-Bolap'!A:R,15,FALSE))))))","v":""},{"$f":"IF(OR(F44=\"\",G44=\"\",S44=\"\",V44=\"\"),\"\",IF(V44>39,0,IF(AND(S44=\"leicht\",V44<14),VLOOKUP(V44,'Boden DüV-Bolap'!A:Q,8,FALSE),IF(AND(S44=\"leicht\",V44>13),VLOOKUP(V44,'Boden DüV-Bolap'!A:Q,9,FALSE)*(T44+U44)-(T44+U44),IF(AND(S44=\"mittel\",V44<18),VLOOKUP(V44,'Boden DüV-Bolap'!A:Q,12,FALSE),IF(AND(S44=\"mittel\",V44>17),VLOOKUP(V44,'Boden DüV-Bolap'!A:Q,13,FALSE)*(T44+U44)-(T44+U44),IF(AND(S44=\"schwer\",V44<22),VLOOKUP(V44,'Boden DüV-Bolap'!A:Q,16,FALSE),IF(AND(S44=\"schwer\",V44>21),VLOOKUP(V44,'Boden DüV-Bolap'!A:Q,17,FALSE)*(T44+U44)-(T44+U44)))))))))","v":""},{"$f":"IF(OR(F44=\"\",G44=\"\"),\"\",IF(OR(F44=\"A\",F44=\"HG\"),0,VLOOKUP(G44,'Tab 4+5 DüV+Abfuhr_G'!A:Q,16,FALSE)))","v":""},"","",{"$f":"IF(OR(F44=\"\",G44=\"\"),\"\",IF(F44=\"g\",VLOOKUP(G44,'Tab 4+5 DüV+Abfuhr_G'!A:N,14,FALSE)*'N-DBE'!J44,IF(F44=\"A\",VLOOKUP(G44,'Tab 2+3 DüV_A'!A:L,12,FALSE)*'N-DBE'!J44,VLOOKUP(G44,'H&G LfL'!B:U,20,FALSE)*'N-DBE'!J44)))","v":""},{"$f":"IF(OR(F44=\"\",G44=\"\"),\"\",IF(OR('N-DBE'!K44=\"\",'N-DBE'!M44=0),0,IF('N-DBE'!K44=0,-AB44,('N-DBE'!K44*AB44/'N-DBE'!J44)-AB44)))","v":""},{"$f":"IF(OR(B44=\"\",G44=\"\"),\"\",IF(VLOOKUP(B44,Schlagliste!B:J,9,FALSE)=\"\",\"\",VLOOKUP(B44,Schlagliste!B:J,9,FALSE)))","v":""},{"$f":"IF(OR(AD44=\"\",S44=\"\"),\"\",IF(AD44>39,0,IF(S44=\"leicht\",VLOOKUP(AD44,'Boden DüV-Bolap'!A:AA,19,FALSE),IF(S44=\"mittel\",VLOOKUP(AD44,'Boden DüV-Bolap'!A:AA,23,FALSE),IF(S44=\"schwer\",VLOOKUP(AD44,'Boden DüV-Bolap'!A:AA,27,FALSE))))))","v":""},{"$f":"IF(OR(F44=\"\",G44=\"\",S44=\"\",AD44=\"\"),\"\",IF(AD44>39,0,IF(AND(S44=\"leicht\",AD44<7),VLOOKUP(AD44,'Boden DüV-Bolap'!A:AC,20,FALSE),IF(AND(S44=\"leicht\",AD44>6),VLOOKUP(AD44,'Boden DüV-Bolap'!A:AC,21,FALSE)*(AB44+AC44)-(AB44+AC44),IF(AND(S44=\"mittel\",AD44<11),VLOOKUP(AD44,'Boden DüV-Bolap'!A:AC,24,FALSE),IF(AND(S44=\"mittel\",AD44>10),VLOOKUP(AD44,'Boden DüV-Bolap'!A:AC,25,FALSE)*(AB44+AC44)-(AB44+AC44),IF(AND(S44=\"schwer\",AD44<15),VLOOKUP(AD44,'Boden DüV-Bolap'!A:AC,28,FALSE),IF(AND(S44=\"schwer\",AD44>14),VLOOKUP(AD44,'Boden DüV-Bolap'!A:AC,29,FALSE)*(AB44+AC44)-(AB44+AC44)))))))))","v":""},{"$f":"IF(OR(F44=\"\",G44=\"\"),\"\",IF(OR(F44=\"A\",F44=\"HG\"),0,VLOOKUP(G44,'Tab 4+5 DüV+Abfuhr_G'!A:Q,17,FALSE)))","v":""},"",""]
[{"$f":"IF('N-DBE'!A45=\"\",\"\",'N-DBE'!A45)","v":""},{"$f":"IF('N-DBE'!B45=\"\",\"\",'N-DBE'!B45)","v":""},{"$f":"IF('N-DBE'!C45=\"\",\"\",'N-DBE'!C45)","v":""},{"$f":"IF('N-DBE'!D45=\"\",\"\",'N-DBE'!D45)","v":""},{"$f":"IF('N-DBE'!E45=\"\",\"\",'N-DBE'!E45)","v":""},{"$f":"IF('N-DBE'!F45=\"\",\"\",'N-DBE'!F45)","v":""},{"$f":"IF('N-DBE'!G45=\"\",\"\",'N-DBE'!G45)","v":""},{"$f":"IF(OR(F45=\"\",G45=\"\"),\"\",IF(F45=\"g\",VLOOKUP(G45,'Tab 4+5 DüV+Abfuhr_G'!A:N,12,FALSE)*'N-DBE'!J45,IF(F45=\"A\",VLOOKUP(G45,'Tab 2+3 DüV_A'!A:L,10,FALSE)*'N-DBE'!J45,VLOOKUP(G45,'H&G LfL'!B:U,18,FALSE)*'N-DBE'!J45)))","v":""},{"$f":"IF(OR(F45=\"\",G45=\"\"),\"\",IF(OR('N-DBE'!K45=\"\",'N-DBE'!M45=0),0,IF('N-DBE'!K45=0,-H45,('N-DBE'!K45*H45/'N-DBE'!J45)-H45)))","v":""},{"$f":"IF(OR(B45=\"\",G45=\"\"),\"\",IF(VLOOKUP(B45,Schlagliste!B:J,7,FALSE)=\"\",\"\",VLOOKUP(B45,Schlagliste!B:J,7,FALSE)))","v":""},{"$f":"IF(J45=\"\",\"\",IF(J45>39,\"E\",VLOOKUP(J45,'Boden DüV-Bolap'!A:B,2,FALSE)))","v":""},{"$f":"IF(J45=\"\",\"\",IF(J45>39,0,VLOOKUP(J45,'Boden DüV-Bolap'!A:C,3,FALSE)))","v":""},{"$f":"IF(OR(F45=\"\",G45=\"\"),\"\",IF(OR(F45=\"A\",F45=\"HG\"),0,VLOOKUP(G45,'Tab 4+5 DüV+Abfuhr_G'!A:Q,15,FALSE)))","v":""},"",{"$f":"IF(OR(F45=\"\",G45=\"\"),\"\",IF(J45=\"\",SUM(H45,I45),IF(OR(K45=\"D\",K45=\"E\"),(H45+M45)*VLOOKUP(K45,'Boden DüV-Bolap'!B:E,4,FALSE),SUM(H45,I45,L45,M45))))","v":""},"",null,"",{"$f":"IF(OR(B45=\"\",G45=\"\"),\"\",IF(VLOOKUP(B45,Schlagliste!B:J,5,FALSE)=\"\",\"\",VLOOKUP(B45,Schlagliste!B:J,5,FALSE)))","v":""},{"$f":"IF(OR(F45=\"\",G45=\"\"),\"\",IF(F45=\"g\",VLOOKUP(G45,'Tab 4+5 DüV+Abfuhr_G'!A:N,13,FALSE)*'N-DBE'!J45,IF(F45=\"A\",VLOOKUP(G45,'Tab 2+3 DüV_A'!A:L,11,FALSE)*'N-DBE'!J45,VLOOKUP(G45,'H&G LfL'!B:U,19,FALSE)*'N-DBE'!J45)))","v":""},{"$f":"IF(OR(F45=\"\",G45=\"\"),\"\",IF(OR('N-DBE'!K45=\"\",'N-DBE'!M45=0),0,IF('N-DBE'!K45=0,-T45,('N-DBE'!K45*T45/'N-DBE'!J45)-T45)))","v":""},{"$f":"IF(OR(B45=\"\",G45=\"\"),\"\",IF(VLOOKUP(B45,Schlagliste!B:J,8,FALSE)=\"\",\"\",VLOOKUP(B45,Schlagliste!B:J,8,FALSE)))","v":""},{"$f":"IF(OR(V45=\"\",S45=\"\"),\"\",IF(V45>39,0,IF(S45=\"leicht\",VLOOKUP(V45,'Boden DüV-Bolap'!A:Q,7,FALSE),IF(S45=\"mittel\",VLOOKUP(V45,'Boden DüV-Bolap'!A:K,11,FALSE),IF(S45=\"schwer\",VLOOKUP(V45,'Boden DüV-Bolap'!A:R,15,FALSE))))))","v":""},{"$f":"IF(OR(F45=\"\",G45=\"\",S45=\"\",V45=\"\"),\"\",IF(V45>39,0,IF(AND(S45=\"leicht\",V45<14),VLOOKUP(V45,'Boden DüV-Bolap'!A:Q,8,FALSE),IF(AND(S45=\"leicht\",V45>13),VLOOKUP(V45,'Boden DüV-Bolap'!A:Q,9,FALSE)*(T45+U45)-(T45+U45),IF(AND(S45=\"mittel\",V45<18),VLOOKUP(V45,'Boden DüV-Bolap'!A:Q,12,FALSE),IF(AND(S45=\"mittel\",V45>17),VLOOKUP(V45,'Boden DüV-Bolap'!A:Q,13,FALSE)*(T45+U45)-(T45+U45),IF(AND(S45=\"schwer\",V45<22),VLOOKUP(V45,'Boden DüV-Bolap'!A:Q,16,FALSE),IF(AND(S45=\"schwer\",V45>21),VLOOKUP(V45,'Boden DüV-Bolap'!A:Q,17,FALSE)*(T45+U45)-(T45+U45)))))))))","v":""},{"$f":"IF(OR(F45=\"\",G45=\"\"),\"\",IF(OR(F45=\"A\",F45=\"HG\"),0,VLOOKUP(G45,'Tab 4+5 DüV+Abfuhr_G'!A:Q,16,FALSE)))","v":""},"","",{"$f":"IF(OR(F45=\"\",G45=\"\"),\"\",IF(F45=\"g\",VLOOKUP(G45,'Tab 4+5 DüV+Abfuhr_G'!A:N,14,FALSE)*'N-DBE'!J45,IF(F45=\"A\",VLOOKUP(G45,'Tab 2+3 DüV_A'!A:L,12,FALSE)*'N-DBE'!J45,VLOOKUP(G45,'H&G LfL'!B:U,20,FALSE)*'N-DBE'!J45)))","v":""},{"$f":"IF(OR(F45=\"\",G45=\"\"),\"\",IF(OR('N-DBE'!K45=\"\",'N-DBE'!M45=0),0,IF('N-DBE'!K45=0,-AB45,('N-DBE'!K45*AB45/'N-DBE'!J45)-AB45)))","v":""},{"$f":"IF(OR(B45=\"\",G45=\"\"),\"\",IF(VLOOKUP(B45,Schlagliste!B:J,9,FALSE)=\"\",\"\",VLOOKUP(B45,Schlagliste!B:J,9,FALSE)))","v":""},{"$f":"IF(OR(AD45=\"\",S45=\"\"),\"\",IF(AD45>39,0,IF(S45=\"leicht\",VLOOKUP(AD45,'Boden DüV-Bolap'!A:AA,19,FALSE),IF(S45=\"mittel\",VLOOKUP(AD45,'Boden DüV-Bolap'!A:AA,23,FALSE),IF(S45=\"schwer\",VLOOKUP(AD45,'Boden DüV-Bolap'!A:AA,27,FALSE))))))","v":""},{"$f":"IF(OR(F45=\"\",G45=\"\",S45=\"\",AD45=\"\"),\"\",IF(AD45>39,0,IF(AND(S45=\"leicht\",AD45<7),VLOOKUP(AD45,'Boden DüV-Bolap'!A:AC,20,FALSE),IF(AND(S45=\"leicht\",AD45>6),VLOOKUP(AD45,'Boden DüV-Bolap'!A:AC,21,FALSE)*(AB45+AC45)-(AB45+AC45),IF(AND(S45=\"mittel\",AD45<11),VLOOKUP(AD45,'Boden DüV-Bolap'!A:AC,24,FALSE),IF(AND(S45=\"mittel\",AD45>10),VLOOKUP(AD45,'Boden DüV-Bolap'!A:AC,25,FALSE)*(AB45+AC45)-(AB45+AC45),IF(AND(S45=\"schwer\",AD45<15),VLOOKUP(AD45,'Boden DüV-Bolap'!A:AC,28,FALSE),IF(AND(S45=\"schwer\",AD45>14),VLOOKUP(AD45,'Boden DüV-Bolap'!A:AC,29,FALSE)*(AB45+AC45)-(AB45+AC45)))))))))","v":""},{"$f":"IF(OR(F45=\"\",G45=\"\"),\"\",IF(OR(F45=\"A\",F45=\"HG\"),0,VLOOKUP(G45,'Tab 4+5 DüV+Abfuhr_G'!A:Q,17,FALSE)))","v":""},"",""]
[{"$f":"IF('N-DBE'!A46=\"\",\"\",'N-DBE'!A46)","v":""},{"$f":"IF('N-DBE'!B46=\"\",\"\",'N-DBE'!B46)","v":""},{"$f":"IF('N-DBE'!C46=\"\",\"\",'N-DBE'!C46)","v":""},{"$f":"IF('N-DBE'!D46=\"\",\"\",'N-DBE'!D46)","v":""},{"$f":"IF('N-DBE'!E46=\"\",\"\",'N-DBE'!E46)","v":""},{"$f":"IF('N-DBE'!F46=\"\",\"\",'N-DBE'!F46)","v":""},{"$f":"IF('N-DBE'!G46=\"\",\"\",'N-DBE'!G46)","v":""},{"$f":"IF(OR(F46=\"\",G46=\"\"),\"\",IF(F46=\"g\",VLOOKUP(G46,'Tab 4+5 DüV+Abfuhr_G'!A:N,12,FALSE)*'N-DBE'!J46,IF(F46=\"A\",VLOOKUP(G46,'Tab 2+3 DüV_A'!A:L,10,FALSE)*'N-DBE'!J46,VLOOKUP(G46,'H&G LfL'!B:U,18,FALSE)*'N-DBE'!J46)))","v":""},{"$f":"IF(OR(F46=\"\",G46=\"\"),\"\",IF(OR('N-DBE'!K46=\"\",'N-DBE'!M46=0),0,IF('N-DBE'!K46=0,-H46,('N-DBE'!K46*H46/'N-DBE'!J46)-H46)))","v":""},{"$f":"IF(OR(B46=\"\",G46=\"\"),\"\",IF(VLOOKUP(B46,Schlagliste!B:J,7,FALSE)=\"\",\"\",VLOOKUP(B46,Schlagliste!B:J,7,FALSE)))","v":""},{"$f":"IF(J46=\"\",\"\",IF(J46>39,\"E\",VLOOKUP(J46,'Boden DüV-Bolap'!A:B,2,FALSE)))","v":""},{"$f":"IF(J46=\"\",\"\",IF(J46>39,0,VLOOKUP(J46,'Boden DüV-Bolap'!A:C,3,FALSE)))","v":""},{"$f":"IF(OR(F46=\"\",G46=\"\"),\"\",IF(OR(F46=\"A\",F46=\"HG\"),0,VLOOKUP(G46,'Tab 4+5 DüV+Abfuhr_G'!A:Q,15,FALSE)))","v":""},"",{"$f":"IF(OR(F46=\"\",G46=\"\"),\"\",IF(J46=\"\",SUM(H46,I46),IF(OR(K46=\"D\",K46=\"E\"),(H46+M46)*VLOOKUP(K46,'Boden DüV-Bolap'!B:E,4,FALSE),SUM(H46,I46,L46,M46))))","v":""},"",null,"",{"$f":"IF(OR(B46=\"\",G46=\"\"),\"\",IF(VLOOKUP(B46,Schlagliste!B:J,5,FALSE)=\"\",\"\",VLOOKUP(B46,Schlagliste!B:J,5,FALSE)))","v":""},{"$f":"IF(OR(F46=\"\",G46=\"\"),\"\",IF(F46=\"g\",VLOOKUP(G46,'Tab 4+5 DüV+Abfuhr_G'!A:N,13,FALSE)*'N-DBE'!J46,IF(F46=\"A\",VLOOKUP(G46,'Tab 2+3 DüV_A'!A:L,11,FALSE)*'N-DBE'!J46,VLOOKUP(G46,'H&G LfL'!B:U,19,FALSE)*'N-DBE'!J46)))","v":""},{"$f":"IF(OR(F46=\"\",G46=\"\"),\"\",IF(OR('N-DBE'!K46=\"\",'N-DBE'!M46=0),0,IF('N-DBE'!K46=0,-T46,('N-DBE'!K46*T46/'N-DBE'!J46)-T46)))","v":""},{"$f":"IF(OR(B46=\"\",G46=\"\"),\"\",IF(VLOOKUP(B46,Schlagliste!B:J,8,FALSE)=\"\",\"\",VLOOKUP(B46,Schlagliste!B:J,8,FALSE)))","v":""},{"$f":"IF(OR(V46=\"\",S46=\"\"),\"\",IF(V46>39,0,IF(S46=\"leicht\",VLOOKUP(V46,'Boden DüV-Bolap'!A:Q,7,FALSE),IF(S46=\"mittel\",VLOOKUP(V46,'Boden DüV-Bolap'!A:K,11,FALSE),IF(S46=\"schwer\",VLOOKUP(V46,'Boden DüV-Bolap'!A:R,15,FALSE))))))","v":""},{"$f":"IF(OR(F46=\"\",G46=\"\",S46=\"\",V46=\"\"),\"\",IF(V46>39,0,IF(AND(S46=\"leicht\",V46<14),VLOOKUP(V46,'Boden DüV-Bolap'!A:Q,8,FALSE),IF(AND(S46=\"leicht\",V46>13),VLOOKUP(V46,'Boden DüV-Bolap'!A:Q,9,FALSE)*(T46+U46)-(T46+U46),IF(AND(S46=\"mittel\",V46<18),VLOOKUP(V46,'Boden DüV-Bolap'!A:Q,12,FALSE),IF(AND(S46=\"mittel\",V46>17),VLOOKUP(V46,'Boden DüV-Bolap'!A:Q,13,FALSE)*(T46+U46)-(T46+U46),IF(AND(S46=\"schwer\",V46<22),VLOOKUP(V46,'Boden DüV-Bolap'!A:Q,16,FALSE),IF(AND(S46=\"schwer\",V46>21),VLOOKUP(V46,'Boden DüV-Bolap'!A:Q,17,FALSE)*(T46+U46)-(T46+U46)))))))))","v":""},{"$f":"IF(OR(F46=\"\",G46=\"\"),\"\",IF(OR(F46=\"A\",F46=\"HG\"),0,VLOOKUP(G46,'Tab 4+5 DüV+Abfuhr_G'!A:Q,16,FALSE)))","v":""},"","",{"$f":"IF(OR(F46=\"\",G46=\"\"),\"\",IF(F46=\"g\",VLOOKUP(G46,'Tab 4+5 DüV+Abfuhr_G'!A:N,14,FALSE)*'N-DBE'!J46,IF(F46=\"A\",VLOOKUP(G46,'Tab 2+3 DüV_A'!A:L,12,FALSE)*'N-DBE'!J46,VLOOKUP(G46,'H&G LfL'!B:U,20,FALSE)*'N-DBE'!J46)))","v":""},{"$f":"IF(OR(F46=\"\",G46=\"\"),\"\",IF(OR('N-DBE'!K46=\"\",'N-DBE'!M46=0),0,IF('N-DBE'!K46=0,-AB46,('N-DBE'!K46*AB46/'N-DBE'!J46)-AB46)))","v":""},{"$f":"IF(OR(B46=\"\",G46=\"\"),\"\",IF(VLOOKUP(B46,Schlagliste!B:J,9,FALSE)=\"\",\"\",VLOOKUP(B46,Schlagliste!B:J,9,FALSE)))","v":""},{"$f":"IF(OR(AD46=\"\",S46=\"\"),\"\",IF(AD46>39,0,IF(S46=\"leicht\",VLOOKUP(AD46,'Boden DüV-Bolap'!A:AA,19,FALSE),IF(S46=\"mittel\",VLOOKUP(AD46,'Boden DüV-Bolap'!A:AA,23,FALSE),IF(S46=\"schwer\",VLOOKUP(AD46,'Boden DüV-Bolap'!A:AA,27,FALSE))))))","v":""},{"$f":"IF(OR(F46=\"\",G46=\"\",S46=\"\",AD46=\"\"),\"\",IF(AD46>39,0,IF(AND(S46=\"leicht\",AD46<7),VLOOKUP(AD46,'Boden DüV-Bolap'!A:AC,20,FALSE),IF(AND(S46=\"leicht\",AD46>6),VLOOKUP(AD46,'Boden DüV-Bolap'!A:AC,21,FALSE)*(AB46+AC46)-(AB46+AC46),IF(AND(S46=\"mittel\",AD46<11),VLOOKUP(AD46,'Boden DüV-Bolap'!A:AC,24,FALSE),IF(AND(S46=\"mittel\",AD46>10),VLOOKUP(AD46,'Boden DüV-Bolap'!A:AC,25,FALSE)*(AB46+AC46)-(AB46+AC46),IF(AND(S46=\"schwer\",AD46<15),VLOOKUP(AD46,'Boden DüV-Bolap'!A:AC,28,FALSE),IF(AND(S46=\"schwer\",AD46>14),VLOOKUP(AD46,'Boden DüV-Bolap'!A:AC,29,FALSE)*(AB46+AC46)-(AB46+AC46)))))))))","v":""},{"$f":"IF(OR(F46=\"\",G46=\"\"),\"\",IF(OR(F46=\"A\",F46=\"HG\"),0,VLOOKUP(G46,'Tab 4+5 DüV+Abfuhr_G'!A:Q,17,FALSE)))","v":""},"",""]
[{"$f":"IF('N-DBE'!A47=\"\",\"\",'N-DBE'!A47)","v":""},{"$f":"IF('N-DBE'!B47=\"\",\"\",'N-DBE'!B47)","v":""},{"$f":"IF('N-DBE'!C47=\"\",\"\",'N-DBE'!C47)","v":""},{"$f":"IF('N-DBE'!D47=\"\",\"\",'N-DBE'!D47)","v":""},{"$f":"IF('N-DBE'!E47=\"\",\"\",'N-DBE'!E47)","v":""},{"$f":"IF('N-DBE'!F47=\"\",\"\",'N-DBE'!F47)","v":""},{"$f":"IF('N-DBE'!G47=\"\",\"\",'N-DBE'!G47)","v":""},{"$f":"IF(OR(F47=\"\",G47=\"\"),\"\",IF(F47=\"g\",VLOOKUP(G47,'Tab 4+5 DüV+Abfuhr_G'!A:N,12,FALSE)*'N-DBE'!J47,IF(F47=\"A\",VLOOKUP(G47,'Tab 2+3 DüV_A'!A:L,10,FALSE)*'N-DBE'!J47,VLOOKUP(G47,'H&G LfL'!B:U,18,FALSE)*'N-DBE'!J47)))","v":""},{"$f":"IF(OR(F47=\"\",G47=\"\"),\"\",IF(OR('N-DBE'!K47=\"\",'N-DBE'!M47=0),0,IF('N-DBE'!K47=0,-H47,('N-DBE'!K47*H47/'N-DBE'!J47)-H47)))","v":""},{"$f":"IF(OR(B47=\"\",G47=\"\"),\"\",IF(VLOOKUP(B47,Schlagliste!B:J,7,FALSE)=\"\",\"\",VLOOKUP(B47,Schlagliste!B:J,7,FALSE)))","v":""},{"$f":"IF(J47=\"\",\"\",IF(J47>39,\"E\",VLOOKUP(J47,'Boden DüV-Bolap'!A:B,2,FALSE)))","v":""},{"$f":"IF(J47=\"\",\"\",IF(J47>39,0,VLOOKUP(J47,'Boden DüV-Bolap'!A:C,3,FALSE)))","v":""},{"$f":"IF(OR(F47=\"\",G47=\"\"),\"\",IF(OR(F47=\"A\",F47=\"HG\"),0,VLOOKUP(G47,'Tab 4+5 DüV+Abfuhr_G'!A:Q,15,FALSE)))","v":""},{"$f":"IF(OR(F47=\"\",G47=\"\"),\"\",IF(J47=\"\",SUM(H47,I47),SUM(H47:I47,L47,M47)))","v":""},{"$f":"IF(OR(F47=\"\",G47=\"\"),\"\",IF(J47=\"\",SUM(H47,I47),IF(OR(K47=\"D\",K47=\"E\"),(H47+M47)*VLOOKUP(K47,'Boden DüV-Bolap'!B:E,4,FALSE),SUM(H47,I47,L47,M47))))","v":""},{"$f":"IF(OR(B47=\"\",F47=\"\",G47=\"\"),\"\",N47*E47)","v":""},null,{"$f":"IF(N47=\"\",\"\",IF(OR(Q47=\"\",Q47=\"nein\"),0,N47*0.1))","v":""},{"$f":"IF(OR(B47=\"\",G47=\"\"),\"\",IF(VLOOKUP(B47,Schlagliste!B:J,5,FALSE)=\"\",\"\",VLOOKUP(B47,Schlagliste!B:J,5,FALSE)))","v":""},{"$f":"IF(OR(F47=\"\",G47=\"\"),\"\",IF(F47=\"g\",VLOOKUP(G47,'Tab 4+5 DüV+Abfuhr_G'!A:N,13,FALSE)*'N-DBE'!J47,IF(F47=\"A\",VLOOKUP(G47,'Tab 2+3 DüV_A'!A:L,11,FALSE)*'N-DBE'!J47,VLOOKUP(G47,'H&G LfL'!B:U,19,FALSE)*'N-DBE'!J47)))","v":""},{"$f":"IF(OR(F47=\"\",G47=\"\"),\"\",IF(OR('N-DBE'!K47=\"\",'N-DBE'!M47=0),0,IF('N-DBE'!K47=0,-T47,('N-DBE'!K47*T47/'N-DBE'!J47)-T47)))","v":""},{"$f":"IF(OR(B47=\"\",G47=\"\"),\"\",IF(VLOOKUP(B47,Schlagliste!B:J,8,FALSE)=\"\",\"\",VLOOKUP(B47,Schlagliste!B:J,8,FALSE)))","v":""},{"$f":"IF(OR(V47=\"\",S47=\"\"),\"\",IF(V47>39,0,IF(S47=\"leicht\",VLOOKUP(V47,'Boden DüV-Bolap'!A:Q,7,FALSE),IF(S47=\"mittel\",VLOOKUP(V47,'Boden DüV-Bolap'!A:K,11,FALSE),IF(S47=\"schwer\",VLOOKUP(V47,'Boden DüV-Bolap'!A:R,15,FALSE))))))","v":""},{"$f":"IF(OR(F47=\"\",G47=\"\",S47=\"\",V47=\"\"),\"\",IF(V47>39,0,IF(AND(S47=\"leicht\",V47<14),VLOOKUP(V47,'Boden DüV-Bolap'!A:Q,8,FALSE),IF(AND(S47=\"leicht\",V47>13),VLOOKUP(V47,'Boden DüV-Bolap'!A:Q,9,FALSE)*(T47+U47)-(T47+U47),IF(AND(S47=\"mittel\",V47<18),VLOOKUP(V47,'Boden DüV-Bolap'!A:Q,12,FALSE),IF(AND(S47=\"mittel\",V47>17),VLOOKUP(V47,'Boden DüV-Bolap'!A:Q,13,FALSE)*(T47+U47)-(T47+U47),IF(AND(S47=\"schwer\",V47<22),VLOOKUP(V47,'Boden DüV-Bolap'!A:Q,16,FALSE),IF(AND(S47=\"schwer\",V47>21),VLOOKUP(V47,'Boden DüV-Bolap'!A:Q,17,FALSE)*(T47+U47)-(T47+U47)))))))))","v":""},{"$f":"IF(OR(F47=\"\",G47=\"\"),\"\",IF(OR(F47=\"A\",F47=\"HG\"),0,VLOOKUP(G47,'Tab 4+5 DüV+Abfuhr_G'!A:Q,16,FALSE)))","v":""},{"$f":"IF(OR(F47=\"\",G47=\"\"),\"\",IF(V47=\"\",SUM(T47,U47),SUM(T47:U47,X47:Y47)))","v":""},{"$f":"IF(OR(B47=\"\",F47=\"\",G47=\"\"),\"\",Z47*E47)","v":""},{"$f":"IF(OR(F47=\"\",G47=\"\"),\"\",IF(F47=\"g\",VLOOKUP(G47,'Tab 4+5 DüV+Abfuhr_G'!A:N,14,FALSE)*'N-DBE'!J47,IF(F47=\"A\",VLOOKUP(G47,'Tab 2+3 DüV_A'!A:L,12,FALSE)*'N-DBE'!J47,VLOOKUP(G47,'H&G LfL'!B:U,20,FALSE)*'N-DBE'!J47)))","v":""},{"$f":"IF(OR(F47=\"\",G47=\"\"),\"\",IF(OR('N-DBE'!K47=\"\",'N-DBE'!M47=0),0,IF('N-DBE'!K47=0,-AB47,('N-DBE'!K47*AB47/'N-DBE'!J47)-AB47)))","v":""},{"$f":"IF(OR(B47=\"\",G47=\"\"),\"\",IF(VLOOKUP(B47,Schlagliste!B:J,9,FALSE)=\"\",\"\",VLOOKUP(B47,Schlagliste!B:J,9,FALSE)))","v":""},{"$f":"IF(OR(AD47=\"\",S47=\"\"),\"\",IF(AD47>39,0,IF(S47=\"leicht\",VLOOKUP(AD47,'Boden DüV-Bolap'!A:AA,19,FALSE),IF(S47=\"mittel\",VLOOKUP(AD47,'Boden DüV-Bolap'!A:AA,23,FALSE),IF(S47=\"schwer\",VLOOKUP(AD47,'Boden DüV-Bolap'!A:AA,27,FALSE))))))","v":""},{"$f":"IF(OR(F47=\"\",G47=\"\",S47=\"\",AD47=\"\"),\"\",IF(AD47>39,0,IF(AND(S47=\"leicht\",AD47<7),VLOOKUP(AD47,'Boden DüV-Bolap'!A:AC,20,FALSE),IF(AND(S47=\"leicht\",AD47>6),VLOOKUP(AD47,'Boden DüV-Bolap'!A:AC,21,FALSE)*(AB47+AC47)-(AB47+AC47),IF(AND(S47=\"mittel\",AD47<11),VLOOKUP(AD47,'Boden DüV-Bolap'!A:AC,24,FALSE),IF(AND(S47=\"mittel\",AD47>10),VLOOKUP(AD47,'Boden DüV-Bolap'!A:AC,25,FALSE)*(AB47+AC47)-(AB47+AC47),IF(AND(S47=\"schwer\",AD47<15),VLOOKUP(AD47,'Boden DüV-Bolap'!A:AC,28,FALSE),IF(AND(S47=\"schwer\",AD47>14),VLOOKUP(AD47,'Boden DüV-Bolap'!A:AC,29,FALSE)*(AB47+AC47)-(AB47+AC47)))))))))","v":""},{"$f":"IF(OR(F47=\"\",G47=\"\"),\"\",IF(OR(F47=\"A\",F47=\"HG\"),0,VLOOKUP(G47,'Tab 4+5 DüV+Abfuhr_G'!A:Q,17,FALSE)))","v":""},{"$f":"IF(OR(F47=\"\",G47=\"\"),\"\",IF(AD47=\"\",SUM(AB47,AC47),SUM(AB47:AC47,AF47:AG47)))","v":""},{"$f":"IF(OR(B47=\"\",F47=\"\",G47=\"\"),\"\",AH47*E47)","v":""}]

{"sheet":"Düngedokumentation, -bilanz","index":6,"n_rows":47,"n_cols":123,"rows_kept":47,"cut":false,"hidden":false,"merged":[[4,28,4,66],[0,110,0,111],[3,14,3,20],[3,22,3,26],[0,24,0,26],[2,7,2,26],[3,7,3,10],[0,96,0,97],[0,21,0,22],[1,5,1,9],[2,5,2,6],[3,5,3,6],[3,28,3,66],[5,0,5,14],[4,5,4,6],[4,0,4,4],[4,22,4,26],[4,14,4,20],[4,7,4,10]]}
["Stickstoff- und Phosphat-Düngedokumentation nach DüV",null,null,null,null,null,null,null,null,null,null,null,null,null,null,null,null,null,null,null,null,{"$f":"Impressum!A6","v":"Stand:"},null,null,{"$f":"Impressum!B6","v":"2025-06-10"},null,null,null,null,null,null,null," ",null," "]
[{"$f":"'N-DBE'!A2","v":"Betrieb:"},null,null,null,null,{"$f":"IF('N-DBE'!E2=\"\",\"\",'N-DBE'!E2)","v":""}]
[{"$f":"'N-DBE'!A3","v":"Düngejahr:"},null,null,null,null,{"$f":"IF('N-DBE'!E3=\"\",\"\",'N-DBE'!E3)","v":""},null,"Kennzahlen Düngung nach DüV (Achtung bei gelb!):"]
[{"$f":"'N-DBE'!A4","v":"Landw. Nutzfläche LN:"},null,null,null,null,{"$f":"IF('N-DBE'!E4=\"\",\"\",'N-DBE'!E4)","v":0},null,{"$f":"IF(OR(S9=0,Schlagliste!E3=0),0,S9/Schlagliste!E3)","v":0},null,null,null,null,null,null,{"$f":"IF(OR(U9=0,Schlagliste!E3=0),0,U9/Schlagliste!E3)","v":0},null,null,null,null,null,null,null,{"$f":"IF(OR(S9=0,Schlagliste!E3=0),0,(S9-U9)/Schlagliste!E3)","v":0},null,null,null,null,null,{"$f":"IF(AND(O4>510,W4>170),\"-> N-gesamt-Obergrenze Kompost (510 kg/ha u. 3 Jahre) bereits in 1 Jahr und anderer org. Dünger (170 kg/ha u. Jahr) überschritten!\",IF(AND(O4>510,W4<=170),\"-> N-gesamt-Obergrenze Kompost (510 kg/ha u. 3 Jahre) bereits in 1 Jahr überschritten!\",IF(AND(O4<=510,W4>170),\"-> N-gesamt-Obergrenze org. Dünger ohne Kompost  (170 kg/ha u. Jahr) überschritten!\",\"-> N-gesamt-Obergrenzen org. Dünger eingehalten! Bei Kompost die letzten beiden Jahre zur Einhaltung der 510 kg/ha u. 3 Jahre überprüfen!\")))","v":"-> N-gesamt-Obergrenzen org. Dünger eingehalten! Bei Kompost die letzten beiden Jahre zur Einhaltung der 510 kg/ha u. 3 Jahre überprüfen!"}]
["Nitratbelastungsgebiet NBG:",null,null,null,null,{"$f":"Schlagliste!C3","v":0},null,{"$f":"IF(N10=0,\"0 %\",IF(N10*100/H10<0,0,N10*100/H10))","v":"0 %"},null,null,null,null,null,null,{"$f":"IF(OR(O10=0,F5=0),0,O10/F5)","v":0},null,null,null,null,null,null,null,{"$f":"IF(OR(Q10=0,F5=0),0,Q10/F5)","v":0},null,null,null,null,null,{"$f":"IF(AND(O5<=160,W5<=80),\"-> 160/80iger Regel eingehalten -> 20% N-Einsparung + schlagbezogen max. 170 kg N-gesamt organisch entfällt!\",\"-> 160/80iger Regel nicht eingehalten -> mind. 20% N-Einsparung + schlagbezogen max. 170 kg N-gesamt organisch!\")","v":"-> 160/80iger Regel eingehalten -> 20% N-Einsparung + schlagbezogen max. 170 kg N-gesamt organisch entfällt!"}]
["*Düngebilanz = Jährliche betriebliche Gegenüberstellung (bis spätestens 31.03. des Folgejahres)"]
[]
["Datum N-DBE",{"$f":"'N-DBE'!B8","v":"Bewirtschaftungseinheit, \nSchlag (=Fläche)"},{"$f":"'N-DBE'!C8","v":"Nitratbelastungsgebiet NBG"},{"$f":"'N-DBE'!D8","v":"Phosphatbelastungsgebiet PBG"},{"$f":"'N-DBE'!E8","v":"Fläche Anbau  ha"},{"$f":"'N-DBE'!F8","v":"Kulturgruppe"},"Kultur (' = nicht in DüV)","N-Düngebedarf = Obergrenze kg/ha\ninkl. Nachdüngung","N-Düngebedarf kg/Fläche\ninkl. Nachdüngung ","80 % N-Düngebedarf NBG kg/ha\ninkl. Nachdüngung ","80 % N-Düngebedarf NBG kg/Fläche\ninkl. Nachdüngung ","N-Obergrenze Mengenvorschlag kg/ha\ninkl. Nachdüngung","N-Obergrenze Mengenvorschlag kg/Fläche\ninkl. Nachdüngung","N eingespart nitratgefährdet kg/Fläche","Ngesamt gedüngt kg/ha","Ngesamt gedüngt kg/Fläche","Ngesamt Mineraldünger kg/ha","Nmineralische Dünger gedüngt kg/Fläche","Ngesamt organisch, org.-min. Dünger kg/ha","Ngesamt organisch, organisch-mineralisch kg/Fläche","Ngesamt nur Kompost kg/ha","Ngesamt Kompost kg/Fläche","Nverfügbar gedüngt kg/ha","Nverfügbar gedüngt kg/Fläche","P2O5-Düngeobergrenze kg/ha (DüV)\ninkl. Nachdüngung","P2O5-Düngeobergrenze kg/Fläche\ninkl. Nachdüngung ","P2O5 gedüngt kg/ha 3 Jahre im Voraus möglich","P2O5 gedüngt kg/Fläche","P2O5-Düngebedarf kg/ha\nohne Nachdüngung","P2O5-Düngebedarf kg/Fläche\nohne Nachdüngung","K2O-Düngebedarf kg/ha","K2O-Düngebedarf kg/Fläche","K2O gedüngt kg/ha","K2O gedüngt kg/Fläche","MgO-Düngebedarf kg/ha","MgO-Düngebedarf kg/Fläche","MgO gedüngt kg/ha","MgO gedüngt kg/Fläche","Produkt 1\n(Düngemittel, Bodenhilfsstoffe, Kultursubstrate, Pflanzenhilfsmittel)","Datum","Menge kg, l/ha","Menge kg, l/Fläche","Mengenvorschlag kg, l/ha Nverfügbar","Art","Nmineralisch kg FM/t, m3","N-Mindestwirksamkeit Ausbringjahr %","Nges. kg, l/ha","Nmin. kg, l/ha","Nverf. kg, l/ha","P2O5 kg, l/ha","K2O kg, l/ha","MgO kg, l/ha","Produkt 2\n(Düngemittel, Bodenhilfsstoffe, Kultursubstrate, Pflanzenhilfsmittel)","Datum","Menge kg, l/ha","Menge kg, l/Fläche","Mengenvorschlag kg, l/ha Nverfügbar","Art","Nmineralisch kg FM/t, m3","N-Mindestwirksamkeit Ausbringjahr %","Nges. kg, l/ha","Nmin. kg, l/ha","Nverf. kg, l/ha","P2O5 kg, l/ha","K2O kg, l/ha","MgO kg, l/ha","Produkt 3\n(Düngemittel, Bodenhilfsstoffe, Kultursubstrate, Pflanzenhilfsmittel)","Datum","Menge kg, l/ha","Menge kg, l/Fläche","Mengenvorschlag kg, l/ha Nverfügbar","Art","Nmineralisch kg FM/t, m3","N-Mindestwirksamkeit Ausbringjahr %","Nges. kg, l/ha","Nmin. kg, l/ha","Nverf. kg, l/ha","P2O5 kg, l/ha","K2O kg, l/ha","MgO kg, l/ha","Produkt 4\n(Düngemittel, Bodenhilfsstoffe, Kultursubstrate, Pflanzenhilfsmittel)","Datum","Menge kg, l/ha","Menge kg, l/Fläche","Mengenvorschlag kg, l/ha Nverfügbar","Art","Nmineralisch kg FM/t, m3","N-Mindestwirksamkeit Ausbringjahr %","Nges. kg, l/ha","Nmin. kg, l/ha","Nverf. kg, l/ha","P2O5 kg, l/ha","K2O kg, l/ha","MgO kg, l/ha","Produkt 5\n(Düngemittel, Bodenhilfsstoffe, Kultursubstrate, Pflanzenhilfsmittel)","Datum","Menge kg, l/ha","Menge kg, l/Fläche","Mengenvorschlag kg, l/ha Nverfügbar","Art","Nmineralisch kg FM/t, m3","N-Mindestwirksamkeit Ausbringjahr %","Nges. kg, l/ha","Nmin. kg, l/ha","Nverf. kg, l/ha","P2O5 kg, l/ha","K2O kg, l/ha","MgO kg, l/ha","Produkt 6\n(Düngemittel, Bodenhilfsstoffe, Kultursubstrate, Pflanzenhilfsmittel)","Datum","Menge kg, l/ha","Menge kg, l/Fläche","Mengenvorschlag kg, l/ha Nverfügbar","Art","Nmineralisch kg FM/t, m3","N-Mindestwirksamkeit Ausbringjahr %","Nges. kg, l/ha","Nmin. kg, l/ha","Nverf. kg, l/ha","P2O5 kg, l/ha","K2O kg, l/ha","MgO kg, l/ha","   Bemerkungen"]
[null,"Dünge-",null,null,{"$f":"SUM(E11:E47)","v":0},null,"kg/LNgesamt ®",{"$f":"SUM(I11:I47)","v":0},{"$f":"SUM(I11:I47)","v":0},null,null,{"$f":"SUM(M11:M47)","v":0},{"$f":"SUM(M11:M47)","v":0},{"$f":"SUM(N11:N47)","v":0},{"$f":"SUM(P11:P47)","v":0},{"$f":"SUM(P11:P47)","v":0},{"$f":"SUM(R11:R47)","v":0},{"$f":"SUM(R11:R47)","v":0},{"$f":"SUM(T11:T47)","v":0},{"$f":"SUM(T11:T47)","v":0},{"$f":"SUM(V11:V47)","v":0},{"$f":"SUM(V11:V47)","v":0},{"$f":"SUM(X11:X47)","v":0},{"$f":"SUM(X11:X47)","v":0},{"$f":"SUM(Z11:Z47)","v":0},{"$f":"SUM(Z11:Z47)","v":0},{"$f":"SUM(AB11:AB47)","v":0},{"$f":"SUM(AB11:AB47)","v":0},{"$f":"SUM(AD11:AD47)","v":0},{"$f":"SUM(AD11:AD47)","v":0},{"$f":"SUM(AF11:AF47)","v":0},{"$f":"SUM(AF11:AF47)","v":0},{"$f":"SUM(AH11:AH47)","v":0},{"$f":"SUM(AH11:AH47)","v":0},{"$f":"SUM(AJ11:AJ47)","v":0},{"$f":"SUM(AJ11:AJ47)","v":0},{"$f":"SUM(AL11:AL47)","v":0},{"$f":"SUM(AL11:AL47)","v":0}]
[null,"bilanz*",null,null,null,null,"kg/LN NBGgesamt®",{"$f":"SUMIF(C11:C47,\"ja\",I11:I47)","v":0},null,{"$f":"SUMIF(C11:C47,\"ja\",K11:K47)","v":0},{"$f":"SUMIF(C11:C47,\"ja\",K11:K47)","v":0},null,null,{"$f":"SUM(N11:N47)","v":0},{"$f":"SUMIF(C11:C47,\"ja\",P11:P47)","v":0},{"$f":"SUMIF(C11:C47,\"ja\",P11:P47)","v":0},{"$f":"SUMIF(C11:C47,\"ja\",R11:R47)","v":0},{"$f":"SUMIF(C11:C47,\"ja\",R11:R47)","v":0},{"$f":"SUMIF(C11:C47,\"ja\",T11:T47)","v":0},{"$f":"SUMIF(C11:C47,\"ja\",T11:T47)","v":0},{"$f":"SUMIF(C11:C47,\"ja\",V11:V47)","v":0},{"$f":"SUMIF(C11:C47,\"ja\",V11:V47)","v":0},{"$f":"SUMIF(C11:C47,\"ja\",X11:X47)","v":0},{"$f":"SUMIF(C11:C47,\"ja\",X11:X47)","v":0},null,null,null,null,null,null,null,null,null,null,null,null,null,null,null,null,null,null,null,2,3,8,null,null,null,null,null,null,null,null,null,null,null,2,3,8,null,null,null,null,null,null,null,null,null,null,null,2,3,8,null,null,null,null,null,null,null,null,null,null,null,2,3,8,null,null,null,null,null,null,null,null,null,null,null,2,3,8,null,null,null,null,null,null,null,null,null,null,null,2,3,8]
[{"$f":"IF('N-DBE'!A11=\"\",\"\",'N-DBE'!A11)","v":""},{"$f":"IF('N-DBE'!B11=\"\",\"\",'N-DBE'!B11)","v":""},{"$f":"IF('N-DBE'!C11=\"\",\"\",'N-DBE'!C11)","v":""},{"$f":"IF('N-DBE'!D11=\"\",\"\",'N-DBE'!D11)","v":""},{"$f":"IF('N-DBE'!E11=\"\",\"\",'N-DBE'!E11)","v":""},{"$f":"IF('N-DBE'!F11=\"\",\"\",'N-DBE'!F11)","v":""},{"$f":"IF('N-DBE'!G11=\"\",\"\",'N-DBE'!G11)","v":""},{"$f":"IF(OR(B11=\"\",'N-DBE'!AJ11=\"\"),\"\",'N-DBE'!AJ11+'N-DBE'!AN11)","v":""},{"$f":"IF(OR(B11=\"\",'N-DBE'!AJ11=\"\"),\"\",'N-DBE'!E11*('N-DBE'!AJ11+'N-DBE'!AN11))","v":""},{"$f":"IF('N-DBE'!AK11=\"\",\"\",IF('N-DBE'!AM11=\"ja\",'N-DBE'!AK11+'N-DBE'!AN11,'N-DBE'!AK11))","v":""},{"$f":"IF(OR(B11=\"\",'N-DBE'!AK11=\"\"),\"\",IF('N-DBE'!AM11=\"ja\",'N-DBE'!E11*('N-DBE'!AK11+'N-DBE'!AN11),'N-DBE'!E11*'N-DBE'!AK11))","v":""},{"$f":"IF(OR(B11=\"\",'N-DBE'!AL11=\"\"),\"\",'N-DBE'!AL11+'N-DBE'!AN11)","v":""},{"$f":"IF(OR(B11=\"\",'N-DBE'!AL11=\"\"),\"\",'N-DBE'!E11*('N-DBE'!AL11+'N-DBE'!AN11))","v":""},{"$f":"IF(AND('N-DBE'!C11=\"ja\",G11<>\"\"),I11-X11,\"\")","v":""},{"$f":"IF('N-DBE'!AJ11=\"\",\"\",SUM(AU11,BI11,BW11,CK11,CY11,DM11))","v":""},{"$f":"IF(OR(B11=\"\",'N-DBE'!AJ11=\"\"),\"\",O11*'N-DBE'!E11)","v":""},{"$f":"IF('N-DBE'!AJ11=\"\",\"\",IF(AR11=\"mineralisch\",AU11,0)+IF(BF11=\"mineralisch\",BI11,0)+IF(BT11=\"mineralisch\",BW11,0)+IF(CH11=\"mineralisch\",CK11,0)+IF(CV11=\"mineralisch\",CY11,0)+IF(DJ11=\"mineralisch\",DM11,0))","v":""},{"$f":"IF(OR(B11=\"\",'N-DBE'!AJ11=\"\"),\"\",Q11*'N-DBE'!E11)","v":""},{"$f":"IF('N-DBE'!AJ11=\"\",\"\",O11-Q11)","v":""},{"$f":"IF(OR(B11=\"\",'N-DBE'!AJ11=\"\"),\"\",S11*'N-DBE'!E11)","v":""},{"$f":"IF('N-DBE'!AJ11=\"\",\"\",(IF(AR11=\"Kompost\",AU11,0)+IF(BF11=\"Kompost\",BI11,0)+IF(BT11=\"Kompost\",BW11,0)+IF(CH11=\"Kompost\",CK11,0)+IF(CV11=\"Kompost\",CY11,0)+IF(DJ11=\"Kompost\",DM11,0)))","v":""},{"$f":"IF(OR(B11=\"\",'N-DBE'!AJ11=\"\"),\"\",U11*'N-DBE'!E11)","v":""},{"$f":"IF('N-DBE'!AJ11=\"\",\"\",SUM(AW11,BK11,BY11,CM11,DA11,DO11))","v":""},{"$f":"IF(OR(B11=\"\",'N-DBE'!AJ11=\"\"),\"\",W11*'N-DBE'!E11)","v":""},{"$f":"IF('P-(K-Mg)-DBE'!N11=\"\",\"\",'P-(K-Mg)-DBE'!N11+'P-(K-Mg)-DBE'!R11)","v":""},{"$f":"IF(OR(B11=\"\",'P-(K-Mg)-DBE'!N11=\"\"),\"\",'N-DBE'!E11*('P-(K-Mg)-DBE'!N11+'P-(K-Mg)-DBE'!R11))","v":""},{"$f":"IF('P-(K-Mg)-DBE'!N11=\"\",\"\",SUM(AX11,BL11,BZ11,CN11,DB11,DP11))","v":""},{"$f":"IF(OR(B11=\"\",'P-(K-Mg)-DBE'!Z11=\"\"),\"\",SUM(AX11,BL11,BZ11,CN11,DB11,DP11)*'N-DBE'!E11)","v":""},{"$f":"IF('P-(K-Mg)-DBE'!O11=\"\",\"\",'P-(K-Mg)-DBE'!O11)","v":""},{"$f":"IF(OR(B11=\"\",'P-(K-Mg)-DBE'!O11=\"\"),\"\",'P-(K-Mg)-DBE'!O11*'N-DBE'!E11)","v":""},{"$f":"IF('P-(K-Mg)-DBE'!Z11=\"\",\"\",'P-(K-Mg)-DBE'!Z11)","v":""},{"$f":"IF(OR(B11=\"\",'P-(K-Mg)-DBE'!Z11=\"\"),\"\",'P-(K-Mg)-DBE'!Z11*'N-DBE'!E11)","v":""},{"$f":"IF('P-(K-Mg)-DBE'!Z11=\"\",\"\",SUM(AY11,BM11,CA11,CO11,DC11,DQ11))","v":""},{"$f":"IF(OR(B11=\"\",'P-(K-Mg)-DBE'!AH11=\"\"),\"\",SUM(AY11,BM11,CA11,CO11,DC11,DQ1)*'N-DBE'!E11)","v":""},{"$f":"IF('P-(K-Mg)-DBE'!AH11=\"\",\"\",'P-(K-Mg)-DBE'!AH11)","v":""},{"$f":"IF(OR(B11=\"\",'P-(K-Mg)-DBE'!AH11=\"\"),\"\",'N-DBE'!E11*'P-(K-Mg)-DBE'!AH11)","v":""},{"$f":"IF('P-(K-Mg)-DBE'!AH11=\"\",\"\",SUM(AZ11,BN11,CB11,CP11,DD11,DR11))","v":""},{"$f":"IF('P-(K-Mg)-DBE'!AH11=\"\",\"\",SUM(AZ11,BN11,CB11,CP11,DD11,DR11))","v":""},null,null,null,{"$f":"IF(AM11=\"\",\"\",AO11*E11)","v":""},{"$f":"IF(AM11=\"\",\"\",IF(AS11=0,\"\",IF(AND($L11>170,AR11<>\"mineralisch\"),170*1000/AS11,$L11*1000*100/(AS11*AT11))))","v":""},{"$f":"IF(AM11=\"\",\"\",VLOOKUP(AM11,'aktuelle Düngerliste'!A:H,2,FALSE))","v":""},{"$f":"IF(AM11=\"\",\"\",VLOOKUP(AM11,'aktuelle Düngerliste'!A:H,3,FALSE))","v":""},{"$f":"IF(AM11=\"\",\"\",VLOOKUP(AM11,'aktuelle Düngerliste'!A:H,8,FALSE))","v":""},{"$f":"IF(AM11=\"\",\"\",VLOOKUP(AM11,'aktuelle Düngerliste'!$A:$H,3,FALSE)*AO11/1000)","v":""},{"$f":"IF(AM11=\"\",\"\",IF(VLOOKUP(AM11,'aktuelle Düngerliste'!$A:$B,2,FALSE)=\"mineralisch\",(VLOOKUP(AM11,'aktuelle Düngerliste'!$A:$H,3,FALSE)*AO11/1000),\"\"))","v":""},{"$f":"IF(AM11=\"\",\"\",VLOOKUP(AM11,'aktuelle Düngerliste'!$A:$J,10,FALSE)*AO11/1000)","v":""},{"$f":"IF(AM11=\"\",\"\",VLOOKUP(AM11,'aktuelle Düngerliste'!$A:$H,5,FALSE)*AO11/1000)","v":""},{"$f":"IF(AM11=\"\",\"\",VLOOKUP(AM11,'aktuelle Düngerliste'!$A:$H,6,FALSE)*AO11/1000)","v":""},{"$f":"IF(AM11=\"\",\"\",VLOOKUP(AM11,'aktuelle Düngerliste'!$A:$H,7,FALSE)*AO11/1000)","v":""},null,null,null,{"$f":"IF(BA11=\"\",\"\",BC11*E11)","v":""},{"$f":"IF(BA11=\"\",\"\",IF(BG11=0,\"\",IF(AND($L11>170,BF11<>\"mineralisch\"),(170-$AU11)*1000/BG11,($L11-$AW11)*1000*100/(BG11*BH11))))","v":""},{"$f":"IF(BA11=\"\",\"\",VLOOKUP(BA11,'aktuelle Düngerliste'!$A:$H,2,FALSE))","v":""},{"$f":"IF(BA11=\"\",\"\",VLOOKUP(BA11,'aktuelle Düngerliste'!$A:$H,3,FALSE))","v":""},{"$f":"IF(BA11=\"\",\"\",VLOOKUP(BA11,'aktuelle Düngerliste'!$A:$H,8,FALSE))","v":""},{"$f":"IF(BA11=\"\",\"\",VLOOKUP(BA11,'aktuelle Düngerliste'!$A:$H,3,FALSE)*BC11/1000)","v":""},{"$f":"IF(BA11=\"\",\"\",IF(VLOOKUP(BA11,'aktuelle Düngerliste'!$A:$B,2,FALSE)=\"mineralisch\",(VLOOKUP(BA11,'aktuelle Düngerliste'!$A:$H,3,FALSE)*BC11/1000),\"\"))","v":""},{"$f":"IF(BA11=\"\",\"\",VLOOKUP(BA11,'aktuelle Düngerliste'!$A:$J,10,FALSE)*BC11/1000)","v":""},{"$f":"IF(BA11=\"\",\"\",VLOOKUP(BA11,'aktuelle Düngerliste'!$A:$H,5,FALSE)*BC11/1000)","v":""},{"$f":"IF(BA11=\"\",\"\",VLOOKUP(BA11,'aktuelle Düngerliste'!$A:$H,6,FALSE)*BC11/1000)","v":""},{"$f":"IF(BA11=\"\",\"\",VLOOKUP(BA11,'aktuelle Düngerliste'!$A:$H,7,FALSE)*BC11/1000)","v":""},null,null,null,{"$f":"IF(BO11=\"\",\"\",BQ11*E11)","v":""},{"$f":"IF(BO11=\"\",\"\",IF(BU11=0,\"\",IF(AND($L11>170,BT11<>\"mineralisch\"),(170-$AU11-$BI11)*1000/BU11,($L11-$AW11-$BK11)*1000*100/(BU11*BV11))))","v":""},{"$f":"IF(BO11=\"\",\"\",VLOOKUP(BO11,'aktuelle Düngerliste'!$A:$H,2,FALSE))","v":""},{"$f":"IF(BO11=\"\",\"\",VLOOKUP(BO11,'aktuelle Düngerliste'!$A:$H,3,FALSE))","v":""},{"$f":"IF(BO11=\"\",\"\",VLOOKUP(BO11,'aktuelle Düngerliste'!$A:$H,8,FALSE))","v":""},{"$f":"IF(BO11=\"\",\"\",VLOOKUP(BO11,'aktuelle Düngerliste'!$A:$H,3,FALSE)*BQ11/1000)","v":""},{"$f":"IF(BO11=\"\",\"\",IF(VLOOKUP(BO11,'aktuelle Düngerliste'!$A:$B,2,FALSE)=\"mineralisch\",(VLOOKUP(BO11,'aktuelle Düngerliste'!$A:$H,3,FALSE)*BQ11/1000),\"\"))","v":""},{"$f":"IF(BO11=\"\",\"\",VLOOKUP(BO11,'aktuelle Düngerliste'!$A:$J,10,FALSE)*BQ11/1000)","v":""},{"$f":"IF(BO11=\"\",\"\",VLOOKUP(BO11,'aktuelle Düngerliste'!$A:$H,5,FALSE)*BQ11/1000)","v":""},{"$f":"IF(BO11=\"\",\"\",VLOOKUP(BO11,'aktuelle Düngerliste'!$A:$H,6,FALSE)*BQ11/1000)","v":""},{"$f":"IF(BO11=\"\",\"\",VLOOKUP(BO11,'aktuelle Düngerliste'!$A:$H,7,FALSE)*BQ11/1000)","v":""},null,null,null,{"$f":"IF(CC11=\"\",\"\",CE11*E11)","v":""},{"$f":"IF(CC11=\"\",\"\",IF(CI11=0,\"\",IF(AND($L11>170,CH11<>\"mineralisch\"),(170-$AU11-$BI11-$BW11)*1000/CI11,($L11-$AW11-$BK11-$BY11)*1000*100/(CI11*CJ11))))","v":""},{"$f":"IF(CC11=\"\",\"\",VLOOKUP(CC11,'aktuelle Düngerliste'!$A:$H,2,FALSE))","v":""},{"$f":"IF(CC11=\"\",\"\",VLOOKUP(CC11,'aktuelle Düngerliste'!$A:$H,3,FALSE))","v":""},{"$f":"IF(CC11=\"\",\"\",VLOOKUP(CC11,'aktuelle Düngerliste'!$A:$H,8,FALSE))","v":""},{"$f":"IF(CC11=\"\",\"\",VLOOKUP(CC11,'aktuelle Düngerliste'!$A:$H,3,FALSE)*CE11/1000)","v":""},{"$f":"IF(CC11=\"\",\"\",IF(VLOOKUP(CC11,'aktuelle Düngerliste'!$A:$B,2,FALSE)=\"mineralisch\",(VLOOKUP(CC11,'aktuelle Düngerliste'!$A:$H,3,FALSE)*CE11/1000),\"\"))","v":""},{"$f":"IF(CC11=\"\",\"\",VLOOKUP(CC11,'aktuelle Düngerliste'!$A:$J,10,FALSE)*CE11/1000)","v":""},{"$f":"IF(CC11=\"\",\"\",VLOOKUP(CC11,'aktuelle Düngerliste'!$A:$H,5,FALSE)*CE11/1000)","v":""},{"$f":"IF(CC11=\"\",\"\",VLOOKUP(CC11,'aktuelle Düngerliste'!$A:$H,6,FALSE)*CE11/1000)","v":""},{"$f":"IF(CC11=\"\",\"\",VLOOKUP(CC11,'aktuelle Düngerliste'!$A:$H,7,FALSE)*CE11/1000)","v":""},null,null,null,{"$f":"IF(CQ11=\"\",\"\",CS11*E11)","v":""},{"$f":"IF(CQ11=\"\",\"\",IF(CW11=0,\"\",IF(AND($L11>170,CV11<>\"mineralisch\"),(170-$AU11-$BI11-$BW11-$CK11)*1000/CW11,($L11-$AW11-$BK11-$BY11-$CM11)*1000*100/(CW11*CX11))))","v":""},{"$f":"IF(CQ11=\"\",\"\",VLOOKUP(CQ11,'aktuelle Düngerliste'!$A:$H,2,FALSE))","v":""},{"$f":"IF(CQ11=\"\",\"\",VLOOKUP(CQ11,'aktuelle Düngerliste'!$A:$H,3,FALSE))","v":""},{"$f":"IF(CQ11=\"\",\"\",VLOOKUP(CQ11,'aktuelle Düngerliste'!$A:$H,8,FALSE))","v":""},{"$f":"IF(CQ11=\"\",\"\",VLOOKUP(CQ11,'aktuelle Düngerliste'!$A:$H,3,FALSE)*CS11/1000)","v":""},{"$f":"IF(CQ11=\"\",\"\",IF(VLOOKUP(CQ11,'aktuelle Düngerliste'!$A:$B,2,FALSE)=\"mineralisch\",(VLOOKUP(CQ11,'aktuelle Düngerliste'!$A:$H,3,FALSE)*CS11/1000),\"\"))","v":""},{"$f":"IF(CQ11=\"\",\"\",VLOOKUP(CQ11,'aktuelle Düngerliste'!$A:$J,10,FALSE)*CS11/1000)","v":""},{"$f":"IF(CQ11=\"\",\"\",VLOOKUP(CQ11,'aktuelle Düngerliste'!$A:$H,5,FALSE)*CS11/1000)","v":""},{"$f":"IF(CQ11=\"\",\"\",VLOOKUP(CQ11,'aktuelle Düngerliste'!$A:$H,6,FALSE)*CS11/1000)","v":""},{"$f":"IF(CQ11=\"\",\"\",VLOOKUP(CQ11,'aktuelle Düngerliste'!$A:$H,7,FALSE)*CS11/1000)","v":""},null,null,null,{"$f":"IF(DE11=\"\",\"\",DG11*E11)","v":""},{"$f":"IF(DE11=\"\",\"\",IF(DK11=0,\"\",IF(AND($L11>170,DJ11<>\"mineralisch\"),(170-$AU11-$BI11-$BW11-$CK11-$CY11)*1000/DK11,($L11-$AW11-$BK11-$BY11-$CM11-$DA11)*1000*100/(DK11*DL11))))","v":""},{"$f":"IF(DE11=\"\",\"\",VLOOKUP(DE11,'aktuelle Düngerliste'!$A:$H,2,FALSE))","v":""},{"$f":"IF(DE11=\"\",\"\",VLOOKUP(DE11,'aktuelle Düngerliste'!$A:$H,3,FALSE))","v":""},{"$f":"IF(DE11=\"\",\"\",VLOOKUP(DE11,'aktuelle Düngerliste'!$A:$H,8,FALSE))","v":""},{"$f":"IF(DE11=\"\",\"\",VLOOKUP(DE11,'aktuelle Düngerliste'!$A:$H,3,FALSE)*DG11/1000)","v":""},{"$f":"IF(DE11=\"\",\"\",IF(VLOOKUP(DE11,'aktuelle Düngerliste'!$A:$B,2,FALSE)=\"mineralisch\",(VLOOKUP(DE11,'aktuelle Düngerliste'!$A:$H,3,FALSE)*DG11/1000),\"\"))","v":""},{"$f":"IF(DE11=\"\",\"\",VLOOKUP(DE11,'aktuelle Düngerliste'!$A:$J,10,FALSE)*DG11/1000)","v":""},{"$f":"IF(DE11=\"\",\"\",VLOOKUP(DE11,'aktuelle Düngerliste'!$A:$H,5,FALSE)*DG11/1000)","v":""},{"$f":"IF(DE11=\"\",\"\",VLOOKUP(DE11,'aktuelle Düngerliste'!$A:$H,6,FALSE)*DG11/1000)","v":""},{"$f":"IF(DE11=\"\",\"\",VLOOKUP(DE11,'aktuelle Düngerliste'!$A:$H,7,FALSE)*DG11/1000)","v":""}]
[{"$f":"IF('N-DBE'!A12=\"\",\"\",'N-DBE'!A12)","v":""},{"$f":"IF('N-DBE'!B12=\"\",\"\",'N-DBE'!B12)","v":""},{"$f":"IF('N-DBE'!C12=\"\",\"\",'N-DBE'!C12)","v":""},{"$f":"IF('N-DBE'!D12=\"\",\"\",'N-DBE'!D12)","v":""},{"$f":"IF('N-DBE'!E12=\"\",\"\",'N-DBE'!E12)","v":""},{"$f":"IF('N-DBE'!F12=\"\",\"\",'N-DBE'!F12)","v":""},{"$f":"IF('N-DBE'!G12=\"\",\"\",'N-DBE'!G12)","v":""},{"$f":"IF(OR(B12=\"\",'N-DBE'!AJ12=\"\"),\"\",'N-DBE'!AJ12+'N-DBE'!AN12)","v":""},{"$f":"IF(OR(B12=\"\",'N-DBE'!AJ12=\"\"),\"\",'N-DBE'!E12*('N-DBE'!AJ12+'N-DBE'!AN12))","v":""},{"$f":"IF('N-DBE'!AK12=\"\",\"\",IF('N-DBE'!AM12=\"ja\",'N-DBE'!AK12+'N-DBE'!AN12,'N-DBE'!AK12))","v":""},{"$f":"IF(OR(B12=\"\",'N-DBE'!AK12=\"\"),\"\",IF('N-DBE'!AM12=\"ja\",'N-DBE'!E12*('N-DBE'!AK12+'N-DBE'!AN12),'N-DBE'!E12*'N-DBE'!AK12))","v":""},{"$f":"IF(OR(B12=\"\",'N-DBE'!AL12=\"\"),\"\",'N-DBE'!AL12+'N-DBE'!AN12)","v":""},{"$f":"IF(OR(B12=\"\",'N-DBE'!AL12=\"\"),\"\",'N-DBE'!E12*('N-DBE'!AL12+'N-DBE'!AN12))","v":""},{"$f":"IF(AND('N-DBE'!C12=\"ja\",G12<>\"\"),I12-X12,\"\")","v":""},{"$f":"IF('N-DBE'!AJ12=\"\",\"\",SUM(AU12,BI12,BW12,CK12,CY12,DM12))","v":""},{"$f":"IF(OR(B12=\"\",'N-DBE'!AJ12=\"\"),\"\",O12*'N-DBE'!E12)","v":""},{"$f":"IF('N-DBE'!AJ12=\"\",\"\",IF(AR12=\"mineralisch\",AU12,0)+IF(BF12=\"mineralisch\",BI12,0)+IF(BT12=\"mineralisch\",BW12,0)+IF(CH12=\"mineralisch\",CK12,0)+IF(CV12=\"mineralisch\",CY12,0)+IF(DJ12=\"mineralisch\",DM12,0))","v":""},{"$f":"IF(OR(B12=\"\",'N-DBE'!AJ12=\"\"),\"\",Q12*'N-DBE'!E12)","v":""},{"$f":"IF('N-DBE'!AJ12=\"\",\"\",O12-Q12)","v":""},{"$f":"IF(OR(B12=\"\",'N-DBE'!AJ12=\"\"),\"\",S12*'N-DBE'!E12)","v":""},{"$f":"IF('N-DBE'!AJ12=\"\",\"\",(IF(AR12=\"Kompost\",AU12,0)+IF(BF12=\"Kompost\",BI12,0)+IF(BT12=\"Kompost\",BW12,0)+IF(CH12=\"Kompost\",CK12,0)+IF(CV12=\"Kompost\",CY12,0)+IF(DJ12=\"Kompost\",DM12,0)))","v":""},{"$f":"IF(OR(B12=\"\",'N-DBE'!AJ12=\"\"),\"\",U12*'N-DBE'!E12)","v":""},{"$f":"IF('N-DBE'!AJ12=\"\",\"\",SUM(AW12,BK12,BY12,CM12,DA12,DO12))","v":""},{"$f":"IF(OR(B12=\"\",'N-DBE'!AJ12=\"\"),\"\",W12*'N-DBE'!E12)","v":""},{"$f":"IF('P-(K-Mg)-DBE'!N12=\"\",\"\",'P-(K-Mg)-DBE'!N12+'P-(K-Mg)-DBE'!R12)","v":""},{"$f":"IF(OR(B12=\"\",'P-(K-Mg)-DBE'!N12=\"\"),\"\",'N-DBE'!E12*('P-(K-Mg)-DBE'!N12+'P-(K-Mg)-DBE'!R12))","v":""},{"$f":"IF('P-(K-Mg)-DBE'!N12=\"\",\"\",SUM(AX12,BL12,BZ12,CN12,DB12,DP12))","v":""},{"$f":"IF(OR(B12=\"\",'P-(K-Mg)-DBE'!Z12=\"\"),\"\",SUM(AX12,BL12,BZ12,CN12,DB12,DP12)*'N-DBE'!E12)","v":""},{"$f":"IF('P-(K-Mg)-DBE'!O12=\"\",\"\",'P-(K-Mg)-DBE'!O12)","v":""},{"$f":"IF(OR(B12=\"\",'P-(K-Mg)-DBE'!O12=\"\"),\"\",'P-(K-Mg)-DBE'!O12*'N-DBE'!E12)","v":""},{"$f":"IF('P-(K-Mg)-DBE'!Z12=\"\",\"\",'P-(K-Mg)-DBE'!Z12)","v":""},{"$f":"IF(OR(B12=\"\",'P-(K-Mg)-DBE'!Z12=\"\"),\"\",'P-(K-Mg)-DBE'!Z12*'N-DBE'!E12)","v":""},{"$f":"IF('P-(K-Mg)-DBE'!Z12=\"\",\"\",SUM(AY12,BM12,CA12,CO12,DC12,DQ12))","v":""},{"$f":"IF(OR(B12=\"\",'P-(K-Mg)-DBE'!AH12=\"\"),\"\",SUM(AY12,BM12,CA12,CO12,DC12,DQ2)*'N-DBE'!E12)","v":""},{"$f":"IF('P-(K-Mg)-DBE'!AH12=\"\",\"\",'P-(K-Mg)-DBE'!AH12)","v":""},{"$f":"IF(OR(B12=\"\",'P-(K-Mg)-DBE'!AH12=\"\"),\"\",'N-DBE'!E12*'P-(K-Mg)-DBE'!AH12)","v":""},{"$f":"IF('P-(K-Mg)-DBE'!AH12=\"\",\"\",SUM(AZ12,BN12,CB12,CP12,DD12,DR12))","v":""},{"$f":"IF('P-(K-Mg)-DBE'!AH12=\"\",\"\",SUM(AZ12,BN12,CB12,CP12,DD12,DR12))","v":""},null,null,null,"","",{"$f":"IF(AM12=\"\",\"\",VLOOKUP(AM12,'aktuelle Düngerliste'!A:H,2,FALSE))","v":""},{"$f":"IF(AM12=\"\",\"\",VLOOKUP(AM12,'aktuelle Düngerliste'!A:H,3,FALSE))","v":""},{"$f":"IF(AM12=\"\",\"\",VLOOKUP(AM12,'aktuelle Düngerliste'!A:H,8,FALSE))","v":""},{"$f":"IF(AM12=\"\",\"\",VLOOKUP(AM12,'aktuelle Düngerliste'!$A:$H,3,FALSE)*AO12/1000)","v":""},{"$f":"IF(AM12=\"\",\"\",IF(VLOOKUP(AM12,'aktuelle Düngerliste'!$A:$B,2,FALSE)=\"mineralisch\",(VLOOKUP(AM12,'aktuelle Düngerliste'!$A:$H,3,FALSE)*AO12/1000),\"\"))","v":""},{"$f":"IF(AM12=\"\",\"\",VLOOKUP(AM12,'aktuelle Düngerliste'!$A:$J,10,FALSE)*AO12/1000)","v":""},{"$f":"IF(AM12=\"\",\"\",VLOOKUP(AM12,'aktuelle Düngerliste'!$A:$H,5,FALSE)*AO12/1000)","v":""},{"$f":"IF(AM12=\"\",\"\",VLOOKUP(AM12,'aktuelle Düngerliste'!$A:$H,6,FALSE)*AO12/1000)","v":""},{"$f":"IF(AM12=\"\",\"\",VLOOKUP(AM12,'aktuelle Düngerliste'!$A:$H,7,FALSE)*AO12/1000)","v":""},null,null,null,"","",{"$f":"IF(BA12=\"\",\"\",VLOOKUP(BA12,'aktuelle Düngerliste'!$A:$H,2,FALSE))","v":""},{"$f":"IF(BA12=\"\",\"\",VLOOKUP(BA12,'aktuelle Düngerliste'!$A:$H,3,FALSE))","v":""},{"$f":"IF(BA12=\"\",\"\",VLOOKUP(BA12,'aktuelle Düngerliste'!$A:$H,8,FALSE))","v":""},{"$f":"IF(BA12=\"\",\"\",VLOOKUP(BA12,'aktuelle Düngerliste'!$A:$H,3,FALSE)*BC12/1000)","v":""},{"$f":"IF(BA12=\"\",\"\",IF(VLOOKUP(BA12,'aktuelle Düngerliste'!$A:$B,2,FALSE)=\"mineralisch\",(VLOOKUP(BA12,'aktuelle Düngerliste'!$A:$H,3,FALSE)*BC12/1000),\"\"))","v":""},{"$f":"IF(BA12=\"\",\"\",VLOOKUP(BA12,'aktuelle Düngerliste'!$A:$J,10,FALSE)*BC12/1000)","v":""},{"$f":"IF(BA12=\"\",\"\",VLOOKUP(BA12,'aktuelle Düngerliste'!$A:$H,5,FALSE)*BC12/1000)","v":""},{"$f":"IF(BA12=\"\",\"\",VLOOKUP(BA12,'aktuelle Düngerliste'!$A:$H,6,FALSE)*BC12/1000)","v":""},{"$f":"IF(BA12=\"\",\"\",VLOOKUP(BA12,'aktuelle Düngerliste'!$A:$H,7,FALSE)*BC12/1000)","v":""},null,null,null,"","",{"$f":"IF(BO12=\"\",\"\",VLOOKUP(BO12,'aktuelle Düngerliste'!$A:$H,2,FALSE))","v":""},{"$f":"IF(BO12=\"\",\"\",VLOOKUP(BO12,'aktuelle Düngerliste'!$A:$H,3,FALSE))","v":""},{"$f":"IF(BO12=\"\",\"\",VLOOKUP(BO12,'aktuelle Düngerliste'!$A:$H,8,FALSE))","v":""},{"$f":"IF(BO12=\"\",\"\",VLOOKUP(BO12,'aktuelle Düngerliste'!$A:$H,3,FALSE)*BQ12/1000)","v":""},{"$f":"IF(BO12=\"\",\"\",IF(VLOOKUP(BO12,'aktuelle Düngerliste'!$A:$B,2,FALSE)=\"mineralisch\",(VLOOKUP(BO12,'aktuelle Düngerliste'!$A:$H,3,FALSE)*BQ12/1000),\"\"))","v":""},{"$f":"IF(BO12=\"\",\"\",VLOOKUP(BO12,'aktuelle Düngerliste'!$A:$J,10,FALSE)*BQ12/1000)","v":""},{"$f":"IF(BO12=\"\",\"\",VLOOKUP(BO12,'aktuelle Düngerliste'!$A:$H,5,FALSE)*BQ12/1000)","v":""},{"$f":"IF(BO12=\"\",\"\",VLOOKUP(BO12,'aktuelle Düngerliste'!$A:$H,6,FALSE)*BQ12/1000)","v":""},{"$f":"IF(BO12=\"\",\"\",VLOOKUP(BO12,'aktuelle Düngerliste'!$A:$H,7,FALSE)*BQ12/1000)","v":""},null,null,null,"","",{"$f":"IF(CC12=\"\",\"\",VLOOKUP(CC12,'aktuelle Düngerliste'!$A:$H,2,FALSE))","v":""},{"$f":"IF(CC12=\"\",\"\",VLOOKUP(CC12,'aktuelle Düngerliste'!$A:$H,3,FALSE))","v":""},{"$f":"IF(CC12=\"\",\"\",VLOOKUP(CC12,'aktuelle Düngerliste'!$A:$H,8,FALSE))","v":""},{"$f":"IF(CC12=\"\",\"\",VLOOKUP(CC12,'aktuelle Düngerliste'!$A:$H,3,FALSE)*CE12/1000)","v":""},{"$f":"IF(CC12=\"\",\"\",IF(VLOOKUP(CC12,'aktuelle Düngerliste'!$A:$B,2,FALSE)=\"mineralisch\",(VLOOKUP(CC12,'aktuelle Düngerliste'!$A:$H,3,FALSE)*CE12/1000),\"\"))","v":""},{"$f":"IF(CC12=\"\",\"\",VLOOKUP(CC12,'aktuelle Düngerliste'!$A:$J,10,FALSE)*CE12/1000)","v":""},{"$f":"IF(CC12=\"\",\"\",VLOOKUP(CC12,'aktuelle Düngerliste'!$A:$H,5,FALSE)*CE12/1000)","v":""},{"$f":"IF(CC12=\"\",\"\",VLOOKUP(CC12,'aktuelle Düngerliste'!$A:$H,6,FALSE)*CE12/1000)","v":""},{"$f":"IF(CC12=\"\",\"\",VLOOKUP(CC12,'aktuelle Düngerliste'!$A:$H,7,FALSE)*CE12/1000)","v":""},null,null,null,"","",{"$f":"IF(CQ12=\"\",\"\",VLOOKUP(CQ12,'aktuelle Düngerliste'!$A:$H,2,FALSE))","v":""},{"$f":"IF(CQ12=\"\",\"\",VLOOKUP(CQ12,'aktuelle Düngerliste'!$A:$H,3,FALSE))","v":""},{"$f":"IF(CQ12=\"\",\"\",VLOOKUP(CQ12,'aktuelle Düngerliste'!$A:$H,8,FALSE))","v":""},{"$f":"IF(CQ12=\"\",\"\",VLOOKUP(CQ12,'aktuelle Düngerliste'!$A:$H,3,FALSE)*CS12/1000)","v":""},{"$f":"IF(CQ12=\"\",\"\",IF(VLOOKUP(CQ12,'aktuelle Düngerliste'!$A:$B,2,FALSE)=\"mineralisch\",(VLOOKUP(CQ12,'aktuelle Düngerliste'!$A:$H,3,FALSE)*CS12/1000),\"\"))","v":""},{"$f":"IF(CQ12=\"\",\"\",VLOOKUP(CQ12,'aktuelle Düngerliste'!$A:$J,10,FALSE)*CS12/1000)","v":""},{"$f":"IF(CQ12=\"\",\"\",VLOOKUP(CQ12,'aktuelle Düngerliste'!$A:$H,5,FALSE)*CS12/1000)","v":""},{"$f":"IF(CQ12=\"\",\"\",VLOOKUP(CQ12,'aktuelle Düngerliste'!$A:$H,6,FALSE)*CS12/1000)","v":""},{"$f":"IF(CQ12=\"\",\"\",VLOOKUP(CQ12,'aktuelle Düngerliste'!$A:$H,7,FALSE)*CS12/1000)","v":""},null,null,null,"","",{"$f":"IF(DE12=\"\",\"\",VLOOKUP(DE12,'aktuelle Düngerliste'!$A:$H,2,FALSE))","v":""},{"$f":"IF(DE12=\"\",\"\",VLOOKUP(DE12,'aktuelle Düngerliste'!$A:$H,3,FALSE))","v":""},{"$f":"IF(DE12=\"\",\"\",VLOOKUP(DE12,'aktuelle Düngerliste'!$A:$H,8,FALSE))","v":""},{"$f":"IF(DE12=\"\",\"\",VLOOKUP(DE12,'aktuelle Düngerliste'!$A:$H,3,FALSE)*DG12/1000)","v":""},{"$f":"IF(DE12=\"\",\"\",IF(VLOOKUP(DE12,'aktuelle Düngerliste'!$A:$B,2,FALSE)=\"mineralisch\",(VLOOKUP(DE12,'aktuelle Düngerliste'!$A:$H,3,FALSE)*DG12/1000),\"\"))","v":""},{"$f":"IF(DE12=\"\",\"\",VLOOKUP(DE12,'aktuelle Düngerliste'!$A:$J,10,FALSE)*DG12/1000)","v":""},{"$f":"IF(DE12=\"\",\"\",VLOOKUP(DE12,'aktuelle Düngerliste'!$A:$H,5,FALSE)*DG12/1000)","v":""},{"$f":"IF(DE12=\"\",\"\",VLOOKUP(DE12,'aktuelle Düngerliste'!$A:$H,6,FALSE)*DG12/1000)","v":""},{"$f":"IF(DE12=\"\",\"\",VLOOKUP(DE12,'aktuelle Düngerliste'!$A:$H,7,FALSE)*DG12/1000)","v":""}]
[{"$f":"IF('N-DBE'!A13=\"\",\"\",'N-DBE'!A13)","v":""},{"$f":"IF('N-DBE'!B13=\"\",\"\",'N-DBE'!B13)","v":""},{"$f":"IF('N-DBE'!C13=\"\",\"\",'N-DBE'!C13)","v":""},{"$f":"IF('N-DBE'!D13=\"\",\"\",'N-DBE'!D13)","v":""},{"$f":"IF('N-DBE'!E13=\"\",\"\",'N-DBE'!E13)","v":""},{"$f":"IF('N-DBE'!F13=\"\",\"\",'N-DBE'!F13)","v":""},{"$f":"IF('N-DBE'!G13=\"\",\"\",'N-DBE'!G13)","v":""},{"$f":"IF(OR(B13=\"\",'N-DBE'!AJ13=\"\"),\"\",'N-DBE'!AJ13+'N-DBE'!AN13)","v":""},{"$f":"IF(OR(B13=\"\",'N-DBE'!AJ13=\"\"),\"\",'N-DBE'!E13*('N-DBE'!AJ13+'N-DBE'!AN13))","v":""},{"$f":"IF('N-DBE'!AK13=\"\",\"\",IF('N-DBE'!AM13=\"ja\",'N-DBE'!AK13+'N-DBE'!AN13,'N-DBE'!AK13))","v":""},{"$f":"IF(OR(B13=\"\",'N-DBE'!AK13=\"\"),\"\",IF('N-DBE'!AM13=\"ja\",'N-DBE'!E13*('N-DBE'!AK13+'N-DBE'!AN13),'N-DBE'!E13*'N-DBE'!AK13))","v":""},{"$f":"IF(OR(B13=\"\",'N-DBE'!AL13=\"\"),\"\",'N-DBE'!AL13+'N-DBE'!AN13)","v":""},{"$f":"IF(OR(B13=\"\",'N-DBE'!AL13=\"\"),\"\",'N-DBE'!E13*('N-DBE'!AL13+'N-DBE'!AN13))","v":""},{"$f":"IF(AND('N-DBE'!C13=\"ja\",G13<>\"\"),I13-X13,\"\")","v":""},{"$f":"IF('N-DBE'!AJ13=\"\",\"\",SUM(AU13,BI13,BW13,CK13,CY13,DM13))","v":""},{"$f":"IF(OR(B13=\"\",'N-DBE'!AJ13=\"\"),\"\",O13*'N-DBE'!E13)","v":""},{"$f":"IF('N-DBE'!AJ13=\"\",\"\",IF(AR13=\"mineralisch\",AU13,0)+IF(BF13=\"mineralisch\",BI13,0)+IF(BT13=\"mineralisch\",BW13,0)+IF(CH13=\"mineralisch\",CK13,0)+IF(CV13=\"mineralisch\",CY13,0)+IF(DJ13=\"mineralisch\",DM13,0))","v":""},{"$f":"IF(OR(B13=\"\",'N-DBE'!AJ13=\"\"),\"\",Q13*'N-DBE'!E13)","v":""},{"$f":"IF('N-DBE'!AJ13=\"\",\"\",O13-Q13)","v":""},{"$f":"IF(OR(B13=\"\",'N-DBE'!AJ13=\"\"),\"\",S13*'N-DBE'!E13)","v":""},{"$f":"IF('N-DBE'!AJ13=\"\",\"\",(IF(AR13=\"Kompost\",AU13,0)+IF(BF13=\"Kompost\",BI13,0)+IF(BT13=\"Kompost\",BW13,0)+IF(CH13=\"Kompost\",CK13,0)+IF(CV13=\"Kompost\",CY13,0)+IF(DJ13=\"Kompost\",DM13,0)))","v":""},{"$f":"IF(OR(B13=\"\",'N-DBE'!AJ13=\"\"),\"\",U13*'N-DBE'!E13)","v":""},{"$f":"IF('N-DBE'!AJ13=\"\",\"\",SUM(AW13,BK13,BY13,CM13,DA13,DO13))","v":""},{"$f":"IF(OR(B13=\"\",'N-DBE'!AJ13=\"\"),\"\",W13*'N-DBE'!E13)","v":""},{"$f":"IF('P-(K-Mg)-DBE'!N13=\"\",\"\",'P-(K-Mg)-DBE'!N13+'P-(K-Mg)-DBE'!R13)","v":""},{"$f":"IF(OR(B13=\"\",'P-(K-Mg)-DBE'!N13=\"\"),\"\",'N-DBE'!E13*('P-(K-Mg)-DBE'!N13+'P-(K-Mg)-DBE'!R13))","v":""},{"$f":"IF('P-(K-Mg)-DBE'!N13=\"\",\"\",SUM(AX13,BL13,BZ13,CN13,DB13,DP13))","v":""},{"$f":"IF(OR(B13=\"\",'P-(K-Mg)-DBE'!Z13=\"\"),\"\",SUM(AX13,BL13,BZ13,CN13,DB13,DP13)*'N-DBE'!E13)","v":""},{"$f":"IF('P-(K-Mg)-DBE'!O13=\"\",\"\",'P-(K-Mg)-DBE'!O13)","v":""},{"$f":"IF(OR(B13=\"\",'P-(K-Mg)-DBE'!O13=\"\"),\"\",'P-(K-Mg)-DBE'!O13*'N-DBE'!E13)","v":""},{"$f":"IF('P-(K-Mg)-DBE'!Z13=\"\",\"\",'P-(K-Mg)-DBE'!Z13)","v":""},{"$f":"IF(OR(B13=\"\",'P-(K-Mg)-DBE'!Z13=\"\"),\"\",'P-(K-Mg)-DBE'!Z13*'N-DBE'!E13)","v":""},{"$f":"IF('P-(K-Mg)-DBE'!Z13=\"\",\"\",SUM(AY13,BM13,CA13,CO13,DC13,DQ13))","v":""},{"$f":"IF(OR(B13=\"\",'P-(K-Mg)-DBE'!AH13=\"\"),\"\",SUM(AY13,BM13,CA13,CO13,DC13,DQ3)*'N-DBE'!E13)","v":""},{"$f":"IF('P-(K-Mg)-DBE'!AH13=\"\",\"\",'P-(K-Mg)-DBE'!AH13)","v":""},{"$f":"IF(OR(B13=\"\",'P-(K-Mg)-DBE'!AH13=\"\"),\"\",'N-DBE'!E13*'P-(K-Mg)-DBE'!AH13)","v":""},{"$f":"IF('P-(K-Mg)-DBE'!AH13=\"\",\"\",SUM(AZ13,BN13,CB13,CP13,DD13,DR13))","v":""},{"$f":"IF('P-(K-Mg)-DBE'!AH13=\"\",\"\",SUM(AZ13,BN13,CB13,CP13,DD13,DR13))","v":""},null,null,null,"","",{"$f":"IF(AM13=\"\",\"\",VLOOKUP(AM13,'aktuelle Düngerliste'!A:H,2,FALSE))","v":""},{"$f":"IF(AM13=\"\",\"\",VLOOKUP(AM13,'aktuelle Düngerliste'!A:H,3,FALSE))","v":""},{"$f":"IF(AM13=\"\",\"\",VLOOKUP(AM13,'aktuelle Düngerliste'!A:H,8,FALSE))","v":""},{"$f":"IF(AM13=\"\",\"\",VLOOKUP(AM13,'aktuelle Düngerliste'!$A:$H,3,FALSE)*AO13/1000)","v":""},{"$f":"IF(AM13=\"\",\"\",IF(VLOOKUP(AM13,'aktuelle Düngerliste'!$A:$B,2,FALSE)=\"mineralisch\",(VLOOKUP(AM13,'aktuelle Düngerliste'!$A:$H,3,FALSE)*AO13/1000),\"\"))","v":""},{"$f":"IF(AM13=\"\",\"\",VLOOKUP(AM13,'aktuelle Düngerliste'!$A:$J,10,FALSE)*AO13/1000)","v":""},{"$f":"IF(AM13=\"\",\"\",VLOOKUP(AM13,'aktuelle Düngerliste'!$A:$H,5,FALSE)*AO13/1000)","v":""},{"$f":"IF(AM13=\"\",\"\",VLOOKUP(AM13,'aktuelle Düngerliste'!$A:$H,6,FALSE)*AO13/1000)","v":""},{"$f":"IF(AM13=\"\",\"\",VLOOKUP(AM13,'aktuelle Düngerliste'!$A:$H,7,FALSE)*AO13/1000)","v":""},null,null,null,"","",{"$f":"IF(BA13=\"\",\"\",VLOOKUP(BA13,'aktuelle Düngerliste'!$A:$H,2,FALSE))","v":""},{"$f":"IF(BA13=\"\",\"\",VLOOKUP(BA13,'aktuelle Düngerliste'!$A:$H,3,FALSE))","v":""},{"$f":"IF(BA13=\"\",\"\",VLOOKUP(BA13,'aktuelle Düngerliste'!$A:$H,8,FALSE))","v":""},{"$f":"IF(BA13=\"\",\"\",VLOOKUP(BA13,'aktuelle Düngerliste'!$A:$H,3,FALSE)*BC13/1000)","v":""},{"$f":"IF(BA13=\"\",\"\",IF(VLOOKUP(BA13,'aktuelle Düngerliste'!$A:$B,2,FALSE)=\"mineralisch\",(VLOOKUP(BA13,'aktuelle Düngerliste'!$A:$H,3,FALSE)*BC13/1000),\"\"))","v":""},{"$f":"IF(BA13=\"\",\"\",VLOOKUP(BA13,'aktuelle Düngerliste'!$A:$J,10,FALSE)*BC13/1000)","v":""},{"$f":"IF(BA13=\"\",\"\",VLOOKUP(BA13,'aktuelle Düngerliste'!$A:$H,5,FALSE)*BC13/1000)","v":""},{"$f":"IF(BA13=\"\",\"\",VLOOKUP(BA13,'aktuelle Düngerliste'!$A:$H,6,FALSE)*BC13/1000)","v":""},{"$f":"IF(BA13=\"\",\"\",VLOOKUP(BA13,'aktuelle Düngerliste'!$A:$H,7,FALSE)*BC13/1000)","v":""},null,null,null,"","",{"$f":"IF(BO13=\"\",\"\",VLOOKUP(BO13,'aktuelle Düngerliste'!$A:$H,2,FALSE))","v":""},{"$f":"IF(BO13=\"\",\"\",VLOOKUP(BO13,'aktuelle Düngerliste'!$A:$H,3,FALSE))","v":""},{"$f":"IF(BO13=\"\",\"\",VLOOKUP(BO13,'aktuelle Düngerliste'!$A:$H,8,FALSE))","v":""},{"$f":"IF(BO13=\"\",\"\",VLOOKUP(BO13,'aktuelle Düngerliste'!$A:$H,3,FALSE)*BQ13/1000)","v":""},{"$f":"IF(BO13=\"\",\"\",IF(VLOOKUP(BO13,'aktuelle Düngerliste'!$A:$B,2,FALSE)=\"mineralisch\",(VLOOKUP(BO13,'aktuelle Düngerliste'!$A:$H,3,FALSE)*BQ13/1000),\"\"))","v":""},{"$f":"IF(BO13=\"\",\"\",VLOOKUP(BO13,'aktuelle Düngerliste'!$A:$J,10,FALSE)*BQ13/1000)","v":""},{"$f":"IF(BO13=\"\",\"\",VLOOKUP(BO13,'aktuelle Düngerliste'!$A:$H,5,FALSE)*BQ13/1000)","v":""},{"$f":"IF(BO13=\"\",\"\",VLOOKUP(BO13,'aktuelle Düngerliste'!$A:$H,6,FALSE)*BQ13/1000)","v":""},{"$f":"IF(BO13=\"\",\"\",VLOOKUP(BO13,'aktuelle Düngerliste'!$A:$H,7,FALSE)*BQ13/1000)","v":""},null,null,null,"","",{"$f":"IF(CC13=\"\",\"\",VLOOKUP(CC13,'aktuelle Düngerliste'!$A:$H,2,FALSE))","v":""},{"$f":"IF(CC13=\"\",\"\",VLOOKUP(CC13,'aktuelle Düngerliste'!$A:$H,3,FALSE))","v":""},{"$f":"IF(CC13=\"\",\"\",VLOOKUP(CC13,'aktuelle Düngerliste'!$A:$H,8,FALSE))","v":""},{"$f":"IF(CC13=\"\",\"\",VLOOKUP(CC13,'aktuelle Düngerliste'!$A:$H,3,FALSE)*CE13/1000)","v":""},{"$f":"IF(CC13=\"\",\"\",IF(VLOOKUP(CC13,'aktuelle Düngerliste'!$A:$B,2,FALSE)=\"mineralisch\",(VLOOKUP(CC13,'aktuelle Düngerliste'!$A:$H,3,FALSE)*CE13/1000),\"\"))","v":""},{"$f":"IF(CC13=\"\",\"\",VLOOKUP(CC13,'aktuelle Düngerliste'!$A:$J,10,FALSE)*CE13/1000)","v":""},{"$f":"IF(CC13=\"\",\"\",VLOOKUP(CC13,'aktuelle Düngerliste'!$A:$H,5,FALSE)*CE13/1000)","v":""},{"$f":"IF(CC13=\"\",\"\",VLOOKUP(CC13,'aktuelle Düngerliste'!$A:$H,6,FALSE)*CE13/1000)","v":""},{"$f":"IF(CC13=\"\",\"\",VLOOKUP(CC13,'aktuelle Düngerliste'!$A:$H,7,FALSE)*CE13/1000)","v":""},null,null,null,"","",{"$f":"IF(CQ13=\"\",\"\",VLOOKUP(CQ13,'aktuelle Düngerliste'!$A:$H,2,FALSE))","v":""},{"$f":"IF(CQ13=\"\",\"\",VLOOKUP(CQ13,'aktuelle Düngerliste'!$A:$H,3,FALSE))","v":""},{"$f":"IF(CQ13=\"\",\"\",VLOOKUP(CQ13,'aktuelle Düngerliste'!$A:$H,8,FALSE))","v":""},{"$f":"IF(CQ13=\"\",\"\",VLOOKUP(CQ13,'aktuelle Düngerliste'!$A:$H,3,FALSE)*CS13/1000)","v":""},{"$f":"IF(CQ13=\"\",\"\",IF(VLOOKUP(CQ13,'aktuelle Düngerliste'!$A:$B,2,FALSE)=\"mineralisch\",(VLOOKUP(CQ13,'aktuelle Düngerliste'!$A:$H,3,FALSE)*CS13/1000),\"\"))","v":""},{"$f":"IF(CQ13=\"\",\"\",VLOOKUP(CQ13,'aktuelle Düngerliste'!$A:$J,10,FALSE)*CS13/1000)","v":""},{"$f":"IF(CQ13=\"\",\"\",VLOOKUP(CQ13,'aktuelle Düngerliste'!$A:$H,5,FALSE)*CS13/1000)","v":""},{"$f":"IF(CQ13=\"\",\"\",VLOOKUP(CQ13,'aktuelle Düngerliste'!$A:$H,6,FALSE)*CS13/1000)","v":""},{"$f":"IF(CQ13=\"\",\"\",VLOOKUP(CQ13,'aktuelle Düngerliste'!$A:$H,7,FALSE)*CS13/1000)","v":""},null,null,null,"","",{"$f":"IF(DE13=\"\",\"\",VLOOKUP(DE13,'aktuelle Düngerliste'!$A:$H,2,FALSE))","v":""},{"$f":"IF(DE13=\"\",\"\",VLOOKUP(DE13,'aktuelle Düngerliste'!$A:$H,3,FALSE))","v":""},{"$f":"IF(DE13=\"\",\"\",VLOOKUP(DE13,'aktuelle Düngerliste'!$A:$H,8,FALSE))","v":""},{"$f":"IF(DE13=\"\",\"\",VLOOKUP(DE13,'aktuelle Düngerliste'!$A:$H,3,FALSE)*DG13/1000)","v":""},{"$f":"IF(DE13=\"\",\"\",IF(VLOOKUP(DE13,'aktuelle Düngerliste'!$A:$B,2,FALSE)=\"mineralisch\",(VLOOKUP(DE13,'aktuelle Düngerliste'!$A:$H,3,FALSE)*DG13/1000),\"\"))","v":""},{"$f":"IF(DE13=\"\",\"\",VLOOKUP(DE13,'aktuelle Düngerliste'!$A:$J,10,FALSE)*DG13/1000)","v":""},{"$f":"IF(DE13=\"\",\"\",VLOOKUP(DE13,'aktuelle Düngerliste'!$A:$H,5,FALSE)*DG13/1000)","v":""},{"$f":"IF(DE13=\"\",\"\",VLOOKUP(DE13,'aktuelle Düngerliste'!$A:$H,6,FALSE)*DG13/1000)","v":""},{"$f":"IF(DE13=\"\",\"\",VLOOKUP(DE13,'aktuelle Düngerliste'!$A:$H,7,FALSE)*DG13/1000)","v":""}]
[{"$f":"IF('N-DBE'!A14=\"\",\"\",'N-DBE'!A14)","v":""},{"$f":"IF('N-DBE'!B14=\"\",\"\",'N-DBE'!B14)","v":""},{"$f":"IF('N-DBE'!C14=\"\",\"\",'N-DBE'!C14)","v":""},{"$f":"IF('N-DBE'!D14=\"\",\"\",'N-DBE'!D14)","v":""},{"$f":"IF('N-DBE'!E14=\"\",\"\",'N-DBE'!E14)","v":""},{"$f":"IF('N-DBE'!F14=\"\",\"\",'N-DBE'!F14)","v":""},{"$f":"IF('N-DBE'!G14=\"\",\"\",'N-DBE'!G14)","v":""},{"$f":"IF(OR(B14=\"\",'N-DBE'!AJ14=\"\"),\"\",'N-DBE'!AJ14+'N-DBE'!AN14)","v":""},{"$f":"IF(OR(B14=\"\",'N-DBE'!AJ14=\"\"),\"\",'N-DBE'!E14*('N-DBE'!AJ14+'N-DBE'!AN14))","v":""},{"$f":"IF('N-DBE'!AK14=\"\",\"\",IF('N-DBE'!AM14=\"ja\",'N-DBE'!AK14+'N-DBE'!AN14,'N-DBE'!AK14))","v":""},{"$f":"IF(OR(B14=\"\",'N-DBE'!AK14=\"\"),\"\",IF('N-DBE'!AM14=\"ja\",'N-DBE'!E14*('N-DBE'!AK14+'N-DBE'!AN14),'N-DBE'!E14*'N-DBE'!AK14))","v":""},{"$f":"IF(OR(B14=\"\",'N-DBE'!AL14=\"\"),\"\",'N-DBE'!AL14+'N-DBE'!AN14)","v":""},{"$f":"IF(OR(B14=\"\",'N-DBE'!AL14=\"\"),\"\",'N-DBE'!E14*('N-DBE'!AL14+'N-DBE'!AN14))","v":""},{"$f":"IF(AND('N-DBE'!C14=\"ja\",G14<>\"\"),I14-X14,\"\")","v":""},{"$f":"IF('N-DBE'!AJ14=\"\",\"\",SUM(AU14,BI14,BW14,CK14,CY14,DM14))","v":""},{"$f":"IF(OR(B14=\"\",'N-DBE'!AJ14=\"\"),\"\",O14*'N-DBE'!E14)","v":""},{"$f":"IF('N-DBE'!AJ14=\"\",\"\",IF(AR14=\"mineralisch\",AU14,0)+IF(BF14=\"mineralisch\",BI14,0)+IF(BT14=\"mineralisch\",BW14,0)+IF(CH14=\"mineralisch\",CK14,0)+IF(CV14=\"mineralisch\",CY14,0)+IF(DJ14=\"mineralisch\",DM14,0))","v":""},{"$f":"IF(OR(B14=\"\",'N-DBE'!AJ14=\"\"),\"\",Q14*'N-DBE'!E14)","v":""},{"$f":"IF('N-DBE'!AJ14=\"\",\"\",O14-Q14)","v":""},{"$f":"IF(OR(B14=\"\",'N-DBE'!AJ14=\"\"),\"\",S14*'N-DBE'!E14)","v":""},{"$f":"IF('N-DBE'!AJ14=\"\",\"\",(IF(AR14=\"Kompost\",AU14,0)+IF(BF14=\"Kompost\",BI14,0)+IF(BT14=\"Kompost\",BW14,0)+IF(CH14=\"Kompost\",CK14,0)+IF(CV14=\"Kompost\",CY14,0)+IF(DJ14=\"Kompost\",DM14,0)))","v":""},{"$f":"IF(OR(B14=\"\",'N-DBE'!AJ14=\"\"),\"\",U14*'N-DBE'!E14)","v":""},{"$f":"IF('N-DBE'!AJ14=\"\",\"\",SUM(AW14,BK14,BY14,CM14,DA14,DO14))","v":""},{"$f":"IF(OR(B14=\"\",'N-DBE'!AJ14=\"\"),\"\",W14*'N-DBE'!E14)","v":""},{"$f":"IF('P-(K-Mg)-DBE'!N14=\"\",\"\",'P-(K-Mg)-DBE'!N14+'P-(K-Mg)-DBE'!R14)","v":""},{"$f":"IF(OR(B14=\"\",'P-(K-Mg)-DBE'!N14=\"\"),\"\",'N-DBE'!E14*('P-(K-Mg)-DBE'!N14+'P-(K-Mg)-DBE'!R14))","v":""},{"$f":"IF('P-(K-Mg)-DBE'!N14=\"\",\"\",SUM(AX14,BL14,BZ14,CN14,DB14,DP14))","v":""},{"$f":"IF(OR(B14=\"\",'P-(K-Mg)-DBE'!Z14=\"\"),\"\",SUM(AX14,BL14,BZ14,CN14,DB14,DP14)*'N-DBE'!E14)","v":""},{"$f":"IF('P-(K-Mg)-DBE'!O14=\"\",\"\",'P-(K-Mg)-DBE'!O14)","v":""},{"$f":"IF(OR(B14=\"\",'P-(K-Mg)-DBE'!O14=\"\"),\"\",'P-(K-Mg)-DBE'!O14*'N-DBE'!E14)","v":""},{"$f":"IF('P-(K-Mg)-DBE'!Z14=\"\",\"\",'P-(K-Mg)-DBE'!Z14)","v":""},{"$f":"IF(OR(B14=\"\",'P-(K-Mg)-DBE'!Z14=\"\"),\"\",'P-(K-Mg)-DBE'!Z14*'N-DBE'!E14)","v":""},{"$f":"IF('P-(K-Mg)-DBE'!Z14=\"\",\"\",SUM(AY14,BM14,CA14,CO14,DC14,DQ14))","v":""},{"$f":"IF(OR(B14=\"\",'P-(K-Mg)-DBE'!AH14=\"\"),\"\",SUM(AY14,BM14,CA14,CO14,DC14,DQ4)*'N-DBE'!E14)","v":""},{"$f":"IF('P-(K-Mg)-DBE'!AH14=\"\",\"\",'P-(K-Mg)-DBE'!AH14)","v":""},{"$f":"IF(OR(B14=\"\",'P-(K-Mg)-DBE'!AH14=\"\"),\"\",'N-DBE'!E14*'P-(K-Mg)-DBE'!AH14)","v":""},{"$f":"IF('P-(K-Mg)-DBE'!AH14=\"\",\"\",SUM(AZ14,BN14,CB14,CP14,DD14,DR14))","v":""},{"$f":"IF('P-(K-Mg)-DBE'!AH14=\"\",\"\",SUM(AZ14,BN14,CB14,CP14,DD14,DR14))","v":""},null,null,null,"","",{"$f":"IF(AM14=\"\",\"\",VLOOKUP(AM14,'aktuelle Düngerliste'!A:H,2,FALSE))","v":""},{"$f":"IF(AM14=\"\",\"\",VLOOKUP(AM14,'aktuelle Düngerliste'!A:H,3,FALSE))","v":""},{"$f":"IF(AM14=\"\",\"\",VLOOKUP(AM14,'aktuelle Düngerliste'!A:H,8,FALSE))","v":""},{"$f":"IF(AM14=\"\",\"\",VLOOKUP(AM14,'aktuelle Düngerliste'!$A:$H,3,FALSE)*AO14/1000)","v":""},{"$f":"IF(AM14=\"\",\"\",IF(VLOOKUP(AM14,'aktuelle Düngerliste'!$A:$B,2,FALSE)=\"mineralisch\",(VLOOKUP(AM14,'aktuelle Düngerliste'!$A:$H,3,FALSE)*AO14/1000),\"\"))","v":""},{"$f":"IF(AM14=\"\",\"\",VLOOKUP(AM14,'aktuelle Düngerliste'!$A:$J,10,FALSE)*AO14/1000)","v":""},{"$f":"IF(AM14=\"\",\"\",VLOOKUP(AM14,'aktuelle Düngerliste'!$A:$H,5,FALSE)*AO14/1000)","v":""},{"$f":"IF(AM14=\"\",\"\",VLOOKUP(AM14,'aktuelle Düngerliste'!$A:$H,6,FALSE)*AO14/1000)","v":""},{"$f":"IF(AM14=\"\",\"\",VLOOKUP(AM14,'aktuelle Düngerliste'!$A:$H,7,FALSE)*AO14/1000)","v":""},null,null,null,"","",{"$f":"IF(BA14=\"\",\"\",VLOOKUP(BA14,'aktuelle Düngerliste'!$A:$H,2,FALSE))","v":""},{"$f":"IF(BA14=\"\",\"\",VLOOKUP(BA14,'aktuelle Düngerliste'!$A:$H,3,FALSE))","v":""},{"$f":"IF(BA14=\"\",\"\",VLOOKUP(BA14,'aktuelle Düngerliste'!$A:$H,8,FALSE))","v":""},{"$f":"IF(BA14=\"\",\"\",VLOOKUP(BA14,'aktuelle Düngerliste'!$A:$H,3,FALSE)*BC14/1000)","v":""},{"$f":"IF(BA14=\"\",\"\",IF(VLOOKUP(BA14,'aktuelle Düngerliste'!$A:$B,2,FALSE)=\"mineralisch\",(VLOOKUP(BA14,'aktuelle Düngerliste'!$A:$H,3,FALSE)*BC14/1000),\"\"))","v":""},{"$f":"IF(BA14=\"\",\"\",VLOOKUP(BA14,'aktuelle Düngerliste'!$A:$J,10,FALSE)*BC14/1000)","v":""},{"$f":"IF(BA14=\"\",\"\",VLOOKUP(BA14,'aktuelle Düngerliste'!$A:$H,5,FALSE)*BC14/1000)","v":""},{"$f":"IF(BA14=\"\",\"\",VLOOKUP(BA14,'aktuelle Düngerliste'!$A:$H,6,FALSE)*BC14/1000)","v":""},{"$f":"IF(BA14=\"\",\"\",VLOOKUP(BA14,'aktuelle Düngerliste'!$A:$H,7,FALSE)*BC14/1000)","v":""},null,null,null,"","",{"$f":"IF(BO14=\"\",\"\",VLOOKUP(BO14,'aktuelle Düngerliste'!$A:$H,2,FALSE))","v":""},{"$f":"IF(BO14=\"\",\"\",VLOOKUP(BO14,'aktuelle Düngerliste'!$A:$H,3,FALSE))","v":""},{"$f":"IF(BO14=\"\",\"\",VLOOKUP(BO14,'aktuelle Düngerliste'!$A:$H,8,FALSE))","v":""},{"$f":"IF(BO14=\"\",\"\",VLOOKUP(BO14,'aktuelle Düngerliste'!$A:$H,3,FALSE)*BQ14/1000)","v":""},{"$f":"IF(BO14=\"\",\"\",IF(VLOOKUP(BO14,'aktuelle Düngerliste'!$A:$B,2,FALSE)=\"mineralisch\",(VLOOKUP(BO14,'aktuelle Düngerliste'!$A:$H,3,FALSE)*BQ14/1000),\"\"))","v":""},{"$f":"IF(BO14=\"\",\"\",VLOOKUP(BO14,'aktuelle Düngerliste'!$A:$J,10,FALSE)*BQ14/1000)","v":""},{"$f":"IF(BO14=\"\",\"\",VLOOKUP(BO14,'aktuelle Düngerliste'!$A:$H,5,FALSE)*BQ14/1000)","v":""},{"$f":"IF(BO14=\"\",\"\",VLOOKUP(BO14,'aktuelle Düngerliste'!$A:$H,6,FALSE)*BQ14/1000)","v":""},{"$f":"IF(BO14=\"\",\"\",VLOOKUP(BO14,'aktuelle Düngerliste'!$A:$H,7,FALSE)*BQ14/1000)","v":""},null,null,null,"","",{"$f":"IF(CC14=\"\",\"\",VLOOKUP(CC14,'aktuelle Düngerliste'!$A:$H,2,FALSE))","v":""},{"$f":"IF(CC14=\"\",\"\",VLOOKUP(CC14,'aktuelle Düngerliste'!$A:$H,3,FALSE))","v":""},{"$f":"IF(CC14=\"\",\"\",VLOOKUP(CC14,'aktuelle Düngerliste'!$A:$H,8,FALSE))","v":""},{"$f":"IF(CC14=\"\",\"\",VLOOKUP(CC14,'aktuelle Düngerliste'!$A:$H,3,FALSE)*CE14/1000)","v":""},{"$f":"IF(CC14=\"\",\"\",IF(VLOOKUP(CC14,'aktuelle Düngerliste'!$A:$B,2,FALSE)=\"mineralisch\",(VLOOKUP(CC14,'aktuelle Düngerliste'!$A:$H,3,FALSE)*CE14/1000),\"\"))","v":""},{"$f":"IF(CC14=\"\",\"\",VLOOKUP(CC14,'aktuelle Düngerliste'!$A:$J,10,FALSE)*CE14/1000)","v":""},{"$f":"IF(CC14=\"\",\"\",VLOOKUP(CC14,'aktuelle Düngerliste'!$A:$H,5,FALSE)*CE14/1000)","v":""},{"$f":"IF(CC14=\"\",\"\",VLOOKUP(CC14,'aktuelle Düngerliste'!$A:$H,6,FALSE)*CE14/1000)","v":""},{"$f":"IF(CC14=\"\",\"\",VLOOKUP(CC14,'aktuelle Düngerliste'!$A:$H,7,FALSE)*CE14/1000)","v":""},null,null,null,"","",{"$f":"IF(CQ14=\"\",\"\",VLOOKUP(CQ14,'aktuelle Düngerliste'!$A:$H,2,FALSE))","v":""},{"$f":"IF(CQ14=\"\",\"\",VLOOKUP(CQ14,'aktuelle Düngerliste'!$A:$H,3,FALSE))","v":""},{"$f":"IF(CQ14=\"\",\"\",VLOOKUP(CQ14,'aktuelle Düngerliste'!$A:$H,8,FALSE))","v":""},{"$f":"IF(CQ14=\"\",\"\",VLOOKUP(CQ14,'aktuelle Düngerliste'!$A:$H,3,FALSE)*CS14/1000)","v":""},{"$f":"IF(CQ14=\"\",\"\",IF(VLOOKUP(CQ14,'aktuelle Düngerliste'!$A:$B,2,FALSE)=\"mineralisch\",(VLOOKUP(CQ14,'aktuelle Düngerliste'!$A:$H,3,FALSE)*CS14/1000),\"\"))","v":""},{"$f":"IF(CQ14=\"\",\"\",VLOOKUP(CQ14,'aktuelle Düngerliste'!$A:$J,10,FALSE)*CS14/1000)","v":""},{"$f":"IF(CQ14=\"\",\"\",VLOOKUP(CQ14,'aktuelle Düngerliste'!$A:$H,5,FALSE)*CS14/1000)","v":""},{"$f":"IF(CQ14=\"\",\"\",VLOOKUP(CQ14,'aktuelle Düngerliste'!$A:$H,6,FALSE)*CS14/1000)","v":""},{"$f":"IF(CQ14=\"\",\"\",VLOOKUP(CQ14,'aktuelle Düngerliste'!$A:$H,7,FALSE)*CS14/1000)","v":""},null,null,null,"","",{"$f":"IF(DE14=\"\",\"\",VLOOKUP(DE14,'aktuelle Düngerliste'!$A:$H,2,FALSE))","v":""},{"$f":"IF(DE14=\"\",\"\",VLOOKUP(DE14,'aktuelle Düngerliste'!$A:$H,3,FALSE))","v":""},{"$f":"IF(DE14=\"\",\"\",VLOOKUP(DE14,'aktuelle Düngerliste'!$A:$H,8,FALSE))","v":""},{"$f":"IF(DE14=\"\",\"\",VLOOKUP(DE14,'aktuelle Düngerliste'!$A:$H,3,FALSE)*DG14/1000)","v":""},{"$f":"IF(DE14=\"\",\"\",IF(VLOOKUP(DE14,'aktuelle Düngerliste'!$A:$B,2,FALSE)=\"mineralisch\",(VLOOKUP(DE14,'aktuelle Düngerliste'!$A:$H,3,FALSE)*DG14/1000),\"\"))","v":""},{"$f":"IF(DE14=\"\",\"\",VLOOKUP(DE14,'aktuelle Düngerliste'!$A:$J,10,FALSE)*DG14/1000)","v":""},{"$f":"IF(DE14=\"\",\"\",VLOOKUP(DE14,'aktuelle Düngerliste'!$A:$H,5,FALSE)*DG14/1000)","v":""},{"$f":"IF(DE14=\"\",\"\",VLOOKUP(DE14,'aktuelle Düngerliste'!$A:$H,6,FALSE)*DG14/1000)","v":""},{"$f":"IF(DE14=\"\",\"\",VLOOKUP(DE14,'aktuelle Düngerliste'!$A:$H,7,FALSE)*DG14/1000)","v":""}]
[{"$f":"IF('N-DBE'!A15=\"\",\"\",'N-DBE'!A15)","v":""},{"$f":"IF('N-DBE'!B15=\"\",\"\",'N-DBE'!B15)","v":""},{"$f":"IF('N-DBE'!C15=\"\",\"\",'N-DBE'!C15)","v":""},{"$f":"IF('N-DBE'!D15=\"\",\"\",'N-DBE'!D15)","v":""},{"$f":"IF('N-DBE'!E15=\"\",\"\",'N-DBE'!E15)","v":""},{"$f":"IF('N-DBE'!F15=\"\",\"\",'N-DBE'!F15)","v":""},{"$f":"IF('N-DBE'!G15=\"\",\"\",'N-DBE'!G15)","v":""},{"$f":"IF(OR(B15=\"\",'N-DBE'!AJ15=\"\"),\"\",'N-DBE'!AJ15+'N-DBE'!AN15)","v":""},{"$f":"IF(OR(B15=\"\",'N-DBE'!AJ15=\"\"),\"\",'N-DBE'!E15*('N-DBE'!AJ15+'N-DBE'!AN15))","v":""},{"$f":"IF('N-DBE'!AK15=\"\",\"\",IF('N-DBE'!AM15=\"ja\",'N-DBE'!AK15+'N-DBE'!AN15,'N-DBE'!AK15))","v":""},{"$f":"IF(OR(B15=\"\",'N-DBE'!AK15=\"\"),\"\",IF('N-DBE'!AM15=\"ja\",'N-DBE'!E15*('N-DBE'!AK15+'N-DBE'!AN15),'N-DBE'!E15*'N-DBE'!AK15))","v":""},{"$f":"IF(OR(B15=\"\",'N-DBE'!AL15=\"\"),\"\",'N-DBE'!AL15+'N-DBE'!AN15)","v":""},{"$f":"IF(OR(B15=\"\",'N-DBE'!AL15=\"\"),\"\",'N-DBE'!E15*('N-DBE'!AL15+'N-DBE'!AN15))","v":""},{"$f":"IF(AND('N-DBE'!C15=\"ja\",G15<>\"\"),I15-X15,\"\")","v":""},{"$f":"IF('N-DBE'!AJ15=\"\",\"\",SUM(AU15,BI15,BW15,CK15,CY15,DM15))","v":""},{"$f":"IF(OR(B15=\"\",'N-DBE'!AJ15=\"\"),\"\",O15*'N-DBE'!E15)","v":""},{"$f":"IF('N-DBE'!AJ15=\"\",\"\",IF(AR15=\"mineralisch\",AU15,0)+IF(BF15=\"mineralisch\",BI15,0)+IF(BT15=\"mineralisch\",BW15,0)+IF(CH15=\"mineralisch\",CK15,0)+IF(CV15=\"mineralisch\",CY15,0)+IF(DJ15=\"mineralisch\",DM15,0))","v":""},{"$f":"IF(OR(B15=\"\",'N-DBE'!AJ15=\"\"),\"\",Q15*'N-DBE'!E15)","v":""},{"$f":"IF('N-DBE'!AJ15=\"\",\"\",O15-Q15)","v":""},{"$f":"IF(OR(B15=\"\",'N-DBE'!AJ15=\"\"),\"\",S15*'N-DBE'!E15)","v":""},{"$f":"IF('N-DBE'!AJ15=\"\",\"\",(IF(AR15=\"Kompost\",AU15,0)+IF(BF15=\"Kompost\",BI15,0)+IF(BT15=\"Kompost\",BW15,0)+IF(CH15=\"Kompost\",CK15,0)+IF(CV15=\"Kompost\",CY15,0)+IF(DJ15=\"Kompost\",DM15,0)))","v":""},{"$f":"IF(OR(B15=\"\",'N-DBE'!AJ15=\"\"),\"\",U15*'N-DBE'!E15)","v":""},{"$f":"IF('N-DBE'!AJ15=\"\",\"\",SUM(AW15,BK15,BY15,CM15,DA15,DO15))","v":""},{"$f":"IF(OR(B15=\"\",'N-DBE'!AJ15=\"\"),\"\",W15*'N-DBE'!E15)","v":""},{"$f":"IF('P-(K-Mg)-DBE'!N15=\"\",\"\",'P-(K-Mg)-DBE'!N15+'P-(K-Mg)-DBE'!R15)","v":""},{"$f":"IF(OR(B15=\"\",'P-(K-Mg)-DBE'!N15=\"\"),\"\",'N-DBE'!E15*('P-(K-Mg)-DBE'!N15+'P-(K-Mg)-DBE'!R15))","v":""},{"$f":"IF('P-(K-Mg)-DBE'!N15=\"\",\"\",SUM(AX15,BL15,BZ15,CN15,DB15,DP15))","v":""},{"$f":"IF(OR(B15=\"\",'P-(K-Mg)-DBE'!Z15=\"\"),\"\",SUM(AX15,BL15,BZ15,CN15,DB15,DP15)*'N-DBE'!E15)","v":""},{"$f":"IF('P-(K-Mg)-DBE'!O15=\"\",\"\",'P-(K-Mg)-DBE'!O15)","v":""},{"$f":"IF(OR(B15=\"\",'P-(K-Mg)-DBE'!O15=\"\"),\"\",'P-(K-Mg)-DBE'!O15*'N-DBE'!E15)","v":""},{"$f":"IF('P-(K-Mg)-DBE'!Z15=\"\",\"\",'P-(K-Mg)-DBE'!Z15)","v":""},{"$f":"IF(OR(B15=\"\",'P-(K-Mg)-DBE'!Z15=\"\"),\"\",'P-(K-Mg)-DBE'!Z15*'N-DBE'!E15)","v":""},{"$f":"IF('P-(K-Mg)-DBE'!Z15=\"\",\"\",SUM(AY15,BM15,CA15,CO15,DC15,DQ15))","v":""},{"$f":"IF(OR(B15=\"\",'P-(K-Mg)-DBE'!AH15=\"\"),\"\",SUM(AY15,BM15,CA15,CO15,DC15,DQ5)*'N-DBE'!E15)","v":""},{"$f":"IF('P-(K-Mg)-DBE'!AH15=\"\",\"\",'P-(K-Mg)-DBE'!AH15)","v":""},{"$f":"IF(OR(B15=\"\",'P-(K-Mg)-DBE'!AH15=\"\"),\"\",'N-DBE'!E15*'P-(K-Mg)-DBE'!AH15)","v":""},{"$f":"IF('P-(K-Mg)-DBE'!AH15=\"\",\"\",SUM(AZ15,BN15,CB15,CP15,DD15,DR15))","v":""},{"$f":"IF('P-(K-Mg)-DBE'!AH15=\"\",\"\",SUM(AZ15,BN15,CB15,CP15,DD15,DR15))","v":""},null,null,null,"","",{"$f":"IF(AM15=\"\",\"\",VLOOKUP(AM15,'aktuelle Düngerliste'!A:H,2,FALSE))","v":""},{"$f":"IF(AM15=\"\",\"\",VLOOKUP(AM15,'aktuelle Düngerliste'!A:H,3,FALSE))","v":""},{"$f":"IF(AM15=\"\",\"\",VLOOKUP(AM15,'aktuelle Düngerliste'!A:H,8,FALSE))","v":""},{"$f":"IF(AM15=\"\",\"\",VLOOKUP(AM15,'aktuelle Düngerliste'!$A:$H,3,FALSE)*AO15/1000)","v":""},{"$f":"IF(AM15=\"\",\"\",IF(VLOOKUP(AM15,'aktuelle Düngerliste'!$A:$B,2,FALSE)=\"mineralisch\",(VLOOKUP(AM15,'aktuelle Düngerliste'!$A:$H,3,FALSE)*AO15/1000),\"\"))","v":""},{"$f":"IF(AM15=\"\",\"\",VLOOKUP(AM15,'aktuelle Düngerliste'!$A:$J,10,FALSE)*AO15/1000)","v":""},{"$f":"IF(AM15=\"\",\"\",VLOOKUP(AM15,'aktuelle Düngerliste'!$A:$H,5,FALSE)*AO15/1000)","v":""},{"$f":"IF(AM15=\"\",\"\",VLOOKUP(AM15,'aktuelle Düngerliste'!$A:$H,6,FALSE)*AO15/1000)","v":""},{"$f":"IF(AM15=\"\",\"\",VLOOKUP(AM15,'aktuelle Düngerliste'!$A:$H,7,FALSE)*AO15/1000)","v":""},null,null,null,"","",{"$f":"IF(BA15=\"\",\"\",VLOOKUP(BA15,'aktuelle Düngerliste'!$A:$H,2,FALSE))","v":""},{"$f":"IF(BA15=\"\",\"\",VLOOKUP(BA15,'aktuelle Düngerliste'!$A:$H,3,FALSE))","v":""},{"$f":"IF(BA15=\"\",\"\",VLOOKUP(BA15,'aktuelle Düngerliste'!$A:$H,8,FALSE))","v":""},{"$f":"IF(BA15=\"\",\"\",VLOOKUP(BA15,'aktuelle Düngerliste'!$A:$H,3,FALSE)*BC15/1000)","v":""},{"$f":"IF(BA15=\"\",\"\",IF(VLOOKUP(BA15,'aktuelle Düngerliste'!$A:$B,2,FALSE)=\"mineralisch\",(VLOOKUP(BA15,'aktuelle Düngerliste'!$A:$H,3,FALSE)*BC15/1000),\"\"))","v":""},{"$f":"IF(BA15=\"\",\"\",VLOOKUP(BA15,'aktuelle Düngerliste'!$A:$J,10,FALSE)*BC15/1000)","v":""},{"$f":"IF(BA15=\"\",\"\",VLOOKUP(BA15,'aktuelle Düngerliste'!$A:$H,5,FALSE)*BC15/1000)","v":""},{"$f":"IF(BA15=\"\",\"\",VLOOKUP(BA15,'aktuelle Düngerliste'!$A:$H,6,FALSE)*BC15/1000)","v":""},{"$f":"IF(BA15=\"\",\"\",VLOOKUP(BA15,'aktuelle Düngerliste'!$A:$H,7,FALSE)*BC15/1000)","v":""},null,null,null,"","",{"$f":"IF(BO15=\"\",\"\",VLOOKUP(BO15,'aktuelle Düngerliste'!$A:$H,2,FALSE))","v":""},{"$f":"IF(BO15=\"\",\"\",VLOOKUP(BO15,'aktuelle Düngerliste'!$A:$H,3,FALSE))","v":""},{"$f":"IF(BO15=\"\",\"\",VLOOKUP(BO15,'aktuelle Düngerliste'!$A:$H,8,FALSE))","v":""},{"$f":"IF(BO15=\"\",\"\",VLOOKUP(BO15,'aktuelle Düngerliste'!$A:$H,3,FALSE)*BQ15/1000)","v":""},{"$f":"IF(BO15=\"\",\"\",IF(VLOOKUP(BO15,'aktuelle Düngerliste'!$A:$B,2,FALSE)=\"mineralisch\",(VLOOKUP(BO15,'aktuelle Düngerliste'!$A:$H,3,FALSE)*BQ15/1000),\"\"))","v":""},{"$f":"IF(BO15=\"\",\"\",VLOOKUP(BO15,'aktuelle Düngerliste'!$A:$J,10,FALSE)*BQ15/1000)","v":""},{"$f":"IF(BO15=\"\",\"\",VLOOKUP(BO15,'aktuelle Düngerliste'!$A:$H,5,FALSE)*BQ15/1000)","v":""},{"$f":"IF(BO15=\"\",\"\",VLOOKUP(BO15,'aktuelle Düngerliste'!$A:$H,6,FALSE)*BQ15/1000)","v":""},{"$f":"IF(BO15=\"\",\"\",VLOOKUP(BO15,'aktuelle Düngerliste'!$A:$H,7,FALSE)*BQ15/1000)","v":""},null,null,null,"","",{"$f":"IF(CC15=\"\",\"\",VLOOKUP(CC15,'aktuelle Düngerliste'!$A:$H,2,FALSE))","v":""},{"$f":"IF(CC15=\"\",\"\",VLOOKUP(CC15,'aktuelle Düngerliste'!$A:$H,3,FALSE))","v":""},{"$f":"IF(CC15=\"\",\"\",VLOOKUP(CC15,'aktuelle Düngerliste'!$A:$H,8,FALSE))","v":""},{"$f":"IF(CC15=\"\",\"\",VLOOKUP(CC15,'aktuelle Düngerliste'!$A:$H,3,FALSE)*CE15/1000)","v":""},{"$f":"IF(CC15=\"\",\"\",IF(VLOOKUP(CC15,'aktuelle Düngerliste'!$A:$B,2,FALSE)=\"mineralisch\",(VLOOKUP(CC15,'aktuelle Düngerliste'!$A:$H,3,FALSE)*CE15/1000),\"\"))","v":""},{"$f":"IF(CC15=\"\",\"\",VLOOKUP(CC15,'aktuelle Düngerliste'!$A:$J,10,FALSE)*CE15/1000)","v":""},{"$f":"IF(CC15=\"\",\"\",VLOOKUP(CC15,'aktuelle Düngerliste'!$A:$H,5,FALSE)*CE15/1000)","v":""},{"$f":"IF(CC15=\"\",\"\",VLOOKUP(CC15,'aktuelle Düngerliste'!$A:$H,6,FALSE)*CE15/1000)","v":""},{"$f":"IF(CC15=\"\",\"\",VLOOKUP(CC15,'aktuelle Düngerliste'!$A:$H,7,FALSE)*CE15/1000)","v":""},null,null,null,"","",{"$f":"IF(CQ15=\"\",\"\",VLOOKUP(CQ15,'aktuelle Düngerliste'!$A:$H,2,FALSE))","v":""},{"$f":"IF(CQ15=\"\",\"\",VLOOKUP(CQ15,'aktuelle Düngerliste'!$A:$H,3,FALSE))","v":""},{"$f":"IF(CQ15=\"\",\"\",VLOOKUP(CQ15,'aktuelle Düngerliste'!$A:$H,8,FALSE))","v":""},{"$f":"IF(CQ15=\"\",\"\",VLOOKUP(CQ15,'aktuelle Düngerliste'!$A:$H,3,FALSE)*CS15/1000)","v":""},{"$f":"IF(CQ15=\"\",\"\",IF(VLOOKUP(CQ15,'aktuelle Düngerliste'!$A:$B,2,FALSE)=\"mineralisch\",(VLOOKUP(CQ15,'aktuelle Düngerliste'!$A:$H,3,FALSE)*CS15/1000),\"\"))","v":""},{"$f":"IF(CQ15=\"\",\"\",VLOOKUP(CQ15,'aktuelle Düngerliste'!$A:$J,10,FALSE)*CS15/1000)","v":""},{"$f":"IF(CQ15=\"\",\"\",VLOOKUP(CQ15,'aktuelle Düngerliste'!$A:$H,5,FALSE)*CS15/1000)","v":""},{"$f":"IF(CQ15=\"\",\"\",VLOOKUP(CQ15,'aktuelle Düngerliste'!$A:$H,6,FALSE)*CS15/1000)","v":""},{"$f":"IF(CQ15=\"\",\"\",VLOOKUP(CQ15,'aktuelle Düngerliste'!$A:$H,7,FALSE)*CS15/1000)","v":""},null,null,null,"","",{"$f":"IF(DE15=\"\",\"\",VLOOKUP(DE15,'aktuelle Düngerliste'!$A:$H,2,FALSE))","v":""},{"$f":"IF(DE15=\"\",\"\",VLOOKUP(DE15,'aktuelle Düngerliste'!$A:$H,3,FALSE))","v":""},{"$f":"IF(DE15=\"\",\"\",VLOOKUP(DE15,'aktuelle Düngerliste'!$A:$H,8,FALSE))","v":""},{"$f":"IF(DE15=\"\",\"\",VLOOKUP(DE15,'aktuelle Düngerliste'!$A:$H,3,FALSE)*DG15/1000)","v":""},{"$f":"IF(DE15=\"\",\"\",IF(VLOOKUP(DE15,'aktuelle Düngerliste'!$A:$B,2,FALSE)=\"mineralisch\",(VLOOKUP(DE15,'aktuelle Düngerliste'!$A:$H,3,FALSE)*DG15/1000),\"\"))","v":""},{"$f":"IF(DE15=\"\",\"\",VLOOKUP(DE15,'aktuelle Düngerliste'!$A:$J,10,FALSE)*DG15/1000)","v":""},{"$f":"IF(DE15=\"\",\"\",VLOOKUP(DE15,'aktuelle Düngerliste'!$A:$H,5,FALSE)*DG15/1000)","v":""},{"$f":"IF(DE15=\"\",\"\",VLOOKUP(DE15,'aktuelle Düngerliste'!$A:$H,6,FALSE)*DG15/1000)","v":""},{"$f":"IF(DE15=\"\",\"\",VLOOKUP(DE15,'aktuelle Düngerliste'!$A:$H,7,FALSE)*DG15/1000)","v":""}]
[{"$f":"IF('N-DBE'!A16=\"\",\"\",'N-DBE'!A16)","v":""},{"$f":"IF('N-DBE'!B16=\"\",\"\",'N-DBE'!B16)","v":""},{"$f":"IF('N-DBE'!C16=\"\",\"\",'N-DBE'!C16)","v":""},{"$f":"IF('N-DBE'!D16=\"\",\"\",'N-DBE'!D16)","v":""},{"$f":"IF('N-DBE'!E16=\"\",\"\",'N-DBE'!E16)","v":""},{"$f":"IF('N-DBE'!F16=\"\",\"\",'N-DBE'!F16)","v":""},{"$f":"IF('N-DBE'!G16=\"\",\"\",'N-DBE'!G16)","v":""},{"$f":"IF(OR(B16=\"\",'N-DBE'!AJ16=\"\"),\"\",'N-DBE'!AJ16+'N-DBE'!AN16)","v":""},{"$f":"IF(OR(B16=\"\",'N-DBE'!AJ16=\"\"),\"\",'N-DBE'!E16*('N-DBE'!AJ16+'N-DBE'!AN16))","v":""},{"$f":"IF('N-DBE'!AK16=\"\",\"\",IF('N-DBE'!AM16=\"ja\",'N-DBE'!AK16+'N-DBE'!AN16,'N-DBE'!AK16))","v":""},{"$f":"IF(OR(B16=\"\",'N-DBE'!AK16=\"\"),\"\",IF('N-DBE'!AM16=\"ja\",'N-DBE'!E16*('N-DBE'!AK16+'N-DBE'!AN16),'N-DBE'!E16*'N-DBE'!AK16))","v":""},{"$f":"IF(OR(B16=\"\",'N-DBE'!AL16=\"\"),\"\",'N-DBE'!AL16+'N-DBE'!AN16)","v":""},{"$f":"IF(OR(B16=\"\",'N-DBE'!AL16=\"\"),\"\",'N-DBE'!E16*('N-DBE'!AL16+'N-DBE'!AN16))","v":""},{"$f":"IF(AND('N-DBE'!C16=\"ja\",G16<>\"\"),I16-X16,\"\")","v":""},{"$f":"IF('N-DBE'!AJ16=\"\",\"\",SUM(AU16,BI16,BW16,CK16,CY16,DM16))","v":""},{"$f":"IF(OR(B16=\"\",'N-DBE'!AJ16=\"\"),\"\",O16*'N-DBE'!E16)","v":""},{"$f":"IF('N-DBE'!AJ16=\"\",\"\",IF(AR16=\"mineralisch\",AU16,0)+IF(BF16=\"mineralisch\",BI16,0)+IF(BT16=\"mineralisch\",BW16,0)+IF(CH16=\"mineralisch\",CK16,0)+IF(CV16=\"mineralisch\",CY16,0)+IF(DJ16=\"mineralisch\",DM16,0))","v":""},{"$f":"IF(OR(B16=\"\",'N-DBE'!AJ16=\"\"),\"\",Q16*'N-DBE'!E16)","v":""},{"$f":"IF('N-DBE'!AJ16=\"\",\"\",O16-Q16)","v":""},{"$f":"IF(OR(B16=\"\",'N-DBE'!AJ16=\"\"),\"\",S16*'N-DBE'!E16)","v":""},{"$f":"IF('N-DBE'!AJ16=\"\",\"\",(IF(AR16=\"Kompost\",AU16,0)+IF(BF16=\"Kompost\",BI16,0)+IF(BT16=\"Kompost\",BW16,0)+IF(CH16=\"Kompost\",CK16,0)+IF(CV16=\"Kompost\",CY16,0)+IF(DJ16=\"Kompost\",DM16,0)))","v":""},{"$f":"IF(OR(B16=\"\",'N-DBE'!AJ16=\"\"),\"\",U16*'N-DBE'!E16)","v":""},{"$f":"IF('N-DBE'!AJ16=\"\",\"\",SUM(AW16,BK16,BY16,CM16,DA16,DO16))","v":""},{"$f":"IF(OR(B16=\"\",'N-DBE'!AJ16=\"\"),\"\",W16*'N-DBE'!E16)","v":""},{"$f":"IF('P-(K-Mg)-DBE'!N16=\"\",\"\",'P-(K-Mg)-DBE'!N16+'P-(K-Mg)-DBE'!R16)","v":""},{"$f":"IF(OR(B16=\"\",'P-(K-Mg)-DBE'!N16=\"\"),\"\",'N-DBE'!E16*('P-(K-Mg)-DBE'!N16+'P-(K-Mg)-DBE'!R16))","v":""},{"$f":"IF('P-(K-Mg)-DBE'!N16=\"\",\"\",SUM(AX16,BL16,BZ16,CN16,DB16,DP16))","v":""},{"$f":"IF(OR(B16=\"\",'P-(K-Mg)-DBE'!Z16=\"\"),\"\",SUM(AX16,BL16,BZ16,CN16,DB16,DP16)*'N-DBE'!E16)","v":""},{"$f":"IF('P-(K-Mg)-DBE'!O16=\"\",\"\",'P-(K-Mg)-DBE'!O16)","v":""},{"$f":"IF(OR(B16=\"\",'P-(K-Mg)-DBE'!O16=\"\"),\"\",'P-(K-Mg)-DBE'!O16*'N-DBE'!E16)","v":""},{"$f":"IF('P-(K-Mg)-DBE'!Z16=\"\",\"\",'P-(K-Mg)-DBE'!Z16)","v":""},{"$f":"IF(OR(B16=\"\",'P-(K-Mg)-DBE'!Z16=\"\"),\"\",'P-(K-Mg)-DBE'!Z16*'N-DBE'!E16)","v":""},{"$f":"IF('P-(K-Mg)-DBE'!Z16=\"\",\"\",SUM(AY16,BM16,CA16,CO16,DC16,DQ16))","v":""},{"$f":"IF(OR(B16=\"\",'P-(K-Mg)-DBE'!AH16=\"\"),\"\",SUM(AY16,BM16,CA16,CO16,DC16,DQ6)*'N-DBE'!E16)","v":""},{"$f":"IF('P-(K-Mg)-DBE'!AH16=\"\",\"\",'P-(K-Mg)-DBE'!AH16)","v":""},{"$f":"IF(OR(B16=\"\",'P-(K-Mg)-DBE'!AH16=\"\"),\"\",'N-DBE'!E16*'P-(K-Mg)-DBE'!AH16)","v":""},{"$f":"IF('P-(K-Mg)-DBE'!AH16=\"\",\"\",SUM(AZ16,BN16,CB16,CP16,DD16,DR16))","v":""},{"$f":"IF('P-(K-Mg)-DBE'!AH16=\"\",\"\",SUM(AZ16,BN16,CB16,CP16,DD16,DR16))","v":""},null,null,null,"","",{"$f":"IF(AM16=\"\",\"\",VLOOKUP(AM16,'aktuelle Düngerliste'!A:H,2,FALSE))","v":""},{"$f":"IF(AM16=\"\",\"\",VLOOKUP(AM16,'aktuelle Düngerliste'!A:H,3,FALSE))","v":""},{"$f":"IF(AM16=\"\",\"\",VLOOKUP(AM16,'aktuelle Düngerliste'!A:H,8,FALSE))","v":""},{"$f":"IF(AM16=\"\",\"\",VLOOKUP(AM16,'aktuelle Düngerliste'!$A:$H,3,FALSE)*AO16/1000)","v":""},{"$f":"IF(AM16=\"\",\"\",IF(VLOOKUP(AM16,'aktuelle Düngerliste'!$A:$B,2,FALSE)=\"mineralisch\",(VLOOKUP(AM16,'aktuelle Düngerliste'!$A:$H,3,FALSE)*AO16/1000),\"\"))","v":""},{"$f":"IF(AM16=\"\",\"\",VLOOKUP(AM16,'aktuelle Düngerliste'!$A:$J,10,FALSE)*AO16/1000)","v":""},{"$f":"IF(AM16=\"\",\"\",VLOOKUP(AM16,'aktuelle Düngerliste'!$A:$H,5,FALSE)*AO16/1000)","v":""},{"$f":"IF(AM16=\"\",\"\",VLOOKUP(AM16,'aktuelle Düngerliste'!$A:$H,6,FALSE)*AO16/1000)","v":""},{"$f":"IF(AM16=\"\",\"\",VLOOKUP(AM16,'aktuelle Düngerliste'!$A:$H,7,FALSE)*AO16/1000)","v":""},null,null,null,"","",{"$f":"IF(BA16=\"\",\"\",VLOOKUP(BA16,'aktuelle Düngerliste'!$A:$H,2,FALSE))","v":""},{"$f":"IF(BA16=\"\",\"\",VLOOKUP(BA16,'aktuelle Düngerliste'!$A:$H,3,FALSE))","v":""},{"$f":"IF(BA16=\"\",\"\",VLOOKUP(BA16,'aktuelle Düngerliste'!$A:$H,8,FALSE))","v":""},{"$f":"IF(BA16=\"\",\"\",VLOOKUP(BA16,'aktuelle Düngerliste'!$A:$H,3,FALSE)*BC16/1000)","v":""},{"$f":"IF(BA16=\"\",\"\",IF(VLOOKUP(BA16,'aktuelle Düngerliste'!$A:$B,2,FALSE)=\"mineralisch\",(VLOOKUP(BA16,'aktuelle Düngerliste'!$A:$H,3,FALSE)*BC16/1000),\"\"))","v":""},{"$f":"IF(BA16=\"\",\"\",VLOOKUP(BA16,'aktuelle Düngerliste'!$A:$J,10,FALSE)*BC16/1000)","v":""},{"$f":"IF(BA16=\"\",\"\",VLOOKUP(BA16,'aktuelle Düngerliste'!$A:$H,5,FALSE)*BC16/1000)","v":""},{"$f":"IF(BA16=\"\",\"\",VLOOKUP(BA16,'aktuelle Düngerliste'!$A:$H,6,FALSE)*BC16/1000)","v":""},{"$f":"IF(BA16=\"\",\"\",VLOOKUP(BA16,'aktuelle Düngerliste'!$A:$H,7,FALSE)*BC16/1000)","v":""},null,null,null,"","",{"$f":"IF(BO16=\"\",\"\",VLOOKUP(BO16,'aktuelle Düngerliste'!$A:$H,2,FALSE))","v":""},{"$f":"IF(BO16=\"\",\"\",VLOOKUP(BO16,'aktuelle Düngerliste'!$A:$H,3,FALSE))","v":""},{"$f":"IF(BO16=\"\",\"\",VLOOKUP(BO16,'aktuelle Düngerliste'!$A:$H,8,FALSE))","v":""},{"$f":"IF(BO16=\"\",\"\",VLOOKUP(BO16,'aktuelle Düngerliste'!$A:$H,3,FALSE)*BQ16/1000)","v":""},{"$f":"IF(BO16=\"\",\"\",IF(VLOOKUP(BO16,'aktuelle Düngerliste'!$A:$B,2,FALSE)=\"mineralisch\",(VLOOKUP(BO16,'aktuelle Düngerliste'!$A:$H,3,FALSE)*BQ16/1000),\"\"))","v":""},{"$f":"IF(BO16=\"\",\"\",VLOOKUP(BO16,'aktuelle Düngerliste'!$A:$J,10,FALSE)*BQ16/1000)","v":""},{"$f":"IF(BO16=\"\",\"\",VLOOKUP(BO16,'aktuelle Düngerliste'!$A:$H,5,FALSE)*BQ16/1000)","v":""},{"$f":"IF(BO16=\"\",\"\",VLOOKUP(BO16,'aktuelle Düngerliste'!$A:$H,6,FALSE)*BQ16/1000)","v":""},{"$f":"IF(BO16=\"\",\"\",VLOOKUP(BO16,'aktuelle Düngerliste'!$A:$H,7,FALSE)*BQ16/1000)","v":""},null,null,null,"","",{"$f":"IF(CC16=\"\",\"\",VLOOKUP(CC16,'aktuelle Düngerliste'!$A:$H,2,FALSE))","v":""},{"$f":"IF(CC16=\"\",\"\",VLOOKUP(CC16,'aktuelle Düngerliste'!$A:$H,3,FALSE))","v":""},{"$f":"IF(CC16=\"\",\"\",VLOOKUP(CC16,'aktuelle Düngerliste'!$A:$H,8,FALSE))","v":""},{"$f":"IF(CC16=\"\",\"\",VLOOKUP(CC16,'aktuelle Düngerliste'!$A:$H,3,FALSE)*CE16/1000)","v":""},{"$f":"IF(CC16=\"\",\"\",IF(VLOOKUP(CC16,'aktuelle Düngerliste'!$A:$B,2,FALSE)=\"mineralisch\",(VLOOKUP(CC16,'aktuelle Düngerliste'!$A:$H,3,FALSE)*CE16/1000),\"\"))","v":""},{"$f":"IF(CC16=\"\",\"\",VLOOKUP(CC16,'aktuelle Düngerliste'!$A:$J,10,FALSE)*CE16/1000)","v":""},{"$f":"IF(CC16=\"\",\"\",VLOOKUP(CC16,'aktuelle Düngerliste'!$A:$H,5,FALSE)*CE16/1000)","v":""},{"$f":"IF(CC16=\"\",\"\",VLOOKUP(CC16,'aktuelle Düngerliste'!$A:$H,6,FALSE)*CE16/1000)","v":""},{"$f":"IF(CC16=\"\",\"\",VLOOKUP(CC16,'aktuelle Düngerliste'!$A:$H,7,FALSE)*CE16/1000)","v":""},null,null,null,"","",{"$f":"IF(CQ16=\"\",\"\",VLOOKUP(CQ16,'aktuelle Düngerliste'!$A:$H,2,FALSE))","v":""},{"$f":"IF(CQ16=\"\",\"\",VLOOKUP(CQ16,'aktuelle Düngerliste'!$A:$H,3,FALSE))","v":""},{"$f":"IF(CQ16=\"\",\"\",VLOOKUP(CQ16,'aktuelle Düngerliste'!$A:$H,8,FALSE))","v":""},{"$f":"IF(CQ16=\"\",\"\",VLOOKUP(CQ16,'aktuelle Düngerliste'!$A:$H,3,FALSE)*CS16/1000)","v":""},{"$f":"IF(CQ16=\"\",\"\",IF(VLOOKUP(CQ16,'aktuelle Düngerliste'!$A:$B,2,FALSE)=\"mineralisch\",(VLOOKUP(CQ16,'aktuelle Düngerliste'!$A:$H,3,FALSE)*CS16/1000),\"\"))","v":""},{"$f":"IF(CQ16=\"\",\"\",VLOOKUP(CQ16,'aktuelle Düngerliste'!$A:$J,10,FALSE)*CS16/1000)","v":""},{"$f":"IF(CQ16=\"\",\"\",VLOOKUP(CQ16,'aktuelle Düngerliste'!$A:$H,5,FALSE)*CS16/1000)","v":""},{"$f":"IF(CQ16=\"\",\"\",VLOOKUP(CQ16,'aktuelle Düngerliste'!$A:$H,6,FALSE)*CS16/1000)","v":""},{"$f":"IF(CQ16=\"\",\"\",VLOOKUP(CQ16,'aktuelle Düngerliste'!$A:$H,7,FALSE)*CS16/1000)","v":""},null,null,null,"","",{"$f":"IF(DE16=\"\",\"\",VLOOKUP(DE16,'aktuelle Düngerliste'!$A:$H,2,FALSE))","v":""},{"$f":"IF(DE16=\"\",\"\",VLOOKUP(DE16,'aktuelle Düngerliste'!$A:$H,3,FALSE))","v":""},{"$f":"IF(DE16=\"\",\"\",VLOOKUP(DE16,'aktuelle Düngerliste'!$A:$H,8,FALSE))","v":""},{"$f":"IF(DE16=\"\",\"\",VLOOKUP(DE16,'aktuelle Düngerliste'!$A:$H,3,FALSE)*DG16/1000)","v":""},{"$f":"IF(DE16=\"\",\"\",IF(VLOOKUP(DE16,'aktuelle Düngerliste'!$A:$B,2,FALSE)=\"mineralisch\",(VLOOKUP(DE16,'aktuelle Düngerliste'!$A:$H,3,FALSE)*DG16/1000),\"\"))","v":""},{"$f":"IF(DE16=\"\",\"\",VLOOKUP(DE16,'aktuelle Düngerliste'!$A:$J,10,FALSE)*DG16/1000)","v":""},{"$f":"IF(DE16=\"\",\"\",VLOOKUP(DE16,'aktuelle Düngerliste'!$A:$H,5,FALSE)*DG16/1000)","v":""},{"$f":"IF(DE16=\"\",\"\",VLOOKUP(DE16,'aktuelle Düngerliste'!$A:$H,6,FALSE)*DG16/1000)","v":""},{"$f":"IF(DE16=\"\",\"\",VLOOKUP(DE16,'aktuelle Düngerliste'!$A:$H,7,FALSE)*DG16/1000)","v":""}]
[{"$f":"IF('N-DBE'!A17=\"\",\"\",'N-DBE'!A17)","v":""},{"$f":"IF('N-DBE'!B17=\"\",\"\",'N-DBE'!B17)","v":""},{"$f":"IF('N-DBE'!C17=\"\",\"\",'N-DBE'!C17)","v":""},{"$f":"IF('N-DBE'!D17=\"\",\"\",'N-DBE'!D17)","v":""},{"$f":"IF('N-DBE'!E17=\"\",\"\",'N-DBE'!E17)","v":""},{"$f":"IF('N-DBE'!F17=\"\",\"\",'N-DBE'!F17)","v":""},{"$f":"IF('N-DBE'!G17=\"\",\"\",'N-DBE'!G17)","v":""},{"$f":"IF(OR(B17=\"\",'N-DBE'!AJ17=\"\"),\"\",'N-DBE'!AJ17+'N-DBE'!AN17)","v":""},{"$f":"IF(OR(B17=\"\",'N-DBE'!AJ17=\"\"),\"\",'N-DBE'!E17*('N-DBE'!AJ17+'N-DBE'!AN17))","v":""},{"$f":"IF('N-DBE'!AK17=\"\",\"\",IF('N-DBE'!AM17=\"ja\",'N-DBE'!AK17+'N-DBE'!AN17,'N-DBE'!AK17))","v":""},{"$f":"IF(OR(B17=\"\",'N-DBE'!AK17=\"\"),\"\",IF('N-DBE'!AM17=\"ja\",'N-DBE'!E17*('N-DBE'!AK17+'N-DBE'!AN17),'N-DBE'!E17*'N-DBE'!AK17))","v":""},{"$f":"IF(OR(B17=\"\",'N-DBE'!AL17=\"\"),\"\",'N-DBE'!AL17+'N-DBE'!AN17)","v":""},{"$f":"IF(OR(B17=\"\",'N-DBE'!AL17=\"\"),\"\",'N-DBE'!E17*('N-DBE'!AL17+'N-DBE'!AN17))","v":""},{"$f":"IF(AND('N-DBE'!C17=\"ja\",G17<>\"\"),I17-X17,\"\")","v":""},{"$f":"IF('N-DBE'!AJ17=\"\",\"\",SUM(AU17,BI17,BW17,CK17,CY17,DM17))","v":""},{"$f":"IF(OR(B17=\"\",'N-DBE'!AJ17=\"\"),\"\",O17*'N-DBE'!E17)","v":""},{"$f":"IF('N-DBE'!AJ17=\"\",\"\",IF(AR17=\"mineralisch\",AU17,0)+IF(BF17=\"mineralisch\",BI17,0)+IF(BT17=\"mineralisch\",BW17,0)+IF(CH17=\"mineralisch\",CK17,0)+IF(CV17=\"mineralisch\",CY17,0)+IF(DJ17=\"mineralisch\",DM17,0))","v":""},{"$f":"IF(OR(B17=\"\",'N-DBE'!AJ17=\"\"),\"\",Q17*'N-DBE'!E17)","v":""},{"$f":"IF('N-DBE'!AJ17=\"\",\"\",O17-Q17)","v":""},{"$f":"IF(OR(B17=\"\",'N-DBE'!AJ17=\"\"),\"\",S17*'N-DBE'!E17)","v":""},{"$f":"IF('N-DBE'!AJ17=\"\",\"\",(IF(AR17=\"Kompost\",AU17,0)+IF(BF17=\"Kompost\",BI17,0)+IF(BT17=\"Kompost\",BW17,0)+IF(CH17=\"Kompost\",CK17,0)+IF(CV17=\"Kompost\",CY17,0)+IF(DJ17=\"Kompost\",DM17,0)))","v":""},{"$f":"IF(OR(B17=\"\",'N-DBE'!AJ17=\"\"),\"\",U17*'N-DBE'!E17)","v":""},{"$f":"IF('N-DBE'!AJ17=\"\",\"\",SUM(AW17,BK17,BY17,CM17,DA17,DO17))","v":""},{"$f":"IF(OR(B17=\"\",'N-DBE'!AJ17=\"\"),\"\",W17*'N-DBE'!E17)","v":""},{"$f":"IF('P-(K-Mg)-DBE'!N17=\"\",\"\",'P-(K-Mg)-DBE'!N17+'P-(K-Mg)-DBE'!R17)","v":""},{"$f":"IF(OR(B17=\"\",'P-(K-Mg)-DBE'!N17=\"\"),\"\",'N-DBE'!E17*('P-(K-Mg)-DBE'!N17+'P-(K-Mg)-DBE'!R17))","v":""},{"$f":"IF('P-(K-Mg)-DBE'!N17=\"\",\"\",SUM(AX17,BL17,BZ17,CN17,DB17,DP17))","v":""},{"$f":"IF(OR(B17=\"\",'P-(K-Mg)-DBE'!Z17=\"\"),\"\",SUM(AX17,BL17,BZ17,CN17,DB17,DP17)*'N-DBE'!E17)","v":""},{"$f":"IF('P-(K-Mg)-DBE'!O17=\"\",\"\",'P-(K-Mg)-DBE'!O17)","v":""},{"$f":"IF(OR(B17=\"\",'P-(K-Mg)-DBE'!O17=\"\"),\"\",'P-(K-Mg)-DBE'!O17*'N-DBE'!E17)","v":""},{"$f":"IF('P-(K-Mg)-DBE'!Z17=\"\",\"\",'P-(K-Mg)-DBE'!Z17)","v":""},{"$f":"IF(OR(B17=\"\",'P-(K-Mg)-DBE'!Z17=\"\"),\"\",'P-(K-Mg)-DBE'!Z17*'N-DBE'!E17)","v":""},{"$f":"IF('P-(K-Mg)-DBE'!Z17=\"\",\"\",SUM(AY17,BM17,CA17,CO17,DC17,DQ17))","v":""},{"$f":"IF(OR(B17=\"\",'P-(K-Mg)-DBE'!AH17=\"\"),\"\",SUM(AY17,BM17,CA17,CO17,DC17,DQ7)*'N-DBE'!E17)","v":""},{"$f":"IF('P-(K-Mg)-DBE'!AH17=\"\",\"\",'P-(K-Mg)-DBE'!AH17)","v":""},{"$f":"IF(OR(B17=\"\",'P-(K-Mg)-DBE'!AH17=\"\"),\"\",'N-DBE'!E17*'P-(K-Mg)-DBE'!AH17)","v":""},{"$f":"IF('P-(K-Mg)-DBE'!AH17=\"\",\"\",SUM(AZ17,BN17,CB17,CP17,DD17,DR17))","v":""},{"$f":"IF('P-(K-Mg)-DBE'!AH17=\"\",\"\",SUM(AZ17,BN17,CB17,CP17,DD17,DR17))","v":""},null,null,null,"","",{"$f":"IF(AM17=\"\",\"\",VLOOKUP(AM17,'aktuelle Düngerliste'!A:H,2,FALSE))","v":""},{"$f":"IF(AM17=\"\",\"\",VLOOKUP(AM17,'aktuelle Düngerliste'!A:H,3,FALSE))","v":""},{"$f":"IF(AM17=\"\",\"\",VLOOKUP(AM17,'aktuelle Düngerliste'!A:H,8,FALSE))","v":""},{"$f":"IF(AM17=\"\",\"\",VLOOKUP(AM17,'aktuelle Düngerliste'!$A:$H,3,FALSE)*AO17/1000)","v":""},{"$f":"IF(AM17=\"\",\"\",IF(VLOOKUP(AM17,'aktuelle Düngerliste'!$A:$B,2,FALSE)=\"mineralisch\",(VLOOKUP(AM17,'aktuelle Düngerliste'!$A:$H,3,FALSE)*AO17/1000),\"\"))","v":""},{"$f":"IF(AM17=\"\",\"\",VLOOKUP(AM17,'aktuelle Düngerliste'!$A:$J,10,FALSE)*AO17/1000)","v":""},{"$f":"IF(AM17=\"\",\"\",VLOOKUP(AM17,'aktuelle Düngerliste'!$A:$H,5,FALSE)*AO17/1000)","v":""},{"$f":"IF(AM17=\"\",\"\",VLOOKUP(AM17,'aktuelle Düngerliste'!$A:$H,6,FALSE)*AO17/1000)","v":""},{"$f":"IF(AM17=\"\",\"\",VLOOKUP(AM17,'aktuelle Düngerliste'!$A:$H,7,FALSE)*AO17/1000)","v":""},null,null,null,"","",{"$f":"IF(BA17=\"\",\"\",VLOOKUP(BA17,'aktuelle Düngerliste'!$A:$H,2,FALSE))","v":""},{"$f":"IF(BA17=\"\",\"\",VLOOKUP(BA17,'aktuelle Düngerliste'!$A:$H,3,FALSE))","v":""},{"$f":"IF(BA17=\"\",\"\",VLOOKUP(BA17,'aktuelle Düngerliste'!$A:$H,8,FALSE))","v":""},{"$f":"IF(BA17=\"\",\"\",VLOOKUP(BA17,'aktuelle Düngerliste'!$A:$H,3,FALSE)*BC17/1000)","v":""},{"$f":"IF(BA17=\"\",\"\",IF(VLOOKUP(BA17,'aktuelle Düngerliste'!$A:$B,2,FALSE)=\"mineralisch\",(VLOOKUP(BA17,'aktuelle Düngerliste'!$A:$H,3,FALSE)*BC17/1000),\"\"))","v":""},{"$f":"IF(BA17=\"\",\"\",VLOOKUP(BA17,'aktuelle Düngerliste'!$A:$J,10,FALSE)*BC17/1000)","v":""},{"$f":"IF(BA17=\"\",\"\",VLOOKUP(BA17,'aktuelle Düngerliste'!$A:$H,5,FALSE)*BC17/1000)","v":""},{"$f":"IF(BA17=\"\",\"\",VLOOKUP(BA17,'aktuelle Düngerliste'!$A:$H,6,FALSE)*BC17/1000)","v":""},{"$f":"IF(BA17=\"\",\"\",VLOOKUP(BA17,'aktuelle Düngerliste'!$A:$H,7,FALSE)*BC17/1000)","v":""},null,null,null,"","",{"$f":"IF(BO17=\"\",\"\",VLOOKUP(BO17,'aktuelle Düngerliste'!$A:$H,2,FALSE))","v":""},{"$f":"IF(BO17=\"\",\"\",VLOOKUP(BO17,'aktuelle Düngerliste'!$A:$H,3,FALSE))","v":""},{"$f":"IF(BO17=\"\",\"\",VLOOKUP(BO17,'aktuelle Düngerliste'!$A:$H,8,FALSE))","v":""},{"$f":"IF(BO17=\"\",\"\",VLOOKUP(BO17,'aktuelle Düngerliste'!$A:$H,3,FALSE)*BQ17/1000)","v":""},{"$f":"IF(BO17=\"\",\"\",IF(VLOOKUP(BO17,'aktuelle Düngerliste'!$A:$B,2,FALSE)=\"mineralisch\",(VLOOKUP(BO17,'aktuelle Düngerliste'!$A:$H,3,FALSE)*BQ17/1000),\"\"))","v":""},{"$f":"IF(BO17=\"\",\"\",VLOOKUP(BO17,'aktuelle Düngerliste'!$A:$J,10,FALSE)*BQ17/1000)","v":""},{"$f":"IF(BO17=\"\",\"\",VLOOKUP(BO17,'aktuelle Düngerliste'!$A:$H,5,FALSE)*BQ17/1000)","v":""},{"$f":"IF(BO17=\"\",\"\",VLOOKUP(BO17,'aktuelle Düngerliste'!$A:$H,6,FALSE)*BQ17/1000)","v":""},{"$f":"IF(BO17=\"\",\"\",VLOOKUP(BO17,'aktuelle Düngerliste'!$A:$H,7,FALSE)*BQ17/1000)","v":""},null,null,null,"","",{"$f":"IF(CC17=\"\",\"\",VLOOKUP(CC17,'aktuelle Düngerliste'!$A:$H,2,FALSE))","v":""},{"$f":"IF(CC17=\"\",\"\",VLOOKUP(CC17,'aktuelle Düngerliste'!$A:$H,3,FALSE))","v":""},{"$f":"IF(CC17=\"\",\"\",VLOOKUP(CC17,'aktuelle Düngerliste'!$A:$H,8,FALSE))","v":""},{"$f":"IF(CC17=\"\",\"\",VLOOKUP(CC17,'aktuelle Düngerliste'!$A:$H,3,FALSE)*CE17/1000)","v":""},{"$f":"IF(CC17=\"\",\"\",IF(VLOOKUP(CC17,'aktuelle Düngerliste'!$A:$B,2,FALSE)=\"mineralisch\",(VLOOKUP(CC17,'aktuelle Düngerliste'!$A:$H,3,FALSE)*CE17/1000),\"\"))","v":""},{"$f":"IF(CC17=\"\",\"\",VLOOKUP(CC17,'aktuelle Düngerliste'!$A:$J,10,FALSE)*CE17/1000)","v":""},{"$f":"IF(CC17=\"\",\"\",VLOOKUP(CC17,'aktuelle Düngerliste'!$A:$H,5,FALSE)*CE17/1000)","v":""},{"$f":"IF(CC17=\"\",\"\",VLOOKUP(CC17,'aktuelle Düngerliste'!$A:$H,6,FALSE)*CE17/1000)","v":""},{"$f":"IF(CC17=\"\",\"\",VLOOKUP(CC17,'aktuelle Düngerliste'!$A:$H,7,FALSE)*CE17/1000)","v":""},null,null,null,"","",{"$f":"IF(CQ17=\"\",\"\",VLOOKUP(CQ17,'aktuelle Düngerliste'!$A:$H,2,FALSE))","v":""},{"$f":"IF(CQ17=\"\",\"\",VLOOKUP(CQ17,'aktuelle Düngerliste'!$A:$H,3,FALSE))","v":""},{"$f":"IF(CQ17=\"\",\"\",VLOOKUP(CQ17,'aktuelle Düngerliste'!$A:$H,8,FALSE))","v":""},{"$f":"IF(CQ17=\"\",\"\",VLOOKUP(CQ17,'aktuelle Düngerliste'!$A:$H,3,FALSE)*CS17/1000)","v":""},{"$f":"IF(CQ17=\"\",\"\",IF(VLOOKUP(CQ17,'aktuelle Düngerliste'!$A:$B,2,FALSE)=\"mineralisch\",(VLOOKUP(CQ17,'aktuelle Düngerliste'!$A:$H,3,FALSE)*CS17/1000),\"\"))","v":""},{"$f":"IF(CQ17=\"\",\"\",VLOOKUP(CQ17,'aktuelle Düngerliste'!$A:$J,10,FALSE)*CS17/1000)","v":""},{"$f":"IF(CQ17=\"\",\"\",VLOOKUP(CQ17,'aktuelle Düngerliste'!$A:$H,5,FALSE)*CS17/1000)","v":""},{"$f":"IF(CQ17=\"\",\"\",VLOOKUP(CQ17,'aktuelle Düngerliste'!$A:$H,6,FALSE)*CS17/1000)","v":""},{"$f":"IF(CQ17=\"\",\"\",VLOOKUP(CQ17,'aktuelle Düngerliste'!$A:$H,7,FALSE)*CS17/1000)","v":""},null,null,null,"","",{"$f":"IF(DE17=\"\",\"\",VLOOKUP(DE17,'aktuelle Düngerliste'!$A:$H,2,FALSE))","v":""},{"$f":"IF(DE17=\"\",\"\",VLOOKUP(DE17,'aktuelle Düngerliste'!$A:$H,3,FALSE))","v":""},{"$f":"IF(DE17=\"\",\"\",VLOOKUP(DE17,'aktuelle Düngerliste'!$A:$H,8,FALSE))","v":""},{"$f":"IF(DE17=\"\",\"\",VLOOKUP(DE17,'aktuelle Düngerliste'!$A:$H,3,FALSE)*DG17/1000)","v":""},{"$f":"IF(DE17=\"\",\"\",IF(VLOOKUP(DE17,'aktuelle Düngerliste'!$A:$B,2,FALSE)=\"mineralisch\",(VLOOKUP(DE17,'aktuelle Düngerliste'!$A:$H,3,FALSE)*DG17/1000),\"\"))","v":""},{"$f":"IF(DE17=\"\",\"\",VLOOKUP(DE17,'aktuelle Düngerliste'!$A:$J,10,FALSE)*DG17/1000)","v":""},{"$f":"IF(DE17=\"\",\"\",VLOOKUP(DE17,'aktuelle Düngerliste'!$A:$H,5,FALSE)*DG17/1000)","v":""},{"$f":"IF(DE17=\"\",\"\",VLOOKUP(DE17,'aktuelle Düngerliste'!$A:$H,6,FALSE)*DG17/1000)","v":""},{"$f":"IF(DE17=\"\",\"\",VLOOKUP(DE17,'aktuelle Düngerliste'!$A:$H,7,FALSE)*DG17/1000)","v":""}]
[{"$f":"IF('N-DBE'!A18=\"\",\"\",'N-DBE'!A18)","v":""},{"$f":"IF('N-DBE'!B18=\"\",\"\",'N-DBE'!B18)","v":""},{"$f":"IF('N-DBE'!C18=\"\",\"\",'N-DBE'!C18)","v":""},{"$f":"IF('N-DBE'!D18=\"\",\"\",'N-DBE'!D18)","v":""},{"$f":"IF('N-DBE'!E18=\"\",\"\",'N-DBE'!E18)","v":""},{"$f":"IF('N-DBE'!F18=\"\",\"\",'N-DBE'!F18)","v":""},{"$f":"IF('N-DBE'!G18=\"\",\"\",'N-DBE'!G18)","v":""},{"$f":"IF(OR(B18=\"\",'N-DBE'!AJ18=\"\"),\"\",'N-DBE'!AJ18+'N-DBE'!AN18)","v":""},{"$f":"IF(OR(B18=\"\",'N-DBE'!AJ18=\"\"),\"\",'N-DBE'!E18*('N-DBE'!AJ18+'N-DBE'!AN18))","v":""},{"$f":"IF('N-DBE'!AK18=\"\",\"\",IF('N-DBE'!AM18=\"ja\",'N-DBE'!AK18+'N-DBE'!AN18,'N-DBE'!AK18))","v":""},{"$f":"IF(OR(B18=\"\",'N-DBE'!AK18=\"\"),\"\",IF('N-DBE'!AM18=\"ja\",'N-DBE'!E18*('N-DBE'!AK18+'N-DBE'!AN18),'N-DBE'!E18*'N-DBE'!AK18))","v":""},{"$f":"IF(OR(B18=\"\",'N-DBE'!AL18=\"\"),\"\",'N-DBE'!AL18+'N-DBE'!AN18)","v":""},{"$f":"IF(OR(B18=\"\",'N-DBE'!AL18=\"\"),\"\",'N-DBE'!E18*('N-DBE'!AL18+'N-DBE'!AN18))","v":""},{"$f":"IF(AND('N-DBE'!C18=\"ja\",G18<>\"\"),I18-X18,\"\")","v":""},{"$f":"IF('N-DBE'!AJ18=\"\",\"\",SUM(AU18,BI18,BW18,CK18,CY18,DM18))","v":""},{"$f":"IF(OR(B18=\"\",'N-DBE'!AJ18=\"\"),\"\",O18*'N-DBE'!E18)","v":""},{"$f":"IF('N-DBE'!AJ18=\"\",\"\",IF(AR18=\"mineralisch\",AU18,0)+IF(BF18=\"mineralisch\",BI18,0)+IF(BT18=\"mineralisch\",BW18,0)+IF(CH18=\"mineralisch\",CK18,0)+IF(CV18=\"mineralisch\",CY18,0)+IF(DJ18=\"mineralisch\",DM18,0))","v":""},{"$f":"IF(OR(B18=\"\",'N-DBE'!AJ18=\"\"),\"\",Q18*'N-DBE'!E18)","v":""},{"$f":"IF('N-DBE'!AJ18=\"\",\"\",O18-Q18)","v":""},{"$f":"IF(OR(B18=\"\",'N-DBE'!AJ18=\"\"),\"\",S18*'N-DBE'!E18)","v":""},{"$f":"IF('N-DBE'!AJ18=\"\",\"\",(IF(AR18=\"Kompost\",AU18,0)+IF(BF18=\"Kompost\",BI18,0)+IF(BT18=\"Kompost\",BW18,0)+IF(CH18=\"Kompost\",CK18,0)+IF(CV18=\"Kompost\",CY18,0)+IF(DJ18=\"Kompost\",DM18,0)))","v":""},{"$f":"IF(OR(B18=\"\",'N-DBE'!AJ18=\"\"),\"\",U18*'N-DBE'!E18)","v":""},{"$f":"IF('N-DBE'!AJ18=\"\",\"\",SUM(AW18,BK18,BY18,CM18,DA18,DO18))","v":""},{"$f":"IF(OR(B18=\"\",'N-DBE'!AJ18=\"\"),\"\",W18*'N-DBE'!E18)","v":""},{"$f":"IF('P-(K-Mg)-DBE'!N18=\"\",\"\",'P-(K-Mg)-DBE'!N18+'P-(K-Mg)-DBE'!R18)","v":""},{"$f":"IF(OR(B18=\"\",'P-(K-Mg)-DBE'!N18=\"\"),\"\",'N-DBE'!E18*('P-(K-Mg)-DBE'!N18+'P-(K-Mg)-DBE'!R18))","v":""},{"$f":"IF('P-(K-Mg)-DBE'!N18=\"\",\"\",SUM(AX18,BL18,BZ18,CN18,DB18,DP18))","v":""},{"$f":"IF(OR(B18=\"\",'P-(K-Mg)-DBE'!Z18=\"\"),\"\",SUM(AX18,BL18,BZ18,CN18,DB18,DP18)*'N-DBE'!E18)","v":""},{"$f":"IF('P-(K-Mg)-DBE'!O18=\"\",\"\",'P-(K-Mg)-DBE'!O18)","v":""},{"$f":"IF(OR(B18=\"\",'P-(K-Mg)-DBE'!O18=\"\"),\"\",'P-(K-Mg)-DBE'!O18*'N-DBE'!E18)","v":""},{"$f":"IF('P-(K-Mg)-DBE'!Z18=\"\",\"\",'P-(K-Mg)-DBE'!Z18)","v":""},{"$f":"IF(OR(B18=\"\",'P-(K-Mg)-DBE'!Z18=\"\"),\"\",'P-(K-Mg)-DBE'!Z18*'N-DBE'!E18)","v":""},{"$f":"IF('P-(K-Mg)-DBE'!Z18=\"\",\"\",SUM(AY18,BM18,CA18,CO18,DC18,DQ18))","v":""},{"$f":"IF(OR(B18=\"\",'P-(K-Mg)-DBE'!AH18=\"\"),\"\",SUM(AY18,BM18,CA18,CO18,DC18,DQ8)*'N-DBE'!E18)","v":""},{"$f":"IF('P-(K-Mg)-DBE'!AH18=\"\",\"\",'P-(K-Mg)-DBE'!AH18)","v":""},{"$f":"IF(OR(B18=\"\",'P-(K-Mg)-DBE'!AH18=\"\"),\"\",'N-DBE'!E18*'P-(K-Mg)-DBE'!AH18)","v":""},{"$f":"IF('P-(K-Mg)-DBE'!AH18=\"\",\"\",SUM(AZ18,BN18,CB18,CP18,DD18,DR18))","v":""},{"$f":"IF('P-(K-Mg)-DBE'!AH18=\"\",\"\",SUM(AZ18,BN18,CB18,CP18,DD18,DR18))","v":""},null,null,null,"","",{"$f":"IF(AM18=\"\",\"\",VLOOKUP(AM18,'aktuelle Düngerliste'!A:H,2,FALSE))","v":""},{"$f":"IF(AM18=\"\",\"\",VLOOKUP(AM18,'aktuelle Düngerliste'!A:H,3,FALSE))","v":""},{"$f":"IF(AM18=\"\",\"\",VLOOKUP(AM18,'aktuelle Düngerliste'!A:H,8,FALSE))","v":""},{"$f":"IF(AM18=\"\",\"\",VLOOKUP(AM18,'aktuelle Düngerliste'!$A:$H,3,FALSE)*AO18/1000)","v":""},{"$f":"IF(AM18=\"\",\"\",IF(VLOOKUP(AM18,'aktuelle Düngerliste'!$A:$B,2,FALSE)=\"mineralisch\",(VLOOKUP(AM18,'aktuelle Düngerliste'!$A:$H,3,FALSE)*AO18/1000),\"\"))","v":""},{"$f":"IF(AM18=\"\",\"\",VLOOKUP(AM18,'aktuelle Düngerliste'!$A:$J,10,FALSE)*AO18/1000)","v":""},{"$f":"IF(AM18=\"\",\"\",VLOOKUP(AM18,'aktuelle Düngerliste'!$A:$H,5,FALSE)*AO18/1000)","v":""},{"$f":"IF(AM18=\"\",\"\",VLOOKUP(AM18,'aktuelle Düngerliste'!$A:$H,6,FALSE)*AO18/1000)","v":""},{"$f":"IF(AM18=\"\",\"\",VLOOKUP(AM18,'aktuelle Düngerliste'!$A:$H,7,FALSE)*AO18/1000)","v":""},null,null,null,"","",{"$f":"IF(BA18=\"\",\"\",VLOOKUP(BA18,'aktuelle Düngerliste'!$A:$H,2,FALSE))","v":""},{"$f":"IF(BA18=\"\",\"\",VLOOKUP(BA18,'aktuelle Düngerliste'!$A:$H,3,FALSE))","v":""},{"$f":"IF(BA18=\"\",\"\",VLOOKUP(BA18,'aktuelle Düngerliste'!$A:$H,8,FALSE))","v":""},{"$f":"IF(BA18=\"\",\"\",VLOOKUP(BA18,'aktuelle Düngerliste'!$A:$H,3,FALSE)*BC18/1000)","v":""},{"$f":"IF(BA18=\"\",\"\",IF(VLOOKUP(BA18,'aktuelle Düngerliste'!$A:$B,2,FALSE)=\"mineralisch\",(VLOOKUP(BA18,'aktuelle Düngerliste'!$A:$H,3,FALSE)*BC18/1000),\"\"))","v":""},{"$f":"IF(BA18=\"\",\"\",VLOOKUP(BA18,'aktuelle Düngerliste'!$A:$J,10,FALSE)*BC18/1000)","v":""},{"$f":"IF(BA18=\"\",\"\",VLOOKUP(BA18,'aktuelle Düngerliste'!$A:$H,5,FALSE)*BC18/1000)","v":""},{"$f":"IF(BA18=\"\",\"\",VLOOKUP(BA18,'aktuelle Düngerliste'!$A:$H,6,FALSE)*BC18/1000)","v":""},{"$f":"IF(BA18=\"\",\"\",VLOOKUP(BA18,'aktuelle Düngerliste'!$A:$H,7,FALSE)*BC18/1000)","v":""},null,null,null,"","",{"$f":"IF(BO18=\"\",\"\",VLOOKUP(BO18,'aktuelle Düngerliste'!$A:$H,2,FALSE))","v":""},{"$f":"IF(BO18=\"\",\"\",VLOOKUP(BO18,'aktuelle Düngerliste'!$A:$H,3,FALSE))","v":""},{"$f":"IF(BO18=\"\",\"\",VLOOKUP(BO18,'aktuelle Düngerliste'!$A:$H,8,FALSE))","v":""},{"$f":"IF(BO18=\"\",\"\",VLOOKUP(BO18,'aktuelle Düngerliste'!$A:$H,3,FALSE)*BQ18/1000)","v":""},{"$f":"IF(BO18=\"\",\"\",IF(VLOOKUP(BO18,'aktuelle Düngerliste'!$A:$B,2,FALSE)=\"mineralisch\",(VLOOKUP(BO18,'aktuelle Düngerliste'!$A:$H,3,FALSE)*BQ18/1000),\"\"))","v":""},{"$f":"IF(BO18=\"\",\"\",VLOOKUP(BO18,'aktuelle Düngerliste'!$A:$J,10,FALSE)*BQ18/1000)","v":""},{"$f":"IF(BO18=\"\",\"\",VLOOKUP(BO18,'aktuelle Düngerliste'!$A:$H,5,FALSE)*BQ18/1000)","v":""},{"$f":"IF(BO18=\"\",\"\",VLOOKUP(BO18,'aktuelle Düngerliste'!$A:$H,6,FALSE)*BQ18/1000)","v":""},{"$f":"IF(BO18=\"\",\"\",VLOOKUP(BO18,'aktuelle Düngerliste'!$A:$H,7,FALSE)*BQ18/1000)","v":""},null,null,null,"","",{"$f":"IF(CC18=\"\",\"\",VLOOKUP(CC18,'aktuelle Düngerliste'!$A:$H,2,FALSE))","v":""},{"$f":"IF(CC18=\"\",\"\",VLOOKUP(CC18,'aktuelle Düngerliste'!$A:$H,3,FALSE))","v":""},{"$f":"IF(CC18=\"\",\"\",VLOOKUP(CC18,'aktuelle Düngerliste'!$A:$H,8,FALSE))","v":""},{"$f":"IF(CC18=\"\",\"\",VLOOKUP(CC18,'aktuelle Düngerliste'!$A:$H,3,FALSE)*CE18/1000)","v":""},{"$f":"IF(CC18=\"\",\"\",IF(VLOOKUP(CC18,'aktuelle Düngerliste'!$A:$B,2,FALSE)=\"mineralisch\",(VLOOKUP(CC18,'aktuelle Düngerliste'!$A:$H,3,FALSE)*CE18/1000),\"\"))","v":""},{"$f":"IF(CC18=\"\",\"\",VLOOKUP(CC18,'aktuelle Düngerliste'!$A:$J,10,FALSE)*CE18/1000)","v":""},{"$f":"IF(CC18=\"\",\"\",VLOOKUP(CC18,'aktuelle Düngerliste'!$A:$H,5,FALSE)*CE18/1000)","v":""},{"$f":"IF(CC18=\"\",\"\",VLOOKUP(CC18,'aktuelle Düngerliste'!$A:$H,6,FALSE)*CE18/1000)","v":""},{"$f":"IF(CC18=\"\",\"\",VLOOKUP(CC18,'aktuelle Düngerliste'!$A:$H,7,FALSE)*CE18/1000)","v":""},null,null,null,"","",{"$f":"IF(CQ18=\"\",\"\",VLOOKUP(CQ18,'aktuelle Düngerliste'!$A:$H,2,FALSE))","v":""},{"$f":"IF(CQ18=\"\",\"\",VLOOKUP(CQ18,'aktuelle Düngerliste'!$A:$H,3,FALSE))","v":""},{"$f":"IF(CQ18=\"\",\"\",VLOOKUP(CQ18,'aktuelle Düngerliste'!$A:$H,8,FALSE))","v":""},{"$f":"IF(CQ18=\"\",\"\",VLOOKUP(CQ18,'aktuelle Düngerliste'!$A:$H,3,FALSE)*CS18/1000)","v":""},{"$f":"IF(CQ18=\"\",\"\",IF(VLOOKUP(CQ18,'aktuelle Düngerliste'!$A:$B,2,FALSE)=\"mineralisch\",(VLOOKUP(CQ18,'aktuelle Düngerliste'!$A:$H,3,FALSE)*CS18/1000),\"\"))","v":""},{"$f":"IF(CQ18=\"\",\"\",VLOOKUP(CQ18,'aktuelle Düngerliste'!$A:$J,10,FALSE)*CS18/1000)","v":""},{"$f":"IF(CQ18=\"\",\"\",VLOOKUP(CQ18,'aktuelle Düngerliste'!$A:$H,5,FALSE)*CS18/1000)","v":""},{"$f":"IF(CQ18=\"\",\"\",VLOOKUP(CQ18,'aktuelle Düngerliste'!$A:$H,6,FALSE)*CS18/1000)","v":""},{"$f":"IF(CQ18=\"\",\"\",VLOOKUP(CQ18,'aktuelle Düngerliste'!$A:$H,7,FALSE)*CS18/1000)","v":""},null,null,null,"","",{"$f":"IF(DE18=\"\",\"\",VLOOKUP(DE18,'aktuelle Düngerliste'!$A:$H,2,FALSE))","v":""},{"$f":"IF(DE18=\"\",\"\",VLOOKUP(DE18,'aktuelle Düngerliste'!$A:$H,3,FALSE))","v":""},{"$f":"IF(DE18=\"\",\"\",VLOOKUP(DE18,'aktuelle Düngerliste'!$A:$H,8,FALSE))","v":""},{"$f":"IF(DE18=\"\",\"\",VLOOKUP(DE18,'aktuelle Düngerliste'!$A:$H,3,FALSE)*DG18/1000)","v":""},{"$f":"IF(DE18=\"\",\"\",IF(VLOOKUP(DE18,'aktuelle Düngerliste'!$A:$B,2,FALSE)=\"mineralisch\",(VLOOKUP(DE18,'aktuelle Düngerliste'!$A:$H,3,FALSE)*DG18/1000),\"\"))","v":""},{"$f":"IF(DE18=\"\",\"\",VLOOKUP(DE18,'aktuelle Düngerliste'!$A:$J,10,FALSE)*DG18/1000)","v":""},{"$f":"IF(DE18=\"\",\"\",VLOOKUP(DE18,'aktuelle Düngerliste'!$A:$H,5,FALSE)*DG18/1000)","v":""},{"$f":"IF(DE18=\"\",\"\",VLOOKUP(DE18,'aktuelle Düngerliste'!$A:$H,6,FALSE)*DG18/1000)","v":""},{"$f":"IF(DE18=\"\",\"\",VLOOKUP(DE18,'aktuelle Düngerliste'!$A:$H,7,FALSE)*DG18/1000)","v":""}]
[{"$f":"IF('N-DBE'!A19=\"\",\"\",'N-DBE'!A19)","v":""},{"$f":"IF('N-DBE'!B19=\"\",\"\",'N-DBE'!B19)","v":""},{"$f":"IF('N-DBE'!C19=\"\",\"\",'N-DBE'!C19)","v":""},{"$f":"IF('N-DBE'!D19=\"\",\"\",'N-DBE'!D19)","v":""},{"$f":"IF('N-DBE'!E19=\"\",\"\",'N-DBE'!E19)","v":""},{"$f":"IF('N-DBE'!F19=\"\",\"\",'N-DBE'!F19)","v":""},{"$f":"IF('N-DBE'!G19=\"\",\"\",'N-DBE'!G19)","v":""},{"$f":"IF(OR(B19=\"\",'N-DBE'!AJ19=\"\"),\"\",'N-DBE'!AJ19+'N-DBE'!AN19)","v":""},{"$f":"IF(OR(B19=\"\",'N-DBE'!AJ19=\"\"),\"\",'N-DBE'!E19*('N-DBE'!AJ19+'N-DBE'!AN19))","v":""},{"$f":"IF('N-DBE'!AK19=\"\",\"\",IF('N-DBE'!AM19=\"ja\",'N-DBE'!AK19+'N-DBE'!AN19,'N-DBE'!AK19))","v":""},{"$f":"IF(OR(B19=\"\",'N-DBE'!AK19=\"\"),\"\",IF('N-DBE'!AM19=\"ja\",'N-DBE'!E19*('N-DBE'!AK19+'N-DBE'!AN19),'N-DBE'!E19*'N-DBE'!AK19))","v":""},{"$f":"IF(OR(B19=\"\",'N-DBE'!AL19=\"\"),\"\",'N-DBE'!AL19+'N-DBE'!AN19)","v":""},{"$f":"IF(OR(B19=\"\",'N-DBE'!AL19=\"\"),\"\",'N-DBE'!E19*('N-DBE'!AL19+'N-DBE'!AN19))","v":""},{"$f":"IF(AND('N-DBE'!C19=\"ja\",G19<>\"\"),I19-X19,\"\")","v":""},{"$f":"IF('N-DBE'!AJ19=\"\",\"\",SUM(AU19,BI19,BW19,CK19,CY19,DM19))","v":""},{"$f":"IF(OR(B19=\"\",'N-DBE'!AJ19=\"\"),\"\",O19*'N-DBE'!E19)","v":""},{"$f":"IF('N-DBE'!AJ19=\"\",\"\",IF(AR19=\"mineralisch\",AU19,0)+IF(BF19=\"mineralisch\",BI19,0)+IF(BT19=\"mineralisch\",BW19,0)+IF(CH19=\"mineralisch\",CK19,0)+IF(CV19=\"mineralisch\",CY19,0)+IF(DJ19=\"mineralisch\",DM19,0))","v":""},{"$f":"IF(OR(B19=\"\",'N-DBE'!AJ19=\"\"),\"\",Q19*'N-DBE'!E19)","v":""},{"$f":"IF('N-DBE'!AJ19=\"\",\"\",O19-Q19)","v":""},{"$f":"IF(OR(B19=\"\",'N-DBE'!AJ19=\"\"),\"\",S19*'N-DBE'!E19)","v":""},{"$f":"IF('N-DBE'!AJ19=\"\",\"\",(IF(AR19=\"Kompost\",AU19,0)+IF(BF19=\"Kompost\",BI19,0)+IF(BT19=\"Kompost\",BW19,0)+IF(CH19=\"Kompost\",CK19,0)+IF(CV19=\"Kompost\",CY19,0)+IF(DJ19=\"Kompost\",DM19,0)))","v":""},{"$f":"IF(OR(B19=\"\",'N-DBE'!AJ19=\"\"),\"\",U19*'N-DBE'!E19)","v":""},{"$f":"IF('N-DBE'!AJ19=\"\",\"\",SUM(AW19,BK19,BY19,CM19,DA19,DO19))","v":""},{"$f":"IF(OR(B19=\"\",'N-DBE'!AJ19=\"\"),\"\",W19*'N-DBE'!E19)","v":""},{"$f":"IF('P-(K-Mg)-DBE'!N19=\"\",\"\",'P-(K-Mg)-DBE'!N19+'P-(K-Mg)-DBE'!R19)","v":""},{"$f":"IF(OR(B19=\"\",'P-(K-Mg)-DBE'!N19=\"\"),\"\",'N-DBE'!E19*('P-(K-Mg)-DBE'!N19+'P-(K-Mg)-DBE'!R19))","v":""},{"$f":"IF('P-(K-Mg)-DBE'!N19=\"\",\"\",SUM(AX19,BL19,BZ19,CN19,DB19,DP19))","v":""},{"$f":"IF(OR(B19=\"\",'P-(K-Mg)-DBE'!Z19=\"\"),\"\",SUM(AX19,BL19,BZ19,CN19,DB19,DP19)*'N-DBE'!E19)","v":""},{"$f":"IF('P-(K-Mg)-DBE'!O19=\"\",\"\",'P-(K-Mg)-DBE'!O19)","v":""},{"$f":"IF(OR(B19=\"\",'P-(K-Mg)-DBE'!O19=\"\"),\"\",'P-(K-Mg)-DBE'!O19*'N-DBE'!E19)","v":""},{"$f":"IF('P-(K-Mg)-DBE'!Z19=\"\",\"\",'P-(K-Mg)-DBE'!Z19)","v":""},{"$f":"IF(OR(B19=\"\",'P-(K-Mg)-DBE'!Z19=\"\"),\"\",'P-(K-Mg)-DBE'!Z19*'N-DBE'!E19)","v":""},{"$f":"IF('P-(K-Mg)-DBE'!Z19=\"\",\"\",SUM(AY19,BM19,CA19,CO19,DC19,DQ19))","v":""},{"$f":"IF(OR(B19=\"\",'P-(K-Mg)-DBE'!AH19=\"\"),\"\",SUM(AY19,BM19,CA19,CO19,DC19,DQ9)*'N-DBE'!E19)","v":""},{"$f":"IF('P-(K-Mg)-DBE'!AH19=\"\",\"\",'P-(K-Mg)-DBE'!AH19)","v":""},{"$f":"IF(OR(B19=\"\",'P-(K-Mg)-DBE'!AH19=\"\"),\"\",'N-DBE'!E19*'P-(K-Mg)-DBE'!AH19)","v":""},{"$f":"IF('P-(K-Mg)-DBE'!AH19=\"\",\"\",SUM(AZ19,BN19,CB19,CP19,DD19,DR19))","v":""},{"$f":"IF('P-(K-Mg)-DBE'!AH19=\"\",\"\",SUM(AZ19,BN19,CB19,CP19,DD19,DR19))","v":""},null,null,null,"","",{"$f":"IF(AM19=\"\",\"\",VLOOKUP(AM19,'aktuelle Düngerliste'!A:H,2,FALSE))","v":""},{"$f":"IF(AM19=\"\",\"\",VLOOKUP(AM19,'aktuelle Düngerliste'!A:H,3,FALSE))","v":""},{"$f":"IF(AM19=\"\",\"\",VLOOKUP(AM19,'aktuelle Düngerliste'!A:H,8,FALSE))","v":""},{"$f":"IF(AM19=\"\",\"\",VLOOKUP(AM19,'aktuelle Düngerliste'!$A:$H,3,FALSE)*AO19/1000)","v":""},{"$f":"IF(AM19=\"\",\"\",IF(VLOOKUP(AM19,'aktuelle Düngerliste'!$A:$B,2,FALSE)=\"mineralisch\",(VLOOKUP(AM19,'aktuelle Düngerliste'!$A:$H,3,FALSE)*AO19/1000),\"\"))","v":""},{"$f":"IF(AM19=\"\",\"\",VLOOKUP(AM19,'aktuelle Düngerliste'!$A:$J,10,FALSE)*AO19/1000)","v":""},{"$f":"IF(AM19=\"\",\"\",VLOOKUP(AM19,'aktuelle Düngerliste'!$A:$H,5,FALSE)*AO19/1000)","v":""},{"$f":"IF(AM19=\"\",\"\",VLOOKUP(AM19,'aktuelle Düngerliste'!$A:$H,6,FALSE)*AO19/1000)","v":""},{"$f":"IF(AM19=\"\",\"\",VLOOKUP(AM19,'aktuelle Düngerliste'!$A:$H,7,FALSE)*AO19/1000)","v":""},null,null,null,"","",{"$f":"IF(BA19=\"\",\"\",VLOOKUP(BA19,'aktuelle Düngerliste'!$A:$H,2,FALSE))","v":""},{"$f":"IF(BA19=\"\",\"\",VLOOKUP(BA19,'aktuelle Düngerliste'!$A:$H,3,FALSE))","v":""},{"$f":"IF(BA19=\"\",\"\",VLOOKUP(BA19,'aktuelle Düngerliste'!$A:$H,8,FALSE))","v":""},{"$f":"IF(BA19=\"\",\"\",VLOOKUP(BA19,'aktuelle Düngerliste'!$A:$H,3,FALSE)*BC19/1000)","v":""},{"$f":"IF(BA19=\"\",\"\",IF(VLOOKUP(BA19,'aktuelle Düngerliste'!$A:$B,2,FALSE)=\"mineralisch\",(VLOOKUP(BA19,'aktuelle Düngerliste'!$A:$H,3,FALSE)*BC19/1000),\"\"))","v":""},{"$f":"IF(BA19=\"\",\"\",VLOOKUP(BA19,'aktuelle Düngerliste'!$A:$J,10,FALSE)*BC19/1000)","v":""},{"$f":"IF(BA19=\"\",\"\",VLOOKUP(BA19,'aktuelle Düngerliste'!$A:$H,5,FALSE)*BC19/1000)","v":""},{"$f":"IF(BA19=\"\",\"\",VLOOKUP(BA19,'aktuelle Düngerliste'!$A:$H,6,FALSE)*BC19/1000)","v":""},{"$f":"IF(BA19=\"\",\"\",VLOOKUP(BA19,'aktuelle Düngerliste'!$A:$H,7,FALSE)*BC19/1000)","v":""},null,null,null,"","",{"$f":"IF(BO19=\"\",\"\",VLOOKUP(BO19,'aktuelle Düngerliste'!$A:$H,2,FALSE))","v":""},{"$f":"IF(BO19=\"\",\"\",VLOOKUP(BO19,'aktuelle Düngerliste'!$A:$H,3,FALSE))","v":""},{"$f":"IF(BO19=\"\",\"\",VLOOKUP(BO19,'aktuelle Düngerliste'!$A:$H,8,FALSE))","v":""},{"$f":"IF(BO19=\"\",\"\",VLOOKUP(BO19,'aktuelle Düngerliste'!$A:$H,3,FALSE)*BQ19/1000)","v":""},{"$f":"IF(BO19=\"\",\"\",IF(VLOOKUP(BO19,'aktuelle Düngerliste'!$A:$B,2,FALSE)=\"mineralisch\",(VLOOKUP(BO19,'aktuelle Düngerliste'!$A:$H,3,FALSE)*BQ19/1000),\"\"))","v":""},{"$f":"IF(BO19=\"\",\"\",VLOOKUP(BO19,'aktuelle Düngerliste'!$A:$J,10,FALSE)*BQ19/1000)","v":""},{"$f":"IF(BO19=\"\",\"\",VLOOKUP(BO19,'aktuelle Düngerliste'!$A:$H,5,FALSE)*BQ19/1000)","v":""},{"$f":"IF(BO19=\"\",\"\",VLOOKUP(BO19,'aktuelle Düngerliste'!$A:$H,6,FALSE)*BQ19/1000)","v":""},{"$f":"IF(BO19=\"\",\"\",VLOOKUP(BO19,'aktuelle Düngerliste'!$A:$H,7,FALSE)*BQ19/1000)","v":""},null,null,null,"","",{"$f":"IF(CC19=\"\",\"\",VLOOKUP(CC19,'aktuelle Düngerliste'!$A:$H,2,FALSE))","v":""},{"$f":"IF(CC19=\"\",\"\",VLOOKUP(CC19,'aktuelle Düngerliste'!$A:$H,3,FALSE))","v":""},{"$f":"IF(CC19=\"\",\"\",VLOOKUP(CC19,'aktuelle Düngerliste'!$A:$H,8,FALSE))","v":""},{"$f":"IF(CC19=\"\",\"\",VLOOKUP(CC19,'aktuelle Düngerliste'!$A:$H,3,FALSE)*CE19/1000)","v":""},{"$f":"IF(CC19=\"\",\"\",IF(VLOOKUP(CC19,'aktuelle Düngerliste'!$A:$B,2,FALSE)=\"mineralisch\",(VLOOKUP(CC19,'aktuelle Düngerliste'!$A:$H,3,FALSE)*CE19/1000),\"\"))","v":""},{"$f":"IF(CC19=\"\",\"\",VLOOKUP(CC19,'aktuelle Düngerliste'!$A:$J,10,FALSE)*CE19/1000)","v":""},{"$f":"IF(CC19=\"\",\"\",VLOOKUP(CC19,'aktuelle Düngerliste'!$A:$H,5,FALSE)*CE19/1000)","v":""},{"$f":"IF(CC19=\"\",\"\",VLOOKUP(CC19,'aktuelle Düngerliste'!$A:$H,6,FALSE)*CE19/1000)","v":""},{"$f":"IF(CC19=\"\",\"\",VLOOKUP(CC19,'aktuelle Düngerliste'!$A:$H,7,FALSE)*CE19/1000)","v":""},null,null,null,"","",{"$f":"IF(CQ19=\"\",\"\",VLOOKUP(CQ19,'aktuelle Düngerliste'!$A:$H,2,FALSE))","v":""},{"$f":"IF(CQ19=\"\",\"\",VLOOKUP(CQ19,'aktuelle Düngerliste'!$A:$H,3,FALSE))","v":""},{"$f":"IF(CQ19=\"\",\"\",VLOOKUP(CQ19,'aktuelle Düngerliste'!$A:$H,8,FALSE))","v":""},{"$f":"IF(CQ19=\"\",\"\",VLOOKUP(CQ19,'aktuelle Düngerliste'!$A:$H,3,FALSE)*CS19/1000)","v":""},{"$f":"IF(CQ19=\"\",\"\",IF(VLOOKUP(CQ19,'aktuelle Düngerliste'!$A:$B,2,FALSE)=\"mineralisch\",(VLOOKUP(CQ19,'aktuelle Düngerliste'!$A:$H,3,FALSE)*CS19/1000),\"\"))","v":""},{"$f":"IF(CQ19=\"\",\"\",VLOOKUP(CQ19,'aktuelle Düngerliste'!$A:$J,10,FALSE)*CS19/1000)","v":""},{"$f":"IF(CQ19=\"\",\"\",VLOOKUP(CQ19,'aktuelle Düngerliste'!$A:$H,5,FALSE)*CS19/1000)","v":""},{"$f":"IF(CQ19=\"\",\"\",VLOOKUP(CQ19,'aktuelle Düngerliste'!$A:$H,6,FALSE)*CS19/1000)","v":""},{"$f":"IF(CQ19=\"\",\"\",VLOOKUP(CQ19,'aktuelle Düngerliste'!$A:$H,7,FALSE)*CS19/1000)","v":""},null,null,null,"","",{"$f":"IF(DE19=\"\",\"\",VLOOKUP(DE19,'aktuelle Düngerliste'!$A:$H,2,FALSE))","v":""},{"$f":"IF(DE19=\"\",\"\",VLOOKUP(DE19,'aktuelle Düngerliste'!$A:$H,3,FALSE))","v":""},{"$f":"IF(DE19=\"\",\"\",VLOOKUP(DE19,'aktuelle Düngerliste'!$A:$H,8,FALSE))","v":""},{"$f":"IF(DE19=\"\",\"\",VLOOKUP(DE19,'aktuelle Düngerliste'!$A:$H,3,FALSE)*DG19/1000)","v":""},{"$f":"IF(DE19=\"\",\"\",IF(VLOOKUP(DE19,'aktuelle Düngerliste'!$A:$B,2,FALSE)=\"mineralisch\",(VLOOKUP(DE19,'aktuelle Düngerliste'!$A:$H,3,FALSE)*DG19/1000),\"\"))","v":""},{"$f":"IF(DE19=\"\",\"\",VLOOKUP(DE19,'aktuelle Düngerliste'!$A:$J,10,FALSE)*DG19/1000)","v":""},{"$f":"IF(DE19=\"\",\"\",VLOOKUP(DE19,'aktuelle Düngerliste'!$A:$H,5,FALSE)*DG19/1000)","v":""},{"$f":"IF(DE19=\"\",\"\",VLOOKUP(DE19,'aktuelle Düngerliste'!$A:$H,6,FALSE)*DG19/1000)","v":""},{"$f":"IF(DE19=\"\",\"\",VLOOKUP(DE19,'aktuelle Düngerliste'!$A:$H,7,FALSE)*DG19/1000)","v":""}]
[{"$f":"IF('N-DBE'!A20=\"\",\"\",'N-DBE'!A20)","v":""},{"$f":"IF('N-DBE'!B20=\"\",\"\",'N-DBE'!B20)","v":""},{"$f":"IF('N-DBE'!C20=\"\",\"\",'N-DBE'!C20)","v":""},{"$f":"IF('N-DBE'!D20=\"\",\"\",'N-DBE'!D20)","v":""},{"$f":"IF('N-DBE'!E20=\"\",\"\",'N-DBE'!E20)","v":""},{"$f":"IF('N-DBE'!F20=\"\",\"\",'N-DBE'!F20)","v":""},{"$f":"IF('N-DBE'!G20=\"\",\"\",'N-DBE'!G20)","v":""},{"$f":"IF(OR(B20=\"\",'N-DBE'!AJ20=\"\"),\"\",'N-DBE'!AJ20+'N-DBE'!AN20)","v":""},{"$f":"IF(OR(B20=\"\",'N-DBE'!AJ20=\"\"),\"\",'N-DBE'!E20*('N-DBE'!AJ20+'N-DBE'!AN20))","v":""},{"$f":"IF('N-DBE'!AK20=\"\",\"\",IF('N-DBE'!AM20=\"ja\",'N-DBE'!AK20+'N-DBE'!AN20,'N-DBE'!AK20))","v":""},{"$f":"IF(OR(B20=\"\",'N-DBE'!AK20=\"\"),\"\",IF('N-DBE'!AM20=\"ja\",'N-DBE'!E20*('N-DBE'!AK20+'N-DBE'!AN20),'N-DBE'!E20*'N-DBE'!AK20))","v":""},{"$f":"IF(OR(B20=\"\",'N-DBE'!AL20=\"\"),\"\",'N-DBE'!AL20+'N-DBE'!AN20)","v":""},{"$f":"IF(OR(B20=\"\",'N-DBE'!AL20=\"\"),\"\",'N-DBE'!E20*('N-DBE'!AL20+'N-DBE'!AN20))","v":""},{"$f":"IF(AND('N-DBE'!C20=\"ja\",G20<>\"\"),I20-X20,\"\")","v":""},{"$f":"IF('N-DBE'!AJ20=\"\",\"\",SUM(AU20,BI20,BW20,CK20,CY20,DM20))","v":""},{"$f":"IF(OR(B20=\"\",'N-DBE'!AJ20=\"\"),\"\",O20*'N-DBE'!E20)","v":""},{"$f":"IF('N-DBE'!AJ20=\"\",\"\",IF(AR20=\"mineralisch\",AU20,0)+IF(BF20=\"mineralisch\",BI20,0)+IF(BT20=\"mineralisch\",BW20,0)+IF(CH20=\"mineralisch\",CK20,0)+IF(CV20=\"mineralisch\",CY20,0)+IF(DJ20=\"mineralisch\",DM20,0))","v":""},{"$f":"IF(OR(B20=\"\",'N-DBE'!AJ20=\"\"),\"\",Q20*'N-DBE'!E20)","v":""},{"$f":"IF('N-DBE'!AJ20=\"\",\"\",O20-Q20)","v":""},{"$f":"IF(OR(B20=\"\",'N-DBE'!AJ20=\"\"),\"\",S20*'N-DBE'!E20)","v":""},{"$f":"IF('N-DBE'!AJ20=\"\",\"\",(IF(AR20=\"Kompost\",AU20,0)+IF(BF20=\"Kompost\",BI20,0)+IF(BT20=\"Kompost\",BW20,0)+IF(CH20=\"Kompost\",CK20,0)+IF(CV20=\"Kompost\",CY20,0)+IF(DJ20=\"Kompost\",DM20,0)))","v":""},{"$f":"IF(OR(B20=\"\",'N-DBE'!AJ20=\"\"),\"\",U20*'N-DBE'!E20)","v":""},{"$f":"IF('N-DBE'!AJ20=\"\",\"\",SUM(AW20,BK20,BY20,CM20,DA20,DO20))","v":""},{"$f":"IF(OR(B20=\"\",'N-DBE'!AJ20=\"\"),\"\",W20*'N-DBE'!E20)","v":""},{"$f":"IF('P-(K-Mg)-DBE'!N20=\"\",\"\",'P-(K-Mg)-DBE'!N20+'P-(K-Mg)-DBE'!R20)","v":""},{"$f":"IF(OR(B20=\"\",'P-(K-Mg)-DBE'!N20=\"\"),\"\",'N-DBE'!E20*('P-(K-Mg)-DBE'!N20+'P-(K-Mg)-DBE'!R20))","v":""},{"$f":"IF('P-(K-Mg)-DBE'!N20=\"\",\"\",SUM(AX20,BL20,BZ20,CN20,DB20,DP20))","v":""},{"$f":"IF(OR(B20=\"\",'P-(K-Mg)-DBE'!Z20=\"\"),\"\",SUM(AX20,BL20,BZ20,CN20,DB20,DP20)*'N-DBE'!E20)","v":""},{"$f":"IF('P-(K-Mg)-DBE'!O20=\"\",\"\",'P-(K-Mg)-DBE'!O20)","v":""},{"$f":"IF(OR(B20=\"\",'P-(K-Mg)-DBE'!O20=\"\"),\"\",'P-(K-Mg)-DBE'!O20*'N-DBE'!E20)","v":""},{"$f":"IF('P-(K-Mg)-DBE'!Z20=\"\",\"\",'P-(K-Mg)-DBE'!Z20)","v":""},{"$f":"IF(OR(B20=\"\",'P-(K-Mg)-DBE'!Z20=\"\"),\"\",'P-(K-Mg)-DBE'!Z20*'N-DBE'!E20)","v":""},{"$f":"IF('P-(K-Mg)-DBE'!Z20=\"\",\"\",SUM(AY20,BM20,CA20,CO20,DC20,DQ20))","v":""},{"$f":"IF(OR(B20=\"\",'P-(K-Mg)-DBE'!AH20=\"\"),\"\",SUM(AY20,BM20,CA20,CO20,DC20,DQ10)*'N-DBE'!E20)","v":""},{"$f":"IF('P-(K-Mg)-DBE'!AH20=\"\",\"\",'P-(K-Mg)-DBE'!AH20)","v":""},{"$f":"IF(OR(B20=\"\",'P-(K-Mg)-DBE'!AH20=\"\"),\"\",'N-DBE'!E20*'P-(K-Mg)-DBE'!AH20)","v":""},{"$f":"IF('P-(K-Mg)-DBE'!AH20=\"\",\"\",SUM(AZ20,BN20,CB20,CP20,DD20,DR20))","v":""},{"$f":"IF('P-(K-Mg)-DBE'!AH20=\"\",\"\",SUM(AZ20,BN20,CB20,CP20,DD20,DR20))","v":""},null,null,null,"","",{"$f":"IF(AM20=\"\",\"\",VLOOKUP(AM20,'aktuelle Düngerliste'!A:H,2,FALSE))","v":""},{"$f":"IF(AM20=\"\",\"\",VLOOKUP(AM20,'aktuelle Düngerliste'!A:H,3,FALSE))","v":""},{"$f":"IF(AM20=\"\",\"\",VLOOKUP(AM20,'aktuelle Düngerliste'!A:H,8,FALSE))","v":""},{"$f":"IF(AM20=\"\",\"\",VLOOKUP(AM20,'aktuelle Düngerliste'!$A:$H,3,FALSE)*AO20/1000)","v":""},{"$f":"IF(AM20=\"\",\"\",IF(VLOOKUP(AM20,'aktuelle Düngerliste'!$A:$B,2,FALSE)=\"mineralisch\",(VLOOKUP(AM20,'aktuelle Düngerliste'!$A:$H,3,FALSE)*AO20/1000),\"\"))","v":""},{"$f":"IF(AM20=\"\",\"\",VLOOKUP(AM20,'aktuelle Düngerliste'!$A:$J,10,FALSE)*AO20/1000)","v":""},{"$f":"IF(AM20=\"\",\"\",VLOOKUP(AM20,'aktuelle Düngerliste'!$A:$H,5,FALSE)*AO20/1000)","v":""},{"$f":"IF(AM20=\"\",\"\",VLOOKUP(AM20,'aktuelle Düngerliste'!$A:$H,6,FALSE)*AO20/1000)","v":""},{"$f":"IF(AM20=\"\",\"\",VLOOKUP(AM20,'aktuelle Düngerliste'!$A:$H,7,FALSE)*AO20/1000)","v":""},null,null,null,"","",{"$f":"IF(BA20=\"\",\"\",VLOOKUP(BA20,'aktuelle Düngerliste'!$A:$H,2,FALSE))","v":""},{"$f":"IF(BA20=\"\",\"\",VLOOKUP(BA20,'aktuelle Düngerliste'!$A:$H,3,FALSE))","v":""},{"$f":"IF(BA20=\"\",\"\",VLOOKUP(BA20,'aktuelle Düngerliste'!$A:$H,8,FALSE))","v":""},{"$f":"IF(BA20=\"\",\"\",VLOOKUP(BA20,'aktuelle Düngerliste'!$A:$H,3,FALSE)*BC20/1000)","v":""},{"$f":"IF(BA20=\"\",\"\",IF(VLOOKUP(BA20,'aktuelle Düngerliste'!$A:$B,2,FALSE)=\"mineralisch\",(VLOOKUP(BA20,'aktuelle Düngerliste'!$A:$H,3,FALSE)*BC20/1000),\"\"))","v":""},{"$f":"IF(BA20=\"\",\"\",VLOOKUP(BA20,'aktuelle Düngerliste'!$A:$J,10,FALSE)*BC20/1000)","v":""},{"$f":"IF(BA20=\"\",\"\",VLOOKUP(BA20,'aktuelle Düngerliste'!$A:$H,5,FALSE)*BC20/1000)","v":""},{"$f":"IF(BA20=\"\",\"\",VLOOKUP(BA20,'aktuelle Düngerliste'!$A:$H,6,FALSE)*BC20/1000)","v":""},{"$f":"IF(BA20=\"\",\"\",VLOOKUP(BA20,'aktuelle Düngerliste'!$A:$H,7,FALSE)*BC20/1000)","v":""},null,null,null,"","",{"$f":"IF(BO20=\"\",\"\",VLOOKUP(BO20,'aktuelle Düngerliste'!$A:$H,2,FALSE))","v":""},{"$f":"IF(BO20=\"\",\"\",VLOOKUP(BO20,'aktuelle Düngerliste'!$A:$H,3,FALSE))","v":""},{"$f":"IF(BO20=\"\",\"\",VLOOKUP(BO20,'aktuelle Düngerliste'!$A:$H,8,FALSE))","v":""},{"$f":"IF(BO20=\"\",\"\",VLOOKUP(BO20,'aktuelle Düngerliste'!$A:$H,3,FALSE)*BQ20/1000)","v":""},{"$f":"IF(BO20=\"\",\"\",IF(VLOOKUP(BO20,'aktuelle Düngerliste'!$A:$B,2,FALSE)=\"mineralisch\",(VLOOKUP(BO20,'aktuelle Düngerliste'!$A:$H,3,FALSE)*BQ20/1000),\"\"))","v":""},{"$f":"IF(BO20=\"\",\"\",VLOOKUP(BO20,'aktuelle Düngerliste'!$A:$J,10,FALSE)*BQ20/1000)","v":""},{"$f":"IF(BO20=\"\",\"\",VLOOKUP(BO20,'aktuelle Düngerliste'!$A:$H,5,FALSE)*BQ20/1000)","v":""},{"$f":"IF(BO20=\"\",\"\",VLOOKUP(BO20,'aktuelle Düngerliste'!$A:$H,6,FALSE)*BQ20/1000)","v":""},{"$f":"IF(BO20=\"\",\"\",VLOOKUP(BO20,'aktuelle Düngerliste'!$A:$H,7,FALSE)*BQ20/1000)","v":""},null,null,null,"","",{"$f":"IF(CC20=\"\",\"\",VLOOKUP(CC20,'aktuelle Düngerliste'!$A:$H,2,FALSE))","v":""},{"$f":"IF(CC20=\"\",\"\",VLOOKUP(CC20,'aktuelle Düngerliste'!$A:$H,3,FALSE))","v":""},{"$f":"IF(CC20=\"\",\"\",VLOOKUP(CC20,'aktuelle Düngerliste'!$A:$H,8,FALSE))","v":""},{"$f":"IF(CC20=\"\",\"\",VLOOKUP(CC20,'aktuelle Düngerliste'!$A:$H,3,FALSE)*CE20/1000)","v":""},{"$f":"IF(CC20=\"\",\"\",IF(VLOOKUP(CC20,'aktuelle Düngerliste'!$A:$B,2,FALSE)=\"mineralisch\",(VLOOKUP(CC20,'aktuelle Düngerliste'!$A:$H,3,FALSE)*CE20/1000),\"\"))","v":""},{"$f":"IF(CC20=\"\",\"\",VLOOKUP(CC20,'aktuelle Düngerliste'!$A:$J,10,FALSE)*CE20/1000)","v":""},{"$f":"IF(CC20=\"\",\"\",VLOOKUP(CC20,'aktuelle Düngerliste'!$A:$H,5,FALSE)*CE20/1000)","v":""},{"$f":"IF(CC20=\"\",\"\",VLOOKUP(CC20,'aktuelle Düngerliste'!$A:$H,6,FALSE)*CE20/1000)","v":""},{"$f":"IF(CC20=\"\",\"\",VLOOKUP(CC20,'aktuelle Düngerliste'!$A:$H,7,FALSE)*CE20/1000)","v":""},null,null,null,"","",{"$f":"IF(CQ20=\"\",\"\",VLOOKUP(CQ20,'aktuelle Düngerliste'!$A:$H,2,FALSE))","v":""},{"$f":"IF(CQ20=\"\",\"\",VLOOKUP(CQ20,'aktuelle Düngerliste'!$A:$H,3,FALSE))","v":""},{"$f":"IF(CQ20=\"\",\"\",VLOOKUP(CQ20,'aktuelle Düngerliste'!$A:$H,8,FALSE))","v":""},{"$f":"IF(CQ20=\"\",\"\",VLOOKUP(CQ20,'aktuelle Düngerliste'!$A:$H,3,FALSE)*CS20/1000)","v":""},{"$f":"IF(CQ20=\"\",\"\",IF(VLOOKUP(CQ20,'aktuelle Düngerliste'!$A:$B,2,FALSE)=\"mineralisch\",(VLOOKUP(CQ20,'aktuelle Düngerliste'!$A:$H,3,FALSE)*CS20/1000),\"\"))","v":""},{"$f":"IF(CQ20=\"\",\"\",VLOOKUP(CQ20,'aktuelle Düngerliste'!$A:$J,10,FALSE)*CS20/1000)","v":""},{"$f":"IF(CQ20=\"\",\"\",VLOOKUP(CQ20,'aktuelle Düngerliste'!$A:$H,5,FALSE)*CS20/1000)","v":""},{"$f":"IF(CQ20=\"\",\"\",VLOOKUP(CQ20,'aktuelle Düngerliste'!$A:$H,6,FALSE)*CS20/1000)","v":""},{"$f":"IF(CQ20=\"\",\"\",VLOOKUP(CQ20,'aktuelle Düngerliste'!$A:$H,7,FALSE)*CS20/1000)","v":""},null,null,null,"","",{"$f":"IF(DE20=\"\",\"\",VLOOKUP(DE20,'aktuelle Düngerliste'!$A:$H,2,FALSE))","v":""},{"$f":"IF(DE20=\"\",\"\",VLOOKUP(DE20,'aktuelle Düngerliste'!$A:$H,3,FALSE))","v":""},{"$f":"IF(DE20=\"\",\"\",VLOOKUP(DE20,'aktuelle Düngerliste'!$A:$H,8,FALSE))","v":""},{"$f":"IF(DE20=\"\",\"\",VLOOKUP(DE20,'aktuelle Düngerliste'!$A:$H,3,FALSE)*DG20/1000)","v":""},{"$f":"IF(DE20=\"\",\"\",IF(VLOOKUP(DE20,'aktuelle Düngerliste'!$A:$B,2,FALSE)=\"mineralisch\",(VLOOKUP(DE20,'aktuelle Düngerliste'!$A:$H,3,FALSE)*DG20/1000),\"\"))","v":""},{"$f":"IF(DE20=\"\",\"\",VLOOKUP(DE20,'aktuelle Düngerliste'!$A:$J,10,FALSE)*DG20/1000)","v":""},{"$f":"IF(DE20=\"\",\"\",VLOOKUP(DE20,'aktuelle Düngerliste'!$A:$H,5,FALSE)*DG20/1000)","v":""},{"$f":"IF(DE20=\"\",\"\",VLOOKUP(DE20,'aktuelle Düngerliste'!$A:$H,6,FALSE)*DG20/1000)","v":""},{"$f":"IF(DE20=\"\",\"\",VLOOKUP(DE20,'aktuelle Düngerliste'!$A:$H,7,FALSE)*DG20/1000)","v":""}]
[{"$f":"IF('N-DBE'!A21=\"\",\"\",'N-DBE'!A21)","v":""},{"$f":"IF('N-DBE'!B21=\"\",\"\",'N-DBE'!B21)","v":""},{"$f":"IF('N-DBE'!C21=\"\",\"\",'N-DBE'!C21)","v":""},{"$f":"IF('N-DBE'!D21=\"\",\"\",'N-DBE'!D21)","v":""},{"$f":"IF('N-DBE'!E21=\"\",\"\",'N-DBE'!E21)","v":""},{"$f":"IF('N-DBE'!F21=\"\",\"\",'N-DBE'!F21)","v":""},{"$f":"IF('N-DBE'!G21=\"\",\"\",'N-DBE'!G21)","v":""},{"$f":"IF(OR(B21=\"\",'N-DBE'!AJ21=\"\"),\"\",'N-DBE'!AJ21+'N-DBE'!AN21)","v":""},{"$f":"IF(OR(B21=\"\",'N-DBE'!AJ21=\"\"),\"\",'N-DBE'!E21*('N-DBE'!AJ21+'N-DBE'!AN21))","v":""},{"$f":"IF('N-DBE'!AK21=\"\",\"\",IF('N-DBE'!AM21=\"ja\",'N-DBE'!AK21+'N-DBE'!AN21,'N-DBE'!AK21))","v":""},{"$f":"IF(OR(B21=\"\",'N-DBE'!AK21=\"\"),\"\",IF('N-DBE'!AM21=\"ja\",'N-DBE'!E21*('N-DBE'!AK21+'N-DBE'!AN21),'N-DBE'!E21*'N-DBE'!AK21))","v":""},{"$f":"IF(OR(B21=\"\",'N-DBE'!AL21=\"\"),\"\",'N-DBE'!AL21+'N-DBE'!AN21)","v":""},{"$f":"IF(OR(B21=\"\",'N-DBE'!AL21=\"\"),\"\",'N-DBE'!E21*('N-DBE'!AL21+'N-DBE'!AN21))","v":""},{"$f":"IF(AND('N-DBE'!C21=\"ja\",G21<>\"\"),I21-X21,\"\")","v":""},{"$f":"IF('N-DBE'!AJ21=\"\",\"\",SUM(AU21,BI21,BW21,CK21,CY21,DM21))","v":""},{"$f":"IF(OR(B21=\"\",'N-DBE'!AJ21=\"\"),\"\",O21*'N-DBE'!E21)","v":""},{"$f":"IF('N-DBE'!AJ21=\"\",\"\",IF(AR21=\"mineralisch\",AU21,0)+IF(BF21=\"mineralisch\",BI21,0)+IF(BT21=\"mineralisch\",BW21,0)+IF(CH21=\"mineralisch\",CK21,0)+IF(CV21=\"mineralisch\",CY21,0)+IF(DJ21=\"mineralisch\",DM21,0))","v":""},{"$f":"IF(OR(B21=\"\",'N-DBE'!AJ21=\"\"),\"\",Q21*'N-DBE'!E21)","v":""},{"$f":"IF('N-DBE'!AJ21=\"\",\"\",O21-Q21)","v":""},{"$f":"IF(OR(B21=\"\",'N-DBE'!AJ21=\"\"),\"\",S21*'N-DBE'!E21)","v":""},{"$f":"IF('N-DBE'!AJ21=\"\",\"\",(IF(AR21=\"Kompost\",AU21,0)+IF(BF21=\"Kompost\",BI21,0)+IF(BT21=\"Kompost\",BW21,0)+IF(CH21=\"Kompost\",CK21,0)+IF(CV21=\"Kompost\",CY21,0)+IF(DJ21=\"Kompost\",DM21,0)))","v":""},{"$f":"IF(OR(B21=\"\",'N-DBE'!AJ21=\"\"),\"\",U21*'N-DBE'!E21)","v":""},{"$f":"IF('N-DBE'!AJ21=\"\",\"\",SUM(AW21,BK21,BY21,CM21,DA21,DO21))","v":""},{"$f":"IF(OR(B21=\"\",'N-DBE'!AJ21=\"\"),\"\",W21*'N-DBE'!E21)","v":""},{"$f":"IF('P-(K-Mg)-DBE'!N21=\"\",\"\",'P-(K-Mg)-DBE'!N21+'P-(K-Mg)-DBE'!R21)","v":""},{"$f":"IF(OR(B21=\"\",'P-(K-Mg)-DBE'!N21=\"\"),\"\",'N-DBE'!E21*('P-(K-Mg)-DBE'!N21+'P-(K-Mg)-DBE'!R21))","v":""},{"$f":"IF('P-(K-Mg)-DBE'!N21=\"\",\"\",SUM(AX21,BL21,BZ21,CN21,DB21,DP21))","v":""},{"$f":"IF(OR(B21=\"\",'P-(K-Mg)-DBE'!Z21=\"\"),\"\",SUM(AX21,BL21,BZ21,CN21,DB21,DP21)*'N-DBE'!E21)","v":""},{"$f":"IF('P-(K-Mg)-DBE'!O21=\"\",\"\",'P-(K-Mg)-DBE'!O21)","v":""},{"$f":"IF(OR(B21=\"\",'P-(K-Mg)-DBE'!O21=\"\"),\"\",'P-(K-Mg)-DBE'!O21*'N-DBE'!E21)","v":""},{"$f":"IF('P-(K-Mg)-DBE'!Z21=\"\",\"\",'P-(K-Mg)-DBE'!Z21)","v":""},{"$f":"IF(OR(B21=\"\",'P-(K-Mg)-DBE'!Z21=\"\"),\"\",'P-(K-Mg)-DBE'!Z21*'N-DBE'!E21)","v":""},{"$f":"IF('P-(K-Mg)-DBE'!Z21=\"\",\"\",SUM(AY21,BM21,CA21,CO21,DC21,DQ21))","v":""},{"$f":"IF(OR(B21=\"\",'P-(K-Mg)-DBE'!AH21=\"\"),\"\",SUM(AY21,BM21,CA21,CO21,DC21,DQ11)*'N-DBE'!E21)","v":""},{"$f":"IF('P-(K-Mg)-DBE'!AH21=\"\",\"\",'P-(K-Mg)-DBE'!AH21)","v":""},{"$f":"IF(OR(B21=\"\",'P-(K-Mg)-DBE'!AH21=\"\"),\"\",'N-DBE'!E21*'P-(K-Mg)-DBE'!AH21)","v":""},{"$f":"IF('P-(K-Mg)-DBE'!AH21=\"\",\"\",SUM(AZ21,BN21,CB21,CP21,DD21,DR21))","v":""},{"$f":"IF('P-(K-Mg)-DBE'!AH21=\"\",\"\",SUM(AZ21,BN21,CB21,CP21,DD21,DR21))","v":""},null,null,null,"","",{"$f":"IF(AM21=\"\",\"\",VLOOKUP(AM21,'aktuelle Düngerliste'!A:H,2,FALSE))","v":""},{"$f":"IF(AM21=\"\",\"\",VLOOKUP(AM21,'aktuelle Düngerliste'!A:H,3,FALSE))","v":""},{"$f":"IF(AM21=\"\",\"\",VLOOKUP(AM21,'aktuelle Düngerliste'!A:H,8,FALSE))","v":""},{"$f":"IF(AM21=\"\",\"\",VLOOKUP(AM21,'aktuelle Düngerliste'!$A:$H,3,FALSE)*AO21/1000)","v":""},{"$f":"IF(AM21=\"\",\"\",IF(VLOOKUP(AM21,'aktuelle Düngerliste'!$A:$B,2,FALSE)=\"mineralisch\",(VLOOKUP(AM21,'aktuelle Düngerliste'!$A:$H,3,FALSE)*AO21/1000),\"\"))","v":""},{"$f":"IF(AM21=\"\",\"\",VLOOKUP(AM21,'aktuelle Düngerliste'!$A:$J,10,FALSE)*AO21/1000)","v":""},{"$f":"IF(AM21=\"\",\"\",VLOOKUP(AM21,'aktuelle Düngerliste'!$A:$H,5,FALSE)*AO21/1000)","v":""},{"$f":"IF(AM21=\"\",\"\",VLOOKUP(AM21,'aktuelle Düngerliste'!$A:$H,6,FALSE)*AO21/1000)","v":""},{"$f":"IF(AM21=\"\",\"\",VLOOKUP(AM21,'aktuelle Düngerliste'!$A:$H,7,FALSE)*AO21/1000)","v":""},null,null,null,"","",{"$f":"IF(BA21=\"\",\"\",VLOOKUP(BA21,'aktuelle Düngerliste'!$A:$H,2,FALSE))","v":""},{"$f":"IF(BA21=\"\",\"\",VLOOKUP(BA21,'aktuelle Düngerliste'!$A:$H,3,FALSE))","v":""},{"$f":"IF(BA21=\"\",\"\",VLOOKUP(BA21,'aktuelle Düngerliste'!$A:$H,8,FALSE))","v":""},{"$f":"IF(BA21=\"\",\"\",VLOOKUP(BA21,'aktuelle Düngerliste'!$A:$H,3,FALSE)*BC21/1000)","v":""},{"$f":"IF(BA21=\"\",\"\",IF(VLOOKUP(BA21,'aktuelle Düngerliste'!$A:$B,2,FALSE)=\"mineralisch\",(VLOOKUP(BA21,'aktuelle Düngerliste'!$A:$H,3,FALSE)*BC21/1000),\"\"))","v":""},{"$f":"IF(BA21=\"\",\"\",VLOOKUP(BA21,'aktuelle Düngerliste'!$A:$J,10,FALSE)*BC21/1000)","v":""},{"$f":"IF(BA21=\"\",\"\",VLOOKUP(BA21,'aktuelle Düngerliste'!$A:$H,5,FALSE)*BC21/1000)","v":""},{"$f":"IF(BA21=\"\",\"\",VLOOKUP(BA21,'aktuelle Düngerliste'!$A:$H,6,FALSE)*BC21/1000)","v":""},{"$f":"IF(BA21=\"\",\"\",VLOOKUP(BA21,'aktuelle Düngerliste'!$A:$H,7,FALSE)*BC21/1000)","v":""},null,null,null,"","",{"$f":"IF(BO21=\"\",\"\",VLOOKUP(BO21,'aktuelle Düngerliste'!$A:$H,2,FALSE))","v":""},{"$f":"IF(BO21=\"\",\"\",VLOOKUP(BO21,'aktuelle Düngerliste'!$A:$H,3,FALSE))","v":""},{"$f":"IF(BO21=\"\",\"\",VLOOKUP(BO21,'aktuelle Düngerliste'!$A:$H,8,FALSE))","v":""},{"$f":"IF(BO21=\"\",\"\",VLOOKUP(BO21,'aktuelle Düngerliste'!$A:$H,3,FALSE)*BQ21/1000)","v":""},{"$f":"IF(BO21=\"\",\"\",IF(VLOOKUP(BO21,'aktuelle Düngerliste'!$A:$B,2,FALSE)=\"mineralisch\",(VLOOKUP(BO21,'aktuelle Düngerliste'!$A:$H,3,FALSE)*BQ21/1000),\"\"))","v":""},{"$f":"IF(BO21=\"\",\"\",VLOOKUP(BO21,'aktuelle Düngerliste'!$A:$J,10,FALSE)*BQ21/1000)","v":""},{"$f":"IF(BO21=\"\",\"\",VLOOKUP(BO21,'aktuelle Düngerliste'!$A:$H,5,FALSE)*BQ21/1000)","v":""},{"$f":"IF(BO21=\"\",\"\",VLOOKUP(BO21,'aktuelle Düngerliste'!$A:$H,6,FALSE)*BQ21/1000)","v":""},{"$f":"IF(BO21=\"\",\"\",VLOOKUP(BO21,'aktuelle Düngerliste'!$A:$H,7,FALSE)*BQ21/1000)","v":""},null,null,null,"","",{"$f":"IF(CC21=\"\",\"\",VLOOKUP(CC21,'aktuelle Düngerliste'!$A:$H,2,FALSE))","v":""},{"$f":"IF(CC21=\"\",\"\",VLOOKUP(CC21,'aktuelle Düngerliste'!$A:$H,3,FALSE))","v":""},{"$f":"IF(CC21=\"\",\"\",VLOOKUP(CC21,'aktuelle Düngerliste'!$A:$H,8,FALSE))","v":""},{"$f":"IF(CC21=\"\",\"\",VLOOKUP(CC21,'aktuelle Düngerliste'!$A:$H,3,FALSE)*CE21/1000)","v":""},{"$f":"IF(CC21=\"\",\"\",IF(VLOOKUP(CC21,'aktuelle Düngerliste'!$A:$B,2,FALSE)=\"mineralisch\",(VLOOKUP(CC21,'aktuelle Düngerliste'!$A:$H,3,FALSE)*CE21/1000),\"\"))","v":""},{"$f":"IF(CC21=\"\",\"\",VLOOKUP(CC21,'aktuelle Düngerliste'!$A:$J,10,FALSE)*CE21/1000)","v":""},{"$f":"IF(CC21=\"\",\"\",VLOOKUP(CC21,'aktuelle Düngerliste'!$A:$H,5,FALSE)*CE21/1000)","v":""},{"$f":"IF(CC21=\"\",\"\",VLOOKUP(CC21,'aktuelle Düngerliste'!$A:$H,6,FALSE)*CE21/1000)","v":""},{"$f":"IF(CC21=\"\",\"\",VLOOKUP(CC21,'aktuelle Düngerliste'!$A:$H,7,FALSE)*CE21/1000)","v":""},null,null,null,"","",{"$f":"IF(CQ21=\"\",\"\",VLOOKUP(CQ21,'aktuelle Düngerliste'!$A:$H,2,FALSE))","v":""},{"$f":"IF(CQ21=\"\",\"\",VLOOKUP(CQ21,'aktuelle Düngerliste'!$A:$H,3,FALSE))","v":""},{"$f":"IF(CQ21=\"\",\"\",VLOOKUP(CQ21,'aktuelle Düngerliste'!$A:$H,8,FALSE))","v":""},{"$f":"IF(CQ21=\"\",\"\",VLOOKUP(CQ21,'aktuelle Düngerliste'!$A:$H,3,FALSE)*CS21/1000)","v":""},{"$f":"IF(CQ21=\"\",\"\",IF(VLOOKUP(CQ21,'aktuelle Düngerliste'!$A:$B,2,FALSE)=\"mineralisch\",(VLOOKUP(CQ21,'aktuelle Düngerliste'!$A:$H,3,FALSE)*CS21/1000),\"\"))","v":""},{"$f":"IF(CQ21=\"\",\"\",VLOOKUP(CQ21,'aktuelle Düngerliste'!$A:$J,10,FALSE)*CS21/1000)","v":""},{"$f":"IF(CQ21=\"\",\"\",VLOOKUP(CQ21,'aktuelle Düngerliste'!$A:$H,5,FALSE)*CS21/1000)","v":""},{"$f":"IF(CQ21=\"\",\"\",VLOOKUP(CQ21,'aktuelle Düngerliste'!$A:$H,6,FALSE)*CS21/1000)","v":""},{"$f":"IF(CQ21=\"\",\"\",VLOOKUP(CQ21,'aktuelle Düngerliste'!$A:$H,7,FALSE)*CS21/1000)","v":""},null,null,null,"","",{"$f":"IF(DE21=\"\",\"\",VLOOKUP(DE21,'aktuelle Düngerliste'!$A:$H,2,FALSE))","v":""},{"$f":"IF(DE21=\"\",\"\",VLOOKUP(DE21,'aktuelle Düngerliste'!$A:$H,3,FALSE))","v":""},{"$f":"IF(DE21=\"\",\"\",VLOOKUP(DE21,'aktuelle Düngerliste'!$A:$H,8,FALSE))","v":""},{"$f":"IF(DE21=\"\",\"\",VLOOKUP(DE21,'aktuelle Düngerliste'!$A:$H,3,FALSE)*DG21/1000)","v":""},{"$f":"IF(DE21=\"\",\"\",IF(VLOOKUP(DE21,'aktuelle Düngerliste'!$A:$B,2,FALSE)=\"mineralisch\",(VLOOKUP(DE21,'aktuelle Düngerliste'!$A:$H,3,FALSE)*DG21/1000),\"\"))","v":""},{"$f":"IF(DE21=\"\",\"\",VLOOKUP(DE21,'aktuelle Düngerliste'!$A:$J,10,FALSE)*DG21/1000)","v":""},{"$f":"IF(DE21=\"\",\"\",VLOOKUP(DE21,'aktuelle Düngerliste'!$A:$H,5,FALSE)*DG21/1000)","v":""},{"$f":"IF(DE21=\"\",\"\",VLOOKUP(DE21,'aktuelle Düngerliste'!$A:$H,6,FALSE)*DG21/1000)","v":""},{"$f":"IF(DE21=\"\",\"\",VLOOKUP(DE21,'aktuelle Düngerliste'!$A:$H,7,FALSE)*DG21/1000)","v":""}]
[{"$f":"IF('N-DBE'!A22=\"\",\"\",'N-DBE'!A22)","v":""},{"$f":"IF('N-DBE'!B22=\"\",\"\",'N-DBE'!B22)","v":""},{"$f":"IF('N-DBE'!C22=\"\",\"\",'N-DBE'!C22)","v":""},{"$f":"IF('N-DBE'!D22=\"\",\"\",'N-DBE'!D22)","v":""},{"$f":"IF('N-DBE'!E22=\"\",\"\",'N-DBE'!E22)","v":""},{"$f":"IF('N-DBE'!F22=\"\",\"\",'N-DBE'!F22)","v":""},{"$f":"IF('N-DBE'!G22=\"\",\"\",'N-DBE'!G22)","v":""},{"$f":"IF(OR(B22=\"\",'N-DBE'!AJ22=\"\"),\"\",'N-DBE'!AJ22+'N-DBE'!AN22)","v":""},{"$f":"IF(OR(B22=\"\",'N-DBE'!AJ22=\"\"),\"\",'N-DBE'!E22*('N-DBE'!AJ22+'N-DBE'!AN22))","v":""},{"$f":"IF('N-DBE'!AK22=\"\",\"\",IF('N-DBE'!AM22=\"ja\",'N-DBE'!AK22+'N-DBE'!AN22,'N-DBE'!AK22))","v":""},{"$f":"IF(OR(B22=\"\",'N-DBE'!AK22=\"\"),\"\",IF('N-DBE'!AM22=\"ja\",'N-DBE'!E22*('N-DBE'!AK22+'N-DBE'!AN22),'N-DBE'!E22*'N-DBE'!AK22))","v":""},{"$f":"IF(OR(B22=\"\",'N-DBE'!AL22=\"\"),\"\",'N-DBE'!AL22+'N-DBE'!AN22)","v":""},{"$f":"IF(OR(B22=\"\",'N-DBE'!AL22=\"\"),\"\",'N-DBE'!E22*('N-DBE'!AL22+'N-DBE'!AN22))","v":""},{"$f":"IF(AND('N-DBE'!C22=\"ja\",G22<>\"\"),I22-X22,\"\")","v":""},{"$f":"IF('N-DBE'!AJ22=\"\",\"\",SUM(AU22,BI22,BW22,CK22,CY22,DM22))","v":""},{"$f":"IF(OR(B22=\"\",'N-DBE'!AJ22=\"\"),\"\",O22*'N-DBE'!E22)","v":""},{"$f":"IF('N-DBE'!AJ22=\"\",\"\",IF(AR22=\"mineralisch\",AU22,0)+IF(BF22=\"mineralisch\",BI22,0)+IF(BT22=\"mineralisch\",BW22,0)+IF(CH22=\"mineralisch\",CK22,0)+IF(CV22=\"mineralisch\",CY22,0)+IF(DJ22=\"mineralisch\",DM22,0))","v":""},{"$f":"IF(OR(B22=\"\",'N-DBE'!AJ22=\"\"),\"\",Q22*'N-DBE'!E22)","v":""},{"$f":"IF('N-DBE'!AJ22=\"\",\"\",O22-Q22)","v":""},{"$f":"IF(OR(B22=\"\",'N-DBE'!AJ22=\"\"),\"\",S22*'N-DBE'!E22)","v":""},{"$f":"IF('N-DBE'!AJ22=\"\",\"\",(IF(AR22=\"Kompost\",AU22,0)+IF(BF22=\"Kompost\",BI22,0)+IF(BT22=\"Kompost\",BW22,0)+IF(CH22=\"Kompost\",CK22,0)+IF(CV22=\"Kompost\",CY22,0)+IF(DJ22=\"Kompost\",DM22,0)))","v":""},{"$f":"IF(OR(B22=\"\",'N-DBE'!AJ22=\"\"),\"\",U22*'N-DBE'!E22)","v":""},{"$f":"IF('N-DBE'!AJ22=\"\",\"\",SUM(AW22,BK22,BY22,CM22,DA22,DO22))","v":""},{"$f":"IF(OR(B22=\"\",'N-DBE'!AJ22=\"\"),\"\",W22*'N-DBE'!E22)","v":""},{"$f":"IF('P-(K-Mg)-DBE'!N22=\"\",\"\",'P-(K-Mg)-DBE'!N22+'P-(K-Mg)-DBE'!R22)","v":""},{"$f":"IF(OR(B22=\"\",'P-(K-Mg)-DBE'!N22=\"\"),\"\",'N-DBE'!E22*('P-(K-Mg)-DBE'!N22+'P-(K-Mg)-DBE'!R22))","v":""},{"$f":"IF('P-(K-Mg)-DBE'!N22=\"\",\"\",SUM(AX22,BL22,BZ22,CN22,DB22,DP22))","v":""},{"$f":"IF(OR(B22=\"\",'P-(K-Mg)-DBE'!Z22=\"\"),\"\",SUM(AX22,BL22,BZ22,CN22,DB22,DP22)*'N-DBE'!E22)","v":""},{"$f":"IF('P-(K-Mg)-DBE'!O22=\"\",\"\",'P-(K-Mg)-DBE'!O22)","v":""},{"$f":"IF(OR(B22=\"\",'P-(K-Mg)-DBE'!O22=\"\"),\"\",'P-(K-Mg)-DBE'!O22*'N-DBE'!E22)","v":""},{"$f":"IF('P-(K-Mg)-DBE'!Z22=\"\",\"\",'P-(K-Mg)-DBE'!Z22)","v":""},{"$f":"IF(OR(B22=\"\",'P-(K-Mg)-DBE'!Z22=\"\"),\"\",'P-(K-Mg)-DBE'!Z22*'N-DBE'!E22)","v":""},{"$f":"IF('P-(K-Mg)-DBE'!Z22=\"\",\"\",SUM(AY22,BM22,CA22,CO22,DC22,DQ22))","v":""},{"$f":"IF(OR(B22=\"\",'P-(K-Mg)-DBE'!AH22=\"\"),\"\",SUM(AY22,BM22,CA22,CO22,DC22,DQ12)*'N-DBE'!E22)","v":""},{"$f":"IF('P-(K-Mg)-DBE'!AH22=\"\",\"\",'P-(K-Mg)-DBE'!AH22)","v":""},{"$f":"IF(OR(B22=\"\",'P-(K-Mg)-DBE'!AH22=\"\"),\"\",'N-DBE'!E22*'P-(K-Mg)-DBE'!AH22)","v":""},{"$f":"IF('P-(K-Mg)-DBE'!AH22=\"\",\"\",SUM(AZ22,BN22,CB22,CP22,DD22,DR22))","v":""},{"$f":"IF('P-(K-Mg)-DBE'!AH22=\"\",\"\",SUM(AZ22,BN22,CB22,CP22,DD22,DR22))","v":""},null,null,null,"","",{"$f":"IF(AM22=\"\",\"\",VLOOKUP(AM22,'aktuelle Düngerliste'!A:H,2,FALSE))","v":""},{"$f":"IF(AM22=\"\",\"\",VLOOKUP(AM22,'aktuelle Düngerliste'!A:H,3,FALSE))","v":""},{"$f":"IF(AM22=\"\",\"\",VLOOKUP(AM22,'aktuelle Düngerliste'!A:H,8,FALSE))","v":""},{"$f":"IF(AM22=\"\",\"\",VLOOKUP(AM22,'aktuelle Düngerliste'!$A:$H,3,FALSE)*AO22/1000)","v":""},{"$f":"IF(AM22=\"\",\"\",IF(VLOOKUP(AM22,'aktuelle Düngerliste'!$A:$B,2,FALSE)=\"mineralisch\",(VLOOKUP(AM22,'aktuelle Düngerliste'!$A:$H,3,FALSE)*AO22/1000),\"\"))","v":""},{"$f":"IF(AM22=\"\",\"\",VLOOKUP(AM22,'aktuelle Düngerliste'!$A:$J,10,FALSE)*AO22/1000)","v":""},{"$f":"IF(AM22=\"\",\"\",VLOOKUP(AM22,'aktuelle Düngerliste'!$A:$H,5,FALSE)*AO22/1000)","v":""},{"$f":"IF(AM22=\"\",\"\",VLOOKUP(AM22,'aktuelle Düngerliste'!$A:$H,6,FALSE)*AO22/1000)","v":""},{"$f":"IF(AM22=\"\",\"\",VLOOKUP(AM22,'aktuelle Düngerliste'!$A:$H,7,FALSE)*AO22/1000)","v":""},null,null,null,"","",{"$f":"IF(BA22=\"\",\"\",VLOOKUP(BA22,'aktuelle Düngerliste'!$A:$H,2,FALSE))","v":""},{"$f":"IF(BA22=\"\",\"\",VLOOKUP(BA22,'aktuelle Düngerliste'!$A:$H,3,FALSE))","v":""},{"$f":"IF(BA22=\"\",\"\",VLOOKUP(BA22,'aktuelle Düngerliste'!$A:$H,8,FALSE))","v":""},{"$f":"IF(BA22=\"\",\"\",VLOOKUP(BA22,'aktuelle Düngerliste'!$A:$H,3,FALSE)*BC22/1000)","v":""},{"$f":"IF(BA22=\"\",\"\",IF(VLOOKUP(BA22,'aktuelle Düngerliste'!$A:$B,2,FALSE)=\"mineralisch\",(VLOOKUP(BA22,'aktuelle Düngerliste'!$A:$H,3,FALSE)*BC22/1000),\"\"))","v":""},{"$f":"IF(BA22=\"\",\"\",VLOOKUP(BA22,'aktuelle Düngerliste'!$A:$J,10,FALSE)*BC22/1000)","v":""},{"$f":"IF(BA22=\"\",\"\",VLOOKUP(BA22,'aktuelle Düngerliste'!$A:$H,5,FALSE)*BC22/1000)","v":""},{"$f":"IF(BA22=\"\",\"\",VLOOKUP(BA22,'aktuelle Düngerliste'!$A:$H,6,FALSE)*BC22/1000)","v":""},{"$f":"IF(BA22=\"\",\"\",VLOOKUP(BA22,'aktuelle Düngerliste'!$A:$H,7,FALSE)*BC22/1000)","v":""},null,null,null,"","",{"$f":"IF(BO22=\"\",\"\",VLOOKUP(BO22,'aktuelle Düngerliste'!$A:$H,2,FALSE))","v":""},{"$f":"IF(BO22=\"\",\"\",VLOOKUP(BO22,'aktuelle Düngerliste'!$A:$H,3,FALSE))","v":""},{"$f":"IF(BO22=\"\",\"\",VLOOKUP(BO22,'aktuelle Düngerliste'!$A:$H,8,FALSE))","v":""},{"$f":"IF(BO22=\"\",\"\",VLOOKUP(BO22,'aktuelle Düngerliste'!$A:$H,3,FALSE)*BQ22/1000)","v":""},{"$f":"IF(BO22=\"\",\"\",IF(VLOOKUP(BO22,'aktuelle Düngerliste'!$A:$B,2,FALSE)=\"mineralisch\",(VLOOKUP(BO22,'aktuelle Düngerliste'!$A:$H,3,FALSE)*BQ22/1000),\"\"))","v":""},{"$f":"IF(BO22=\"\",\"\",VLOOKUP(BO22,'aktuelle Düngerliste'!$A:$J,10,FALSE)*BQ22/1000)","v":""},{"$f":"IF(BO22=\"\",\"\",VLOOKUP(BO22,'aktuelle Düngerliste'!$A:$H,5,FALSE)*BQ22/1000)","v":""},{"$f":"IF(BO22=\"\",\"\",VLOOKUP(BO22,'aktuelle Düngerliste'!$A:$H,6,FALSE)*BQ22/1000)","v":""},{"$f":"IF(BO22=\"\",\"\",VLOOKUP(BO22,'aktuelle Düngerliste'!$A:$H,7,FALSE)*BQ22/1000)","v":""},null,null,null,"","",{"$f":"IF(CC22=\"\",\"\",VLOOKUP(CC22,'aktuelle Düngerliste'!$A:$H,2,FALSE))","v":""},{"$f":"IF(CC22=\"\",\"\",VLOOKUP(CC22,'aktuelle Düngerliste'!$A:$H,3,FALSE))","v":""},{"$f":"IF(CC22=\"\",\"\",VLOOKUP(CC22,'aktuelle Düngerliste'!$A:$H,8,FALSE))","v":""},{"$f":"IF(CC22=\"\",\"\",VLOOKUP(CC22,'aktuelle Düngerliste'!$A:$H,3,FALSE)*CE22/1000)","v":""},{"$f":"IF(CC22=\"\",\"\",IF(VLOOKUP(CC22,'aktuelle Düngerliste'!$A:$B,2,FALSE)=\"mineralisch\",(VLOOKUP(CC22,'aktuelle Düngerliste'!$A:$H,3,FALSE)*CE22/1000),\"\"))","v":""},{"$f":"IF(CC22=\"\",\"\",VLOOKUP(CC22,'aktuelle Düngerliste'!$A:$J,10,FALSE)*CE22/1000)","v":""},{"$f":"IF(CC22=\"\",\"\",VLOOKUP(CC22,'aktuelle Düngerliste'!$A:$H,5,FALSE)*CE22/1000)","v":""},{"$f":"IF(CC22=\"\",\"\",VLOOKUP(CC22,'aktuelle Düngerliste'!$A:$H,6,FALSE)*CE22/1000)","v":""},{"$f":"IF(CC22=\"\",\"\",VLOOKUP(CC22,'aktuelle Düngerliste'!$A:$H,7,FALSE)*CE22/1000)","v":""},null,null,null,"","",{"$f":"IF(CQ22=\"\",\"\",VLOOKUP(CQ22,'aktuelle Düngerliste'!$A:$H,2,FALSE))","v":""},{"$f":"IF(CQ22=\"\",\"\",VLOOKUP(CQ22,'aktuelle Düngerliste'!$A:$H,3,FALSE))","v":""},{"$f":"IF(CQ22=\"\",\"\",VLOOKUP(CQ22,'aktuelle Düngerliste'!$A:$H,8,FALSE))","v":""},{"$f":"IF(CQ22=\"\",\"\",VLOOKUP(CQ22,'aktuelle Düngerliste'!$A:$H,3,FALSE)*CS22/1000)","v":""},{"$f":"IF(CQ22=\"\",\"\",IF(VLOOKUP(CQ22,'aktuelle Düngerliste'!$A:$B,2,FALSE)=\"mineralisch\",(VLOOKUP(CQ22,'aktuelle Düngerliste'!$A:$H,3,FALSE)*CS22/1000),\"\"))","v":""},{"$f":"IF(CQ22=\"\",\"\",VLOOKUP(CQ22,'aktuelle Düngerliste'!$A:$J,10,FALSE)*CS22/1000)","v":""},{"$f":"IF(CQ22=\"\",\"\",VLOOKUP(CQ22,'aktuelle Düngerliste'!$A:$H,5,FALSE)*CS22/1000)","v":""},{"$f":"IF(CQ22=\"\",\"\",VLOOKUP(CQ22,'aktuelle Düngerliste'!$A:$H,6,FALSE)*CS22/1000)","v":""},{"$f":"IF(CQ22=\"\",\"\",VLOOKUP(CQ22,'aktuelle Düngerliste'!$A:$H,7,FALSE)*CS22/1000)","v":""},null,null,null,"","",{"$f":"IF(DE22=\"\",\"\",VLOOKUP(DE22,'aktuelle Düngerliste'!$A:$H,2,FALSE))","v":""},{"$f":"IF(DE22=\"\",\"\",VLOOKUP(DE22,'aktuelle Düngerliste'!$A:$H,3,FALSE))","v":""},{"$f":"IF(DE22=\"\",\"\",VLOOKUP(DE22,'aktuelle Düngerliste'!$A:$H,8,FALSE))","v":""},{"$f":"IF(DE22=\"\",\"\",VLOOKUP(DE22,'aktuelle Düngerliste'!$A:$H,3,FALSE)*DG22/1000)","v":""},{"$f":"IF(DE22=\"\",\"\",IF(VLOOKUP(DE22,'aktuelle Düngerliste'!$A:$B,2,FALSE)=\"mineralisch\",(VLOOKUP(DE22,'aktuelle Düngerliste'!$A:$H,3,FALSE)*DG22/1000),\"\"))","v":""},{"$f":"IF(DE22=\"\",\"\",VLOOKUP(DE22,'aktuelle Düngerliste'!$A:$J,10,FALSE)*DG22/1000)","v":""},{"$f":"IF(DE22=\"\",\"\",VLOOKUP(DE22,'aktuelle Düngerliste'!$A:$H,5,FALSE)*DG22/1000)","v":""},{"$f":"IF(DE22=\"\",\"\",VLOOKUP(DE22,'aktuelle Düngerliste'!$A:$H,6,FALSE)*DG22/1000)","v":""},{"$f":"IF(DE22=\"\",\"\",VLOOKUP(DE22,'aktuelle Düngerliste'!$A:$H,7,FALSE)*DG22/1000)","v":""}]
[{"$f":"IF('N-DBE'!A23=\"\",\"\",'N-DBE'!A23)","v":""},{"$f":"IF('N-DBE'!B23=\"\",\"\",'N-DBE'!B23)","v":""},{"$f":"IF('N-DBE'!C23=\"\",\"\",'N-DBE'!C23)","v":""},{"$f":"IF('N-DBE'!D23=\"\",\"\",'N-DBE'!D23)","v":""},{"$f":"IF('N-DBE'!E23=\"\",\"\",'N-DBE'!E23)","v":""},{"$f":"IF('N-DBE'!F23=\"\",\"\",'N-DBE'!F23)","v":""},{"$f":"IF('N-DBE'!G23=\"\",\"\",'N-DBE'!G23)","v":""},{"$f":"IF(OR(B23=\"\",'N-DBE'!AJ23=\"\"),\"\",'N-DBE'!AJ23+'N-DBE'!AN23)","v":""},{"$f":"IF(OR(B23=\"\",'N-DBE'!AJ23=\"\"),\"\",'N-DBE'!E23*('N-DBE'!AJ23+'N-DBE'!AN23))","v":""},{"$f":"IF('N-DBE'!AK23=\"\",\"\",IF('N-DBE'!AM23=\"ja\",'N-DBE'!AK23+'N-DBE'!AN23,'N-DBE'!AK23))","v":""},{"$f":"IF(OR(B23=\"\",'N-DBE'!AK23=\"\"),\"\",IF('N-DBE'!AM23=\"ja\",'N-DBE'!E23*('N-DBE'!AK23+'N-DBE'!AN23),'N-DBE'!E23*'N-DBE'!AK23))","v":""},{"$f":"IF(OR(B23=\"\",'N-DBE'!AL23=\"\"),\"\",'N-DBE'!AL23+'N-DBE'!AN23)","v":""},{"$f":"IF(OR(B23=\"\",'N-DBE'!AL23=\"\"),\"\",'N-DBE'!E23*('N-DBE'!AL23+'N-DBE'!AN23))","v":""},{"$f":"IF(AND('N-DBE'!C23=\"ja\",G23<>\"\"),I23-X23,\"\")","v":""},{"$f":"IF('N-DBE'!AJ23=\"\",\"\",SUM(AU23,BI23,BW23,CK23,CY23,DM23))","v":""},{"$f":"IF(OR(B23=\"\",'N-DBE'!AJ23=\"\"),\"\",O23*'N-DBE'!E23)","v":""},{"$f":"IF('N-DBE'!AJ23=\"\",\"\",IF(AR23=\"mineralisch\",AU23,0)+IF(BF23=\"mineralisch\",BI23,0)+IF(BT23=\"mineralisch\",BW23,0)+IF(CH23=\"mineralisch\",CK23,0)+IF(CV23=\"mineralisch\",CY23,0)+IF(DJ23=\"mineralisch\",DM23,0))","v":""},{"$f":"IF(OR(B23=\"\",'N-DBE'!AJ23=\"\"),\"\",Q23*'N-DBE'!E23)","v":""},{"$f":"IF('N-DBE'!AJ23=\"\",\"\",O23-Q23)","v":""},{"$f":"IF(OR(B23=\"\",'N-DBE'!AJ23=\"\"),\"\",S23*'N-DBE'!E23)","v":""},{"$f":"IF('N-DBE'!AJ23=\"\",\"\",(IF(AR23=\"Kompost\",AU23,0)+IF(BF23=\"Kompost\",BI23,0)+IF(BT23=\"Kompost\",BW23,0)+IF(CH23=\"Kompost\",CK23,0)+IF(CV23=\"Kompost\",CY23,0)+IF(DJ23=\"Kompost\",DM23,0)))","v":""},{"$f":"IF(OR(B23=\"\",'N-DBE'!AJ23=\"\"),\"\",U23*'N-DBE'!E23)","v":""},{"$f":"IF('N-DBE'!AJ23=\"\",\"\",SUM(AW23,BK23,BY23,CM23,DA23,DO23))","v":""},{"$f":"IF(OR(B23=\"\",'N-DBE'!AJ23=\"\"),\"\",W23*'N-DBE'!E23)","v":""},{"$f":"IF('P-(K-Mg)-DBE'!N23=\"\",\"\",'P-(K-Mg)-DBE'!N23+'P-(K-Mg)-DBE'!R23)","v":""},{"$f":"IF(OR(B23=\"\",'P-(K-Mg)-DBE'!N23=\"\"),\"\",'N-DBE'!E23*('P-(K-Mg)-DBE'!N23+'P-(K-Mg)-DBE'!R23))","v":""},{"$f":"IF('P-(K-Mg)-DBE'!N23=\"\",\"\",SUM(AX23,BL23,BZ23,CN23,DB23,DP23))","v":""},{"$f":"IF(OR(B23=\"\",'P-(K-Mg)-DBE'!Z23=\"\"),\"\",SUM(AX23,BL23,BZ23,CN23,DB23,DP23)*'N-DBE'!E23)","v":""},{"$f":"IF('P-(K-Mg)-DBE'!O23=\"\",\"\",'P-(K-Mg)-DBE'!O23)","v":""},{"$f":"IF(OR(B23=\"\",'P-(K-Mg)-DBE'!O23=\"\"),\"\",'P-(K-Mg)-DBE'!O23*'N-DBE'!E23)","v":""},{"$f":"IF('P-(K-Mg)-DBE'!Z23=\"\",\"\",'P-(K-Mg)-DBE'!Z23)","v":""},{"$f":"IF(OR(B23=\"\",'P-(K-Mg)-DBE'!Z23=\"\"),\"\",'P-(K-Mg)-DBE'!Z23*'N-DBE'!E23)","v":""},{"$f":"IF('P-(K-Mg)-DBE'!Z23=\"\",\"\",SUM(AY23,BM23,CA23,CO23,DC23,DQ23))","v":""},{"$f":"IF(OR(B23=\"\",'P-(K-Mg)-DBE'!AH23=\"\"),\"\",SUM(AY23,BM23,CA23,CO23,DC23,DQ13)*'N-DBE'!E23)","v":""},{"$f":"IF('P-(K-Mg)-DBE'!AH23=\"\",\"\",'P-(K-Mg)-DBE'!AH23)","v":""},{"$f":"IF(OR(B23=\"\",'P-(K-Mg)-DBE'!AH23=\"\"),\"\",'N-DBE'!E23*'P-(K-Mg)-DBE'!AH23)","v":""},{"$f":"IF('P-(K-Mg)-DBE'!AH23=\"\",\"\",SUM(AZ23,BN23,CB23,CP23,DD23,DR23))","v":""},{"$f":"IF('P-(K-Mg)-DBE'!AH23=\"\",\"\",SUM(AZ23,BN23,CB23,CP23,DD23,DR23))","v":""},null,null,null,"","",{"$f":"IF(AM23=\"\",\"\",VLOOKUP(AM23,'aktuelle Düngerliste'!A:H,2,FALSE))","v":""},{"$f":"IF(AM23=\"\",\"\",VLOOKUP(AM23,'aktuelle Düngerliste'!A:H,3,FALSE))","v":""},{"$f":"IF(AM23=\"\",\"\",VLOOKUP(AM23,'aktuelle Düngerliste'!A:H,8,FALSE))","v":""},{"$f":"IF(AM23=\"\",\"\",VLOOKUP(AM23,'aktuelle Düngerliste'!$A:$H,3,FALSE)*AO23/1000)","v":""},{"$f":"IF(AM23=\"\",\"\",IF(VLOOKUP(AM23,'aktuelle Düngerliste'!$A:$B,2,FALSE)=\"mineralisch\",(VLOOKUP(AM23,'aktuelle Düngerliste'!$A:$H,3,FALSE)*AO23/1000),\"\"))","v":""},{"$f":"IF(AM23=\"\",\"\",VLOOKUP(AM23,'aktuelle Düngerliste'!$A:$J,10,FALSE)*AO23/1000)","v":""},{"$f":"IF(AM23=\"\",\"\",VLOOKUP(AM23,'aktuelle Düngerliste'!$A:$H,5,FALSE)*AO23/1000)","v":""},{"$f":"IF(AM23=\"\",\"\",VLOOKUP(AM23,'aktuelle Düngerliste'!$A:$H,6,FALSE)*AO23/1000)","v":""},{"$f":"IF(AM23=\"\",\"\",VLOOKUP(AM23,'aktuelle Düngerliste'!$A:$H,7,FALSE)*AO23/1000)","v":""},null,null,null,"","",{"$f":"IF(BA23=\"\",\"\",VLOOKUP(BA23,'aktuelle Düngerliste'!$A:$H,2,FALSE))","v":""},{"$f":"IF(BA23=\"\",\"\",VLOOKUP(BA23,'aktuelle Düngerliste'!$A:$H,3,FALSE))","v":""},{"$f":"IF(BA23=\"\",\"\",VLOOKUP(BA23,'aktuelle Düngerliste'!$A:$H,8,FALSE))","v":""},{"$f":"IF(BA23=\"\",\"\",VLOOKUP(BA23,'aktuelle Düngerliste'!$A:$H,3,FALSE)*BC23/1000)","v":""},{"$f":"IF(BA23=\"\",\"\",IF(VLOOKUP(BA23,'aktuelle Düngerliste'!$A:$B,2,FALSE)=\"mineralisch\",(VLOOKUP(BA23,'aktuelle Düngerliste'!$A:$H,3,FALSE)*BC23/1000),\"\"))","v":""},{"$f":"IF(BA23=\"\",\"\",VLOOKUP(BA23,'aktuelle Düngerliste'!$A:$J,10,FALSE)*BC23/1000)","v":""},{"$f":"IF(BA23=\"\",\"\",VLOOKUP(BA23,'aktuelle Düngerliste'!$A:$H,5,FALSE)*BC23/1000)","v":""},{"$f":"IF(BA23=\"\",\"\",VLOOKUP(BA23,'aktuelle Düngerliste'!$A:$H,6,FALSE)*BC23/1000)","v":""},{"$f":"IF(BA23=\"\",\"\",VLOOKUP(BA23,'aktuelle Düngerliste'!$A:$H,7,FALSE)*BC23/1000)","v":""},null,null,null,"","",{"$f":"IF(BO23=\"\",\"\",VLOOKUP(BO23,'aktuelle Düngerliste'!$A:$H,2,FALSE))","v":""},{"$f":"IF(BO23=\"\",\"\",VLOOKUP(BO23,'aktuelle Düngerliste'!$A:$H,3,FALSE))","v":""},{"$f":"IF(BO23=\"\",\"\",VLOOKUP(BO23,'aktuelle Düngerliste'!$A:$H,8,FALSE))","v":""},{"$f":"IF(BO23=\"\",\"\",VLOOKUP(BO23,'aktuelle Düngerliste'!$A:$H,3,FALSE)*BQ23/1000)","v":""},{"$f":"IF(BO23=\"\",\"\",IF(VLOOKUP(BO23,'aktuelle Düngerliste'!$A:$B,2,FALSE)=\"mineralisch\",(VLOOKUP(BO23,'aktuelle Düngerliste'!$A:$H,3,FALSE)*BQ23/1000),\"\"))","v":""},{"$f":"IF(BO23=\"\",\"\",VLOOKUP(BO23,'aktuelle Düngerliste'!$A:$J,10,FALSE)*BQ23/1000)","v":""},{"$f":"IF(BO23=\"\",\"\",VLOOKUP(BO23,'aktuelle Düngerliste'!$A:$H,5,FALSE)*BQ23/1000)","v":""},{"$f":"IF(BO23=\"\",\"\",VLOOKUP(BO23,'aktuelle Düngerliste'!$A:$H,6,FALSE)*BQ23/1000)","v":""},{"$f":"IF(BO23=\"\",\"\",VLOOKUP(BO23,'aktuelle Düngerliste'!$A:$H,7,FALSE)*BQ23/1000)","v":""},null,null,null,"","",{"$f":"IF(CC23=\"\",\"\",VLOOKUP(CC23,'aktuelle Düngerliste'!$A:$H,2,FALSE))","v":""},{"$f":"IF(CC23=\"\",\"\",VLOOKUP(CC23,'aktuelle Düngerliste'!$A:$H,3,FALSE))","v":""},{"$f":"IF(CC23=\"\",\"\",VLOOKUP(CC23,'aktuelle Düngerliste'!$A:$H,8,FALSE))","v":""},{"$f":"IF(CC23=\"\",\"\",VLOOKUP(CC23,'aktuelle Düngerliste'!$A:$H,3,FALSE)*CE23/1000)","v":""},{"$f":"IF(CC23=\"\",\"\",IF(VLOOKUP(CC23,'aktuelle Düngerliste'!$A:$B,2,FALSE)=\"mineralisch\",(VLOOKUP(CC23,'aktuelle Düngerliste'!$A:$H,3,FALSE)*CE23/1000),\"\"))","v":""},{"$f":"IF(CC23=\"\",\"\",VLOOKUP(CC23,'aktuelle Düngerliste'!$A:$J,10,FALSE)*CE23/1000)","v":""},{"$f":"IF(CC23=\"\",\"\",VLOOKUP(CC23,'aktuelle Düngerliste'!$A:$H,5,FALSE)*CE23/1000)","v":""},{"$f":"IF(CC23=\"\",\"\",VLOOKUP(CC23,'aktuelle Düngerliste'!$A:$H,6,FALSE)*CE23/1000)","v":""},{"$f":"IF(CC23=\"\",\"\",VLOOKUP(CC23,'aktuelle Düngerliste'!$A:$H,7,FALSE)*CE23/1000)","v":""},null,null,null,"","",{"$f":"IF(CQ23=\"\",\"\",VLOOKUP(CQ23,'aktuelle Düngerliste'!$A:$H,2,FALSE))","v":""},{"$f":"IF(CQ23=\"\",\"\",VLOOKUP(CQ23,'aktuelle Düngerliste'!$A:$H,3,FALSE))","v":""},{"$f":"IF(CQ23=\"\",\"\",VLOOKUP(CQ23,'aktuelle Düngerliste'!$A:$H,8,FALSE))","v":""},{"$f":"IF(CQ23=\"\",\"\",VLOOKUP(CQ23,'aktuelle Düngerliste'!$A:$H,3,FALSE)*CS23/1000)","v":""},{"$f":"IF(CQ23=\"\",\"\",IF(VLOOKUP(CQ23,'aktuelle Düngerliste'!$A:$B,2,FALSE)=\"mineralisch\",(VLOOKUP(CQ23,'aktuelle Düngerliste'!$A:$H,3,FALSE)*CS23/1000),\"\"))","v":""},{"$f":"IF(CQ23=\"\",\"\",VLOOKUP(CQ23,'aktuelle Düngerliste'!$A:$J,10,FALSE)*CS23/1000)","v":""},{"$f":"IF(CQ23=\"\",\"\",VLOOKUP(CQ23,'aktuelle Düngerliste'!$A:$H,5,FALSE)*CS23/1000)","v":""},{"$f":"IF(CQ23=\"\",\"\",VLOOKUP(CQ23,'aktuelle Düngerliste'!$A:$H,6,FALSE)*CS23/1000)","v":""},{"$f":"IF(CQ23=\"\",\"\",VLOOKUP(CQ23,'aktuelle Düngerliste'!$A:$H,7,FALSE)*CS23/1000)","v":""},null,null,null,"","",{"$f":"IF(DE23=\"\",\"\",VLOOKUP(DE23,'aktuelle Düngerliste'!$A:$H,2,FALSE))","v":""},{"$f":"IF(DE23=\"\",\"\",VLOOKUP(DE23,'aktuelle Düngerliste'!$A:$H,3,FALSE))","v":""},{"$f":"IF(DE23=\"\",\"\",VLOOKUP(DE23,'aktuelle Düngerliste'!$A:$H,8,FALSE))","v":""},{"$f":"IF(DE23=\"\",\"\",VLOOKUP(DE23,'aktuelle Düngerliste'!$A:$H,3,FALSE)*DG23/1000)","v":""},{"$f":"IF(DE23=\"\",\"\",IF(VLOOKUP(DE23,'aktuelle Düngerliste'!$A:$B,2,FALSE)=\"mineralisch\",(VLOOKUP(DE23,'aktuelle Düngerliste'!$A:$H,3,FALSE)*DG23/1000),\"\"))","v":""},{"$f":"IF(DE23=\"\",\"\",VLOOKUP(DE23,'aktuelle Düngerliste'!$A:$J,10,FALSE)*DG23/1000)","v":""},{"$f":"IF(DE23=\"\",\"\",VLOOKUP(DE23,'aktuelle Düngerliste'!$A:$H,5,FALSE)*DG23/1000)","v":""},{"$f":"IF(DE23=\"\",\"\",VLOOKUP(DE23,'aktuelle Düngerliste'!$A:$H,6,FALSE)*DG23/1000)","v":""},{"$f":"IF(DE23=\"\",\"\",VLOOKUP(DE23,'aktuelle Düngerliste'!$A:$H,7,FALSE)*DG23/1000)","v":""}]
[{"$f":"IF('N-DBE'!A24=\"\",\"\",'N-DBE'!A24)","v":""},{"$f":"IF('N-DBE'!B24=\"\",\"\",'N-DBE'!B24)","v":""},{"$f":"IF('N-DBE'!C24=\"\",\"\",'N-DBE'!C24)","v":""},{"$f":"IF('N-DBE'!D24=\"\",\"\",'N-DBE'!D24)","v":""},{"$f":"IF('N-DBE'!E24=\"\",\"\",'N-DBE'!E24)","v":""},{"$f":"IF('N-DBE'!F24=\"\",\"\",'N-DBE'!F24)","v":""},{"$f":"IF('N-DBE'!G24=\"\",\"\",'N-DBE'!G24)","v":""},{"$f":"IF(OR(B24=\"\",'N-DBE'!AJ24=\"\"),\"\",'N-DBE'!AJ24+'N-DBE'!AN24)","v":""},{"$f":"IF(OR(B24=\"\",'N-DBE'!AJ24=\"\"),\"\",'N-DBE'!E24*('N-DBE'!AJ24+'N-DBE'!AN24))","v":""},{"$f":"IF('N-DBE'!AK24=\"\",\"\",IF('N-DBE'!AM24=\"ja\",'N-DBE'!AK24+'N-DBE'!AN24,'N-DBE'!AK24))","v":""},{"$f":"IF(OR(B24=\"\",'N-DBE'!AK24=\"\"),\"\",IF('N-DBE'!AM24=\"ja\",'N-DBE'!E24*('N-DBE'!AK24+'N-DBE'!AN24),'N-DBE'!E24*'N-DBE'!AK24))","v":""},{"$f":"IF(OR(B24=\"\",'N-DBE'!AL24=\"\"),\"\",'N-DBE'!AL24+'N-DBE'!AN24)","v":""},{"$f":"IF(OR(B24=\"\",'N-DBE'!AL24=\"\"),\"\",'N-DBE'!E24*('N-DBE'!AL24+'N-DBE'!AN24))","v":""},{"$f":"IF(AND('N-DBE'!C24=\"ja\",G24<>\"\"),I24-X24,\"\")","v":""},{"$f":"IF('N-DBE'!AJ24=\"\",\"\",SUM(AU24,BI24,BW24,CK24,CY24,DM24))","v":""},{"$f":"IF(OR(B24=\"\",'N-DBE'!AJ24=\"\"),\"\",O24*'N-DBE'!E24)","v":""},{"$f":"IF('N-DBE'!AJ24=\"\",\"\",IF(AR24=\"mineralisch\",AU24,0)+IF(BF24=\"mineralisch\",BI24,0)+IF(BT24=\"mineralisch\",BW24,0)+IF(CH24=\"mineralisch\",CK24,0)+IF(CV24=\"mineralisch\",CY24,0)+IF(DJ24=\"mineralisch\",DM24,0))","v":""},{"$f":"IF(OR(B24=\"\",'N-DBE'!AJ24=\"\"),\"\",Q24*'N-DBE'!E24)","v":""},{"$f":"IF('N-DBE'!AJ24=\"\",\"\",O24-Q24)","v":""},{"$f":"IF(OR(B24=\"\",'N-DBE'!AJ24=\"\"),\"\",S24*'N-DBE'!E24)","v":""},{"$f":"IF('N-DBE'!AJ24=\"\",\"\",(IF(AR24=\"Kompost\",AU24,0)+IF(BF24=\"Kompost\",BI24,0)+IF(BT24=\"Kompost\",BW24,0)+IF(CH24=\"Kompost\",CK24,0)+IF(CV24=\"Kompost\",CY24,0)+IF(DJ24=\"Kompost\",DM24,0)))","v":""},{"$f":"IF(OR(B24=\"\",'N-DBE'!AJ24=\"\"),\"\",U24*'N-DBE'!E24)","v":""},{"$f":"IF('N-DBE'!AJ24=\"\",\"\",SUM(AW24,BK24,BY24,CM24,DA24,DO24))","v":""},{"$f":"IF(OR(B24=\"\",'N-DBE'!AJ24=\"\"),\"\",W24*'N-DBE'!E24)","v":""},{"$f":"IF('P-(K-Mg)-DBE'!N24=\"\",\"\",'P-(K-Mg)-DBE'!N24+'P-(K-Mg)-DBE'!R24)","v":""},{"$f":"IF(OR(B24=\"\",'P-(K-Mg)-DBE'!N24=\"\"),\"\",'N-DBE'!E24*('P-(K-Mg)-DBE'!N24+'P-(K-Mg)-DBE'!R24))","v":""},{"$f":"IF('P-(K-Mg)-DBE'!N24=\"\",\"\",SUM(AX24,BL24,BZ24,CN24,DB24,DP24))","v":""},{"$f":"IF(OR(B24=\"\",'P-(K-Mg)-DBE'!Z24=\"\"),\"\",SUM(AX24,BL24,BZ24,CN24,DB24,DP24)*'N-DBE'!E24)","v":""},{"$f":"IF('P-(K-Mg)-DBE'!O24=\"\",\"\",'P-(K-Mg)-DBE'!O24)","v":""},{"$f":"IF(OR(B24=\"\",'P-(K-Mg)-DBE'!O24=\"\"),\"\",'P-(K-Mg)-DBE'!O24*'N-DBE'!E24)","v":""},{"$f":"IF('P-(K-Mg)-DBE'!Z24=\"\",\"\",'P-(K-Mg)-DBE'!Z24)","v":""},{"$f":"IF(OR(B24=\"\",'P-(K-Mg)-DBE'!Z24=\"\"),\"\",'P-(K-Mg)-DBE'!Z24*'N-DBE'!E24)","v":""},{"$f":"IF('P-(K-Mg)-DBE'!Z24=\"\",\"\",SUM(AY24,BM24,CA24,CO24,DC24,DQ24))","v":""},{"$f":"IF(OR(B24=\"\",'P-(K-Mg)-DBE'!AH24=\"\"),\"\",SUM(AY24,BM24,CA24,CO24,DC24,DQ14)*'N-DBE'!E24)","v":""},{"$f":"IF('P-(K-Mg)-DBE'!AH24=\"\",\"\",'P-(K-Mg)-DBE'!AH24)","v":""},{"$f":"IF(OR(B24=\"\",'P-(K-Mg)-DBE'!AH24=\"\"),\"\",'N-DBE'!E24*'P-(K-Mg)-DBE'!AH24)","v":""},{"$f":"IF('P-(K-Mg)-DBE'!AH24=\"\",\"\",SUM(AZ24,BN24,CB24,CP24,DD24,DR24))","v":""},{"$f":"IF('P-(K-Mg)-DBE'!AH24=\"\",\"\",SUM(AZ24,BN24,CB24,CP24,DD24,DR24))","v":""},null,null,null,"","",{"$f":"IF(AM24=\"\",\"\",VLOOKUP(AM24,'aktuelle Düngerliste'!A:H,2,FALSE))","v":""},{"$f":"IF(AM24=\"\",\"\",VLOOKUP(AM24,'aktuelle Düngerliste'!A:H,3,FALSE))","v":""},{"$f":"IF(AM24=\"\",\"\",VLOOKUP(AM24,'aktuelle Düngerliste'!A:H,8,FALSE))","v":""},{"$f":"IF(AM24=\"\",\"\",VLOOKUP(AM24,'aktuelle Düngerliste'!$A:$H,3,FALSE)*AO24/1000)","v":""},{"$f":"IF(AM24=\"\",\"\",IF(VLOOKUP(AM24,'aktuelle Düngerliste'!$A:$B,2,FALSE)=\"mineralisch\",(VLOOKUP(AM24,'aktuelle Düngerliste'!$A:$H,3,FALSE)*AO24/1000),\"\"))","v":""},{"$f":"IF(AM24=\"\",\"\",VLOOKUP(AM24,'aktuelle Düngerliste'!$A:$J,10,FALSE)*AO24/1000)","v":""},{"$f":"IF(AM24=\"\",\"\",VLOOKUP(AM24,'aktuelle Düngerliste'!$A:$H,5,FALSE)*AO24/1000)","v":""},{"$f":"IF(AM24=\"\",\"\",VLOOKUP(AM24,'aktuelle Düngerliste'!$A:$H,6,FALSE)*AO24/1000)","v":""},{"$f":"IF(AM24=\"\",\"\",VLOOKUP(AM24,'aktuelle Düngerliste'!$A:$H,7,FALSE)*AO24/1000)","v":""},null,null,null,"","",{"$f":"IF(BA24=\"\",\"\",VLOOKUP(BA24,'aktuelle Düngerliste'!$A:$H,2,FALSE))","v":""},{"$f":"IF(BA24=\"\",\"\",VLOOKUP(BA24,'aktuelle Düngerliste'!$A:$H,3,FALSE))","v":""},{"$f":"IF(BA24=\"\",\"\",VLOOKUP(BA24,'aktuelle Düngerliste'!$A:$H,8,FALSE))","v":""},{"$f":"IF(BA24=\"\",\"\",VLOOKUP(BA24,'aktuelle Düngerliste'!$A:$H,3,FALSE)*BC24/1000)","v":""},{"$f":"IF(BA24=\"\",\"\",IF(VLOOKUP(BA24,'aktuelle Düngerliste'!$A:$B,2,FALSE)=\"mineralisch\",(VLOOKUP(BA24,'aktuelle Düngerliste'!$A:$H,3,FALSE)*BC24/1000),\"\"))","v":""},{"$f":"IF(BA24=\"\",\"\",VLOOKUP(BA24,'aktuelle Düngerliste'!$A:$J,10,FALSE)*BC24/1000)","v":""},{"$f":"IF(BA24=\"\",\"\",VLOOKUP(BA24,'aktuelle Düngerliste'!$A:$H,5,FALSE)*BC24/1000)","v":""},{"$f":"IF(BA24=\"\",\"\",VLOOKUP(BA24,'aktuelle Düngerliste'!$A:$H,6,FALSE)*BC24/1000)","v":""},{"$f":"IF(BA24=\"\",\"\",VLOOKUP(BA24,'aktuelle Düngerliste'!$A:$H,7,FALSE)*BC24/1000)","v":""},null,null,null,"","",{"$f":"IF(BO24=\"\",\"\",VLOOKUP(BO24,'aktuelle Düngerliste'!$A:$H,2,FALSE))","v":""},{"$f":"IF(BO24=\"\",\"\",VLOOKUP(BO24,'aktuelle Düngerliste'!$A:$H,3,FALSE))","v":""},{"$f":"IF(BO24=\"\",\"\",VLOOKUP(BO24,'aktuelle Düngerliste'!$A:$H,8,FALSE))","v":""},{"$f":"IF(BO24=\"\",\"\",VLOOKUP(BO24,'aktuelle Düngerliste'!$A:$H,3,FALSE)*BQ24/1000)","v":""},{"$f":"IF(BO24=\"\",\"\",IF(VLOOKUP(BO24,'aktuelle Düngerliste'!$A:$B,2,FALSE)=\"mineralisch\",(VLOOKUP(BO24,'aktuelle Düngerliste'!$A:$H,3,FALSE)*BQ24/1000),\"\"))","v":""},{"$f":"IF(BO24=\"\",\"\",VLOOKUP(BO24,'aktuelle Düngerliste'!$A:$J,10,FALSE)*BQ24/1000)","v":""},{"$f":"IF(BO24=\"\",\"\",VLOOKUP(BO24,'aktuelle Düngerliste'!$A:$H,5,FALSE)*BQ24/1000)","v":""},{"$f":"IF(BO24=\"\",\"\",VLOOKUP(BO24,'aktuelle Düngerliste'!$A:$H,6,FALSE)*BQ24/1000)","v":""},{"$f":"IF(BO24=\"\",\"\",VLOOKUP(BO24,'aktuelle Düngerliste'!$A:$H,7,FALSE)*BQ24/1000)","v":""},null,null,null,"","",{"$f":"IF(CC24=\"\",\"\",VLOOKUP(CC24,'aktuelle Düngerliste'!$A:$H,2,FALSE))","v":""},{"$f":"IF(CC24=\"\",\"\",VLOOKUP(CC24,'aktuelle Düngerliste'!$A:$H,3,FALSE))","v":""},{"$f":"IF(CC24=\"\",\"\",VLOOKUP(CC24,'aktuelle Düngerliste'!$A:$H,8,FALSE))","v":""},{"$f":"IF(CC24=\"\",\"\",VLOOKUP(CC24,'aktuelle Düngerliste'!$A:$H,3,FALSE)*CE24/1000)","v":""},{"$f":"IF(CC24=\"\",\"\",IF(VLOOKUP(CC24,'aktuelle Düngerliste'!$A:$B,2,FALSE)=\"mineralisch\",(VLOOKUP(CC24,'aktuelle Düngerliste'!$A:$H,3,FALSE)*CE24/1000),\"\"))","v":""},{"$f":"IF(CC24=\"\",\"\",VLOOKUP(CC24,'aktuelle Düngerliste'!$A:$J,10,FALSE)*CE24/1000)","v":""},{"$f":"IF(CC24=\"\",\"\",VLOOKUP(CC24,'aktuelle Düngerliste'!$A:$H,5,FALSE)*CE24/1000)","v":""},{"$f":"IF(CC24=\"\",\"\",VLOOKUP(CC24,'aktuelle Düngerliste'!$A:$H,6,FALSE)*CE24/1000)","v":""},{"$f":"IF(CC24=\"\",\"\",VLOOKUP(CC24,'aktuelle Düngerliste'!$A:$H,7,FALSE)*CE24/1000)","v":""},null,null,null,"","",{"$f":"IF(CQ24=\"\",\"\",VLOOKUP(CQ24,'aktuelle Düngerliste'!$A:$H,2,FALSE))","v":""},{"$f":"IF(CQ24=\"\",\"\",VLOOKUP(CQ24,'aktuelle Düngerliste'!$A:$H,3,FALSE))","v":""},{"$f":"IF(CQ24=\"\",\"\",VLOOKUP(CQ24,'aktuelle Düngerliste'!$A:$H,8,FALSE))","v":""},{"$f":"IF(CQ24=\"\",\"\",VLOOKUP(CQ24,'aktuelle Düngerliste'!$A:$H,3,FALSE)*CS24/1000)","v":""},{"$f":"IF(CQ24=\"\",\"\",IF(VLOOKUP(CQ24,'aktuelle Düngerliste'!$A:$B,2,FALSE)=\"mineralisch\",(VLOOKUP(CQ24,'aktuelle Düngerliste'!$A:$H,3,FALSE)*CS24/1000),\"\"))","v":""},{"$f":"IF(CQ24=\"\",\"\",VLOOKUP(CQ24,'aktuelle Düngerliste'!$A:$J,10,FALSE)*CS24/1000)","v":""},{"$f":"IF(CQ24=\"\",\"\",VLOOKUP(CQ24,'aktuelle Düngerliste'!$A:$H,5,FALSE)*CS24/1000)","v":""},{"$f":"IF(CQ24=\"\",\"\",VLOOKUP(CQ24,'aktuelle Düngerliste'!$A:$H,6,FALSE)*CS24/1000)","v":""},{"$f":"IF(CQ24=\"\",\"\",VLOOKUP(CQ24,'aktuelle Düngerliste'!$A:$H,7,FALSE)*CS24/1000)","v":""},null,null,null,"","",{"$f":"IF(DE24=\"\",\"\",VLOOKUP(DE24,'aktuelle Düngerliste'!$A:$H,2,FALSE))","v":""},{"$f":"IF(DE24=\"\",\"\",VLOOKUP(DE24,'aktuelle Düngerliste'!$A:$H,3,FALSE))","v":""},{"$f":"IF(DE24=\"\",\"\",VLOOKUP(DE24,'aktuelle Düngerliste'!$A:$H,8,FALSE))","v":""},{"$f":"IF(DE24=\"\",\"\",VLOOKUP(DE24,'aktuelle Düngerliste'!$A:$H,3,FALSE)*DG24/1000)","v":""},{"$f":"IF(DE24=\"\",\"\",IF(VLOOKUP(DE24,'aktuelle Düngerliste'!$A:$B,2,FALSE)=\"mineralisch\",(VLOOKUP(DE24,'aktuelle Düngerliste'!$A:$H,3,FALSE)*DG24/1000),\"\"))","v":""},{"$f":"IF(DE24=\"\",\"\",VLOOKUP(DE24,'aktuelle Düngerliste'!$A:$J,10,FALSE)*DG24/1000)","v":""},{"$f":"IF(DE24=\"\",\"\",VLOOKUP(DE24,'aktuelle Düngerliste'!$A:$H,5,FALSE)*DG24/1000)","v":""},{"$f":"IF(DE24=\"\",\"\",VLOOKUP(DE24,'aktuelle Düngerliste'!$A:$H,6,FALSE)*DG24/1000)","v":""},{"$f":"IF(DE24=\"\",\"\",VLOOKUP(DE24,'aktuelle Düngerliste'!$A:$H,7,FALSE)*DG24/1000)","v":""}]
[{"$f":"IF('N-DBE'!A25=\"\",\"\",'N-DBE'!A25)","v":""},{"$f":"IF('N-DBE'!B25=\"\",\"\",'N-DBE'!B25)","v":""},{"$f":"IF('N-DBE'!C25=\"\",\"\",'N-DBE'!C25)","v":""},{"$f":"IF('N-DBE'!D25=\"\",\"\",'N-DBE'!D25)","v":""},{"$f":"IF('N-DBE'!E25=\"\",\"\",'N-DBE'!E25)","v":""},{"$f":"IF('N-DBE'!F25=\"\",\"\",'N-DBE'!F25)","v":""},{"$f":"IF('N-DBE'!G25=\"\",\"\",'N-DBE'!G25)","v":""},{"$f":"IF(OR(B25=\"\",'N-DBE'!AJ25=\"\"),\"\",'N-DBE'!AJ25+'N-DBE'!AN25)","v":""},{"$f":"IF(OR(B25=\"\",'N-DBE'!AJ25=\"\"),\"\",'N-DBE'!E25*('N-DBE'!AJ25+'N-DBE'!AN25))","v":""},{"$f":"IF('N-DBE'!AK25=\"\",\"\",IF('N-DBE'!AM25=\"ja\",'N-DBE'!AK25+'N-DBE'!AN25,'N-DBE'!AK25))","v":""},{"$f":"IF(OR(B25=\"\",'N-DBE'!AK25=\"\"),\"\",IF('N-DBE'!AM25=\"ja\",'N-DBE'!E25*('N-DBE'!AK25+'N-DBE'!AN25),'N-DBE'!E25*'N-DBE'!AK25))","v":""},{"$f":"IF(OR(B25=\"\",'N-DBE'!AL25=\"\"),\"\",'N-DBE'!AL25+'N-DBE'!AN25)","v":""},{"$f":"IF(OR(B25=\"\",'N-DBE'!AL25=\"\"),\"\",'N-DBE'!E25*('N-DBE'!AL25+'N-DBE'!AN25))","v":""},{"$f":"IF(AND('N-DBE'!C25=\"ja\",G25<>\"\"),I25-X25,\"\")","v":""},{"$f":"IF('N-DBE'!AJ25=\"\",\"\",SUM(AU25,BI25,BW25,CK25,CY25,DM25))","v":""},{"$f":"IF(OR(B25=\"\",'N-DBE'!AJ25=\"\"),\"\",O25*'N-DBE'!E25)","v":""},{"$f":"IF('N-DBE'!AJ25=\"\",\"\",IF(AR25=\"mineralisch\",AU25,0)+IF(BF25=\"mineralisch\",BI25,0)+IF(BT25=\"mineralisch\",BW25,0)+IF(CH25=\"mineralisch\",CK25,0)+IF(CV25=\"mineralisch\",CY25,0)+IF(DJ25=\"mineralisch\",DM25,0))","v":""},{"$f":"IF(OR(B25=\"\",'N-DBE'!AJ25=\"\"),\"\",Q25*'N-DBE'!E25)","v":""},{"$f":"IF('N-DBE'!AJ25=\"\",\"\",O25-Q25)","v":""},{"$f":"IF(OR(B25=\"\",'N-DBE'!AJ25=\"\"),\"\",S25*'N-DBE'!E25)","v":""},{"$f":"IF('N-DBE'!AJ25=\"\",\"\",(IF(AR25=\"Kompost\",AU25,0)+IF(BF25=\"Kompost\",BI25,0)+IF(BT25=\"Kompost\",BW25,0)+IF(CH25=\"Kompost\",CK25,0)+IF(CV25=\"Kompost\",CY25,0)+IF(DJ25=\"Kompost\",DM25,0)))","v":""},{"$f":"IF(OR(B25=\"\",'N-DBE'!AJ25=\"\"),\"\",U25*'N-DBE'!E25)","v":""},{"$f":"IF('N-DBE'!AJ25=\"\",\"\",SUM(AW25,BK25,BY25,CM25,DA25,DO25))","v":""},{"$f":"IF(OR(B25=\"\",'N-DBE'!AJ25=\"\"),\"\",W25*'N-DBE'!E25)","v":""},{"$f":"IF('P-(K-Mg)-DBE'!N25=\"\",\"\",'P-(K-Mg)-DBE'!N25+'P-(K-Mg)-DBE'!R25)","v":""},{"$f":"IF(OR(B25=\"\",'P-(K-Mg)-DBE'!N25=\"\"),\"\",'N-DBE'!E25*('P-(K-Mg)-DBE'!N25+'P-(K-Mg)-DBE'!R25))","v":""},{"$f":"IF('P-(K-Mg)-DBE'!N25=\"\",\"\",SUM(AX25,BL25,BZ25,CN25,DB25,DP25))","v":""},{"$f":"IF(OR(B25=\"\",'P-(K-Mg)-DBE'!Z25=\"\"),\"\",SUM(AX25,BL25,BZ25,CN25,DB25,DP25)*'N-DBE'!E25)","v":""},{"$f":"IF('P-(K-Mg)-DBE'!O25=\"\",\"\",'P-(K-Mg)-DBE'!O25)","v":""},{"$f":"IF(OR(B25=\"\",'P-(K-Mg)-DBE'!O25=\"\"),\"\",'P-(K-Mg)-DBE'!O25*'N-DBE'!E25)","v":""},{"$f":"IF('P-(K-Mg)-DBE'!Z25=\"\",\"\",'P-(K-Mg)-DBE'!Z25)","v":""},{"$f":"IF(OR(B25=\"\",'P-(K-Mg)-DBE'!Z25=\"\"),\"\",'P-(K-Mg)-DBE'!Z25*'N-DBE'!E25)","v":""},{"$f":"IF('P-(K-Mg)-DBE'!Z25=\"\",\"\",SUM(AY25,BM25,CA25,CO25,DC25,DQ25))","v":""},{"$f":"IF(OR(B25=\"\",'P-(K-Mg)-DBE'!AH25=\"\"),\"\",SUM(AY25,BM25,CA25,CO25,DC25,DQ15)*'N-DBE'!E25)","v":""},{"$f":"IF('P-(K-Mg)-DBE'!AH25=\"\",\"\",'P-(K-Mg)-DBE'!AH25)","v":""},{"$f":"IF(OR(B25=\"\",'P-(K-Mg)-DBE'!AH25=\"\"),\"\",'N-DBE'!E25*'P-(K-Mg)-DBE'!AH25)","v":""},{"$f":"IF('P-(K-Mg)-DBE'!AH25=\"\",\"\",SUM(AZ25,BN25,CB25,CP25,DD25,DR25))","v":""},{"$f":"IF('P-(K-Mg)-DBE'!AH25=\"\",\"\",SUM(AZ25,BN25,CB25,CP25,DD25,DR25))","v":""},null,null,null,"","",{"$f":"IF(AM25=\"\",\"\",VLOOKUP(AM25,'aktuelle Düngerliste'!A:H,2,FALSE))","v":""},{"$f":"IF(AM25=\"\",\"\",VLOOKUP(AM25,'aktuelle Düngerliste'!A:H,3,FALSE))","v":""},{"$f":"IF(AM25=\"\",\"\",VLOOKUP(AM25,'aktuelle Düngerliste'!A:H,8,FALSE))","v":""},{"$f":"IF(AM25=\"\",\"\",VLOOKUP(AM25,'aktuelle Düngerliste'!$A:$H,3,FALSE)*AO25/1000)","v":""},{"$f":"IF(AM25=\"\",\"\",IF(VLOOKUP(AM25,'aktuelle Düngerliste'!$A:$B,2,FALSE)=\"mineralisch\",(VLOOKUP(AM25,'aktuelle Düngerliste'!$A:$H,3,FALSE)*AO25/1000),\"\"))","v":""},{"$f":"IF(AM25=\"\",\"\",VLOOKUP(AM25,'aktuelle Düngerliste'!$A:$J,10,FALSE)*AO25/1000)","v":""},{"$f":"IF(AM25=\"\",\"\",VLOOKUP(AM25,'aktuelle Düngerliste'!$A:$H,5,FALSE)*AO25/1000)","v":""},{"$f":"IF(AM25=\"\",\"\",VLOOKUP(AM25,'aktuelle Düngerliste'!$A:$H,6,FALSE)*AO25/1000)","v":""},{"$f":"IF(AM25=\"\",\"\",VLOOKUP(AM25,'aktuelle Düngerliste'!$A:$H,7,FALSE)*AO25/1000)","v":""},null,null,null,"","",{"$f":"IF(BA25=\"\",\"\",VLOOKUP(BA25,'aktuelle Düngerliste'!$A:$H,2,FALSE))","v":""},{"$f":"IF(BA25=\"\",\"\",VLOOKUP(BA25,'aktuelle Düngerliste'!$A:$H,3,FALSE))","v":""},{"$f":"IF(BA25=\"\",\"\",VLOOKUP(BA25,'aktuelle Düngerliste'!$A:$H,8,FALSE))","v":""},{"$f":"IF(BA25=\"\",\"\",VLOOKUP(BA25,'aktuelle Düngerliste'!$A:$H,3,FALSE)*BC25/1000)","v":""},{"$f":"IF(BA25=\"\",\"\",IF(VLOOKUP(BA25,'aktuelle Düngerliste'!$A:$B,2,FALSE)=\"mineralisch\",(VLOOKUP(BA25,'aktuelle Düngerliste'!$A:$H,3,FALSE)*BC25/1000),\"\"))","v":""},{"$f":"IF(BA25=\"\",\"\",VLOOKUP(BA25,'aktuelle Düngerliste'!$A:$J,10,FALSE)*BC25/1000)","v":""},{"$f":"IF(BA25=\"\",\"\",VLOOKUP(BA25,'aktuelle Düngerliste'!$A:$H,5,FALSE)*BC25/1000)","v":""},{"$f":"IF(BA25=\"\",\"\",VLOOKUP(BA25,'aktuelle Düngerliste'!$A:$H,6,FALSE)*BC25/1000)","v":""},{"$f":"IF(BA25=\"\",\"\",VLOOKUP(BA25,'aktuelle Düngerliste'!$A:$H,7,FALSE)*BC25/1000)","v":""},null,null,null,"","",{"$f":"IF(BO25=\"\",\"\",VLOOKUP(BO25,'aktuelle Düngerliste'!$A:$H,2,FALSE))","v":""},{"$f":"IF(BO25=\"\",\"\",VLOOKUP(BO25,'aktuelle Düngerliste'!$A:$H,3,FALSE))","v":""},{"$f":"IF(BO25=\"\",\"\",VLOOKUP(BO25,'aktuelle Düngerliste'!$A:$H,8,FALSE))","v":""},{"$f":"IF(BO25=\"\",\"\",VLOOKUP(BO25,'aktuelle Düngerliste'!$A:$H,3,FALSE)*BQ25/1000)","v":""},{"$f":"IF(BO25=\"\",\"\",IF(VLOOKUP(BO25,'aktuelle Düngerliste'!$A:$B,2,FALSE)=\"mineralisch\",(VLOOKUP(BO25,'aktuelle Düngerliste'!$A:$H,3,FALSE)*BQ25/1000),\"\"))","v":""},{"$f":"IF(BO25=\"\",\"\",VLOOKUP(BO25,'aktuelle Düngerliste'!$A:$J,10,FALSE)*BQ25/1000)","v":""},{"$f":"IF(BO25=\"\",\"\",VLOOKUP(BO25,'aktuelle Düngerliste'!$A:$H,5,FALSE)*BQ25/1000)","v":""},{"$f":"IF(BO25=\"\",\"\",VLOOKUP(BO25,'aktuelle Düngerliste'!$A:$H,6,FALSE)*BQ25/1000)","v":""},{"$f":"IF(BO25=\"\",\"\",VLOOKUP(BO25,'aktuelle Düngerliste'!$A:$H,7,FALSE)*BQ25/1000)","v":""},null,null,null,"","",{"$f":"IF(CC25=\"\",\"\",VLOOKUP(CC25,'aktuelle Düngerliste'!$A:$H,2,FALSE))","v":""},{"$f":"IF(CC25=\"\",\"\",VLOOKUP(CC25,'aktuelle Düngerliste'!$A:$H,3,FALSE))","v":""},{"$f":"IF(CC25=\"\",\"\",VLOOKUP(CC25,'aktuelle Düngerliste'!$A:$H,8,FALSE))","v":""},{"$f":"IF(CC25=\"\",\"\",VLOOKUP(CC25,'aktuelle Düngerliste'!$A:$H,3,FALSE)*CE25/1000)","v":""},{"$f":"IF(CC25=\"\",\"\",IF(VLOOKUP(CC25,'aktuelle Düngerliste'!$A:$B,2,FALSE)=\"mineralisch\",(VLOOKUP(CC25,'aktuelle Düngerliste'!$A:$H,3,FALSE)*CE25/1000),\"\"))","v":""},{"$f":"IF(CC25=\"\",\"\",VLOOKUP(CC25,'aktuelle Düngerliste'!$A:$J,10,FALSE)*CE25/1000)","v":""},{"$f":"IF(CC25=\"\",\"\",VLOOKUP(CC25,'aktuelle Düngerliste'!$A:$H,5,FALSE)*CE25/1000)","v":""},{"$f":"IF(CC25=\"\",\"\",VLOOKUP(CC25,'aktuelle Düngerliste'!$A:$H,6,FALSE)*CE25/1000)","v":""},{"$f":"IF(CC25=\"\",\"\",VLOOKUP(CC25,'aktuelle Düngerliste'!$A:$H,7,FALSE)*CE25/1000)","v":""},null,null,null,"","",{"$f":"IF(CQ25=\"\",\"\",VLOOKUP(CQ25,'aktuelle Düngerliste'!$A:$H,2,FALSE))","v":""},{"$f":"IF(CQ25=\"\",\"\",VLOOKUP(CQ25,'aktuelle Düngerliste'!$A:$H,3,FALSE))","v":""},{"$f":"IF(CQ25=\"\",\"\",VLOOKUP(CQ25,'aktuelle Düngerliste'!$A:$H,8,FALSE))","v":""},{"$f":"IF(CQ25=\"\",\"\",VLOOKUP(CQ25,'aktuelle Düngerliste'!$A:$H,3,FALSE)*CS25/1000)","v":""},{"$f":"IF(CQ25=\"\",\"\",IF(VLOOKUP(CQ25,'aktuelle Düngerliste'!$A:$B,2,FALSE)=\"mineralisch\",(VLOOKUP(CQ25,'aktuelle Düngerliste'!$A:$H,3,FALSE)*CS25/1000),\"\"))","v":""},{"$f":"IF(CQ25=\"\",\"\",VLOOKUP(CQ25,'aktuelle Düngerliste'!$A:$J,10,FALSE)*CS25/1000)","v":""},{"$f":"IF(CQ25=\"\",\"\",VLOOKUP(CQ25,'aktuelle Düngerliste'!$A:$H,5,FALSE)*CS25/1000)","v":""},{"$f":"IF(CQ25=\"\",\"\",VLOOKUP(CQ25,'aktuelle Düngerliste'!$A:$H,6,FALSE)*CS25/1000)","v":""},{"$f":"IF(CQ25=\"\",\"\",VLOOKUP(CQ25,'aktuelle Düngerliste'!$A:$H,7,FALSE)*CS25/1000)","v":""},null,null,null,"","",{"$f":"IF(DE25=\"\",\"\",VLOOKUP(DE25,'aktuelle Düngerliste'!$A:$H,2,FALSE))","v":""},{"$f":"IF(DE25=\"\",\"\",VLOOKUP(DE25,'aktuelle Düngerliste'!$A:$H,3,FALSE))","v":""},{"$f":"IF(DE25=\"\",\"\",VLOOKUP(DE25,'aktuelle Düngerliste'!$A:$H,8,FALSE))","v":""},{"$f":"IF(DE25=\"\",\"\",VLOOKUP(DE25,'aktuelle Düngerliste'!$A:$H,3,FALSE)*DG25/1000)","v":""},{"$f":"IF(DE25=\"\",\"\",IF(VLOOKUP(DE25,'aktuelle Düngerliste'!$A:$B,2,FALSE)=\"mineralisch\",(VLOOKUP(DE25,'aktuelle Düngerliste'!$A:$H,3,FALSE)*DG25/1000),\"\"))","v":""},{"$f":"IF(DE25=\"\",\"\",VLOOKUP(DE25,'aktuelle Düngerliste'!$A:$J,10,FALSE)*DG25/1000)","v":""},{"$f":"IF(DE25=\"\",\"\",VLOOKUP(DE25,'aktuelle Düngerliste'!$A:$H,5,FALSE)*DG25/1000)","v":""},{"$f":"IF(DE25=\"\",\"\",VLOOKUP(DE25,'aktuelle Düngerliste'!$A:$H,6,FALSE)*DG25/1000)","v":""},{"$f":"IF(DE25=\"\",\"\",VLOOKUP(DE25,'aktuelle Düngerliste'!$A:$H,7,FALSE)*DG25/1000)","v":""}]
[{"$f":"IF('N-DBE'!A26=\"\",\"\",'N-DBE'!A26)","v":""},{"$f":"IF('N-DBE'!B26=\"\",\"\",'N-DBE'!B26)","v":""},{"$f":"IF('N-DBE'!C26=\"\",\"\",'N-DBE'!C26)","v":""},{"$f":"IF('N-DBE'!D26=\"\",\"\",'N-DBE'!D26)","v":""},{"$f":"IF('N-DBE'!E26=\"\",\"\",'N-DBE'!E26)","v":""},{"$f":"IF('N-DBE'!F26=\"\",\"\",'N-DBE'!F26)","v":""},{"$f":"IF('N-DBE'!G26=\"\",\"\",'N-DBE'!G26)","v":""},{"$f":"IF(OR(B26=\"\",'N-DBE'!AJ26=\"\"),\"\",'N-DBE'!AJ26+'N-DBE'!AN26)","v":""},{"$f":"IF(OR(B26=\"\",'N-DBE'!AJ26=\"\"),\"\",'N-DBE'!E26*('N-DBE'!AJ26+'N-DBE'!AN26))","v":""},{"$f":"IF('N-DBE'!AK26=\"\",\"\",IF('N-DBE'!AM26=\"ja\",'N-DBE'!AK26+'N-DBE'!AN26,'N-DBE'!AK26))","v":""},{"$f":"IF(OR(B26=\"\",'N-DBE'!AK26=\"\"),\"\",IF('N-DBE'!AM26=\"ja\",'N-DBE'!E26*('N-DBE'!AK26+'N-DBE'!AN26),'N-DBE'!E26*'N-DBE'!AK26))","v":""},{"$f":"IF(OR(B26=\"\",'N-DBE'!AL26=\"\"),\"\",'N-DBE'!AL26+'N-DBE'!AN26)","v":""},{"$f":"IF(OR(B26=\"\",'N-DBE'!AL26=\"\"),\"\",'N-DBE'!E26*('N-DBE'!AL26+'N-DBE'!AN26))","v":""},{"$f":"IF(AND('N-DBE'!C26=\"ja\",G26<>\"\"),I26-X26,\"\")","v":""},{"$f":"IF('N-DBE'!AJ26=\"\",\"\",SUM(AU26,BI26,BW26,CK26,CY26,DM26))","v":""},{"$f":"IF(OR(B26=\"\",'N-DBE'!AJ26=\"\"),\"\",O26*'N-DBE'!E26)","v":""},{"$f":"IF('N-DBE'!AJ26=\"\",\"\",IF(AR26=\"mineralisch\",AU26,0)+IF(BF26=\"mineralisch\",BI26,0)+IF(BT26=\"mineralisch\",BW26,0)+IF(CH26=\"mineralisch\",CK26,0)+IF(CV26=\"mineralisch\",CY26,0)+IF(DJ26=\"mineralisch\",DM26,0))","v":""},{"$f":"IF(OR(B26=\"\",'N-DBE'!AJ26=\"\"),\"\",Q26*'N-DBE'!E26)","v":""},{"$f":"IF('N-DBE'!AJ26=\"\",\"\",O26-Q26)","v":""},{"$f":"IF(OR(B26=\"\",'N-DBE'!AJ26=\"\"),\"\",S26*'N-DBE'!E26)","v":""},{"$f":"IF('N-DBE'!AJ26=\"\",\"\",(IF(AR26=\"Kompost\",AU26,0)+IF(BF26=\"Kompost\",BI26,0)+IF(BT26=\"Kompost\",BW26,0)+IF(CH26=\"Kompost\",CK26,0)+IF(CV26=\"Kompost\",CY26,0)+IF(DJ26=\"Kompost\",DM26,0)))","v":""},{"$f":"IF(OR(B26=\"\",'N-DBE'!AJ26=\"\"),\"\",U26*'N-DBE'!E26)","v":""},{"$f":"IF('N-DBE'!AJ26=\"\",\"\",SUM(AW26,BK26,BY26,CM26,DA26,DO26))","v":""},{"$f":"IF(OR(B26=\"\",'N-DBE'!AJ26=\"\"),\"\",W26*'N-DBE'!E26)","v":""},{"$f":"IF('P-(K-Mg)-DBE'!N26=\"\",\"\",'P-(K-Mg)-DBE'!N26+'P-(K-Mg)-DBE'!R26)","v":""},{"$f":"IF(OR(B26=\"\",'P-(K-Mg)-DBE'!N26=\"\"),\"\",'N-DBE'!E26*('P-(K-Mg)-DBE'!N26+'P-(K-Mg)-DBE'!R26))","v":""},{"$f":"IF('P-(K-Mg)-DBE'!N26=\"\",\"\",SUM(AX26,BL26,BZ26,CN26,DB26,DP26))","v":""},{"$f":"IF(OR(B26=\"\",'P-(K-Mg)-DBE'!Z26=\"\"),\"\",SUM(AX26,BL26,BZ26,CN26,DB26,DP26)*'N-DBE'!E26)","v":""},{"$f":"IF('P-(K-Mg)-DBE'!O26=\"\",\"\",'P-(K-Mg)-DBE'!O26)","v":""},{"$f":"IF(OR(B26=\"\",'P-(K-Mg)-DBE'!O26=\"\"),\"\",'P-(K-Mg)-DBE'!O26*'N-DBE'!E26)","v":""},{"$f":"IF('P-(K-Mg)-DBE'!Z26=\"\",\"\",'P-(K-Mg)-DBE'!Z26)","v":""},{"$f":"IF(OR(B26=\"\",'P-(K-Mg)-DBE'!Z26=\"\"),\"\",'P-(K-Mg)-DBE'!Z26*'N-DBE'!E26)","v":""},{"$f":"IF('P-(K-Mg)-DBE'!Z26=\"\",\"\",SUM(AY26,BM26,CA26,CO26,DC26,DQ26))","v":""},{"$f":"IF(OR(B26=\"\",'P-(K-Mg)-DBE'!AH26=\"\"),\"\",SUM(AY26,BM26,CA26,CO26,DC26,DQ16)*'N-DBE'!E26)","v":""},{"$f":"IF('P-(K-Mg)-DBE'!AH26=\"\",\"\",'P-(K-Mg)-DBE'!AH26)","v":""},{"$f":"IF(OR(B26=\"\",'P-(K-Mg)-DBE'!AH26=\"\"),\"\",'N-DBE'!E26*'P-(K-Mg)-DBE'!AH26)","v":""},{"$f":"IF('P-(K-Mg)-DBE'!AH26=\"\",\"\",SUM(AZ26,BN26,CB26,CP26,DD26,DR26))","v":""},{"$f":"IF('P-(K-Mg)-DBE'!AH26=\"\",\"\",SUM(AZ26,BN26,CB26,CP26,DD26,DR26))","v":""},null,null,null,"","",{"$f":"IF(AM26=\"\",\"\",VLOOKUP(AM26,'aktuelle Düngerliste'!A:H,2,FALSE))","v":""},{"$f":"IF(AM26=\"\",\"\",VLOOKUP(AM26,'aktuelle Düngerliste'!A:H,3,FALSE))","v":""},{"$f":"IF(AM26=\"\",\"\",VLOOKUP(AM26,'aktuelle Düngerliste'!A:H,8,FALSE))","v":""},{"$f":"IF(AM26=\"\",\"\",VLOOKUP(AM26,'aktuelle Düngerliste'!$A:$H,3,FALSE)*AO26/1000)","v":""},{"$f":"IF(AM26=\"\",\"\",IF(VLOOKUP(AM26,'aktuelle Düngerliste'!$A:$B,2,FALSE)=\"mineralisch\",(VLOOKUP(AM26,'aktuelle Düngerliste'!$A:$H,3,FALSE)*AO26/1000),\"\"))","v":""},{"$f":"IF(AM26=\"\",\"\",VLOOKUP(AM26,'aktuelle Düngerliste'!$A:$J,10,FALSE)*AO26/1000)","v":""},{"$f":"IF(AM26=\"\",\"\",VLOOKUP(AM26,'aktuelle Düngerliste'!$A:$H,5,FALSE)*AO26/1000)","v":""},{"$f":"IF(AM26=\"\",\"\",VLOOKUP(AM26,'aktuelle Düngerliste'!$A:$H,6,FALSE)*AO26/1000)","v":""},{"$f":"IF(AM26=\"\",\"\",VLOOKUP(AM26,'aktuelle Düngerliste'!$A:$H,7,FALSE)*AO26/1000)","v":""},null,null,null,"","",{"$f":"IF(BA26=\"\",\"\",VLOOKUP(BA26,'aktuelle Düngerliste'!$A:$H,2,FALSE))","v":""},{"$f":"IF(BA26=\"\",\"\",VLOOKUP(BA26,'aktuelle Düngerliste'!$A:$H,3,FALSE))","v":""},{"$f":"IF(BA26=\"\",\"\",VLOOKUP(BA26,'aktuelle Düngerliste'!$A:$H,8,FALSE))","v":""},{"$f":"IF(BA26=\"\",\"\",VLOOKUP(BA26,'aktuelle Düngerliste'!$A:$H,3,FALSE)*BC26/1000)","v":""},{"$f":"IF(BA26=\"\",\"\",IF(VLOOKUP(BA26,'aktuelle Düngerliste'!$A:$B,2,FALSE)=\"mineralisch\",(VLOOKUP(BA26,'aktuelle Düngerliste'!$A:$H,3,FALSE)*BC26/1000),\"\"))","v":""},{"$f":"IF(BA26=\"\",\"\",VLOOKUP(BA26,'aktuelle Düngerliste'!$A:$J,10,FALSE)*BC26/1000)","v":""},{"$f":"IF(BA26=\"\",\"\",VLOOKUP(BA26,'aktuelle Düngerliste'!$A:$H,5,FALSE)*BC26/1000)","v":""},{"$f":"IF(BA26=\"\",\"\",VLOOKUP(BA26,'aktuelle Düngerliste'!$A:$H,6,FALSE)*BC26/1000)","v":""},{"$f":"IF(BA26=\"\",\"\",VLOOKUP(BA26,'aktuelle Düngerliste'!$A:$H,7,FALSE)*BC26/1000)","v":""},null,null,null,"","",{"$f":"IF(BO26=\"\",\"\",VLOOKUP(BO26,'aktuelle Düngerliste'!$A:$H,2,FALSE))","v":""},{"$f":"IF(BO26=\"\",\"\",VLOOKUP(BO26,'aktuelle Düngerliste'!$A:$H,3,FALSE))","v":""},{"$f":"IF(BO26=\"\",\"\",VLOOKUP(BO26,'aktuelle Düngerliste'!$A:$H,8,FALSE))","v":""},{"$f":"IF(BO26=\"\",\"\",VLOOKUP(BO26,'aktuelle Düngerliste'!$A:$H,3,FALSE)*BQ26/1000)","v":""},{"$f":"IF(BO26=\"\",\"\",IF(VLOOKUP(BO26,'aktuelle Düngerliste'!$A:$B,2,FALSE)=\"mineralisch\",(VLOOKUP(BO26,'aktuelle Düngerliste'!$A:$H,3,FALSE)*BQ26/1000),\"\"))","v":""},{"$f":"IF(BO26=\"\",\"\",VLOOKUP(BO26,'aktuelle Düngerliste'!$A:$J,10,FALSE)*BQ26/1000)","v":""},{"$f":"IF(BO26=\"\",\"\",VLOOKUP(BO26,'aktuelle Düngerliste'!$A:$H,5,FALSE)*BQ26/1000)","v":""},{"$f":"IF(BO26=\"\",\"\",VLOOKUP(BO26,'aktuelle Düngerliste'!$A:$H,6,FALSE)*BQ26/1000)","v":""},{"$f":"IF(BO26=\"\",\"\",VLOOKUP(BO26,'aktuelle Düngerliste'!$A:$H,7,FALSE)*BQ26/1000)","v":""},null,null,null,"","",{"$f":"IF(CC26=\"\",\"\",VLOOKUP(CC26,'aktuelle Düngerliste'!$A:$H,2,FALSE))","v":""},{"$f":"IF(CC26=\"\",\"\",VLOOKUP(CC26,'aktuelle Düngerliste'!$A:$H,3,FALSE))","v":""},{"$f":"IF(CC26=\"\",\"\",VLOOKUP(CC26,'aktuelle Düngerliste'!$A:$H,8,FALSE))","v":""},{"$f":"IF(CC26=\"\",\"\",VLOOKUP(CC26,'aktuelle Düngerliste'!$A:$H,3,FALSE)*CE26/1000)","v":""},{"$f":"IF(CC26=\"\",\"\",IF(VLOOKUP(CC26,'aktuelle Düngerliste'!$A:$B,2,FALSE)=\"mineralisch\",(VLOOKUP(CC26,'aktuelle Düngerliste'!$A:$H,3,FALSE)*CE26/1000),\"\"))","v":""},{"$f":"IF(CC26=\"\",\"\",VLOOKUP(CC26,'aktuelle Düngerliste'!$A:$J,10,FALSE)*CE26/1000)","v":""},{"$f":"IF(CC26=\"\",\"\",VLOOKUP(CC26,'aktuelle Düngerliste'!$A:$H,5,FALSE)*CE26/1000)","v":""},{"$f":"IF(CC26=\"\",\"\",VLOOKUP(CC26,'aktuelle Düngerliste'!$A:$H,6,FALSE)*CE26/1000)","v":""},{"$f":"IF(CC26=\"\",\"\",VLOOKUP(CC26,'aktuelle Düngerliste'!$A:$H,7,FALSE)*CE26/1000)","v":""},null,null,null,"","",{"$f":"IF(CQ26=\"\",\"\",VLOOKUP(CQ26,'aktuelle Düngerliste'!$A:$H,2,FALSE))","v":""},{"$f":"IF(CQ26=\"\",\"\",VLOOKUP(CQ26,'aktuelle Düngerliste'!$A:$H,3,FALSE))","v":""},{"$f":"IF(CQ26=\"\",\"\",VLOOKUP(CQ26,'aktuelle Düngerliste'!$A:$H,8,FALSE))","v":""},{"$f":"IF(CQ26=\"\",\"\",VLOOKUP(CQ26,'aktuelle Düngerliste'!$A:$H,3,FALSE)*CS26/1000)","v":""},{"$f":"IF(CQ26=\"\",\"\",IF(VLOOKUP(CQ26,'aktuelle Düngerliste'!$A:$B,2,FALSE)=\"mineralisch\",(VLOOKUP(CQ26,'aktuelle Düngerliste'!$A:$H,3,FALSE)*CS26/1000),\"\"))","v":""},{"$f":"IF(CQ26=\"\",\"\",VLOOKUP(CQ26,'aktuelle Düngerliste'!$A:$J,10,FALSE)*CS26/1000)","v":""},{"$f":"IF(CQ26=\"\",\"\",VLOOKUP(CQ26,'aktuelle Düngerliste'!$A:$H,5,FALSE)*CS26/1000)","v":""},{"$f":"IF(CQ26=\"\",\"\",VLOOKUP(CQ26,'aktuelle Düngerliste'!$A:$H,6,FALSE)*CS26/1000)","v":""},{"$f":"IF(CQ26=\"\",\"\",VLOOKUP(CQ26,'aktuelle Düngerliste'!$A:$H,7,FALSE)*CS26/1000)","v":""},null,null,null,"","",{"$f":"IF(DE26=\"\",\"\",VLOOKUP(DE26,'aktuelle Düngerliste'!$A:$H,2,FALSE))","v":""},{"$f":"IF(DE26=\"\",\"\",VLOOKUP(DE26,'aktuelle Düngerliste'!$A:$H,3,FALSE))","v":""},{"$f":"IF(DE26=\"\",\"\",VLOOKUP(DE26,'aktuelle Düngerliste'!$A:$H,8,FALSE))","v":""},{"$f":"IF(DE26=\"\",\"\",VLOOKUP(DE26,'aktuelle Düngerliste'!$A:$H,3,FALSE)*DG26/1000)","v":""},{"$f":"IF(DE26=\"\",\"\",IF(VLOOKUP(DE26,'aktuelle Düngerliste'!$A:$B,2,FALSE)=\"mineralisch\",(VLOOKUP(DE26,'aktuelle Düngerliste'!$A:$H,3,FALSE)*DG26/1000),\"\"))","v":""},{"$f":"IF(DE26=\"\",\"\",VLOOKUP(DE26,'aktuelle Düngerliste'!$A:$J,10,FALSE)*DG26/1000)","v":""},{"$f":"IF(DE26=\"\",\"\",VLOOKUP(DE26,'aktuelle Düngerliste'!$A:$H,5,FALSE)*DG26/1000)","v":""},{"$f":"IF(DE26=\"\",\"\",VLOOKUP(DE26,'aktuelle Düngerliste'!$A:$H,6,FALSE)*DG26/1000)","v":""},{"$f":"IF(DE26=\"\",\"\",VLOOKUP(DE26,'aktuelle Düngerliste'!$A:$H,7,FALSE)*DG26/1000)","v":""}]
[{"$f":"IF('N-DBE'!A27=\"\",\"\",'N-DBE'!A27)","v":""},{"$f":"IF('N-DBE'!B27=\"\",\"\",'N-DBE'!B27)","v":""},{"$f":"IF('N-DBE'!C27=\"\",\"\",'N-DBE'!C27)","v":""},{"$f":"IF('N-DBE'!D27=\"\",\"\",'N-DBE'!D27)","v":""},{"$f":"IF('N-DBE'!E27=\"\",\"\",'N-DBE'!E27)","v":""},{"$f":"IF('N-DBE'!F27=\"\",\"\",'N-DBE'!F27)","v":""},{"$f":"IF('N-DBE'!G27=\"\",\"\",'N-DBE'!G27)","v":""},{"$f":"IF(OR(B27=\"\",'N-DBE'!AJ27=\"\"),\"\",'N-DBE'!AJ27+'N-DBE'!AN27)","v":""},{"$f":"IF(OR(B27=\"\",'N-DBE'!AJ27=\"\"),\"\",'N-DBE'!E27*('N-DBE'!AJ27+'N-DBE'!AN27))","v":""},{"$f":"IF('N-DBE'!AK27=\"\",\"\",IF('N-DBE'!AM27=\"ja\",'N-DBE'!AK27+'N-DBE'!AN27,'N-DBE'!AK27))","v":""},{"$f":"IF(OR(B27=\"\",'N-DBE'!AK27=\"\"),\"\",IF('N-DBE'!AM27=\"ja\",'N-DBE'!E27*('N-DBE'!AK27+'N-DBE'!AN27),'N-DBE'!E27*'N-DBE'!AK27))","v":""},{"$f":"IF(OR(B27=\"\",'N-DBE'!AL27=\"\"),\"\",'N-DBE'!AL27+'N-DBE'!AN27)","v":""},{"$f":"IF(OR(B27=\"\",'N-DBE'!AL27=\"\"),\"\",'N-DBE'!E27*('N-DBE'!AL27+'N-DBE'!AN27))","v":""},{"$f":"IF(AND('N-DBE'!C27=\"ja\",G27<>\"\"),I27-X27,\"\")","v":""},{"$f":"IF('N-DBE'!AJ27=\"\",\"\",SUM(AU27,BI27,BW27,CK27,CY27,DM27))","v":""},{"$f":"IF(OR(B27=\"\",'N-DBE'!AJ27=\"\"),\"\",O27*'N-DBE'!E27)","v":""},{"$f":"IF('N-DBE'!AJ27=\"\",\"\",IF(AR27=\"mineralisch\",AU27,0)+IF(BF27=\"mineralisch\",BI27,0)+IF(BT27=\"mineralisch\",BW27,0)+IF(CH27=\"mineralisch\",CK27,0)+IF(CV27=\"mineralisch\",CY27,0)+IF(DJ27=\"mineralisch\",DM27,0))","v":""},{"$f":"IF(OR(B27=\"\",'N-DBE'!AJ27=\"\"),\"\",Q27*'N-DBE'!E27)","v":""},{"$f":"IF('N-DBE'!AJ27=\"\",\"\",O27-Q27)","v":""},{"$f":"IF(OR(B27=\"\",'N-DBE'!AJ27=\"\"),\"\",S27*'N-DBE'!E27)","v":""},{"$f":"IF('N-DBE'!AJ27=\"\",\"\",(IF(AR27=\"Kompost\",AU27,0)+IF(BF27=\"Kompost\",BI27,0)+IF(BT27=\"Kompost\",BW27,0)+IF(CH27=\"Kompost\",CK27,0)+IF(CV27=\"Kompost\",CY27,0)+IF(DJ27=\"Kompost\",DM27,0)))","v":""},{"$f":"IF(OR(B27=\"\",'N-DBE'!AJ27=\"\"),\"\",U27*'N-DBE'!E27)","v":""},{"$f":"IF('N-DBE'!AJ27=\"\",\"\",SUM(AW27,BK27,BY27,CM27,DA27,DO27))","v":""},{"$f":"IF(OR(B27=\"\",'N-DBE'!AJ27=\"\"),\"\",W27*'N-DBE'!E27)","v":""},{"$f":"IF('P-(K-Mg)-DBE'!N27=\"\",\"\",'P-(K-Mg)-DBE'!N27+'P-(K-Mg)-DBE'!R27)","v":""},{"$f":"IF(OR(B27=\"\",'P-(K-Mg)-DBE'!N27=\"\"),\"\",'N-DBE'!E27*('P-(K-Mg)-DBE'!N27+'P-(K-Mg)-DBE'!R27))","v":""},{"$f":"IF('P-(K-Mg)-DBE'!N27=\"\",\"\",SUM(AX27,BL27,BZ27,CN27,DB27,DP27))","v":""},{"$f":"IF(OR(B27=\"\",'P-(K-Mg)-DBE'!Z27=\"\"),\"\",SUM(AX27,BL27,BZ27,CN27,DB27,DP27)*'N-DBE'!E27)","v":""},{"$f":"IF('P-(K-Mg)-DBE'!O27=\"\",\"\",'P-(K-Mg)-DBE'!O27)","v":""},{"$f":"IF(OR(B27=\"\",'P-(K-Mg)-DBE'!O27=\"\"),\"\",'P-(K-Mg)-DBE'!O27*'N-DBE'!E27)","v":""},{"$f":"IF('P-(K-Mg)-DBE'!Z27=\"\",\"\",'P-(K-Mg)-DBE'!Z27)","v":""},{"$f":"IF(OR(B27=\"\",'P-(K-Mg)-DBE'!Z27=\"\"),\"\",'P-(K-Mg)-DBE'!Z27*'N-DBE'!E27)","v":""},{"$f":"IF('P-(K-Mg)-DBE'!Z27=\"\",\"\",SUM(AY27,BM27,CA27,CO27,DC27,DQ27))","v":""},{"$f":"IF(OR(B27=\"\",'P-(K-Mg)-DBE'!AH27=\"\"),\"\",SUM(AY27,BM27,CA27,CO27,DC27,DQ17)*'N-DBE'!E27)","v":""},{"$f":"IF('P-(K-Mg)-DBE'!AH27=\"\",\"\",'P-(K-Mg)-DBE'!AH27)","v":""},{"$f":"IF(OR(B27=\"\",'P-(K-Mg)-DBE'!AH27=\"\"),\"\",'N-DBE'!E27*'P-(K-Mg)-DBE'!AH27)","v":""},{"$f":"IF('P-(K-Mg)-DBE'!AH27=\"\",\"\",SUM(AZ27,BN27,CB27,CP27,DD27,DR27))","v":""},{"$f":"IF('P-(K-Mg)-DBE'!AH27=\"\",\"\",SUM(AZ27,BN27,CB27,CP27,DD27,DR27))","v":""},null,null,null,"","",{"$f":"IF(AM27=\"\",\"\",VLOOKUP(AM27,'aktuelle Düngerliste'!A:H,2,FALSE))","v":""},{"$f":"IF(AM27=\"\",\"\",VLOOKUP(AM27,'aktuelle Düngerliste'!A:H,3,FALSE))","v":""},{"$f":"IF(AM27=\"\",\"\",VLOOKUP(AM27,'aktuelle Düngerliste'!A:H,8,FALSE))","v":""},{"$f":"IF(AM27=\"\",\"\",VLOOKUP(AM27,'aktuelle Düngerliste'!$A:$H,3,FALSE)*AO27/1000)","v":""},{"$f":"IF(AM27=\"\",\"\",IF(VLOOKUP(AM27,'aktuelle Düngerliste'!$A:$B,2,FALSE)=\"mineralisch\",(VLOOKUP(AM27,'aktuelle Düngerliste'!$A:$H,3,FALSE)*AO27/1000),\"\"))","v":""},{"$f":"IF(AM27=\"\",\"\",VLOOKUP(AM27,'aktuelle Düngerliste'!$A:$J,10,FALSE)*AO27/1000)","v":""},{"$f":"IF(AM27=\"\",\"\",VLOOKUP(AM27,'aktuelle Düngerliste'!$A:$H,5,FALSE)*AO27/1000)","v":""},{"$f":"IF(AM27=\"\",\"\",VLOOKUP(AM27,'aktuelle Düngerliste'!$A:$H,6,FALSE)*AO27/1000)","v":""},{"$f":"IF(AM27=\"\",\"\",VLOOKUP(AM27,'aktuelle Düngerliste'!$A:$H,7,FALSE)*AO27/1000)","v":""},null,null,null,"","",{"$f":"IF(BA27=\"\",\"\",VLOOKUP(BA27,'aktuelle Düngerliste'!$A:$H,2,FALSE))","v":""},{"$f":"IF(BA27=\"\",\"\",VLOOKUP(BA27,'aktuelle Düngerliste'!$A:$H,3,FALSE))","v":""},{"$f":"IF(BA27=\"\",\"\",VLOOKUP(BA27,'aktuelle Düngerliste'!$A:$H,8,FALSE))","v":""},{"$f":"IF(BA27=\"\",\"\",VLOOKUP(BA27,'aktuelle Düngerliste'!$A:$H,3,FALSE)*BC27/1000)","v":""},{"$f":"IF(BA27=\"\",\"\",IF(VLOOKUP(BA27,'aktuelle Düngerliste'!$A:$B,2,FALSE)=\"mineralisch\",(VLOOKUP(BA27,'aktuelle Düngerliste'!$A:$H,3,FALSE)*BC27/1000),\"\"))","v":""},{"$f":"IF(BA27=\"\",\"\",VLOOKUP(BA27,'aktuelle Düngerliste'!$A:$J,10,FALSE)*BC27/1000)","v":""},{"$f":"IF(BA27=\"\",\"\",VLOOKUP(BA27,'aktuelle Düngerliste'!$A:$H,5,FALSE)*BC27/1000)","v":""},{"$f":"IF(BA27=\"\",\"\",VLOOKUP(BA27,'aktuelle Düngerliste'!$A:$H,6,FALSE)*BC27/1000)","v":""},{"$f":"IF(BA27=\"\",\"\",VLOOKUP(BA27,'aktuelle Düngerliste'!$A:$H,7,FALSE)*BC27/1000)","v":""},null,null,null,"","",{"$f":"IF(BO27=\"\",\"\",VLOOKUP(BO27,'aktuelle Düngerliste'!$A:$H,2,FALSE))","v":""},{"$f":"IF(BO27=\"\",\"\",VLOOKUP(BO27,'aktuelle Düngerliste'!$A:$H,3,FALSE))","v":""},{"$f":"IF(BO27=\"\",\"\",VLOOKUP(BO27,'aktuelle Düngerliste'!$A:$H,8,FALSE))","v":""},{"$f":"IF(BO27=\"\",\"\",VLOOKUP(BO27,'aktuelle Düngerliste'!$A:$H,3,FALSE)*BQ27/1000)","v":""},{"$f":"IF(BO27=\"\",\"\",IF(VLOOKUP(BO27,'aktuelle Düngerliste'!$A:$B,2,FALSE)=\"mineralisch\",(VLOOKUP(BO27,'aktuelle Düngerliste'!$A:$H,3,FALSE)*BQ27/1000),\"\"))","v":""},{"$f":"IF(BO27=\"\",\"\",VLOOKUP(BO27,'aktuelle Düngerliste'!$A:$J,10,FALSE)*BQ27/1000)","v":""},{"$f":"IF(BO27=\"\",\"\",VLOOKUP(BO27,'aktuelle Düngerliste'!$A:$H,5,FALSE)*BQ27/1000)","v":""},{"$f":"IF(BO27=\"\",\"\",VLOOKUP(BO27,'aktuelle Düngerliste'!$A:$H,6,FALSE)*BQ27/1000)","v":""},{"$f":"IF(BO27=\"\",\"\",VLOOKUP(BO27,'aktuelle Düngerliste'!$A:$H,7,FALSE)*BQ27/1000)","v":""},null,null,null,"","",{"$f":"IF(CC27=\"\",\"\",VLOOKUP(CC27,'aktuelle Düngerliste'!$A:$H,2,FALSE))","v":""},{"$f":"IF(CC27=\"\",\"\",VLOOKUP(CC27,'aktuelle Düngerliste'!$A:$H,3,FALSE))","v":""},{"$f":"IF(CC27=\"\",\"\",VLOOKUP(CC27,'aktuelle Düngerliste'!$A:$H,8,FALSE))","v":""},{"$f":"IF(CC27=\"\",\"\",VLOOKUP(CC27,'aktuelle Düngerliste'!$A:$H,3,FALSE)*CE27/1000)","v":""},{"$f":"IF(CC27=\"\",\"\",IF(VLOOKUP(CC27,'aktuelle Düngerliste'!$A:$B,2,FALSE)=\"mineralisch\",(VLOOKUP(CC27,'aktuelle Düngerliste'!$A:$H,3,FALSE)*CE27/1000),\"\"))","v":""},{"$f":"IF(CC27=\"\",\"\",VLOOKUP(CC27,'aktuelle Düngerliste'!$A:$J,10,FALSE)*CE27/1000)","v":""},{"$f":"IF(CC27=\"\",\"\",VLOOKUP(CC27,'aktuelle Düngerliste'!$A:$H,5,FALSE)*CE27/1000)","v":""},{"$f":"IF(CC27=\"\",\"\",VLOOKUP(CC27,'aktuelle Düngerliste'!$A:$H,6,FALSE)*CE27/1000)","v":""},{"$f":"IF(CC27=\"\",\"\",VLOOKUP(CC27,'aktuelle Düngerliste'!$A:$H,7,FALSE)*CE27/1000)","v":""},null,null,null,"","",{"$f":"IF(CQ27=\"\",\"\",VLOOKUP(CQ27,'aktuelle Düngerliste'!$A:$H,2,FALSE))","v":""},{"$f":"IF(CQ27=\"\",\"\",VLOOKUP(CQ27,'aktuelle Düngerliste'!$A:$H,3,FALSE))","v":""},{"$f":"IF(CQ27=\"\",\"\",VLOOKUP(CQ27,'aktuelle Düngerliste'!$A:$H,8,FALSE))","v":""},{"$f":"IF(CQ27=\"\",\"\",VLOOKUP(CQ27,'aktuelle Düngerliste'!$A:$H,3,FALSE)*CS27/1000)","v":""},{"$f":"IF(CQ27=\"\",\"\",IF(VLOOKUP(CQ27,'aktuelle Düngerliste'!$A:$B,2,FALSE)=\"mineralisch\",(VLOOKUP(CQ27,'aktuelle Düngerliste'!$A:$H,3,FALSE)*CS27/1000),\"\"))","v":""},{"$f":"IF(CQ27=\"\",\"\",VLOOKUP(CQ27,'aktuelle Düngerliste'!$A:$J,10,FALSE)*CS27/1000)","v":""},{"$f":"IF(CQ27=\"\",\"\",VLOOKUP(CQ27,'aktuelle Düngerliste'!$A:$H,5,FALSE)*CS27/1000)","v":""},{"$f":"IF(CQ27=\"\",\"\",VLOOKUP(CQ27,'aktuelle Düngerliste'!$A:$H,6,FALSE)*CS27/1000)","v":""},{"$f":"IF(CQ27=\"\",\"\",VLOOKUP(CQ27,'aktuelle Düngerliste'!$A:$H,7,FALSE)*CS27/1000)","v":""},null,null,null,"","",{"$f":"IF(DE27=\"\",\"\",VLOOKUP(DE27,'aktuelle Düngerliste'!$A:$H,2,FALSE))","v":""},{"$f":"IF(DE27=\"\",\"\",VLOOKUP(DE27,'aktuelle Düngerliste'!$A:$H,3,FALSE))","v":""},{"$f":"IF(DE27=\"\",\"\",VLOOKUP(DE27,'aktuelle Düngerliste'!$A:$H,8,FALSE))","v":""},{"$f":"IF(DE27=\"\",\"\",VLOOKUP(DE27,'aktuelle Düngerliste'!$A:$H,3,FALSE)*DG27/1000)","v":""},{"$f":"IF(DE27=\"\",\"\",IF(VLOOKUP(DE27,'aktuelle Düngerliste'!$A:$B,2,FALSE)=\"mineralisch\",(VLOOKUP(DE27,'aktuelle Düngerliste'!$A:$H,3,FALSE)*DG27/1000),\"\"))","v":""},{"$f":"IF(DE27=\"\",\"\",VLOOKUP(DE27,'aktuelle Düngerliste'!$A:$J,10,FALSE)*DG27/1000)","v":""},{"$f":"IF(DE27=\"\",\"\",VLOOKUP(DE27,'aktuelle Düngerliste'!$A:$H,5,FALSE)*DG27/1000)","v":""},{"$f":"IF(DE27=\"\",\"\",VLOOKUP(DE27,'aktuelle Düngerliste'!$A:$H,6,FALSE)*DG27/1000)","v":""},{"$f":"IF(DE27=\"\",\"\",VLOOKUP(DE27,'aktuelle Düngerliste'!$A:$H,7,FALSE)*DG27/1000)","v":""}]
[{"$f":"IF('N-DBE'!A28=\"\",\"\",'N-DBE'!A28)","v":""},{"$f":"IF('N-DBE'!B28=\"\",\"\",'N-DBE'!B28)","v":""},{"$f":"IF('N-DBE'!C28=\"\",\"\",'N-DBE'!C28)","v":""},{"$f":"IF('N-DBE'!D28=\"\",\"\",'N-DBE'!D28)","v":""},{"$f":"IF('N-DBE'!E28=\"\",\"\",'N-DBE'!E28)","v":""},{"$f":"IF('N-DBE'!F28=\"\",\"\",'N-DBE'!F28)","v":""},{"$f":"IF('N-DBE'!G28=\"\",\"\",'N-DBE'!G28)","v":""},{"$f":"IF(OR(B28=\"\",'N-DBE'!AJ28=\"\"),\"\",'N-DBE'!AJ28+'N-DBE'!AN28)","v":""},{"$f":"IF(OR(B28=\"\",'N-DBE'!AJ28=\"\"),\"\",'N-DBE'!E28*('N-DBE'!AJ28+'N-DBE'!AN28))","v":""},{"$f":"IF('N-DBE'!AK28=\"\",\"\",IF('N-DBE'!AM28=\"ja\",'N-DBE'!AK28+'N-DBE'!AN28,'N-DBE'!AK28))","v":""},{"$f":"IF(OR(B28=\"\",'N-DBE'!AK28=\"\"),\"\",IF('N-DBE'!AM28=\"ja\",'N-DBE'!E28*('N-DBE'!AK28+'N-DBE'!AN28),'N-DBE'!E28*'N-DBE'!AK28))","v":""},{"$f":"IF(OR(B28=\"\",'N-DBE'!AL28=\"\"),\"\",'N-DBE'!AL28+'N-DBE'!AN28)","v":""},{"$f":"IF(OR(B28=\"\",'N-DBE'!AL28=\"\"),\"\",'N-DBE'!E28*('N-DBE'!AL28+'N-DBE'!AN28))","v":""},{"$f":"IF(AND('N-DBE'!C28=\"ja\",G28<>\"\"),I28-X28,\"\")","v":""},{"$f":"IF('N-DBE'!AJ28=\"\",\"\",SUM(AU28,BI28,BW28,CK28,CY28,DM28))","v":""},{"$f":"IF(OR(B28=\"\",'N-DBE'!AJ28=\"\"),\"\",O28*'N-DBE'!E28)","v":""},{"$f":"IF('N-DBE'!AJ28=\"\",\"\",IF(AR28=\"mineralisch\",AU28,0)+IF(BF28=\"mineralisch\",BI28,0)+IF(BT28=\"mineralisch\",BW28,0)+IF(CH28=\"mineralisch\",CK28,0)+IF(CV28=\"mineralisch\",CY28,0)+IF(DJ28=\"mineralisch\",DM28,0))","v":""},{"$f":"IF(OR(B28=\"\",'N-DBE'!AJ28=\"\"),\"\",Q28*'N-DBE'!E28)","v":""},{"$f":"IF('N-DBE'!AJ28=\"\",\"\",O28-Q28)","v":""},{"$f":"IF(OR(B28=\"\",'N-DBE'!AJ28=\"\"),\"\",S28*'N-DBE'!E28)","v":""},{"$f":"IF('N-DBE'!AJ28=\"\",\"\",(IF(AR28=\"Kompost\",AU28,0)+IF(BF28=\"Kompost\",BI28,0)+IF(BT28=\"Kompost\",BW28,0)+IF(CH28=\"Kompost\",CK28,0)+IF(CV28=\"Kompost\",CY28,0)+IF(DJ28=\"Kompost\",DM28,0)))","v":""},{"$f":"IF(OR(B28=\"\",'N-DBE'!AJ28=\"\"),\"\",U28*'N-DBE'!E28)","v":""},{"$f":"IF('N-DBE'!AJ28=\"\",\"\",SUM(AW28,BK28,BY28,CM28,DA28,DO28))","v":""},{"$f":"IF(OR(B28=\"\",'N-DBE'!AJ28=\"\"),\"\",W28*'N-DBE'!E28)","v":""},{"$f":"IF('P-(K-Mg)-DBE'!N28=\"\",\"\",'P-(K-Mg)-DBE'!N28+'P-(K-Mg)-DBE'!R28)","v":""},{"$f":"IF(OR(B28=\"\",'P-(K-Mg)-DBE'!N28=\"\"),\"\",'N-DBE'!E28*('P-(K-Mg)-DBE'!N28+'P-(K-Mg)-DBE'!R28))","v":""},{"$f":"IF('P-(K-Mg)-DBE'!N28=\"\",\"\",SUM(AX28,BL28,BZ28,CN28,DB28,DP28))","v":""},{"$f":"IF(OR(B28=\"\",'P-(K-Mg)-DBE'!Z28=\"\"),\"\",SUM(AX28,BL28,BZ28,CN28,DB28,DP28)*'N-DBE'!E28)","v":""},{"$f":"IF('P-(K-Mg)-DBE'!O28=\"\",\"\",'P-(K-Mg)-DBE'!O28)","v":""},{"$f":"IF(OR(B28=\"\",'P-(K-Mg)-DBE'!O28=\"\"),\"\",'P-(K-Mg)-DBE'!O28*'N-DBE'!E28)","v":""},{"$f":"IF('P-(K-Mg)-DBE'!Z28=\"\",\"\",'P-(K-Mg)-DBE'!Z28)","v":""},{"$f":"IF(OR(B28=\"\",'P-(K-Mg)-DBE'!Z28=\"\"),\"\",'P-(K-Mg)-DBE'!Z28*'N-DBE'!E28)","v":""},{"$f":"IF('P-(K-Mg)-DBE'!Z28=\"\",\"\",SUM(AY28,BM28,CA28,CO28,DC28,DQ28))","v":""},{"$f":"IF(OR(B28=\"\",'P-(K-Mg)-DBE'!AH28=\"\"),\"\",SUM(AY28,BM28,CA28,CO28,DC28,DQ18)*'N-DBE'!E28)","v":""},{"$f":"IF('P-(K-Mg)-DBE'!AH28=\"\",\"\",'P-(K-Mg)-DBE'!AH28)","v":""},{"$f":"IF(OR(B28=\"\",'P-(K-Mg)-DBE'!AH28=\"\"),\"\",'N-DBE'!E28*'P-(K-Mg)-DBE'!AH28)","v":""},{"$f":"IF('P-(K-Mg)-DBE'!AH28=\"\",\"\",SUM(AZ28,BN28,CB28,CP28,DD28,DR28))","v":""},{"$f":"IF('P-(K-Mg)-DBE'!AH28=\"\",\"\",SUM(AZ28,BN28,CB28,CP28,DD28,DR28))","v":""},null,null,null,"","",{"$f":"IF(AM28=\"\",\"\",VLOOKUP(AM28,'aktuelle Düngerliste'!A:H,2,FALSE))","v":""},{"$f":"IF(AM28=\"\",\"\",VLOOKUP(AM28,'aktuelle Düngerliste'!A:H,3,FALSE))","v":""},{"$f":"IF(AM28=\"\",\"\",VLOOKUP(AM28,'aktuelle Düngerliste'!A:H,8,FALSE))","v":""},{"$f":"IF(AM28=\"\",\"\",VLOOKUP(AM28,'aktuelle Düngerliste'!$A:$H,3,FALSE)*AO28/1000)","v":""},{"$f":"IF(AM28=\"\",\"\",IF(VLOOKUP(AM28,'aktuelle Düngerliste'!$A:$B,2,FALSE)=\"mineralisch\",(VLOOKUP(AM28,'aktuelle Düngerliste'!$A:$H,3,FALSE)*AO28/1000),\"\"))","v":""},{"$f":"IF(AM28=\"\",\"\",VLOOKUP(AM28,'aktuelle Düngerliste'!$A:$J,10,FALSE)*AO28/1000)","v":""},{"$f":"IF(AM28=\"\",\"\",VLOOKUP(AM28,'aktuelle Düngerliste'!$A:$H,5,FALSE)*AO28/1000)","v":""},{"$f":"IF(AM28=\"\",\"\",VLOOKUP(AM28,'aktuelle Düngerliste'!$A:$H,6,FALSE)*AO28/1000)","v":""},{"$f":"IF(AM28=\"\",\"\",VLOOKUP(AM28,'aktuelle Düngerliste'!$A:$H,7,FALSE)*AO28/1000)","v":""},null,null,null,"","",{"$f":"IF(BA28=\"\",\"\",VLOOKUP(BA28,'aktuelle Düngerliste'!$A:$H,2,FALSE))","v":""},{"$f":"IF(BA28=\"\",\"\",VLOOKUP(BA28,'aktuelle Düngerliste'!$A:$H,3,FALSE))","v":""},{"$f":"IF(BA28=\"\",\"\",VLOOKUP(BA28,'aktuelle Düngerliste'!$A:$H,8,FALSE))","v":""},{"$f":"IF(BA28=\"\",\"\",VLOOKUP(BA28,'aktuelle Düngerliste'!$A:$H,3,FALSE)*BC28/1000)","v":""},{"$f":"IF(BA28=\"\",\"\",IF(VLOOKUP(BA28,'aktuelle Düngerliste'!$A:$B,2,FALSE)=\"mineralisch\",(VLOOKUP(BA28,'aktuelle Düngerliste'!$A:$H,3,FALSE)*BC28/1000),\"\"))","v":""},{"$f":"IF(BA28=\"\",\"\",VLOOKUP(BA28,'aktuelle Düngerliste'!$A:$J,10,FALSE)*BC28/1000)","v":""},{"$f":"IF(BA28=\"\",\"\",VLOOKUP(BA28,'aktuelle Düngerliste'!$A:$H,5,FALSE)*BC28/1000)","v":""},{"$f":"IF(BA28=\"\",\"\",VLOOKUP(BA28,'aktuelle Düngerliste'!$A:$H,6,FALSE)*BC28/1000)","v":""},{"$f":"IF(BA28=\"\",\"\",VLOOKUP(BA28,'aktuelle Düngerliste'!$A:$H,7,FALSE)*BC28/1000)","v":""},null,null,null,"","",{"$f":"IF(BO28=\"\",\"\",VLOOKUP(BO28,'aktuelle Düngerliste'!$A:$H,2,FALSE))","v":""},{"$f":"IF(BO28=\"\",\"\",VLOOKUP(BO28,'aktuelle Düngerliste'!$A:$H,3,FALSE))","v":""},{"$f":"IF(BO28=\"\",\"\",VLOOKUP(BO28,'aktuelle Düngerliste'!$A:$H,8,FALSE))","v":""},{"$f":"IF(BO28=\"\",\"\",VLOOKUP(BO28,'aktuelle Düngerliste'!$A:$H,3,FALSE)*BQ28/1000)","v":""},{"$f":"IF(BO28=\"\",\"\",IF(VLOOKUP(BO28,'aktuelle Düngerliste'!$A:$B,2,FALSE)=\"mineralisch\",(VLOOKUP(BO28,'aktuelle Düngerliste'!$A:$H,3,FALSE)*BQ28/1000),\"\"))","v":""},{"$f":"IF(BO28=\"\",\"\",VLOOKUP(BO28,'aktuelle Düngerliste'!$A:$J,10,FALSE)*BQ28/1000)","v":""},{"$f":"IF(BO28=\"\",\"\",VLOOKUP(BO28,'aktuelle Düngerliste'!$A:$H,5,FALSE)*BQ28/1000)","v":""},{"$f":"IF(BO28=\"\",\"\",VLOOKUP(BO28,'aktuelle Düngerliste'!$A:$H,6,FALSE)*BQ28/1000)","v":""},{"$f":"IF(BO28=\"\",\"\",VLOOKUP(BO28,'aktuelle Düngerliste'!$A:$H,7,FALSE)*BQ28/1000)","v":""},null,null,null,"","",{"$f":"IF(CC28=\"\",\"\",VLOOKUP(CC28,'aktuelle Düngerliste'!$A:$H,2,FALSE))","v":""},{"$f":"IF(CC28=\"\",\"\",VLOOKUP(CC28,'aktuelle Düngerliste'!$A:$H,3,FALSE))","v":""},{"$f":"IF(CC28=\"\",\"\",VLOOKUP(CC28,'aktuelle Düngerliste'!$A:$H,8,FALSE))","v":""},{"$f":"IF(CC28=\"\",\"\",VLOOKUP(CC28,'aktuelle Düngerliste'!$A:$H,3,FALSE)*CE28/1000)","v":""},{"$f":"IF(CC28=\"\",\"\",IF(VLOOKUP(CC28,'aktuelle Düngerliste'!$A:$B,2,FALSE)=\"mineralisch\",(VLOOKUP(CC28,'aktuelle Düngerliste'!$A:$H,3,FALSE)*CE28/1000),\"\"))","v":""},{"$f":"IF(CC28=\"\",\"\",VLOOKUP(CC28,'aktuelle Düngerliste'!$A:$J,10,FALSE)*CE28/1000)","v":""},{"$f":"IF(CC28=\"\",\"\",VLOOKUP(CC28,'aktuelle Düngerliste'!$A:$H,5,FALSE)*CE28/1000)","v":""},{"$f":"IF(CC28=\"\",\"\",VLOOKUP(CC28,'aktuelle Düngerliste'!$A:$H,6,FALSE)*CE28/1000)","v":""},{"$f":"IF(CC28=\"\",\"\",VLOOKUP(CC28,'aktuelle Düngerliste'!$A:$H,7,FALSE)*CE28/1000)","v":""},null,null,null,"","",{"$f":"IF(CQ28=\"\",\"\",VLOOKUP(CQ28,'aktuelle Düngerliste'!$A:$H,2,FALSE))","v":""},{"$f":"IF(CQ28=\"\",\"\",VLOOKUP(CQ28,'aktuelle Düngerliste'!$A:$H,3,FALSE))","v":""},{"$f":"IF(CQ28=\"\",\"\",VLOOKUP(CQ28,'aktuelle Düngerliste'!$A:$H,8,FALSE))","v":""},{"$f":"IF(CQ28=\"\",\"\",VLOOKUP(CQ28,'aktuelle Düngerliste'!$A:$H,3,FALSE)*CS28/1000)","v":""},{"$f":"IF(CQ28=\"\",\"\",IF(VLOOKUP(CQ28,'aktuelle Düngerliste'!$A:$B,2,FALSE)=\"mineralisch\",(VLOOKUP(CQ28,'aktuelle Düngerliste'!$A:$H,3,FALSE)*CS28/1000),\"\"))","v":""},{"$f":"IF(CQ28=\"\",\"\",VLOOKUP(CQ28,'aktuelle Düngerliste'!$A:$J,10,FALSE)*CS28/1000)","v":""},{"$f":"IF(CQ28=\"\",\"\",VLOOKUP(CQ28,'aktuelle Düngerliste'!$A:$H,5,FALSE)*CS28/1000)","v":""},{"$f":"IF(CQ28=\"\",\"\",VLOOKUP(CQ28,'aktuelle Düngerliste'!$A:$H,6,FALSE)*CS28/1000)","v":""},{"$f":"IF(CQ28=\"\",\"\",VLOOKUP(CQ28,'aktuelle Düngerliste'!$A:$H,7,FALSE)*CS28/1000)","v":""},null,null,null,"","",{"$f":"IF(DE28=\"\",\"\",VLOOKUP(DE28,'aktuelle Düngerliste'!$A:$H,2,FALSE))","v":""},{"$f":"IF(DE28=\"\",\"\",VLOOKUP(DE28,'aktuelle Düngerliste'!$A:$H,3,FALSE))","v":""},{"$f":"IF(DE28=\"\",\"\",VLOOKUP(DE28,'aktuelle Düngerliste'!$A:$H,8,FALSE))","v":""},{"$f":"IF(DE28=\"\",\"\",VLOOKUP(DE28,'aktuelle Düngerliste'!$A:$H,3,FALSE)*DG28/1000)","v":""},{"$f":"IF(DE28=\"\",\"\",IF(VLOOKUP(DE28,'aktuelle Düngerliste'!$A:$B,2,FALSE)=\"mineralisch\",(VLOOKUP(DE28,'aktuelle Düngerliste'!$A:$H,3,FALSE)*DG28/1000),\"\"))","v":""},{"$f":"IF(DE28=\"\",\"\",VLOOKUP(DE28,'aktuelle Düngerliste'!$A:$J,10,FALSE)*DG28/1000)","v":""},{"$f":"IF(DE28=\"\",\"\",VLOOKUP(DE28,'aktuelle Düngerliste'!$A:$H,5,FALSE)*DG28/1000)","v":""},{"$f":"IF(DE28=\"\",\"\",VLOOKUP(DE28,'aktuelle Düngerliste'!$A:$H,6,FALSE)*DG28/1000)","v":""},{"$f":"IF(DE28=\"\",\"\",VLOOKUP(DE28,'aktuelle Düngerliste'!$A:$H,7,FALSE)*DG28/1000)","v":""}]
[{"$f":"IF('N-DBE'!A29=\"\",\"\",'N-DBE'!A29)","v":""},{"$f":"IF('N-DBE'!B29=\"\",\"\",'N-DBE'!B29)","v":""},{"$f":"IF('N-DBE'!C29=\"\",\"\",'N-DBE'!C29)","v":""},{"$f":"IF('N-DBE'!D29=\"\",\"\",'N-DBE'!D29)","v":""},{"$f":"IF('N-DBE'!E29=\"\",\"\",'N-DBE'!E29)","v":""},{"$f":"IF('N-DBE'!F29=\"\",\"\",'N-DBE'!F29)","v":""},{"$f":"IF('N-DBE'!G29=\"\",\"\",'N-DBE'!G29)","v":""},{"$f":"IF(OR(B29=\"\",'N-DBE'!AJ29=\"\"),\"\",'N-DBE'!AJ29+'N-DBE'!AN29)","v":""},{"$f":"IF(OR(B29=\"\",'N-DBE'!AJ29=\"\"),\"\",'N-DBE'!E29*('N-DBE'!AJ29+'N-DBE'!AN29))","v":""},{"$f":"IF('N-DBE'!AK29=\"\",\"\",IF('N-DBE'!AM29=\"ja\",'N-DBE'!AK29+'N-DBE'!AN29,'N-DBE'!AK29))","v":""},{"$f":"IF(OR(B29=\"\",'N-DBE'!AK29=\"\"),\"\",IF('N-DBE'!AM29=\"ja\",'N-DBE'!E29*('N-DBE'!AK29+'N-DBE'!AN29),'N-DBE'!E29*'N-DBE'!AK29))","v":""},{"$f":"IF(OR(B29=\"\",'N-DBE'!AL29=\"\"),\"\",'N-DBE'!AL29+'N-DBE'!AN29)","v":""},{"$f":"IF(OR(B29=\"\",'N-DBE'!AL29=\"\"),\"\",'N-DBE'!E29*('N-DBE'!AL29+'N-DBE'!AN29))","v":""},{"$f":"IF(AND('N-DBE'!C29=\"ja\",G29<>\"\"),I29-X29,\"\")","v":""},{"$f":"IF('N-DBE'!AJ29=\"\",\"\",SUM(AU29,BI29,BW29,CK29,CY29,DM29))","v":""},{"$f":"IF(OR(B29=\"\",'N-DBE'!AJ29=\"\"),\"\",O29*'N-DBE'!E29)","v":""},{"$f":"IF('N-DBE'!AJ29=\"\",\"\",IF(AR29=\"mineralisch\",AU29,0)+IF(BF29=\"mineralisch\",BI29,0)+IF(BT29=\"mineralisch\",BW29,0)+IF(CH29=\"mineralisch\",CK29,0)+IF(CV29=\"mineralisch\",CY29,0)+IF(DJ29=\"mineralisch\",DM29,0))","v":""},{"$f":"IF(OR(B29=\"\",'N-DBE'!AJ29=\"\"),\"\",Q29*'N-DBE'!E29)","v":""},{"$f":"IF('N-DBE'!AJ29=\"\",\"\",O29-Q29)","v":""},{"$f":"IF(OR(B29=\"\",'N-DBE'!AJ29=\"\"),\"\",S29*'N-DBE'!E29)","v":""},{"$f":"IF('N-DBE'!AJ29=\"\",\"\",(IF(AR29=\"Kompost\",AU29,0)+IF(BF29=\"Kompost\",BI29,0)+IF(BT29=\"Kompost\",BW29,0)+IF(CH29=\"Kompost\",CK29,0)+IF(CV29=\"Kompost\",CY29,0)+IF(DJ29=\"Kompost\",DM29,0)))","v":""},{"$f":"IF(OR(B29=\"\",'N-DBE'!AJ29=\"\"),\"\",U29*'N-DBE'!E29)","v":""},{"$f":"IF('N-DBE'!AJ29=\"\",\"\",SUM(AW29,BK29,BY29,CM29,DA29,DO29))","v":""},{"$f":"IF(OR(B29=\"\",'N-DBE'!AJ29=\"\"),\"\",W29*'N-DBE'!E29)","v":""},{"$f":"IF('P-(K-Mg)-DBE'!N29=\"\",\"\",'P-(K-Mg)-DBE'!N29+'P-(K-Mg)-DBE'!R29)","v":""},{"$f":"IF(OR(B29=\"\",'P-(K-Mg)-DBE'!N29=\"\"),\"\",'N-DBE'!E29*('P-(K-Mg)-DBE'!N29+'P-(K-Mg)-DBE'!R29))","v":""},{"$f":"IF('P-(K-Mg)-DBE'!N29=\"\",\"\",SUM(AX29,BL29,BZ29,CN29,DB29,DP29))","v":""},{"$f":"IF(OR(B29=\"\",'P-(K-Mg)-DBE'!Z29=\"\"),\"\",SUM(AX29,BL29,BZ29,CN29,DB29,DP29)*'N-DBE'!E29)","v":""},{"$f":"IF('P-(K-Mg)-DBE'!O29=\"\",\"\",'P-(K-Mg)-DBE'!O29)","v":""},{"$f":"IF(OR(B29=\"\",'P-(K-Mg)-DBE'!O29=\"\"),\"\",'P-(K-Mg)-DBE'!O29*'N-DBE'!E29)","v":""},{"$f":"IF('P-(K-Mg)-DBE'!Z29=\"\",\"\",'P-(K-Mg)-DBE'!Z29)","v":""},{"$f":"IF(OR(B29=\"\",'P-(K-Mg)-DBE'!Z29=\"\"),\"\",'P-(K-Mg)-DBE'!Z29*'N-DBE'!E29)","v":""},{"$f":"IF('P-(K-Mg)-DBE'!Z29=\"\",\"\",SUM(AY29,BM29,CA29,CO29,DC29,DQ29))","v":""},{"$f":"IF(OR(B29=\"\",'P-(K-Mg)-DBE'!AH29=\"\"),\"\",SUM(AY29,BM29,CA29,CO29,DC29,DQ19)*'N-DBE'!E29)","v":""},{"$f":"IF('P-(K-Mg)-DBE'!AH29=\"\",\"\",'P-(K-Mg)-DBE'!AH29)","v":""},{"$f":"IF(OR(B29=\"\",'P-(K-Mg)-DBE'!AH29=\"\"),\"\",'N-DBE'!E29*'P-(K-Mg)-DBE'!AH29)","v":""},{"$f":"IF('P-(K-Mg)-DBE'!AH29=\"\",\"\",SUM(AZ29,BN29,CB29,CP29,DD29,DR29))","v":""},{"$f":"IF('P-(K-Mg)-DBE'!AH29=\"\",\"\",SUM(AZ29,BN29,CB29,CP29,DD29,DR29))","v":""},null,null,null,"","",{"$f":"IF(AM29=\"\",\"\",VLOOKUP(AM29,'aktuelle Düngerliste'!A:H,2,FALSE))","v":""},{"$f":"IF(AM29=\"\",\"\",VLOOKUP(AM29,'aktuelle Düngerliste'!A:H,3,FALSE))","v":""},{"$f":"IF(AM29=\"\",\"\",VLOOKUP(AM29,'aktuelle Düngerliste'!A:H,8,FALSE))","v":""},{"$f":"IF(AM29=\"\",\"\",VLOOKUP(AM29,'aktuelle Düngerliste'!$A:$H,3,FALSE)*AO29/1000)","v":""},{"$f":"IF(AM29=\"\",\"\",IF(VLOOKUP(AM29,'aktuelle Düngerliste'!$A:$B,2,FALSE)=\"mineralisch\",(VLOOKUP(AM29,'aktuelle Düngerliste'!$A:$H,3,FALSE)*AO29/1000),\"\"))","v":""},{"$f":"IF(AM29=\"\",\"\",VLOOKUP(AM29,'aktuelle Düngerliste'!$A:$J,10,FALSE)*AO29/1000)","v":""},{"$f":"IF(AM29=\"\",\"\",VLOOKUP(AM29,'aktuelle Düngerliste'!$A:$H,5,FALSE)*AO29/1000)","v":""},{"$f":"IF(AM29=\"\",\"\",VLOOKUP(AM29,'aktuelle Düngerliste'!$A:$H,6,FALSE)*AO29/1000)","v":""},{"$f":"IF(AM29=\"\",\"\",VLOOKUP(AM29,'aktuelle Düngerliste'!$A:$H,7,FALSE)*AO29/1000)","v":""},null,null,null,"","",{"$f":"IF(BA29=\"\",\"\",VLOOKUP(BA29,'aktuelle Düngerliste'!$A:$H,2,FALSE))","v":""},{"$f":"IF(BA29=\"\",\"\",VLOOKUP(BA29,'aktuelle Düngerliste'!$A:$H,3,FALSE))","v":""},{"$f":"IF(BA29=\"\",\"\",VLOOKUP(BA29,'aktuelle Düngerliste'!$A:$H,8,FALSE))","v":""},{"$f":"IF(BA29=\"\",\"\",VLOOKUP(BA29,'aktuelle Düngerliste'!$A:$H,3,FALSE)*BC29/1000)","v":""},{"$f":"IF(BA29=\"\",\"\",IF(VLOOKUP(BA29,'aktuelle Düngerliste'!$A:$B,2,FALSE)=\"mineralisch\",(VLOOKUP(BA29,'aktuelle Düngerliste'!$A:$H,3,FALSE)*BC29/1000),\"\"))","v":""},{"$f":"IF(BA29=\"\",\"\",VLOOKUP(BA29,'aktuelle Düngerliste'!$A:$J,10,FALSE)*BC29/1000)","v":""},{"$f":"IF(BA29=\"\",\"\",VLOOKUP(BA29,'aktuelle Düngerliste'!$A:$H,5,FALSE)*BC29/1000)","v":""},{"$f":"IF(BA29=\"\",\"\",VLOOKUP(BA29,'aktuelle Düngerliste'!$A:$H,6,FALSE)*BC29/1000)","v":""},{"$f":"IF(BA29=\"\",\"\",VLOOKUP(BA29,'aktuelle Düngerliste'!$A:$H,7,FALSE)*BC29/1000)","v":""},null,null,null,"","",{"$f":"IF(BO29=\"\",\"\",VLOOKUP(BO29,'aktuelle Düngerliste'!$A:$H,2,FALSE))","v":""},{"$f":"IF(BO29=\"\",\"\",VLOOKUP(BO29,'aktuelle Düngerliste'!$A:$H,3,FALSE))","v":""},{"$f":"IF(BO29=\"\",\"\",VLOOKUP(BO29,'aktuelle Düngerliste'!$A:$H,8,FALSE))","v":""},{"$f":"IF(BO29=\"\",\"\",VLOOKUP(BO29,'aktuelle Düngerliste'!$A:$H,3,FALSE)*BQ29/1000)","v":""},{"$f":"IF(BO29=\"\",\"\",IF(VLOOKUP(BO29,'aktuelle Düngerliste'!$A:$B,2,FALSE)=\"mineralisch\",(VLOOKUP(BO29,'aktuelle Düngerliste'!$A:$H,3,FALSE)*BQ29/1000),\"\"))","v":""},{"$f":"IF(BO29=\"\",\"\",VLOOKUP(BO29,'aktuelle Düngerliste'!$A:$J,10,FALSE)*BQ29/1000)","v":""},{"$f":"IF(BO29=\"\",\"\",VLOOKUP(BO29,'aktuelle Düngerliste'!$A:$H,5,FALSE)*BQ29/1000)","v":""},{"$f":"IF(BO29=\"\",\"\",VLOOKUP(BO29,'aktuelle Düngerliste'!$A:$H,6,FALSE)*BQ29/1000)","v":""},{"$f":"IF(BO29=\"\",\"\",VLOOKUP(BO29,'aktuelle Düngerliste'!$A:$H,7,FALSE)*BQ29/1000)","v":""},null,null,null,"","",{"$f":"IF(CC29=\"\",\"\",VLOOKUP(CC29,'aktuelle Düngerliste'!$A:$H,2,FALSE))","v":""},{"$f":"IF(CC29=\"\",\"\",VLOOKUP(CC29,'aktuelle Düngerliste'!$A:$H,3,FALSE))","v":""},{"$f":"IF(CC29=\"\",\"\",VLOOKUP(CC29,'aktuelle Düngerliste'!$A:$H,8,FALSE))","v":""},{"$f":"IF(CC29=\"\",\"\",VLOOKUP(CC29,'aktuelle Düngerliste'!$A:$H,3,FALSE)*CE29/1000)","v":""},{"$f":"IF(CC29=\"\",\"\",IF(VLOOKUP(CC29,'aktuelle Düngerliste'!$A:$B,2,FALSE)=\"mineralisch\",(VLOOKUP(CC29,'aktuelle Düngerliste'!$A:$H,3,FALSE)*CE29/1000),\"\"))","v":""},{"$f":"IF(CC29=\"\",\"\",VLOOKUP(CC29,'aktuelle Düngerliste'!$A:$J,10,FALSE)*CE29/1000)","v":""},{"$f":"IF(CC29=\"\",\"\",VLOOKUP(CC29,'aktuelle Düngerliste'!$A:$H,5,FALSE)*CE29/1000)","v":""},{"$f":"IF(CC29=\"\",\"\",VLOOKUP(CC29,'aktuelle Düngerliste'!$A:$H,6,FALSE)*CE29/1000)","v":""},{"$f":"IF(CC29=\"\",\"\",VLOOKUP(CC29,'aktuelle Düngerliste'!$A:$H,7,FALSE)*CE29/1000)","v":""},null,null,null,"","",{"$f":"IF(CQ29=\"\",\"\",VLOOKUP(CQ29,'aktuelle Düngerliste'!$A:$H,2,FALSE))","v":""},{"$f":"IF(CQ29=\"\",\"\",VLOOKUP(CQ29,'aktuelle Düngerliste'!$A:$H,3,FALSE))","v":""},{"$f":"IF(CQ29=\"\",\"\",VLOOKUP(CQ29,'aktuelle Düngerliste'!$A:$H,8,FALSE))","v":""},{"$f":"IF(CQ29=\"\",\"\",VLOOKUP(CQ29,'aktuelle Düngerliste'!$A:$H,3,FALSE)*CS29/1000)","v":""},{"$f":"IF(CQ29=\"\",\"\",IF(VLOOKUP(CQ29,'aktuelle Düngerliste'!$A:$B,2,FALSE)=\"mineralisch\",(VLOOKUP(CQ29,'aktuelle Düngerliste'!$A:$H,3,FALSE)*CS29/1000),\"\"))","v":""},{"$f":"IF(CQ29=\"\",\"\",VLOOKUP(CQ29,'aktuelle Düngerliste'!$A:$J,10,FALSE)*CS29/1000)","v":""},{"$f":"IF(CQ29=\"\",\"\",VLOOKUP(CQ29,'aktuelle Düngerliste'!$A:$H,5,FALSE)*CS29/1000)","v":""},{"$f":"IF(CQ29=\"\",\"\",VLOOKUP(CQ29,'aktuelle Düngerliste'!$A:$H,6,FALSE)*CS29/1000)","v":""},{"$f":"IF(CQ29=\"\",\"\",VLOOKUP(CQ29,'aktuelle Düngerliste'!$A:$H,7,FALSE)*CS29/1000)","v":""},null,null,null,"","",{"$f":"IF(DE29=\"\",\"\",VLOOKUP(DE29,'aktuelle Düngerliste'!$A:$H,2,FALSE))","v":""},{"$f":"IF(DE29=\"\",\"\",VLOOKUP(DE29,'aktuelle Düngerliste'!$A:$H,3,FALSE))","v":""},{"$f":"IF(DE29=\"\",\"\",VLOOKUP(DE29,'aktuelle Düngerliste'!$A:$H,8,FALSE))","v":""},{"$f":"IF(DE29=\"\",\"\",VLOOKUP(DE29,'aktuelle Düngerliste'!$A:$H,3,FALSE)*DG29/1000)","v":""},{"$f":"IF(DE29=\"\",\"\",IF(VLOOKUP(DE29,'aktuelle Düngerliste'!$A:$B,2,FALSE)=\"mineralisch\",(VLOOKUP(DE29,'aktuelle Düngerliste'!$A:$H,3,FALSE)*DG29/1000),\"\"))","v":""},{"$f":"IF(DE29=\"\",\"\",VLOOKUP(DE29,'aktuelle Düngerliste'!$A:$J,10,FALSE)*DG29/1000)","v":""},{"$f":"IF(DE29=\"\",\"\",VLOOKUP(DE29,'aktuelle Düngerliste'!$A:$H,5,FALSE)*DG29/1000)","v":""},{"$f":"IF(DE29=\"\",\"\",VLOOKUP(DE29,'aktuelle Düngerliste'!$A:$H,6,FALSE)*DG29/1000)","v":""},{"$f":"IF(DE29=\"\",\"\",VLOOKUP(DE29,'aktuelle Düngerliste'!$A:$H,7,FALSE)*DG29/1000)","v":""}]
[{"$f":"IF('N-DBE'!A30=\"\",\"\",'N-DBE'!A30)","v":""},{"$f":"IF('N-DBE'!B30=\"\",\"\",'N-DBE'!B30)","v":""},{"$f":"IF('N-DBE'!C30=\"\",\"\",'N-DBE'!C30)","v":""},{"$f":"IF('N-DBE'!D30=\"\",\"\",'N-DBE'!D30)","v":""},{"$f":"IF('N-DBE'!E30=\"\",\"\",'N-DBE'!E30)","v":""},{"$f":"IF('N-DBE'!F30=\"\",\"\",'N-DBE'!F30)","v":""},{"$f":"IF('N-DBE'!G30=\"\",\"\",'N-DBE'!G30)","v":""},{"$f":"IF(OR(B30=\"\",'N-DBE'!AJ30=\"\"),\"\",'N-DBE'!AJ30+'N-DBE'!AN30)","v":""},{"$f":"IF(OR(B30=\"\",'N-DBE'!AJ30=\"\"),\"\",'N-DBE'!E30*('N-DBE'!AJ30+'N-DBE'!AN30))","v":""},{"$f":"IF('N-DBE'!AK30=\"\",\"\",IF('N-DBE'!AM30=\"ja\",'N-DBE'!AK30+'N-DBE'!AN30,'N-DBE'!AK30))","v":""},{"$f":"IF(OR(B30=\"\",'N-DBE'!AK30=\"\"),\"\",IF('N-DBE'!AM30=\"ja\",'N-DBE'!E30*('N-DBE'!AK30+'N-DBE'!AN30),'N-DBE'!E30*'N-DBE'!AK30))","v":""},{"$f":"IF(OR(B30=\"\",'N-DBE'!AL30=\"\"),\"\",'N-DBE'!AL30+'N-DBE'!AN30)","v":""},{"$f":"IF(OR(B30=\"\",'N-DBE'!AL30=\"\"),\"\",'N-DBE'!E30*('N-DBE'!AL30+'N-DBE'!AN30))","v":""},{"$f":"IF(AND('N-DBE'!C30=\"ja\",G30<>\"\"),I30-X30,\"\")","v":""},{"$f":"IF('N-DBE'!AJ30=\"\",\"\",SUM(AU30,BI30,BW30,CK30,CY30,DM30))","v":""},{"$f":"IF(OR(B30=\"\",'N-DBE'!AJ30=\"\"),\"\",O30*'N-DBE'!E30)","v":""},{"$f":"IF('N-DBE'!AJ30=\"\",\"\",IF(AR30=\"mineralisch\",AU30,0)+IF(BF30=\"mineralisch\",BI30,0)+IF(BT30=\"mineralisch\",BW30,0)+IF(CH30=\"mineralisch\",CK30,0)+IF(CV30=\"mineralisch\",CY30,0)+IF(DJ30=\"mineralisch\",DM30,0))","v":""},{"$f":"IF(OR(B30=\"\",'N-DBE'!AJ30=\"\"),\"\",Q30*'N-DBE'!E30)","v":""},{"$f":"IF('N-DBE'!AJ30=\"\",\"\",O30-Q30)","v":""},{"$f":"IF(OR(B30=\"\",'N-DBE'!AJ30=\"\"),\"\",S30*'N-DBE'!E30)","v":""},{"$f":"IF('N-DBE'!AJ30=\"\",\"\",(IF(AR30=\"Kompost\",AU30,0)+IF(BF30=\"Kompost\",BI30,0)+IF(BT30=\"Kompost\",BW30,0)+IF(CH30=\"Kompost\",CK30,0)+IF(CV30=\"Kompost\",CY30,0)+IF(DJ30=\"Kompost\",DM30,0)))","v":""},{"$f":"IF(OR(B30=\"\",'N-DBE'!AJ30=\"\"),\"\",U30*'N-DBE'!E30)","v":""},{"$f":"IF('N-DBE'!AJ30=\"\",\"\",SUM(AW30,BK30,BY30,CM30,DA30,DO30))","v":""},{"$f":"IF(OR(B30=\"\",'N-DBE'!AJ30=\"\"),\"\",W30*'N-DBE'!E30)","v":""},{"$f":"IF('P-(K-Mg)-DBE'!N30=\"\",\"\",'P-(K-Mg)-DBE'!N30+'P-(K-Mg)-DBE'!R30)","v":""},{"$f":"IF(OR(B30=\"\",'P-(K-Mg)-DBE'!N30=\"\"),\"\",'N-DBE'!E30*('P-(K-Mg)-DBE'!N30+'P-(K-Mg)-DBE'!R30))","v":""},{"$f":"IF('P-(K-Mg)-DBE'!N30=\"\",\"\",SUM(AX30,BL30,BZ30,CN30,DB30,DP30))","v":""},{"$f":"IF(OR(B30=\"\",'P-(K-Mg)-DBE'!Z30=\"\"),\"\",SUM(AX30,BL30,BZ30,CN30,DB30,DP30)*'N-DBE'!E30)","v":""},{"$f":"IF('P-(K-Mg)-DBE'!O30=\"\",\"\",'P-(K-Mg)-DBE'!O30)","v":""},{"$f":"IF(OR(B30=\"\",'P-(K-Mg)-DBE'!O30=\"\"),\"\",'P-(K-Mg)-DBE'!O30*'N-DBE'!E30)","v":""},{"$f":"IF('P-(K-Mg)-DBE'!Z30=\"\",\"\",'P-(K-Mg)-DBE'!Z30)","v":""},{"$f":"IF(OR(B30=\"\",'P-(K-Mg)-DBE'!Z30=\"\"),\"\",'P-(K-Mg)-DBE'!Z30*'N-DBE'!E30)","v":""},{"$f":"IF('P-(K-Mg)-DBE'!Z30=\"\",\"\",SUM(AY30,BM30,CA30,CO30,DC30,DQ30))","v":""},{"$f":"IF(OR(B30=\"\",'P-(K-Mg)-DBE'!AH30=\"\"),\"\",SUM(AY30,BM30,CA30,CO30,DC30,DQ20)*'N-DBE'!E30)","v":""},{"$f":"IF('P-(K-Mg)-DBE'!AH30=\"\",\"\",'P-(K-Mg)-DBE'!AH30)","v":""},{"$f":"IF(OR(B30=\"\",'P-(K-Mg)-DBE'!AH30=\"\"),\"\",'N-DBE'!E30*'P-(K-Mg)-DBE'!AH30)","v":""},{"$f":"IF('P-(K-Mg)-DBE'!AH30=\"\",\"\",SUM(AZ30,BN30,CB30,CP30,DD30,DR30))","v":""},{"$f":"IF('P-(K-Mg)-DBE'!AH30=\"\",\"\",SUM(AZ30,BN30,CB30,CP30,DD30,DR30))","v":""},null,null,null,"","",{"$f":"IF(AM30=\"\",\"\",VLOOKUP(AM30,'aktuelle Düngerliste'!A:H,2,FALSE))","v":""},{"$f":"IF(AM30=\"\",\"\",VLOOKUP(AM30,'aktuelle Düngerliste'!A:H,3,FALSE))","v":""},{"$f":"IF(AM30=\"\",\"\",VLOOKUP(AM30,'aktuelle Düngerliste'!A:H,8,FALSE))","v":""},{"$f":"IF(AM30=\"\",\"\",VLOOKUP(AM30,'aktuelle Düngerliste'!$A:$H,3,FALSE)*AO30/1000)","v":""},{"$f":"IF(AM30=\"\",\"\",IF(VLOOKUP(AM30,'aktuelle Düngerliste'!$A:$B,2,FALSE)=\"mineralisch\",(VLOOKUP(AM30,'aktuelle Düngerliste'!$A:$H,3,FALSE)*AO30/1000),\"\"))","v":""},{"$f":"IF(AM30=\"\",\"\",VLOOKUP(AM30,'aktuelle Düngerliste'!$A:$J,10,FALSE)*AO30/1000)","v":""},{"$f":"IF(AM30=\"\",\"\",VLOOKUP(AM30,'aktuelle Düngerliste'!$A:$H,5,FALSE)*AO30/1000)","v":""},{"$f":"IF(AM30=\"\",\"\",VLOOKUP(AM30,'aktuelle Düngerliste'!$A:$H,6,FALSE)*AO30/1000)","v":""},{"$f":"IF(AM30=\"\",\"\",VLOOKUP(AM30,'aktuelle Düngerliste'!$A:$H,7,FALSE)*AO30/1000)","v":""},null,null,null,"","",{"$f":"IF(BA30=\"\",\"\",VLOOKUP(BA30,'aktuelle Düngerliste'!$A:$H,2,FALSE))","v":""},{"$f":"IF(BA30=\"\",\"\",VLOOKUP(BA30,'aktuelle Düngerliste'!$A:$H,3,FALSE))","v":""},{"$f":"IF(BA30=\"\",\"\",VLOOKUP(BA30,'aktuelle Düngerliste'!$A:$H,8,FALSE))","v":""},{"$f":"IF(BA30=\"\",\"\",VLOOKUP(BA30,'aktuelle Düngerliste'!$A:$H,3,FALSE)*BC30/1000)","v":""},{"$f":"IF(BA30=\"\",\"\",IF(VLOOKUP(BA30,'aktuelle Düngerliste'!$A:$B,2,FALSE)=\"mineralisch\",(VLOOKUP(BA30,'aktuelle Düngerliste'!$A:$H,3,FALSE)*BC30/1000),\"\"))","v":""},{"$f":"IF(BA30=\"\",\"\",VLOOKUP(BA30,'aktuelle Düngerliste'!$A:$J,10,FALSE)*BC30/1000)","v":""},{"$f":"IF(BA30=\"\",\"\",VLOOKUP(BA30,'aktuelle Düngerliste'!$A:$H,5,FALSE)*BC30/1000)","v":""},{"$f":"IF(BA30=\"\",\"\",VLOOKUP(BA30,'aktuelle Düngerliste'!$A:$H,6,FALSE)*BC30/1000)","v":""},{"$f":"IF(BA30=\"\",\"\",VLOOKUP(BA30,'aktuelle Düngerliste'!$A:$H,7,FALSE)*BC30/1000)","v":""},null,null,null,"","",{"$f":"IF(BO30=\"\",\"\",VLOOKUP(BO30,'aktuelle Düngerliste'!$A:$H,2,FALSE))","v":""},{"$f":"IF(BO30=\"\",\"\",VLOOKUP(BO30,'aktuelle Düngerliste'!$A:$H,3,FALSE))","v":""},{"$f":"IF(BO30=\"\",\"\",VLOOKUP(BO30,'aktuelle Düngerliste'!$A:$H,8,FALSE))","v":""},{"$f":"IF(BO30=\"\",\"\",VLOOKUP(BO30,'aktuelle Düngerliste'!$A:$H,3,FALSE)*BQ30/1000)","v":""},{"$f":"IF(BO30=\"\",\"\",IF(VLOOKUP(BO30,'aktuelle Düngerliste'!$A:$B,2,FALSE)=\"mineralisch\",(VLOOKUP(BO30,'aktuelle Düngerliste'!$A:$H,3,FALSE)*BQ30/1000),\"\"))","v":""},{"$f":"IF(BO30=\"\",\"\",VLOOKUP(BO30,'aktuelle Düngerliste'!$A:$J,10,FALSE)*BQ30/1000)","v":""},{"$f":"IF(BO30=\"\",\"\",VLOOKUP(BO30,'aktuelle Düngerliste'!$A:$H,5,FALSE)*BQ30/1000)","v":""},{"$f":"IF(BO30=\"\",\"\",VLOOKUP(BO30,'aktuelle Düngerliste'!$A:$H,6,FALSE)*BQ30/1000)","v":""},{"$f":"IF(BO30=\"\",\"\",VLOOKUP(BO30,'aktuelle Düngerliste'!$A:$H,7,FALSE)*BQ30/1000)","v":""},null,null,null,"","",{"$f":"IF(CC30=\"\",\"\",VLOOKUP(CC30,'aktuelle Düngerliste'!$A:$H,2,FALSE))","v":""},{"$f":"IF(CC30=\"\",\"\",VLOOKUP(CC30,'aktuelle Düngerliste'!$A:$H,3,FALSE))","v":""},{"$f":"IF(CC30=\"\",\"\",VLOOKUP(CC30,'aktuelle Düngerliste'!$A:$H,8,FALSE))","v":""},{"$f":"IF(CC30=\"\",\"\",VLOOKUP(CC30,'aktuelle Düngerliste'!$A:$H,3,FALSE)*CE30/1000)","v":""},{"$f":"IF(CC30=\"\",\"\",IF(VLOOKUP(CC30,'aktuelle Düngerliste'!$A:$B,2,FALSE)=\"mineralisch\",(VLOOKUP(CC30,'aktuelle Düngerliste'!$A:$H,3,FALSE)*CE30/1000),\"\"))","v":""},{"$f":"IF(CC30=\"\",\"\",VLOOKUP(CC30,'aktuelle Düngerliste'!$A:$J,10,FALSE)*CE30/1000)","v":""},{"$f":"IF(CC30=\"\",\"\",VLOOKUP(CC30,'aktuelle Düngerliste'!$A:$H,5,FALSE)*CE30/1000)","v":""},{"$f":"IF(CC30=\"\",\"\",VLOOKUP(CC30,'aktuelle Düngerliste'!$A:$H,6,FALSE)*CE30/1000)","v":""},{"$f":"IF(CC30=\"\",\"\",VLOOKUP(CC30,'aktuelle Düngerliste'!$A:$H,7,FALSE)*CE30/1000)","v":""},null,null,null,"","",{"$f":"IF(CQ30=\"\",\"\",VLOOKUP(CQ30,'aktuelle Düngerliste'!$A:$H,2,FALSE))","v":""},{"$f":"IF(CQ30=\"\",\"\",VLOOKUP(CQ30,'aktuelle Düngerliste'!$A:$H,3,FALSE))","v":""},{"$f":"IF(CQ30=\"\",\"\",VLOOKUP(CQ30,'aktuelle Düngerliste'!$A:$H,8,FALSE))","v":""},{"$f":"IF(CQ30=\"\",\"\",VLOOKUP(CQ30,'aktuelle Düngerliste'!$A:$H,3,FALSE)*CS30/1000)","v":""},{"$f":"IF(CQ30=\"\",\"\",IF(VLOOKUP(CQ30,'aktuelle Düngerliste'!$A:$B,2,FALSE)=\"mineralisch\",(VLOOKUP(CQ30,'aktuelle Düngerliste'!$A:$H,3,FALSE)*CS30/1000),\"\"))","v":""},{"$f":"IF(CQ30=\"\",\"\",VLOOKUP(CQ30,'aktuelle Düngerliste'!$A:$J,10,FALSE)*CS30/1000)","v":""},{"$f":"IF(CQ30=\"\",\"\",VLOOKUP(CQ30,'aktuelle Düngerliste'!$A:$H,5,FALSE)*CS30/1000)","v":""},{"$f":"IF(CQ30=\"\",\"\",VLOOKUP(CQ30,'aktuelle Düngerliste'!$A:$H,6,FALSE)*CS30/1000)","v":""},{"$f":"IF(CQ30=\"\",\"\",VLOOKUP(CQ30,'aktuelle Düngerliste'!$A:$H,7,FALSE)*CS30/1000)","v":""},null,null,null,"","",{"$f":"IF(DE30=\"\",\"\",VLOOKUP(DE30,'aktuelle Düngerliste'!$A:$H,2,FALSE))","v":""},{"$f":"IF(DE30=\"\",\"\",VLOOKUP(DE30,'aktuelle Düngerliste'!$A:$H,3,FALSE))","v":""},{"$f":"IF(DE30=\"\",\"\",VLOOKUP(DE30,'aktuelle Düngerliste'!$A:$H,8,FALSE))","v":""},{"$f":"IF(DE30=\"\",\"\",VLOOKUP(DE30,'aktuelle Düngerliste'!$A:$H,3,FALSE)*DG30/1000)","v":""},{"$f":"IF(DE30=\"\",\"\",IF(VLOOKUP(DE30,'aktuelle Düngerliste'!$A:$B,2,FALSE)=\"mineralisch\",(VLOOKUP(DE30,'aktuelle Düngerliste'!$A:$H,3,FALSE)*DG30/1000),\"\"))","v":""},{"$f":"IF(DE30=\"\",\"\",VLOOKUP(DE30,'aktuelle Düngerliste'!$A:$J,10,FALSE)*DG30/1000)","v":""},{"$f":"IF(DE30=\"\",\"\",VLOOKUP(DE30,'aktuelle Düngerliste'!$A:$H,5,FALSE)*DG30/1000)","v":""},{"$f":"IF(DE30=\"\",\"\",VLOOKUP(DE30,'aktuelle Düngerliste'!$A:$H,6,FALSE)*DG30/1000)","v":""},{"$f":"IF(DE30=\"\",\"\",VLOOKUP(DE30,'aktuelle Düngerliste'!$A:$H,7,FALSE)*DG30/1000)","v":""}]
[{"$f":"IF('N-DBE'!A31=\"\",\"\",'N-DBE'!A31)","v":""},{"$f":"IF('N-DBE'!B31=\"\",\"\",'N-DBE'!B31)","v":""},{"$f":"IF('N-DBE'!C31=\"\",\"\",'N-DBE'!C31)","v":""},{"$f":"IF('N-DBE'!D31=\"\",\"\",'N-DBE'!D31)","v":""},{"$f":"IF('N-DBE'!E31=\"\",\"\",'N-DBE'!E31)","v":""},{"$f":"IF('N-DBE'!F31=\"\",\"\",'N-DBE'!F31)","v":""},{"$f":"IF('N-DBE'!G31=\"\",\"\",'N-DBE'!G31)","v":""},{"$f":"IF(OR(B31=\"\",'N-DBE'!AJ31=\"\"),\"\",'N-DBE'!AJ31+'N-DBE'!AN31)","v":""},{"$f":"IF(OR(B31=\"\",'N-DBE'!AJ31=\"\"),\"\",'N-DBE'!E31*('N-DBE'!AJ31+'N-DBE'!AN31))","v":""},{"$f":"IF('N-DBE'!AK31=\"\",\"\",IF('N-DBE'!AM31=\"ja\",'N-DBE'!AK31+'N-DBE'!AN31,'N-DBE'!AK31))","v":""},{"$f":"IF(OR(B31=\"\",'N-DBE'!AK31=\"\"),\"\",IF('N-DBE'!AM31=\"ja\",'N-DBE'!E31*('N-DBE'!AK31+'N-DBE'!AN31),'N-DBE'!E31*'N-DBE'!AK31))","v":""},{"$f":"IF(OR(B31=\"\",'N-DBE'!AL31=\"\"),\"\",'N-DBE'!AL31+'N-DBE'!AN31)","v":""},{"$f":"IF(OR(B31=\"\",'N-DBE'!AL31=\"\"),\"\",'N-DBE'!E31*('N-DBE'!AL31+'N-DBE'!AN31))","v":""},{"$f":"IF(AND('N-DBE'!C31=\"ja\",G31<>\"\"),I31-X31,\"\")","v":""},{"$f":"IF('N-DBE'!AJ31=\"\",\"\",SUM(AU31,BI31,BW31,CK31,CY31,DM31))","v":""},{"$f":"IF(OR(B31=\"\",'N-DBE'!AJ31=\"\"),\"\",O31*'N-DBE'!E31)","v":""},{"$f":"IF('N-DBE'!AJ31=\"\",\"\",IF(AR31=\"mineralisch\",AU31,0)+IF(BF31=\"mineralisch\",BI31,0)+IF(BT31=\"mineralisch\",BW31,0)+IF(CH31=\"mineralisch\",CK31,0)+IF(CV31=\"mineralisch\",CY31,0)+IF(DJ31=\"mineralisch\",DM31,0))","v":""},{"$f":"IF(OR(B31=\"\",'N-DBE'!AJ31=\"\"),\"\",Q31*'N-DBE'!E31)","v":""},{"$f":"IF('N-DBE'!AJ31=\"\",\"\",O31-Q31)","v":""},{"$f":"IF(OR(B31=\"\",'N-DBE'!AJ31=\"\"),\"\",S31*'N-DBE'!E31)","v":""},{"$f":"IF('N-DBE'!AJ31=\"\",\"\",(IF(AR31=\"Kompost\",AU31,0)+IF(BF31=\"Kompost\",BI31,0)+IF(BT31=\"Kompost\",BW31,0)+IF(CH31=\"Kompost\",CK31,0)+IF(CV31=\"Kompost\",CY31,0)+IF(DJ31=\"Kompost\",DM31,0)))","v":""},{"$f":"IF(OR(B31=\"\",'N-DBE'!AJ31=\"\"),\"\",U31*'N-DBE'!E31)","v":""},{"$f":"IF('N-DBE'!AJ31=\"\",\"\",SUM(AW31,BK31,BY31,CM31,DA31,DO31))","v":""},{"$f":"IF(OR(B31=\"\",'N-DBE'!AJ31=\"\"),\"\",W31*'N-DBE'!E31)","v":""},{"$f":"IF('P-(K-Mg)-DBE'!N31=\"\",\"\",'P-(K-Mg)-DBE'!N31+'P-(K-Mg)-DBE'!R31)","v":""},{"$f":"IF(OR(B31=\"\",'P-(K-Mg)-DBE'!N31=\"\"),\"\",'N-DBE'!E31*('P-(K-Mg)-DBE'!N31+'P-(K-Mg)-DBE'!R31))","v":""},{"$f":"IF('P-(K-Mg)-DBE'!N31=\"\",\"\",SUM(AX31,BL31,BZ31,CN31,DB31,DP31))","v":""},{"$f":"IF(OR(B31=\"\",'P-(K-Mg)-DBE'!Z31=\"\"),\"\",SUM(AX31,BL31,BZ31,CN31,DB31,DP31)*'N-DBE'!E31)","v":""},{"$f":"IF('P-(K-Mg)-DBE'!O31=\"\",\"\",'P-(K-Mg)-DBE'!O31)","v":""},{"$f":"IF(OR(B31=\"\",'P-(K-Mg)-DBE'!O31=\"\"),\"\",'P-(K-Mg)-DBE'!O31*'N-DBE'!E31)","v":""},{"$f":"IF('P-(K-Mg)-DBE'!Z31=\"\",\"\",'P-(K-Mg)-DBE'!Z31)","v":""},{"$f":"IF(OR(B31=\"\",'P-(K-Mg)-DBE'!Z31=\"\"),\"\",'P-(K-Mg)-DBE'!Z31*'N-DBE'!E31)","v":""},{"$f":"IF('P-(K-Mg)-DBE'!Z31=\"\",\"\",SUM(AY31,BM31,CA31,CO31,DC31,DQ31))","v":""},{"$f":"IF(OR(B31=\"\",'P-(K-Mg)-DBE'!AH31=\"\"),\"\",SUM(AY31,BM31,CA31,CO31,DC31,DQ21)*'N-DBE'!E31)","v":""},{"$f":"IF('P-(K-Mg)-DBE'!AH31=\"\",\"\",'P-(K-Mg)-DBE'!AH31)","v":""},{"$f":"IF(OR(B31=\"\",'P-(K-Mg)-DBE'!AH31=\"\"),\"\",'N-DBE'!E31*'P-(K-Mg)-DBE'!AH31)","v":""},{"$f":"IF('P-(K-Mg)-DBE'!AH31=\"\",\"\",SUM(AZ31,BN31,CB31,CP31,DD31,DR31))","v":""},{"$f":"IF('P-(K-Mg)-DBE'!AH31=\"\",\"\",SUM(AZ31,BN31,CB31,CP31,DD31,DR31))","v":""},null,null,null,"","",{"$f":"IF(AM31=\"\",\"\",VLOOKUP(AM31,'aktuelle Düngerliste'!A:H,2,FALSE))","v":""},{"$f":"IF(AM31=\"\",\"\",VLOOKUP(AM31,'aktuelle Düngerliste'!A:H,3,FALSE))","v":""},{"$f":"IF(AM31=\"\",\"\",VLOOKUP(AM31,'aktuelle Düngerliste'!A:H,8,FALSE))","v":""},{"$f":"IF(AM31=\"\",\"\",VLOOKUP(AM31,'aktuelle Düngerliste'!$A:$H,3,FALSE)*AO31/1000)","v":""},{"$f":"IF(AM31=\"\",\"\",IF(VLOOKUP(AM31,'aktuelle Düngerliste'!$A:$B,2,FALSE)=\"mineralisch\",(VLOOKUP(AM31,'aktuelle Düngerliste'!$A:$H,3,FALSE)*AO31/1000),\"\"))","v":""},{"$f":"IF(AM31=\"\",\"\",VLOOKUP(AM31,'aktuelle Düngerliste'!$A:$J,10,FALSE)*AO31/1000)","v":""},{"$f":"IF(AM31=\"\",\"\",VLOOKUP(AM31,'aktuelle Düngerliste'!$A:$H,5,FALSE)*AO31/1000)","v":""},{"$f":"IF(AM31=\"\",\"\",VLOOKUP(AM31,'aktuelle Düngerliste'!$A:$H,6,FALSE)*AO31/1000)","v":""},{"$f":"IF(AM31=\"\",\"\",VLOOKUP(AM31,'aktuelle Düngerliste'!$A:$H,7,FALSE)*AO31/1000)","v":""},null,null,null,"","",{"$f":"IF(BA31=\"\",\"\",VLOOKUP(BA31,'aktuelle Düngerliste'!$A:$H,2,FALSE))","v":""},{"$f":"IF(BA31=\"\",\"\",VLOOKUP(BA31,'aktuelle Düngerliste'!$A:$H,3,FALSE))","v":""},{"$f":"IF(BA31=\"\",\"\",VLOOKUP(BA31,'aktuelle Düngerliste'!$A:$H,8,FALSE))","v":""},{"$f":"IF(BA31=\"\",\"\",VLOOKUP(BA31,'aktuelle Düngerliste'!$A:$H,3,FALSE)*BC31/1000)","v":""},{"$f":"IF(BA31=\"\",\"\",IF(VLOOKUP(BA31,'aktuelle Düngerliste'!$A:$B,2,FALSE)=\"mineralisch\",(VLOOKUP(BA31,'aktuelle Düngerliste'!$A:$H,3,FALSE)*BC31/1000),\"\"))","v":""},{"$f":"IF(BA31=\"\",\"\",VLOOKUP(BA31,'aktuelle Düngerliste'!$A:$J,10,FALSE)*BC31/1000)","v":""},{"$f":"IF(BA31=\"\",\"\",VLOOKUP(BA31,'aktuelle Düngerliste'!$A:$H,5,FALSE)*BC31/1000)","v":""},{"$f":"IF(BA31=\"\",\"\",VLOOKUP(BA31,'aktuelle Düngerliste'!$A:$H,6,FALSE)*BC31/1000)","v":""},{"$f":"IF(BA31=\"\",\"\",VLOOKUP(BA31,'aktuelle Düngerliste'!$A:$H,7,FALSE)*BC31/1000)","v":""},null,null,null,"","",{"$f":"IF(BO31=\"\",\"\",VLOOKUP(BO31,'aktuelle Düngerliste'!$A:$H,2,FALSE))","v":""},{"$f":"IF(BO31=\"\",\"\",VLOOKUP(BO31,'aktuelle Düngerliste'!$A:$H,3,FALSE))","v":""},{"$f":"IF(BO31=\"\",\"\",VLOOKUP(BO31,'aktuelle Düngerliste'!$A:$H,8,FALSE))","v":""},{"$f":"IF(BO31=\"\",\"\",VLOOKUP(BO31,'aktuelle Düngerliste'!$A:$H,3,FALSE)*BQ31/1000)","v":""},{"$f":"IF(BO31=\"\",\"\",IF(VLOOKUP(BO31,'aktuelle Düngerliste'!$A:$B,2,FALSE)=\"mineralisch\",(VLOOKUP(BO31,'aktuelle Düngerliste'!$A:$H,3,FALSE)*BQ31/1000),\"\"))","v":""},{"$f":"IF(BO31=\"\",\"\",VLOOKUP(BO31,'aktuelle Düngerliste'!$A:$J,10,FALSE)*BQ31/1000)","v":""},{"$f":"IF(BO31=\"\",\"\",VLOOKUP(BO31,'aktuelle Düngerliste'!$A:$H,5,FALSE)*BQ31/1000)","v":""},{"$f":"IF(BO31=\"\",\"\",VLOOKUP(BO31,'aktuelle Düngerliste'!$A:$H,6,FALSE)*BQ31/1000)","v":""},{"$f":"IF(BO31=\"\",\"\",VLOOKUP(BO31,'aktuelle Düngerliste'!$A:$H,7,FALSE)*BQ31/1000)","v":""},null,null,null,"","",{"$f":"IF(CC31=\"\",\"\",VLOOKUP(CC31,'aktuelle Düngerliste'!$A:$H,2,FALSE))","v":""},{"$f":"IF(CC31=\"\",\"\",VLOOKUP(CC31,'aktuelle Düngerliste'!$A:$H,3,FALSE))","v":""},{"$f":"IF(CC31=\"\",\"\",VLOOKUP(CC31,'aktuelle Düngerliste'!$A:$H,8,FALSE))","v":""},{"$f":"IF(CC31=\"\",\"\",VLOOKUP(CC31,'aktuelle Düngerliste'!$A:$H,3,FALSE)*CE31/1000)","v":""},{"$f":"IF(CC31=\"\",\"\",IF(VLOOKUP(CC31,'aktuelle Düngerliste'!$A:$B,2,FALSE)=\"mineralisch\",(VLOOKUP(CC31,'aktuelle Düngerliste'!$A:$H,3,FALSE)*CE31/1000),\"\"))","v":""},{"$f":"IF(CC31=\"\",\"\",VLOOKUP(CC31,'aktuelle Düngerliste'!$A:$J,10,FALSE)*CE31/1000)","v":""},{"$f":"IF(CC31=\"\",\"\",VLOOKUP(CC31,'aktuelle Düngerliste'!$A:$H,5,FALSE)*CE31/1000)","v":""},{"$f":"IF(CC31=\"\",\"\",VLOOKUP(CC31,'aktuelle Düngerliste'!$A:$H,6,FALSE)*CE31/1000)","v":""},{"$f":"IF(CC31=\"\",\"\",VLOOKUP(CC31,'aktuelle Düngerliste'!$A:$H,7,FALSE)*CE31/1000)","v":""},null,null,null,"","",{"$f":"IF(CQ31=\"\",\"\",VLOOKUP(CQ31,'aktuelle Düngerliste'!$A:$H,2,FALSE))","v":""},{"$f":"IF(CQ31=\"\",\"\",VLOOKUP(CQ31,'aktuelle Düngerliste'!$A:$H,3,FALSE))","v":""},{"$f":"IF(CQ31=\"\",\"\",VLOOKUP(CQ31,'aktuelle Düngerliste'!$A:$H,8,FALSE))","v":""},{"$f":"IF(CQ31=\"\",\"\",VLOOKUP(CQ31,'aktuelle Düngerliste'!$A:$H,3,FALSE)*CS31/1000)","v":""},{"$f":"IF(CQ31=\"\",\"\",IF(VLOOKUP(CQ31,'aktuelle Düngerliste'!$A:$B,2,FALSE)=\"mineralisch\",(VLOOKUP(CQ31,'aktuelle Düngerliste'!$A:$H,3,FALSE)*CS31/1000),\"\"))","v":""},{"$f":"IF(CQ31=\"\",\"\",VLOOKUP(CQ31,'aktuelle Düngerliste'!$A:$J,10,FALSE)*CS31/1000)","v":""},{"$f":"IF(CQ31=\"\",\"\",VLOOKUP(CQ31,'aktuelle Düngerliste'!$A:$H,5,FALSE)*CS31/1000)","v":""},{"$f":"IF(CQ31=\"\",\"\",VLOOKUP(CQ31,'aktuelle Düngerliste'!$A:$H,6,FALSE)*CS31/1000)","v":""},{"$f":"IF(CQ31=\"\",\"\",VLOOKUP(CQ31,'aktuelle Düngerliste'!$A:$H,7,FALSE)*CS31/1000)","v":""},null,null,null,"","",{"$f":"IF(DE31=\"\",\"\",VLOOKUP(DE31,'aktuelle Düngerliste'!$A:$H,2,FALSE))","v":""},{"$f":"IF(DE31=\"\",\"\",VLOOKUP(DE31,'aktuelle Düngerliste'!$A:$H,3,FALSE))","v":""},{"$f":"IF(DE31=\"\",\"\",VLOOKUP(DE31,'aktuelle Düngerliste'!$A:$H,8,FALSE))","v":""},{"$f":"IF(DE31=\"\",\"\",VLOOKUP(DE31,'aktuelle Düngerliste'!$A:$H,3,FALSE)*DG31/1000)","v":""},{"$f":"IF(DE31=\"\",\"\",IF(VLOOKUP(DE31,'aktuelle Düngerliste'!$A:$B,2,FALSE)=\"mineralisch\",(VLOOKUP(DE31,'aktuelle Düngerliste'!$A:$H,3,FALSE)*DG31/1000),\"\"))","v":""},{"$f":"IF(DE31=\"\",\"\",VLOOKUP(DE31,'aktuelle Düngerliste'!$A:$J,10,FALSE)*DG31/1000)","v":""},{"$f":"IF(DE31=\"\",\"\",VLOOKUP(DE31,'aktuelle Düngerliste'!$A:$H,5,FALSE)*DG31/1000)","v":""},{"$f":"IF(DE31=\"\",\"\",VLOOKUP(DE31,'aktuelle Düngerliste'!$A:$H,6,FALSE)*DG31/1000)","v":""},{"$f":"IF(DE31=\"\",\"\",VLOOKUP(DE31,'aktuelle Düngerliste'!$A:$H,7,FALSE)*DG31/1000)","v":""}]
[{"$f":"IF('N-DBE'!A32=\"\",\"\",'N-DBE'!A32)","v":""},{"$f":"IF('N-DBE'!B32=\"\",\"\",'N-DBE'!B32)","v":""},{"$f":"IF('N-DBE'!C32=\"\",\"\",'N-DBE'!C32)","v":""},{"$f":"IF('N-DBE'!D32=\"\",\"\",'N-DBE'!D32)","v":""},{"$f":"IF('N-DBE'!E32=\"\",\"\",'N-DBE'!E32)","v":""},{"$f":"IF('N-DBE'!F32=\"\",\"\",'N-DBE'!F32)","v":""},{"$f":"IF('N-DBE'!G32=\"\",\"\",'N-DBE'!G32)","v":""},{"$f":"IF(OR(B32=\"\",'N-DBE'!AJ32=\"\"),\"\",'N-DBE'!AJ32+'N-DBE'!AN32)","v":""},{"$f":"IF(OR(B32=\"\",'N-DBE'!AJ32=\"\"),\"\",'N-DBE'!E32*('N-DBE'!AJ32+'N-DBE'!AN32))","v":""},{"$f":"IF('N-DBE'!AK32=\"\",\"\",IF('N-DBE'!AM32=\"ja\",'N-DBE'!AK32+'N-DBE'!AN32,'N-DBE'!AK32))","v":""},{"$f":"IF(OR(B32=\"\",'N-DBE'!AK32=\"\"),\"\",IF('N-DBE'!AM32=\"ja\",'N-DBE'!E32*('N-DBE'!AK32+'N-DBE'!AN32),'N-DBE'!E32*'N-DBE'!AK32))","v":""},{"$f":"IF(OR(B32=\"\",'N-DBE'!AL32=\"\"),\"\",'N-DBE'!AL32+'N-DBE'!AN32)","v":""},{"$f":"IF(OR(B32=\"\",'N-DBE'!AL32=\"\"),\"\",'N-DBE'!E32*('N-DBE'!AL32+'N-DBE'!AN32))","v":""},{"$f":"IF(AND('N-DBE'!C32=\"ja\",G32<>\"\"),I32-X32,\"\")","v":""},{"$f":"IF('N-DBE'!AJ32=\"\",\"\",SUM(AU32,BI32,BW32,CK32,CY32,DM32))","v":""},{"$f":"IF(OR(B32=\"\",'N-DBE'!AJ32=\"\"),\"\",O32*'N-DBE'!E32)","v":""},{"$f":"IF('N-DBE'!AJ32=\"\",\"\",IF(AR32=\"mineralisch\",AU32,0)+IF(BF32=\"mineralisch\",BI32,0)+IF(BT32=\"mineralisch\",BW32,0)+IF(CH32=\"mineralisch\",CK32,0)+IF(CV32=\"mineralisch\",CY32,0)+IF(DJ32=\"mineralisch\",DM32,0))","v":""},{"$f":"IF(OR(B32=\"\",'N-DBE'!AJ32=\"\"),\"\",Q32*'N-DBE'!E32)","v":""},{"$f":"IF('N-DBE'!AJ32=\"\",\"\",O32-Q32)","v":""},{"$f":"IF(OR(B32=\"\",'N-DBE'!AJ32=\"\"),\"\",S32*'N-DBE'!E32)","v":""},{"$f":"IF('N-DBE'!AJ32=\"\",\"\",(IF(AR32=\"Kompost\",AU32,0)+IF(BF32=\"Kompost\",BI32,0)+IF(BT32=\"Kompost\",BW32,0)+IF(CH32=\"Kompost\",CK32,0)+IF(CV32=\"Kompost\",CY32,0)+IF(DJ32=\"Kompost\",DM32,0)))","v":""},{"$f":"IF(OR(B32=\"\",'N-DBE'!AJ32=\"\"),\"\",U32*'N-DBE'!E32)","v":""},{"$f":"IF('N-DBE'!AJ32=\"\",\"\",SUM(AW32,BK32,BY32,CM32,DA32,DO32))","v":""},{"$f":"IF(OR(B32=\"\",'N-DBE'!AJ32=\"\"),\"\",W32*'N-DBE'!E32)","v":""},{"$f":"IF('P-(K-Mg)-DBE'!N32=\"\",\"\",'P-(K-Mg)-DBE'!N32+'P-(K-Mg)-DBE'!R32)","v":""},{"$f":"IF(OR(B32=\"\",'P-(K-Mg)-DBE'!N32=\"\"),\"\",'N-DBE'!E32*('P-(K-Mg)-DBE'!N32+'P-(K-Mg)-DBE'!R32))","v":""},{"$f":"IF('P-(K-Mg)-DBE'!N32=\"\",\"\",SUM(AX32,BL32,BZ32,CN32,DB32,DP32))","v":""},{"$f":"IF(OR(B32=\"\",'P-(K-Mg)-DBE'!Z32=\"\"),\"\",SUM(AX32,BL32,BZ32,CN32,DB32,DP32)*'N-DBE'!E32)","v":""},{"$f":"IF('P-(K-Mg)-DBE'!O32=\"\",\"\",'P-(K-Mg)-DBE'!O32)","v":""},{"$f":"IF(OR(B32=\"\",'P-(K-Mg)-DBE'!O32=\"\"),\"\",'P-(K-Mg)-DBE'!O32*'N-DBE'!E32)","v":""},{"$f":"IF('P-(K-Mg)-DBE'!Z32=\"\",\"\",'P-(K-Mg)-DBE'!Z32)","v":""},{"$f":"IF(OR(B32=\"\",'P-(K-Mg)-DBE'!Z32=\"\"),\"\",'P-(K-Mg)-DBE'!Z32*'N-DBE'!E32)","v":""},{"$f":"IF('P-(K-Mg)-DBE'!Z32=\"\",\"\",SUM(AY32,BM32,CA32,CO32,DC32,DQ32))","v":""},{"$f":"IF(OR(B32=\"\",'P-(K-Mg)-DBE'!AH32=\"\"),\"\",SUM(AY32,BM32,CA32,CO32,DC32,DQ22)*'N-DBE'!E32)","v":""},{"$f":"IF('P-(K-Mg)-DBE'!AH32=\"\",\"\",'P-(K-Mg)-DBE'!AH32)","v":""},{"$f":"IF(OR(B32=\"\",'P-(K-Mg)-DBE'!AH32=\"\"),\"\",'N-DBE'!E32*'P-(K-Mg)-DBE'!AH32)","v":""},{"$f":"IF('P-(K-Mg)-DBE'!AH32=\"\",\"\",SUM(AZ32,BN32,CB32,CP32,DD32,DR32))","v":""},{"$f":"IF('P-(K-Mg)-DBE'!AH32=\"\",\"\",SUM(AZ32,BN32,CB32,CP32,DD32,DR32))","v":""},null,null,null,"","",{"$f":"IF(AM32=\"\",\"\",VLOOKUP(AM32,'aktuelle Düngerliste'!A:H,2,FALSE))","v":""},{"$f":"IF(AM32=\"\",\"\",VLOOKUP(AM32,'aktuelle Düngerliste'!A:H,3,FALSE))","v":""},{"$f":"IF(AM32=\"\",\"\",VLOOKUP(AM32,'aktuelle Düngerliste'!A:H,8,FALSE))","v":""},{"$f":"IF(AM32=\"\",\"\",VLOOKUP(AM32,'aktuelle Düngerliste'!$A:$H,3,FALSE)*AO32/1000)","v":""},{"$f":"IF(AM32=\"\",\"\",IF(VLOOKUP(AM32,'aktuelle Düngerliste'!$A:$B,2,FALSE)=\"mineralisch\",(VLOOKUP(AM32,'aktuelle Düngerliste'!$A:$H,3,FALSE)*AO32/1000),\"\"))","v":""},{"$f":"IF(AM32=\"\",\"\",VLOOKUP(AM32,'aktuelle Düngerliste'!$A:$J,10,FALSE)*AO32/1000)","v":""},{"$f":"IF(AM32=\"\",\"\",VLOOKUP(AM32,'aktuelle Düngerliste'!$A:$H,5,FALSE)*AO32/1000)","v":""},{"$f":"IF(AM32=\"\",\"\",VLOOKUP(AM32,'aktuelle Düngerliste'!$A:$H,6,FALSE)*AO32/1000)","v":""},{"$f":"IF(AM32=\"\",\"\",VLOOKUP(AM32,'aktuelle Düngerliste'!$A:$H,7,FALSE)*AO32/1000)","v":""},null,null,null,"","",{"$f":"IF(BA32=\"\",\"\",VLOOKUP(BA32,'aktuelle Düngerliste'!$A:$H,2,FALSE))","v":""},{"$f":"IF(BA32=\"\",\"\",VLOOKUP(BA32,'aktuelle Düngerliste'!$A:$H,3,FALSE))","v":""},{"$f":"IF(BA32=\"\",\"\",VLOOKUP(BA32,'aktuelle Düngerliste'!$A:$H,8,FALSE))","v":""},{"$f":"IF(BA32=\"\",\"\",VLOOKUP(BA32,'aktuelle Düngerliste'!$A:$H,3,FALSE)*BC32/1000)","v":""},{"$f":"IF(BA32=\"\",\"\",IF(VLOOKUP(BA32,'aktuelle Düngerliste'!$A:$B,2,FALSE)=\"mineralisch\",(VLOOKUP(BA32,'aktuelle Düngerliste'!$A:$H,3,FALSE)*BC32/1000),\"\"))","v":""},{"$f":"IF(BA32=\"\",\"\",VLOOKUP(BA32,'aktuelle Düngerliste'!$A:$J,10,FALSE)*BC32/1000)","v":""},{"$f":"IF(BA32=\"\",\"\",VLOOKUP(BA32,'aktuelle Düngerliste'!$A:$H,5,FALSE)*BC32/1000)","v":""},{"$f":"IF(BA32=\"\",\"\",VLOOKUP(BA32,'aktuelle Düngerliste'!$A:$H,6,FALSE)*BC32/1000)","v":""},{"$f":"IF(BA32=\"\",\"\",VLOOKUP(BA32,'aktuelle Düngerliste'!$A:$H,7,FALSE)*BC32/1000)","v":""},null,null,null,"","",{"$f":"IF(BO32=\"\",\"\",VLOOKUP(BO32,'aktuelle Düngerliste'!$A:$H,2,FALSE))","v":""},{"$f":"IF(BO32=\"\",\"\",VLOOKUP(BO32,'aktuelle Düngerliste'!$A:$H,3,FALSE))","v":""},{"$f":"IF(BO32=\"\",\"\",VLOOKUP(BO32,'aktuelle Düngerliste'!$A:$H,8,FALSE))","v":""},{"$f":"IF(BO32=\"\",\"\",VLOOKUP(BO32,'aktuelle Düngerliste'!$A:$H,3,FALSE)*BQ32/1000)","v":""},{"$f":"IF(BO32=\"\",\"\",IF(VLOOKUP(BO32,'aktuelle Düngerliste'!$A:$B,2,FALSE)=\"mineralisch\",(VLOOKUP(BO32,'aktuelle Düngerliste'!$A:$H,3,FALSE)*BQ32/1000),\"\"))","v":""},{"$f":"IF(BO32=\"\",\"\",VLOOKUP(BO32,'aktuelle Düngerliste'!$A:$J,10,FALSE)*BQ32/1000)","v":""},{"$f":"IF(BO32=\"\",\"\",VLOOKUP(BO32,'aktuelle Düngerliste'!$A:$H,5,FALSE)*BQ32/1000)","v":""},{"$f":"IF(BO32=\"\",\"\",VLOOKUP(BO32,'aktuelle Düngerliste'!$A:$H,6,FALSE)*BQ32/1000)","v":""},{"$f":"IF(BO32=\"\",\"\",VLOOKUP(BO32,'aktuelle Düngerliste'!$A:$H,7,FALSE)*BQ32/1000)","v":""},null,null,null,"","",{"$f":"IF(CC32=\"\",\"\",VLOOKUP(CC32,'aktuelle Düngerliste'!$A:$H,2,FALSE))","v":""},{"$f":"IF(CC32=\"\",\"\",VLOOKUP(CC32,'aktuelle Düngerliste'!$A:$H,3,FALSE))","v":""},{"$f":"IF(CC32=\"\",\"\",VLOOKUP(CC32,'aktuelle Düngerliste'!$A:$H,8,FALSE))","v":""},{"$f":"IF(CC32=\"\",\"\",VLOOKUP(CC32,'aktuelle Düngerliste'!$A:$H,3,FALSE)*CE32/1000)","v":""},{"$f":"IF(CC32=\"\",\"\",IF(VLOOKUP(CC32,'aktuelle Düngerliste'!$A:$B,2,FALSE)=\"mineralisch\",(VLOOKUP(CC32,'aktuelle Düngerliste'!$A:$H,3,FALSE)*CE32/1000),\"\"))","v":""},{"$f":"IF(CC32=\"\",\"\",VLOOKUP(CC32,'aktuelle Düngerliste'!$A:$J,10,FALSE)*CE32/1000)","v":""},{"$f":"IF(CC32=\"\",\"\",VLOOKUP(CC32,'aktuelle Düngerliste'!$A:$H,5,FALSE)*CE32/1000)","v":""},{"$f":"IF(CC32=\"\",\"\",VLOOKUP(CC32,'aktuelle Düngerliste'!$A:$H,6,FALSE)*CE32/1000)","v":""},{"$f":"IF(CC32=\"\",\"\",VLOOKUP(CC32,'aktuelle Düngerliste'!$A:$H,7,FALSE)*CE32/1000)","v":""},null,null,null,"","",{"$f":"IF(CQ32=\"\",\"\",VLOOKUP(CQ32,'aktuelle Düngerliste'!$A:$H,2,FALSE))","v":""},{"$f":"IF(CQ32=\"\",\"\",VLOOKUP(CQ32,'aktuelle Düngerliste'!$A:$H,3,FALSE))","v":""},{"$f":"IF(CQ32=\"\",\"\",VLOOKUP(CQ32,'aktuelle Düngerliste'!$A:$H,8,FALSE))","v":""},{"$f":"IF(CQ32=\"\",\"\",VLOOKUP(CQ32,'aktuelle Düngerliste'!$A:$H,3,FALSE)*CS32/1000)","v":""},{"$f":"IF(CQ32=\"\",\"\",IF(VLOOKUP(CQ32,'aktuelle Düngerliste'!$A:$B,2,FALSE)=\"mineralisch\",(VLOOKUP(CQ32,'aktuelle Düngerliste'!$A:$H,3,FALSE)*CS32/1000),\"\"))","v":""},{"$f":"IF(CQ32=\"\",\"\",VLOOKUP(CQ32,'aktuelle Düngerliste'!$A:$J,10,FALSE)*CS32/1000)","v":""},{"$f":"IF(CQ32=\"\",\"\",VLOOKUP(CQ32,'aktuelle Düngerliste'!$A:$H,5,FALSE)*CS32/1000)","v":""},{"$f":"IF(CQ32=\"\",\"\",VLOOKUP(CQ32,'aktuelle Düngerliste'!$A:$H,6,FALSE)*CS32/1000)","v":""},{"$f":"IF(CQ32=\"\",\"\",VLOOKUP(CQ32,'aktuelle Düngerliste'!$A:$H,7,FALSE)*CS32/1000)","v":""},null,null,null,"","",{"$f":"IF(DE32=\"\",\"\",VLOOKUP(DE32,'aktuelle Düngerliste'!$A:$H,2,FALSE))","v":""},{"$f":"IF(DE32=\"\",\"\",VLOOKUP(DE32,'aktuelle Düngerliste'!$A:$H,3,FALSE))","v":""},{"$f":"IF(DE32=\"\",\"\",VLOOKUP(DE32,'aktuelle Düngerliste'!$A:$H,8,FALSE))","v":""},{"$f":"IF(DE32=\"\",\"\",VLOOKUP(DE32,'aktuelle Düngerliste'!$A:$H,3,FALSE)*DG32/1000)","v":""},{"$f":"IF(DE32=\"\",\"\",IF(VLOOKUP(DE32,'aktuelle Düngerliste'!$A:$B,2,FALSE)=\"mineralisch\",(VLOOKUP(DE32,'aktuelle Düngerliste'!$A:$H,3,FALSE)*DG32/1000),\"\"))","v":""},{"$f":"IF(DE32=\"\",\"\",VLOOKUP(DE32,'aktuelle Düngerliste'!$A:$J,10,FALSE)*DG32/1000)","v":""},{"$f":"IF(DE32=\"\",\"\",VLOOKUP(DE32,'aktuelle Düngerliste'!$A:$H,5,FALSE)*DG32/1000)","v":""},{"$f":"IF(DE32=\"\",\"\",VLOOKUP(DE32,'aktuelle Düngerliste'!$A:$H,6,FALSE)*DG32/1000)","v":""},{"$f":"IF(DE32=\"\",\"\",VLOOKUP(DE32,'aktuelle Düngerliste'!$A:$H,7,FALSE)*DG32/1000)","v":""}]
[{"$f":"IF('N-DBE'!A33=\"\",\"\",'N-DBE'!A33)","v":""},{"$f":"IF('N-DBE'!B33=\"\",\"\",'N-DBE'!B33)","v":""},{"$f":"IF('N-DBE'!C33=\"\",\"\",'N-DBE'!C33)","v":""},{"$f":"IF('N-DBE'!D33=\"\",\"\",'N-DBE'!D33)","v":""},{"$f":"IF('N-DBE'!E33=\"\",\"\",'N-DBE'!E33)","v":""},{"$f":"IF('N-DBE'!F33=\"\",\"\",'N-DBE'!F33)","v":""},{"$f":"IF('N-DBE'!G33=\"\",\"\",'N-DBE'!G33)","v":""},{"$f":"IF(OR(B33=\"\",'N-DBE'!AJ33=\"\"),\"\",'N-DBE'!AJ33+'N-DBE'!AN33)","v":""},{"$f":"IF(OR(B33=\"\",'N-DBE'!AJ33=\"\"),\"\",'N-DBE'!E33*('N-DBE'!AJ33+'N-DBE'!AN33))","v":""},{"$f":"IF('N-DBE'!AK33=\"\",\"\",IF('N-DBE'!AM33=\"ja\",'N-DBE'!AK33+'N-DBE'!AN33,'N-DBE'!AK33))","v":""},{"$f":"IF(OR(B33=\"\",'N-DBE'!AK33=\"\"),\"\",IF('N-DBE'!AM33=\"ja\",'N-DBE'!E33*('N-DBE'!AK33+'N-DBE'!AN33),'N-DBE'!E33*'N-DBE'!AK33))","v":""},{"$f":"IF(OR(B33=\"\",'N-DBE'!AL33=\"\"),\"\",'N-DBE'!AL33+'N-DBE'!AN33)","v":""},{"$f":"IF(OR(B33=\"\",'N-DBE'!AL33=\"\"),\"\",'N-DBE'!E33*('N-DBE'!AL33+'N-DBE'!AN33))","v":""},{"$f":"IF(AND('N-DBE'!C33=\"ja\",G33<>\"\"),I33-X33,\"\")","v":""},{"$f":"IF('N-DBE'!AJ33=\"\",\"\",SUM(AU33,BI33,BW33,CK33,CY33,DM33))","v":""},{"$f":"IF(OR(B33=\"\",'N-DBE'!AJ33=\"\"),\"\",O33*'N-DBE'!E33)","v":""},{"$f":"IF('N-DBE'!AJ33=\"\",\"\",IF(AR33=\"mineralisch\",AU33,0)+IF(BF33=\"mineralisch\",BI33,0)+IF(BT33=\"mineralisch\",BW33,0)+IF(CH33=\"mineralisch\",CK33,0)+IF(CV33=\"mineralisch\",CY33,0)+IF(DJ33=\"mineralisch\",DM33,0))","v":""},{"$f":"IF(OR(B33=\"\",'N-DBE'!AJ33=\"\"),\"\",Q33*'N-DBE'!E33)","v":""},{"$f":"IF('N-DBE'!AJ33=\"\",\"\",O33-Q33)","v":""},{"$f":"IF(OR(B33=\"\",'N-DBE'!AJ33=\"\"),\"\",S33*'N-DBE'!E33)","v":""},{"$f":"IF('N-DBE'!AJ33=\"\",\"\",(IF(AR33=\"Kompost\",AU33,0)+IF(BF33=\"Kompost\",BI33,0)+IF(BT33=\"Kompost\",BW33,0)+IF(CH33=\"Kompost\",CK33,0)+IF(CV33=\"Kompost\",CY33,0)+IF(DJ33=\"Kompost\",DM33,0)))","v":""},{"$f":"IF(OR(B33=\"\",'N-DBE'!AJ33=\"\"),\"\",U33*'N-DBE'!E33)","v":""},{"$f":"IF('N-DBE'!AJ33=\"\",\"\",SUM(AW33,BK33,BY33,CM33,DA33,DO33))","v":""},{"$f":"IF(OR(B33=\"\",'N-DBE'!AJ33=\"\"),\"\",W33*'N-DBE'!E33)","v":""},{"$f":"IF('P-(K-Mg)-DBE'!N33=\"\",\"\",'P-(K-Mg)-DBE'!N33+'P-(K-Mg)-DBE'!R33)","v":""},{"$f":"IF(OR(B33=\"\",'P-(K-Mg)-DBE'!N33=\"\"),\"\",'N-DBE'!E33*('P-(K-Mg)-DBE'!N33+'P-(K-Mg)-DBE'!R33))","v":""},{"$f":"IF('P-(K-Mg)-DBE'!N33=\"\",\"\",SUM(AX33,BL33,BZ33,CN33,DB33,DP33))","v":""},{"$f":"IF(OR(B33=\"\",'P-(K-Mg)-DBE'!Z33=\"\"),\"\",SUM(AX33,BL33,BZ33,CN33,DB33,DP33)*'N-DBE'!E33)","v":""},{"$f":"IF('P-(K-Mg)-DBE'!O33=\"\",\"\",'P-(K-Mg)-DBE'!O33)","v":""},{"$f":"IF(OR(B33=\"\",'P-(K-Mg)-DBE'!O33=\"\"),\"\",'P-(K-Mg)-DBE'!O33*'N-DBE'!E33)","v":""},{"$f":"IF('P-(K-Mg)-DBE'!Z33=\"\",\"\",'P-(K-Mg)-DBE'!Z33)","v":""},{"$f":"IF(OR(B33=\"\",'P-(K-Mg)-DBE'!Z33=\"\"),\"\",'P-(K-Mg)-DBE'!Z33*'N-DBE'!E33)","v":""},{"$f":"IF('P-(K-Mg)-DBE'!Z33=\"\",\"\",SUM(AY33,BM33,CA33,CO33,DC33,DQ33))","v":""},{"$f":"IF(OR(B33=\"\",'P-(K-Mg)-DBE'!AH33=\"\"),\"\",SUM(AY33,BM33,CA33,CO33,DC33,DQ23)*'N-DBE'!E33)","v":""},{"$f":"IF('P-(K-Mg)-DBE'!AH33=\"\",\"\",'P-(K-Mg)-DBE'!AH33)","v":""},{"$f":"IF(OR(B33=\"\",'P-(K-Mg)-DBE'!AH33=\"\"),\"\",'N-DBE'!E33*'P-(K-Mg)-DBE'!AH33)","v":""},{"$f":"IF('P-(K-Mg)-DBE'!AH33=\"\",\"\",SUM(AZ33,BN33,CB33,CP33,DD33,DR33))","v":""},{"$f":"IF('P-(K-Mg)-DBE'!AH33=\"\",\"\",SUM(AZ33,BN33,CB33,CP33,DD33,DR33))","v":""},null,null,null,"","",{"$f":"IF(AM33=\"\",\"\",VLOOKUP(AM33,'aktuelle Düngerliste'!A:H,2,FALSE))","v":""},{"$f":"IF(AM33=\"\",\"\",VLOOKUP(AM33,'aktuelle Düngerliste'!A:H,3,FALSE))","v":""},{"$f":"IF(AM33=\"\",\"\",VLOOKUP(AM33,'aktuelle Düngerliste'!A:H,8,FALSE))","v":""},{"$f":"IF(AM33=\"\",\"\",VLOOKUP(AM33,'aktuelle Düngerliste'!$A:$H,3,FALSE)*AO33/1000)","v":""},{"$f":"IF(AM33=\"\",\"\",IF(VLOOKUP(AM33,'aktuelle Düngerliste'!$A:$B,2,FALSE)=\"mineralisch\",(VLOOKUP(AM33,'aktuelle Düngerliste'!$A:$H,3,FALSE)*AO33/1000),\"\"))","v":""},{"$f":"IF(AM33=\"\",\"\",VLOOKUP(AM33,'aktuelle Düngerliste'!$A:$J,10,FALSE)*AO33/1000)","v":""},{"$f":"IF(AM33=\"\",\"\",VLOOKUP(AM33,'aktuelle Düngerliste'!$A:$H,5,FALSE)*AO33/1000)","v":""},{"$f":"IF(AM33=\"\",\"\",VLOOKUP(AM33,'aktuelle Düngerliste'!$A:$H,6,FALSE)*AO33/1000)","v":""},{"$f":"IF(AM33=\"\",\"\",VLOOKUP(AM33,'aktuelle Düngerliste'!$A:$H,7,FALSE)*AO33/1000)","v":""},null,null,null,"","",{"$f":"IF(BA33=\"\",\"\",VLOOKUP(BA33,'aktuelle Düngerliste'!$A:$H,2,FALSE))","v":""},{"$f":"IF(BA33=\"\",\"\",VLOOKUP(BA33,'aktuelle Düngerliste'!$A:$H,3,FALSE))","v":""},{"$f":"IF(BA33=\"\",\"\",VLOOKUP(BA33,'aktuelle Düngerliste'!$A:$H,8,FALSE))","v":""},{"$f":"IF(BA33=\"\",\"\",VLOOKUP(BA33,'aktuelle Düngerliste'!$A:$H,3,FALSE)*BC33/1000)","v":""},{"$f":"IF(BA33=\"\",\"\",IF(VLOOKUP(BA33,'aktuelle Düngerliste'!$A:$B,2,FALSE)=\"mineralisch\",(VLOOKUP(BA33,'aktuelle Düngerliste'!$A:$H,3,FALSE)*BC33/1000),\"\"))","v":""},{"$f":"IF(BA33=\"\",\"\",VLOOKUP(BA33,'aktuelle Düngerliste'!$A:$J,10,FALSE)*BC33/1000)","v":""},{"$f":"IF(BA33=\"\",\"\",VLOOKUP(BA33,'aktuelle Düngerliste'!$A:$H,5,FALSE)*BC33/1000)","v":""},{"$f":"IF(BA33=\"\",\"\",VLOOKUP(BA33,'aktuelle Düngerliste'!$A:$H,6,FALSE)*BC33/1000)","v":""},{"$f":"IF(BA33=\"\",\"\",VLOOKUP(BA33,'aktuelle Düngerliste'!$A:$H,7,FALSE)*BC33/1000)","v":""},null,null,null,"","",{"$f":"IF(BO33=\"\",\"\",VLOOKUP(BO33,'aktuelle Düngerliste'!$A:$H,2,FALSE))","v":""},{"$f":"IF(BO33=\"\",\"\",VLOOKUP(BO33,'aktuelle Düngerliste'!$A:$H,3,FALSE))","v":""},{"$f":"IF(BO33=\"\",\"\",VLOOKUP(BO33,'aktuelle Düngerliste'!$A:$H,8,FALSE))","v":""},{"$f":"IF(BO33=\"\",\"\",VLOOKUP(BO33,'aktuelle Düngerliste'!$A:$H,3,FALSE)*BQ33/1000)","v":""},{"$f":"IF(BO33=\"\",\"\",IF(VLOOKUP(BO33,'aktuelle Düngerliste'!$A:$B,2,FALSE)=\"mineralisch\",(VLOOKUP(BO33,'aktuelle Düngerliste'!$A:$H,3,FALSE)*BQ33/1000),\"\"))","v":""},{"$f":"IF(BO33=\"\",\"\",VLOOKUP(BO33,'aktuelle Düngerliste'!$A:$J,10,FALSE)*BQ33/1000)","v":""},{"$f":"IF(BO33=\"\",\"\",VLOOKUP(BO33,'aktuelle Düngerliste'!$A:$H,5,FALSE)*BQ33/1000)","v":""},{"$f":"IF(BO33=\"\",\"\",VLOOKUP(BO33,'aktuelle Düngerliste'!$A:$H,6,FALSE)*BQ33/1000)","v":""},{"$f":"IF(BO33=\"\",\"\",VLOOKUP(BO33,'aktuelle Düngerliste'!$A:$H,7,FALSE)*BQ33/1000)","v":""},null,null,null,"","",{"$f":"IF(CC33=\"\",\"\",VLOOKUP(CC33,'aktuelle Düngerliste'!$A:$H,2,FALSE))","v":""},{"$f":"IF(CC33=\"\",\"\",VLOOKUP(CC33,'aktuelle Düngerliste'!$A:$H,3,FALSE))","v":""},{"$f":"IF(CC33=\"\",\"\",VLOOKUP(CC33,'aktuelle Düngerliste'!$A:$H,8,FALSE))","v":""},{"$f":"IF(CC33=\"\",\"\",VLOOKUP(CC33,'aktuelle Düngerliste'!$A:$H,3,FALSE)*CE33/1000)","v":""},{"$f":"IF(CC33=\"\",\"\",IF(VLOOKUP(CC33,'aktuelle Düngerliste'!$A:$B,2,FALSE)=\"mineralisch\",(VLOOKUP(CC33,'aktuelle Düngerliste'!$A:$H,3,FALSE)*CE33/1000),\"\"))","v":""},{"$f":"IF(CC33=\"\",\"\",VLOOKUP(CC33,'aktuelle Düngerliste'!$A:$J,10,FALSE)*CE33/1000)","v":""},{"$f":"IF(CC33=\"\",\"\",VLOOKUP(CC33,'aktuelle Düngerliste'!$A:$H,5,FALSE)*CE33/1000)","v":""},{"$f":"IF(CC33=\"\",\"\",VLOOKUP(CC33,'aktuelle Düngerliste'!$A:$H,6,FALSE)*CE33/1000)","v":""},{"$f":"IF(CC33=\"\",\"\",VLOOKUP(CC33,'aktuelle Düngerliste'!$A:$H,7,FALSE)*CE33/1000)","v":""},null,null,null,"","",{"$f":"IF(CQ33=\"\",\"\",VLOOKUP(CQ33,'aktuelle Düngerliste'!$A:$H,2,FALSE))","v":""},{"$f":"IF(CQ33=\"\",\"\",VLOOKUP(CQ33,'aktuelle Düngerliste'!$A:$H,3,FALSE))","v":""},{"$f":"IF(CQ33=\"\",\"\",VLOOKUP(CQ33,'aktuelle Düngerliste'!$A:$H,8,FALSE))","v":""},{"$f":"IF(CQ33=\"\",\"\",VLOOKUP(CQ33,'aktuelle Düngerliste'!$A:$H,3,FALSE)*CS33/1000)","v":""},{"$f":"IF(CQ33=\"\",\"\",IF(VLOOKUP(CQ33,'aktuelle Düngerliste'!$A:$B,2,FALSE)=\"mineralisch\",(VLOOKUP(CQ33,'aktuelle Düngerliste'!$A:$H,3,FALSE)*CS33/1000),\"\"))","v":""},{"$f":"IF(CQ33=\"\",\"\",VLOOKUP(CQ33,'aktuelle Düngerliste'!$A:$J,10,FALSE)*CS33/1000)","v":""},{"$f":"IF(CQ33=\"\",\"\",VLOOKUP(CQ33,'aktuelle Düngerliste'!$A:$H,5,FALSE)*CS33/1000)","v":""},{"$f":"IF(CQ33=\"\",\"\",VLOOKUP(CQ33,'aktuelle Düngerliste'!$A:$H,6,FALSE)*CS33/1000)","v":""},{"$f":"IF(CQ33=\"\",\"\",VLOOKUP(CQ33,'aktuelle Düngerliste'!$A:$H,7,FALSE)*CS33/1000)","v":""},null,null,null,"","",{"$f":"IF(DE33=\"\",\"\",VLOOKUP(DE33,'aktuelle Düngerliste'!$A:$H,2,FALSE))","v":""},{"$f":"IF(DE33=\"\",\"\",VLOOKUP(DE33,'aktuelle Düngerliste'!$A:$H,3,FALSE))","v":""},{"$f":"IF(DE33=\"\",\"\",VLOOKUP(DE33,'aktuelle Düngerliste'!$A:$H,8,FALSE))","v":""},{"$f":"IF(DE33=\"\",\"\",VLOOKUP(DE33,'aktuelle Düngerliste'!$A:$H,3,FALSE)*DG33/1000)","v":""},{"$f":"IF(DE33=\"\",\"\",IF(VLOOKUP(DE33,'aktuelle Düngerliste'!$A:$B,2,FALSE)=\"mineralisch\",(VLOOKUP(DE33,'aktuelle Düngerliste'!$A:$H,3,FALSE)*DG33/1000),\"\"))","v":""},{"$f":"IF(DE33=\"\",\"\",VLOOKUP(DE33,'aktuelle Düngerliste'!$A:$J,10,FALSE)*DG33/1000)","v":""},{"$f":"IF(DE33=\"\",\"\",VLOOKUP(DE33,'aktuelle Düngerliste'!$A:$H,5,FALSE)*DG33/1000)","v":""},{"$f":"IF(DE33=\"\",\"\",VLOOKUP(DE33,'aktuelle Düngerliste'!$A:$H,6,FALSE)*DG33/1000)","v":""},{"$f":"IF(DE33=\"\",\"\",VLOOKUP(DE33,'aktuelle Düngerliste'!$A:$H,7,FALSE)*DG33/1000)","v":""}]
[{"$f":"IF('N-DBE'!A34=\"\",\"\",'N-DBE'!A34)","v":""},{"$f":"IF('N-DBE'!B34=\"\",\"\",'N-DBE'!B34)","v":""},{"$f":"IF('N-DBE'!C34=\"\",\"\",'N-DBE'!C34)","v":""},{"$f":"IF('N-DBE'!D34=\"\",\"\",'N-DBE'!D34)","v":""},{"$f":"IF('N-DBE'!E34=\"\",\"\",'N-DBE'!E34)","v":""},{"$f":"IF('N-DBE'!F34=\"\",\"\",'N-DBE'!F34)","v":""},{"$f":"IF('N-DBE'!G34=\"\",\"\",'N-DBE'!G34)","v":""},{"$f":"IF(OR(B34=\"\",'N-DBE'!AJ34=\"\"),\"\",'N-DBE'!AJ34+'N-DBE'!AN34)","v":""},{"$f":"IF(OR(B34=\"\",'N-DBE'!AJ34=\"\"),\"\",'N-DBE'!E34*('N-DBE'!AJ34+'N-DBE'!AN34))","v":""},{"$f":"IF('N-DBE'!AK34=\"\",\"\",IF('N-DBE'!AM34=\"ja\",'N-DBE'!AK34+'N-DBE'!AN34,'N-DBE'!AK34))","v":""},{"$f":"IF(OR(B34=\"\",'N-DBE'!AK34=\"\"),\"\",IF('N-DBE'!AM34=\"ja\",'N-DBE'!E34*('N-DBE'!AK34+'N-DBE'!AN34),'N-DBE'!E34*'N-DBE'!AK34))","v":""},{"$f":"IF(OR(B34=\"\",'N-DBE'!AL34=\"\"),\"\",'N-DBE'!AL34+'N-DBE'!AN34)","v":""},{"$f":"IF(OR(B34=\"\",'N-DBE'!AL34=\"\"),\"\",'N-DBE'!E34*('N-DBE'!AL34+'N-DBE'!AN34))","v":""},{"$f":"IF(AND('N-DBE'!C34=\"ja\",G34<>\"\"),I34-X34,\"\")","v":""},{"$f":"IF('N-DBE'!AJ34=\"\",\"\",SUM(AU34,BI34,BW34,CK34,CY34,DM34))","v":""},{"$f":"IF(OR(B34=\"\",'N-DBE'!AJ34=\"\"),\"\",O34*'N-DBE'!E34)","v":""},{"$f":"IF('N-DBE'!AJ34=\"\",\"\",IF(AR34=\"mineralisch\",AU34,0)+IF(BF34=\"mineralisch\",BI34,0)+IF(BT34=\"mineralisch\",BW34,0)+IF(CH34=\"mineralisch\",CK34,0)+IF(CV34=\"mineralisch\",CY34,0)+IF(DJ34=\"mineralisch\",DM34,0))","v":""},{"$f":"IF(OR(B34=\"\",'N-DBE'!AJ34=\"\"),\"\",Q34*'N-DBE'!E34)","v":""},{"$f":"IF('N-DBE'!AJ34=\"\",\"\",O34-Q34)","v":""},{"$f":"IF(OR(B34=\"\",'N-DBE'!AJ34=\"\"),\"\",S34*'N-DBE'!E34)","v":""},{"$f":"IF('N-DBE'!AJ34=\"\",\"\",(IF(AR34=\"Kompost\",AU34,0)+IF(BF34=\"Kompost\",BI34,0)+IF(BT34=\"Kompost\",BW34,0)+IF(CH34=\"Kompost\",CK34,0)+IF(CV34=\"Kompost\",CY34,0)+IF(DJ34=\"Kompost\",DM34,0)))","v":""},{"$f":"IF(OR(B34=\"\",'N-DBE'!AJ34=\"\"),\"\",U34*'N-DBE'!E34)","v":""},{"$f":"IF('N-DBE'!AJ34=\"\",\"\",SUM(AW34,BK34,BY34,CM34,DA34,DO34))","v":""},{"$f":"IF(OR(B34=\"\",'N-DBE'!AJ34=\"\"),\"\",W34*'N-DBE'!E34)","v":""},{"$f":"IF('P-(K-Mg)-DBE'!N34=\"\",\"\",'P-(K-Mg)-DBE'!N34+'P-(K-Mg)-DBE'!R34)","v":""},{"$f":"IF(OR(B34=\"\",'P-(K-Mg)-DBE'!N34=\"\"),\"\",'N-DBE'!E34*('P-(K-Mg)-DBE'!N34+'P-(K-Mg)-DBE'!R34))","v":""},{"$f":"IF('P-(K-Mg)-DBE'!N34=\"\",\"\",SUM(AX34,BL34,BZ34,CN34,DB34,DP34))","v":""},{"$f":"IF(OR(B34=\"\",'P-(K-Mg)-DBE'!Z34=\"\"),\"\",SUM(AX34,BL34,BZ34,CN34,DB34,DP34)*'N-DBE'!E34)","v":""},{"$f":"IF('P-(K-Mg)-DBE'!O34=\"\",\"\",'P-(K-Mg)-DBE'!O34)","v":""},{"$f":"IF(OR(B34=\"\",'P-(K-Mg)-DBE'!O34=\"\"),\"\",'P-(K-Mg)-DBE'!O34*'N-DBE'!E34)","v":""},{"$f":"IF('P-(K-Mg)-DBE'!Z34=\"\",\"\",'P-(K-Mg)-DBE'!Z34)","v":""},{"$f":"IF(OR(B34=\"\",'P-(K-Mg)-DBE'!Z34=\"\"),\"\",'P-(K-Mg)-DBE'!Z34*'N-DBE'!E34)","v":""},{"$f":"IF('P-(K-Mg)-DBE'!Z34=\"\",\"\",SUM(AY34,BM34,CA34,CO34,DC34,DQ34))","v":""},{"$f":"IF(OR(B34=\"\",'P-(K-Mg)-DBE'!AH34=\"\"),\"\",SUM(AY34,BM34,CA34,CO34,DC34,DQ24)*'N-DBE'!E34)","v":""},{"$f":"IF('P-(K-Mg)-DBE'!AH34=\"\",\"\",'P-(K-Mg)-DBE'!AH34)","v":""},{"$f":"IF(OR(B34=\"\",'P-(K-Mg)-DBE'!AH34=\"\"),\"\",'N-DBE'!E34*'P-(K-Mg)-DBE'!AH34)","v":""},{"$f":"IF('P-(K-Mg)-DBE'!AH34=\"\",\"\",SUM(AZ34,BN34,CB34,CP34,DD34,DR34))","v":""},{"$f":"IF('P-(K-Mg)-DBE'!AH34=\"\",\"\",SUM(AZ34,BN34,CB34,CP34,DD34,DR34))","v":""},null,null,null,"","",{"$f":"IF(AM34=\"\",\"\",VLOOKUP(AM34,'aktuelle Düngerliste'!A:H,2,FALSE))","v":""},{"$f":"IF(AM34=\"\",\"\",VLOOKUP(AM34,'aktuelle Düngerliste'!A:H,3,FALSE))","v":""},{"$f":"IF(AM34=\"\",\"\",VLOOKUP(AM34,'aktuelle Düngerliste'!A:H,8,FALSE))","v":""},{"$f":"IF(AM34=\"\",\"\",VLOOKUP(AM34,'aktuelle Düngerliste'!$A:$H,3,FALSE)*AO34/1000)","v":""},{"$f":"IF(AM34=\"\",\"\",IF(VLOOKUP(AM34,'aktuelle Düngerliste'!$A:$B,2,FALSE)=\"mineralisch\",(VLOOKUP(AM34,'aktuelle Düngerliste'!$A:$H,3,FALSE)*AO34/1000),\"\"))","v":""},{"$f":"IF(AM34=\"\",\"\",VLOOKUP(AM34,'aktuelle Düngerliste'!$A:$J,10,FALSE)*AO34/1000)","v":""},{"$f":"IF(AM34=\"\",\"\",VLOOKUP(AM34,'aktuelle Düngerliste'!$A:$H,5,FALSE)*AO34/1000)","v":""},{"$f":"IF(AM34=\"\",\"\",VLOOKUP(AM34,'aktuelle Düngerliste'!$A:$H,6,FALSE)*AO34/1000)","v":""},{"$f":"IF(AM34=\"\",\"\",VLOOKUP(AM34,'aktuelle Düngerliste'!$A:$H,7,FALSE)*AO34/1000)","v":""},null,null,null,"","",{"$f":"IF(BA34=\"\",\"\",VLOOKUP(BA34,'aktuelle Düngerliste'!$A:$H,2,FALSE))","v":""},{"$f":"IF(BA34=\"\",\"\",VLOOKUP(BA34,'aktuelle Düngerliste'!$A:$H,3,FALSE))","v":""},{"$f":"IF(BA34=\"\",\"\",VLOOKUP(BA34,'aktuelle Düngerliste'!$A:$H,8,FALSE))","v":""},{"$f":"IF(BA34=\"\",\"\",VLOOKUP(BA34,'aktuelle Düngerliste'!$A:$H,3,FALSE)*BC34/1000)","v":""},{"$f":"IF(BA34=\"\",\"\",IF(VLOOKUP(BA34,'aktuelle Düngerliste'!$A:$B,2,FALSE)=\"mineralisch\",(VLOOKUP(BA34,'aktuelle Düngerliste'!$A:$H,3,FALSE)*BC34/1000),\"\"))","v":""},{"$f":"IF(BA34=\"\",\"\",VLOOKUP(BA34,'aktuelle Düngerliste'!$A:$J,10,FALSE)*BC34/1000)","v":""},{"$f":"IF(BA34=\"\",\"\",VLOOKUP(BA34,'aktuelle Düngerliste'!$A:$H,5,FALSE)*BC34/1000)","v":""},{"$f":"IF(BA34=\"\",\"\",VLOOKUP(BA34,'aktuelle Düngerliste'!$A:$H,6,FALSE)*BC34/1000)","v":""},{"$f":"IF(BA34=\"\",\"\",VLOOKUP(BA34,'aktuelle Düngerliste'!$A:$H,7,FALSE)*BC34/1000)","v":""},null,null,null,"","",{"$f":"IF(BO34=\"\",\"\",VLOOKUP(BO34,'aktuelle Düngerliste'!$A:$H,2,FALSE))","v":""},{"$f":"IF(BO34=\"\",\"\",VLOOKUP(BO34,'aktuelle Düngerliste'!$A:$H,3,FALSE))","v":""},{"$f":"IF(BO34=\"\",\"\",VLOOKUP(BO34,'aktuelle Düngerliste'!$A:$H,8,FALSE))","v":""},{"$f":"IF(BO34=\"\",\"\",VLOOKUP(BO34,'aktuelle Düngerliste'!$A:$H,3,FALSE)*BQ34/1000)","v":""},{"$f":"IF(BO34=\"\",\"\",IF(VLOOKUP(BO34,'aktuelle Düngerliste'!$A:$B,2,FALSE)=\"mineralisch\",(VLOOKUP(BO34,'aktuelle Düngerliste'!$A:$H,3,FALSE)*BQ34/1000),\"\"))","v":""},{"$f":"IF(BO34=\"\",\"\",VLOOKUP(BO34,'aktuelle Düngerliste'!$A:$J,10,FALSE)*BQ34/1000)","v":""},{"$f":"IF(BO34=\"\",\"\",VLOOKUP(BO34,'aktuelle Düngerliste'!$A:$H,5,FALSE)*BQ34/1000)","v":""},{"$f":"IF(BO34=\"\",\"\",VLOOKUP(BO34,'aktuelle Düngerliste'!$A:$H,6,FALSE)*BQ34/1000)","v":""},{"$f":"IF(BO34=\"\",\"\",VLOOKUP(BO34,'aktuelle Düngerliste'!$A:$H,7,FALSE)*BQ34/1000)","v":""},null,null,null,"","",{"$f":"IF(CC34=\"\",\"\",VLOOKUP(CC34,'aktuelle Düngerliste'!$A:$H,2,FALSE))","v":""},{"$f":"IF(CC34=\"\",\"\",VLOOKUP(CC34,'aktuelle Düngerliste'!$A:$H,3,FALSE))","v":""},{"$f":"IF(CC34=\"\",\"\",VLOOKUP(CC34,'aktuelle Düngerliste'!$A:$H,8,FALSE))","v":""},{"$f":"IF(CC34=\"\",\"\",VLOOKUP(CC34,'aktuelle Düngerliste'!$A:$H,3,FALSE)*CE34/1000)","v":""},{"$f":"IF(CC34=\"\",\"\",IF(VLOOKUP(CC34,'aktuelle Düngerliste'!$A:$B,2,FALSE)=\"mineralisch\",(VLOOKUP(CC34,'aktuelle Düngerliste'!$A:$H,3,FALSE)*CE34/1000),\"\"))","v":""},{"$f":"IF(CC34=\"\",\"\",VLOOKUP(CC34,'aktuelle Düngerliste'!$A:$J,10,FALSE)*CE34/1000)","v":""},{"$f":"IF(CC34=\"\",\"\",VLOOKUP(CC34,'aktuelle Düngerliste'!$A:$H,5,FALSE)*CE34/1000)","v":""},{"$f":"IF(CC34=\"\",\"\",VLOOKUP(CC34,'aktuelle Düngerliste'!$A:$H,6,FALSE)*CE34/1000)","v":""},{"$f":"IF(CC34=\"\",\"\",VLOOKUP(CC34,'aktuelle Düngerliste'!$A:$H,7,FALSE)*CE34/1000)","v":""},null,null,null,"","",{"$f":"IF(CQ34=\"\",\"\",VLOOKUP(CQ34,'aktuelle Düngerliste'!$A:$H,2,FALSE))","v":""},{"$f":"IF(CQ34=\"\",\"\",VLOOKUP(CQ34,'aktuelle Düngerliste'!$A:$H,3,FALSE))","v":""},{"$f":"IF(CQ34=\"\",\"\",VLOOKUP(CQ34,'aktuelle Düngerliste'!$A:$H,8,FALSE))","v":""},{"$f":"IF(CQ34=\"\",\"\",VLOOKUP(CQ34,'aktuelle Düngerliste'!$A:$H,3,FALSE)*CS34/1000)","v":""},{"$f":"IF(CQ34=\"\",\"\",IF(VLOOKUP(CQ34,'aktuelle Düngerliste'!$A:$B,2,FALSE)=\"mineralisch\",(VLOOKUP(CQ34,'aktuelle Düngerliste'!$A:$H,3,FALSE)*CS34/1000),\"\"))","v":""},{"$f":"IF(CQ34=\"\",\"\",VLOOKUP(CQ34,'aktuelle Düngerliste'!$A:$J,10,FALSE)*CS34/1000)","v":""},{"$f":"IF(CQ34=\"\",\"\",VLOOKUP(CQ34,'aktuelle Düngerliste'!$A:$H,5,FALSE)*CS34/1000)","v":""},{"$f":"IF(CQ34=\"\",\"\",VLOOKUP(CQ34,'aktuelle Düngerliste'!$A:$H,6,FALSE)*CS34/1000)","v":""},{"$f":"IF(CQ34=\"\",\"\",VLOOKUP(CQ34,'aktuelle Düngerliste'!$A:$H,7,FALSE)*CS34/1000)","v":""},null,null,null,"","",{"$f":"IF(DE34=\"\",\"\",VLOOKUP(DE34,'aktuelle Düngerliste'!$A:$H,2,FALSE))","v":""},{"$f":"IF(DE34=\"\",\"\",VLOOKUP(DE34,'aktuelle Düngerliste'!$A:$H,3,FALSE))","v":""},{"$f":"IF(DE34=\"\",\"\",VLOOKUP(DE34,'aktuelle Düngerliste'!$A:$H,8,FALSE))","v":""},{"$f":"IF(DE34=\"\",\"\",VLOOKUP(DE34,'aktuelle Düngerliste'!$A:$H,3,FALSE)*DG34/1000)","v":""},{"$f":"IF(DE34=\"\",\"\",IF(VLOOKUP(DE34,'aktuelle Düngerliste'!$A:$B,2,FALSE)=\"mineralisch\",(VLOOKUP(DE34,'aktuelle Düngerliste'!$A:$H,3,FALSE)*DG34/1000),\"\"))","v":""},{"$f":"IF(DE34=\"\",\"\",VLOOKUP(DE34,'aktuelle Düngerliste'!$A:$J,10,FALSE)*DG34/1000)","v":""},{"$f":"IF(DE34=\"\",\"\",VLOOKUP(DE34,'aktuelle Düngerliste'!$A:$H,5,FALSE)*DG34/1000)","v":""},{"$f":"IF(DE34=\"\",\"\",VLOOKUP(DE34,'aktuelle Düngerliste'!$A:$H,6,FALSE)*DG34/1000)","v":""},{"$f":"IF(DE34=\"\",\"\",VLOOKUP(DE34,'aktuelle Düngerliste'!$A:$H,7,FALSE)*DG34/1000)","v":""}]
[{"$f":"IF('N-DBE'!A35=\"\",\"\",'N-DBE'!A35)","v":""},{"$f":"IF('N-DBE'!B35=\"\",\"\",'N-DBE'!B35)","v":""},{"$f":"IF('N-DBE'!C35=\"\",\"\",'N-DBE'!C35)","v":""},{"$f":"IF('N-DBE'!D35=\"\",\"\",'N-DBE'!D35)","v":""},{"$f":"IF('N-DBE'!E35=\"\",\"\",'N-DBE'!E35)","v":""},{"$f":"IF('N-DBE'!F35=\"\",\"\",'N-DBE'!F35)","v":""},{"$f":"IF('N-DBE'!G35=\"\",\"\",'N-DBE'!G35)","v":""},{"$f":"IF(OR(B35=\"\",'N-DBE'!AJ35=\"\"),\"\",'N-DBE'!AJ35+'N-DBE'!AN35)","v":""},{"$f":"IF(OR(B35=\"\",'N-DBE'!AJ35=\"\"),\"\",'N-DBE'!E35*('N-DBE'!AJ35+'N-DBE'!AN35))","v":""},{"$f":"IF('N-DBE'!AK35=\"\",\"\",IF('N-DBE'!AM35=\"ja\",'N-DBE'!AK35+'N-DBE'!AN35,'N-DBE'!AK35))","v":""},{"$f":"IF(OR(B35=\"\",'N-DBE'!AK35=\"\"),\"\",IF('N-DBE'!AM35=\"ja\",'N-DBE'!E35*('N-DBE'!AK35+'N-DBE'!AN35),'N-DBE'!E35*'N-DBE'!AK35))","v":""},{"$f":"IF(OR(B35=\"\",'N-DBE'!AL35=\"\"),\"\",'N-DBE'!AL35+'N-DBE'!AN35)","v":""},{"$f":"IF(OR(B35=\"\",'N-DBE'!AL35=\"\"),\"\",'N-DBE'!E35*('N-DBE'!AL35+'N-DBE'!AN35))","v":""},{"$f":"IF(AND('N-DBE'!C35=\"ja\",G35<>\"\"),I35-X35,\"\")","v":""},{"$f":"IF('N-DBE'!AJ35=\"\",\"\",SUM(AU35,BI35,BW35,CK35,CY35,DM35))","v":""},{"$f":"IF(OR(B35=\"\",'N-DBE'!AJ35=\"\"),\"\",O35*'N-DBE'!E35)","v":""},{"$f":"IF('N-DBE'!AJ35=\"\",\"\",IF(AR35=\"mineralisch\",AU35,0)+IF(BF35=\"mineralisch\",BI35,0)+IF(BT35=\"mineralisch\",BW35,0)+IF(CH35=\"mineralisch\",CK35,0)+IF(CV35=\"mineralisch\",CY35,0)+IF(DJ35=\"mineralisch\",DM35,0))","v":""},{"$f":"IF(OR(B35=\"\",'N-DBE'!AJ35=\"\"),\"\",Q35*'N-DBE'!E35)","v":""},{"$f":"IF('N-DBE'!AJ35=\"\",\"\",O35-Q35)","v":""},{"$f":"IF(OR(B35=\"\",'N-DBE'!AJ35=\"\"),\"\",S35*'N-DBE'!E35)","v":""},{"$f":"IF('N-DBE'!AJ35=\"\",\"\",(IF(AR35=\"Kompost\",AU35,0)+IF(BF35=\"Kompost\",BI35,0)+IF(BT35=\"Kompost\",BW35,0)+IF(CH35=\"Kompost\",CK35,0)+IF(CV35=\"Kompost\",CY35,0)+IF(DJ35=\"Kompost\",DM35,0)))","v":""},{"$f":"IF(OR(B35=\"\",'N-DBE'!AJ35=\"\"),\"\",U35*'N-DBE'!E35)","v":""},{"$f":"IF('N-DBE'!AJ35=\"\",\"\",SUM(AW35,BK35,BY35,CM35,DA35,DO35))","v":""},{"$f":"IF(OR(B35=\"\",'N-DBE'!AJ35=\"\"),\"\",W35*'N-DBE'!E35)","v":""},{"$f":"IF('P-(K-Mg)-DBE'!N35=\"\",\"\",'P-(K-Mg)-DBE'!N35+'P-(K-Mg)-DBE'!R35)","v":""},{"$f":"IF(OR(B35=\"\",'P-(K-Mg)-DBE'!N35=\"\"),\"\",'N-DBE'!E35*('P-(K-Mg)-DBE'!N35+'P-(K-Mg)-DBE'!R35))","v":""},{"$f":"IF('P-(K-Mg)-DBE'!N35=\"\",\"\",SUM(AX35,BL35,BZ35,CN35,DB35,DP35))","v":""},{"$f":"IF(OR(B35=\"\",'P-(K-Mg)-DBE'!Z35=\"\"),\"\",SUM(AX35,BL35,BZ35,CN35,DB35,DP35)*'N-DBE'!E35)","v":""},{"$f":"IF('P-(K-Mg)-DBE'!O35=\"\",\"\",'P-(K-Mg)-DBE'!O35)","v":""},{"$f":"IF(OR(B35=\"\",'P-(K-Mg)-DBE'!O35=\"\"),\"\",'P-(K-Mg)-DBE'!O35*'N-DBE'!E35)","v":""},{"$f":"IF('P-(K-Mg)-DBE'!Z35=\"\",\"\",'P-(K-Mg)-DBE'!Z35)","v":""},{"$f":"IF(OR(B35=\"\",'P-(K-Mg)-DBE'!Z35=\"\"),\"\",'P-(K-Mg)-DBE'!Z35*'N-DBE'!E35)","v":""},{"$f":"IF('P-(K-Mg)-DBE'!Z35=\"\",\"\",SUM(AY35,BM35,CA35,CO35,DC35,DQ35))","v":""},{"$f":"IF(OR(B35=\"\",'P-(K-Mg)-DBE'!AH35=\"\"),\"\",SUM(AY35,BM35,CA35,CO35,DC35,DQ25)*'N-DBE'!E35)","v":""},{"$f":"IF('P-(K-Mg)-DBE'!AH35=\"\",\"\",'P-(K-Mg)-DBE'!AH35)","v":""},{"$f":"IF(OR(B35=\"\",'P-(K-Mg)-DBE'!AH35=\"\"),\"\",'N-DBE'!E35*'P-(K-Mg)-DBE'!AH35)","v":""},{"$f":"IF('P-(K-Mg)-DBE'!AH35=\"\",\"\",SUM(AZ35,BN35,CB35,CP35,DD35,DR35))","v":""},{"$f":"IF('P-(K-Mg)-DBE'!AH35=\"\",\"\",SUM(AZ35,BN35,CB35,CP35,DD35,DR35))","v":""},null,null,null,"","",{"$f":"IF(AM35=\"\",\"\",VLOOKUP(AM35,'aktuelle Düngerliste'!A:H,2,FALSE))","v":""},{"$f":"IF(AM35=\"\",\"\",VLOOKUP(AM35,'aktuelle Düngerliste'!A:H,3,FALSE))","v":""},{"$f":"IF(AM35=\"\",\"\",VLOOKUP(AM35,'aktuelle Düngerliste'!A:H,8,FALSE))","v":""},{"$f":"IF(AM35=\"\",\"\",VLOOKUP(AM35,'aktuelle Düngerliste'!$A:$H,3,FALSE)*AO35/1000)","v":""},{"$f":"IF(AM35=\"\",\"\",IF(VLOOKUP(AM35,'aktuelle Düngerliste'!$A:$B,2,FALSE)=\"mineralisch\",(VLOOKUP(AM35,'aktuelle Düngerliste'!$A:$H,3,FALSE)*AO35/1000),\"\"))","v":""},{"$f":"IF(AM35=\"\",\"\",VLOOKUP(AM35,'aktuelle Düngerliste'!$A:$J,10,FALSE)*AO35/1000)","v":""},{"$f":"IF(AM35=\"\",\"\",VLOOKUP(AM35,'aktuelle Düngerliste'!$A:$H,5,FALSE)*AO35/1000)","v":""},{"$f":"IF(AM35=\"\",\"\",VLOOKUP(AM35,'aktuelle Düngerliste'!$A:$H,6,FALSE)*AO35/1000)","v":""},{"$f":"IF(AM35=\"\",\"\",VLOOKUP(AM35,'aktuelle Düngerliste'!$A:$H,7,FALSE)*AO35/1000)","v":""},null,null,null,"","",{"$f":"IF(BA35=\"\",\"\",VLOOKUP(BA35,'aktuelle Düngerliste'!$A:$H,2,FALSE))","v":""},{"$f":"IF(BA35=\"\",\"\",VLOOKUP(BA35,'aktuelle Düngerliste'!$A:$H,3,FALSE))","v":""},{"$f":"IF(BA35=\"\",\"\",VLOOKUP(BA35,'aktuelle Düngerliste'!$A:$H,8,FALSE))","v":""},{"$f":"IF(BA35=\"\",\"\",VLOOKUP(BA35,'aktuelle Düngerliste'!$A:$H,3,FALSE)*BC35/1000)","v":""},{"$f":"IF(BA35=\"\",\"\",IF(VLOOKUP(BA35,'aktuelle Düngerliste'!$A:$B,2,FALSE)=\"mineralisch\",(VLOOKUP(BA35,'aktuelle Düngerliste'!$A:$H,3,FALSE)*BC35/1000),\"\"))","v":""},{"$f":"IF(BA35=\"\",\"\",VLOOKUP(BA35,'aktuelle Düngerliste'!$A:$J,10,FALSE)*BC35/1000)","v":""},{"$f":"IF(BA35=\"\",\"\",VLOOKUP(BA35,'aktuelle Düngerliste'!$A:$H,5,FALSE)*BC35/1000)","v":""},{"$f":"IF(BA35=\"\",\"\",VLOOKUP(BA35,'aktuelle Düngerliste'!$A:$H,6,FALSE)*BC35/1000)","v":""},{"$f":"IF(BA35=\"\",\"\",VLOOKUP(BA35,'aktuelle Düngerliste'!$A:$H,7,FALSE)*BC35/1000)","v":""},null,null,null,"","",{"$f":"IF(BO35=\"\",\"\",VLOOKUP(BO35,'aktuelle Düngerliste'!$A:$H,2,FALSE))","v":""},{"$f":"IF(BO35=\"\",\"\",VLOOKUP(BO35,'aktuelle Düngerliste'!$A:$H,3,FALSE))","v":""},{"$f":"IF(BO35=\"\",\"\",VLOOKUP(BO35,'aktuelle Düngerliste'!$A:$H,8,FALSE))","v":""},{"$f":"IF(BO35=\"\",\"\",VLOOKUP(BO35,'aktuelle Düngerliste'!$A:$H,3,FALSE)*BQ35/1000)","v":""},{"$f":"IF(BO35=\"\",\"\",IF(VLOOKUP(BO35,'aktuelle Düngerliste'!$A:$B,2,FALSE)=\"mineralisch\",(VLOOKUP(BO35,'aktuelle Düngerliste'!$A:$H,3,FALSE)*BQ35/1000),\"\"))","v":""},{"$f":"IF(BO35=\"\",\"\",VLOOKUP(BO35,'aktuelle Düngerliste'!$A:$J,10,FALSE)*BQ35/1000)","v":""},{"$f":"IF(BO35=\"\",\"\",VLOOKUP(BO35,'aktuelle Düngerliste'!$A:$H,5,FALSE)*BQ35/1000)","v":""},{"$f":"IF(BO35=\"\",\"\",VLOOKUP(BO35,'aktuelle Düngerliste'!$A:$H,6,FALSE)*BQ35/1000)","v":""},{"$f":"IF(BO35=\"\",\"\",VLOOKUP(BO35,'aktuelle Düngerliste'!$A:$H,7,FALSE)*BQ35/1000)","v":""},null,null,null,"","",{"$f":"IF(CC35=\"\",\"\",VLOOKUP(CC35,'aktuelle Düngerliste'!$A:$H,2,FALSE))","v":""},{"$f":"IF(CC35=\"\",\"\",VLOOKUP(CC35,'aktuelle Düngerliste'!$A:$H,3,FALSE))","v":""},{"$f":"IF(CC35=\"\",\"\",VLOOKUP(CC35,'aktuelle Düngerliste'!$A:$H,8,FALSE))","v":""},{"$f":"IF(CC35=\"\",\"\",VLOOKUP(CC35,'aktuelle Düngerliste'!$A:$H,3,FALSE)*CE35/1000)","v":""},{"$f":"IF(CC35=\"\",\"\",IF(VLOOKUP(CC35,'aktuelle Düngerliste'!$A:$B,2,FALSE)=\"mineralisch\",(VLOOKUP(CC35,'aktuelle Düngerliste'!$A:$H,3,FALSE)*CE35/1000),\"\"))","v":""},{"$f":"IF(CC35=\"\",\"\",VLOOKUP(CC35,'aktuelle Düngerliste'!$A:$J,10,FALSE)*CE35/1000)","v":""},{"$f":"IF(CC35=\"\",\"\",VLOOKUP(CC35,'aktuelle Düngerliste'!$A:$H,5,FALSE)*CE35/1000)","v":""},{"$f":"IF(CC35=\"\",\"\",VLOOKUP(CC35,'aktuelle Düngerliste'!$A:$H,6,FALSE)*CE35/1000)","v":""},{"$f":"IF(CC35=\"\",\"\",VLOOKUP(CC35,'aktuelle Düngerliste'!$A:$H,7,FALSE)*CE35/1000)","v":""},null,null,null,"","",{"$f":"IF(CQ35=\"\",\"\",VLOOKUP(CQ35,'aktuelle Düngerliste'!$A:$H,2,FALSE))","v":""},{"$f":"IF(CQ35=\"\",\"\",VLOOKUP(CQ35,'aktuelle Düngerliste'!$A:$H,3,FALSE))","v":""},{"$f":"IF(CQ35=\"\",\"\",VLOOKUP(CQ35,'aktuelle Düngerliste'!$A:$H,8,FALSE))","v":""},{"$f":"IF(CQ35=\"\",\"\",VLOOKUP(CQ35,'aktuelle Düngerliste'!$A:$H,3,FALSE)*CS35/1000)","v":""},{"$f":"IF(CQ35=\"\",\"\",IF(VLOOKUP(CQ35,'aktuelle Düngerliste'!$A:$B,2,FALSE)=\"mineralisch\",(VLOOKUP(CQ35,'aktuelle Düngerliste'!$A:$H,3,FALSE)*CS35/1000),\"\"))","v":""},{"$f":"IF(CQ35=\"\",\"\",VLOOKUP(CQ35,'aktuelle Düngerliste'!$A:$J,10,FALSE)*CS35/1000)","v":""},{"$f":"IF(CQ35=\"\",\"\",VLOOKUP(CQ35,'aktuelle Düngerliste'!$A:$H,5,FALSE)*CS35/1000)","v":""},{"$f":"IF(CQ35=\"\",\"\",VLOOKUP(CQ35,'aktuelle Düngerliste'!$A:$H,6,FALSE)*CS35/1000)","v":""},{"$f":"IF(CQ35=\"\",\"\",VLOOKUP(CQ35,'aktuelle Düngerliste'!$A:$H,7,FALSE)*CS35/1000)","v":""},null,null,null,"","",{"$f":"IF(DE35=\"\",\"\",VLOOKUP(DE35,'aktuelle Düngerliste'!$A:$H,2,FALSE))","v":""},{"$f":"IF(DE35=\"\",\"\",VLOOKUP(DE35,'aktuelle Düngerliste'!$A:$H,3,FALSE))","v":""},{"$f":"IF(DE35=\"\",\"\",VLOOKUP(DE35,'aktuelle Düngerliste'!$A:$H,8,FALSE))","v":""},{"$f":"IF(DE35=\"\",\"\",VLOOKUP(DE35,'aktuelle Düngerliste'!$A:$H,3,FALSE)*DG35/1000)","v":""},{"$f":"IF(DE35=\"\",\"\",IF(VLOOKUP(DE35,'aktuelle Düngerliste'!$A:$B,2,FALSE)=\"mineralisch\",(VLOOKUP(DE35,'aktuelle Düngerliste'!$A:$H,3,FALSE)*DG35/1000),\"\"))","v":""},{"$f":"IF(DE35=\"\",\"\",VLOOKUP(DE35,'aktuelle Düngerliste'!$A:$J,10,FALSE)*DG35/1000)","v":""},{"$f":"IF(DE35=\"\",\"\",VLOOKUP(DE35,'aktuelle Düngerliste'!$A:$H,5,FALSE)*DG35/1000)","v":""},{"$f":"IF(DE35=\"\",\"\",VLOOKUP(DE35,'aktuelle Düngerliste'!$A:$H,6,FALSE)*DG35/1000)","v":""},{"$f":"IF(DE35=\"\",\"\",VLOOKUP(DE35,'aktuelle Düngerliste'!$A:$H,7,FALSE)*DG35/1000)","v":""}]
[{"$f":"IF('N-DBE'!A36=\"\",\"\",'N-DBE'!A36)","v":""},{"$f":"IF('N-DBE'!B36=\"\",\"\",'N-DBE'!B36)","v":""},{"$f":"IF('N-DBE'!C36=\"\",\"\",'N-DBE'!C36)","v":""},{"$f":"IF('N-DBE'!D36=\"\",\"\",'N-DBE'!D36)","v":""},{"$f":"IF('N-DBE'!E36=\"\",\"\",'N-DBE'!E36)","v":""},{"$f":"IF('N-DBE'!F36=\"\",\"\",'N-DBE'!F36)","v":""},{"$f":"IF('N-DBE'!G36=\"\",\"\",'N-DBE'!G36)","v":""},{"$f":"IF(OR(B36=\"\",'N-DBE'!AJ36=\"\"),\"\",'N-DBE'!AJ36+'N-DBE'!AN36)","v":""},{"$f":"IF(OR(B36=\"\",'N-DBE'!AJ36=\"\"),\"\",'N-DBE'!E36*('N-DBE'!AJ36+'N-DBE'!AN36))","v":""},{"$f":"IF('N-DBE'!AK36=\"\",\"\",IF('N-DBE'!AM36=\"ja\",'N-DBE'!AK36+'N-DBE'!AN36,'N-DBE'!AK36))","v":""},{"$f":"IF(OR(B36=\"\",'N-DBE'!AK36=\"\"),\"\",IF('N-DBE'!AM36=\"ja\",'N-DBE'!E36*('N-DBE'!AK36+'N-DBE'!AN36),'N-DBE'!E36*'N-DBE'!AK36))","v":""},{"$f":"IF(OR(B36=\"\",'N-DBE'!AL36=\"\"),\"\",'N-DBE'!AL36+'N-DBE'!AN36)","v":""},{"$f":"IF(OR(B36=\"\",'N-DBE'!AL36=\"\"),\"\",'N-DBE'!E36*('N-DBE'!AL36+'N-DBE'!AN36))","v":""},{"$f":"IF(AND('N-DBE'!C36=\"ja\",G36<>\"\"),I36-X36,\"\")","v":""},{"$f":"IF('N-DBE'!AJ36=\"\",\"\",SUM(AU36,BI36,BW36,CK36,CY36,DM36))","v":""},{"$f":"IF(OR(B36=\"\",'N-DBE'!AJ36=\"\"),\"\",O36*'N-DBE'!E36)","v":""},{"$f":"IF('N-DBE'!AJ36=\"\",\"\",IF(AR36=\"mineralisch\",AU36,0)+IF(BF36=\"mineralisch\",BI36,0)+IF(BT36=\"mineralisch\",BW36,0)+IF(CH36=\"mineralisch\",CK36,0)+IF(CV36=\"mineralisch\",CY36,0)+IF(DJ36=\"mineralisch\",DM36,0))","v":""},{"$f":"IF(OR(B36=\"\",'N-DBE'!AJ36=\"\"),\"\",Q36*'N-DBE'!E36)","v":""},{"$f":"IF('N-DBE'!AJ36=\"\",\"\",O36-Q36)","v":""},{"$f":"IF(OR(B36=\"\",'N-DBE'!AJ36=\"\"),\"\",S36*'N-DBE'!E36)","v":""},{"$f":"IF('N-DBE'!AJ36=\"\",\"\",(IF(AR36=\"Kompost\",AU36,0)+IF(BF36=\"Kompost\",BI36,0)+IF(BT36=\"Kompost\",BW36,0)+IF(CH36=\"Kompost\",CK36,0)+IF(CV36=\"Kompost\",CY36,0)+IF(DJ36=\"Kompost\",DM36,0)))","v":""},{"$f":"IF(OR(B36=\"\",'N-DBE'!AJ36=\"\"),\"\",U36*'N-DBE'!E36)","v":""},{"$f":"IF('N-DBE'!AJ36=\"\",\"\",SUM(AW36,BK36,BY36,CM36,DA36,DO36))","v":""},{"$f":"IF(OR(B36=\"\",'N-DBE'!AJ36=\"\"),\"\",W36*'N-DBE'!E36)","v":""},{"$f":"IF('P-(K-Mg)-DBE'!N36=\"\",\"\",'P-(K-Mg)-DBE'!N36+'P-(K-Mg)-DBE'!R36)","v":""},{"$f":"IF(OR(B36=\"\",'P-(K-Mg)-DBE'!N36=\"\"),\"\",'N-DBE'!E36*('P-(K-Mg)-DBE'!N36+'P-(K-Mg)-DBE'!R36))","v":""},{"$f":"IF('P-(K-Mg)-DBE'!N36=\"\",\"\",SUM(AX36,BL36,BZ36,CN36,DB36,DP36))","v":""},{"$f":"IF(OR(B36=\"\",'P-(K-Mg)-DBE'!Z36=\"\"),\"\",SUM(AX36,BL36,BZ36,CN36,DB36,DP36)*'N-DBE'!E36)","v":""},{"$f":"IF('P-(K-Mg)-DBE'!O36=\"\",\"\",'P-(K-Mg)-DBE'!O36)","v":""},{"$f":"IF(OR(B36=\"\",'P-(K-Mg)-DBE'!O36=\"\"),\"\",'P-(K-Mg)-DBE'!O36*'N-DBE'!E36)","v":""},{"$f":"IF('P-(K-Mg)-DBE'!Z36=\"\",\"\",'P-(K-Mg)-DBE'!Z36)","v":""},{"$f":"IF(OR(B36=\"\",'P-(K-Mg)-DBE'!Z36=\"\"),\"\",'P-(K-Mg)-DBE'!Z36*'N-DBE'!E36)","v":""},{"$f":"IF('P-(K-Mg)-DBE'!Z36=\"\",\"\",SUM(AY36,BM36,CA36,CO36,DC36,DQ36))","v":""},{"$f":"IF(OR(B36=\"\",'P-(K-Mg)-DBE'!AH36=\"\"),\"\",SUM(AY36,BM36,CA36,CO36,DC36,DQ26)*'N-DBE'!E36)","v":""},{"$f":"IF('P-(K-Mg)-DBE'!AH36=\"\",\"\",'P-(K-Mg)-DBE'!AH36)","v":""},{"$f":"IF(OR(B36=\"\",'P-(K-Mg)-DBE'!AH36=\"\"),\"\",'N-DBE'!E36*'P-(K-Mg)-DBE'!AH36)","v":""},{"$f":"IF('P-(K-Mg)-DBE'!AH36=\"\",\"\",SUM(AZ36,BN36,CB36,CP36,DD36,DR36))","v":""},{"$f":"IF('P-(K-Mg)-DBE'!AH36=\"\",\"\",SUM(AZ36,BN36,CB36,CP36,DD36,DR36))","v":""},null,null,null,"","",{"$f":"IF(AM36=\"\",\"\",VLOOKUP(AM36,'aktuelle Düngerliste'!A:H,2,FALSE))","v":""},{"$f":"IF(AM36=\"\",\"\",VLOOKUP(AM36,'aktuelle Düngerliste'!A:H,3,FALSE))","v":""},{"$f":"IF(AM36=\"\",\"\",VLOOKUP(AM36,'aktuelle Düngerliste'!A:H,8,FALSE))","v":""},{"$f":"IF(AM36=\"\",\"\",VLOOKUP(AM36,'aktuelle Düngerliste'!$A:$H,3,FALSE)*AO36/1000)","v":""},{"$f":"IF(AM36=\"\",\"\",IF(VLOOKUP(AM36,'aktuelle Düngerliste'!$A:$B,2,FALSE)=\"mineralisch\",(VLOOKUP(AM36,'aktuelle Düngerliste'!$A:$H,3,FALSE)*AO36/1000),\"\"))","v":""},{"$f":"IF(AM36=\"\",\"\",VLOOKUP(AM36,'aktuelle Düngerliste'!$A:$J,10,FALSE)*AO36/1000)","v":""},{"$f":"IF(AM36=\"\",\"\",VLOOKUP(AM36,'aktuelle Düngerliste'!$A:$H,5,FALSE)*AO36/1000)","v":""},{"$f":"IF(AM36=\"\",\"\",VLOOKUP(AM36,'aktuelle Düngerliste'!$A:$H,6,FALSE)*AO36/1000)","v":""},{"$f":"IF(AM36=\"\",\"\",VLOOKUP(AM36,'aktuelle Düngerliste'!$A:$H,7,FALSE)*AO36/1000)","v":""},null,null,null,"","",{"$f":"IF(BA36=\"\",\"\",VLOOKUP(BA36,'aktuelle Düngerliste'!$A:$H,2,FALSE))","v":""},{"$f":"IF(BA36=\"\",\"\",VLOOKUP(BA36,'aktuelle Düngerliste'!$A:$H,3,FALSE))","v":""},{"$f":"IF(BA36=\"\",\"\",VLOOKUP(BA36,'aktuelle Düngerliste'!$A:$H,8,FALSE))","v":""},{"$f":"IF(BA36=\"\",\"\",VLOOKUP(BA36,'aktuelle Düngerliste'!$A:$H,3,FALSE)*BC36/1000)","v":""},{"$f":"IF(BA36=\"\",\"\",IF(VLOOKUP(BA36,'aktuelle Düngerliste'!$A:$B,2,FALSE)=\"mineralisch\",(VLOOKUP(BA36,'aktuelle Düngerliste'!$A:$H,3,FALSE)*BC36/1000),\"\"))","v":""},{"$f":"IF(BA36=\"\",\"\",VLOOKUP(BA36,'aktuelle Düngerliste'!$A:$J,10,FALSE)*BC36/1000)","v":""},{"$f":"IF(BA36=\"\",\"\",VLOOKUP(BA36,'aktuelle Düngerliste'!$A:$H,5,FALSE)*BC36/1000)","v":""},{"$f":"IF(BA36=\"\",\"\",VLOOKUP(BA36,'aktuelle Düngerliste'!$A:$H,6,FALSE)*BC36/1000)","v":""},{"$f":"IF(BA36=\"\",\"\",VLOOKUP(BA36,'aktuelle Düngerliste'!$A:$H,7,FALSE)*BC36/1000)","v":""},null,null,null,"","",{"$f":"IF(BO36=\"\",\"\",VLOOKUP(BO36,'aktuelle Düngerliste'!$A:$H,2,FALSE))","v":""},{"$f":"IF(BO36=\"\",\"\",VLOOKUP(BO36,'aktuelle Düngerliste'!$A:$H,3,FALSE))","v":""},{"$f":"IF(BO36=\"\",\"\",VLOOKUP(BO36,'aktuelle Düngerliste'!$A:$H,8,FALSE))","v":""},{"$f":"IF(BO36=\"\",\"\",VLOOKUP(BO36,'aktuelle Düngerliste'!$A:$H,3,FALSE)*BQ36/1000)","v":""},{"$f":"IF(BO36=\"\",\"\",IF(VLOOKUP(BO36,'aktuelle Düngerliste'!$A:$B,2,FALSE)=\"mineralisch\",(VLOOKUP(BO36,'aktuelle Düngerliste'!$A:$H,3,FALSE)*BQ36/1000),\"\"))","v":""},{"$f":"IF(BO36=\"\",\"\",VLOOKUP(BO36,'aktuelle Düngerliste'!$A:$J,10,FALSE)*BQ36/1000)","v":""},{"$f":"IF(BO36=\"\",\"\",VLOOKUP(BO36,'aktuelle Düngerliste'!$A:$H,5,FALSE)*BQ36/1000)","v":""},{"$f":"IF(BO36=\"\",\"\",VLOOKUP(BO36,'aktuelle Düngerliste'!$A:$H,6,FALSE)*BQ36/1000)","v":""},{"$f":"IF(BO36=\"\",\"\",VLOOKUP(BO36,'aktuelle Düngerliste'!$A:$H,7,FALSE)*BQ36/1000)","v":""},null,null,null,"","",{"$f":"IF(CC36=\"\",\"\",VLOOKUP(CC36,'aktuelle Düngerliste'!$A:$H,2,FALSE))","v":""},{"$f":"IF(CC36=\"\",\"\",VLOOKUP(CC36,'aktuelle Düngerliste'!$A:$H,3,FALSE))","v":""},{"$f":"IF(CC36=\"\",\"\",VLOOKUP(CC36,'aktuelle Düngerliste'!$A:$H,8,FALSE))","v":""},{"$f":"IF(CC36=\"\",\"\",VLOOKUP(CC36,'aktuelle Düngerliste'!$A:$H,3,FALSE)*CE36/1000)","v":""},{"$f":"IF(CC36=\"\",\"\",IF(VLOOKUP(CC36,'aktuelle Düngerliste'!$A:$B,2,FALSE)=\"mineralisch\",(VLOOKUP(CC36,'aktuelle Düngerliste'!$A:$H,3,FALSE)*CE36/1000),\"\"))","v":""},{"$f":"IF(CC36=\"\",\"\",VLOOKUP(CC36,'aktuelle Düngerliste'!$A:$J,10,FALSE)*CE36/1000)","v":""},{"$f":"IF(CC36=\"\",\"\",VLOOKUP(CC36,'aktuelle Düngerliste'!$A:$H,5,FALSE)*CE36/1000)","v":""},{"$f":"IF(CC36=\"\",\"\",VLOOKUP(CC36,'aktuelle Düngerliste'!$A:$H,6,FALSE)*CE36/1000)","v":""},{"$f":"IF(CC36=\"\",\"\",VLOOKUP(CC36,'aktuelle Düngerliste'!$A:$H,7,FALSE)*CE36/1000)","v":""},null,null,null,"","",{"$f":"IF(CQ36=\"\",\"\",VLOOKUP(CQ36,'aktuelle Düngerliste'!$A:$H,2,FALSE))","v":""},{"$f":"IF(CQ36=\"\",\"\",VLOOKUP(CQ36,'aktuelle Düngerliste'!$A:$H,3,FALSE))","v":""},{"$f":"IF(CQ36=\"\",\"\",VLOOKUP(CQ36,'aktuelle Düngerliste'!$A:$H,8,FALSE))","v":""},{"$f":"IF(CQ36=\"\",\"\",VLOOKUP(CQ36,'aktuelle Düngerliste'!$A:$H,3,FALSE)*CS36/1000)","v":""},{"$f":"IF(CQ36=\"\",\"\",IF(VLOOKUP(CQ36,'aktuelle Düngerliste'!$A:$B,2,FALSE)=\"mineralisch\",(VLOOKUP(CQ36,'aktuelle Düngerliste'!$A:$H,3,FALSE)*CS36/1000),\"\"))","v":""},{"$f":"IF(CQ36=\"\",\"\",VLOOKUP(CQ36,'aktuelle Düngerliste'!$A:$J,10,FALSE)*CS36/1000)","v":""},{"$f":"IF(CQ36=\"\",\"\",VLOOKUP(CQ36,'aktuelle Düngerliste'!$A:$H,5,FALSE)*CS36/1000)","v":""},{"$f":"IF(CQ36=\"\",\"\",VLOOKUP(CQ36,'aktuelle Düngerliste'!$A:$H,6,FALSE)*CS36/1000)","v":""},{"$f":"IF(CQ36=\"\",\"\",VLOOKUP(CQ36,'aktuelle Düngerliste'!$A:$H,7,FALSE)*CS36/1000)","v":""},null,null,null,"","",{"$f":"IF(DE36=\"\",\"\",VLOOKUP(DE36,'aktuelle Düngerliste'!$A:$H,2,FALSE))","v":""},{"$f":"IF(DE36=\"\",\"\",VLOOKUP(DE36,'aktuelle Düngerliste'!$A:$H,3,FALSE))","v":""},{"$f":"IF(DE36=\"\",\"\",VLOOKUP(DE36,'aktuelle Düngerliste'!$A:$H,8,FALSE))","v":""},{"$f":"IF(DE36=\"\",\"\",VLOOKUP(DE36,'aktuelle Düngerliste'!$A:$H,3,FALSE)*DG36/1000)","v":""},{"$f":"IF(DE36=\"\",\"\",IF(VLOOKUP(DE36,'aktuelle Düngerliste'!$A:$B,2,FALSE)=\"mineralisch\",(VLOOKUP(DE36,'aktuelle Düngerliste'!$A:$H,3,FALSE)*DG36/1000),\"\"))","v":""},{"$f":"IF(DE36=\"\",\"\",VLOOKUP(DE36,'aktuelle Düngerliste'!$A:$J,10,FALSE)*DG36/1000)","v":""},{"$f":"IF(DE36=\"\",\"\",VLOOKUP(DE36,'aktuelle Düngerliste'!$A:$H,5,FALSE)*DG36/1000)","v":""},{"$f":"IF(DE36=\"\",\"\",VLOOKUP(DE36,'aktuelle Düngerliste'!$A:$H,6,FALSE)*DG36/1000)","v":""},{"$f":"IF(DE36=\"\",\"\",VLOOKUP(DE36,'aktuelle Düngerliste'!$A:$H,7,FALSE)*DG36/1000)","v":""}]
[{"$f":"IF('N-DBE'!A37=\"\",\"\",'N-DBE'!A37)","v":""},{"$f":"IF('N-DBE'!B37=\"\",\"\",'N-DBE'!B37)","v":""},{"$f":"IF('N-DBE'!C37=\"\",\"\",'N-DBE'!C37)","v":""},{"$f":"IF('N-DBE'!D37=\"\",\"\",'N-DBE'!D37)","v":""},{"$f":"IF('N-DBE'!E37=\"\",\"\",'N-DBE'!E37)","v":""},{"$f":"IF('N-DBE'!F37=\"\",\"\",'N-DBE'!F37)","v":""},{"$f":"IF('N-DBE'!G37=\"\",\"\",'N-DBE'!G37)","v":""},{"$f":"IF(OR(B37=\"\",'N-DBE'!AJ37=\"\"),\"\",'N-DBE'!AJ37+'N-DBE'!AN37)","v":""},{"$f":"IF(OR(B37=\"\",'N-DBE'!AJ37=\"\"),\"\",'N-DBE'!E37*('N-DBE'!AJ37+'N-DBE'!AN37))","v":""},{"$f":"IF('N-DBE'!AK37=\"\",\"\",IF('N-DBE'!AM37=\"ja\",'N-DBE'!AK37+'N-DBE'!AN37,'N-DBE'!AK37))","v":""},{"$f":"IF(OR(B37=\"\",'N-DBE'!AK37=\"\"),\"\",IF('N-DBE'!AM37=\"ja\",'N-DBE'!E37*('N-DBE'!AK37+'N-DBE'!AN37),'N-DBE'!E37*'N-DBE'!AK37))","v":""},{"$f":"IF(OR(B37=\"\",'N-DBE'!AL37=\"\"),\"\",'N-DBE'!AL37+'N-DBE'!AN37)","v":""},{"$f":"IF(OR(B37=\"\",'N-DBE'!AL37=\"\"),\"\",'N-DBE'!E37*('N-DBE'!AL37+'N-DBE'!AN37))","v":""},{"$f":"IF(AND('N-DBE'!C37=\"ja\",G37<>\"\"),I37-X37,\"\")","v":""},{"$f":"IF('N-DBE'!AJ37=\"\",\"\",SUM(AU37,BI37,BW37,CK37,CY37,DM37))","v":""},{"$f":"IF(OR(B37=\"\",'N-DBE'!AJ37=\"\"),\"\",O37*'N-DBE'!E37)","v":""},{"$f":"IF('N-DBE'!AJ37=\"\",\"\",IF(AR37=\"mineralisch\",AU37,0)+IF(BF37=\"mineralisch\",BI37,0)+IF(BT37=\"mineralisch\",BW37,0)+IF(CH37=\"mineralisch\",CK37,0)+IF(CV37=\"mineralisch\",CY37,0)+IF(DJ37=\"mineralisch\",DM37,0))","v":""},{"$f":"IF(OR(B37=\"\",'N-DBE'!AJ37=\"\"),\"\",Q37*'N-DBE'!E37)","v":""},{"$f":"IF('N-DBE'!AJ37=\"\",\"\",O37-Q37)","v":""},{"$f":"IF(OR(B37=\"\",'N-DBE'!AJ37=\"\"),\"\",S37*'N-DBE'!E37)","v":""},{"$f":"IF('N-DBE'!AJ37=\"\",\"\",(IF(AR37=\"Kompost\",AU37,0)+IF(BF37=\"Kompost\",BI37,0)+IF(BT37=\"Kompost\",BW37,0)+IF(CH37=\"Kompost\",CK37,0)+IF(CV37=\"Kompost\",CY37,0)+IF(DJ37=\"Kompost\",DM37,0)))","v":""},{"$f":"IF(OR(B37=\"\",'N-DBE'!AJ37=\"\"),\"\",U37*'N-DBE'!E37)","v":""},{"$f":"IF('N-DBE'!AJ37=\"\",\"\",SUM(AW37,BK37,BY37,CM37,DA37,DO37))","v":""},{"$f":"IF(OR(B37=\"\",'N-DBE'!AJ37=\"\"),\"\",W37*'N-DBE'!E37)","v":""},{"$f":"IF('P-(K-Mg)-DBE'!N37=\"\",\"\",'P-(K-Mg)-DBE'!N37+'P-(K-Mg)-DBE'!R37)","v":""},{"$f":"IF(OR(B37=\"\",'P-(K-Mg)-DBE'!N37=\"\"),\"\",'N-DBE'!E37*('P-(K-Mg)-DBE'!N37+'P-(K-Mg)-DBE'!R37))","v":""},{"$f":"IF('P-(K-Mg)-DBE'!N37=\"\",\"\",SUM(AX37,BL37,BZ37,CN37,DB37,DP37))","v":""},{"$f":"IF(OR(B37=\"\",'P-(K-Mg)-DBE'!Z37=\"\"),\"\",SUM(AX37,BL37,BZ37,CN37,DB37,DP37)*'N-DBE'!E37)","v":""},{"$f":"IF('P-(K-Mg)-DBE'!O37=\"\",\"\",'P-(K-Mg)-DBE'!O37)","v":""},{"$f":"IF(OR(B37=\"\",'P-(K-Mg)-DBE'!O37=\"\"),\"\",'P-(K-Mg)-DBE'!O37*'N-DBE'!E37)","v":""},{"$f":"IF('P-(K-Mg)-DBE'!Z37=\"\",\"\",'P-(K-Mg)-DBE'!Z37)","v":""},{"$f":"IF(OR(B37=\"\",'P-(K-Mg)-DBE'!Z37=\"\"),\"\",'P-(K-Mg)-DBE'!Z37*'N-DBE'!E37)","v":""},{"$f":"IF('P-(K-Mg)-DBE'!Z37=\"\",\"\",SUM(AY37,BM37,CA37,CO37,DC37,DQ37))","v":""},{"$f":"IF(OR(B37=\"\",'P-(K-Mg)-DBE'!AH37=\"\"),\"\",SUM(AY37,BM37,CA37,CO37,DC37,DQ27)*'N-DBE'!E37)","v":""},{"$f":"IF('P-(K-Mg)-DBE'!AH37=\"\",\"\",'P-(K-Mg)-DBE'!AH37)","v":""},{"$f":"IF(OR(B37=\"\",'P-(K-Mg)-DBE'!AH37=\"\"),\"\",'N-DBE'!E37*'P-(K-Mg)-DBE'!AH37)","v":""},{"$f":"IF('P-(K-Mg)-DBE'!AH37=\"\",\"\",SUM(AZ37,BN37,CB37,CP37,DD37,DR37))","v":""},{"$f":"IF('P-(K-Mg)-DBE'!AH37=\"\",\"\",SUM(AZ37,BN37,CB37,CP37,DD37,DR37))","v":""},null,null,null,"","",{"$f":"IF(AM37=\"\",\"\",VLOOKUP(AM37,'aktuelle Düngerliste'!A:H,2,FALSE))","v":""},{"$f":"IF(AM37=\"\",\"\",VLOOKUP(AM37,'aktuelle Düngerliste'!A:H,3,FALSE))","v":""},{"$f":"IF(AM37=\"\",\"\",VLOOKUP(AM37,'aktuelle Düngerliste'!A:H,8,FALSE))","v":""},{"$f":"IF(AM37=\"\",\"\",VLOOKUP(AM37,'aktuelle Düngerliste'!$A:$H,3,FALSE)*AO37/1000)","v":""},{"$f":"IF(AM37=\"\",\"\",IF(VLOOKUP(AM37,'aktuelle Düngerliste'!$A:$B,2,FALSE)=\"mineralisch\",(VLOOKUP(AM37,'aktuelle Düngerliste'!$A:$H,3,FALSE)*AO37/1000),\"\"))","v":""},{"$f":"IF(AM37=\"\",\"\",VLOOKUP(AM37,'aktuelle Düngerliste'!$A:$J,10,FALSE)*AO37/1000)","v":""},{"$f":"IF(AM37=\"\",\"\",VLOOKUP(AM37,'aktuelle Düngerliste'!$A:$H,5,FALSE)*AO37/1000)","v":""},{"$f":"IF(AM37=\"\",\"\",VLOOKUP(AM37,'aktuelle Düngerliste'!$A:$H,6,FALSE)*AO37/1000)","v":""},{"$f":"IF(AM37=\"\",\"\",VLOOKUP(AM37,'aktuelle Düngerliste'!$A:$H,7,FALSE)*AO37/1000)","v":""},null,null,null,"","",{"$f":"IF(BA37=\"\",\"\",VLOOKUP(BA37,'aktuelle Düngerliste'!$A:$H,2,FALSE))","v":""},{"$f":"IF(BA37=\"\",\"\",VLOOKUP(BA37,'aktuelle Düngerliste'!$A:$H,3,FALSE))","v":""},{"$f":"IF(BA37=\"\",\"\",VLOOKUP(BA37,'aktuelle Düngerliste'!$A:$H,8,FALSE))","v":""},{"$f":"IF(BA37=\"\",\"\",VLOOKUP(BA37,'aktuelle Düngerliste'!$A:$H,3,FALSE)*BC37/1000)","v":""},{"$f":"IF(BA37=\"\",\"\",IF(VLOOKUP(BA37,'aktuelle Düngerliste'!$A:$B,2,FALSE)=\"mineralisch\",(VLOOKUP(BA37,'aktuelle Düngerliste'!$A:$H,3,FALSE)*BC37/1000),\"\"))","v":""},{"$f":"IF(BA37=\"\",\"\",VLOOKUP(BA37,'aktuelle Düngerliste'!$A:$J,10,FALSE)*BC37/1000)","v":""},{"$f":"IF(BA37=\"\",\"\",VLOOKUP(BA37,'aktuelle Düngerliste'!$A:$H,5,FALSE)*BC37/1000)","v":""},{"$f":"IF(BA37=\"\",\"\",VLOOKUP(BA37,'aktuelle Düngerliste'!$A:$H,6,FALSE)*BC37/1000)","v":""},{"$f":"IF(BA37=\"\",\"\",VLOOKUP(BA37,'aktuelle Düngerliste'!$A:$H,7,FALSE)*BC37/1000)","v":""},null,null,null,"","",{"$f":"IF(BO37=\"\",\"\",VLOOKUP(BO37,'aktuelle Düngerliste'!$A:$H,2,FALSE))","v":""},{"$f":"IF(BO37=\"\",\"\",VLOOKUP(BO37,'aktuelle Düngerliste'!$A:$H,3,FALSE))","v":""},{"$f":"IF(BO37=\"\",\"\",VLOOKUP(BO37,'aktuelle Düngerliste'!$A:$H,8,FALSE))","v":""},{"$f":"IF(BO37=\"\",\"\",VLOOKUP(BO37,'aktuelle Düngerliste'!$A:$H,3,FALSE)*BQ37/1000)","v":""},{"$f":"IF(BO37=\"\",\"\",IF(VLOOKUP(BO37,'aktuelle Düngerliste'!$A:$B,2,FALSE)=\"mineralisch\",(VLOOKUP(BO37,'aktuelle Düngerliste'!$A:$H,3,FALSE)*BQ37/1000),\"\"))","v":""},{"$f":"IF(BO37=\"\",\"\",VLOOKUP(BO37,'aktuelle Düngerliste'!$A:$J,10,FALSE)*BQ37/1000)","v":""},{"$f":"IF(BO37=\"\",\"\",VLOOKUP(BO37,'aktuelle Düngerliste'!$A:$H,5,FALSE)*BQ37/1000)","v":""},{"$f":"IF(BO37=\"\",\"\",VLOOKUP(BO37,'aktuelle Düngerliste'!$A:$H,6,FALSE)*BQ37/1000)","v":""},{"$f":"IF(BO37=\"\",\"\",VLOOKUP(BO37,'aktuelle Düngerliste'!$A:$H,7,FALSE)*BQ37/1000)","v":""},null,null,null,"","",{"$f":"IF(CC37=\"\",\"\",VLOOKUP(CC37,'aktuelle Düngerliste'!$A:$H,2,FALSE))","v":""},{"$f":"IF(CC37=\"\",\"\",VLOOKUP(CC37,'aktuelle Düngerliste'!$A:$H,3,FALSE))","v":""},{"$f":"IF(CC37=\"\",\"\",VLOOKUP(CC37,'aktuelle Düngerliste'!$A:$H,8,FALSE))","v":""},{"$f":"IF(CC37=\"\",\"\",VLOOKUP(CC37,'aktuelle Düngerliste'!$A:$H,3,FALSE)*CE37/1000)","v":""},{"$f":"IF(CC37=\"\",\"\",IF(VLOOKUP(CC37,'aktuelle Düngerliste'!$A:$B,2,FALSE)=\"mineralisch\",(VLOOKUP(CC37,'aktuelle Düngerliste'!$A:$H,3,FALSE)*CE37/1000),\"\"))","v":""},{"$f":"IF(CC37=\"\",\"\",VLOOKUP(CC37,'aktuelle Düngerliste'!$A:$J,10,FALSE)*CE37/1000)","v":""},{"$f":"IF(CC37=\"\",\"\",VLOOKUP(CC37,'aktuelle Düngerliste'!$A:$H,5,FALSE)*CE37/1000)","v":""},{"$f":"IF(CC37=\"\",\"\",VLOOKUP(CC37,'aktuelle Düngerliste'!$A:$H,6,FALSE)*CE37/1000)","v":""},{"$f":"IF(CC37=\"\",\"\",VLOOKUP(CC37,'aktuelle Düngerliste'!$A:$H,7,FALSE)*CE37/1000)","v":""},null,null,null,"","",{"$f":"IF(CQ37=\"\",\"\",VLOOKUP(CQ37,'aktuelle Düngerliste'!$A:$H,2,FALSE))","v":""},{"$f":"IF(CQ37=\"\",\"\",VLOOKUP(CQ37,'aktuelle Düngerliste'!$A:$H,3,FALSE))","v":""},{"$f":"IF(CQ37=\"\",\"\",VLOOKUP(CQ37,'aktuelle Düngerliste'!$A:$H,8,FALSE))","v":""},{"$f":"IF(CQ37=\"\",\"\",VLOOKUP(CQ37,'aktuelle Düngerliste'!$A:$H,3,FALSE)*CS37/1000)","v":""},{"$f":"IF(CQ37=\"\",\"\",IF(VLOOKUP(CQ37,'aktuelle Düngerliste'!$A:$B,2,FALSE)=\"mineralisch\",(VLOOKUP(CQ37,'aktuelle Düngerliste'!$A:$H,3,FALSE)*CS37/1000),\"\"))","v":""},{"$f":"IF(CQ37=\"\",\"\",VLOOKUP(CQ37,'aktuelle Düngerliste'!$A:$J,10,FALSE)*CS37/1000)","v":""},{"$f":"IF(CQ37=\"\",\"\",VLOOKUP(CQ37,'aktuelle Düngerliste'!$A:$H,5,FALSE)*CS37/1000)","v":""},{"$f":"IF(CQ37=\"\",\"\",VLOOKUP(CQ37,'aktuelle Düngerliste'!$A:$H,6,FALSE)*CS37/1000)","v":""},{"$f":"IF(CQ37=\"\",\"\",VLOOKUP(CQ37,'aktuelle Düngerliste'!$A:$H,7,FALSE)*CS37/1000)","v":""},null,null,null,"","",{"$f":"IF(DE37=\"\",\"\",VLOOKUP(DE37,'aktuelle Düngerliste'!$A:$H,2,FALSE))","v":""},{"$f":"IF(DE37=\"\",\"\",VLOOKUP(DE37,'aktuelle Düngerliste'!$A:$H,3,FALSE))","v":""},{"$f":"IF(DE37=\"\",\"\",VLOOKUP(DE37,'aktuelle Düngerliste'!$A:$H,8,FALSE))","v":""},{"$f":"IF(DE37=\"\",\"\",VLOOKUP(DE37,'aktuelle Düngerliste'!$A:$H,3,FALSE)*DG37/1000)","v":""},{"$f":"IF(DE37=\"\",\"\",IF(VLOOKUP(DE37,'aktuelle Düngerliste'!$A:$B,2,FALSE)=\"mineralisch\",(VLOOKUP(DE37,'aktuelle Düngerliste'!$A:$H,3,FALSE)*DG37/1000),\"\"))","v":""},{"$f":"IF(DE37=\"\",\"\",VLOOKUP(DE37,'aktuelle Düngerliste'!$A:$J,10,FALSE)*DG37/1000)","v":""},{"$f":"IF(DE37=\"\",\"\",VLOOKUP(DE37,'aktuelle Düngerliste'!$A:$H,5,FALSE)*DG37/1000)","v":""},{"$f":"IF(DE37=\"\",\"\",VLOOKUP(DE37,'aktuelle Düngerliste'!$A:$H,6,FALSE)*DG37/1000)","v":""},{"$f":"IF(DE37=\"\",\"\",VLOOKUP(DE37,'aktuelle Düngerliste'!$A:$H,7,FALSE)*DG37/1000)","v":""}]
[{"$f":"IF('N-DBE'!A38=\"\",\"\",'N-DBE'!A38)","v":""},{"$f":"IF('N-DBE'!B38=\"\",\"\",'N-DBE'!B38)","v":""},{"$f":"IF('N-DBE'!C38=\"\",\"\",'N-DBE'!C38)","v":""},{"$f":"IF('N-DBE'!D38=\"\",\"\",'N-DBE'!D38)","v":""},{"$f":"IF('N-DBE'!E38=\"\",\"\",'N-DBE'!E38)","v":""},{"$f":"IF('N-DBE'!F38=\"\",\"\",'N-DBE'!F38)","v":""},{"$f":"IF('N-DBE'!G38=\"\",\"\",'N-DBE'!G38)","v":""},{"$f":"IF(OR(B38=\"\",'N-DBE'!AJ38=\"\"),\"\",'N-DBE'!AJ38+'N-DBE'!AN38)","v":""},{"$f":"IF(OR(B38=\"\",'N-DBE'!AJ38=\"\"),\"\",'N-DBE'!E38*('N-DBE'!AJ38+'N-DBE'!AN38))","v":""},{"$f":"IF('N-DBE'!AK38=\"\",\"\",IF('N-DBE'!AM38=\"ja\",'N-DBE'!AK38+'N-DBE'!AN38,'N-DBE'!AK38))","v":""},{"$f":"IF(OR(B38=\"\",'N-DBE'!AK38=\"\"),\"\",IF('N-DBE'!AM38=\"ja\",'N-DBE'!E38*('N-DBE'!AK38+'N-DBE'!AN38),'N-DBE'!E38*'N-DBE'!AK38))","v":""},{"$f":"IF(OR(B38=\"\",'N-DBE'!AL38=\"\"),\"\",'N-DBE'!AL38+'N-DBE'!AN38)","v":""},{"$f":"IF(OR(B38=\"\",'N-DBE'!AL38=\"\"),\"\",'N-DBE'!E38*('N-DBE'!AL38+'N-DBE'!AN38))","v":""},{"$f":"IF(AND('N-DBE'!C38=\"ja\",G38<>\"\"),I38-X38,\"\")","v":""},{"$f":"IF('N-DBE'!AJ38=\"\",\"\",SUM(AU38,BI38,BW38,CK38,CY38,DM38))","v":""},{"$f":"IF(OR(B38=\"\",'N-DBE'!AJ38=\"\"),\"\",O38*'N-DBE'!E38)","v":""},{"$f":"IF('N-DBE'!AJ38=\"\",\"\",IF(AR38=\"mineralisch\",AU38,0)+IF(BF38=\"mineralisch\",BI38,0)+IF(BT38=\"mineralisch\",BW38,0)+IF(CH38=\"mineralisch\",CK38,0)+IF(CV38=\"mineralisch\",CY38,0)+IF(DJ38=\"mineralisch\",DM38,0))","v":""},{"$f":"IF(OR(B38=\"\",'N-DBE'!AJ38=\"\"),\"\",Q38*'N-DBE'!E38)","v":""},{"$f":"IF('N-DBE'!AJ38=\"\",\"\",O38-Q38)","v":""},{"$f":"IF(OR(B38=\"\",'N-DBE'!AJ38=\"\"),\"\",S38*'N-DBE'!E38)","v":""},{"$f":"IF('N-DBE'!AJ38=\"\",\"\",(IF(AR38=\"Kompost\",AU38,0)+IF(BF38=\"Kompost\",BI38,0)+IF(BT38=\"Kompost\",BW38,0)+IF(CH38=\"Kompost\",CK38,0)+IF(CV38=\"Kompost\",CY38,0)+IF(DJ38=\"Kompost\",DM38,0)))","v":""},{"$f":"IF(OR(B38=\"\",'N-DBE'!AJ38=\"\"),\"\",U38*'N-DBE'!E38)","v":""},{"$f":"IF('N-DBE'!AJ38=\"\",\"\",SUM(AW38,BK38,BY38,CM38,DA38,DO38))","v":""},{"$f":"IF(OR(B38=\"\",'N-DBE'!AJ38=\"\"),\"\",W38*'N-DBE'!E38)","v":""},{"$f":"IF('P-(K-Mg)-DBE'!N38=\"\",\"\",'P-(K-Mg)-DBE'!N38+'P-(K-Mg)-DBE'!R38)","v":""},{"$f":"IF(OR(B38=\"\",'P-(K-Mg)-DBE'!N38=\"\"),\"\",'N-DBE'!E38*('P-(K-Mg)-DBE'!N38+'P-(K-Mg)-DBE'!R38))","v":""},{"$f":"IF('P-(K-Mg)-DBE'!N38=\"\",\"\",SUM(AX38,BL38,BZ38,CN38,DB38,DP38))","v":""},{"$f":"IF(OR(B38=\"\",'P-(K-Mg)-DBE'!Z38=\"\"),\"\",SUM(AX38,BL38,BZ38,CN38,DB38,DP38)*'N-DBE'!E38)","v":""},{"$f":"IF('P-(K-Mg)-DBE'!O38=\"\",\"\",'P-(K-Mg)-DBE'!O38)","v":""},{"$f":"IF(OR(B38=\"\",'P-(K-Mg)-DBE'!O38=\"\"),\"\",'P-(K-Mg)-DBE'!O38*'N-DBE'!E38)","v":""},{"$f":"IF('P-(K-Mg)-DBE'!Z38=\"\",\"\",'P-(K-Mg)-DBE'!Z38)","v":""},{"$f":"IF(OR(B38=\"\",'P-(K-Mg)-DBE'!Z38=\"\"),\"\",'P-(K-Mg)-DBE'!Z38*'N-DBE'!E38)","v":""},{"$f":"IF('P-(K-Mg)-DBE'!Z38=\"\",\"\",SUM(AY38,BM38,CA38,CO38,DC38,DQ38))","v":""},{"$f":"IF(OR(B38=\"\",'P-(K-Mg)-DBE'!AH38=\"\"),\"\",SUM(AY38,BM38,CA38,CO38,DC38,DQ28)*'N-DBE'!E38)","v":""},{"$f":"IF('P-(K-Mg)-DBE'!AH38=\"\",\"\",'P-(K-Mg)-DBE'!AH38)","v":""},{"$f":"IF(OR(B38=\"\",'P-(K-Mg)-DBE'!AH38=\"\"),\"\",'N-DBE'!E38*'P-(K-Mg)-DBE'!AH38)","v":""},{"$f":"IF('P-(K-Mg)-DBE'!AH38=\"\",\"\",SUM(AZ38,BN38,CB38,CP38,DD38,DR38))","v":""},{"$f":"IF('P-(K-Mg)-DBE'!AH38=\"\",\"\",SUM(AZ38,BN38,CB38,CP38,DD38,DR38))","v":""},null,null,null,"","",{"$f":"IF(AM38=\"\",\"\",VLOOKUP(AM38,'aktuelle Düngerliste'!A:H,2,FALSE))","v":""},{"$f":"IF(AM38=\"\",\"\",VLOOKUP(AM38,'aktuelle Düngerliste'!A:H,3,FALSE))","v":""},{"$f":"IF(AM38=\"\",\"\",VLOOKUP(AM38,'aktuelle Düngerliste'!A:H,8,FALSE))","v":""},{"$f":"IF(AM38=\"\",\"\",VLOOKUP(AM38,'aktuelle Düngerliste'!$A:$H,3,FALSE)*AO38/1000)","v":""},{"$f":"IF(AM38=\"\",\"\",IF(VLOOKUP(AM38,'aktuelle Düngerliste'!$A:$B,2,FALSE)=\"mineralisch\",(VLOOKUP(AM38,'aktuelle Düngerliste'!$A:$H,3,FALSE)*AO38/1000),\"\"))","v":""},{"$f":"IF(AM38=\"\",\"\",VLOOKUP(AM38,'aktuelle Düngerliste'!$A:$J,10,FALSE)*AO38/1000)","v":""},{"$f":"IF(AM38=\"\",\"\",VLOOKUP(AM38,'aktuelle Düngerliste'!$A:$H,5,FALSE)*AO38/1000)","v":""},{"$f":"IF(AM38=\"\",\"\",VLOOKUP(AM38,'aktuelle Düngerliste'!$A:$H,6,FALSE)*AO38/1000)","v":""},{"$f":"IF(AM38=\"\",\"\",VLOOKUP(AM38,'aktuelle Düngerliste'!$A:$H,7,FALSE)*AO38/1000)","v":""},null,null,null,"","",{"$f":"IF(BA38=\"\",\"\",VLOOKUP(BA38,'aktuelle Düngerliste'!$A:$H,2,FALSE))","v":""},{"$f":"IF(BA38=\"\",\"\",VLOOKUP(BA38,'aktuelle Düngerliste'!$A:$H,3,FALSE))","v":""},{"$f":"IF(BA38=\"\",\"\",VLOOKUP(BA38,'aktuelle Düngerliste'!$A:$H,8,FALSE))","v":""},{"$f":"IF(BA38=\"\",\"\",VLOOKUP(BA38,'aktuelle Düngerliste'!$A:$H,3,FALSE)*BC38/1000)","v":""},{"$f":"IF(BA38=\"\",\"\",IF(VLOOKUP(BA38,'aktuelle Düngerliste'!$A:$B,2,FALSE)=\"mineralisch\",(VLOOKUP(BA38,'aktuelle Düngerliste'!$A:$H,3,FALSE)*BC38/1000),\"\"))","v":""},{"$f":"IF(BA38=\"\",\"\",VLOOKUP(BA38,'aktuelle Düngerliste'!$A:$J,10,FALSE)*BC38/1000)","v":""},{"$f":"IF(BA38=\"\",\"\",VLOOKUP(BA38,'aktuelle Düngerliste'!$A:$H,5,FALSE)*BC38/1000)","v":""},{"$f":"IF(BA38=\"\",\"\",VLOOKUP(BA38,'aktuelle Düngerliste'!$A:$H,6,FALSE)*BC38/1000)","v":""},{"$f":"IF(BA38=\"\",\"\",VLOOKUP(BA38,'aktuelle Düngerliste'!$A:$H,7,FALSE)*BC38/1000)","v":""},null,null,null,"","",{"$f":"IF(BO38=\"\",\"\",VLOOKUP(BO38,'aktuelle Düngerliste'!$A:$H,2,FALSE))","v":""},{"$f":"IF(BO38=\"\",\"\",VLOOKUP(BO38,'aktuelle Düngerliste'!$A:$H,3,FALSE))","v":""},{"$f":"IF(BO38=\"\",\"\",VLOOKUP(BO38,'aktuelle Düngerliste'!$A:$H,8,FALSE))","v":""},{"$f":"IF(BO38=\"\",\"\",VLOOKUP(BO38,'aktuelle Düngerliste'!$A:$H,3,FALSE)*BQ38/1000)","v":""},{"$f":"IF(BO38=\"\",\"\",IF(VLOOKUP(BO38,'aktuelle Düngerliste'!$A:$B,2,FALSE)=\"mineralisch\",(VLOOKUP(BO38,'aktuelle Düngerliste'!$A:$H,3,FALSE)*BQ38/1000),\"\"))","v":""},{"$f":"IF(BO38=\"\",\"\",VLOOKUP(BO38,'aktuelle Düngerliste'!$A:$J,10,FALSE)*BQ38/1000)","v":""},{"$f":"IF(BO38=\"\",\"\",VLOOKUP(BO38,'aktuelle Düngerliste'!$A:$H,5,FALSE)*BQ38/1000)","v":""},{"$f":"IF(BO38=\"\",\"\",VLOOKUP(BO38,'aktuelle Düngerliste'!$A:$H,6,FALSE)*BQ38/1000)","v":""},{"$f":"IF(BO38=\"\",\"\",VLOOKUP(BO38,'aktuelle Düngerliste'!$A:$H,7,FALSE)*BQ38/1000)","v":""},null,null,null,"","",{"$f":"IF(CC38=\"\",\"\",VLOOKUP(CC38,'aktuelle Düngerliste'!$A:$H,2,FALSE))","v":""},{"$f":"IF(CC38=\"\",\"\",VLOOKUP(CC38,'aktuelle Düngerliste'!$A:$H,3,FALSE))","v":""},{"$f":"IF(CC38=\"\",\"\",VLOOKUP(CC38,'aktuelle Düngerliste'!$A:$H,8,FALSE))","v":""},{"$f":"IF(CC38=\"\",\"\",VLOOKUP(CC38,'aktuelle Düngerliste'!$A:$H,3,FALSE)*CE38/1000)","v":""},{"$f":"IF(CC38=\"\",\"\",IF(VLOOKUP(CC38,'aktuelle Düngerliste'!$A:$B,2,FALSE)=\"mineralisch\",(VLOOKUP(CC38,'aktuelle Düngerliste'!$A:$H,3,FALSE)*CE38/1000),\"\"))","v":""},{"$f":"IF(CC38=\"\",\"\",VLOOKUP(CC38,'aktuelle Düngerliste'!$A:$J,10,FALSE)*CE38/1000)","v":""},{"$f":"IF(CC38=\"\",\"\",VLOOKUP(CC38,'aktuelle Düngerliste'!$A:$H,5,FALSE)*CE38/1000)","v":""},{"$f":"IF(CC38=\"\",\"\",VLOOKUP(CC38,'aktuelle Düngerliste'!$A:$H,6,FALSE)*CE38/1000)","v":""},{"$f":"IF(CC38=\"\",\"\",VLOOKUP(CC38,'aktuelle Düngerliste'!$A:$H,7,FALSE)*CE38/1000)","v":""},null,null,null,"","",{"$f":"IF(CQ38=\"\",\"\",VLOOKUP(CQ38,'aktuelle Düngerliste'!$A:$H,2,FALSE))","v":""},{"$f":"IF(CQ38=\"\",\"\",VLOOKUP(CQ38,'aktuelle Düngerliste'!$A:$H,3,FALSE))","v":""},{"$f":"IF(CQ38=\"\",\"\",VLOOKUP(CQ38,'aktuelle Düngerliste'!$A:$H,8,FALSE))","v":""},{"$f":"IF(CQ38=\"\",\"\",VLOOKUP(CQ38,'aktuelle Düngerliste'!$A:$H,3,FALSE)*CS38/1000)","v":""},{"$f":"IF(CQ38=\"\",\"\",IF(VLOOKUP(CQ38,'aktuelle Düngerliste'!$A:$B,2,FALSE)=\"mineralisch\",(VLOOKUP(CQ38,'aktuelle Düngerliste'!$A:$H,3,FALSE)*CS38/1000),\"\"))","v":""},{"$f":"IF(CQ38=\"\",\"\",VLOOKUP(CQ38,'aktuelle Düngerliste'!$A:$J,10,FALSE)*CS38/1000)","v":""},{"$f":"IF(CQ38=\"\",\"\",VLOOKUP(CQ38,'aktuelle Düngerliste'!$A:$H,5,FALSE)*CS38/1000)","v":""},{"$f":"IF(CQ38=\"\",\"\",VLOOKUP(CQ38,'aktuelle Düngerliste'!$A:$H,6,FALSE)*CS38/1000)","v":""},{"$f":"IF(CQ38=\"\",\"\",VLOOKUP(CQ38,'aktuelle Düngerliste'!$A:$H,7,FALSE)*CS38/1000)","v":""},null,null,null,"","",{"$f":"IF(DE38=\"\",\"\",VLOOKUP(DE38,'aktuelle Düngerliste'!$A:$H,2,FALSE))","v":""},{"$f":"IF(DE38=\"\",\"\",VLOOKUP(DE38,'aktuelle Düngerliste'!$A:$H,3,FALSE))","v":""},{"$f":"IF(DE38=\"\",\"\",VLOOKUP(DE38,'aktuelle Düngerliste'!$A:$H,8,FALSE))","v":""},{"$f":"IF(DE38=\"\",\"\",VLOOKUP(DE38,'aktuelle Düngerliste'!$A:$H,3,FALSE)*DG38/1000)","v":""},{"$f":"IF(DE38=\"\",\"\",IF(VLOOKUP(DE38,'aktuelle Düngerliste'!$A:$B,2,FALSE)=\"mineralisch\",(VLOOKUP(DE38,'aktuelle Düngerliste'!$A:$H,3,FALSE)*DG38/1000),\"\"))","v":""},{"$f":"IF(DE38=\"\",\"\",VLOOKUP(DE38,'aktuelle Düngerliste'!$A:$J,10,FALSE)*DG38/1000)","v":""},{"$f":"IF(DE38=\"\",\"\",VLOOKUP(DE38,'aktuelle Düngerliste'!$A:$H,5,FALSE)*DG38/1000)","v":""},{"$f":"IF(DE38=\"\",\"\",VLOOKUP(DE38,'aktuelle Düngerliste'!$A:$H,6,FALSE)*DG38/1000)","v":""},{"$f":"IF(DE38=\"\",\"\",VLOOKUP(DE38,'aktuelle Düngerliste'!$A:$H,7,FALSE)*DG38/1000)","v":""}]
[{"$f":"IF('N-DBE'!A39=\"\",\"\",'N-DBE'!A39)","v":""},{"$f":"IF('N-DBE'!B39=\"\",\"\",'N-DBE'!B39)","v":""},{"$f":"IF('N-DBE'!C39=\"\",\"\",'N-DBE'!C39)","v":""},{"$f":"IF('N-DBE'!D39=\"\",\"\",'N-DBE'!D39)","v":""},{"$f":"IF('N-DBE'!E39=\"\",\"\",'N-DBE'!E39)","v":""},{"$f":"IF('N-DBE'!F39=\"\",\"\",'N-DBE'!F39)","v":""},{"$f":"IF('N-DBE'!G39=\"\",\"\",'N-DBE'!G39)","v":""},{"$f":"IF(OR(B39=\"\",'N-DBE'!AJ39=\"\"),\"\",'N-DBE'!AJ39+'N-DBE'!AN39)","v":""},{"$f":"IF(OR(B39=\"\",'N-DBE'!AJ39=\"\"),\"\",'N-DBE'!E39*('N-DBE'!AJ39+'N-DBE'!AN39))","v":""},{"$f":"IF('N-DBE'!AK39=\"\",\"\",IF('N-DBE'!AM39=\"ja\",'N-DBE'!AK39+'N-DBE'!AN39,'N-DBE'!AK39))","v":""},{"$f":"IF(OR(B39=\"\",'N-DBE'!AK39=\"\"),\"\",IF('N-DBE'!AM39=\"ja\",'N-DBE'!E39*('N-DBE'!AK39+'N-DBE'!AN39),'N-DBE'!E39*'N-DBE'!AK39))","v":""},{"$f":"IF(OR(B39=\"\",'N-DBE'!AL39=\"\"),\"\",'N-DBE'!AL39+'N-DBE'!AN39)","v":""},{"$f":"IF(OR(B39=\"\",'N-DBE'!AL39=\"\"),\"\",'N-DBE'!E39*('N-DBE'!AL39+'N-DBE'!AN39))","v":""},{"$f":"IF(AND('N-DBE'!C39=\"ja\",G39<>\"\"),I39-X39,\"\")","v":""},{"$f":"IF('N-DBE'!AJ39=\"\",\"\",SUM(AU39,BI39,BW39,CK39,CY39,DM39))","v":""},{"$f":"IF(OR(B39=\"\",'N-DBE'!AJ39=\"\"),\"\",O39*'N-DBE'!E39)","v":""},{"$f":"IF('N-DBE'!AJ39=\"\",\"\",IF(AR39=\"mineralisch\",AU39,0)+IF(BF39=\"mineralisch\",BI39,0)+IF(BT39=\"mineralisch\",BW39,0)+IF(CH39=\"mineralisch\",CK39,0)+IF(CV39=\"mineralisch\",CY39,0)+IF(DJ39=\"mineralisch\",DM39,0))","v":""},{"$f":"IF(OR(B39=\"\",'N-DBE'!AJ39=\"\"),\"\",Q39*'N-DBE'!E39)","v":""},{"$f":"IF('N-DBE'!AJ39=\"\",\"\",O39-Q39)","v":""},{"$f":"IF(OR(B39=\"\",'N-DBE'!AJ39=\"\"),\"\",S39*'N-DBE'!E39)","v":""},{"$f":"IF('N-DBE'!AJ39=\"\",\"\",(IF(AR39=\"Kompost\",AU39,0)+IF(BF39=\"Kompost\",BI39,0)+IF(BT39=\"Kompost\",BW39,0)+IF(CH39=\"Kompost\",CK39,0)+IF(CV39=\"Kompost\",CY39,0)+IF(DJ39=\"Kompost\",DM39,0)))","v":""},{"$f":"IF(OR(B39=\"\",'N-DBE'!AJ39=\"\"),\"\",U39*'N-DBE'!E39)","v":""},{"$f":"IF('N-DBE'!AJ39=\"\",\"\",SUM(AW39,BK39,BY39,CM39,DA39,DO39))","v":""},{"$f":"IF(OR(B39=\"\",'N-DBE'!AJ39=\"\"),\"\",W39*'N-DBE'!E39)","v":""},{"$f":"IF('P-(K-Mg)-DBE'!N39=\"\",\"\",'P-(K-Mg)-DBE'!N39+'P-(K-Mg)-DBE'!R39)","v":""},{"$f":"IF(OR(B39=\"\",'P-(K-Mg)-DBE'!N39=\"\"),\"\",'N-DBE'!E39*('P-(K-Mg)-DBE'!N39+'P-(K-Mg)-DBE'!R39))","v":""},{"$f":"IF('P-(K-Mg)-DBE'!N39=\"\",\"\",SUM(AX39,BL39,BZ39,CN39,DB39,DP39))","v":""},{"$f":"IF(OR(B39=\"\",'P-(K-Mg)-DBE'!Z39=\"\"),\"\",SUM(AX39,BL39,BZ39,CN39,DB39,DP39)*'N-DBE'!E39)","v":""},{"$f":"IF('P-(K-Mg)-DBE'!O39=\"\",\"\",'P-(K-Mg)-DBE'!O39)","v":""},{"$f":"IF(OR(B39=\"\",'P-(K-Mg)-DBE'!O39=\"\"),\"\",'P-(K-Mg)-DBE'!O39*'N-DBE'!E39)","v":""},{"$f":"IF('P-(K-Mg)-DBE'!Z39=\"\",\"\",'P-(K-Mg)-DBE'!Z39)","v":""},{"$f":"IF(OR(B39=\"\",'P-(K-Mg)-DBE'!Z39=\"\"),\"\",'P-(K-Mg)-DBE'!Z39*'N-DBE'!E39)","v":""},{"$f":"IF('P-(K-Mg)-DBE'!Z39=\"\",\"\",SUM(AY39,BM39,CA39,CO39,DC39,DQ39))","v":""},{"$f":"IF(OR(B39=\"\",'P-(K-Mg)-DBE'!AH39=\"\"),\"\",SUM(AY39,BM39,CA39,CO39,DC39,DQ29)*'N-DBE'!E39)","v":""},{"$f":"IF('P-(K-Mg)-DBE'!AH39=\"\",\"\",'P-(K-Mg)-DBE'!AH39)","v":""},{"$f":"IF(OR(B39=\"\",'P-(K-Mg)-DBE'!AH39=\"\"),\"\",'N-DBE'!E39*'P-(K-Mg)-DBE'!AH39)","v":""},{"$f":"IF('P-(K-Mg)-DBE'!AH39=\"\",\"\",SUM(AZ39,BN39,CB39,CP39,DD39,DR39))","v":""},{"$f":"IF('P-(K-Mg)-DBE'!AH39=\"\",\"\",SUM(AZ39,BN39,CB39,CP39,DD39,DR39))","v":""},null,null,null,"","",{"$f":"IF(AM39=\"\",\"\",VLOOKUP(AM39,'aktuelle Düngerliste'!A:H,2,FALSE))","v":""},{"$f":"IF(AM39=\"\",\"\",VLOOKUP(AM39,'aktuelle Düngerliste'!A:H,3,FALSE))","v":""},{"$f":"IF(AM39=\"\",\"\",VLOOKUP(AM39,'aktuelle Düngerliste'!A:H,8,FALSE))","v":""},{"$f":"IF(AM39=\"\",\"\",VLOOKUP(AM39,'aktuelle Düngerliste'!$A:$H,3,FALSE)*AO39/1000)","v":""},{"$f":"IF(AM39=\"\",\"\",IF(VLOOKUP(AM39,'aktuelle Düngerliste'!$A:$B,2,FALSE)=\"mineralisch\",(VLOOKUP(AM39,'aktuelle Düngerliste'!$A:$H,3,FALSE)*AO39/1000),\"\"))","v":""},{"$f":"IF(AM39=\"\",\"\",VLOOKUP(AM39,'aktuelle Düngerliste'!$A:$J,10,FALSE)*AO39/1000)","v":""},{"$f":"IF(AM39=\"\",\"\",VLOOKUP(AM39,'aktuelle Düngerliste'!$A:$H,5,FALSE)*AO39/1000)","v":""},{"$f":"IF(AM39=\"\",\"\",VLOOKUP(AM39,'aktuelle Düngerliste'!$A:$H,6,FALSE)*AO39/1000)","v":""},{"$f":"IF(AM39=\"\",\"\",VLOOKUP(AM39,'aktuelle Düngerliste'!$A:$H,7,FALSE)*AO39/1000)","v":""},null,null,null,"","",{"$f":"IF(BA39=\"\",\"\",VLOOKUP(BA39,'aktuelle Düngerliste'!$A:$H,2,FALSE))","v":""},{"$f":"IF(BA39=\"\",\"\",VLOOKUP(BA39,'aktuelle Düngerliste'!$A:$H,3,FALSE))","v":""},{"$f":"IF(BA39=\"\",\"\",VLOOKUP(BA39,'aktuelle Düngerliste'!$A:$H,8,FALSE))","v":""},{"$f":"IF(BA39=\"\",\"\",VLOOKUP(BA39,'aktuelle Düngerliste'!$A:$H,3,FALSE)*BC39/1000)","v":""},{"$f":"IF(BA39=\"\",\"\",IF(VLOOKUP(BA39,'aktuelle Düngerliste'!$A:$B,2,FALSE)=\"mineralisch\",(VLOOKUP(BA39,'aktuelle Düngerliste'!$A:$H,3,FALSE)*BC39/1000),\"\"))","v":""},{"$f":"IF(BA39=\"\",\"\",VLOOKUP(BA39,'aktuelle Düngerliste'!$A:$J,10,FALSE)*BC39/1000)","v":""},{"$f":"IF(BA39=\"\",\"\",VLOOKUP(BA39,'aktuelle Düngerliste'!$A:$H,5,FALSE)*BC39/1000)","v":""},{"$f":"IF(BA39=\"\",\"\",VLOOKUP(BA39,'aktuelle Düngerliste'!$A:$H,6,FALSE)*BC39/1000)","v":""},{"$f":"IF(BA39=\"\",\"\",VLOOKUP(BA39,'aktuelle Düngerliste'!$A:$H,7,FALSE)*BC39/1000)","v":""},null,null,null,"","",{"$f":"IF(BO39=\"\",\"\",VLOOKUP(BO39,'aktuelle Düngerliste'!$A:$H,2,FALSE))","v":""},{"$f":"IF(BO39=\"\",\"\",VLOOKUP(BO39,'aktuelle Düngerliste'!$A:$H,3,FALSE))","v":""},{"$f":"IF(BO39=\"\",\"\",VLOOKUP(BO39,'aktuelle Düngerliste'!$A:$H,8,FALSE))","v":""},{"$f":"IF(BO39=\"\",\"\",VLOOKUP(BO39,'aktuelle Düngerliste'!$A:$H,3,FALSE)*BQ39/1000)","v":""},{"$f":"IF(BO39=\"\",\"\",IF(VLOOKUP(BO39,'aktuelle Düngerliste'!$A:$B,2,FALSE)=\"mineralisch\",(VLOOKUP(BO39,'aktuelle Düngerliste'!$A:$H,3,FALSE)*BQ39/1000),\"\"))","v":""},{"$f":"IF(BO39=\"\",\"\",VLOOKUP(BO39,'aktuelle Düngerliste'!$A:$J,10,FALSE)*BQ39/1000)","v":""},{"$f":"IF(BO39=\"\",\"\",VLOOKUP(BO39,'aktuelle Düngerliste'!$A:$H,5,FALSE)*BQ39/1000)","v":""},{"$f":"IF(BO39=\"\",\"\",VLOOKUP(BO39,'aktuelle Düngerliste'!$A:$H,6,FALSE)*BQ39/1000)","v":""},{"$f":"IF(BO39=\"\",\"\",VLOOKUP(BO39,'aktuelle Düngerliste'!$A:$H,7,FALSE)*BQ39/1000)","v":""},null,null,null,"","",{"$f":"IF(CC39=\"\",\"\",VLOOKUP(CC39,'aktuelle Düngerliste'!$A:$H,2,FALSE))","v":""},{"$f":"IF(CC39=\"\",\"\",VLOOKUP(CC39,'aktuelle Düngerliste'!$A:$H,3,FALSE))","v":""},{"$f":"IF(CC39=\"\",\"\",VLOOKUP(CC39,'aktuelle Düngerliste'!$A:$H,8,FALSE))","v":""},{"$f":"IF(CC39=\"\",\"\",VLOOKUP(CC39,'aktuelle Düngerliste'!$A:$H,3,FALSE)*CE39/1000)","v":""},{"$f":"IF(CC39=\"\",\"\",IF(VLOOKUP(CC39,'aktuelle Düngerliste'!$A:$B,2,FALSE)=\"mineralisch\",(VLOOKUP(CC39,'aktuelle Düngerliste'!$A:$H,3,FALSE)*CE39/1000),\"\"))","v":""},{"$f":"IF(CC39=\"\",\"\",VLOOKUP(CC39,'aktuelle Düngerliste'!$A:$J,10,FALSE)*CE39/1000)","v":""},{"$f":"IF(CC39=\"\",\"\",VLOOKUP(CC39,'aktuelle Düngerliste'!$A:$H,5,FALSE)*CE39/1000)","v":""},{"$f":"IF(CC39=\"\",\"\",VLOOKUP(CC39,'aktuelle Düngerliste'!$A:$H,6,FALSE)*CE39/1000)","v":""},{"$f":"IF(CC39=\"\",\"\",VLOOKUP(CC39,'aktuelle Düngerliste'!$A:$H,7,FALSE)*CE39/1000)","v":""},null,null,null,"","",{"$f":"IF(CQ39=\"\",\"\",VLOOKUP(CQ39,'aktuelle Düngerliste'!$A:$H,2,FALSE))","v":""},{"$f":"IF(CQ39=\"\",\"\",VLOOKUP(CQ39,'aktuelle Düngerliste'!$A:$H,3,FALSE))","v":""},{"$f":"IF(CQ39=\"\",\"\",VLOOKUP(CQ39,'aktuelle Düngerliste'!$A:$H,8,FALSE))","v":""},{"$f":"IF(CQ39=\"\",\"\",VLOOKUP(CQ39,'aktuelle Düngerliste'!$A:$H,3,FALSE)*CS39/1000)","v":""},{"$f":"IF(CQ39=\"\",\"\",IF(VLOOKUP(CQ39,'aktuelle Düngerliste'!$A:$B,2,FALSE)=\"mineralisch\",(VLOOKUP(CQ39,'aktuelle Düngerliste'!$A:$H,3,FALSE)*CS39/1000),\"\"))","v":""},{"$f":"IF(CQ39=\"\",\"\",VLOOKUP(CQ39,'aktuelle Düngerliste'!$A:$J,10,FALSE)*CS39/1000)","v":""},{"$f":"IF(CQ39=\"\",\"\",VLOOKUP(CQ39,'aktuelle Düngerliste'!$A:$H,5,FALSE)*CS39/1000)","v":""},{"$f":"IF(CQ39=\"\",\"\",VLOOKUP(CQ39,'aktuelle Düngerliste'!$A:$H,6,FALSE)*CS39/1000)","v":""},{"$f":"IF(CQ39=\"\",\"\",VLOOKUP(CQ39,'aktuelle Düngerliste'!$A:$H,7,FALSE)*CS39/1000)","v":""},null,null,null,"","",{"$f":"IF(DE39=\"\",\"\",VLOOKUP(DE39,'aktuelle Düngerliste'!$A:$H,2,FALSE))","v":""},{"$f":"IF(DE39=\"\",\"\",VLOOKUP(DE39,'aktuelle Düngerliste'!$A:$H,3,FALSE))","v":""},{"$f":"IF(DE39=\"\",\"\",VLOOKUP(DE39,'aktuelle Düngerliste'!$A:$H,8,FALSE))","v":""},{"$f":"IF(DE39=\"\",\"\",VLOOKUP(DE39,'aktuelle Düngerliste'!$A:$H,3,FALSE)*DG39/1000)","v":""},{"$f":"IF(DE39=\"\",\"\",IF(VLOOKUP(DE39,'aktuelle Düngerliste'!$A:$B,2,FALSE)=\"mineralisch\",(VLOOKUP(DE39,'aktuelle Düngerliste'!$A:$H,3,FALSE)*DG39/1000),\"\"))","v":""},{"$f":"IF(DE39=\"\",\"\",VLOOKUP(DE39,'aktuelle Düngerliste'!$A:$J,10,FALSE)*DG39/1000)","v":""},{"$f":"IF(DE39=\"\",\"\",VLOOKUP(DE39,'aktuelle Düngerliste'!$A:$H,5,FALSE)*DG39/1000)","v":""},{"$f":"IF(DE39=\"\",\"\",VLOOKUP(DE39,'aktuelle Düngerliste'!$A:$H,6,FALSE)*DG39/1000)","v":""},{"$f":"IF(DE39=\"\",\"\",VLOOKUP(DE39,'aktuelle Düngerliste'!$A:$H,7,FALSE)*DG39/1000)","v":""}]
[{"$f":"IF('N-DBE'!A40=\"\",\"\",'N-DBE'!A40)","v":""},{"$f":"IF('N-DBE'!B40=\"\",\"\",'N-DBE'!B40)","v":""},{"$f":"IF('N-DBE'!C40=\"\",\"\",'N-DBE'!C40)","v":""},{"$f":"IF('N-DBE'!D40=\"\",\"\",'N-DBE'!D40)","v":""},{"$f":"IF('N-DBE'!E40=\"\",\"\",'N-DBE'!E40)","v":""},{"$f":"IF('N-DBE'!F40=\"\",\"\",'N-DBE'!F40)","v":""},{"$f":"IF('N-DBE'!G40=\"\",\"\",'N-DBE'!G40)","v":""},{"$f":"IF(OR(B40=\"\",'N-DBE'!AJ40=\"\"),\"\",'N-DBE'!AJ40+'N-DBE'!AN40)","v":""},{"$f":"IF(OR(B40=\"\",'N-DBE'!AJ40=\"\"),\"\",'N-DBE'!E40*('N-DBE'!AJ40+'N-DBE'!AN40))","v":""},{"$f":"IF('N-DBE'!AK40=\"\",\"\",IF('N-DBE'!AM40=\"ja\",'N-DBE'!AK40+'N-DBE'!AN40,'N-DBE'!AK40))","v":""},{"$f":"IF(OR(B40=\"\",'N-DBE'!AK40=\"\"),\"\",IF('N-DBE'!AM40=\"ja\",'N-DBE'!E40*('N-DBE'!AK40+'N-DBE'!AN40),'N-DBE'!E40*'N-DBE'!AK40))","v":""},{"$f":"IF(OR(B40=\"\",'N-DBE'!AL40=\"\"),\"\",'N-DBE'!AL40+'N-DBE'!AN40)","v":""},{"$f":"IF(OR(B40=\"\",'N-DBE'!AL40=\"\"),\"\",'N-DBE'!E40*('N-DBE'!AL40+'N-DBE'!AN40))","v":""},{"$f":"IF(AND('N-DBE'!C40=\"ja\",G40<>\"\"),I40-X40,\"\")","v":""},{"$f":"IF('N-DBE'!AJ40=\"\",\"\",SUM(AU40,BI40,BW40,CK40,CY40,DM40))","v":""},{"$f":"IF(OR(B40=\"\",'N-DBE'!AJ40=\"\"),\"\",O40*'N-DBE'!E40)","v":""},{"$f":"IF('N-DBE'!AJ40=\"\",\"\",IF(AR40=\"mineralisch\",AU40,0)+IF(BF40=\"mineralisch\",BI40,0)+IF(BT40=\"mineralisch\",BW40,0)+IF(CH40=\"mineralisch\",CK40,0)+IF(CV40=\"mineralisch\",CY40,0)+IF(DJ40=\"mineralisch\",DM40,0))","v":""},{"$f":"IF(OR(B40=\"\",'N-DBE'!AJ40=\"\"),\"\",Q40*'N-DBE'!E40)","v":""},{"$f":"IF('N-DBE'!AJ40=\"\",\"\",O40-Q40)","v":""},{"$f":"IF(OR(B40=\"\",'N-DBE'!AJ40=\"\"),\"\",S40*'N-DBE'!E40)","v":""},{"$f":"IF('N-DBE'!AJ40=\"\",\"\",(IF(AR40=\"Kompost\",AU40,0)+IF(BF40=\"Kompost\",BI40,0)+IF(BT40=\"Kompost\",BW40,0)+IF(CH40=\"Kompost\",CK40,0)+IF(CV40=\"Kompost\",CY40,0)+IF(DJ40=\"Kompost\",DM40,0)))","v":""},{"$f":"IF(OR(B40=\"\",'N-DBE'!AJ40=\"\"),\"\",U40*'N-DBE'!E40)","v":""},{"$f":"IF('N-DBE'!AJ40=\"\",\"\",SUM(AW40,BK40,BY40,CM40,DA40,DO40))","v":""},{"$f":"IF(OR(B40=\"\",'N-DBE'!AJ40=\"\"),\"\",W40*'N-DBE'!E40)","v":""},{"$f":"IF('P-(K-Mg)-DBE'!N40=\"\",\"\",'P-(K-Mg)-DBE'!N40+'P-(K-Mg)-DBE'!R40)","v":""},{"$f":"IF(OR(B40=\"\",'P-(K-Mg)-DBE'!N40=\"\"),\"\",'N-DBE'!E40*('P-(K-Mg)-DBE'!N40+'P-(K-Mg)-DBE'!R40))","v":""},{"$f":"IF('P-(K-Mg)-DBE'!N40=\"\",\"\",SUM(AX40,BL40,BZ40,CN40,DB40,DP40))","v":""},{"$f":"IF(OR(B40=\"\",'P-(K-Mg)-DBE'!Z40=\"\"),\"\",SUM(AX40,BL40,BZ40,CN40,DB40,DP40)*'N-DBE'!E40)","v":""},{"$f":"IF('P-(K-Mg)-DBE'!O40=\"\",\"\",'P-(K-Mg)-DBE'!O40)","v":""},{"$f":"IF(OR(B40=\"\",'P-(K-Mg)-DBE'!O40=\"\"),\"\",'P-(K-Mg)-DBE'!O40*'N-DBE'!E40)","v":""},{"$f":"IF('P-(K-Mg)-DBE'!Z40=\"\",\"\",'P-(K-Mg)-DBE'!Z40)","v":""},{"$f":"IF(OR(B40=\"\",'P-(K-Mg)-DBE'!Z40=\"\"),\"\",'P-(K-Mg)-DBE'!Z40*'N-DBE'!E40)","v":""},{"$f":"IF('P-(K-Mg)-DBE'!Z40=\"\",\"\",SUM(AY40,BM40,CA40,CO40,DC40,DQ40))","v":""},{"$f":"IF(OR(B40=\"\",'P-(K-Mg)-DBE'!AH40=\"\"),\"\",SUM(AY40,BM40,CA40,CO40,DC40,DQ30)*'N-DBE'!E40)","v":""},{"$f":"IF('P-(K-Mg)-DBE'!AH40=\"\",\"\",'P-(K-Mg)-DBE'!AH40)","v":""},{"$f":"IF(OR(B40=\"\",'P-(K-Mg)-DBE'!AH40=\"\"),\"\",'N-DBE'!E40*'P-(K-Mg)-DBE'!AH40)","v":""},{"$f":"IF('P-(K-Mg)-DBE'!AH40=\"\",\"\",SUM(AZ40,BN40,CB40,CP40,DD40,DR40))","v":""},{"$f":"IF('P-(K-Mg)-DBE'!AH40=\"\",\"\",SUM(AZ40,BN40,CB40,CP40,DD40,DR40))","v":""},null,null,null,"","",{"$f":"IF(AM40=\"\",\"\",VLOOKUP(AM40,'aktuelle Düngerliste'!A:H,2,FALSE))","v":""},{"$f":"IF(AM40=\"\",\"\",VLOOKUP(AM40,'aktuelle Düngerliste'!A:H,3,FALSE))","v":""},{"$f":"IF(AM40=\"\",\"\",VLOOKUP(AM40,'aktuelle Düngerliste'!A:H,8,FALSE))","v":""},{"$f":"IF(AM40=\"\",\"\",VLOOKUP(AM40,'aktuelle Düngerliste'!$A:$H,3,FALSE)*AO40/1000)","v":""},{"$f":"IF(AM40=\"\",\"\",IF(VLOOKUP(AM40,'aktuelle Düngerliste'!$A:$B,2,FALSE)=\"mineralisch\",(VLOOKUP(AM40,'aktuelle Düngerliste'!$A:$H,3,FALSE)*AO40/1000),\"\"))","v":""},{"$f":"IF(AM40=\"\",\"\",VLOOKUP(AM40,'aktuelle Düngerliste'!$A:$J,10,FALSE)*AO40/1000)","v":""},{"$f":"IF(AM40=\"\",\"\",VLOOKUP(AM40,'aktuelle Düngerliste'!$A:$H,5,FALSE)*AO40/1000)","v":""},{"$f":"IF(AM40=\"\",\"\",VLOOKUP(AM40,'aktuelle Düngerliste'!$A:$H,6,FALSE)*AO40/1000)","v":""},{"$f":"IF(AM40=\"\",\"\",VLOOKUP(AM40,'aktuelle Düngerliste'!$A:$H,7,FALSE)*AO40/1000)","v":""},null,null,null,"","",{"$f":"IF(BA40=\"\",\"\",VLOOKUP(BA40,'aktuelle Düngerliste'!$A:$H,2,FALSE))","v":""},{"$f":"IF(BA40=\"\",\"\",VLOOKUP(BA40,'aktuelle Düngerliste'!$A:$H,3,FALSE))","v":""},{"$f":"IF(BA40=\"\",\"\",VLOOKUP(BA40,'aktuelle Düngerliste'!$A:$H,8,FALSE))","v":""},{"$f":"IF(BA40=\"\",\"\",VLOOKUP(BA40,'aktuelle Düngerliste'!$A:$H,3,FALSE)*BC40/1000)","v":""},{"$f":"IF(BA40=\"\",\"\",IF(VLOOKUP(BA40,'aktuelle Düngerliste'!$A:$B,2,FALSE)=\"mineralisch\",(VLOOKUP(BA40,'aktuelle Düngerliste'!$A:$H,3,FALSE)*BC40/1000),\"\"))","v":""},{"$f":"IF(BA40=\"\",\"\",VLOOKUP(BA40,'aktuelle Düngerliste'!$A:$J,10,FALSE)*BC40/1000)","v":""},{"$f":"IF(BA40=\"\",\"\",VLOOKUP(BA40,'aktuelle Düngerliste'!$A:$H,5,FALSE)*BC40/1000)","v":""},{"$f":"IF(BA40=\"\",\"\",VLOOKUP(BA40,'aktuelle Düngerliste'!$A:$H,6,FALSE)*BC40/1000)","v":""},{"$f":"IF(BA40=\"\",\"\",VLOOKUP(BA40,'aktuelle Düngerliste'!$A:$H,7,FALSE)*BC40/1000)","v":""},null,null,null,"","",{"$f":"IF(BO40=\"\",\"\",VLOOKUP(BO40,'aktuelle Düngerliste'!$A:$H,2,FALSE))","v":""},{"$f":"IF(BO40=\"\",\"\",VLOOKUP(BO40,'aktuelle Düngerliste'!$A:$H,3,FALSE))","v":""},{"$f":"IF(BO40=\"\",\"\",VLOOKUP(BO40,'aktuelle Düngerliste'!$A:$H,8,FALSE))","v":""},{"$f":"IF(BO40=\"\",\"\",VLOOKUP(BO40,'aktuelle Düngerliste'!$A:$H,3,FALSE)*BQ40/1000)","v":""},{"$f":"IF(BO40=\"\",\"\",IF(VLOOKUP(BO40,'aktuelle Düngerliste'!$A:$B,2,FALSE)=\"mineralisch\",(VLOOKUP(BO40,'aktuelle Düngerliste'!$A:$H,3,FALSE)*BQ40/1000),\"\"))","v":""},{"$f":"IF(BO40=\"\",\"\",VLOOKUP(BO40,'aktuelle Düngerliste'!$A:$J,10,FALSE)*BQ40/1000)","v":""},{"$f":"IF(BO40=\"\",\"\",VLOOKUP(BO40,'aktuelle Düngerliste'!$A:$H,5,FALSE)*BQ40/1000)","v":""},{"$f":"IF(BO40=\"\",\"\",VLOOKUP(BO40,'aktuelle Düngerliste'!$A:$H,6,FALSE)*BQ40/1000)","v":""},{"$f":"IF(BO40=\"\",\"\",VLOOKUP(BO40,'aktuelle Düngerliste'!$A:$H,7,FALSE)*BQ40/1000)","v":""},null,null,null,"","",{"$f":"IF(CC40=\"\",\"\",VLOOKUP(CC40,'aktuelle Düngerliste'!$A:$H,2,FALSE))","v":""},{"$f":"IF(CC40=\"\",\"\",VLOOKUP(CC40,'aktuelle Düngerliste'!$A:$H,3,FALSE))","v":""},{"$f":"IF(CC40=\"\",\"\",VLOOKUP(CC40,'aktuelle Düngerliste'!$A:$H,8,FALSE))","v":""},{"$f":"IF(CC40=\"\",\"\",VLOOKUP(CC40,'aktuelle Düngerliste'!$A:$H,3,FALSE)*CE40/1000)","v":""},{"$f":"IF(CC40=\"\",\"\",IF(VLOOKUP(CC40,'aktuelle Düngerliste'!$A:$B,2,FALSE)=\"mineralisch\",(VLOOKUP(CC40,'aktuelle Düngerliste'!$A:$H,3,FALSE)*CE40/1000),\"\"))","v":""},{"$f":"IF(CC40=\"\",\"\",VLOOKUP(CC40,'aktuelle Düngerliste'!$A:$J,10,FALSE)*CE40/1000)","v":""},{"$f":"IF(CC40=\"\",\"\",VLOOKUP(CC40,'aktuelle Düngerliste'!$A:$H,5,FALSE)*CE40/1000)","v":""},{"$f":"IF(CC40=\"\",\"\",VLOOKUP(CC40,'aktuelle Düngerliste'!$A:$H,6,FALSE)*CE40/1000)","v":""},{"$f":"IF(CC40=\"\",\"\",VLOOKUP(CC40,'aktuelle Düngerliste'!$A:$H,7,FALSE)*CE40/1000)","v":""},null,null,null,"","",{"$f":"IF(CQ40=\"\",\"\",VLOOKUP(CQ40,'aktuelle Düngerliste'!$A:$H,2,FALSE))","v":""},{"$f":"IF(CQ40=\"\",\"\",VLOOKUP(CQ40,'aktuelle Düngerliste'!$A:$H,3,FALSE))","v":""},{"$f":"IF(CQ40=\"\",\"\",VLOOKUP(CQ40,'aktuelle Düngerliste'!$A:$H,8,FALSE))","v":""},{"$f":"IF(CQ40=\"\",\"\",VLOOKUP(CQ40,'aktuelle Düngerliste'!$A:$H,3,FALSE)*CS40/1000)","v":""},{"$f":"IF(CQ40=\"\",\"\",IF(VLOOKUP(CQ40,'aktuelle Düngerliste'!$A:$B,2,FALSE)=\"mineralisch\",(VLOOKUP(CQ40,'aktuelle Düngerliste'!$A:$H,3,FALSE)*CS40/1000),\"\"))","v":""},{"$f":"IF(CQ40=\"\",\"\",VLOOKUP(CQ40,'aktuelle Düngerliste'!$A:$J,10,FALSE)*CS40/1000)","v":""},{"$f":"IF(CQ40=\"\",\"\",VLOOKUP(CQ40,'aktuelle Düngerliste'!$A:$H,5,FALSE)*CS40/1000)","v":""},{"$f":"IF(CQ40=\"\",\"\",VLOOKUP(CQ40,'aktuelle Düngerliste'!$A:$H,6,FALSE)*CS40/1000)","v":""},{"$f":"IF(CQ40=\"\",\"\",VLOOKUP(CQ40,'aktuelle Düngerliste'!$A:$H,7,FALSE)*CS40/1000)","v":""},null,null,null,"","",{"$f":"IF(DE40=\"\",\"\",VLOOKUP(DE40,'aktuelle Düngerliste'!$A:$H,2,FALSE))","v":""},{"$f":"IF(DE40=\"\",\"\",VLOOKUP(DE40,'aktuelle Düngerliste'!$A:$H,3,FALSE))","v":""},{"$f":"IF(DE40=\"\",\"\",VLOOKUP(DE40,'aktuelle Düngerliste'!$A:$H,8,FALSE))","v":""},{"$f":"IF(DE40=\"\",\"\",VLOOKUP(DE40,'aktuelle Düngerliste'!$A:$H,3,FALSE)*DG40/1000)","v":""},{"$f":"IF(DE40=\"\",\"\",IF(VLOOKUP(DE40,'aktuelle Düngerliste'!$A:$B,2,FALSE)=\"mineralisch\",(VLOOKUP(DE40,'aktuelle Düngerliste'!$A:$H,3,FALSE)*DG40/1000),\"\"))","v":""},{"$f":"IF(DE40=\"\",\"\",VLOOKUP(DE40,'aktuelle Düngerliste'!$A:$J,10,FALSE)*DG40/1000)","v":""},{"$f":"IF(DE40=\"\",\"\",VLOOKUP(DE40,'aktuelle Düngerliste'!$A:$H,5,FALSE)*DG40/1000)","v":""},{"$f":"IF(DE40=\"\",\"\",VLOOKUP(DE40,'aktuelle Düngerliste'!$A:$H,6,FALSE)*DG40/1000)","v":""},{"$f":"IF(DE40=\"\",\"\",VLOOKUP(DE40,'aktuelle Düngerliste'!$A:$H,7,FALSE)*DG40/1000)","v":""}]
[{"$f":"IF('N-DBE'!A41=\"\",\"\",'N-DBE'!A41)","v":""},{"$f":"IF('N-DBE'!B41=\"\",\"\",'N-DBE'!B41)","v":""},{"$f":"IF('N-DBE'!C41=\"\",\"\",'N-DBE'!C41)","v":""},{"$f":"IF('N-DBE'!D41=\"\",\"\",'N-DBE'!D41)","v":""},{"$f":"IF('N-DBE'!E41=\"\",\"\",'N-DBE'!E41)","v":""},{"$f":"IF('N-DBE'!F41=\"\",\"\",'N-DBE'!F41)","v":""},{"$f":"IF('N-DBE'!G41=\"\",\"\",'N-DBE'!G41)","v":""},{"$f":"IF(OR(B41=\"\",'N-DBE'!AJ41=\"\"),\"\",'N-DBE'!AJ41+'N-DBE'!AN41)","v":""},{"$f":"IF(OR(B41=\"\",'N-DBE'!AJ41=\"\"),\"\",'N-DBE'!E41*('N-DBE'!AJ41+'N-DBE'!AN41))","v":""},{"$f":"IF('N-DBE'!AK41=\"\",\"\",IF('N-DBE'!AM41=\"ja\",'N-DBE'!AK41+'N-DBE'!AN41,'N-DBE'!AK41))","v":""},{"$f":"IF(OR(B41=\"\",'N-DBE'!AK41=\"\"),\"\",IF('N-DBE'!AM41=\"ja\",'N-DBE'!E41*('N-DBE'!AK41+'N-DBE'!AN41),'N-DBE'!E41*'N-DBE'!AK41))","v":""},{"$f":"IF(OR(B41=\"\",'N-DBE'!AL41=\"\"),\"\",'N-DBE'!AL41+'N-DBE'!AN41)","v":""},{"$f":"IF(OR(B41=\"\",'N-DBE'!AL41=\"\"),\"\",'N-DBE'!E41*('N-DBE'!AL41+'N-DBE'!AN41))","v":""},{"$f":"IF(AND('N-DBE'!C41=\"ja\",G41<>\"\"),I41-X41,\"\")","v":""},{"$f":"IF('N-DBE'!AJ41=\"\",\"\",SUM(AU41,BI41,BW41,CK41,CY41,DM41))","v":""},{"$f":"IF(OR(B41=\"\",'N-DBE'!AJ41=\"\"),\"\",O41*'N-DBE'!E41)","v":""},{"$f":"IF('N-DBE'!AJ41=\"\",\"\",IF(AR41=\"mineralisch\",AU41,0)+IF(BF41=\"mineralisch\",BI41,0)+IF(BT41=\"mineralisch\",BW41,0)+IF(CH41=\"mineralisch\",CK41,0)+IF(CV41=\"mineralisch\",CY41,0)+IF(DJ41=\"mineralisch\",DM41,0))","v":""},{"$f":"IF(OR(B41=\"\",'N-DBE'!AJ41=\"\"),\"\",Q41*'N-DBE'!E41)","v":""},{"$f":"IF('N-DBE'!AJ41=\"\",\"\",O41-Q41)","v":""},{"$f":"IF(OR(B41=\"\",'N-DBE'!AJ41=\"\"),\"\",S41*'N-DBE'!E41)","v":""},{"$f":"IF('N-DBE'!AJ41=\"\",\"\",(IF(AR41=\"Kompost\",AU41,0)+IF(BF41=\"Kompost\",BI41,0)+IF(BT41=\"Kompost\",BW41,0)+IF(CH41=\"Kompost\",CK41,0)+IF(CV41=\"Kompost\",CY41,0)+IF(DJ41=\"Kompost\",DM41,0)))","v":""},{"$f":"IF(OR(B41=\"\",'N-DBE'!AJ41=\"\"),\"\",U41*'N-DBE'!E41)","v":""},{"$f":"IF('N-DBE'!AJ41=\"\",\"\",SUM(AW41,BK41,BY41,CM41,DA41,DO41))","v":""},{"$f":"IF(OR(B41=\"\",'N-DBE'!AJ41=\"\"),\"\",W41*'N-DBE'!E41)","v":""},{"$f":"IF('P-(K-Mg)-DBE'!N41=\"\",\"\",'P-(K-Mg)-DBE'!N41+'P-(K-Mg)-DBE'!R41)","v":""},{"$f":"IF(OR(B41=\"\",'P-(K-Mg)-DBE'!N41=\"\"),\"\",'N-DBE'!E41*('P-(K-Mg)-DBE'!N41+'P-(K-Mg)-DBE'!R41))","v":""},{"$f":"IF('P-(K-Mg)-DBE'!N41=\"\",\"\",SUM(AX41,BL41,BZ41,CN41,DB41,DP41))","v":""},{"$f":"IF(OR(B41=\"\",'P-(K-Mg)-DBE'!Z41=\"\"),\"\",SUM(AX41,BL41,BZ41,CN41,DB41,DP41)*'N-DBE'!E41)","v":""},{"$f":"IF('P-(K-Mg)-DBE'!O41=\"\",\"\",'P-(K-Mg)-DBE'!O41)","v":""},{"$f":"IF(OR(B41=\"\",'P-(K-Mg)-DBE'!O41=\"\"),\"\",'P-(K-Mg)-DBE'!O41*'N-DBE'!E41)","v":""},{"$f":"IF('P-(K-Mg)-DBE'!Z41=\"\",\"\",'P-(K-Mg)-DBE'!Z41)","v":""},{"$f":"IF(OR(B41=\"\",'P-(K-Mg)-DBE'!Z41=\"\"),\"\",'P-(K-Mg)-DBE'!Z41*'N-DBE'!E41)","v":""},{"$f":"IF('P-(K-Mg)-DBE'!Z41=\"\",\"\",SUM(AY41,BM41,CA41,CO41,DC41,DQ41))","v":""},{"$f":"IF(OR(B41=\"\",'P-(K-Mg)-DBE'!AH41=\"\"),\"\",SUM(AY41,BM41,CA41,CO41,DC41,DQ31)*'N-DBE'!E41)","v":""},{"$f":"IF('P-(K-Mg)-DBE'!AH41=\"\",\"\",'P-(K-Mg)-DBE'!AH41)","v":""},{"$f":"IF(OR(B41=\"\",'P-(K-Mg)-DBE'!AH41=\"\"),\"\",'N-DBE'!E41*'P-(K-Mg)-DBE'!AH41)","v":""},{"$f":"IF('P-(K-Mg)-DBE'!AH41=\"\",\"\",SUM(AZ41,BN41,CB41,CP41,DD41,DR41))","v":""},{"$f":"IF('P-(K-Mg)-DBE'!AH41=\"\",\"\",SUM(AZ41,BN41,CB41,CP41,DD41,DR41))","v":""},null,null,null,"","",{"$f":"IF(AM41=\"\",\"\",VLOOKUP(AM41,'aktuelle Düngerliste'!A:H,2,FALSE))","v":""},{"$f":"IF(AM41=\"\",\"\",VLOOKUP(AM41,'aktuelle Düngerliste'!A:H,3,FALSE))","v":""},{"$f":"IF(AM41=\"\",\"\",VLOOKUP(AM41,'aktuelle Düngerliste'!A:H,8,FALSE))","v":""},{"$f":"IF(AM41=\"\",\"\",VLOOKUP(AM41,'aktuelle Düngerliste'!$A:$H,3,FALSE)*AO41/1000)","v":""},{"$f":"IF(AM41=\"\",\"\",IF(VLOOKUP(AM41,'aktuelle Düngerliste'!$A:$B,2,FALSE)=\"mineralisch\",(VLOOKUP(AM41,'aktuelle Düngerliste'!$A:$H,3,FALSE)*AO41/1000),\"\"))","v":""},{"$f":"IF(AM41=\"\",\"\",VLOOKUP(AM41,'aktuelle Düngerliste'!$A:$J,10,FALSE)*AO41/1000)","v":""},{"$f":"IF(AM41=\"\",\"\",VLOOKUP(AM41,'aktuelle Düngerliste'!$A:$H,5,FALSE)*AO41/1000)","v":""},{"$f":"IF(AM41=\"\",\"\",VLOOKUP(AM41,'aktuelle Düngerliste'!$A:$H,6,FALSE)*AO41/1000)","v":""},{"$f":"IF(AM41=\"\",\"\",VLOOKUP(AM41,'aktuelle Düngerliste'!$A:$H,7,FALSE)*AO41/1000)","v":""},null,null,null,"","",{"$f":"IF(BA41=\"\",\"\",VLOOKUP(BA41,'aktuelle Düngerliste'!$A:$H,2,FALSE))","v":""},{"$f":"IF(BA41=\"\",\"\",VLOOKUP(BA41,'aktuelle Düngerliste'!$A:$H,3,FALSE))","v":""},{"$f":"IF(BA41=\"\",\"\",VLOOKUP(BA41,'aktuelle Düngerliste'!$A:$H,8,FALSE))","v":""},{"$f":"IF(BA41=\"\",\"\",VLOOKUP(BA41,'aktuelle Düngerliste'!$A:$H,3,FALSE)*BC41/1000)","v":""},{"$f":"IF(BA41=\"\",\"\",IF(VLOOKUP(BA41,'aktuelle Düngerliste'!$A:$B,2,FALSE)=\"mineralisch\",(VLOOKUP(BA41,'aktuelle Düngerliste'!$A:$H,3,FALSE)*BC41/1000),\"\"))","v":""},{"$f":"IF(BA41=\"\",\"\",VLOOKUP(BA41,'aktuelle Düngerliste'!$A:$J,10,FALSE)*BC41/1000)","v":""},{"$f":"IF(BA41=\"\",\"\",VLOOKUP(BA41,'aktuelle Düngerliste'!$A:$H,5,FALSE)*BC41/1000)","v":""},{"$f":"IF(BA41=\"\",\"\",VLOOKUP(BA41,'aktuelle Düngerliste'!$A:$H,6,FALSE)*BC41/1000)","v":""},{"$f":"IF(BA41=\"\",\"\",VLOOKUP(BA41,'aktuelle Düngerliste'!$A:$H,7,FALSE)*BC41/1000)","v":""},null,null,null,"","",{"$f":"IF(BO41=\"\",\"\",VLOOKUP(BO41,'aktuelle Düngerliste'!$A:$H,2,FALSE))","v":""},{"$f":"IF(BO41=\"\",\"\",VLOOKUP(BO41,'aktuelle Düngerliste'!$A:$H,3,FALSE))","v":""},{"$f":"IF(BO41=\"\",\"\",VLOOKUP(BO41,'aktuelle Düngerliste'!$A:$H,8,FALSE))","v":""},{"$f":"IF(BO41=\"\",\"\",VLOOKUP(BO41,'aktuelle Düngerliste'!$A:$H,3,FALSE)*BQ41/1000)","v":""},{"$f":"IF(BO41=\"\",\"\",IF(VLOOKUP(BO41,'aktuelle Düngerliste'!$A:$B,2,FALSE)=\"mineralisch\",(VLOOKUP(BO41,'aktuelle Düngerliste'!$A:$H,3,FALSE)*BQ41/1000),\"\"))","v":""},{"$f":"IF(BO41=\"\",\"\",VLOOKUP(BO41,'aktuelle Düngerliste'!$A:$J,10,FALSE)*BQ41/1000)","v":""},{"$f":"IF(BO41=\"\",\"\",VLOOKUP(BO41,'aktuelle Düngerliste'!$A:$H,5,FALSE)*BQ41/1000)","v":""},{"$f":"IF(BO41=\"\",\"\",VLOOKUP(BO41,'aktuelle Düngerliste'!$A:$H,6,FALSE)*BQ41/1000)","v":""},{"$f":"IF(BO41=\"\",\"\",VLOOKUP(BO41,'aktuelle Düngerliste'!$A:$H,7,FALSE)*BQ41/1000)","v":""},null,null,null,"","",{"$f":"IF(CC41=\"\",\"\",VLOOKUP(CC41,'aktuelle Düngerliste'!$A:$H,2,FALSE))","v":""},{"$f":"IF(CC41=\"\",\"\",VLOOKUP(CC41,'aktuelle Düngerliste'!$A:$H,3,FALSE))","v":""},{"$f":"IF(CC41=\"\",\"\",VLOOKUP(CC41,'aktuelle Düngerliste'!$A:$H,8,FALSE))","v":""},{"$f":"IF(CC41=\"\",\"\",VLOOKUP(CC41,'aktuelle Düngerliste'!$A:$H,3,FALSE)*CE41/1000)","v":""},{"$f":"IF(CC41=\"\",\"\",IF(VLOOKUP(CC41,'aktuelle Düngerliste'!$A:$B,2,FALSE)=\"mineralisch\",(VLOOKUP(CC41,'aktuelle Düngerliste'!$A:$H,3,FALSE)*CE41/1000),\"\"))","v":""},{"$f":"IF(CC41=\"\",\"\",VLOOKUP(CC41,'aktuelle Düngerliste'!$A:$J,10,FALSE)*CE41/1000)","v":""},{"$f":"IF(CC41=\"\",\"\",VLOOKUP(CC41,'aktuelle Düngerliste'!$A:$H,5,FALSE)*CE41/1000)","v":""},{"$f":"IF(CC41=\"\",\"\",VLOOKUP(CC41,'aktuelle Düngerliste'!$A:$H,6,FALSE)*CE41/1000)","v":""},{"$f":"IF(CC41=\"\",\"\",VLOOKUP(CC41,'aktuelle Düngerliste'!$A:$H,7,FALSE)*CE41/1000)","v":""},null,null,null,"","",{"$f":"IF(CQ41=\"\",\"\",VLOOKUP(CQ41,'aktuelle Düngerliste'!$A:$H,2,FALSE))","v":""},{"$f":"IF(CQ41=\"\",\"\",VLOOKUP(CQ41,'aktuelle Düngerliste'!$A:$H,3,FALSE))","v":""},{"$f":"IF(CQ41=\"\",\"\",VLOOKUP(CQ41,'aktuelle Düngerliste'!$A:$H,8,FALSE))","v":""},{"$f":"IF(CQ41=\"\",\"\",VLOOKUP(CQ41,'aktuelle Düngerliste'!$A:$H,3,FALSE)*CS41/1000)","v":""},{"$f":"IF(CQ41=\"\",\"\",IF(VLOOKUP(CQ41,'aktuelle Düngerliste'!$A:$B,2,FALSE)=\"mineralisch\",(VLOOKUP(CQ41,'aktuelle Düngerliste'!$A:$H,3,FALSE)*CS41/1000),\"\"))","v":""},{"$f":"IF(CQ41=\"\",\"\",VLOOKUP(CQ41,'aktuelle Düngerliste'!$A:$J,10,FALSE)*CS41/1000)","v":""},{"$f":"IF(CQ41=\"\",\"\",VLOOKUP(CQ41,'aktuelle Düngerliste'!$A:$H,5,FALSE)*CS41/1000)","v":""},{"$f":"IF(CQ41=\"\",\"\",VLOOKUP(CQ41,'aktuelle Düngerliste'!$A:$H,6,FALSE)*CS41/1000)","v":""},{"$f":"IF(CQ41=\"\",\"\",VLOOKUP(CQ41,'aktuelle Düngerliste'!$A:$H,7,FALSE)*CS41/1000)","v":""},null,null,null,"","",{"$f":"IF(DE41=\"\",\"\",VLOOKUP(DE41,'aktuelle Düngerliste'!$A:$H,2,FALSE))","v":""},{"$f":"IF(DE41=\"\",\"\",VLOOKUP(DE41,'aktuelle Düngerliste'!$A:$H,3,FALSE))","v":""},{"$f":"IF(DE41=\"\",\"\",VLOOKUP(DE41,'aktuelle Düngerliste'!$A:$H,8,FALSE))","v":""},{"$f":"IF(DE41=\"\",\"\",VLOOKUP(DE41,'aktuelle Düngerliste'!$A:$H,3,FALSE)*DG41/1000)","v":""},{"$f":"IF(DE41=\"\",\"\",IF(VLOOKUP(DE41,'aktuelle Düngerliste'!$A:$B,2,FALSE)=\"mineralisch\",(VLOOKUP(DE41,'aktuelle Düngerliste'!$A:$H,3,FALSE)*DG41/1000),\"\"))","v":""},{"$f":"IF(DE41=\"\",\"\",VLOOKUP(DE41,'aktuelle Düngerliste'!$A:$J,10,FALSE)*DG41/1000)","v":""},{"$f":"IF(DE41=\"\",\"\",VLOOKUP(DE41,'aktuelle Düngerliste'!$A:$H,5,FALSE)*DG41/1000)","v":""},{"$f":"IF(DE41=\"\",\"\",VLOOKUP(DE41,'aktuelle Düngerliste'!$A:$H,6,FALSE)*DG41/1000)","v":""},{"$f":"IF(DE41=\"\",\"\",VLOOKUP(DE41,'aktuelle Düngerliste'!$A:$H,7,FALSE)*DG41/1000)","v":""}]
[{"$f":"IF('N-DBE'!A42=\"\",\"\",'N-DBE'!A42)","v":""},{"$f":"IF('N-DBE'!B42=\"\",\"\",'N-DBE'!B42)","v":""},{"$f":"IF('N-DBE'!C42=\"\",\"\",'N-DBE'!C42)","v":""},{"$f":"IF('N-DBE'!D42=\"\",\"\",'N-DBE'!D42)","v":""},{"$f":"IF('N-DBE'!E42=\"\",\"\",'N-DBE'!E42)","v":""},{"$f":"IF('N-DBE'!F42=\"\",\"\",'N-DBE'!F42)","v":""},{"$f":"IF('N-DBE'!G42=\"\",\"\",'N-DBE'!G42)","v":""},{"$f":"IF(OR(B42=\"\",'N-DBE'!AJ42=\"\"),\"\",'N-DBE'!AJ42+'N-DBE'!AN42)","v":""},{"$f":"IF(OR(B42=\"\",'N-DBE'!AJ42=\"\"),\"\",'N-DBE'!E42*('N-DBE'!AJ42+'N-DBE'!AN42))","v":""},{"$f":"IF('N-DBE'!AK42=\"\",\"\",IF('N-DBE'!AM42=\"ja\",'N-DBE'!AK42+'N-DBE'!AN42,'N-DBE'!AK42))","v":""},{"$f":"IF(OR(B42=\"\",'N-DBE'!AK42=\"\"),\"\",IF('N-DBE'!AM42=\"ja\",'N-DBE'!E42*('N-DBE'!AK42+'N-DBE'!AN42),'N-DBE'!E42*'N-DBE'!AK42))","v":""},{"$f":"IF(OR(B42=\"\",'N-DBE'!AL42=\"\"),\"\",'N-DBE'!AL42+'N-DBE'!AN42)","v":""},{"$f":"IF(OR(B42=\"\",'N-DBE'!AL42=\"\"),\"\",'N-DBE'!E42*('N-DBE'!AL42+'N-DBE'!AN42))","v":""},{"$f":"IF(AND('N-DBE'!C42=\"ja\",G42<>\"\"),I42-X42,\"\")","v":""},{"$f":"IF('N-DBE'!AJ42=\"\",\"\",SUM(AU42,BI42,BW42,CK42,CY42,DM42))","v":""},{"$f":"IF(OR(B42=\"\",'N-DBE'!AJ42=\"\"),\"\",O42*'N-DBE'!E42)","v":""},{"$f":"IF('N-DBE'!AJ42=\"\",\"\",IF(AR42=\"mineralisch\",AU42,0)+IF(BF42=\"mineralisch\",BI42,0)+IF(BT42=\"mineralisch\",BW42,0)+IF(CH42=\"mineralisch\",CK42,0)+IF(CV42=\"mineralisch\",CY42,0)+IF(DJ42=\"mineralisch\",DM42,0))","v":""},{"$f":"IF(OR(B42=\"\",'N-DBE'!AJ42=\"\"),\"\",Q42*'N-DBE'!E42)","v":""},{"$f":"IF('N-DBE'!AJ42=\"\",\"\",O42-Q42)","v":""},{"$f":"IF(OR(B42=\"\",'N-DBE'!AJ42=\"\"),\"\",S42*'N-DBE'!E42)","v":""},{"$f":"IF('N-DBE'!AJ42=\"\",\"\",(IF(AR42=\"Kompost\",AU42,0)+IF(BF42=\"Kompost\",BI42,0)+IF(BT42=\"Kompost\",BW42,0)+IF(CH42=\"Kompost\",CK42,0)+IF(CV42=\"Kompost\",CY42,0)+IF(DJ42=\"Kompost\",DM42,0)))","v":""},{"$f":"IF(OR(B42=\"\",'N-DBE'!AJ42=\"\"),\"\",U42*'N-DBE'!E42)","v":""},{"$f":"IF('N-DBE'!AJ42=\"\",\"\",SUM(AW42,BK42,BY42,CM42,DA42,DO42))","v":""},{"$f":"IF(OR(B42=\"\",'N-DBE'!AJ42=\"\"),\"\",W42*'N-DBE'!E42)","v":""},{"$f":"IF('P-(K-Mg)-DBE'!N42=\"\",\"\",'P-(K-Mg)-DBE'!N42+'P-(K-Mg)-DBE'!R42)","v":""},{"$f":"IF(OR(B42=\"\",'P-(K-Mg)-DBE'!N42=\"\"),\"\",'N-DBE'!E42*('P-(K-Mg)-DBE'!N42+'P-(K-Mg)-DBE'!R42))","v":""},{"$f":"IF('P-(K-Mg)-DBE'!N42=\"\",\"\",SUM(AX42,BL42,BZ42,CN42,DB42,DP42))","v":""},{"$f":"IF(OR(B42=\"\",'P-(K-Mg)-DBE'!Z42=\"\"),\"\",SUM(AX42,BL42,BZ42,CN42,DB42,DP42)*'N-DBE'!E42)","v":""},{"$f":"IF('P-(K-Mg)-DBE'!O42=\"\",\"\",'P-(K-Mg)-DBE'!O42)","v":""},{"$f":"IF(OR(B42=\"\",'P-(K-Mg)-DBE'!O42=\"\"),\"\",'P-(K-Mg)-DBE'!O42*'N-DBE'!E42)","v":""},{"$f":"IF('P-(K-Mg)-DBE'!Z42=\"\",\"\",'P-(K-Mg)-DBE'!Z42)","v":""},{"$f":"IF(OR(B42=\"\",'P-(K-Mg)-DBE'!Z42=\"\"),\"\",'P-(K-Mg)-DBE'!Z42*'N-DBE'!E42)","v":""},{"$f":"IF('P-(K-Mg)-DBE'!Z42=\"\",\"\",SUM(AY42,BM42,CA42,CO42,DC42,DQ42))","v":""},{"$f":"IF(OR(B42=\"\",'P-(K-Mg)-DBE'!AH42=\"\"),\"\",SUM(AY42,BM42,CA42,CO42,DC42,DQ32)*'N-DBE'!E42)","v":""},{"$f":"IF('P-(K-Mg)-DBE'!AH42=\"\",\"\",'P-(K-Mg)-DBE'!AH42)","v":""},{"$f":"IF(OR(B42=\"\",'P-(K-Mg)-DBE'!AH42=\"\"),\"\",'N-DBE'!E42*'P-(K-Mg)-DBE'!AH42)","v":""},{"$f":"IF('P-(K-Mg)-DBE'!AH42=\"\",\"\",SUM(AZ42,BN42,CB42,CP42,DD42,DR42))","v":""},{"$f":"IF('P-(K-Mg)-DBE'!AH42=\"\",\"\",SUM(AZ42,BN42,CB42,CP42,DD42,DR42))","v":""},null,null,null,"","",{"$f":"IF(AM42=\"\",\"\",VLOOKUP(AM42,'aktuelle Düngerliste'!A:H,2,FALSE))","v":""},{"$f":"IF(AM42=\"\",\"\",VLOOKUP(AM42,'aktuelle Düngerliste'!A:H,3,FALSE))","v":""},{"$f":"IF(AM42=\"\",\"\",VLOOKUP(AM42,'aktuelle Düngerliste'!A:H,8,FALSE))","v":""},{"$f":"IF(AM42=\"\",\"\",VLOOKUP(AM42,'aktuelle Düngerliste'!$A:$H,3,FALSE)*AO42/1000)","v":""},{"$f":"IF(AM42=\"\",\"\",IF(VLOOKUP(AM42,'aktuelle Düngerliste'!$A:$B,2,FALSE)=\"mineralisch\",(VLOOKUP(AM42,'aktuelle Düngerliste'!$A:$H,3,FALSE)*AO42/1000),\"\"))","v":""},{"$f":"IF(AM42=\"\",\"\",VLOOKUP(AM42,'aktuelle Düngerliste'!$A:$J,10,FALSE)*AO42/1000)","v":""},{"$f":"IF(AM42=\"\",\"\",VLOOKUP(AM42,'aktuelle Düngerliste'!$A:$H,5,FALSE)*AO42/1000)","v":""},{"$f":"IF(AM42=\"\",\"\",VLOOKUP(AM42,'aktuelle Düngerliste'!$A:$H,6,FALSE)*AO42/1000)","v":""},{"$f":"IF(AM42=\"\",\"\",VLOOKUP(AM42,'aktuelle Düngerliste'!$A:$H,7,FALSE)*AO42/1000)","v":""},null,null,null,"","",{"$f":"IF(BA42=\"\",\"\",VLOOKUP(BA42,'aktuelle Düngerliste'!$A:$H,2,FALSE))","v":""},{"$f":"IF(BA42=\"\",\"\",VLOOKUP(BA42,'aktuelle Düngerliste'!$A:$H,3,FALSE))","v":""},{"$f":"IF(BA42=\"\",\"\",VLOOKUP(BA42,'aktuelle Düngerliste'!$A:$H,8,FALSE))","v":""},{"$f":"IF(BA42=\"\",\"\",VLOOKUP(BA42,'aktuelle Düngerliste'!$A:$H,3,FALSE)*BC42/1000)","v":""},{"$f":"IF(BA42=\"\",\"\",IF(VLOOKUP(BA42,'aktuelle Düngerliste'!$A:$B,2,FALSE)=\"mineralisch\",(VLOOKUP(BA42,'aktuelle Düngerliste'!$A:$H,3,FALSE)*BC42/1000),\"\"))","v":""},{"$f":"IF(BA42=\"\",\"\",VLOOKUP(BA42,'aktuelle Düngerliste'!$A:$J,10,FALSE)*BC42/1000)","v":""},{"$f":"IF(BA42=\"\",\"\",VLOOKUP(BA42,'aktuelle Düngerliste'!$A:$H,5,FALSE)*BC42/1000)","v":""},{"$f":"IF(BA42=\"\",\"\",VLOOKUP(BA42,'aktuelle Düngerliste'!$A:$H,6,FALSE)*BC42/1000)","v":""},{"$f":"IF(BA42=\"\",\"\",VLOOKUP(BA42,'aktuelle Düngerliste'!$A:$H,7,FALSE)*BC42/1000)","v":""},null,null,null,"","",{"$f":"IF(BO42=\"\",\"\",VLOOKUP(BO42,'aktuelle Düngerliste'!$A:$H,2,FALSE))","v":""},{"$f":"IF(BO42=\"\",\"\",VLOOKUP(BO42,'aktuelle Düngerliste'!$A:$H,3,FALSE))","v":""},{"$f":"IF(BO42=\"\",\"\",VLOOKUP(BO42,'aktuelle Düngerliste'!$A:$H,8,FALSE))","v":""},{"$f":"IF(BO42=\"\",\"\",VLOOKUP(BO42,'aktuelle Düngerliste'!$A:$H,3,FALSE)*BQ42/1000)","v":""},{"$f":"IF(BO42=\"\",\"\",IF(VLOOKUP(BO42,'aktuelle Düngerliste'!$A:$B,2,FALSE)=\"mineralisch\",(VLOOKUP(BO42,'aktuelle Düngerliste'!$A:$H,3,FALSE)*BQ42/1000),\"\"))","v":""},{"$f":"IF(BO42=\"\",\"\",VLOOKUP(BO42,'aktuelle Düngerliste'!$A:$J,10,FALSE)*BQ42/1000)","v":""},{"$f":"IF(BO42=\"\",\"\",VLOOKUP(BO42,'aktuelle Düngerliste'!$A:$H,5,FALSE)*BQ42/1000)","v":""},{"$f":"IF(BO42=\"\",\"\",VLOOKUP(BO42,'aktuelle Düngerliste'!$A:$H,6,FALSE)*BQ42/1000)","v":""},{"$f":"IF(BO42=\"\",\"\",VLOOKUP(BO42,'aktuelle Düngerliste'!$A:$H,7,FALSE)*BQ42/1000)","v":""},null,null,null,"","",{"$f":"IF(CC42=\"\",\"\",VLOOKUP(CC42,'aktuelle Düngerliste'!$A:$H,2,FALSE))","v":""},{"$f":"IF(CC42=\"\",\"\",VLOOKUP(CC42,'aktuelle Düngerliste'!$A:$H,3,FALSE))","v":""},{"$f":"IF(CC42=\"\",\"\",VLOOKUP(CC42,'aktuelle Düngerliste'!$A:$H,8,FALSE))","v":""},{"$f":"IF(CC42=\"\",\"\",VLOOKUP(CC42,'aktuelle Düngerliste'!$A:$H,3,FALSE)*CE42/1000)","v":""},{"$f":"IF(CC42=\"\",\"\",IF(VLOOKUP(CC42,'aktuelle Düngerliste'!$A:$B,2,FALSE)=\"mineralisch\",(VLOOKUP(CC42,'aktuelle Düngerliste'!$A:$H,3,FALSE)*CE42/1000),\"\"))","v":""},{"$f":"IF(CC42=\"\",\"\",VLOOKUP(CC42,'aktuelle Düngerliste'!$A:$J,10,FALSE)*CE42/1000)","v":""},{"$f":"IF(CC42=\"\",\"\",VLOOKUP(CC42,'aktuelle Düngerliste'!$A:$H,5,FALSE)*CE42/1000)","v":""},{"$f":"IF(CC42=\"\",\"\",VLOOKUP(CC42,'aktuelle Düngerliste'!$A:$H,6,FALSE)*CE42/1000)","v":""},{"$f":"IF(CC42=\"\",\"\",VLOOKUP(CC42,'aktuelle Düngerliste'!$A:$H,7,FALSE)*CE42/1000)","v":""},null,null,null,"","",{"$f":"IF(CQ42=\"\",\"\",VLOOKUP(CQ42,'aktuelle Düngerliste'!$A:$H,2,FALSE))","v":""},{"$f":"IF(CQ42=\"\",\"\",VLOOKUP(CQ42,'aktuelle Düngerliste'!$A:$H,3,FALSE))","v":""},{"$f":"IF(CQ42=\"\",\"\",VLOOKUP(CQ42,'aktuelle Düngerliste'!$A:$H,8,FALSE))","v":""},{"$f":"IF(CQ42=\"\",\"\",VLOOKUP(CQ42,'aktuelle Düngerliste'!$A:$H,3,FALSE)*CS42/1000)","v":""},{"$f":"IF(CQ42=\"\",\"\",IF(VLOOKUP(CQ42,'aktuelle Düngerliste'!$A:$B,2,FALSE)=\"mineralisch\",(VLOOKUP(CQ42,'aktuelle Düngerliste'!$A:$H,3,FALSE)*CS42/1000),\"\"))","v":""},{"$f":"IF(CQ42=\"\",\"\",VLOOKUP(CQ42,'aktuelle Düngerliste'!$A:$J,10,FALSE)*CS42/1000)","v":""},{"$f":"IF(CQ42=\"\",\"\",VLOOKUP(CQ42,'aktuelle Düngerliste'!$A:$H,5,FALSE)*CS42/1000)","v":""},{"$f":"IF(CQ42=\"\",\"\",VLOOKUP(CQ42,'aktuelle Düngerliste'!$A:$H,6,FALSE)*CS42/1000)","v":""},{"$f":"IF(CQ42=\"\",\"\",VLOOKUP(CQ42,'aktuelle Düngerliste'!$A:$H,7,FALSE)*CS42/1000)","v":""},null,null,null,"","",{"$f":"IF(DE42=\"\",\"\",VLOOKUP(DE42,'aktuelle Düngerliste'!$A:$H,2,FALSE))","v":""},{"$f":"IF(DE42=\"\",\"\",VLOOKUP(DE42,'aktuelle Düngerliste'!$A:$H,3,FALSE))","v":""},{"$f":"IF(DE42=\"\",\"\",VLOOKUP(DE42,'aktuelle Düngerliste'!$A:$H,8,FALSE))","v":""},{"$f":"IF(DE42=\"\",\"\",VLOOKUP(DE42,'aktuelle Düngerliste'!$A:$H,3,FALSE)*DG42/1000)","v":""},{"$f":"IF(DE42=\"\",\"\",IF(VLOOKUP(DE42,'aktuelle Düngerliste'!$A:$B,2,FALSE)=\"mineralisch\",(VLOOKUP(DE42,'aktuelle Düngerliste'!$A:$H,3,FALSE)*DG42/1000),\"\"))","v":""},{"$f":"IF(DE42=\"\",\"\",VLOOKUP(DE42,'aktuelle Düngerliste'!$A:$J,10,FALSE)*DG42/1000)","v":""},{"$f":"IF(DE42=\"\",\"\",VLOOKUP(DE42,'aktuelle Düngerliste'!$A:$H,5,FALSE)*DG42/1000)","v":""},{"$f":"IF(DE42=\"\",\"\",VLOOKUP(DE42,'aktuelle Düngerliste'!$A:$H,6,FALSE)*DG42/1000)","v":""},{"$f":"IF(DE42=\"\",\"\",VLOOKUP(DE42,'aktuelle Düngerliste'!$A:$H,7,FALSE)*DG42/1000)","v":""}]
[{"$f":"IF('N-DBE'!A43=\"\",\"\",'N-DBE'!A43)","v":""},{"$f":"IF('N-DBE'!B43=\"\",\"\",'N-DBE'!B43)","v":""},{"$f":"IF('N-DBE'!C43=\"\",\"\",'N-DBE'!C43)","v":""},{"$f":"IF('N-DBE'!D43=\"\",\"\",'N-DBE'!D43)","v":""},{"$f":"IF('N-DBE'!E43=\"\",\"\",'N-DBE'!E43)","v":""},{"$f":"IF('N-DBE'!F43=\"\",\"\",'N-DBE'!F43)","v":""},{"$f":"IF('N-DBE'!G43=\"\",\"\",'N-DBE'!G43)","v":""},{"$f":"IF(OR(B43=\"\",'N-DBE'!AJ43=\"\"),\"\",'N-DBE'!AJ43+'N-DBE'!AN43)","v":""},{"$f":"IF(OR(B43=\"\",'N-DBE'!AJ43=\"\"),\"\",'N-DBE'!E43*('N-DBE'!AJ43+'N-DBE'!AN43))","v":""},{"$f":"IF('N-DBE'!AK43=\"\",\"\",IF('N-DBE'!AM43=\"ja\",'N-DBE'!AK43+'N-DBE'!AN43,'N-DBE'!AK43))","v":""},{"$f":"IF(OR(B43=\"\",'N-DBE'!AK43=\"\"),\"\",IF('N-DBE'!AM43=\"ja\",'N-DBE'!E43*('N-DBE'!AK43+'N-DBE'!AN43),'N-DBE'!E43*'N-DBE'!AK43))","v":""},{"$f":"IF(OR(B43=\"\",'N-DBE'!AL43=\"\"),\"\",'N-DBE'!AL43+'N-DBE'!AN43)","v":""},{"$f":"IF(OR(B43=\"\",'N-DBE'!AL43=\"\"),\"\",'N-DBE'!E43*('N-DBE'!AL43+'N-DBE'!AN43))","v":""},{"$f":"IF(AND('N-DBE'!C43=\"ja\",G43<>\"\"),I43-X43,\"\")","v":""},{"$f":"IF('N-DBE'!AJ43=\"\",\"\",SUM(AU43,BI43,BW43,CK43,CY43,DM43))","v":""},{"$f":"IF(OR(B43=\"\",'N-DBE'!AJ43=\"\"),\"\",O43*'N-DBE'!E43)","v":""},{"$f":"IF('N-DBE'!AJ43=\"\",\"\",IF(AR43=\"mineralisch\",AU43,0)+IF(BF43=\"mineralisch\",BI43,0)+IF(BT43=\"mineralisch\",BW43,0)+IF(CH43=\"mineralisch\",CK43,0)+IF(CV43=\"mineralisch\",CY43,0)+IF(DJ43=\"mineralisch\",DM43,0))","v":""},{"$f":"IF(OR(B43=\"\",'N-DBE'!AJ43=\"\"),\"\",Q43*'N-DBE'!E43)","v":""},{"$f":"IF('N-DBE'!AJ43=\"\",\"\",O43-Q43)","v":""},{"$f":"IF(OR(B43=\"\",'N-DBE'!AJ43=\"\"),\"\",S43*'N-DBE'!E43)","v":""},{"$f":"IF('N-DBE'!AJ43=\"\",\"\",(IF(AR43=\"Kompost\",AU43,0)+IF(BF43=\"Kompost\",BI43,0)+IF(BT43=\"Kompost\",BW43,0)+IF(CH43=\"Kompost\",CK43,0)+IF(CV43=\"Kompost\",CY43,0)+IF(DJ43=\"Kompost\",DM43,0)))","v":""},{"$f":"IF(OR(B43=\"\",'N-DBE'!AJ43=\"\"),\"\",U43*'N-DBE'!E43)","v":""},{"$f":"IF('N-DBE'!AJ43=\"\",\"\",SUM(AW43,BK43,BY43,CM43,DA43,DO43))","v":""},{"$f":"IF(OR(B43=\"\",'N-DBE'!AJ43=\"\"),\"\",W43*'N-DBE'!E43)","v":""},{"$f":"IF('P-(K-Mg)-DBE'!N43=\"\",\"\",'P-(K-Mg)-DBE'!N43+'P-(K-Mg)-DBE'!R43)","v":""},{"$f":"IF(OR(B43=\"\",'P-(K-Mg)-DBE'!N43=\"\"),\"\",'N-DBE'!E43*('P-(K-Mg)-DBE'!N43+'P-(K-Mg)-DBE'!R43))","v":""},{"$f":"IF('P-(K-Mg)-DBE'!N43=\"\",\"\",SUM(AX43,BL43,BZ43,CN43,DB43,DP43))","v":""},{"$f":"IF(OR(B43=\"\",'P-(K-Mg)-DBE'!Z43=\"\"),\"\",SUM(AX43,BL43,BZ43,CN43,DB43,DP43)*'N-DBE'!E43)","v":""},{"$f":"IF('P-(K-Mg)-DBE'!O43=\"\",\"\",'P-(K-Mg)-DBE'!O43)","v":""},{"$f":"IF(OR(B43=\"\",'P-(K-Mg)-DBE'!O43=\"\"),\"\",'P-(K-Mg)-DBE'!O43*'N-DBE'!E43)","v":""},{"$f":"IF('P-(K-Mg)-DBE'!Z43=\"\",\"\",'P-(K-Mg)-DBE'!Z43)","v":""},{"$f":"IF(OR(B43=\"\",'P-(K-Mg)-DBE'!Z43=\"\"),\"\",'P-(K-Mg)-DBE'!Z43*'N-DBE'!E43)","v":""},{"$f":"IF('P-(K-Mg)-DBE'!Z43=\"\",\"\",SUM(AY43,BM43,CA43,CO43,DC43,DQ43))","v":""},{"$f":"IF(OR(B43=\"\",'P-(K-Mg)-DBE'!AH43=\"\"),\"\",SUM(AY43,BM43,CA43,CO43,DC43,DQ33)*'N-DBE'!E43)","v":""},{"$f":"IF('P-(K-Mg)-DBE'!AH43=\"\",\"\",'P-(K-Mg)-DBE'!AH43)","v":""},{"$f":"IF(OR(B43=\"\",'P-(K-Mg)-DBE'!AH43=\"\"),\"\",'N-DBE'!E43*'P-(K-Mg)-DBE'!AH43)","v":""},{"$f":"IF('P-(K-Mg)-DBE'!AH43=\"\",\"\",SUM(AZ43,BN43,CB43,CP43,DD43,DR43))","v":""},{"$f":"IF('P-(K-Mg)-DBE'!AH43=\"\",\"\",SUM(AZ43,BN43,CB43,CP43,DD43,DR43))","v":""},null,null,null,"","",{"$f":"IF(AM43=\"\",\"\",VLOOKUP(AM43,'aktuelle Düngerliste'!A:H,2,FALSE))","v":""},{"$f":"IF(AM43=\"\",\"\",VLOOKUP(AM43,'aktuelle Düngerliste'!A:H,3,FALSE))","v":""},{"$f":"IF(AM43=\"\",\"\",VLOOKUP(AM43,'aktuelle Düngerliste'!A:H,8,FALSE))","v":""},{"$f":"IF(AM43=\"\",\"\",VLOOKUP(AM43,'aktuelle Düngerliste'!$A:$H,3,FALSE)*AO43/1000)","v":""},{"$f":"IF(AM43=\"\",\"\",IF(VLOOKUP(AM43,'aktuelle Düngerliste'!$A:$B,2,FALSE)=\"mineralisch\",(VLOOKUP(AM43,'aktuelle Düngerliste'!$A:$H,3,FALSE)*AO43/1000),\"\"))","v":""},{"$f":"IF(AM43=\"\",\"\",VLOOKUP(AM43,'aktuelle Düngerliste'!$A:$J,10,FALSE)*AO43/1000)","v":""},{"$f":"IF(AM43=\"\",\"\",VLOOKUP(AM43,'aktuelle Düngerliste'!$A:$H,5,FALSE)*AO43/1000)","v":""},{"$f":"IF(AM43=\"\",\"\",VLOOKUP(AM43,'aktuelle Düngerliste'!$A:$H,6,FALSE)*AO43/1000)","v":""},{"$f":"IF(AM43=\"\",\"\",VLOOKUP(AM43,'aktuelle Düngerliste'!$A:$H,7,FALSE)*AO43/1000)","v":""},null,null,null,"","",{"$f":"IF(BA43=\"\",\"\",VLOOKUP(BA43,'aktuelle Düngerliste'!$A:$H,2,FALSE))","v":""},{"$f":"IF(BA43=\"\",\"\",VLOOKUP(BA43,'aktuelle Düngerliste'!$A:$H,3,FALSE))","v":""},{"$f":"IF(BA43=\"\",\"\",VLOOKUP(BA43,'aktuelle Düngerliste'!$A:$H,8,FALSE))","v":""},{"$f":"IF(BA43=\"\",\"\",VLOOKUP(BA43,'aktuelle Düngerliste'!$A:$H,3,FALSE)*BC43/1000)","v":""},{"$f":"IF(BA43=\"\",\"\",IF(VLOOKUP(BA43,'aktuelle Düngerliste'!$A:$B,2,FALSE)=\"mineralisch\",(VLOOKUP(BA43,'aktuelle Düngerliste'!$A:$H,3,FALSE)*BC43/1000),\"\"))","v":""},{"$f":"IF(BA43=\"\",\"\",VLOOKUP(BA43,'aktuelle Düngerliste'!$A:$J,10,FALSE)*BC43/1000)","v":""},{"$f":"IF(BA43=\"\",\"\",VLOOKUP(BA43,'aktuelle Düngerliste'!$A:$H,5,FALSE)*BC43/1000)","v":""},{"$f":"IF(BA43=\"\",\"\",VLOOKUP(BA43,'aktuelle Düngerliste'!$A:$H,6,FALSE)*BC43/1000)","v":""},{"$f":"IF(BA43=\"\",\"\",VLOOKUP(BA43,'aktuelle Düngerliste'!$A:$H,7,FALSE)*BC43/1000)","v":""},null,null,null,"","",{"$f":"IF(BO43=\"\",\"\",VLOOKUP(BO43,'aktuelle Düngerliste'!$A:$H,2,FALSE))","v":""},{"$f":"IF(BO43=\"\",\"\",VLOOKUP(BO43,'aktuelle Düngerliste'!$A:$H,3,FALSE))","v":""},{"$f":"IF(BO43=\"\",\"\",VLOOKUP(BO43,'aktuelle Düngerliste'!$A:$H,8,FALSE))","v":""},{"$f":"IF(BO43=\"\",\"\",VLOOKUP(BO43,'aktuelle Düngerliste'!$A:$H,3,FALSE)*BQ43/1000)","v":""},{"$f":"IF(BO43=\"\",\"\",IF(VLOOKUP(BO43,'aktuelle Düngerliste'!$A:$B,2,FALSE)=\"mineralisch\",(VLOOKUP(BO43,'aktuelle Düngerliste'!$A:$H,3,FALSE)*BQ43/1000),\"\"))","v":""},{"$f":"IF(BO43=\"\",\"\",VLOOKUP(BO43,'aktuelle Düngerliste'!$A:$J,10,FALSE)*BQ43/1000)","v":""},{"$f":"IF(BO43=\"\",\"\",VLOOKUP(BO43,'aktuelle Düngerliste'!$A:$H,5,FALSE)*BQ43/1000)","v":""},{"$f":"IF(BO43=\"\",\"\",VLOOKUP(BO43,'aktuelle Düngerliste'!$A:$H,6,FALSE)*BQ43/1000)","v":""},{"$f":"IF(BO43=\"\",\"\",VLOOKUP(BO43,'aktuelle Düngerliste'!$A:$H,7,FALSE)*BQ43/1000)","v":""},null,null,null,"","",{"$f":"IF(CC43=\"\",\"\",VLOOKUP(CC43,'aktuelle Düngerliste'!$A:$H,2,FALSE))","v":""},{"$f":"IF(CC43=\"\",\"\",VLOOKUP(CC43,'aktuelle Düngerliste'!$A:$H,3,FALSE))","v":""},{"$f":"IF(CC43=\"\",\"\",VLOOKUP(CC43,'aktuelle Düngerliste'!$A:$H,8,FALSE))","v":""},{"$f":"IF(CC43=\"\",\"\",VLOOKUP(CC43,'aktuelle Düngerliste'!$A:$H,3,FALSE)*CE43/1000)","v":""},{"$f":"IF(CC43=\"\",\"\",IF(VLOOKUP(CC43,'aktuelle Düngerliste'!$A:$B,2,FALSE)=\"mineralisch\",(VLOOKUP(CC43,'aktuelle Düngerliste'!$A:$H,3,FALSE)*CE43/1000),\"\"))","v":""},{"$f":"IF(CC43=\"\",\"\",VLOOKUP(CC43,'aktuelle Düngerliste'!$A:$J,10,FALSE)*CE43/1000)","v":""},{"$f":"IF(CC43=\"\",\"\",VLOOKUP(CC43,'aktuelle Düngerliste'!$A:$H,5,FALSE)*CE43/1000)","v":""},{"$f":"IF(CC43=\"\",\"\",VLOOKUP(CC43,'aktuelle Düngerliste'!$A:$H,6,FALSE)*CE43/1000)","v":""},{"$f":"IF(CC43=\"\",\"\",VLOOKUP(CC43,'aktuelle Düngerliste'!$A:$H,7,FALSE)*CE43/1000)","v":""},null,null,null,"","",{"$f":"IF(CQ43=\"\",\"\",VLOOKUP(CQ43,'aktuelle Düngerliste'!$A:$H,2,FALSE))","v":""},{"$f":"IF(CQ43=\"\",\"\",VLOOKUP(CQ43,'aktuelle Düngerliste'!$A:$H,3,FALSE))","v":""},{"$f":"IF(CQ43=\"\",\"\",VLOOKUP(CQ43,'aktuelle Düngerliste'!$A:$H,8,FALSE))","v":""},{"$f":"IF(CQ43=\"\",\"\",VLOOKUP(CQ43,'aktuelle Düngerliste'!$A:$H,3,FALSE)*CS43/1000)","v":""},{"$f":"IF(CQ43=\"\",\"\",IF(VLOOKUP(CQ43,'aktuelle Düngerliste'!$A:$B,2,FALSE)=\"mineralisch\",(VLOOKUP(CQ43,'aktuelle Düngerliste'!$A:$H,3,FALSE)*CS43/1000),\"\"))","v":""},{"$f":"IF(CQ43=\"\",\"\",VLOOKUP(CQ43,'aktuelle Düngerliste'!$A:$J,10,FALSE)*CS43/1000)","v":""},{"$f":"IF(CQ43=\"\",\"\",VLOOKUP(CQ43,'aktuelle Düngerliste'!$A:$H,5,FALSE)*CS43/1000)","v":""},{"$f":"IF(CQ43=\"\",\"\",VLOOKUP(CQ43,'aktuelle Düngerliste'!$A:$H,6,FALSE)*CS43/1000)","v":""},{"$f":"IF(CQ43=\"\",\"\",VLOOKUP(CQ43,'aktuelle Düngerliste'!$A:$H,7,FALSE)*CS43/1000)","v":""},null,null,null,"","",{"$f":"IF(DE43=\"\",\"\",VLOOKUP(DE43,'aktuelle Düngerliste'!$A:$H,2,FALSE))","v":""},{"$f":"IF(DE43=\"\",\"\",VLOOKUP(DE43,'aktuelle Düngerliste'!$A:$H,3,FALSE))","v":""},{"$f":"IF(DE43=\"\",\"\",VLOOKUP(DE43,'aktuelle Düngerliste'!$A:$H,8,FALSE))","v":""},{"$f":"IF(DE43=\"\",\"\",VLOOKUP(DE43,'aktuelle Düngerliste'!$A:$H,3,FALSE)*DG43/1000)","v":""},{"$f":"IF(DE43=\"\",\"\",IF(VLOOKUP(DE43,'aktuelle Düngerliste'!$A:$B,2,FALSE)=\"mineralisch\",(VLOOKUP(DE43,'aktuelle Düngerliste'!$A:$H,3,FALSE)*DG43/1000),\"\"))","v":""},{"$f":"IF(DE43=\"\",\"\",VLOOKUP(DE43,'aktuelle Düngerliste'!$A:$J,10,FALSE)*DG43/1000)","v":""},{"$f":"IF(DE43=\"\",\"\",VLOOKUP(DE43,'aktuelle Düngerliste'!$A:$H,5,FALSE)*DG43/1000)","v":""},{"$f":"IF(DE43=\"\",\"\",VLOOKUP(DE43,'aktuelle Düngerliste'!$A:$H,6,FALSE)*DG43/1000)","v":""},{"$f":"IF(DE43=\"\",\"\",VLOOKUP(DE43,'aktuelle Düngerliste'!$A:$H,7,FALSE)*DG43/1000)","v":""}]
[{"$f":"IF('N-DBE'!A44=\"\",\"\",'N-DBE'!A44)","v":""},{"$f":"IF('N-DBE'!B44=\"\",\"\",'N-DBE'!B44)","v":""},{"$f":"IF('N-DBE'!C44=\"\",\"\",'N-DBE'!C44)","v":""},{"$f":"IF('N-DBE'!D44=\"\",\"\",'N-DBE'!D44)","v":""},{"$f":"IF('N-DBE'!E44=\"\",\"\",'N-DBE'!E44)","v":""},{"$f":"IF('N-DBE'!F44=\"\",\"\",'N-DBE'!F44)","v":""},{"$f":"IF('N-DBE'!G44=\"\",\"\",'N-DBE'!G44)","v":""},{"$f":"IF(OR(B44=\"\",'N-DBE'!AJ44=\"\"),\"\",'N-DBE'!AJ44+'N-DBE'!AN44)","v":""},{"$f":"IF(OR(B44=\"\",'N-DBE'!AJ44=\"\"),\"\",'N-DBE'!E44*('N-DBE'!AJ44+'N-DBE'!AN44))","v":""},{"$f":"IF('N-DBE'!AK44=\"\",\"\",IF('N-DBE'!AM44=\"ja\",'N-DBE'!AK44+'N-DBE'!AN44,'N-DBE'!AK44))","v":""},{"$f":"IF(OR(B44=\"\",'N-DBE'!AK44=\"\"),\"\",IF('N-DBE'!AM44=\"ja\",'N-DBE'!E44*('N-DBE'!AK44+'N-DBE'!AN44),'N-DBE'!E44*'N-DBE'!AK44))","v":""},{"$f":"IF(OR(B44=\"\",'N-DBE'!AL44=\"\"),\"\",'N-DBE'!AL44+'N-DBE'!AN44)","v":""},{"$f":"IF(OR(B44=\"\",'N-DBE'!AL44=\"\"),\"\",'N-DBE'!E44*('N-DBE'!AL44+'N-DBE'!AN44))","v":""},{"$f":"IF(AND('N-DBE'!C44=\"ja\",G44<>\"\"),I44-X44,\"\")","v":""},{"$f":"IF('N-DBE'!AJ44=\"\",\"\",SUM(AU44,BI44,BW44,CK44,CY44,DM44))","v":""},{"$f":"IF(OR(B44=\"\",'N-DBE'!AJ44=\"\"),\"\",O44*'N-DBE'!E44)","v":""},{"$f":"IF('N-DBE'!AJ44=\"\",\"\",IF(AR44=\"mineralisch\",AU44,0)+IF(BF44=\"mineralisch\",BI44,0)+IF(BT44=\"mineralisch\",BW44,0)+IF(CH44=\"mineralisch\",CK44,0)+IF(CV44=\"mineralisch\",CY44,0)+IF(DJ44=\"mineralisch\",DM44,0))","v":""},{"$f":"IF(OR(B44=\"\",'N-DBE'!AJ44=\"\"),\"\",Q44*'N-DBE'!E44)","v":""},{"$f":"IF('N-DBE'!AJ44=\"\",\"\",O44-Q44)","v":""},{"$f":"IF(OR(B44=\"\",'N-DBE'!AJ44=\"\"),\"\",S44*'N-DBE'!E44)","v":""},{"$f":"IF('N-DBE'!AJ44=\"\",\"\",(IF(AR44=\"Kompost\",AU44,0)+IF(BF44=\"Kompost\",BI44,0)+IF(BT44=\"Kompost\",BW44,0)+IF(CH44=\"Kompost\",CK44,0)+IF(CV44=\"Kompost\",CY44,0)+IF(DJ44=\"Kompost\",DM44,0)))","v":""},{"$f":"IF(OR(B44=\"\",'N-DBE'!AJ44=\"\"),\"\",U44*'N-DBE'!E44)","v":""},{"$f":"IF('N-DBE'!AJ44=\"\",\"\",SUM(AW44,BK44,BY44,CM44,DA44,DO44))","v":""},{"$f":"IF(OR(B44=\"\",'N-DBE'!AJ44=\"\"),\"\",W44*'N-DBE'!E44)","v":""},{"$f":"IF('P-(K-Mg)-DBE'!N44=\"\",\"\",'P-(K-Mg)-DBE'!N44+'P-(K-Mg)-DBE'!R44)","v":""},{"$f":"IF(OR(B44=\"\",'P-(K-Mg)-DBE'!N44=\"\"),\"\",'N-DBE'!E44*('P-(K-Mg)-DBE'!N44+'P-(K-Mg)-DBE'!R44))","v":""},{"$f":"IF('P-(K-Mg)-DBE'!N44=\"\",\"\",SUM(AX44,BL44,BZ44,CN44,DB44,DP44))","v":""},{"$f":"IF(OR(B44=\"\",'P-(K-Mg)-DBE'!Z44=\"\"),\"\",SUM(AX44,BL44,BZ44,CN44,DB44,DP44)*'N-DBE'!E44)","v":""},{"$f":"IF('P-(K-Mg)-DBE'!O44=\"\",\"\",'P-(K-Mg)-DBE'!O44)","v":""},{"$f":"IF(OR(B44=\"\",'P-(K-Mg)-DBE'!O44=\"\"),\"\",'P-(K-Mg)-DBE'!O44*'N-DBE'!E44)","v":""},{"$f":"IF('P-(K-Mg)-DBE'!Z44=\"\",\"\",'P-(K-Mg)-DBE'!Z44)","v":""},{"$f":"IF(OR(B44=\"\",'P-(K-Mg)-DBE'!Z44=\"\"),\"\",'P-(K-Mg)-DBE'!Z44*'N-DBE'!E44)","v":""},{"$f":"IF('P-(K-Mg)-DBE'!Z44=\"\",\"\",SUM(AY44,BM44,CA44,CO44,DC44,DQ44))","v":""},{"$f":"IF(OR(B44=\"\",'P-(K-Mg)-DBE'!AH44=\"\"),\"\",SUM(AY44,BM44,CA44,CO44,DC44,DQ34)*'N-DBE'!E44)","v":""},{"$f":"IF('P-(K-Mg)-DBE'!AH44=\"\",\"\",'P-(K-Mg)-DBE'!AH44)","v":""},{"$f":"IF(OR(B44=\"\",'P-(K-Mg)-DBE'!AH44=\"\"),\"\",'N-DBE'!E44*'P-(K-Mg)-DBE'!AH44)","v":""},{"$f":"IF('P-(K-Mg)-DBE'!AH44=\"\",\"\",SUM(AZ44,BN44,CB44,CP44,DD44,DR44))","v":""},{"$f":"IF('P-(K-Mg)-DBE'!AH44=\"\",\"\",SUM(AZ44,BN44,CB44,CP44,DD44,DR44))","v":""},null,null,null,"","",{"$f":"IF(AM44=\"\",\"\",VLOOKUP(AM44,'aktuelle Düngerliste'!A:H,2,FALSE))","v":""},{"$f":"IF(AM44=\"\",\"\",VLOOKUP(AM44,'aktuelle Düngerliste'!A:H,3,FALSE))","v":""},{"$f":"IF(AM44=\"\",\"\",VLOOKUP(AM44,'aktuelle Düngerliste'!A:H,8,FALSE))","v":""},{"$f":"IF(AM44=\"\",\"\",VLOOKUP(AM44,'aktuelle Düngerliste'!$A:$H,3,FALSE)*AO44/1000)","v":""},{"$f":"IF(AM44=\"\",\"\",IF(VLOOKUP(AM44,'aktuelle Düngerliste'!$A:$B,2,FALSE)=\"mineralisch\",(VLOOKUP(AM44,'aktuelle Düngerliste'!$A:$H,3,FALSE)*AO44/1000),\"\"))","v":""},{"$f":"IF(AM44=\"\",\"\",VLOOKUP(AM44,'aktuelle Düngerliste'!$A:$J,10,FALSE)*AO44/1000)","v":""},{"$f":"IF(AM44=\"\",\"\",VLOOKUP(AM44,'aktuelle Düngerliste'!$A:$H,5,FALSE)*AO44/1000)","v":""},{"$f":"IF(AM44=\"\",\"\",VLOOKUP(AM44,'aktuelle Düngerliste'!$A:$H,6,FALSE)*AO44/1000)","v":""},{"$f":"IF(AM44=\"\",\"\",VLOOKUP(AM44,'aktuelle Düngerliste'!$A:$H,7,FALSE)*AO44/1000)","v":""},null,null,null,"","",{"$f":"IF(BA44=\"\",\"\",VLOOKUP(BA44,'aktuelle Düngerliste'!$A:$H,2,FALSE))","v":""},{"$f":"IF(BA44=\"\",\"\",VLOOKUP(BA44,'aktuelle Düngerliste'!$A:$H,3,FALSE))","v":""},{"$f":"IF(BA44=\"\",\"\",VLOOKUP(BA44,'aktuelle Düngerliste'!$A:$H,8,FALSE))","v":""},{"$f":"IF(BA44=\"\",\"\",VLOOKUP(BA44,'aktuelle Düngerliste'!$A:$H,3,FALSE)*BC44/1000)","v":""},{"$f":"IF(BA44=\"\",\"\",IF(VLOOKUP(BA44,'aktuelle Düngerliste'!$A:$B,2,FALSE)=\"mineralisch\",(VLOOKUP(BA44,'aktuelle Düngerliste'!$A:$H,3,FALSE)*BC44/1000),\"\"))","v":""},{"$f":"IF(BA44=\"\",\"\",VLOOKUP(BA44,'aktuelle Düngerliste'!$A:$J,10,FALSE)*BC44/1000)","v":""},{"$f":"IF(BA44=\"\",\"\",VLOOKUP(BA44,'aktuelle Düngerliste'!$A:$H,5,FALSE)*BC44/1000)","v":""},{"$f":"IF(BA44=\"\",\"\",VLOOKUP(BA44,'aktuelle Düngerliste'!$A:$H,6,FALSE)*BC44/1000)","v":""},{"$f":"IF(BA44=\"\",\"\",VLOOKUP(BA44,'aktuelle Düngerliste'!$A:$H,7,FALSE)*BC44/1000)","v":""},null,null,null,"","",{"$f":"IF(BO44=\"\",\"\",VLOOKUP(BO44,'aktuelle Düngerliste'!$A:$H,2,FALSE))","v":""},{"$f":"IF(BO44=\"\",\"\",VLOOKUP(BO44,'aktuelle Düngerliste'!$A:$H,3,FALSE))","v":""},{"$f":"IF(BO44=\"\",\"\",VLOOKUP(BO44,'aktuelle Düngerliste'!$A:$H,8,FALSE))","v":""},{"$f":"IF(BO44=\"\",\"\",VLOOKUP(BO44,'aktuelle Düngerliste'!$A:$H,3,FALSE)*BQ44/1000)","v":""},{"$f":"IF(BO44=\"\",\"\",IF(VLOOKUP(BO44,'aktuelle Düngerliste'!$A:$B,2,FALSE)=\"mineralisch\",(VLOOKUP(BO44,'aktuelle Düngerliste'!$A:$H,3,FALSE)*BQ44/1000),\"\"))","v":""},{"$f":"IF(BO44=\"\",\"\",VLOOKUP(BO44,'aktuelle Düngerliste'!$A:$J,10,FALSE)*BQ44/1000)","v":""},{"$f":"IF(BO44=\"\",\"\",VLOOKUP(BO44,'aktuelle Düngerliste'!$A:$H,5,FALSE)*BQ44/1000)","v":""},{"$f":"IF(BO44=\"\",\"\",VLOOKUP(BO44,'aktuelle Düngerliste'!$A:$H,6,FALSE)*BQ44/1000)","v":""},{"$f":"IF(BO44=\"\",\"\",VLOOKUP(BO44,'aktuelle Düngerliste'!$A:$H,7,FALSE)*BQ44/1000)","v":""},null,null,null,"","",{"$f":"IF(CC44=\"\",\"\",VLOOKUP(CC44,'aktuelle Düngerliste'!$A:$H,2,FALSE))","v":""},{"$f":"IF(CC44=\"\",\"\",VLOOKUP(CC44,'aktuelle Düngerliste'!$A:$H,3,FALSE))","v":""},{"$f":"IF(CC44=\"\",\"\",VLOOKUP(CC44,'aktuelle Düngerliste'!$A:$H,8,FALSE))","v":""},{"$f":"IF(CC44=\"\",\"\",VLOOKUP(CC44,'aktuelle Düngerliste'!$A:$H,3,FALSE)*CE44/1000)","v":""},{"$f":"IF(CC44=\"\",\"\",IF(VLOOKUP(CC44,'aktuelle Düngerliste'!$A:$B,2,FALSE)=\"mineralisch\",(VLOOKUP(CC44,'aktuelle Düngerliste'!$A:$H,3,FALSE)*CE44/1000),\"\"))","v":""},{"$f":"IF(CC44=\"\",\"\",VLOOKUP(CC44,'aktuelle Düngerliste'!$A:$J,10,FALSE)*CE44/1000)","v":""},{"$f":"IF(CC44=\"\",\"\",VLOOKUP(CC44,'aktuelle Düngerliste'!$A:$H,5,FALSE)*CE44/1000)","v":""},{"$f":"IF(CC44=\"\",\"\",VLOOKUP(CC44,'aktuelle Düngerliste'!$A:$H,6,FALSE)*CE44/1000)","v":""},{"$f":"IF(CC44=\"\",\"\",VLOOKUP(CC44,'aktuelle Düngerliste'!$A:$H,7,FALSE)*CE44/1000)","v":""},null,null,null,"","",{"$f":"IF(CQ44=\"\",\"\",VLOOKUP(CQ44,'aktuelle Düngerliste'!$A:$H,2,FALSE))","v":""},{"$f":"IF(CQ44=\"\",\"\",VLOOKUP(CQ44,'aktuelle Düngerliste'!$A:$H,3,FALSE))","v":""},{"$f":"IF(CQ44=\"\",\"\",VLOOKUP(CQ44,'aktuelle Düngerliste'!$A:$H,8,FALSE))","v":""},{"$f":"IF(CQ44=\"\",\"\",VLOOKUP(CQ44,'aktuelle Düngerliste'!$A:$H,3,FALSE)*CS44/1000)","v":""},{"$f":"IF(CQ44=\"\",\"\",IF(VLOOKUP(CQ44,'aktuelle Düngerliste'!$A:$B,2,FALSE)=\"mineralisch\",(VLOOKUP(CQ44,'aktuelle Düngerliste'!$A:$H,3,FALSE)*CS44/1000),\"\"))","v":""},{"$f":"IF(CQ44=\"\",\"\",VLOOKUP(CQ44,'aktuelle Düngerliste'!$A:$J,10,FALSE)*CS44/1000)","v":""},{"$f":"IF(CQ44=\"\",\"\",VLOOKUP(CQ44,'aktuelle Düngerliste'!$A:$H,5,FALSE)*CS44/1000)","v":""},{"$f":"IF(CQ44=\"\",\"\",VLOOKUP(CQ44,'aktuelle Düngerliste'!$A:$H,6,FALSE)*CS44/1000)","v":""},{"$f":"IF(CQ44=\"\",\"\",VLOOKUP(CQ44,'aktuelle Düngerliste'!$A:$H,7,FALSE)*CS44/1000)","v":""},null,null,null,"","",{"$f":"IF(DE44=\"\",\"\",VLOOKUP(DE44,'aktuelle Düngerliste'!$A:$H,2,FALSE))","v":""},{"$f":"IF(DE44=\"\",\"\",VLOOKUP(DE44,'aktuelle Düngerliste'!$A:$H,3,FALSE))","v":""},{"$f":"IF(DE44=\"\",\"\",VLOOKUP(DE44,'aktuelle Düngerliste'!$A:$H,8,FALSE))","v":""},{"$f":"IF(DE44=\"\",\"\",VLOOKUP(DE44,'aktuelle Düngerliste'!$A:$H,3,FALSE)*DG44/1000)","v":""},{"$f":"IF(DE44=\"\",\"\",IF(VLOOKUP(DE44,'aktuelle Düngerliste'!$A:$B,2,FALSE)=\"mineralisch\",(VLOOKUP(DE44,'aktuelle Düngerliste'!$A:$H,3,FALSE)*DG44/1000),\"\"))","v":""},{"$f":"IF(DE44=\"\",\"\",VLOOKUP(DE44,'aktuelle Düngerliste'!$A:$J,10,FALSE)*DG44/1000)","v":""},{"$f":"IF(DE44=\"\",\"\",VLOOKUP(DE44,'aktuelle Düngerliste'!$A:$H,5,FALSE)*DG44/1000)","v":""},{"$f":"IF(DE44=\"\",\"\",VLOOKUP(DE44,'aktuelle Düngerliste'!$A:$H,6,FALSE)*DG44/1000)","v":""},{"$f":"IF(DE44=\"\",\"\",VLOOKUP(DE44,'aktuelle Düngerliste'!$A:$H,7,FALSE)*DG44/1000)","v":""}]
[{"$f":"IF('N-DBE'!A45=\"\",\"\",'N-DBE'!A45)","v":""},{"$f":"IF('N-DBE'!B45=\"\",\"\",'N-DBE'!B45)","v":""},{"$f":"IF('N-DBE'!C45=\"\",\"\",'N-DBE'!C45)","v":""},{"$f":"IF('N-DBE'!D45=\"\",\"\",'N-DBE'!D45)","v":""},{"$f":"IF('N-DBE'!E45=\"\",\"\",'N-DBE'!E45)","v":""},{"$f":"IF('N-DBE'!F45=\"\",\"\",'N-DBE'!F45)","v":""},{"$f":"IF('N-DBE'!G45=\"\",\"\",'N-DBE'!G45)","v":""},{"$f":"IF(OR(B45=\"\",'N-DBE'!AJ45=\"\"),\"\",'N-DBE'!AJ45+'N-DBE'!AN45)","v":""},{"$f":"IF(OR(B45=\"\",'N-DBE'!AJ45=\"\"),\"\",'N-DBE'!E45*('N-DBE'!AJ45+'N-DBE'!AN45))","v":""},{"$f":"IF('N-DBE'!AK45=\"\",\"\",IF('N-DBE'!AM45=\"ja\",'N-DBE'!AK45+'N-DBE'!AN45,'N-DBE'!AK45))","v":""},{"$f":"IF(OR(B45=\"\",'N-DBE'!AK45=\"\"),\"\",IF('N-DBE'!AM45=\"ja\",'N-DBE'!E45*('N-DBE'!AK45+'N-DBE'!AN45),'N-DBE'!E45*'N-DBE'!AK45))","v":""},{"$f":"IF(OR(B45=\"\",'N-DBE'!AL45=\"\"),\"\",'N-DBE'!AL45+'N-DBE'!AN45)","v":""},{"$f":"IF(OR(B45=\"\",'N-DBE'!AL45=\"\"),\"\",'N-DBE'!E45*('N-DBE'!AL45+'N-DBE'!AN45))","v":""},{"$f":"IF(AND('N-DBE'!C45=\"ja\",G45<>\"\"),I45-X45,\"\")","v":""},{"$f":"IF('N-DBE'!AJ45=\"\",\"\",SUM(AU45,BI45,BW45,CK45,CY45,DM45))","v":""},{"$f":"IF(OR(B45=\"\",'N-DBE'!AJ45=\"\"),\"\",O45*'N-DBE'!E45)","v":""},{"$f":"IF('N-DBE'!AJ45=\"\",\"\",IF(AR45=\"mineralisch\",AU45,0)+IF(BF45=\"mineralisch\",BI45,0)+IF(BT45=\"mineralisch\",BW45,0)+IF(CH45=\"mineralisch\",CK45,0)+IF(CV45=\"mineralisch\",CY45,0)+IF(DJ45=\"mineralisch\",DM45,0))","v":""},{"$f":"IF(OR(B45=\"\",'N-DBE'!AJ45=\"\"),\"\",Q45*'N-DBE'!E45)","v":""},{"$f":"IF('N-DBE'!AJ45=\"\",\"\",O45-Q45)","v":""},{"$f":"IF(OR(B45=\"\",'N-DBE'!AJ45=\"\"),\"\",S45*'N-DBE'!E45)","v":""},{"$f":"IF('N-DBE'!AJ45=\"\",\"\",(IF(AR45=\"Kompost\",AU45,0)+IF(BF45=\"Kompost\",BI45,0)+IF(BT45=\"Kompost\",BW45,0)+IF(CH45=\"Kompost\",CK45,0)+IF(CV45=\"Kompost\",CY45,0)+IF(DJ45=\"Kompost\",DM45,0)))","v":""},{"$f":"IF(OR(B45=\"\",'N-DBE'!AJ45=\"\"),\"\",U45*'N-DBE'!E45)","v":""},{"$f":"IF('N-DBE'!AJ45=\"\",\"\",SUM(AW45,BK45,BY45,CM45,DA45,DO45))","v":""},{"$f":"IF(OR(B45=\"\",'N-DBE'!AJ45=\"\"),\"\",W45*'N-DBE'!E45)","v":""},{"$f":"IF('P-(K-Mg)-DBE'!N45=\"\",\"\",'P-(K-Mg)-DBE'!N45+'P-(K-Mg)-DBE'!R45)","v":""},{"$f":"IF(OR(B45=\"\",'P-(K-Mg)-DBE'!N45=\"\"),\"\",'N-DBE'!E45*('P-(K-Mg)-DBE'!N45+'P-(K-Mg)-DBE'!R45))","v":""},{"$f":"IF('P-(K-Mg)-DBE'!N45=\"\",\"\",SUM(AX45,BL45,BZ45,CN45,DB45,DP45))","v":""},{"$f":"IF(OR(B45=\"\",'P-(K-Mg)-DBE'!Z45=\"\"),\"\",SUM(AX45,BL45,BZ45,CN45,DB45,DP45)*'N-DBE'!E45)","v":""},{"$f":"IF('P-(K-Mg)-DBE'!O45=\"\",\"\",'P-(K-Mg)-DBE'!O45)","v":""},{"$f":"IF(OR(B45=\"\",'P-(K-Mg)-DBE'!O45=\"\"),\"\",'P-(K-Mg)-DBE'!O45*'N-DBE'!E45)","v":""},{"$f":"IF('P-(K-Mg)-DBE'!Z45=\"\",\"\",'P-(K-Mg)-DBE'!Z45)","v":""},{"$f":"IF(OR(B45=\"\",'P-(K-Mg)-DBE'!Z45=\"\"),\"\",'P-(K-Mg)-DBE'!Z45*'N-DBE'!E45)","v":""},{"$f":"IF('P-(K-Mg)-DBE'!Z45=\"\",\"\",SUM(AY45,BM45,CA45,CO45,DC45,DQ45))","v":""},{"$f":"IF(OR(B45=\"\",'P-(K-Mg)-DBE'!AH45=\"\"),\"\",SUM(AY45,BM45,CA45,CO45,DC45,DQ35)*'N-DBE'!E45)","v":""},{"$f":"IF('P-(K-Mg)-DBE'!AH45=\"\",\"\",'P-(K-Mg)-DBE'!AH45)","v":""},{"$f":"IF(OR(B45=\"\",'P-(K-Mg)-DBE'!AH45=\"\"),\"\",'N-DBE'!E45*'P-(K-Mg)-DBE'!AH45)","v":""},{"$f":"IF('P-(K-Mg)-DBE'!AH45=\"\",\"\",SUM(AZ45,BN45,CB45,CP45,DD45,DR45))","v":""},{"$f":"IF('P-(K-Mg)-DBE'!AH45=\"\",\"\",SUM(AZ45,BN45,CB45,CP45,DD45,DR45))","v":""},null,null,null,"","",{"$f":"IF(AM45=\"\",\"\",VLOOKUP(AM45,'aktuelle Düngerliste'!A:H,2,FALSE))","v":""},{"$f":"IF(AM45=\"\",\"\",VLOOKUP(AM45,'aktuelle Düngerliste'!A:H,3,FALSE))","v":""},{"$f":"IF(AM45=\"\",\"\",VLOOKUP(AM45,'aktuelle Düngerliste'!A:H,8,FALSE))","v":""},{"$f":"IF(AM45=\"\",\"\",VLOOKUP(AM45,'aktuelle Düngerliste'!$A:$H,3,FALSE)*AO45/1000)","v":""},{"$f":"IF(AM45=\"\",\"\",IF(VLOOKUP(AM45,'aktuelle Düngerliste'!$A:$B,2,FALSE)=\"mineralisch\",(VLOOKUP(AM45,'aktuelle Düngerliste'!$A:$H,3,FALSE)*AO45/1000),\"\"))","v":""},{"$f":"IF(AM45=\"\",\"\",VLOOKUP(AM45,'aktuelle Düngerliste'!$A:$J,10,FALSE)*AO45/1000)","v":""},{"$f":"IF(AM45=\"\",\"\",VLOOKUP(AM45,'aktuelle Düngerliste'!$A:$H,5,FALSE)*AO45/1000)","v":""},{"$f":"IF(AM45=\"\",\"\",VLOOKUP(AM45,'aktuelle Düngerliste'!$A:$H,6,FALSE)*AO45/1000)","v":""},{"$f":"IF(AM45=\"\",\"\",VLOOKUP(AM45,'aktuelle Düngerliste'!$A:$H,7,FALSE)*AO45/1000)","v":""},null,null,null,"","",{"$f":"IF(BA45=\"\",\"\",VLOOKUP(BA45,'aktuelle Düngerliste'!$A:$H,2,FALSE))","v":""},{"$f":"IF(BA45=\"\",\"\",VLOOKUP(BA45,'aktuelle Düngerliste'!$A:$H,3,FALSE))","v":""},{"$f":"IF(BA45=\"\",\"\",VLOOKUP(BA45,'aktuelle Düngerliste'!$A:$H,8,FALSE))","v":""},{"$f":"IF(BA45=\"\",\"\",VLOOKUP(BA45,'aktuelle Düngerliste'!$A:$H,3,FALSE)*BC45/1000)","v":""},{"$f":"IF(BA45=\"\",\"\",IF(VLOOKUP(BA45,'aktuelle Düngerliste'!$A:$B,2,FALSE)=\"mineralisch\",(VLOOKUP(BA45,'aktuelle Düngerliste'!$A:$H,3,FALSE)*BC45/1000),\"\"))","v":""},{"$f":"IF(BA45=\"\",\"\",VLOOKUP(BA45,'aktuelle Düngerliste'!$A:$J,10,FALSE)*BC45/1000)","v":""},{"$f":"IF(BA45=\"\",\"\",VLOOKUP(BA45,'aktuelle Düngerliste'!$A:$H,5,FALSE)*BC45/1000)","v":""},{"$f":"IF(BA45=\"\",\"\",VLOOKUP(BA45,'aktuelle Düngerliste'!$A:$H,6,FALSE)*BC45/1000)","v":""},{"$f":"IF(BA45=\"\",\"\",VLOOKUP(BA45,'aktuelle Düngerliste'!$A:$H,7,FALSE)*BC45/1000)","v":""},null,null,null,"","",{"$f":"IF(BO45=\"\",\"\",VLOOKUP(BO45,'aktuelle Düngerliste'!$A:$H,2,FALSE))","v":""},{"$f":"IF(BO45=\"\",\"\",VLOOKUP(BO45,'aktuelle Düngerliste'!$A:$H,3,FALSE))","v":""},{"$f":"IF(BO45=\"\",\"\",VLOOKUP(BO45,'aktuelle Düngerliste'!$A:$H,8,FALSE))","v":""},{"$f":"IF(BO45=\"\",\"\",VLOOKUP(BO45,'aktuelle Düngerliste'!$A:$H,3,FALSE)*BQ45/1000)","v":""},{"$f":"IF(BO45=\"\",\"\",IF(VLOOKUP(BO45,'aktuelle Düngerliste'!$A:$B,2,FALSE)=\"mineralisch\",(VLOOKUP(BO45,'aktuelle Düngerliste'!$A:$H,3,FALSE)*BQ45/1000),\"\"))","v":""},{"$f":"IF(BO45=\"\",\"\",VLOOKUP(BO45,'aktuelle Düngerliste'!$A:$J,10,FALSE)*BQ45/1000)","v":""},{"$f":"IF(BO45=\"\",\"\",VLOOKUP(BO45,'aktuelle Düngerliste'!$A:$H,5,FALSE)*BQ45/1000)","v":""},{"$f":"IF(BO45=\"\",\"\",VLOOKUP(BO45,'aktuelle Düngerliste'!$A:$H,6,FALSE)*BQ45/1000)","v":""},{"$f":"IF(BO45=\"\",\"\",VLOOKUP(BO45,'aktuelle Düngerliste'!$A:$H,7,FALSE)*BQ45/1000)","v":""},null,null,null,"","",{"$f":"IF(CC45=\"\",\"\",VLOOKUP(CC45,'aktuelle Düngerliste'!$A:$H,2,FALSE))","v":""},{"$f":"IF(CC45=\"\",\"\",VLOOKUP(CC45,'aktuelle Düngerliste'!$A:$H,3,FALSE))","v":""},{"$f":"IF(CC45=\"\",\"\",VLOOKUP(CC45,'aktuelle Düngerliste'!$A:$H,8,FALSE))","v":""},{"$f":"IF(CC45=\"\",\"\",VLOOKUP(CC45,'aktuelle Düngerliste'!$A:$H,3,FALSE)*CE45/1000)","v":""},{"$f":"IF(CC45=\"\",\"\",IF(VLOOKUP(CC45,'aktuelle Düngerliste'!$A:$B,2,FALSE)=\"mineralisch\",(VLOOKUP(CC45,'aktuelle Düngerliste'!$A:$H,3,FALSE)*CE45/1000),\"\"))","v":""},{"$f":"IF(CC45=\"\",\"\",VLOOKUP(CC45,'aktuelle Düngerliste'!$A:$J,10,FALSE)*CE45/1000)","v":""},{"$f":"IF(CC45=\"\",\"\",VLOOKUP(CC45,'aktuelle Düngerliste'!$A:$H,5,FALSE)*CE45/1000)","v":""},{"$f":"IF(CC45=\"\",\"\",VLOOKUP(CC45,'aktuelle Düngerliste'!$A:$H,6,FALSE)*CE45/1000)","v":""},{"$f":"IF(CC45=\"\",\"\",VLOOKUP(CC45,'aktuelle Düngerliste'!$A:$H,7,FALSE)*CE45/1000)","v":""},null,null,null,"","",{"$f":"IF(CQ45=\"\",\"\",VLOOKUP(CQ45,'aktuelle Düngerliste'!$A:$H,2,FALSE))","v":""},{"$f":"IF(CQ45=\"\",\"\",VLOOKUP(CQ45,'aktuelle Düngerliste'!$A:$H,3,FALSE))","v":""},{"$f":"IF(CQ45=\"\",\"\",VLOOKUP(CQ45,'aktuelle Düngerliste'!$A:$H,8,FALSE))","v":""},{"$f":"IF(CQ45=\"\",\"\",VLOOKUP(CQ45,'aktuelle Düngerliste'!$A:$H,3,FALSE)*CS45/1000)","v":""},{"$f":"IF(CQ45=\"\",\"\",IF(VLOOKUP(CQ45,'aktuelle Düngerliste'!$A:$B,2,FALSE)=\"mineralisch\",(VLOOKUP(CQ45,'aktuelle Düngerliste'!$A:$H,3,FALSE)*CS45/1000),\"\"))","v":""},{"$f":"IF(CQ45=\"\",\"\",VLOOKUP(CQ45,'aktuelle Düngerliste'!$A:$J,10,FALSE)*CS45/1000)","v":""},{"$f":"IF(CQ45=\"\",\"\",VLOOKUP(CQ45,'aktuelle Düngerliste'!$A:$H,5,FALSE)*CS45/1000)","v":""},{"$f":"IF(CQ45=\"\",\"\",VLOOKUP(CQ45,'aktuelle Düngerliste'!$A:$H,6,FALSE)*CS45/1000)","v":""},{"$f":"IF(CQ45=\"\",\"\",VLOOKUP(CQ45,'aktuelle Düngerliste'!$A:$H,7,FALSE)*CS45/1000)","v":""},null,null,null,"","",{"$f":"IF(DE45=\"\",\"\",VLOOKUP(DE45,'aktuelle Düngerliste'!$A:$H,2,FALSE))","v":""},{"$f":"IF(DE45=\"\",\"\",VLOOKUP(DE45,'aktuelle Düngerliste'!$A:$H,3,FALSE))","v":""},{"$f":"IF(DE45=\"\",\"\",VLOOKUP(DE45,'aktuelle Düngerliste'!$A:$H,8,FALSE))","v":""},{"$f":"IF(DE45=\"\",\"\",VLOOKUP(DE45,'aktuelle Düngerliste'!$A:$H,3,FALSE)*DG45/1000)","v":""},{"$f":"IF(DE45=\"\",\"\",IF(VLOOKUP(DE45,'aktuelle Düngerliste'!$A:$B,2,FALSE)=\"mineralisch\",(VLOOKUP(DE45,'aktuelle Düngerliste'!$A:$H,3,FALSE)*DG45/1000),\"\"))","v":""},{"$f":"IF(DE45=\"\",\"\",VLOOKUP(DE45,'aktuelle Düngerliste'!$A:$J,10,FALSE)*DG45/1000)","v":""},{"$f":"IF(DE45=\"\",\"\",VLOOKUP(DE45,'aktuelle Düngerliste'!$A:$H,5,FALSE)*DG45/1000)","v":""},{"$f":"IF(DE45=\"\",\"\",VLOOKUP(DE45,'aktuelle Düngerliste'!$A:$H,6,FALSE)*DG45/1000)","v":""},{"$f":"IF(DE45=\"\",\"\",VLOOKUP(DE45,'aktuelle Düngerliste'!$A:$H,7,FALSE)*DG45/1000)","v":""}]
[{"$f":"IF('N-DBE'!A46=\"\",\"\",'N-DBE'!A46)","v":""},{"$f":"IF('N-DBE'!B46=\"\",\"\",'N-DBE'!B46)","v":""},{"$f":"IF('N-DBE'!C46=\"\",\"\",'N-DBE'!C46)","v":""},{"$f":"IF('N-DBE'!D46=\"\",\"\",'N-DBE'!D46)","v":""},{"$f":"IF('N-DBE'!E46=\"\",\"\",'N-DBE'!E46)","v":""},{"$f":"IF('N-DBE'!F46=\"\",\"\",'N-DBE'!F46)","v":""},{"$f":"IF('N-DBE'!G46=\"\",\"\",'N-DBE'!G46)","v":""},{"$f":"IF(OR(B46=\"\",'N-DBE'!AJ46=\"\"),\"\",'N-DBE'!AJ46+'N-DBE'!AN46)","v":""},{"$f":"IF(OR(B46=\"\",'N-DBE'!AJ46=\"\"),\"\",'N-DBE'!E46*('N-DBE'!AJ46+'N-DBE'!AN46))","v":""},{"$f":"IF('N-DBE'!AK46=\"\",\"\",IF('N-DBE'!AM46=\"ja\",'N-DBE'!AK46+'N-DBE'!AN46,'N-DBE'!AK46))","v":""},{"$f":"IF(OR(B46=\"\",'N-DBE'!AK46=\"\"),\"\",IF('N-DBE'!AM46=\"ja\",'N-DBE'!E46*('N-DBE'!AK46+'N-DBE'!AN46),'N-DBE'!E46*'N-DBE'!AK46))","v":""},{"$f":"IF(OR(B46=\"\",'N-DBE'!AL46=\"\"),\"\",'N-DBE'!AL46+'N-DBE'!AN46)","v":""},{"$f":"IF(OR(B46=\"\",'N-DBE'!AL46=\"\"),\"\",'N-DBE'!E46*('N-DBE'!AL46+'N-DBE'!AN46))","v":""},{"$f":"IF(AND('N-DBE'!C46=\"ja\",G46<>\"\"),I46-X46,\"\")","v":""},{"$f":"IF('N-DBE'!AJ46=\"\",\"\",SUM(AU46,BI46,BW46,CK46,CY46,DM46))","v":""},{"$f":"IF(OR(B46=\"\",'N-DBE'!AJ46=\"\"),\"\",O46*'N-DBE'!E46)","v":""},{"$f":"IF('N-DBE'!AJ46=\"\",\"\",IF(AR46=\"mineralisch\",AU46,0)+IF(BF46=\"mineralisch\",BI46,0)+IF(BT46=\"mineralisch\",BW46,0)+IF(CH46=\"mineralisch\",CK46,0)+IF(CV46=\"mineralisch\",CY46,0)+IF(DJ46=\"mineralisch\",DM46,0))","v":""},{"$f":"IF(OR(B46=\"\",'N-DBE'!AJ46=\"\"),\"\",Q46*'N-DBE'!E46)","v":""},{"$f":"IF('N-DBE'!AJ46=\"\",\"\",O46-Q46)","v":""},{"$f":"IF(OR(B46=\"\",'N-DBE'!AJ46=\"\"),\"\",S46*'N-DBE'!E46)","v":""},{"$f":"IF('N-DBE'!AJ46=\"\",\"\",(IF(AR46=\"Kompost\",AU46,0)+IF(BF46=\"Kompost\",BI46,0)+IF(BT46=\"Kompost\",BW46,0)+IF(CH46=\"Kompost\",CK46,0)+IF(CV46=\"Kompost\",CY46,0)+IF(DJ46=\"Kompost\",DM46,0)))","v":""},{"$f":"IF(OR(B46=\"\",'N-DBE'!AJ46=\"\"),\"\",U46*'N-DBE'!E46)","v":""},{"$f":"IF('N-DBE'!AJ46=\"\",\"\",SUM(AW46,BK46,BY46,CM46,DA46,DO46))","v":""},{"$f":"IF(OR(B46=\"\",'N-DBE'!AJ46=\"\"),\"\",W46*'N-DBE'!E46)","v":""},{"$f":"IF('P-(K-Mg)-DBE'!N46=\"\",\"\",'P-(K-Mg)-DBE'!N46+'P-(K-Mg)-DBE'!R46)","v":""},{"$f":"IF(OR(B46=\"\",'P-(K-Mg)-DBE'!N46=\"\"),\"\",'N-DBE'!E46*('P-(K-Mg)-DBE'!N46+'P-(K-Mg)-DBE'!R46))","v":""},{"$f":"IF('P-(K-Mg)-DBE'!N46=\"\",\"\",SUM(AX46,BL46,BZ46,CN46,DB46,DP46))","v":""},{"$f":"IF(OR(B46=\"\",'P-(K-Mg)-DBE'!Z46=\"\"),\"\",SUM(AX46,BL46,BZ46,CN46,DB46,DP46)*'N-DBE'!E46)","v":""},{"$f":"IF('P-(K-Mg)-DBE'!O46=\"\",\"\",'P-(K-Mg)-DBE'!O46)","v":""},{"$f":"IF(OR(B46=\"\",'P-(K-Mg)-DBE'!O46=\"\"),\"\",'P-(K-Mg)-DBE'!O46*'N-DBE'!E46)","v":""},{"$f":"IF('P-(K-Mg)-DBE'!Z46=\"\",\"\",'P-(K-Mg)-DBE'!Z46)","v":""},{"$f":"IF(OR(B46=\"\",'P-(K-Mg)-DBE'!Z46=\"\"),\"\",'P-(K-Mg)-DBE'!Z46*'N-DBE'!E46)","v":""},{"$f":"IF('P-(K-Mg)-DBE'!Z46=\"\",\"\",SUM(AY46,BM46,CA46,CO46,DC46,DQ46))","v":""},{"$f":"IF(OR(B46=\"\",'P-(K-Mg)-DBE'!AH46=\"\"),\"\",SUM(AY46,BM46,CA46,CO46,DC46,DQ36)*'N-DBE'!E46)","v":""},{"$f":"IF('P-(K-Mg)-DBE'!AH46=\"\",\"\",'P-(K-Mg)-DBE'!AH46)","v":""},{"$f":"IF(OR(B46=\"\",'P-(K-Mg)-DBE'!AH46=\"\"),\"\",'N-DBE'!E46*'P-(K-Mg)-DBE'!AH46)","v":""},{"$f":"IF('P-(K-Mg)-DBE'!AH46=\"\",\"\",SUM(AZ46,BN46,CB46,CP46,DD46,DR46))","v":""},{"$f":"IF('P-(K-Mg)-DBE'!AH46=\"\",\"\",SUM(AZ46,BN46,CB46,CP46,DD46,DR46))","v":""},null,null,null,"","",{"$f":"IF(AM46=\"\",\"\",VLOOKUP(AM46,'aktuelle Düngerliste'!A:H,2,FALSE))","v":""},{"$f":"IF(AM46=\"\",\"\",VLOOKUP(AM46,'aktuelle Düngerliste'!A:H,3,FALSE))","v":""},{"$f":"IF(AM46=\"\",\"\",VLOOKUP(AM46,'aktuelle Düngerliste'!A:H,8,FALSE))","v":""},{"$f":"IF(AM46=\"\",\"\",VLOOKUP(AM46,'aktuelle Düngerliste'!$A:$H,3,FALSE)*AO46/1000)","v":""},{"$f":"IF(AM46=\"\",\"\",IF(VLOOKUP(AM46,'aktuelle Düngerliste'!$A:$B,2,FALSE)=\"mineralisch\",(VLOOKUP(AM46,'aktuelle Düngerliste'!$A:$H,3,FALSE)*AO46/1000),\"\"))","v":""},{"$f":"IF(AM46=\"\",\"\",VLOOKUP(AM46,'aktuelle Düngerliste'!$A:$J,10,FALSE)*AO46/1000)","v":""},{"$f":"IF(AM46=\"\",\"\",VLOOKUP(AM46,'aktuelle Düngerliste'!$A:$H,5,FALSE)*AO46/1000)","v":""},{"$f":"IF(AM46=\"\",\"\",VLOOKUP(AM46,'aktuelle Düngerliste'!$A:$H,6,FALSE)*AO46/1000)","v":""},{"$f":"IF(AM46=\"\",\"\",VLOOKUP(AM46,'aktuelle Düngerliste'!$A:$H,7,FALSE)*AO46/1000)","v":""},null,null,null,"","",{"$f":"IF(BA46=\"\",\"\",VLOOKUP(BA46,'aktuelle Düngerliste'!$A:$H,2,FALSE))","v":""},{"$f":"IF(BA46=\"\",\"\",VLOOKUP(BA46,'aktuelle Düngerliste'!$A:$H,3,FALSE))","v":""},{"$f":"IF(BA46=\"\",\"\",VLOOKUP(BA46,'aktuelle Düngerliste'!$A:$H,8,FALSE))","v":""},{"$f":"IF(BA46=\"\",\"\",VLOOKUP(BA46,'aktuelle Düngerliste'!$A:$H,3,FALSE)*BC46/1000)","v":""},{"$f":"IF(BA46=\"\",\"\",IF(VLOOKUP(BA46,'aktuelle Düngerliste'!$A:$B,2,FALSE)=\"mineralisch\",(VLOOKUP(BA46,'aktuelle Düngerliste'!$A:$H,3,FALSE)*BC46/1000),\"\"))","v":""},{"$f":"IF(BA46=\"\",\"\",VLOOKUP(BA46,'aktuelle Düngerliste'!$A:$J,10,FALSE)*BC46/1000)","v":""},{"$f":"IF(BA46=\"\",\"\",VLOOKUP(BA46,'aktuelle Düngerliste'!$A:$H,5,FALSE)*BC46/1000)","v":""},{"$f":"IF(BA46=\"\",\"\",VLOOKUP(BA46,'aktuelle Düngerliste'!$A:$H,6,FALSE)*BC46/1000)","v":""},{"$f":"IF(BA46=\"\",\"\",VLOOKUP(BA46,'aktuelle Düngerliste'!$A:$H,7,FALSE)*BC46/1000)","v":""},null,null,null,"","",{"$f":"IF(BO46=\"\",\"\",VLOOKUP(BO46,'aktuelle Düngerliste'!$A:$H,2,FALSE))","v":""},{"$f":"IF(BO46=\"\",\"\",VLOOKUP(BO46,'aktuelle Düngerliste'!$A:$H,3,FALSE))","v":""},{"$f":"IF(BO46=\"\",\"\",VLOOKUP(BO46,'aktuelle Düngerliste'!$A:$H,8,FALSE))","v":""},{"$f":"IF(BO46=\"\",\"\",VLOOKUP(BO46,'aktuelle Düngerliste'!$A:$H,3,FALSE)*BQ46/1000)","v":""},{"$f":"IF(BO46=\"\",\"\",IF(VLOOKUP(BO46,'aktuelle Düngerliste'!$A:$B,2,FALSE)=\"mineralisch\",(VLOOKUP(BO46,'aktuelle Düngerliste'!$A:$H,3,FALSE)*BQ46/1000),\"\"))","v":""},{"$f":"IF(BO46=\"\",\"\",VLOOKUP(BO46,'aktuelle Düngerliste'!$A:$J,10,FALSE)*BQ46/1000)","v":""},{"$f":"IF(BO46=\"\",\"\",VLOOKUP(BO46,'aktuelle Düngerliste'!$A:$H,5,FALSE)*BQ46/1000)","v":""},{"$f":"IF(BO46=\"\",\"\",VLOOKUP(BO46,'aktuelle Düngerliste'!$A:$H,6,FALSE)*BQ46/1000)","v":""},{"$f":"IF(BO46=\"\",\"\",VLOOKUP(BO46,'aktuelle Düngerliste'!$A:$H,7,FALSE)*BQ46/1000)","v":""},null,null,null,"","",{"$f":"IF(CC46=\"\",\"\",VLOOKUP(CC46,'aktuelle Düngerliste'!$A:$H,2,FALSE))","v":""},{"$f":"IF(CC46=\"\",\"\",VLOOKUP(CC46,'aktuelle Düngerliste'!$A:$H,3,FALSE))","v":""},{"$f":"IF(CC46=\"\",\"\",VLOOKUP(CC46,'aktuelle Düngerliste'!$A:$H,8,FALSE))","v":""},{"$f":"IF(CC46=\"\",\"\",VLOOKUP(CC46,'aktuelle Düngerliste'!$A:$H,3,FALSE)*CE46/1000)","v":""},{"$f":"IF(CC46=\"\",\"\",IF(VLOOKUP(CC46,'aktuelle Düngerliste'!$A:$B,2,FALSE)=\"mineralisch\",(VLOOKUP(CC46,'aktuelle Düngerliste'!$A:$H,3,FALSE)*CE46/1000),\"\"))","v":""},{"$f":"IF(CC46=\"\",\"\",VLOOKUP(CC46,'aktuelle Düngerliste'!$A:$J,10,FALSE)*CE46/1000)","v":""},{"$f":"IF(CC46=\"\",\"\",VLOOKUP(CC46,'aktuelle Düngerliste'!$A:$H,5,FALSE)*CE46/1000)","v":""},{"$f":"IF(CC46=\"\",\"\",VLOOKUP(CC46,'aktuelle Düngerliste'!$A:$H,6,FALSE)*CE46/1000)","v":""},{"$f":"IF(CC46=\"\",\"\",VLOOKUP(CC46,'aktuelle Düngerliste'!$A:$H,7,FALSE)*CE46/1000)","v":""},null,null,null,"","",{"$f":"IF(CQ46=\"\",\"\",VLOOKUP(CQ46,'aktuelle Düngerliste'!$A:$H,2,FALSE))","v":""},{"$f":"IF(CQ46=\"\",\"\",VLOOKUP(CQ46,'aktuelle Düngerliste'!$A:$H,3,FALSE))","v":""},{"$f":"IF(CQ46=\"\",\"\",VLOOKUP(CQ46,'aktuelle Düngerliste'!$A:$H,8,FALSE))","v":""},{"$f":"IF(CQ46=\"\",\"\",VLOOKUP(CQ46,'aktuelle Düngerliste'!$A:$H,3,FALSE)*CS46/1000)","v":""},{"$f":"IF(CQ46=\"\",\"\",IF(VLOOKUP(CQ46,'aktuelle Düngerliste'!$A:$B,2,FALSE)=\"mineralisch\",(VLOOKUP(CQ46,'aktuelle Düngerliste'!$A:$H,3,FALSE)*CS46/1000),\"\"))","v":""},{"$f":"IF(CQ46=\"\",\"\",VLOOKUP(CQ46,'aktuelle Düngerliste'!$A:$J,10,FALSE)*CS46/1000)","v":""},{"$f":"IF(CQ46=\"\",\"\",VLOOKUP(CQ46,'aktuelle Düngerliste'!$A:$H,5,FALSE)*CS46/1000)","v":""},{"$f":"IF(CQ46=\"\",\"\",VLOOKUP(CQ46,'aktuelle Düngerliste'!$A:$H,6,FALSE)*CS46/1000)","v":""},{"$f":"IF(CQ46=\"\",\"\",VLOOKUP(CQ46,'aktuelle Düngerliste'!$A:$H,7,FALSE)*CS46/1000)","v":""},null,null,null,"","",{"$f":"IF(DE46=\"\",\"\",VLOOKUP(DE46,'aktuelle Düngerliste'!$A:$H,2,FALSE))","v":""},{"$f":"IF(DE46=\"\",\"\",VLOOKUP(DE46,'aktuelle Düngerliste'!$A:$H,3,FALSE))","v":""},{"$f":"IF(DE46=\"\",\"\",VLOOKUP(DE46,'aktuelle Düngerliste'!$A:$H,8,FALSE))","v":""},{"$f":"IF(DE46=\"\",\"\",VLOOKUP(DE46,'aktuelle Düngerliste'!$A:$H,3,FALSE)*DG46/1000)","v":""},{"$f":"IF(DE46=\"\",\"\",IF(VLOOKUP(DE46,'aktuelle Düngerliste'!$A:$B,2,FALSE)=\"mineralisch\",(VLOOKUP(DE46,'aktuelle Düngerliste'!$A:$H,3,FALSE)*DG46/1000),\"\"))","v":""},{"$f":"IF(DE46=\"\",\"\",VLOOKUP(DE46,'aktuelle Düngerliste'!$A:$J,10,FALSE)*DG46/1000)","v":""},{"$f":"IF(DE46=\"\",\"\",VLOOKUP(DE46,'aktuelle Düngerliste'!$A:$H,5,FALSE)*DG46/1000)","v":""},{"$f":"IF(DE46=\"\",\"\",VLOOKUP(DE46,'aktuelle Düngerliste'!$A:$H,6,FALSE)*DG46/1000)","v":""},{"$f":"IF(DE46=\"\",\"\",VLOOKUP(DE46,'aktuelle Düngerliste'!$A:$H,7,FALSE)*DG46/1000)","v":""}]
[{"$f":"IF('N-DBE'!A47=\"\",\"\",'N-DBE'!A47)","v":""},{"$f":"IF('N-DBE'!B47=\"\",\"\",'N-DBE'!B47)","v":""},{"$f":"IF('N-DBE'!C47=\"\",\"\",'N-DBE'!C47)","v":""},{"$f":"IF('N-DBE'!D47=\"\",\"\",'N-DBE'!D47)","v":""},{"$f":"IF('N-DBE'!E47=\"\",\"\",'N-DBE'!E47)","v":""},{"$f":"IF('N-DBE'!F47=\"\",\"\",'N-DBE'!F47)","v":""},{"$f":"IF('N-DBE'!G47=\"\",\"\",'N-DBE'!G47)","v":""},{"$f":"IF(OR(B47=\"\",'N-DBE'!AJ47=\"\"),\"\",'N-DBE'!AJ47+'N-DBE'!AN47)","v":""},{"$f":"IF(OR(B47=\"\",'N-DBE'!AJ47=\"\"),\"\",'N-DBE'!E47*('N-DBE'!AJ47+'N-DBE'!AN47))","v":""},{"$f":"IF('N-DBE'!AK47=\"\",\"\",IF('N-DBE'!AM47=\"ja\",'N-DBE'!AK47+'N-DBE'!AN47,'N-DBE'!AK47))","v":""},{"$f":"IF(OR(B47=\"\",'N-DBE'!AK47=\"\"),\"\",IF('N-DBE'!AM47=\"ja\",'N-DBE'!E47*('N-DBE'!AK47+'N-DBE'!AN47),'N-DBE'!E47*'N-DBE'!AK47))","v":""},{"$f":"IF(OR(B47=\"\",'N-DBE'!AL47=\"\"),\"\",'N-DBE'!AL47+'N-DBE'!AN47)","v":""},{"$f":"IF(OR(B47=\"\",'N-DBE'!AL47=\"\"),\"\",'N-DBE'!E47*('N-DBE'!AL47+'N-DBE'!AN47))","v":""},{"$f":"IF(AND('N-DBE'!C47=\"ja\",G47<>\"\"),I47-X47,\"\")","v":""},{"$f":"IF('N-DBE'!AJ47=\"\",\"\",SUM(AU47,BI47,BW47,CK47,CY47,DM47))","v":""},{"$f":"IF(OR(B47=\"\",'N-DBE'!AJ47=\"\"),\"\",O47*'N-DBE'!E47)","v":""},{"$f":"IF('N-DBE'!AJ47=\"\",\"\",IF(AR47=\"mineralisch\",AU47,0)+IF(BF47=\"mineralisch\",BI47,0)+IF(BT47=\"mineralisch\",BW47,0)+IF(CH47=\"mineralisch\",CK47,0)+IF(CV47=\"mineralisch\",CY47,0)+IF(DJ47=\"mineralisch\",DM47,0))","v":""},{"$f":"IF(OR(B47=\"\",'N-DBE'!AJ47=\"\"),\"\",Q47*'N-DBE'!E47)","v":""},{"$f":"IF('N-DBE'!AJ47=\"\",\"\",O47-Q47)","v":""},{"$f":"IF(OR(B47=\"\",'N-DBE'!AJ47=\"\"),\"\",S47*'N-DBE'!E47)","v":""},{"$f":"IF('N-DBE'!AJ47=\"\",\"\",(IF(AR47=\"Kompost\",AU47,0)+IF(BF47=\"Kompost\",BI47,0)+IF(BT47=\"Kompost\",BW47,0)+IF(CH47=\"Kompost\",CK47,0)+IF(CV47=\"Kompost\",CY47,0)+IF(DJ47=\"Kompost\",DM47,0)))","v":""},{"$f":"IF(OR(B47=\"\",'N-DBE'!AJ47=\"\"),\"\",U47*'N-DBE'!E47)","v":""},{"$f":"IF('N-DBE'!AJ47=\"\",\"\",SUM(AW47,BK47,BY47,CM47,DA47,DO47))","v":""},{"$f":"IF(OR(B47=\"\",'N-DBE'!AJ47=\"\"),\"\",W47*'N-DBE'!E47)","v":""},{"$f":"IF('P-(K-Mg)-DBE'!N47=\"\",\"\",'P-(K-Mg)-DBE'!N47+'P-(K-Mg)-DBE'!R47)","v":""},{"$f":"IF(OR(B47=\"\",'P-(K-Mg)-DBE'!N47=\"\"),\"\",'N-DBE'!E47*('P-(K-Mg)-DBE'!N47+'P-(K-Mg)-DBE'!R47))","v":""},{"$f":"IF('P-(K-Mg)-DBE'!N47=\"\",\"\",SUM(AX47,BL47,BZ47,CN47,DB47,DP47))","v":""},{"$f":"IF(OR(B47=\"\",'P-(K-Mg)-DBE'!Z47=\"\"),\"\",SUM(AX47,BL47,BZ47,CN47,DB47,DP47)*'N-DBE'!E47)","v":""},{"$f":"IF('P-(K-Mg)-DBE'!O47=\"\",\"\",'P-(K-Mg)-DBE'!O47)","v":""},{"$f":"IF(OR(B47=\"\",'P-(K-Mg)-DBE'!O47=\"\"),\"\",'P-(K-Mg)-DBE'!O47*'N-DBE'!E47)","v":""},{"$f":"IF('P-(K-Mg)-DBE'!Z47=\"\",\"\",'P-(K-Mg)-DBE'!Z47)","v":""},{"$f":"IF(OR(B47=\"\",'P-(K-Mg)-DBE'!Z47=\"\"),\"\",'P-(K-Mg)-DBE'!Z47*'N-DBE'!E47)","v":""},{"$f":"IF('P-(K-Mg)-DBE'!Z47=\"\",\"\",SUM(AY47,BM47,CA47,CO47,DC47,DQ47))","v":""},{"$f":"IF(OR(B47=\"\",'P-(K-Mg)-DBE'!AH47=\"\"),\"\",SUM(AY47,BM47,CA47,CO47,DC47,DQ37)*'N-DBE'!E47)","v":""},{"$f":"IF('P-(K-Mg)-DBE'!AH47=\"\",\"\",'P-(K-Mg)-DBE'!AH47)","v":""},{"$f":"IF(OR(B47=\"\",'P-(K-Mg)-DBE'!AH47=\"\"),\"\",'N-DBE'!E47*'P-(K-Mg)-DBE'!AH47)","v":""},{"$f":"IF('P-(K-Mg)-DBE'!AH47=\"\",\"\",SUM(AZ47,BN47,CB47,CP47,DD47,DR47))","v":""},{"$f":"IF('P-(K-Mg)-DBE'!AH47=\"\",\"\",SUM(AZ47,BN47,CB47,CP47,DD47,DR47))","v":""},null,null,null,{"$f":"IF(AM47=\"\",\"\",AO47*E47)","v":""},{"$f":"IF(AM47=\"\",\"\",IF(AS47=0,\"\",IF(AND($L47>170,AR47<>\"mineralisch\"),170*1000/AS47,$L47*1000*100/(AS47*AT47))))","v":""},{"$f":"IF(AM47=\"\",\"\",VLOOKUP(AM47,'aktuelle Düngerliste'!A:H,2,FALSE))","v":""},{"$f":"IF(AM47=\"\",\"\",VLOOKUP(AM47,'aktuelle Düngerliste'!A:H,3,FALSE))","v":""},{"$f":"IF(AM47=\"\",\"\",VLOOKUP(AM47,'aktuelle Düngerliste'!A:H,8,FALSE))","v":""},{"$f":"IF(AM47=\"\",\"\",VLOOKUP(AM47,'aktuelle Düngerliste'!$A:$H,3,FALSE)*AO47/1000)","v":""},{"$f":"IF(AM47=\"\",\"\",IF(VLOOKUP(AM47,'aktuelle Düngerliste'!$A:$B,2,FALSE)=\"mineralisch\",(VLOOKUP(AM47,'aktuelle Düngerliste'!$A:$H,3,FALSE)*AO47/1000),\"\"))","v":""},{"$f":"IF(AM47=\"\",\"\",VLOOKUP(AM47,'aktuelle Düngerliste'!$A:$J,10,FALSE)*AO47/1000)","v":""},{"$f":"IF(AM47=\"\",\"\",VLOOKUP(AM47,'aktuelle Düngerliste'!$A:$H,5,FALSE)*AO47/1000)","v":""},{"$f":"IF(AM47=\"\",\"\",VLOOKUP(AM47,'aktuelle Düngerliste'!$A:$H,6,FALSE)*AO47/1000)","v":""},{"$f":"IF(AM47=\"\",\"\",VLOOKUP(AM47,'aktuelle Düngerliste'!$A:$H,7,FALSE)*AO47/1000)","v":""},null,null,null,{"$f":"IF(BA47=\"\",\"\",BC47*E47)","v":""},{"$f":"IF(BA47=\"\",\"\",IF(BG47=0,\"\",IF(AND($L47>170,BF47<>\"mineralisch\"),(170-$AU47)*1000/BG47,($L47-$AW47)*1000*100/(BG47*BH47))))","v":""},{"$f":"IF(BA47=\"\",\"\",VLOOKUP(BA47,'aktuelle Düngerliste'!$A:$H,2,FALSE))","v":""},{"$f":"IF(BA47=\"\",\"\",VLOOKUP(BA47,'aktuelle Düngerliste'!$A:$H,3,FALSE))","v":""},{"$f":"IF(BA47=\"\",\"\",VLOOKUP(BA47,'aktuelle Düngerliste'!$A:$H,8,FALSE))","v":""},{"$f":"IF(BA47=\"\",\"\",VLOOKUP(BA47,'aktuelle Düngerliste'!$A:$H,3,FALSE)*BC47/1000)","v":""},{"$f":"IF(BA47=\"\",\"\",IF(VLOOKUP(BA47,'aktuelle Düngerliste'!$A:$B,2,FALSE)=\"mineralisch\",(VLOOKUP(BA47,'aktuelle Düngerliste'!$A:$H,3,FALSE)*BC47/1000),\"\"))","v":""},{"$f":"IF(BA47=\"\",\"\",VLOOKUP(BA47,'aktuelle Düngerliste'!$A:$J,10,FALSE)*BC47/1000)","v":""},{"$f":"IF(BA47=\"\",\"\",VLOOKUP(BA47,'aktuelle Düngerliste'!$A:$H,5,FALSE)*BC47/1000)","v":""},{"$f":"IF(BA47=\"\",\"\",VLOOKUP(BA47,'aktuelle Düngerliste'!$A:$H,6,FALSE)*BC47/1000)","v":""},{"$f":"IF(BA47=\"\",\"\",VLOOKUP(BA47,'aktuelle Düngerliste'!$A:$H,7,FALSE)*BC47/1000)","v":""},null,null,null,{"$f":"IF(BO47=\"\",\"\",BQ47*E47)","v":""},{"$f":"IF(BO47=\"\",\"\",IF(BU47=0,\"\",IF(AND($L47>170,BT47<>\"mineralisch\"),(170-$AU47-$BI47)*1000/BU47,($L47-$AW47-$BK47)*1000*100/(BU47*BV47))))","v":""},{"$f":"IF(BO47=\"\",\"\",VLOOKUP(BO47,'aktuelle Düngerliste'!$A:$H,2,FALSE))","v":""},{"$f":"IF(BO47=\"\",\"\",VLOOKUP(BO47,'aktuelle Düngerliste'!$A:$H,3,FALSE))","v":""},{"$f":"IF(BO47=\"\",\"\",VLOOKUP(BO47,'aktuelle Düngerliste'!$A:$H,8,FALSE))","v":""},{"$f":"IF(BO47=\"\",\"\",VLOOKUP(BO47,'aktuelle Düngerliste'!$A:$H,3,FALSE)*BQ47/1000)","v":""},{"$f":"IF(BO47=\"\",\"\",IF(VLOOKUP(BO47,'aktuelle Düngerliste'!$A:$B,2,FALSE)=\"mineralisch\",(VLOOKUP(BO47,'aktuelle Düngerliste'!$A:$H,3,FALSE)*BQ47/1000),\"\"))","v":""},{"$f":"IF(BO47=\"\",\"\",VLOOKUP(BO47,'aktuelle Düngerliste'!$A:$J,10,FALSE)*BQ47/1000)","v":""},{"$f":"IF(BO47=\"\",\"\",VLOOKUP(BO47,'aktuelle Düngerliste'!$A:$H,5,FALSE)*BQ47/1000)","v":""},{"$f":"IF(BO47=\"\",\"\",VLOOKUP(BO47,'aktuelle Düngerliste'!$A:$H,6,FALSE)*BQ47/1000)","v":""},{"$f":"IF(BO47=\"\",\"\",VLOOKUP(BO47,'aktuelle Düngerliste'!$A:$H,7,FALSE)*BQ47/1000)","v":""},null,null,null,{"$f":"IF(CC47=\"\",\"\",CE47*E47)","v":""},{"$f":"IF(CC47=\"\",\"\",IF(CI47=0,\"\",IF(AND($L47>170,CH47<>\"mineralisch\"),(170-$AU47-$BI47-$BW47)*1000/CI47,($L47-$AW47-$BK47-$BY47)*1000*100/(CI47*CJ47))))","v":""},{"$f":"IF(CC47=\"\",\"\",VLOOKUP(CC47,'aktuelle Düngerliste'!$A:$H,2,FALSE))","v":""},{"$f":"IF(CC47=\"\",\"\",VLOOKUP(CC47,'aktuelle Düngerliste'!$A:$H,3,FALSE))","v":""},{"$f":"IF(CC47=\"\",\"\",VLOOKUP(CC47,'aktuelle Düngerliste'!$A:$H,8,FALSE))","v":""},{"$f":"IF(CC47=\"\",\"\",VLOOKUP(CC47,'aktuelle Düngerliste'!$A:$H,3,FALSE)*CE47/1000)","v":""},{"$f":"IF(CC47=\"\",\"\",IF(VLOOKUP(CC47,'aktuelle Düngerliste'!$A:$B,2,FALSE)=\"mineralisch\",(VLOOKUP(CC47,'aktuelle Düngerliste'!$A:$H,3,FALSE)*CE47/1000),\"\"))","v":""},{"$f":"IF(CC47=\"\",\"\",VLOOKUP(CC47,'aktuelle Düngerliste'!$A:$J,10,FALSE)*CE47/1000)","v":""},{"$f":"IF(CC47=\"\",\"\",VLOOKUP(CC47,'aktuelle Düngerliste'!$A:$H,5,FALSE)*CE47/1000)","v":""},{"$f":"IF(CC47=\"\",\"\",VLOOKUP(CC47,'aktuelle Düngerliste'!$A:$H,6,FALSE)*CE47/1000)","v":""},{"$f":"IF(CC47=\"\",\"\",VLOOKUP(CC47,'aktuelle Düngerliste'!$A:$H,7,FALSE)*CE47/1000)","v":""},null,null,null,{"$f":"IF(CQ47=\"\",\"\",CS47*E47)","v":""},{"$f":"IF(CQ47=\"\",\"\",IF(CW47=0,\"\",IF(AND($L47>170,CV47<>\"mineralisch\"),(170-$AU47-$BI47-$BW47-$CK47)*1000/CW47,($L47-$AW47-$BK47-$BY47-$CM47)*1000*100/(CW47*CX47))))","v":""},{"$f":"IF(CQ47=\"\",\"\",VLOOKUP(CQ47,'aktuelle Düngerliste'!$A:$H,2,FALSE))","v":""},{"$f":"IF(CQ47=\"\",\"\",VLOOKUP(CQ47,'aktuelle Düngerliste'!$A:$H,3,FALSE))","v":""},{"$f":"IF(CQ47=\"\",\"\",VLOOKUP(CQ47,'aktuelle Düngerliste'!$A:$H,8,FALSE))","v":""},{"$f":"IF(CQ47=\"\",\"\",VLOOKUP(CQ47,'aktuelle Düngerliste'!$A:$H,3,FALSE)*CS47/1000)","v":""},{"$f":"IF(CQ47=\"\",\"\",IF(VLOOKUP(CQ47,'aktuelle Düngerliste'!$A:$B,2,FALSE)=\"mineralisch\",(VLOOKUP(CQ47,'aktuelle Düngerliste'!$A:$H,3,FALSE)*CS47/1000),\"\"))","v":""},{"$f":"IF(CQ47=\"\",\"\",VLOOKUP(CQ47,'aktuelle Düngerliste'!$A:$J,10,FALSE)*CS47/1000)","v":""},{"$f":"IF(CQ47=\"\",\"\",VLOOKUP(CQ47,'aktuelle Düngerliste'!$A:$H,5,FALSE)*CS47/1000)","v":""},{"$f":"IF(CQ47=\"\",\"\",VLOOKUP(CQ47,'aktuelle Düngerliste'!$A:$H,6,FALSE)*CS47/1000)","v":""},{"$f":"IF(CQ47=\"\",\"\",VLOOKUP(CQ47,'aktuelle Düngerliste'!$A:$H,7,FALSE)*CS47/1000)","v":""},null,null,null,{"$f":"IF(DE47=\"\",\"\",DG47*E47)","v":""},{"$f":"IF(DE47=\"\",\"\",IF(DK47=0,\"\",IF(AND($L47>170,DJ47<>\"mineralisch\"),(170-$AU47-$BI47-$BW47-$CK47-$CY47)*1000/DK47,($L47-$AW47-$BK47-$BY47-$CM47-$DA47)*1000*100/(DK47*DL47))))","v":""},{"$f":"IF(DE47=\"\",\"\",VLOOKUP(DE47,'aktuelle Düngerliste'!$A:$H,2,FALSE))","v":""},{"$f":"IF(DE47=\"\",\"\",VLOOKUP(DE47,'aktuelle Düngerliste'!$A:$H,3,FALSE))","v":""},{"$f":"IF(DE47=\"\",\"\",VLOOKUP(DE47,'aktuelle Düngerliste'!$A:$H,8,FALSE))","v":""},{"$f":"IF(DE47=\"\",\"\",VLOOKUP(DE47,'aktuelle Düngerliste'!$A:$H,3,FALSE)*DG47/1000)","v":""},{"$f":"IF(DE47=\"\",\"\",IF(VLOOKUP(DE47,'aktuelle Düngerliste'!$A:$B,2,FALSE)=\"mineralisch\",(VLOOKUP(DE47,'aktuelle Düngerliste'!$A:$H,3,FALSE)*DG47/1000),\"\"))","v":""},{"$f":"IF(DE47=\"\",\"\",VLOOKUP(DE47,'aktuelle Düngerliste'!$A:$J,10,FALSE)*DG47/1000)","v":""},{"$f":"IF(DE47=\"\",\"\",VLOOKUP(DE47,'aktuelle Düngerliste'!$A:$H,5,FALSE)*DG47/1000)","v":""},{"$f":"IF(DE47=\"\",\"\",VLOOKUP(DE47,'aktuelle Düngerliste'!$A:$H,6,FALSE)*DG47/1000)","v":""},{"$f":"IF(DE47=\"\",\"\",VLOOKUP(DE47,'aktuelle Düngerliste'!$A:$H,7,FALSE)*DG47/1000)","v":""}]

{"sheet":"aktuelle Düngerliste","index":7,"n_rows":54,"n_cols":16,"rows_kept":54,"cut":false,"hidden":false,"merged":[]}
["Dünger \nu.a. Hauptnährstoffhaltige Produkte","Art","Ngesamt\nkg FM/t, m³","Nmineralisch\nkg FM/t, m3","P2O5\nkg FM/t, m³ ","K2O\nkg FM/t, m³ ","MgO\nkg FM/t, m³ ","N-Mindest-wirksam-keit \nAusbring-jahr\n %","Ngesamt x Mindest-wirksam-\nkeit\nkg FM/t, m³","Nverfügbar \nkg FM/t, m³",null,null,"Organische Dünger","Mindest-wirksamkeit \nAusbringjahr\n % Ngesamt"]
["_Andere 01",null,null,null,null,null,null,null,{"$f":"Tabelle10[[#This Row],[Ngesamt\nkg FM/t, m³]]*Tabelle10[[#This Row],[N-Mindest-wirksam-keit \nAusbring-jahr\n %]]/100","v":0},{"$f":"IF(Tabelle10[[#This Row],[Ngesamt x Mindest-wirksam-\nkeit\nkg FM/t, m³]]<Tabelle10[[#This Row],[Nmineralisch\nkg FM/t, m3]],Tabelle10[[#This Row],[Nmineralisch\nkg FM/t, m3]],Tabelle10[[#This Row],[Ngesamt\nkg FM/t, m³]]*Tabelle10[[#This Row],[N-Mindest-wirksam-keit \nAusbring-jahr\n %]]/100)","v":0},"mineralisch",null,"Mineralische Dünger",100]
["_Andere 02",null,null,null,null,null,null,null,{"$f":"Tabelle10[[#This Row],[Ngesamt\nkg FM/t, m³]]*Tabelle10[[#This Row],[N-Mindest-wirksam-keit \nAusbring-jahr\n %]]/100","v":0},{"$f":"IF(Tabelle10[[#This Row],[Ngesamt x Mindest-wirksam-\nkeit\nkg FM/t, m³]]<Tabelle10[[#This Row],[Nmineralisch\nkg FM/t, m3]],Tabelle10[[#This Row],[Nmineralisch\nkg FM/t, m3]],Tabelle10[[#This Row],[Ngesamt\nkg FM/t, m³]]*Tabelle10[[#This Row],[N-Mindest-wirksam-keit \nAusbring-jahr\n %]]/100)","v":0},"Kompost"]
["_Andere 03",null,null,null,null,null,null,null,{"$f":"Tabelle10[[#This Row],[Ngesamt\nkg FM/t, m³]]*Tabelle10[[#This Row],[N-Mindest-wirksam-keit \nAusbring-jahr\n %]]/100","v":0},{"$f":"IF(Tabelle10[[#This Row],[Ngesamt x Mindest-wirksam-\nkeit\nkg FM/t, m³]]<Tabelle10[[#This Row],[Nmineralisch\nkg FM/t, m3]],Tabelle10[[#This Row],[Nmineralisch\nkg FM/t, m3]],Tabelle10[[#This Row],[Ngesamt\nkg FM/t, m³]]*Tabelle10[[#This Row],[N-Mindest-wirksam-keit \nAusbring-jahr\n %]]/100)","v":0},"organisch",null,"Champost",10]
["_Andere 04",null,null,null,null,null,null,null,{"$f":"Tabelle10[[#This Row],[Ngesamt\nkg FM/t, m³]]*Tabelle10[[#This Row],[N-Mindest-wirksam-keit \nAusbring-jahr\n %]]/100","v":0},{"$f":"IF(Tabelle10[[#This Row],[Ngesamt x Mindest-wirksam-\nkeit\nkg FM/t, m³]]<Tabelle10[[#This Row],[Nmineralisch\nkg FM/t, m3]],Tabelle10[[#This Row],[Nmineralisch\nkg FM/t, m3]],Tabelle10[[#This Row],[Ngesamt\nkg FM/t, m³]]*Tabelle10[[#This Row],[N-Mindest-wirksam-keit \nAusbring-jahr\n %]]/100)","v":0},"organisch-mineralisch",null,"Bioabfallkompost",5]
["_Andere 05",null,null,null,null,null,null,null,{"$f":"Tabelle10[[#This Row],[Ngesamt\nkg FM/t, m³]]*Tabelle10[[#This Row],[N-Mindest-wirksam-keit \nAusbring-jahr\n %]]/100","v":0},{"$f":"IF(Tabelle10[[#This Row],[Ngesamt x Mindest-wirksam-\nkeit\nkg FM/t, m³]]<Tabelle10[[#This Row],[Nmineralisch\nkg FM/t, m3]],Tabelle10[[#This Row],[Nmineralisch\nkg FM/t, m3]],Tabelle10[[#This Row],[Ngesamt\nkg FM/t, m³]]*Tabelle10[[#This Row],[N-Mindest-wirksam-keit \nAusbring-jahr\n %]]/100)","v":0},null,null,"Grünschnittkompost",3]
["_Andere 06",null,null,null,null,null,null,null,{"$f":"Tabelle10[[#This Row],[Ngesamt\nkg FM/t, m³]]*Tabelle10[[#This Row],[N-Mindest-wirksam-keit \nAusbring-jahr\n %]]/100","v":0},{"$f":"IF(Tabelle10[[#This Row],[Ngesamt x Mindest-wirksam-\nkeit\nkg FM/t, m³]]<Tabelle10[[#This Row],[Nmineralisch\nkg FM/t, m3]],Tabelle10[[#This Row],[Nmineralisch\nkg FM/t, m3]],Tabelle10[[#This Row],[Ngesamt\nkg FM/t, m³]]*Tabelle10[[#This Row],[N-Mindest-wirksam-keit \nAusbring-jahr\n %]]/100)","v":0},null,null,"Sonstige Komposte",5]
["_Andere 07",null,null,null,null,null,null,null,{"$f":"Tabelle10[[#This Row],[Ngesamt\nkg FM/t, m³]]*Tabelle10[[#This Row],[N-Mindest-wirksam-keit \nAusbring-jahr\n %]]/100","v":0},{"$f":"IF(Tabelle10[[#This Row],[Ngesamt x Mindest-wirksam-\nkeit\nkg FM/t, m³]]<Tabelle10[[#This Row],[Nmineralisch\nkg FM/t, m3]],Tabelle10[[#This Row],[Nmineralisch\nkg FM/t, m3]],Tabelle10[[#This Row],[Ngesamt\nkg FM/t, m³]]*Tabelle10[[#This Row],[N-Mindest-wirksam-keit \nAusbring-jahr\n %]]/100)","v":0}]
["_Andere 08",null,null,null,null,null,null,null,{"$f":"Tabelle10[[#This Row],[Ngesamt\nkg FM/t, m³]]*Tabelle10[[#This Row],[N-Mindest-wirksam-keit \nAusbring-jahr\n %]]/100","v":0},{"$f":"IF(Tabelle10[[#This Row],[Ngesamt x Mindest-wirksam-\nkeit\nkg FM/t, m³]]<Tabelle10[[#This Row],[Nmineralisch\nkg FM/t, m3]],Tabelle10[[#This Row],[Nmineralisch\nkg FM/t, m3]],Tabelle10[[#This Row],[Ngesamt\nkg FM/t, m³]]*Tabelle10[[#This Row],[N-Mindest-wirksam-keit \nAusbring-jahr\n %]]/100)","v":0},null,null,"Jauche",90]
["_Andere 09",null,null,null,null,null,null,null,{"$f":"Tabelle10[[#This Row],[Ngesamt\nkg FM/t, m³]]*Tabelle10[[#This Row],[N-Mindest-wirksam-keit \nAusbring-jahr\n %]]/100","v":0},{"$f":"IF(Tabelle10[[#This Row],[Ngesamt x Mindest-wirksam-\nkeit\nkg FM/t, m³]]<Tabelle10[[#This Row],[Nmineralisch\nkg FM/t, m3]],Tabelle10[[#This Row],[Nmineralisch\nkg FM/t, m3]],Tabelle10[[#This Row],[Ngesamt\nkg FM/t, m³]]*Tabelle10[[#This Row],[N-Mindest-wirksam-keit \nAusbring-jahr\n %]]/100)","v":0},null,null,"Dünger aus Horn, Haar, Federn",70]
["_Andere 10",null,null,null,null,null,null,null,{"$f":"Tabelle10[[#This Row],[Ngesamt\nkg FM/t, m³]]*Tabelle10[[#This Row],[N-Mindest-wirksam-keit \nAusbring-jahr\n %]]/100","v":0},{"$f":"IF(Tabelle10[[#This Row],[Ngesamt x Mindest-wirksam-\nkeit\nkg FM/t, m³]]<Tabelle10[[#This Row],[Nmineralisch\nkg FM/t, m3]],Tabelle10[[#This Row],[Nmineralisch\nkg FM/t, m3]],Tabelle10[[#This Row],[Ngesamt\nkg FM/t, m³]]*Tabelle10[[#This Row],[N-Mindest-wirksam-keit \nAusbring-jahr\n %]]/100)","v":0},null,null,"Dünger aus Fleisch und Knochen",70,null," "]
["_Andere 11",null,null,null,null,null,null,null,{"$f":"Tabelle10[[#This Row],[Ngesamt\nkg FM/t, m³]]*Tabelle10[[#This Row],[N-Mindest-wirksam-keit \nAusbring-jahr\n %]]/100","v":0},{"$f":"IF(Tabelle10[[#This Row],[Ngesamt x Mindest-wirksam-\nkeit\nkg FM/t, m³]]<Tabelle10[[#This Row],[Nmineralisch\nkg FM/t, m3]],Tabelle10[[#This Row],[Nmineralisch\nkg FM/t, m3]],Tabelle10[[#This Row],[Ngesamt\nkg FM/t, m³]]*Tabelle10[[#This Row],[N-Mindest-wirksam-keit \nAusbring-jahr\n %]]/100)","v":0},null,null,"Schweinegülle",70]
["_Andere 12",null,null,null,null,null,null,null,{"$f":"Tabelle10[[#This Row],[Ngesamt\nkg FM/t, m³]]*Tabelle10[[#This Row],[N-Mindest-wirksam-keit \nAusbring-jahr\n %]]/100","v":0},{"$f":"IF(Tabelle10[[#This Row],[Ngesamt x Mindest-wirksam-\nkeit\nkg FM/t, m³]]<Tabelle10[[#This Row],[Nmineralisch\nkg FM/t, m3]],Tabelle10[[#This Row],[Nmineralisch\nkg FM/t, m3]],Tabelle10[[#This Row],[Ngesamt\nkg FM/t, m³]]*Tabelle10[[#This Row],[N-Mindest-wirksam-keit \nAusbring-jahr\n %]]/100)","v":0},null,null,"Rindergülle, Gärreste flüssig",60]
["_Andere 13",null,null,null,null,null,null,null,{"$f":"Tabelle10[[#This Row],[Ngesamt\nkg FM/t, m³]]*Tabelle10[[#This Row],[N-Mindest-wirksam-keit \nAusbring-jahr\n %]]/100","v":0},{"$f":"IF(Tabelle10[[#This Row],[Ngesamt x Mindest-wirksam-\nkeit\nkg FM/t, m³]]<Tabelle10[[#This Row],[Nmineralisch\nkg FM/t, m3]],Tabelle10[[#This Row],[Nmineralisch\nkg FM/t, m3]],Tabelle10[[#This Row],[Ngesamt\nkg FM/t, m³]]*Tabelle10[[#This Row],[N-Mindest-wirksam-keit \nAusbring-jahr\n %]]/100)","v":0},null,null,"Hühnertrockenkot",60]
["_Andere 14",null,null,null,null,null,null,null,{"$f":"Tabelle10[[#This Row],[Ngesamt\nkg FM/t, m³]]*Tabelle10[[#This Row],[N-Mindest-wirksam-keit \nAusbring-jahr\n %]]/100","v":0},{"$f":"IF(Tabelle10[[#This Row],[Ngesamt x Mindest-wirksam-\nkeit\nkg FM/t, m³]]<Tabelle10[[#This Row],[Nmineralisch\nkg FM/t, m3]],Tabelle10[[#This Row],[Nmineralisch\nkg FM/t, m3]],Tabelle10[[#This Row],[Ngesamt\nkg FM/t, m³]]*Tabelle10[[#This Row],[N-Mindest-wirksam-keit \nAusbring-jahr\n %]]/100)","v":0},null,null,"Feststoff-Separat aus Schweinegülle",45]
["_Andere 15",null,null,null,null,null,null,null,{"$f":"Tabelle10[[#This Row],[Ngesamt\nkg FM/t, m³]]*Tabelle10[[#This Row],[N-Mindest-wirksam-keit \nAusbring-jahr\n %]]/100","v":0},{"$f":"IF(Tabelle10[[#This Row],[Ngesamt x Mindest-wirksam-\nkeit\nkg FM/t, m³]]<Tabelle10[[#This Row],[Nmineralisch\nkg FM/t, m3]],Tabelle10[[#This Row],[Nmineralisch\nkg FM/t, m3]],Tabelle10[[#This Row],[Ngesamt\nkg FM/t, m³]]*Tabelle10[[#This Row],[N-Mindest-wirksam-keit \nAusbring-jahr\n %]]/100)","v":0},null,null,"Schweine-Festmist, Gärreste fest",30]
["_Andere 16",null,null,null,null,null,null,null,{"$f":"Tabelle10[[#This Row],[Ngesamt\nkg FM/t, m³]]*Tabelle10[[#This Row],[N-Mindest-wirksam-keit \nAusbring-jahr\n %]]/100","v":0},{"$f":"IF(Tabelle10[[#This Row],[Ngesamt x Mindest-wirksam-\nkeit\nkg FM/t, m³]]<Tabelle10[[#This Row],[Nmineralisch\nkg FM/t, m3]],Tabelle10[[#This Row],[Nmineralisch\nkg FM/t, m3]],Tabelle10[[#This Row],[Ngesamt\nkg FM/t, m³]]*Tabelle10[[#This Row],[N-Mindest-wirksam-keit \nAusbring-jahr\n %]]/100)","v":0},null,null,"Geflügel-, Kaninchen-Festmist",30]
["_Andere 17",null,null,null,null,null,null,null,{"$f":"Tabelle10[[#This Row],[Ngesamt\nkg FM/t, m³]]*Tabelle10[[#This Row],[N-Mindest-wirksam-keit \nAusbring-jahr\n %]]/100","v":0},{"$f":"IF(Tabelle10[[#This Row],[Ngesamt x Mindest-wirksam-\nkeit\nkg FM/t, m³]]<Tabelle10[[#This Row],[Nmineralisch\nkg FM/t, m3]],Tabelle10[[#This Row],[Nmineralisch\nkg FM/t, m3]],Tabelle10[[#This Row],[Ngesamt\nkg FM/t, m³]]*Tabelle10[[#This Row],[N-Mindest-wirksam-keit \nAusbring-jahr\n %]]/100)","v":0},null,null,"Klärschlamm flüssig",30]
["_Andere 18",null,null,null,null,null,null,null,{"$f":"Tabelle10[[#This Row],[Ngesamt\nkg FM/t, m³]]*Tabelle10[[#This Row],[N-Mindest-wirksam-keit \nAusbring-jahr\n %]]/100","v":0},{"$f":"IF(Tabelle10[[#This Row],[Ngesamt x Mindest-wirksam-\nkeit\nkg FM/t, m³]]<Tabelle10[[#This Row],[Nmineralisch\nkg FM/t, m3]],Tabelle10[[#This Row],[Nmineralisch\nkg FM/t, m3]],Tabelle10[[#This Row],[Ngesamt\nkg FM/t, m³]]*Tabelle10[[#This Row],[N-Mindest-wirksam-keit \nAusbring-jahr\n %]]/100)","v":0},null,null,"Leguminosentransfermulch",30]
["_Andere 19",null,null,null,null,null,null,null,{"$f":"Tabelle10[[#This Row],[Ngesamt\nkg FM/t, m³]]*Tabelle10[[#This Row],[N-Mindest-wirksam-keit \nAusbring-jahr\n %]]/100","v":0},{"$f":"IF(Tabelle10[[#This Row],[Ngesamt x Mindest-wirksam-\nkeit\nkg FM/t, m³]]<Tabelle10[[#This Row],[Nmineralisch\nkg FM/t, m3]],Tabelle10[[#This Row],[Nmineralisch\nkg FM/t, m3]],Tabelle10[[#This Row],[Ngesamt\nkg FM/t, m³]]*Tabelle10[[#This Row],[N-Mindest-wirksam-keit \nAusbring-jahr\n %]]/100)","v":0},null,null,"Leguminosen- u.a. Körnerschrote",40]
["_Andere 20",null,null,null,null,null,null,null,{"$f":"Tabelle10[[#This Row],[Ngesamt\nkg FM/t, m³]]*Tabelle10[[#This Row],[N-Mindest-wirksam-keit \nAusbring-jahr\n %]]/100","v":0},{"$f":"IF(Tabelle10[[#This Row],[Ngesamt x Mindest-wirksam-\nkeit\nkg FM/t, m³]]<Tabelle10[[#This Row],[Nmineralisch\nkg FM/t, m3]],Tabelle10[[#This Row],[Nmineralisch\nkg FM/t, m3]],Tabelle10[[#This Row],[Ngesamt\nkg FM/t, m³]]*Tabelle10[[#This Row],[N-Mindest-wirksam-keit \nAusbring-jahr\n %]]/100)","v":0},null,null,"Schlempe",30]
["_Andere 21",null,null,null,null,null,null,null,{"$f":"Tabelle10[[#This Row],[Ngesamt\nkg FM/t, m³]]*Tabelle10[[#This Row],[N-Mindest-wirksam-keit \nAusbring-jahr\n %]]/100","v":0},{"$f":"IF(Tabelle10[[#This Row],[Ngesamt x Mindest-wirksam-\nkeit\nkg FM/t, m³]]<Tabelle10[[#This Row],[Nmineralisch\nkg FM/t, m3]],Tabelle10[[#This Row],[Nmineralisch\nkg FM/t, m3]],Tabelle10[[#This Row],[Ngesamt\nkg FM/t, m³]]*Tabelle10[[#This Row],[N-Mindest-wirksam-keit \nAusbring-jahr\n %]]/100)","v":0},null,null,"Klärschlamm fest",25]
["_Andere 22",null,null,null,null,null,null,null,{"$f":"Tabelle10[[#This Row],[Ngesamt\nkg FM/t, m³]]*Tabelle10[[#This Row],[N-Mindest-wirksam-keit \nAusbring-jahr\n %]]/100","v":0},{"$f":"IF(Tabelle10[[#This Row],[Ngesamt x Mindest-wirksam-\nkeit\nkg FM/t, m³]]<Tabelle10[[#This Row],[Nmineralisch\nkg FM/t, m3]],Tabelle10[[#This Row],[Nmineralisch\nkg FM/t, m3]],Tabelle10[[#This Row],[Ngesamt\nkg FM/t, m³]]*Tabelle10[[#This Row],[N-Mindest-wirksam-keit \nAusbring-jahr\n %]]/100)","v":0},null,null,"Rinder-Festmist",25]
["60er Kali","mineralisch",0,0,0,600,0,0,{"$f":"Tabelle10[[#This Row],[Ngesamt\nkg FM/t, m³]]*Tabelle10[[#This Row],[N-Mindest-wirksam-keit \nAusbring-jahr\n %]]/100","v":0},{"$f":"IF(Tabelle10[[#This Row],[Ngesamt x Mindest-wirksam-\nkeit\nkg FM/t, m³]]<Tabelle10[[#This Row],[Nmineralisch\nkg FM/t, m3]],Tabelle10[[#This Row],[Nmineralisch\nkg FM/t, m3]],Tabelle10[[#This Row],[Ngesamt\nkg FM/t, m³]]*Tabelle10[[#This Row],[N-Mindest-wirksam-keit \nAusbring-jahr\n %]]/100)","v":0},null,null,"Pferde-, Schaf-, Ziegen-Festmist",25]
["Ammonium-Harnstoff-Lösung AHL","organisch-mineralisch",280,140,0,0,0,100,{"$f":"Tabelle10[[#This Row],[Ngesamt\nkg FM/t, m³]]*Tabelle10[[#This Row],[N-Mindest-wirksam-keit \nAusbring-jahr\n %]]/100","v":280},{"$f":"IF(Tabelle10[[#This Row],[Ngesamt x Mindest-wirksam-\nkeit\nkg FM/t, m³]]<Tabelle10[[#This Row],[Nmineralisch\nkg FM/t, m3]],Tabelle10[[#This Row],[Nmineralisch\nkg FM/t, m3]],Tabelle10[[#This Row],[Ngesamt\nkg FM/t, m³]]*Tabelle10[[#This Row],[N-Mindest-wirksam-keit \nAusbring-jahr\n %]]/100)","v":280},null,null,"Trester, Trauben",10]
["Ammonsulfatsalpeter ASS","mineralisch",260,260,0,0,0,100,{"$f":"Tabelle10[[#This Row],[Ngesamt\nkg FM/t, m³]]*Tabelle10[[#This Row],[N-Mindest-wirksam-keit \nAusbring-jahr\n %]]/100","v":260},{"$f":"IF(Tabelle10[[#This Row],[Ngesamt x Mindest-wirksam-\nkeit\nkg FM/t, m³]]<Tabelle10[[#This Row],[Nmineralisch\nkg FM/t, m3]],Tabelle10[[#This Row],[Nmineralisch\nkg FM/t, m3]],Tabelle10[[#This Row],[Ngesamt\nkg FM/t, m³]]*Tabelle10[[#This Row],[N-Mindest-wirksam-keit \nAusbring-jahr\n %]]/100)","v":260},null,null,"Pilzsubstrat",10]
["Bittersalz","mineralisch",0,0,0,0,160,0,{"$f":"Tabelle10[[#This Row],[Ngesamt\nkg FM/t, m³]]*Tabelle10[[#This Row],[N-Mindest-wirksam-keit \nAusbring-jahr\n %]]/100","v":0},{"$f":"IF(Tabelle10[[#This Row],[Ngesamt x Mindest-wirksam-\nkeit\nkg FM/t, m³]]<Tabelle10[[#This Row],[Nmineralisch\nkg FM/t, m3]],Tabelle10[[#This Row],[Nmineralisch\nkg FM/t, m3]],Tabelle10[[#This Row],[Ngesamt\nkg FM/t, m³]]*Tabelle10[[#This Row],[N-Mindest-wirksam-keit \nAusbring-jahr\n %]]/100)","v":0},null,null,"Putzabfälle Gemüse",50]
["Diammonphosphat DAP","mineralisch",180,180,460,0,0,100,{"$f":"Tabelle10[[#This Row],[Ngesamt\nkg FM/t, m³]]*Tabelle10[[#This Row],[N-Mindest-wirksam-keit \nAusbring-jahr\n %]]/100","v":180},{"$f":"IF(Tabelle10[[#This Row],[Ngesamt x Mindest-wirksam-\nkeit\nkg FM/t, m³]]<Tabelle10[[#This Row],[Nmineralisch\nkg FM/t, m3]],Tabelle10[[#This Row],[Nmineralisch\nkg FM/t, m3]],Tabelle10[[#This Row],[Ngesamt\nkg FM/t, m³]]*Tabelle10[[#This Row],[N-Mindest-wirksam-keit \nAusbring-jahr\n %]]/100)","v":180},null,null,"Andere organische Dünger",60]
["Ensol","mineralisch",280,280,0,0,0,100,{"$f":"Tabelle10[[#This Row],[Ngesamt\nkg FM/t, m³]]*Tabelle10[[#This Row],[N-Mindest-wirksam-keit \nAusbring-jahr\n %]]/100","v":280},{"$f":"IF(Tabelle10[[#This Row],[Ngesamt x Mindest-wirksam-\nkeit\nkg FM/t, m³]]<Tabelle10[[#This Row],[Nmineralisch\nkg FM/t, m3]],Tabelle10[[#This Row],[Nmineralisch\nkg FM/t, m3]],Tabelle10[[#This Row],[Ngesamt\nkg FM/t, m³]]*Tabelle10[[#This Row],[N-Mindest-wirksam-keit \nAusbring-jahr\n %]]/100)","v":280}]
["Entec","mineralisch",160,160,50,180,20,100,{"$f":"Tabelle10[[#This Row],[Ngesamt\nkg FM/t, m³]]*Tabelle10[[#This Row],[N-Mindest-wirksam-keit \nAusbring-jahr\n %]]/100","v":160},{"$f":"IF(Tabelle10[[#This Row],[Ngesamt x Mindest-wirksam-\nkeit\nkg FM/t, m³]]<Tabelle10[[#This Row],[Nmineralisch\nkg FM/t, m3]],Tabelle10[[#This Row],[Nmineralisch\nkg FM/t, m3]],Tabelle10[[#This Row],[Ngesamt\nkg FM/t, m³]]*Tabelle10[[#This Row],[N-Mindest-wirksam-keit \nAusbring-jahr\n %]]/100)","v":160}]
["Entec 26","mineralisch",260,260,0,0,0,100,{"$f":"Tabelle10[[#This Row],[Ngesamt\nkg FM/t, m³]]*Tabelle10[[#This Row],[N-Mindest-wirksam-keit \nAusbring-jahr\n %]]/100","v":260},{"$f":"IF(Tabelle10[[#This Row],[Ngesamt x Mindest-wirksam-\nkeit\nkg FM/t, m³]]<Tabelle10[[#This Row],[Nmineralisch\nkg FM/t, m3]],Tabelle10[[#This Row],[Nmineralisch\nkg FM/t, m3]],Tabelle10[[#This Row],[Ngesamt\nkg FM/t, m³]]*Tabelle10[[#This Row],[N-Mindest-wirksam-keit \nAusbring-jahr\n %]]/100)","v":260}]
["Entec N-Mg","mineralisch",220,220,0,60,120,100,{"$f":"Tabelle10[[#This Row],[Ngesamt\nkg FM/t, m³]]*Tabelle10[[#This Row],[N-Mindest-wirksam-keit \nAusbring-jahr\n %]]/100","v":220},{"$f":"IF(Tabelle10[[#This Row],[Ngesamt x Mindest-wirksam-\nkeit\nkg FM/t, m³]]<Tabelle10[[#This Row],[Nmineralisch\nkg FM/t, m3]],Tabelle10[[#This Row],[Nmineralisch\nkg FM/t, m3]],Tabelle10[[#This Row],[Ngesamt\nkg FM/t, m³]]*Tabelle10[[#This Row],[N-Mindest-wirksam-keit \nAusbring-jahr\n %]]/100)","v":220}]
["Entec Perfect","mineralisch",150,150,50,200,20,100,{"$f":"Tabelle10[[#This Row],[Ngesamt\nkg FM/t, m³]]*Tabelle10[[#This Row],[N-Mindest-wirksam-keit \nAusbring-jahr\n %]]/100","v":150},{"$f":"IF(Tabelle10[[#This Row],[Ngesamt x Mindest-wirksam-\nkeit\nkg FM/t, m³]]<Tabelle10[[#This Row],[Nmineralisch\nkg FM/t, m3]],Tabelle10[[#This Row],[Nmineralisch\nkg FM/t, m3]],Tabelle10[[#This Row],[Ngesamt\nkg FM/t, m³]]*Tabelle10[[#This Row],[N-Mindest-wirksam-keit \nAusbring-jahr\n %]]/100)","v":150}]
["Haarmehl-Pellets ","organisch",140,0,10.08,3.01,0,70,{"$f":"Tabelle10[[#This Row],[Ngesamt\nkg FM/t, m³]]*Tabelle10[[#This Row],[N-Mindest-wirksam-keit \nAusbring-jahr\n %]]/100","v":98},{"$f":"IF(Tabelle10[[#This Row],[Ngesamt x Mindest-wirksam-\nkeit\nkg FM/t, m³]]<Tabelle10[[#This Row],[Nmineralisch\nkg FM/t, m3]],Tabelle10[[#This Row],[Nmineralisch\nkg FM/t, m3]],Tabelle10[[#This Row],[Ngesamt\nkg FM/t, m³]]*Tabelle10[[#This Row],[N-Mindest-wirksam-keit \nAusbring-jahr\n %]]/100)","v":98}]
["Hühnerkot, getrocknet (50% TS)","organisch",20.23,0,19.29,16.5,5.39,60,{"$f":"Tabelle10[[#This Row],[Ngesamt\nkg FM/t, m³]]*Tabelle10[[#This Row],[N-Mindest-wirksam-keit \nAusbring-jahr\n %]]/100","v":12.138},{"$f":"IF(Tabelle10[[#This Row],[Ngesamt x Mindest-wirksam-\nkeit\nkg FM/t, m³]]<Tabelle10[[#This Row],[Nmineralisch\nkg FM/t, m3]],Tabelle10[[#This Row],[Nmineralisch\nkg FM/t, m3]],Tabelle10[[#This Row],[Ngesamt\nkg FM/t, m³]]*Tabelle10[[#This Row],[N-Mindest-wirksam-keit \nAusbring-jahr\n %]]/100)","v":12.138}]
["Kalisalpeter","mineralisch",130,130,0,460,0,100,{"$f":"Tabelle10[[#This Row],[Ngesamt\nkg FM/t, m³]]*Tabelle10[[#This Row],[N-Mindest-wirksam-keit \nAusbring-jahr\n %]]/100","v":130},{"$f":"IF(Tabelle10[[#This Row],[Ngesamt x Mindest-wirksam-\nkeit\nkg FM/t, m³]]<Tabelle10[[#This Row],[Nmineralisch\nkg FM/t, m3]],Tabelle10[[#This Row],[Nmineralisch\nkg FM/t, m3]],Tabelle10[[#This Row],[Ngesamt\nkg FM/t, m³]]*Tabelle10[[#This Row],[N-Mindest-wirksam-keit \nAusbring-jahr\n %]]/100)","v":130}]
["Kalisulfat","mineralisch",0,0,0,500,0,0,{"$f":"Tabelle10[[#This Row],[Ngesamt\nkg FM/t, m³]]*Tabelle10[[#This Row],[N-Mindest-wirksam-keit \nAusbring-jahr\n %]]/100","v":0},{"$f":"IF(Tabelle10[[#This Row],[Ngesamt x Mindest-wirksam-\nkeit\nkg FM/t, m³]]<Tabelle10[[#This Row],[Nmineralisch\nkg FM/t, m3]],Tabelle10[[#This Row],[Nmineralisch\nkg FM/t, m3]],Tabelle10[[#This Row],[Ngesamt\nkg FM/t, m³]]*Tabelle10[[#This Row],[N-Mindest-wirksam-keit \nAusbring-jahr\n %]]/100)","v":0}]
["Kalkammonsalpeter KAS","mineralisch",270,270,0,0,40,100,{"$f":"Tabelle10[[#This Row],[Ngesamt\nkg FM/t, m³]]*Tabelle10[[#This Row],[N-Mindest-wirksam-keit \nAusbring-jahr\n %]]/100","v":270},{"$f":"IF(Tabelle10[[#This Row],[Ngesamt x Mindest-wirksam-\nkeit\nkg FM/t, m³]]<Tabelle10[[#This Row],[Nmineralisch\nkg FM/t, m3]],Tabelle10[[#This Row],[Nmineralisch\nkg FM/t, m3]],Tabelle10[[#This Row],[Ngesamt\nkg FM/t, m³]]*Tabelle10[[#This Row],[N-Mindest-wirksam-keit \nAusbring-jahr\n %]]/100)","v":270}]
["Kalksalpeter","mineralisch",155,155,0,0,0,100,{"$f":"Tabelle10[[#This Row],[Ngesamt\nkg FM/t, m³]]*Tabelle10[[#This Row],[N-Mindest-wirksam-keit \nAusbring-jahr\n %]]/100","v":155},{"$f":"IF(Tabelle10[[#This Row],[Ngesamt x Mindest-wirksam-\nkeit\nkg FM/t, m³]]<Tabelle10[[#This Row],[Nmineralisch\nkg FM/t, m3]],Tabelle10[[#This Row],[Nmineralisch\nkg FM/t, m3]],Tabelle10[[#This Row],[Ngesamt\nkg FM/t, m³]]*Tabelle10[[#This Row],[N-Mindest-wirksam-keit \nAusbring-jahr\n %]]/100)","v":155}]
["Kalkstickstoff","mineralisch",198,198,0,0,0,100,{"$f":"Tabelle10[[#This Row],[Ngesamt\nkg FM/t, m³]]*Tabelle10[[#This Row],[N-Mindest-wirksam-keit \nAusbring-jahr\n %]]/100","v":198},{"$f":"IF(Tabelle10[[#This Row],[Ngesamt x Mindest-wirksam-\nkeit\nkg FM/t, m³]]<Tabelle10[[#This Row],[Nmineralisch\nkg FM/t, m3]],Tabelle10[[#This Row],[Nmineralisch\nkg FM/t, m3]],Tabelle10[[#This Row],[Ngesamt\nkg FM/t, m³]]*Tabelle10[[#This Row],[N-Mindest-wirksam-keit \nAusbring-jahr\n %]]/100)","v":198}]
["Kieserit","mineralisch",0,0,0,0,250,0,{"$f":"Tabelle10[[#This Row],[Ngesamt\nkg FM/t, m³]]*Tabelle10[[#This Row],[N-Mindest-wirksam-keit \nAusbring-jahr\n %]]/100","v":0},{"$f":"IF(Tabelle10[[#This Row],[Ngesamt x Mindest-wirksam-\nkeit\nkg FM/t, m³]]<Tabelle10[[#This Row],[Nmineralisch\nkg FM/t, m3]],Tabelle10[[#This Row],[Nmineralisch\nkg FM/t, m3]],Tabelle10[[#This Row],[Ngesamt\nkg FM/t, m³]]*Tabelle10[[#This Row],[N-Mindest-wirksam-keit \nAusbring-jahr\n %]]/100)","v":0}]
["Kornkali mit MgO","mineralisch",0,0,0,400,60,0,{"$f":"Tabelle10[[#This Row],[Ngesamt\nkg FM/t, m³]]*Tabelle10[[#This Row],[N-Mindest-wirksam-keit \nAusbring-jahr\n %]]/100","v":0},{"$f":"IF(Tabelle10[[#This Row],[Ngesamt x Mindest-wirksam-\nkeit\nkg FM/t, m³]]<Tabelle10[[#This Row],[Nmineralisch\nkg FM/t, m3]],Tabelle10[[#This Row],[Nmineralisch\nkg FM/t, m3]],Tabelle10[[#This Row],[Ngesamt\nkg FM/t, m³]]*Tabelle10[[#This Row],[N-Mindest-wirksam-keit \nAusbring-jahr\n %]]/100)","v":0}]
["Nitrophoska blau","mineralisch",120,120,120,170,20,100,{"$f":"Tabelle10[[#This Row],[Ngesamt\nkg FM/t, m³]]*Tabelle10[[#This Row],[N-Mindest-wirksam-keit \nAusbring-jahr\n %]]/100","v":120},{"$f":"IF(Tabelle10[[#This Row],[Ngesamt x Mindest-wirksam-\nkeit\nkg FM/t, m³]]<Tabelle10[[#This Row],[Nmineralisch\nkg FM/t, m3]],Tabelle10[[#This Row],[Nmineralisch\nkg FM/t, m3]],Tabelle10[[#This Row],[Ngesamt\nkg FM/t, m³]]*Tabelle10[[#This Row],[N-Mindest-wirksam-keit \nAusbring-jahr\n %]]/100)","v":120}]
["Nitrophoska perfekt","mineralisch",150,150,50,200,20,100,{"$f":"Tabelle10[[#This Row],[Ngesamt\nkg FM/t, m³]]*Tabelle10[[#This Row],[N-Mindest-wirksam-keit \nAusbring-jahr\n %]]/100","v":150},{"$f":"IF(Tabelle10[[#This Row],[Ngesamt x Mindest-wirksam-\nkeit\nkg FM/t, m³]]<Tabelle10[[#This Row],[Nmineralisch\nkg FM/t, m3]],Tabelle10[[#This Row],[Nmineralisch\nkg FM/t, m3]],Tabelle10[[#This Row],[Ngesamt\nkg FM/t, m³]]*Tabelle10[[#This Row],[N-Mindest-wirksam-keit \nAusbring-jahr\n %]]/100)","v":150}]
["Nitrophoska rot ","mineralisch",130,130,130,210,0,100,{"$f":"Tabelle10[[#This Row],[Ngesamt\nkg FM/t, m³]]*Tabelle10[[#This Row],[N-Mindest-wirksam-keit \nAusbring-jahr\n %]]/100","v":130},{"$f":"IF(Tabelle10[[#This Row],[Ngesamt x Mindest-wirksam-\nkeit\nkg FM/t, m³]]<Tabelle10[[#This Row],[Nmineralisch\nkg FM/t, m3]],Tabelle10[[#This Row],[Nmineralisch\nkg FM/t, m3]],Tabelle10[[#This Row],[Ngesamt\nkg FM/t, m³]]*Tabelle10[[#This Row],[N-Mindest-wirksam-keit \nAusbring-jahr\n %]]/100)","v":130}]
["Patentkali (Kalimagnesia)","mineralisch",0,0,0,300,100,0,{"$f":"Tabelle10[[#This Row],[Ngesamt\nkg FM/t, m³]]*Tabelle10[[#This Row],[N-Mindest-wirksam-keit \nAusbring-jahr\n %]]/100","v":0},{"$f":"IF(Tabelle10[[#This Row],[Ngesamt x Mindest-wirksam-\nkeit\nkg FM/t, m³]]<Tabelle10[[#This Row],[Nmineralisch\nkg FM/t, m3]],Tabelle10[[#This Row],[Nmineralisch\nkg FM/t, m3]],Tabelle10[[#This Row],[Ngesamt\nkg FM/t, m³]]*Tabelle10[[#This Row],[N-Mindest-wirksam-keit \nAusbring-jahr\n %]]/100)","v":0}]
["Phosphatkali","mineralisch",0,0,100,250,40,0,{"$f":"Tabelle10[[#This Row],[Ngesamt\nkg FM/t, m³]]*Tabelle10[[#This Row],[N-Mindest-wirksam-keit \nAusbring-jahr\n %]]/100","v":0},{"$f":"IF(Tabelle10[[#This Row],[Ngesamt x Mindest-wirksam-\nkeit\nkg FM/t, m³]]<Tabelle10[[#This Row],[Nmineralisch\nkg FM/t, m3]],Tabelle10[[#This Row],[Nmineralisch\nkg FM/t, m3]],Tabelle10[[#This Row],[Ngesamt\nkg FM/t, m³]]*Tabelle10[[#This Row],[N-Mindest-wirksam-keit \nAusbring-jahr\n %]]/100)","v":0}]
["Putzabfälle Gemüse","organisch",2.5,0,1.1499999999999999,6.03,1.66,50,{"$f":"Tabelle10[[#This Row],[Ngesamt\nkg FM/t, m³]]*Tabelle10[[#This Row],[N-Mindest-wirksam-keit \nAusbring-jahr\n %]]/100","v":1.25},{"$f":"IF(Tabelle10[[#This Row],[Ngesamt x Mindest-wirksam-\nkeit\nkg FM/t, m³]]<Tabelle10[[#This Row],[Nmineralisch\nkg FM/t, m3]],Tabelle10[[#This Row],[Nmineralisch\nkg FM/t, m3]],Tabelle10[[#This Row],[Ngesamt\nkg FM/t, m³]]*Tabelle10[[#This Row],[N-Mindest-wirksam-keit \nAusbring-jahr\n %]]/100)","v":1.25}]
["Schwefelsaures Ammoniak SSA","mineralisch",210,210,0,0,0,100,{"$f":"Tabelle10[[#This Row],[Ngesamt\nkg FM/t, m³]]*Tabelle10[[#This Row],[N-Mindest-wirksam-keit \nAusbring-jahr\n %]]/100","v":210},{"$f":"IF(Tabelle10[[#This Row],[Ngesamt x Mindest-wirksam-\nkeit\nkg FM/t, m³]]<Tabelle10[[#This Row],[Nmineralisch\nkg FM/t, m3]],Tabelle10[[#This Row],[Nmineralisch\nkg FM/t, m3]],Tabelle10[[#This Row],[Ngesamt\nkg FM/t, m³]]*Tabelle10[[#This Row],[N-Mindest-wirksam-keit \nAusbring-jahr\n %]]/100)","v":210}]
["Superphosphat","mineralisch",0,0,180,0,0,0,{"$f":"Tabelle10[[#This Row],[Ngesamt\nkg FM/t, m³]]*Tabelle10[[#This Row],[N-Mindest-wirksam-keit \nAusbring-jahr\n %]]/100","v":0},{"$f":"IF(Tabelle10[[#This Row],[Ngesamt x Mindest-wirksam-\nkeit\nkg FM/t, m³]]<Tabelle10[[#This Row],[Nmineralisch\nkg FM/t, m3]],Tabelle10[[#This Row],[Nmineralisch\nkg FM/t, m3]],Tabelle10[[#This Row],[Ngesamt\nkg FM/t, m³]]*Tabelle10[[#This Row],[N-Mindest-wirksam-keit \nAusbring-jahr\n %]]/100)","v":0}]
["Thomaskali","mineralisch",0,0,100,200,0,0,{"$f":"Tabelle10[[#This Row],[Ngesamt\nkg FM/t, m³]]*Tabelle10[[#This Row],[N-Mindest-wirksam-keit \nAusbring-jahr\n %]]/100","v":0},{"$f":"IF(Tabelle10[[#This Row],[Ngesamt x Mindest-wirksam-\nkeit\nkg FM/t, m³]]<Tabelle10[[#This Row],[Nmineralisch\nkg FM/t, m3]],Tabelle10[[#This Row],[Nmineralisch\nkg FM/t, m3]],Tabelle10[[#This Row],[Ngesamt\nkg FM/t, m³]]*Tabelle10[[#This Row],[N-Mindest-wirksam-keit \nAusbring-jahr\n %]]/100)","v":0}]
["Thomasphosphatkali","mineralisch",0,0,70,210,0,0,{"$f":"Tabelle10[[#This Row],[Ngesamt\nkg FM/t, m³]]*Tabelle10[[#This Row],[N-Mindest-wirksam-keit \nAusbring-jahr\n %]]/100","v":0},{"$f":"IF(Tabelle10[[#This Row],[Ngesamt x Mindest-wirksam-\nkeit\nkg FM/t, m³]]<Tabelle10[[#This Row],[Nmineralisch\nkg FM/t, m3]],Tabelle10[[#This Row],[Nmineralisch\nkg FM/t, m3]],Tabelle10[[#This Row],[Ngesamt\nkg FM/t, m³]]*Tabelle10[[#This Row],[N-Mindest-wirksam-keit \nAusbring-jahr\n %]]/100)","v":0}]
["Triplephosphat TSP","mineralisch",0,0,450,0,0,0,{"$f":"Tabelle10[[#This Row],[Ngesamt\nkg FM/t, m³]]*Tabelle10[[#This Row],[N-Mindest-wirksam-keit \nAusbring-jahr\n %]]/100","v":0},{"$f":"IF(Tabelle10[[#This Row],[Ngesamt x Mindest-wirksam-\nkeit\nkg FM/t, m³]]<Tabelle10[[#This Row],[Nmineralisch\nkg FM/t, m3]],Tabelle10[[#This Row],[Nmineralisch\nkg FM/t, m3]],Tabelle10[[#This Row],[Ngesamt\nkg FM/t, m³]]*Tabelle10[[#This Row],[N-Mindest-wirksam-keit \nAusbring-jahr\n %]]/100)","v":0}]
["Vinasse, Zuckerrübe (65% TS)","organisch",37.4,0,2.38,56.62,25.39,55,{"$f":"Tabelle10[[#This Row],[Ngesamt\nkg FM/t, m³]]*Tabelle10[[#This Row],[N-Mindest-wirksam-keit \nAusbring-jahr\n %]]/100","v":20.57},{"$f":"IF(Tabelle10[[#This Row],[Ngesamt x Mindest-wirksam-\nkeit\nkg FM/t, m³]]<Tabelle10[[#This Row],[Nmineralisch\nkg FM/t, m3]],Tabelle10[[#This Row],[Nmineralisch\nkg FM/t, m3]],Tabelle10[[#This Row],[Ngesamt\nkg FM/t, m³]]*Tabelle10[[#This Row],[N-Mindest-wirksam-keit \nAusbring-jahr\n %]]/100)","v":20.57}]

{"sheet":"Tab org. Kompost_N-expert","index":8,"n_rows":48,"n_cols":13,"rows_kept":48,"cut":false,"hidden":false,"merged":[]}
["DuengerID","Name","Spalte1","Ngesamt \nkg FM/t","Nmineralisch \nkg FM/t","P2O5 \nkg FM/t","K2O \nkg FM/t","MgO \nkg FM/t","Mindest-wirksamkeit Ausbringjahr\n% Ngesamt","DüV-Bezeichnung","CNorg","minCN","maxCN"]
[null,"_Andere 01"]
[null,"_Andere 02"]
[null,"_Andere 03"]
[null,"_Andere 04"]
[null,"_Andere 05"]
[null,"_Andere 06"]
[null,"_Andere 07"]
[null,"_Andere 08"]
[null,"_Andere 09"]
[null,"_Andere 10"]
["546","Champost 30% TS [BW]",null,8.1999999999999993,0.2,4.7,6,0,10,"Pilzsubstrat",16.400086999999999,5,200]
["427C3001-0A78-440F-8777-44317CC1D2B0","Champost 32% TS [NW]",null,6.9,0.2,4.0999999999999996,10.1,2.4,10,"Pilzsubstrat",16.4776466,5,200]
["101","Champost 37.5% TS",null,7.95,0.11,7.65,9.1300000000000008,5.29,10,"Pilzsubstrat",16.071132599999999,5,200]
["633","Champost 39% TS [SN] Öko. Landbau",null,6.9,0,7.56,11.09,1.33,10,"Pilzsubstrat",16.000033599999998,5,200]
["138","Kompost allgemein 65% TS",null,13.19,0.81,15.29,13.49,6.56,5,"Sonstige Komposte",13.452578600000001,3.03,250]
["511","Kompost, Bioabfall 60% TS [BY]",null,8.5,0,5.4,7.9,10,5,"Sonstige Komposte",15,6,200]
["657","Kompost, Bioabfall 60% TS [SN]",null,7.7,0.4,4.3499999999999996,7.47,5.64,5,"Sonstige Komposte",26.369862999999999,6,200]
["658","Kompost, Bioabfall 60% TS [SN] Öko. Landbau",null,7.7,0.4,4.3499999999999996,7.47,5.64,5,"Sonstige Komposte",26.369862999999999,6,200]
["569","Kompost, Bioabfall 63% TS [BW]",null,8.8000000000000007,0.4,4.4000000000000004,6.7,0,5,"Sonstige Komposte",26.190476199999999,6,200]
["104","Kompost, Bioabfall 64% TS",null,8.6199999999999992,0.7,4.4000000000000004,7.38,4.67,5,"Sonstige Komposte",21.772979200000002,6,200]
["119","Kompost, Frisch Rottegrad II o. III 60% TS",null,12.38,0.26,4.95,7.08,4.4800000000000004,5,"Sonstige Komposte",19.438733299999999,3,25]
["27","Kompost, Geflügelmist 42% TS",null,11.17,0.72,21.93,13.35,4.53,5,"Sonstige Komposte",9.2590947900000007,5,25]
["614","Kompost, Grün-/Bio- 64% TS [NW]",null,9.8000000000000007,0.6,5.0999999999999996,8,5.3,5,"Sonstige Komposte",21.3040956,6,200]
["68E8CCF7-567F-4FBE-ABB0-0EF077EC3404","Kompost, Grün-/Bio- 65% TS",null,9.8800000000000008,7.0000000000000007E-2,4.72,6.7,4.96,5,"Sonstige Komposte",18.262296899999999,6,200]
["510","Kompost, Grüngut 50% TS [BY]",null,6.6,0,3.9,5.0999999999999996,8.1999999999999993,3,"Grünschnittkompost",20.000175800000001,6,200]
["568","Kompost, Grüngut 55% TS [BW]",null,7.7,0.6,3.3,3,0,3,"Grünschnittkompost",27.112676100000002,6,200]
["659","Kompost, Grüngut 60% TS [SN]",null,6.4,0.4,3.44,5.3,4.3099999999999996,3,"Grünschnittkompost",32.000193299999999,6,200]
["660","Kompost, Grüngut 60% TS [SN] Öko. Landbau",null,6.4,0.3,3.44,5.3,4.3099999999999996,3,"Grünschnittkompost",31.4756,6,200]
["613","Kompost, Grünschnitt 61% TS [NW]",null,7.1,0.2,3.1,6.1,4.5999999999999996,5,"Sonstige Komposte",25.724637699999999,6,200]
["EA3F8DF4-9344-44DD-B811-A91029189612","Kompost, Grünschnitt 65% TS",null,9.8800000000000008,0.56000000000000005,4.72,6.7,4.96,5,"Sonstige Komposte",19.222439099999999,6,200]
["28","Kompost, Misch- 65% TS",null,12.38,0.2,17.57,15.82,10.23,5,"Sonstige Komposte",14.3120973,6,200]
["509","Kompost, Rinden 40% TS [BY]",null,5.5,0,0.5,2,2,5,"Sonstige Komposte",12.6555579,6,200]
["17","Kompost, Rindermist 25% TS",null,5.45,0.28999999999999998,5.21,5.86,12.9,5,"Sonstige Komposte",10.267720600000001,5,200]
["158","Kompost, Schweinemist 25% TS",null,5.61,0.77,5.27,2.02,2.61,5,"Sonstige Komposte",10.867481,4.84,200]
["655","Kompost, Stallmist 35% TS [SN]",null,6.8,0.4,4.58,9.52,2.82,5,"Sonstige Komposte",15.937681299999999,5,200]
["656","Kompost, Stallmist 35% TS [SN] Öko. Landbau",null,6.8,0.3,4.58,9.52,2.82,5,"Sonstige Komposte",15.692486199999999,5,200]
["165","Kompost, Substrat 65% TS",null,12.38,1.04,17.57,15.82,10.23,5,"Sonstige Komposte",15.372252700000001,6,200]
["512","Kompost, Trester 60% TS [BY]",null,10,1.3,4,16,3,5,"Sonstige Komposte",17.241379299999998,3,25]
["175","Kompost, Wurm-/Vermi- 30% TS",null,6.33,0.32,7.53,6.24,7.42,5,"Sonstige Komposte",12.8893839,3,25]
["239","Naturdünger abgepresst getrocknet Bioenergie Kusenhof",null,16,0.8,23.6,11.2,5.9,5,"Sonstige Komposte",13.1578947,5,200]
["240","Naturdünger abgepresst kompostiert Bioenergie Kusenhof",null,27.3,1.37,31.1,12.1,8.3000000000000007,5,"Sonstige Komposte",7.0464564999999997,5,200]
["802","RAL-Fertigkompost, Pflanzenmaterial",null,6.95,0.49,3.01,5.49,3.64,5,"Sonstige Komposte",19.115492100000001,6,200]
["800","RAL - Fertigkompost, Hausabfälle",null,9.1,0.98,4.4800000000000004,7.8,4.53,5,"Sonstige Komposte",16.483461500000001,6,200]
["803","RAL-Fertigkompost, Pflanzenmaterial",null,6.45,0.47,2.66,5.04,3.5,5,"Sonstige Komposte",23.873080399999999,3,25]
["801","RAL - Fertigkompost, Hausabfälle",null,8.8800000000000008,1.01,4.37,7.54,3.85,5,"Sonstige Komposte",18.223922999999999,3,25]
["416","SNOEKs Kompostmeister",null,26,0,5,24,0,5,"Sonstige Komposte",12.4709977,2,15]
["804","Terrahum-Kompost",null,6.49,0.65,2.71,4.47,1.95,5,"Sonstige Komposte",21.2144026,6,200]

{"sheet":"Tab org. D_N-expert","index":9,"n_rows":541,"n_cols":18,"rows_kept":541,"cut":false,"hidden":false,"merged":[]}
["DuengerID","Name","Ausbring-einheit","Ngesamt\nkg FM/t, m³","Nmineralisch \nkg FM/t, m³ ","P2O5\nkg FM/t, m³ ","K2O\nkg FM/t, m³ ","MgO\nkg FM/t, m³ ","Mindest-wirksamkeit Ausbringjahr\n% Ngesamt","DüV-Bezeichnung","Cnorg","minCN","maxCN","Einheit \nN-Expert",null,"Bemerkungen","Organische Dünger","Mindest-wirksamkeit \nAusbringjahr\n % Ngesamt"]
[null,"_Andere 01","m³/ha",null,null,null,null,null,null,null,null,null,null,null,null,null,"Jauche",90]
[null,"_Andere 02","m³/ha",null,null,null,null,null,null,null,null,null,null,null,null,null,"Dünger aus Horn, Haar, Federn",70]
[null,"_Andere 03","m³/ha",null,null,null,null,null,null,null,null,null,null,null,null,null,"Dünger aus Fleisch und Knochen",70]
[null,"_Andere 04","m³/ha",null,null,null,null,null,null,null,null,null,null,null,null,null,"Schweinegülle",70]
[null,"_Andere 05","m³/ha",null,null,null,null,null,null,null,null,null,null,null,null,null,"Rindergülle, Gärreste flüssig",60]
[null,"_Andere 06","m³/ha",null,null,null,null,null,null,null,null,null,null,null,null,null,"Hühnertrockenkot",60]
[null,"_Andere 07","m³/ha",null,null,null,null,null,null,null,null,null,null,null,null,null,"Ernterückstände Gemüse",50]
[null,"_Andere 08","m³/ha",null,null,null,null,null,null,null,null,null,null,null,null,null,"Putzabfälle Gemüse",50]
[null,"_Andere 09","m³/ha",null,null,null,null,null,null,null,null,null,null,null,null,null,"Feststoff-Separat aus Schweinegülle",45]
[null,"_Andere 10","m³/ha",null,null,null,null,null,null,null,null,null,null,null,null,null,"Schweine-Festmist, Gärreste fest",30]
["5","Ackerbohnen, Mehl 87% TS","t/ha",38.93,0.26,13.04,14.79,2.88,40,"keine Angabe",9.4677913,3,15,"B",null,null,"Geflügel-, Kaninchen-Festmist",30]
["6","Ackerbohnen, Pellets 87% TS","t/ha",38.93,0.26,13.04,14.79,2.88,40,"keine Angabe",9.4677913,3,15,"B",null,null,"Klärschlamm flüssig",30]
["957A5733-3D82-483E-A2B1-8E81D73660DF","Ackerbohnen, Schrot 87% TS","t/ha",38.93,0.26,13.04,14.79,2.88,40,"keine Angabe",9.4677913,3,15,"B",null,null,"Leguminosentransfermulch",30]
["687","Ackerbohnenschrot 86% TS [SN] Öko. Landbau","t/ha",42,0,10.77,13.62,2.65,40,"keine Angabe",7.99994476,3,15,"B",null,null,"Leguminosen- u.a. Körnerschrote",40]
["196","Activit 4-3-2","t/ha",36,8.2799999999999994,28,22,15,60,"keine Angabe",12.9736209,3,25,"B",null,null,"Schlempe",30]
["177","AGRIFEED EKO N AMINO","t/ha",84,8.4,0,0,0,null,"keine Angabe",4.6342331699999999,1.5,25,"B",null,null,"Klärschlamm fest",25]
["178","AGRIFEED EKO NPK","t/ha",30,3,30,30,0,null,"keine Angabe",6.4449600399999998,1.5,25,"B",null,null,"Rinder-Festmist",25]
["833","Agrosol liquid","m³/ha",3,0,0,0,0,null,"keine Angabe",4.1013382099999998,1.5,25,"C",null,"Proteinhydrolysat, Algenextrakt","Pferde-, Schaf-, Ziegen-Festmist",25]
["269","AKRA Organischer Flüssigdünger","m³/ha",15,3.75,6,41,4,null,"keine Angabe",12.889920099999999,3,25,"B",null,"Kartoffelfruchtwasser","Trester, Trauben",10]
["271","Aminofert-Bio-NPK 3+5+6","m³/ha",30,1.2,50,60,1.5,null,"keine Angabe",5.2083333300000003,2,15,"B",null,null,"Pilzsubstrat",10]
["272","Aminofert-Bio-NPK 7+1+2","m³/ha",70,0.35,10,20,1.5,null,"keine Angabe",4.3072505400000001,3,15,"B",null,null,"Stroh",0]
["273","Aminofert-P","m³/ha",70,0.35,0,0,0,null,"keine Angabe",4.3072505400000001,3,15,"B",null,null,"Vinasse, Melasse",70]
["274","Aminofert-Springer","m³/ha",50,0.25,0,0,0,null,"keine Angabe",6.0301507499999998,3,15,"B",null,null,"Andere organische Dünger",60]
["301","Aminosol","m³/ha",9.4,0.48,0,11,0,null,"keine Angabe",22.507343800000001,1.5,50,"B",null,"Proteinhydrolysat"]
["197","AMN Natural Activ-bio","t/ha",70,2.8,30,70,0,null,"keine Angabe",5.1789857499999998,2,15,"B",null,"Kakaoschalen, Federn, Vinasse, Borsten, Fleischknochenmehl, Huf, Knochenmehl, Traubentrester"]
["198","AMN Natural Activ-bio-bio","t/ha",70,2.8,30,70,10,null,"keine Angabe",5.1789857499999998,2,15,"B",null,"Kakaoschalen, Vinasse, Federn, Borsten, Huf, Traubentrester"]
["275","AMN Powerdünger","m³/ha",70,7,20,30,0,null,"keine Angabe",5,1.5,25,"B",null,"Getreide, pflanzliche Stoffe aus der Lebens-, Genuss- und Futtermittelherstellung, Algen, Kali-Vinasse"]
["392","AMN® Verde, Bio-Pflanzennahrung u. Vitalisierung","m³/ha",25,0,2,30,0,70,"keine Angabe",14,5,200,"B",null,"Vinasse, Getreide-, Tannenrinden-, Braunalgenextrakt"]
["834","ANGRO QM HUMIN","t/ha",7,7.0000000000000007E-2,5,35,38,null,"keine Angabe",41.850389900000003,1.5,100,"B"]
["199","Azet® PROFI BaumDünger","t/ha",70,2.8,30,100,3,null,"keine Angabe",5.1789857499999998,2,15,"B",null,"tierisch, pflanzlich"]
["200","Azet® PROFI RasenDünger","t/ha",90,3.6,30,50,0,null,"keine Angabe",4.0281000300000001,2,15,"B"]
["201","Azet® PROFI RhododendronDünger","t/ha",70,2.8,30,50,0,null,"keine Angabe",6.0421500400000001,2,15,"B"]
["202","Azet® PROFI RosenDünger","t/ha",70,2.8,70,50,0,null,"keine Angabe",6.0421500400000001,2,15,"B"]
["203","BED Bio Elite Dünger","t/ha",13.8,0.69,12.2,11.7,7.2,null,"keine Angabe",19.4676139,5,200,"B"]
["588","Biertreber 25% TS [BW]","t/ha",11.3,0,3.8,3.1,0,10,"keine Angabe",9.9998973400000004,5,50,"B"]
["103","Biertreber 90% TS","t/ha",43.65,0,17.53,10.3,4.78,10,"keine Angabe",10.0824423,5,50,"B"]
["302","Biorga Cuma","t/ha",120,3,0,0,0,70,"keine Angabe",4.2140123300000001,3,25,"B",null,"Ledermehl, Malzkeimlinge"]
["204","BIO Symbio","t/ha",30,0.18,5,10,0,null,"keine Angabe",7.0361861000000001,6,25,"B",null,"Malzkeime, Vinasse-Kaliumsulfat, Vinasse, Endomykorrhiza"]
["205","BioAgenasol","t/ha",60,0,30,20,0,null,"keine Angabe",8.2173240500000002,3,25,"B",null,"Trockenschlempe aus Ethanolerzeugung, Maisquellwasser, Restmelasse, Kartoffel-Stickstoffkonzentra"]
["418","Bio-Algihum® \"Flüssigkonzentrat B\"","m³/ha",28,2.8,0,0,0,null,"keine Angabe",2.62380952,1.5,25,"C",null,"Braunalgenaufbereitungen, Melasse"]
["179","Bio-Algihum® \"Terratop® Golf 6\"","t/ha",64,0,13,45,10,null,"keine Angabe",4.3503480300000001,3,25,"B"]
["421","Bio-Algihum® \"Verdunstungsschutz\"","m³/ha",20,2,6.7,14,0,null,"keine Angabe",3.4622222200000001,1.5,30,"C"]
["422","Bio-Algihum® \"Wurzelfott K\"","m³/ha",7.6,0.76,0,0,0,null,"keine Angabe",7.2929811000000004,1.5,25,"C"]
["417","Bio-Algihum® Bodengranulat plus","t/ha",11,0.28000000000000003,10,57,0,null,"keine Angabe",20.561346400000001,3.5779640700000002,200,"B"]
["419","Bio-Algihum® Terratop®Golf 3","t/ha",35,0.88,23,47,14,null,"keine Angabe",8.3300919600000007,3.5779640700000002,200,"B"]
["420","Bio-Algihum® Terratop®Golf 6","t/ha",64,1.6,13,45,10,null,"keine Angabe",4.4618954100000003,3.5779640700000002,200,"B"]
["276","BIOCON","t/ha",17,0.43,0,10,0,null,"keine Angabe",15.052501700000001,5,50,"B"]
["206","Biodünger Bio Energy GmbH","t/ha",41.8,12.54,24.7,66.900000000000006,9.6999999999999993,null,"keine Angabe",15.3833223,3,200,"B"]
["26","Biogasgülle 5% TS","m³/ha",2.78,1.01,1.19,3.54,0.76,60,"Biogasanlagenrückstand flüssig",12.672539199999999,3,200,"C"]
["707","Biogasgülle 5% TS [SH]","m³/ha",4,2.2999999999999998,1.5,4.0999999999999996,0.6,60,"Biogasanlagenrückstand flüssig",11.764705899999999,3,200,"C"]
["708","Biogasgülle 7% TS [SH]","m³/ha",5.0999999999999996,2.9,2.1,5.4,0.8,60,"Biogasanlagenrückstand flüssig",11.590381799999999,3,200,"C"]
["106","Biogasgülle Hauptbestandteil Pflanzen 7% TS","m³/ha",5.35,2.78,2.4,5.63,0.63,60,"Biogasanlagenrückstand flüssig",11.429396799999999,3,200,"C"]
["107","Biogasgülle, aus Kleegras 9% TS","m³/ha",4.93,2.99,3.1,7.28,0.82,60,"Biogasanlagenrückstand flüssig",19.590020800000001,3,200,"C"]
["108","Biogasgülle, aus Rindergülle 7% TS","m³/ha",4.59,2.65,1.54,4.54,1.1200000000000001,60,"Biogasanlagenrückstand flüssig",15.7569307,3,200,"C"]
["109","Biogasgülle, aus Schweinegülle 5.2% TS","m³/ha",5.69,4.3600000000000003,1.46,3.09,0.85,60,"Biogasanlagenrückstand flüssig",18.400118599999999,3,200,"C"]
["110","Biogasgülle, aus Schweinegülle u. Hühnertrockenkot 4.2% TS","m³/ha",5.44,4.63,1.2,2,0.68,60,"Biogasanlagenrückstand flüssig",22.3210449,3,200,"C"]
["342","Bio-Langzeitdünger","t/ha",26,0,15,35,3,null,"keine Angabe",16.732107800000001,3,50,"B"]
["278","Biomus","m³/ha",22.4,1.57,19.100000000000001,18.2,0,null,"keine Angabe",3.3416019399999999,2,10,"C"]
["207","Bionalla","t/ha",110,11,5,50,4.5,null,"keine Angabe",2.8578124599999999,1.5,25,"B"]
["208","Bionta Organic Universal","t/ha",50,0.25,30,50,7.8,null,"keine Angabe",8.46459677,6,25,"B"]
["296","Bio-Plantosol","m³/ha",65,3.25,0,0,0,null,"keine Angabe",1.87869281,1.5,25,"B"]
["343","BIO-PROTAN® NPK 6-0-3","t/ha",60,3,0.5,30,0.8,null,"keine Angabe",5.3425326699999998,1.5,25,"B"]
["180","Biorga Quick","t/ha",120,0,0,0,0,null,"keine Angabe",3.8669760200000001,2,10,"B"]
["181","Biorga Quick pelletiert ohne Fleischknochenmehl","t/ha",120,0,0,0,0,70,"keine Angabe",3.8669760200000001,2,10,"B"]
["182","Biorga Stickstoffdünger","t/ha",120,0,0,0,0,null,"keine Angabe",3.8669760200000001,2,10,"B"]
["183","Biorga Stickstoffdünger pelletiert ohne Fleischknochenmehl","t/ha",120,0,0,0,0,70,"keine Angabe",3.8669760200000001,2,10,"B"]
["209","Biorga Vegi","t/ha",50,0.25,10,50,0,null,"keine Angabe",8.1614569400000008,6,25,"B"]
["210","BIOSOL","t/ha",70,0,10,10,0,null,"keine Angabe",6.6291017600000002,3,10,"B"]
["111","Biosol ehemals Agrobiosol 94% TS","t/ha",66.59,2.6,14.74,10.19,0.98,null,"keine Angabe",6.8421726300000003,3,10,"B"]
["184","Biostar","t/ha",80,4,15,15,40,null,"keine Angabe",3.43448529,1.5,25,"B"]
["393","Blocks ICAS","t/ha",17,0.43,0,11,0,null,"keine Angabe",18.466969200000001,3,25,"B"]
["112","Blutmehl 94.2% TS","t/ha",86.23,6.24,11.58,47.12,67.31,70,"keine Angabe",4.8944633199999998,3,15,"B"]
["211","BonaGreen® 4-1,5-0,5","t/ha",40,0,15,0.5,0,null,"keine Angabe",6.5255220400000002,3,25,"B"]
["394","Boundary SW ICAS","t/ha",15,0.38,0,11,0,null,"keine Angabe",18.467852300000001,3,25,"B"]
["813","Care Protector","m³/ha",5,0.2,10.9,9,59,null,"keine Angabe",12.0843001,3,50,"C"]
["814","Care Protector plus","m³/ha",5,0.2,11,10,70,null,"keine Angabe",12.0843001,3,50,"C"]
["395","COMPLESAL AmnioMAX","t/ha",75,3.75,0,0,0,null,"keine Angabe",4.2105263199999996,1.5,25,"B"]
["344","Condit 5","t/ha",59.2,0,16.3,20,6.4,null,"keine Angabe",7.5641186400000002,3,50,"B"]
["212","Cuxin Orgasan","t/ha",60,2.4,60,90,0,null,"keine Angabe",5.2365300299999999,2,15,"B"]
["190","DCM Eco-fos","t/ha",40,0,230,0,0,null,"keine Angabe",4.6403712300000004,3,20,"B"]
["213","DCM Eco-Mix 3","t/ha",120,0,0,30,0,null,"keine Angabe",4.0119876300000001,2,15,"B"]
["303","DCM Eco-Plant 2","t/ha",60,0,30,40,9,null,"keine Angabe",6.6705336400000004,5,50,"B"]
["304","DCM Eco-Xtra 1","t/ha",80,0,50,60,3,null,"keine Angabe",4.6403712300000004,2,15,"B"]
["214","DCM NPK 9-4-3","t/ha",90,3.6,40,30,0,null,"keine Angabe",4.4980450300000001,2,15,"B"]
["215","DCM Öko-Mix 1","t/ha",90,3.6,50,30,0,null,"keine Angabe",4.7665850299999999,2,15,"B"]
["216","DCM Öko-Mix 4","t/ha",70,2.8,70,100,0,null,"keine Angabe",4.4021378899999997,2,15,"B"]
["217","DCM ProLico 2","t/ha",23,2.2999999999999998,0,60,0,null,"keine Angabe",4.99988791,1.5,25,"B"]
["192","DCM Vivikali","t/ha",20,2,0,200,0,null,"keine Angabe",11.923176099999999,1.5,25,"B"]
["345","DCM Vivisol","l/ha",25,0,10,40,0,null,"keine Angabe",16.473317900000001,5,50,"B"]
["346","DCM Vivisol Minigran","l/ha",25,0,10,40,0,80,"keine Angabe",16.473317900000001,5,50,"B"]
["218","DER WOLLDÜNGER","t/ha",100,0,2,50,2,70,"keine Angabe",4.8201856100000002,2,10,"B"]
["279","Diaglutin","t/ha",70,3.5,0,0,0,null,"keine Angabe",4.71015125,1.5,25,"B"]
[null,"Diaglutin Npellet","t/ha",120,null,24,0,0,null,"keine Angabe",4]
["410","DIAMIN®N9","t/ha",90,4.5,0,0,0,null,"keine Angabe",3.39208423,1.5,25,"B"]
["219","DIX-10N","t/ha",98,6.86,27,23,10,null,"keine Angabe",5.0914760000000001,2,10,"B"]
["220","DUETTO","t/ha",50,3.5,50,80,20,null,"keine Angabe",7.4844697299999998,2,10,"B"]
["221","ECOSUS Premium Bio-Bodenverbesserer","t/ha",7,0,5,9,11,null,"keine Angabe",21.544580700000001,6,200,"B"]
["222","ECOVITAL Phosphatfrei pelletiert","t/ha",50,5,0,50,0,null,"keine Angabe",10.3119361,1.5,25,"B"]
["223","ECOVITAL Spezial pelletiert","t/ha",70,2.8,40,70,3,null,"keine Angabe",5.6105678899999996,2,15,"B"]
["224","EMIKO®EM5 Forte","t/ha",1.8,0.18,5,2.7,0.9,null,"keine Angabe",14.3221334,1.5,25,"B"]
["225","EMIKO®MikroDünger","t/ha",44,4.4000000000000004,5,43,1.5,null,"keine Angabe",5.8590545799999996,1.5,25,"B"]
["822","En-Crops® PowerSoil-Bio","t/ha",3.8,0.21,2.4,3.5,0,null,"keine Angabe",67.860581999999994,5,200,"B"]
["823","En-Crops®TopSoil-Bio","t/ha",1.1000000000000001,0.04,0,2.7,7.3,null,"keine Angabe",311.911745,3.5779640700000002,500,"B"]
["226","Engelharts Gartendünger","t/ha",70,2.8,70,70,7.7,null,"keine Angabe",5.2394072500000002,2,15,"B"]
["227","Engelharts vegetarisch","t/ha",70,2.8,20,70,5,null,"keine Angabe",6.6722599699999998,2,15,"B"]
["621","Entenmist 30% TS [NW]","t/ha",4,0,3,11,1,30,"Geflügelfestmist",25,3,25,"B"]
["522","Entenmist, Pekingente 30% TS [BY]","t/ha",8.4,2.5,7.5,10.8,2,30,"Geflügelfestmist",14.2376814,3,25,"B"]
["348","EPPINGER Biodünger","t/ha",60,0,20,50,20,null,"keine Angabe",4.8337200300000003,2,15,"B"]
["113","Erbsenmehl Korn 86.5% TS","t/ha",34.25,0,9.7100000000000009,12.3,1.29,40,"keine Angabe",12.122546399999999,6,15,"B"]
["688","Erbsenschrot 86% TS [SN] Öko. Landbau","t/ha",35,0,9.85,12.77,2.16,40,"keine Angabe",10,6,15,"B"]
["1130","Erbsenschrot 86.5% TS","t/ha",34.25,0,9.7100000000000009,12.3,1.29,40,"keine Angabe",12.122546399999999,6,15,"B"]
["683","Ernterückstände, Gemüse 15% TS [SN]","t/ha",2.5,0,1.1499999999999999,6.03,1.66,50,"keine Angabe",20,3.58,200,"B"]
["684","Ernterückstände, Gemüse 15% TS [SN] Öko. Landbau","t/ha",2.5,0,1.1499999999999999,6.03,1.66,50,"keine Angabe",20,3.58,200,"B"]
["696","Ernterückstände, Mais 95% TS [SN] Öko. Landbau","t/ha",65,0,50.41,10,5.97,null,"keine Angabe",6,6,25,"B"]
["685","Ernterückstände, Zwischenfrucht/Frucht 15% TS [SN]","t/ha",5,0,1.37,4.82,0.5,null,"keine Angabe",13,3.58,200,"B"]
["686","Ernterückstände, Zwischenfrucht/Frucht 15% TS [SN] Öko. Landbau","t/ha",4.5999999999999996,0,1.37,4.82,0.5,null,"keine Angabe",13.0006053,3.58,200,"B"]
["114","Federmehl 88.6% TS","t/ha",124.04,0,4.26,2.13,0.44,70,"keine Angabe",3.6499808100000002,2,10,"B"]
["115","Federmehl, Pellets 88.6% TS","t/ha",124.04,0,4.26,2.13,0.44,70,"keine Angabe",3.6499808100000002,2,10,"B"]
["305","Fence N","t/ha",50,0,0,0,0,null,"keine Angabe",8.5,5,50,"B"]
["533","Filterhefe stichfest 35% TS [BY]","t/ha",16,0,6,24,2.5,80,"keine Angabe",10,5,50,"B"]
["116","Fischmehl 91.7% TS","t/ha",91.7,1.21,52.53,9.81,3.95,70,"keine Angabe",4.1142975399999999,3.44,10,"B"]
["117","Fischmehl, Pellets 91.7% TS","t/ha",91.7,1.21,52.53,9.81,3.95,70,"keine Angabe",4.1142975399999999,3.44,10,"B"]
["592","Fleischknochenmehl 95% TS [BW]","t/ha",70,5,65,3,0,70,"keine Angabe",6.4615384599999999,3,20,"B"]
["544","Fleischknochenmehl 95% TS [BY]","t/ha",50,3.75,165,3.5,4.9000000000000004,70,"keine Angabe",8.6486486500000002,3,20,"B"]
["700","Fleischknochenmehl 95% TS [SN]","t/ha",70,4.5,149,3.62,4.3099999999999996,70,"keine Angabe",5.8778626000000003,3,20,"B"]
["701","Fleischknochenmehl 95% TS [SN] Öko. Landbau","t/ha",70,4.2,149,3.62,4.3099999999999996,70,"keine Angabe",5.8510638300000002,3,20,"B"]
["118","Fleischknochenmehl 96.2% TS","t/ha",83.94,6.3,84.1,5.57,4.63,70,"keine Angabe",5.2783923899999996,3,20,"B"]
["193","FLORAAKAL WSM","t/ha",12.5,1.25,1.5,230,0,null,"keine Angabe",16.756896099999999,1.5,25,"B"]
["228","floraPell - ökologischer Langzeitdünger","t/ha",100,0,0,50,0,null,"keine Angabe",4.9303944299999998,2,10,"B"]
["521","Flugentenmist 30% TS [BY]","t/ha",9,2.7,8.9,11.2,2,30,"Geflügelfestmist",14.2857143,3,25,"B"]
["396","Fontana Bio 6-2-3","t/ha",60,3,20,30,1,null,"keine Angabe",3.0528758100000002,1.5,25,"B"]
["397","Fontana Bio 9-0-0","t/ha",90,4.5,0,0,1,null,"keine Angabe",3.0528758100000002,1.5,25,"B"]
["398","Fontana BioV 4.5-0-0,5","t/ha",45,0,2,50,1,null,"keine Angabe",5.8004640399999996,1.5,25,"B"]
["816","Fulvital® Plus WSP","t/ha",22.2,0.89,0,8.6999999999999993,0,null,"keine Angabe",16.876056800000001,3.5779640700000002,200,"B"]
["327","Furia","t/ha",30,0,0,100,0,null,"keine Angabe",4,1.5,25,"B"]
["622","Gänsemist 30% TS [NW]","t/ha",8,0,6,11,2,30,"Geflügelfestmist",10,3,25,"B"]
["545","Gärreste aus Biogasanlagen 6% TS [BW]","m³/ha",4.5,2.7,1.9,4.4000000000000004,0,60,"Biogasanlagenrückstand flüssig",15.0006445,3,200,"B"]
["349","Gartenkrone Naschgarten Dünger Bio","t/ha",60,0,30,80,20,null,"keine Angabe",4.9303944299999998,2,15,"B"]
["350","Gartenkrone Rasen Dünger Bio","t/ha",70,0,30,80,0,null,"keine Angabe",4.5575074600000001,2,15,"B"]
["229","Gartenkrone® Universal Dünger Bio 2,5 kg","t/ha",50,1.25,40,80,30,null,"keine Angabe",7.1390326599999998,3,25,"B"]
["230","Gartenkrone® Universal Dünger Bio flüssig 1L","m³/ha",45,4.5,2,50,0,null,"keine Angabe",7.1610667100000001,1.5,25,"B"]
["351","Gärtner's Beeren-Früchte-Dünger","t/ha",80,0,30,80,20,null,"keine Angabe",3.7630510400000001,2,15,"B"]
["352","Gärtner's Bio Dünger für den Naschgarten","t/ha",60,0,30,80,20,null,"keine Angabe",4.54369683,2,15,"B"]
["353","Gärtner's Bio Kräuter- u. Tomatendünger","t/ha",45,4.5,2,75,0,null,"keine Angabe",7.1610667100000001,1.5,25,"B"]
["354","Gärtner's Bio Rasendünger","t/ha",70,0,30,10,0,null,"keine Angabe",7.2920119300000001,2,15,"B"]
["355","Gärtner's Gartendünger für alle Gartenkulturen","t/ha",60,0,30,80,20,null,"keine Angabe",4.9303944299999998,2,15,"B"]
["312","Gärtner's Hornmehl","t/ha",140,0,0,0,0,70,"keine Angabe",3.9360291699999999,2,10,"B"]
["313","Gärtner's Hornspäne","t/ha",140,0,0,0,0,70,"keine Angabe",3.3145508800000001,2,10,"B"]
["356","Gärtner's Rododendron- u. Moorbeetpflanzendünger","t/ha",80,0,30,50,20,null,"keine Angabe",4.4953596300000003,2,15,"B"]
["357","Gärtner's Rosendünger","t/ha",80,0,30,20,0,null,"keine Angabe",3.7703016200000001,2,15,"B"]
["676","Geflügelmist 45% TS [SN]","t/ha",16.899999999999999,5.9,15.15,17.350000000000001,3.82,30,"Geflügelfestmist",10.754587600000001,3,25,"B"]
["677","Geflügelmist 45% TS [SN] Öko. Landbau","t/ha",16.899999999999999,5.9,15.15,17.350000000000001,3.82,30,"Geflügelfestmist",10.754587600000001,3,25,"B"]
["9","Geflügelmist 60% TS","t/ha",33.119999999999997,0.94,31.2,19.63,6.47,30,"Geflügelfestmist",6.53192094,3,25,"B"]
["120","Geflügelmist, frisch 60% TS","t/ha",25.53,2.33,31.2,19.63,6.47,30,"Geflügelfestmist",9.1802344199999997,3,15,"B"]
["358","Gemüse- u. Kräuter-Dünger für den Biogarten flüssig","m³/ha",45,4.5,2,75,0,null,"keine Angabe",7.1610667100000001,1.5,25,"B"]
["359","Geohumus Phytopower BIO","t/ha",50,5,25,50,0,null,"keine Angabe",8.8940448599999993,1.5,25,"B"]
["185","Gepac Bio-Aktiv","t/ha",57,1.43,27,17,0,null,"keine Angabe",8.8724031500000002,3,25,"B"]
["537","Gerstenstroh 90% TS [BY]","t/ha",5,0,3,17,1,0,"keine Angabe",80,4.93,200,"B"]
["122","Getrocknetes Pflanzenmaterial/Cobs 95% TS","t/ha",35.119999999999997,0.32,39.18,54.93,3.94,null,"keine Angabe",11.588427100000001,3,25,"B"]
["231","Greenfit Boden bio-Aktiv","m³/ha",2.9,0.03,0.11,0.03,0,null,"keine Angabe",10.105338,3,25,"C"]
["306","GREENSTIM®","t/ha",120,12,0,0,0,null,"keine Angabe",4.6296296300000002,1.5,25,"B"]
["360","GRENA ULTRA Micro","t/ha",60,0,15,15,0,null,"keine Angabe",4.3503480300000001,3,20,"B"]
["361","Grüner Jan Naturdünger","t/ha",50,0,40,60,16,null,"keine Angabe",6.9605568399999997,2,15,"B"]
["531","Grünguthäcksel 50% TS [BY]","t/ha",5.2,0,2.6,5.4,5,null,"keine Angabe",29.999553800000001,3.58,600,"B"]
["232","GUANITO","t/ha",60,4.2,149,30,14,null,"keine Angabe",6.2724014300000004,2,10,"B"]
["124","Guano 95% TS","t/ha",113.84,7.63,56.6,10.3,0,null,"keine Angabe",2.8944430200000002,2,10,"B"]
["307","Guar Mehl Korma","t/ha",80,0,7.5,15,5,30,"keine Angabe",6.25,3,15,"B"]
["705","Haar- u. Federnmehl 98% TS [SN] Öko. Landbau","t/ha",135,0,9.17,1.93,1.66,70,"keine Angabe",3,2,10,"B"]
["21","Haarmehl, Pellets 94% TS","t/ha",133.88999999999999,0,8.4499999999999993,6.58,3,70,"keine Angabe",3.5041058600000001,2,10,"B"]
["702","Haarmehl, Pellets 95% TS [SN] Öko. Landbau","t/ha",140,0,10.08,3.01,0,70,"keine Angabe",3,2,10,"B"]
["538","Haferstroh 90% TS [BY]","t/ha",5,0,3,17,2,0,"keine Angabe",80,4.93,200,"B"]
["10","Hähnchen-/Broilermist 60% TS","t/ha",28.26,2.08,31.2,19.63,6.47,30,"Geflügelfestmist",8.4323858200000004,3,15,"B"]
["528","Hähnchenmist, Mast 60% TS [BY]","t/ha",16.399999999999999,3.3,15.5,18.100000000000001,8.8000000000000007,30,"Geflügelfestmist",15.0227591,3,25,"B"]
["186","HICURE","t/ha",173,8.65,0,0,0,null,"keine Angabe",2.1052490399999999,1.5,25,"B"]
["22","Horndünger 90% TS","t/ha",126.67,0,8.09,6.3,28.82,70,"keine Angabe",3.3512367599999999,2,10,"B"]
["314","Horngrieß","t/ha",140,0,0,0,0,70,"keine Angabe",3.52171031,2,10,"B"]
["23","Hornmehl 90% TS","t/ha",125.66,0,8.09,6.3,28.82,70,"keine Angabe",3.2671577599999999,2,10,"B"]
["706","Hornmehl, -gries, -späne 98% TS [SN] Öko. Landbau","t/ha",130,0,10.77,5.0599999999999996,4.3099999999999996,70,"keine Angabe",3,2,10,"B"]
["25","Hornmehlpellets 90% TS","t/ha",109.83,0,8.09,6.3,28.82,70,"keine Angabe",3.9770385500000001,2,10,"B"]
["24","Hornspäne 90% TS","t/ha",133.46,0,8.09,6.3,28.82,70,"keine Angabe",3.2166802300000001,2,10,"B"]
["536","Hornspäne 90% TS [BY]","t/ha",140,0,0,0,0,70,"keine Angabe",3,2,10,"B"]
["07473D18-D721-4C08-87B9-E337CF4A361E","Hühnerfrischkot 28% TS","t/ha",9.42,2.08,11.74,9.86,3.02,null,"keine Angabe",12.232341,3,25,"B"]
["608","Hühnergülle 11% TS [NW]","m³/ha",8.4,5.3,6,4.5999999999999996,2.2999999999999998,null,"keine Angabe",16.258139400000001,3,200,"C"]
["715","Hühnergülle 14% TS [SH]","m³/ha",9.1999999999999993,6.5,7,5,1.8,null,"keine Angabe",20.4434133,3,200,"C"]
["524","Hühnerkot 50% TS [BY]","t/ha",17.5,8.8000000000000007,15,13.5,5,null,"keine Angabe",24.137930999999998,3,25,"B"]
["661","Hühnerkot, frisch 12% TS [SN]","t/ha",9.1,5,10.77,6.87,1.49,null,"keine Angabe",8.8775394700000003,3,25,"B"]
["662","Hühnerkot, frisch 12% TS [SN] Öko. Landbau","t/ha",7.4,4.0999999999999996,9.85,4.0999999999999996,1.1599999999999999,null,"keine Angabe",10.091049699999999,3,25,"B"]
["718","Hühnerkot, frisch 23% TS [SH]","t/ha",13,6,8,7,2,null,"keine Angabe",11.1426914,3,25,"B"]
["620","Hühnerkot, frisch 28% TS [NW]","t/ha",17,6.3,11.4,10,5.7,null,"keine Angabe",7.9439252299999996,3,25,"B"]
["671","Hühnerkot, frisch 28% TS [SN]","t/ha",17.100000000000001,3,10.9,8.3000000000000007,4,null,"keine Angabe",4.8509980099999996,3,25,"B"]
["DED41531-57E8-4B0A-97E3-6A6A2D065525","Hühnerkot, getrocknet 50% TS","t/ha",20.23,4.72,19.29,16.5,5.39,60,"Hühnertrockenkot",12.440144099999999,3,25,"B"]
["272BC4EE-B701-4CDA-888C-D9DBEC6DEC39","Hühnerkot, getrocknet 70% TS","t/ha",28.32,6.61,27,23.1,7.55,60,"Hühnertrockenkot",12.4425431,3,25,"B"]
["724","Hühnermist 45% TS [SH]","t/ha",28,7.8,24,23,6,30,"Geflügelfestmist",10.3960396,3,25,"B"]
["525","Hühnermist 50% TS [BY]","t/ha",17.5,8.8000000000000007,15,15.5,5.5,30,"Geflügelfestmist",24.137930999999998,3,25,"B"]
["577","Hühnermist, Einstreu 50% TS [BW]","t/ha",17.5,8.8000000000000007,15,15.5,5.5,30,"Geflügelfestmist",24.137930999999998,3,25,"B"]
["725","Hühnertrockenkot 45% TS [SH]","t/ha",24,10,17,14,5,60,"Hühnertrockenkot",12.857142899999999,3,25,"B"]
["678","Hühnertrockenkot 45% TS [SN]","t/ha",25.7,9.8000000000000007,20.7,18,6.93,60,"Hühnertrockenkot",9.6980840199999996,3,25,"B"]
["679","Hühnertrockenkot 45% TS [SN] Öko. Landbau","t/ha",20.9,7.9,19.8,15.94,5.68,60,"Hühnertrockenkot",9.6461716899999992,3,25,"B"]
["578","Hühnertrockenkot 50% TS [BW]","t/ha",17.2,0,17.399999999999999,13.2,0,60,"Hühnertrockenkot",11.999878600000001,3,25,"B"]
["629","Hühnertrockenkot 50% TS [NW]","t/ha",25.5,9.9,20.100000000000001,17.5,7.9,60,"Hühnertrockenkot",8.1730769199999997,3,25,"B"]
["631","Hühnertrockenkot 70% TS [NW]","t/ha",32,10.7,27.7,22.8,20.6,60,"Hühnertrockenkot",9.0141389699999994,3,25,"B"]
["680","Hühnertrockenkot 70% TS [SN]","t/ha",32.1,11,30.9,21.8,7.9,60,"Hühnertrockenkot",9.12789611,3,25,"B"]
["98742F0F-AFBE-49B4-A589-88179929D0EB","Hühner-u. Hähnchenmist 30% TS [NW]","t/ha",18.100000000000001,7.6,12.5,10.4,4,30,"Geflügelfestmist",8.6189371300000008,3,25,"B"]
["3F0FFD65-E936-46CE-9841-B9AFC7F4215E","Hühner-u. Hähnchenmist 60% TS [NW]","t/ha",29.9,10,22,20.2,8.1999999999999993,30,"Geflügelfestmist",7.5126211100000004,3,25,"B"]
["280","Humavin flüssig/BlütoVin","m³/ha",40,4,10,50,0,null,"keine Angabe",3.1902552200000001,1.5,25,"B"]
["362","Humisol G","m³/ha",0.15,0,30,250,0,null,"keine Angabe",6.6666666699999997,3.0285524800000001,250,"C"]
["811","HUMOOLIVA","t/ha",15.24,1.07,3.52,2.79,1.53,null,"keine Angabe",19.362169999999999,6,200,"B"]
["234","Humulus streufähig","t/ha",40,0,10,50,3.9,null,"keine Angabe",10.890371200000001,3,25,"B"]
["824","Humusin","t/ha",0.5,0.03,2,3,0,null,"keine Angabe",765.167596,6,800,"B"]
["308","Hunter SW","t/ha",11,0,0,0,0,null,"keine Angabe",10,3,15,"B"]
["281","Hydrobiont® Organic liquid N","m³/ha",70,0.35,10,20,1.5,null,"keine Angabe",5.7430007200000004,3,15,"B"]
["130","Hydrolysat pflanzlicher Herkunft 46% TS","t/ha",34.69,0.36,3.08,2.88,2.48,null,"keine Angabe",3.99645721,1.5,25,"B"]
["131","Hydrolysat tierischer Herkunft 46% TS","t/ha",34.69,0.36,3.08,2.88,2.48,null,"keine Angabe",3.99645721,1.5,25,"B"]
["126","Hydrolysat, Federn 45% TS","t/ha",57.15,6.75,1.1299999999999999,4.82,1.87,70,"keine Angabe",2.6630344699999999,2.5,25,"B"]
["127","Hydrolysat, Molke 46% TS","t/ha",34.69,0.69,6.94,7.44,2.48,null,"keine Angabe",4.0352463500000004,2.5,25,"B"]
["128","Hydrolysat, pflanzliche Reststoffe 46% TS","t/ha",76.819999999999993,14.44,22.56,13.69,1.91,null,"keine Angabe",2.3671435199999999,1.5,25,"B"]
["235","ITALPOLLINA","t/ha",40,9.1999999999999993,40,40,10,null,"keine Angabe",13.1828728,3,25,"B"]
["132","Kaffeemehl 95% TS","t/ha",28.5,1.4,2.61,17.850000000000001,4.88,30,"keine Angabe",17.0426623,3,25,"B"]
["330","Kalipro","t/ha",1.5,0,20,122,12.6,null,"keine Angabe",80,4.9294021900000002,200,"B"]
["236","KaliVinasse SF","m³/ha",25,2.5,3,40,3,70,"keine Angabe",7.7339520500000001,1.5,25,"C"]
["625","Kaninchenmist 30% TS [NW]","t/ha",18,0,19,45,1.5,30,"Kaninchenfestmist",10,5,200,"B"]
["567","Kartoffelfruchtwasser 4% TS [BW]","m³/ha",2.9,0.9,0.7,5.2,0,null,"keine Angabe",9.4257540599999992,3,25,"C"]
["654","Kartoffelfruchtwasser 4% TS [SN] Öko. Landbau","m³/ha",3,0,1.1499999999999999,6.03,0.33,null,"keine Angabe",5.9996133,3,25,"C"]
["508","Kartoffelfruchtwasser, Konzentrat 48% TS [BY]","m³/ha",22,0,12,80,7,null,"keine Angabe",10,3,25,"C"]
["6B198226-A720-4B8A-9656-92B3A205C7B1","Kartoffelfruchtwasserkonzentrat PPL 48% TS","m³/ha",25,0.45000464000000001,12,0.21,5,null,"keine Angabe",6.7454187900000004,3,25,"C"]
["2DD00981-BD25-4D90-A033-734A319FC177","Kartoffelschlempe 5% TS [NW]","m³/ha",4.0999999999999996,0.1,1.2,4.8,0.8,30,"keine Angabe",5.1247099800000004,3,25,"C"]
["20","Keratindünger 90% TS","t/ha",122.85,0,15.28,5.0199999999999996,28.82,null,"keine Angabe",3.5047834400000002,2,15,"B"]
["135","Kleegrascobs 95% TS","t/ha",28.5,0.06,10.88,34.33,3.94,null,"keine Angabe",13.6620916,3,25,"B"]
["136","Kleegrasmehl 95% TS","t/ha",28.5,0.06,10.88,34.33,3.94,40,"keine Angabe",13.6620916,3,25,"B"]
["703","Knochenmehl 95% TS [SN]","t/ha",50,4,206,3.62,4.3099999999999996,70,"keine Angabe",8.1521739100000001,3,20,"B"]
["704","Knochenmehl 95% TS [SN] Öko. Landbau","t/ha",50,4,206,3.62,4.3099999999999996,70,"keine Angabe",8.1521739100000001,3,20,"B"]
["137","Knochenmehl 95.2% TS","t/ha",83.07,6.23,83.22,5.52,4.58,70,"keine Angabe",5.2778636700000003,3,20,"B"]
["282","KUDERS BIO-AKTIV","t/ha",40,4,10,60,1,null,"keine Angabe",5,1.5,25,"B"]
["530","Landschaftspflegematerial 40% TS [BY]","t/ha",6.3,0,2.1,6.7,2.2000000000000002,null,"keine Angabe",25,3.58,200,"B"]
["140","Leguminosencobs 95% TS","t/ha",28.5,0.06,10.88,34.33,3.94,40,"keine Angabe",13.6620916,3,25,"B"]
["141","Leindotter 88% TS","t/ha",66.97,0,13.11,22.37,4.2300000000000004,null,"keine Angabe",5.2429369799999996,3,50,"B"]
["817","LITHOvit AMINO 25 TRIBOdyn Blattdünger","t/ha",31.4,0.31,0.37,0.67,18.5,null,"keine Angabe",4.0398021200000001,1.5,25,"B"]
["7","Lupinen, Mehl 90% TS","t/ha",47.17,0.45,11.96,9,2.69,40,"keine Angabe",8.18781684,3,15,"B"]
["8","Lupinen, Pellets 90% TS","t/ha",47.17,0.45,11.96,9,2.69,40,"keine Angabe",8.18781684,3,15,"B"]
["559AE564-3A08-4FE7-A59B-8D47CDD75E46","Lupinen, Schrot 90% TS","t/ha",47.17,0.45,11.96,9,2.69,40,"keine Angabe",8.18781684,3,15,"B"]
["689","Lupinenschrot 86% TS [SN] Öko. Landbau","t/ha",54,0,9.6199999999999992,10.85,2.65,40,"keine Angabe",6.49995703,3,15,"B"]
["143","Luzernecobs 95% TS","t/ha",28.5,0.06,10.88,34.33,3.94,40,"keine Angabe",13.6620916,3,25,"B"]
["144","Luzernemehl 95% TS","t/ha",28.5,0.06,10.88,34.33,3.94,40,"keine Angabe",13.6620916,3,25,"B"]
["237","Macrisol 4,5+0,3+6+0,1MgO+0,5 S","m³/ha",45,4.5,3,60,1,null,"keine Angabe",5.7288533700000004,1.5,25,"B"]
["E9AB3FB5-4FDC-4D03-99A0-5AE8B58CB03D","Maltaflor Bio 93% TS","t/ha",41.14,0.17,1.02,4.99,0.35,null,"keine Angabe",9.3930140699999995,6,25,"B"]
["68E8CC52-5E10-4F24-BD4F-A4EF8F9A73C2","Maltaflor universal 93% TS","t/ha",41.14,0.17,1.19,4.82,0.35,null,"keine Angabe",9.3930140699999995,6,25,"B"]
["695","Malzkeime 90% TS [SN] Öko. Landbau","t/ha",40,0,10.08,50.01,0,null,"keine Angabe",9,6,25,"B"]
["187","MANNA BIO N 10-7-1","t/ha",100,2.5,70,10,2,null,"keine Angabe",4.7593551099999996,3,25,"B"]
["238","MANNA BIO NPK 6-3-6","t/ha",100,0,70,10,2,null,"keine Angabe",4.6403712300000004,3,20,"B"]
["825","MicroSoil®","t/ha",1.1000000000000001,0.11,0.6,4.7,0,null,"keine Angabe",12.3040146,1.5,25,"B"]
["364","MikroVeda CARBONI","t/ha",13,0,17.5,10.199999999999999,10.8,null,"keine Angabe",18.739960700000001,6,25,"B"]
["365","MikroVeda GARTENBOKASHI","t/ha",13,0.52,17.5,10.199999999999999,0,null,"keine Angabe",19.520792400000001,6,25,"B"]
["596","Mischgülle 4% TS [NW]","m³/ha",4,3,1.8,3.3,0.9,60,"keine Angabe",20.301624100000002,3,200,"C"]
["602","Mischgülle 7% TS [NW]","m³/ha",4.9000000000000004,3.3,2.5,4.3,1.2,60,"keine Angabe",19.906467500000002,3,200,"C"]
["638","Mischgülle, Rinder-/Schweine 8% TS [SN]","m³/ha",5.7,3.4,3.34,5.19,0.83,60,"keine Angabe",16.107636400000001,3,200,"C"]
["639","Mischgülle, Rinder-/Schweine 8% TS [SN] Öko. Landbau","m³/ha",3.8,2.2000000000000002,1.83,2.89,0.75,60,"keine Angabe",23.7492749,3,200,"C"]
["611","Mischjauche 3% TS [NW]","m³/ha",2.5,1.8,0.9,4,0.5,90,"keine Angabe",17.857142899999999,3,200,"C"]
["648","Mischjauche, Rinder/Schweinejauche 2% TS [SN]","m³/ha",2.4,2.1,0.57999999999999996,5.72,0.12,90,"Schweinejauche, Rinderjauche",31.9992266,3,200,"C"]
["649","Mischjauche, Rinder/Schweinejauche 2% TS [SN] Öko. Landbau","m³/ha",2,1.8,0.56999999999999995,4.58,0.17,90,"Schweinejauche, Rinderjauche",50,3,200,"C"]
["663","Mischmist, Rinder/Schweinejauche 25% TS [SN]","t/ha",6.6,1.5,4.3099999999999996,9.48,1.75,30,"Geflügelfestmist",15.529320800000001,5,200,"B"]
["664","Mischmist, Rinder/Schweinejauche 25% TS [SN] Öko. Landbau","t/ha",5.5,1.3,4.12,6.99,1.66,30,"Geflügelfestmist",18.333609500000001,5,200,"B"]
["309","Monterra Bio 13-0-0","t/ha",130,13,0,0,1,null,"keine Angabe",4.2140123300000001,1.5,25,"B"]
["366","Monterra Bio Chicken 3,7-2,9-2,3","t/ha",37,8.51,27,23,10,null,"keine Angabe",13.233771900000001,3,25,"B"]
["367","Monterra Bio Malt 5-1-5","t/ha",50,0,10,50,5,null,"keine Angabe",8.1206496500000007,6,25,"B"]
["826","Mykoplant100-BT-H","t/ha",15,0.15,4,15,0,null,"keine Angabe",17.5771637,3,50,"B"]
["820","NATREL Com-Crop","t/ha",20,0.8,0,0,0,null,"keine Angabe",18.1264501,3.5779640700000002,200,"B"]
["241","Naturdünger aus Pferdemist Enegro","t/ha",13.26,0.66,9.86,26.78,0,30,"Geflügelfestmist",26.3322653,5,200,"B"]
["283","Naturdünger flüssig fermentiert","m³/ha",6.3,1.89,2.8,6.3,0.9,null,"keine Angabe",15.7138648,3,200,"C"]
["368","NATUREN BIO Beeren-/Tomatendünger","t/ha",50,0,30,70,15,null,"keine Angabe",5.1044083499999999,3,20,"B"]
["369","NATUREN BIO Gartendünger","t/ha",60,0,30,30,60,null,"keine Angabe",3.4802784199999999,2,10,"B"]
["315","Naturen BIO Hornspäne","t/ha",140,0,0,0,0,70,"keine Angabe",3.7288697399999999,2,10,"B"]
["242","Naturen BIO Pferdedung","t/ha",20,1,20,20,0,null,"keine Angabe",19.843692799999999,5,200,"B"]
["370","NATUREN BIO Rasendünger","t/ha",90,0,20,20,0,null,"keine Angabe",4.5114720300000002,3,20,"B"]
["371","NATUREN BIO Rododendren-/Rosendünger","t/ha",60,0,30,50,15,null,"keine Angabe",4.8337200300000003,2,10,"B"]
["284","NATUREN BIO Tomaten & Kräuter-Nahrung","t/ha",30,3,20,50,0,null,"keine Angabe",5.8004640399999996,1.5,25,"B"]
["243","Neem-Vital","t/ha",30,0,18,6,0,null,"keine Angabe",7,5,50,"B"]
["373","ografert® NPK Dünger, flüssig Mehrnährstoffdünger","m³/ha",14.5,0,4.2,2.2999999999999998,0,null,"keine Angabe",5.4004320300000002,2,15,"C"]
["412","ökohum Bio-Flüssigdünger","m³/ha",82,8.1999999999999993,30,32,14,null,"keine Angabe",6.0975609799999999,1.5,25,"B"]
["244","ökohum Bio-Langzeitdünger","t/ha",60,0,30,50,1.7,null,"keine Angabe",7.2505800499999999,3,10,"B"]
["414","ökohum Nährhumus","t/ha",12,0,4,6,0,null,"keine Angabe",12.0843001,6,200,"B"]
["148","Olivenextraktionsschrot 88% TS","t/ha",66.97,0,13.11,22.37,4.2300000000000004,30,"keine Angabe",5.2429369799999996,3,50,"B"]
["245","OPF granular 11-5","t/ha",110,11,0,50,0,null,"keine Angabe",1.6405352799999999,1.5,25,"B"]
["805","orgafert®BEB separiertes Gärpordukt NPK","t/ha",6.94,4.51,4.4400000000000004,5.65,2.13,null,"keine Angabe",41.603410599999997,3,200,"B"]
["194","Organic Plant Feed OPF","t/ha",30,3,20,80,0,null,"keine Angabe",5,1.5,25,"B"]
["285","Organic Plant Feed OPF 4-2-8","t/ha",40,4,20,80,0,null,"keine Angabe",5,1.5,25,"B"]
["286","Organic Plant Feed OPF 7-2-3","t/ha",70,7,20,30,0,null,"keine Angabe",5,1.5,25,"B"]
["287","Organic Plant Feed OPF 8-3-3","t/ha",80,8,30,30,0,null,"keine Angabe",5,1.5,25,"B"]
["288","Organic Plant Feed OPF 9-2-2","t/ha",90,9,20,20,0,null,"keine Angabe",5,1.5,25,"B"]
["334","Organic Plant Feed OPF pro 3-2-8","t/ha",30,3,20,80,0,null,"keine Angabe",7.7777777800000001,1.5,25,"B"]
["246","Organische Kartoffelnährlösung Agrar Consult","m³/ha",27,2.7,12,75,6,null,"keine Angabe",9.5480889500000004,3,25,"C"]
["247","Organischer N-P-K Dünger LENATEC","m³/ha",5.4,0.27,18.600000000000001,44.6,0,null,"keine Angabe",13.2291285,2.5,25,"C"]
["248","OrgaPur® 6-1-6","t/ha",60,1.5,10,60,0,null,"keine Angabe",4.8585083400000002,3,25,"B"]
["249","OrgaPur® 6-3-6","t/ha",60,6,30,60,0,null,"keine Angabe",6.9820400400000002,1.5,25,"B"]
["250","OrgaPur® 8-2-6","t/ha",80,0,20,60,0,null,"keine Angabe",4.7853828299999996,2,15,"B"]
["251","OrgaPur® Myk 6-1-7","t/ha",60,0,10,70,0,null,"keine Angabe",6.57385924,2,15,"B"]
["252","OrgaPur®/Capital 5-3,5-8","t/ha",50,5,35,80,10,null,"keine Angabe",8.1206496500000007,1.5,25,"B"]
["253","Oscorna-Animalin","t/ha",60,0,90,5,5,null,"keine Angabe",6.2838360399999997,2,15,"B"]
["374","Oscorna-Animalin Gartendünger","t/ha",70,0,40,5,4,null,"keine Angabe",6.2147829000000003,3,20,"B"]
["415","Oscorna-BodenAktivator","t/ha",30,0,20,0,20,null,"keine Angabe",6.7672080399999999,2,15,"B"]
["254","Oscorna-Universal","t/ha",60,0,60,5,4,null,"keine Angabe",6.7672080399999999,2,15,"B"]
["375","Palaterra® Beet & Garten","t/ha",10,0.3,3,7,0,null,"keine Angabe",16.145621500000001,3.0285524800000001,250,"B"]
["376","Palaterra® Organischer Universaldünger","t/ha",70,0,30,40,0,null,"keine Angabe",4.5575074600000001,2,15,"B"]
["377","Palaterra® PBA-Profi-Initial","t/ha",5,0.15,3,12,0,null,"keine Angabe",45.4469347,3.0285524800000001,250,"B"]
["378","Palaterra® PBA-Profi-Spezial","t/ha",10,0.3,5,10,0,null,"keine Angabe",13.0360944,3.0285524800000001,250,"B"]
["827","PERLHUMUS®","t/ha",10,0.55000000000000004,1,2,1,null,"keine Angabe",30.690285899999999,6,200,"B"]
["570","Pferdemist 25% TS [BW]","t/ha",5,0.5,3.8,12.6,0,25,"Pferdefestmist",27.777777799999999,5,200,"B"]
["720","Pferdemist 25% TS [SH]","t/ha",6.5,0.5,3,6,1,25,"Pferdefestmist",16.25,5,200,"B"]
["665","Pferdemist 25% TS [SN]","t/ha",4.5,1.4,3.81,6.01,1.83,25,"Pferdefestmist",23.2261807,5,200,"B"]
["666","Pferdemist 25% TS [SN] Öko. Landbau","t/ha",3.6,1.1000000000000001,4.12,4.82,1.82,25,"Pferdefestmist",28.800464000000002,5,200,"B"]
["523","Pferdemist 30% TS [BY]","t/ha",4.5999999999999996,0.6,3.6,10.9,1.4,25,"Pferdefestmist",28.75,5,200,"B"]
["626","Pferdemist 32% TS [NW]","t/ha",4.9000000000000004,0,3.2,9.8000000000000007,1.9,25,"Pferdefestmist",19.9997632,5,200,"B"]
["379","Pflanzensegen NaturRat","t/ha",28.2,0,8.6999999999999993,11.8,0,null,"keine Angabe",10.2845107,5,50,"B"]
["255","PHENIX","t/ha",60,4.2,80,150,30,null,"keine Angabe",5.1975484200000004,2,10,"B"]
["818","Phytoamin","m³/ha",1.6,0.06,0,14.5,0,null,"keine Angabe",16.949407900000001,3.5779640700000002,200,"C"]
["832","PhytoGreen®-Bio-Booster","t/ha",40,1.6,0,0,0,null,"keine Angabe",3.32318252,2.5,200,"B"]
["413","PhytoGreen-NährstoffBeize","t/ha",20,2,1,20,30,null,"keine Angabe",7.7777777800000001,1.5,25,"B"]
["289","PhytoGreen-NPK-Bio","t/ha",50,5,40,50,2,null,"keine Angabe",5,1.5,25,"B"]
["150","Phytoperls 95% TS","t/ha",69.97,1.84,5.23,0.95,0,null,"keine Angabe",5.8425222999999997,3,25,"B"]
["697","Pilzbiomasse 99% TS [SN] Öko. Landbau","t/ha",70,0,10.08,10,0,null,"keine Angabe",6,3,10,"B"]
["151","Pilzmyzel 90% TS","t/ha",63.76,2.4900000000000002,14.12,9.75,0.94,null,"keine Angabe",6.8418399900000004,3,10,"B"]
["819","Plantosol","m³/ha",90,0.9,0,0,0,null,"keine Angabe",4.0404040400000003,1.5,25,"B"]
["381","PPL Potato Protein Liquid","m³/ha",22.6,0,12,7,5.7,null,"keine Angabe",7.5970679399999996,3,25,"B"]
["382","PROFI Vital BodenAktivator","t/ha",20,0.6,15,15,45,null,"keine Angabe",16.4446145,6,200,"B"]
["256","Progress Biorganic","t/ha",100,0,20,40,16,null,"keine Angabe",3.4802784199999999,2,15,"B"]
["191","Prophos","t/ha",10,0,200,0,0,null,"keine Angabe",14.5011601,3,20,"B"]
["316","Provita Haarmehl-Pellets","t/ha",140,0,10,3,0,70,"keine Angabe",4.0603248299999999,2,10,"B"]
["257","Provita Pellet 105","t/ha",110,0.5,15,15,0,null,"keine Angabe",3.3150578999999998,2,10,"B"]
["258","Provita Phytogran 6+3+2","t/ha",60,1.5,30,20,0,null,"keine Angabe",8.4280246699999992,3,25,"B"]
["259","Provita Phytogrieß","t/ha",70,1.75,50,10,5,null,"keine Angabe",6.7990787199999998,3,25,"B"]
["260","Provita Phytopellets komplett","t/ha",50,1.25,40,80,30,null,"keine Angabe",6.1538461499999997,3,25,"B"]
["290","Provita-Aspara","m³/ha",10,0.5,0,40,0,null,"keine Angabe",4.2105263199999996,1.5,25,"B"]
["291","Provita-Double","m³/ha",10,0.5,0,0,0,null,"keine Angabe",4.2105263199999996,1.5,25,"B"]
["293","Provita-Plus","m³/ha",10,0.5,0,20,0,null,"keine Angabe",4.2105263199999996,1.5,25,"B"]
["294","Provita-Prunus C","m³/ha",5,0.25,0,20,0,null,"keine Angabe",4.2105263199999996,1.5,25,"B"]
["723","Putenmist 45% TS [SH]","t/ha",18,5,20,16,5,30,"Geflügelfestmist",13.8461538,3,25,"B"]
["628","Putenmist 50% TS [NW]","t/ha",19.100000000000001,0,18.100000000000001,16.399999999999999,6.2,30,"Geflügelfestmist",7.0000364399999997,3,25,"B"]
["917E58F2-B27B-44AC-AC49-F7295769F201","Putenmist 60% TS","t/ha",11.64,2.11,31.2,19.63,6.47,30,"Geflügelfestmist",18.925459499999999,3,25,"B"]
["527","Putenmist 60% TS [BY]","t/ha",24.8,7.4,21,22.9,5,30,"Geflügelfestmist",14.2528069,3,25,"B"]
["579","Putenmist, Hähne Einstreu 55% TS [BW]","t/ha",25.4,0,27.3,26.3,0,30,"Geflügelfestmist",10.000091299999999,3,25,"B"]
["580","Putenmist, Hähne N/P-reduziert Einstreu 55% TS [BW]","t/ha",23.8,0,15.2,26.3,0,30,"Geflügelfestmist",10.999922,3,25,"B"]
["581","Putenmist, Hennen Einstreu 55% TS [BW]","t/ha",17.600000000000001,0,17.2,16.3,0,30,"Geflügelfestmist",13.9998814,3,25,"B"]
["582","Putenmist, Hennen N/P-reduziert Einstreu 55% TS [BW]","t/ha",16.7,0,10.3,16.3,0,30,"Geflügelfestmist",14.9999305,3,25,"B"]
["837","Quanterna® Bio Terra","t/ha",15,0.83,2,7,0,null,"keine Angabe",14.3271871,6,200,"B"]
["400","Quentisan®Herba","t/ha",70,3.5,0,0,0,null,"keine Angabe",4.2105263199999996,1.5,25,"B"]
["403","Quentisan®NPK 7+1+2","t/ha",70,3.5,10,20,1.5,null,"keine Angabe",4.2105263199999996,1.5,25,"B"]
["404","Quentisan®Plus","t/ha",10,0.5,0,0,40,null,"keine Angabe",4.2105263199999996,1.5,25,"B"]
["405","Quentisan®Spinter","t/ha",70,3.5,0,0,0,null,"keine Angabe",4.2105263199999996,1.5,25,"B"]
["406","Quentisan®T","t/ha",90,4.5,0,0,0,null,"keine Angabe",4.2105263199999996,1.5,25,"B"]
["383","Querbeet","t/ha",12.3,0,8,14,3,null,"keine Angabe",36.022296400000002,5,200,"B"]
["809","RAL-Gärprodukt flüssig","m³/ha",5.54,3.6,1.22,3.5,1.01,50,"Biogasanlagenrückstand flüssig",16.555241899999999,3,200,"C"]
["810","RAL-NawaRo-Gärprodukt flüssig","m³/ha",4.08,2.65,1.42,4.8,0.72,50,"Biogasanlagenrückstand flüssig",18.739960700000001,3,200,"C"]
["152","Rapsextraktionsschrot 88.4% TS","t/ha",52.51,0.09,24.71,14.8,8.06,40,"keine Angabe",8.4824870699999995,5,50,"B"]
["153","Rapskuchen 50% TS","t/ha",38.049999999999997,0,8.02,12.05,0,null,"keine Angabe",5.2431316700000004,5,50,"B"]
["690","Rapsschrot 90% TS [SN] Öko. Landbau","t/ha",56,0,20.62,15.06,7.3,40,"keine Angabe",6.5000414299999996,3,15,"B"]
["384","Rasendünger für den Biogarten","t/ha",70,0,30,10,0,null,"keine Angabe",7.2920119300000001,2,15,"B"]
["529","Rebenhäcksel Hopfen 27% TS [BY]","t/ha",6.9,0,1.3,5.9,2.1,null,"keine Angabe",17.000403500000001,3.58,200,"B"]
["261","Recykal SF","t/ha",25,10.199999999999999,22.9,102,7,null,"keine Angabe",12.162162199999999,3,25,"B"]
["310","Red Bloc","t/ha",17,0.43,0,0,0,null,"keine Angabe",18.466969200000001,3,25,"B"]
["423","RenoSan1","m³/ha",29,2.9,4.2,10,0,null,"keine Angabe",2.84467202,1.5,25,"C"]
["586","Rhizinusschrot 70% TS [BW]","t/ha",57,0,24,14,0,40,"keine Angabe",6.0000203499999998,5,50,"B"]
["534","Rhizinusschrot 70% TS [BY]","t/ha",57,0,24,14,8,40,"keine Angabe",6.0000203499999998,5,50,"B"]
["828","RHIZO-MIC AGRO PLUS/SEED/TUBER","t/ha",10,0.4,0.2,10,4,null,"keine Angabe",36.252900199999999,3.5779640700000002,200,"B"]
["644","Rindergülle 12% TS [SN]","m³/ha",5.7,2.8,2.27,7.96,1.24,60,"Rindergülle",19.575565999999998,3,200,"C"]
["645","Rindergülle 12% TS [SN] Öko. Landbau","m³/ha",4.5999999999999996,2.2999999999999998,2.98,5.54,0.99,60,"Rindergülle",19.920811100000002,3,200,"C"]
["634","Rindergülle 4% TS [SN]","m³/ha",1.9,0.9,0.76,2.66,0.41,60,"Rindergülle",18.921113699999999,3,200,"C"]
["635","Rindergülle 4% TS [SN] Öko. Landbau","m³/ha",1.5,0.8,0.92,1.93,0.33,60,"Rindergülle",21.345707699999998,3,200,"C"]
["3","Rindergülle 6% TS","m³/ha",1.66,0.83,1.53,3.55,0.75,60,"Rindergülle",19.959187100000001,3,200,"C"]
["A8ABED47-75E6-4552-9A67-698062235DA3","Rindergülle 8% TS","m³/ha",2.2400000000000002,1.1200000000000001,2.06,4.3899999999999997,0.82,60,"Rindergülle",19.913200199999999,3,200,"C"]
["640","Rindergülle 8% TS [SN]","m³/ha",3.8,1.9,1.52,5.32,0.83,60,"Rindergülle",19.920014699999999,3,200,"C"]
["641","Rindergülle 8% TS [SN] Öko. Landbau","m³/ha",3,1.5,1.1499999999999999,3.74,0.66,60,"Rindergülle",19.9187935,3,200,"C"]
["17DDB8B7-D714-494E-84A1-7626073A10C0","Rindergülle, Bullen 10% TS","m³/ha",2.82,1.41,2.6,1.1000000000000001,0.18,60,"Rindergülle",19.9601784,3,200,"C"]
["560","Rindergülle, Bullenmast 10% TS [BW]","m³/ha",4.7,2.6,2.1,4.9000000000000004,0,60,"Rindergülle",21.2628439,3,200,"C"]
["606","Rindergülle, Bullenmast 10% TS [NW]","m³/ha",4.7,2.6,2.2000000000000002,5.0999999999999996,1.2,60,"Rindergülle",19.0227599,3,200,"C"]
["603","Rindergülle, Bullenmast 7% TS [NW]","m³/ha",3.8,2.2000000000000002,1.8,4.2,1,60,"Rindergülle",20.189240099999999,3,200,"C"]
["551","Rindergülle, Bullenmast 8% TS [BW]","m³/ha",3.6,2,1.5,3.7,0,60,"Rindergülle",21.37471,3,200,"C"]
["503","Rindergülle, Bullenmast 8% TS [BY]","m³/ha",3.8,1.9,1.8,4.2,1,60,"Rindergülle",17.999755799999999,3,200,"C"]
["714","Rindergülle, dick 9% TS [SH]","m³/ha",4.2,2.2999999999999998,1.8,4.5999999999999996,1,60,"Rindergülle",22.1058737,3,200,"C"]
["712","Rindergülle, dünn 5% TS [SH]","m³/ha",2.9,1.7,1.2,3.1,0.6,60,"Rindergülle",19.334880099999999,3,200,"C"]
["561","Rindergülle, Jungvieh Acker 10% TS [BW]","m³/ha",3.2,1.8,1.3,5.3,0,60,"Rindergülle",32.001988699999998,3,200,"C"]
["552","Rindergülle, Jungvieh Acker 8% TS [BW]","m³/ha",2.4,1.3,1,4,0,60,"Rindergülle",30.5473529,3,200,"C"]
["562","Rindergülle, Jungvieh Grünland 10% TS [BW]","m³/ha",4,2.2000000000000002,1.6,6.3,0,60,"Rindergülle",24.445733400000002,3,200,"C"]
["553","Rindergülle, Jungvieh Grünland 8% TS [BW]","m³/ha",3,1.7,1.2,4.7,0,60,"Rindergülle",25.383723,3,200,"C"]
["597","Rindergülle, Kälber 4% TS [NW]","m³/ha",3.5,2.5,2.2000000000000002,3.8,1,60,"Rindergülle",17.5,3,200,"C"]
["563","Rindergülle, Milchvieh Acker 10% TS [BW]","m³/ha",4.0999999999999996,2.2999999999999998,1.7,5.8,0,60,"Rindergülle",25.054782199999998,3,200,"C"]
["554","Rindergülle, Milchvieh Acker 8% TS [BW]","m³/ha",3,1.7,1.3,4.3,0,60,"Rindergülle",25.383723,3,200,"C"]
["504","Rindergülle, Milchvieh Acker 8% TS [BY]","m³/ha",3.5,1.7,1.4,5,1,60,"Rindergülle",19.444444399999998,3,200,"C"]
["564","Rindergülle, Milchvieh Grünland 10% TS [BW]","m³/ha",4.5,2.5,1.8,7.1,0,60,"Rindergülle",22.5,3,200,"C"]
["555","Rindergülle, Milchvieh Grünland 8% TS [BW]","m³/ha",3.4,1.9,1.4,5.3,0,60,"Rindergülle",22.6682135,3,200,"C"]
["505","Rindergülle, Milchvieh Grünland 8% TS [BY]","m³/ha",3.8,1.9,1.5,5.8,1,60,"Rindergülle",17.999755799999999,3,200,"C"]
["D808D11E-13C6-4256-B809-393E061B2C4E","Rindergülle, Milchvieh u. Rinder 10% TS [NW]","m³/ha",4.5,2.4,2.1,5.2,1.3,60,"Rindergülle",18.213457099999999,3,200,"C"]
["601","Rindergülle, Milchvieh u. Rinder 6% TS [NW]","m³/ha",3.2,1.9,1.4,4,0.9,60,"Rindergülle",20.9218276,3,200,"C"]
["605","Rindergülle, Milchvieh u. Rinder 8% TS [NW]","m³/ha",3.9,2.2000000000000002,1.7,4.5999999999999996,1,60,"Rindergülle",19.499795299999999,3,200,"C"]
["713","Rindergülle, normal 7% TS [SH]","m³/ha",3.5,2,1.5,3.9,0.8,60,"Rindergülle",22.165506600000001,3,200,"C"]
["565","Rinderjauche 2% TS [BW]","m³/ha",3.1,2.8,0.3,9.1,0,90,"Rinderjauche",25.8313998,3,200,"C"]
["610","Rinderjauche 2% TS [NW]","m³/ha",1.5,1.1000000000000001,0.3,4,0.3,90,"Rinderjauche",9.3822505799999991,3,200,"C"]
["716","Rinderjauche 2% TS [SH]","m³/ha",3,2.7,0,8,0,90,"Rinderjauche",25,3,200,"C"]
["650","Rinderjauche 2% TS [SN]","m³/ha",2.2000000000000002,1.9,0.23,7.83,0.1,90,"Rinderjauche",29.3310131,3,200,"C"]
["651","Rinderjauche 2% TS [SN] Öko. Landbau","m³/ha",1.7,1.4,0.23,5.54,0.17,90,"Rinderjauche",31.1678268,3,200,"C"]
["507","Rinderjauche 3% TS [BY]","m³/ha",3.2,3.1,0,7.9,0.2,90,"Rinderjauche",112.006961,3,200,"C"]
["0B5DB1EA-A0C3-471D-9E89-81DD8805BBAE","Rinderjauche 6.4% TS","m³/ha",1.06,0.38,1.6,0.61,0.11,90,"Rinderjauche",25.4793913,3,200,"C"]
["618","Rindermist 23% TS [NW]","t/ha",5.6,0,2.9,9.6,1.7,25,"Rinderfestmist",11.99971,5,200,"B"]
["16","Rindermist 23.1% TS","t/ha",4.79,0.28000000000000003,2.75,8.93,1.53,25,"Rinderfestmist",12.4021895,5,200,"B"]
["721","Rindermist 25% TS [SH]","t/ha",5,0.4,3,7,1.5,25,"Rinderfestmist",19.565217400000002,5,200,"B"]
["667","Rindermist 25% TS [SN]","t/ha",6.1,1.2,3.24,12.47,1.33,25,"Rinderfestmist",14.9391543,5,200,"B"]
["668","Rindermist 25% TS [SN] Öko. Landbau","t/ha",5,1,2.75,7.95,1.33,25,"Rinderfestmist",18.75,5,200,"B"]
["571","Rindermist, Acker 25% TS [BW]","t/ha",6.5,0.6,4,11,0,25,"Rinderfestmist",18.728616899999999,5,200,"B"]
["1","Rindermist, frisch 23.1% TS","t/ha",3.43,0.18,8.18,4.16,1.48,25,"Rinderfestmist",18.3919329,5,200,"B"]
["572","Rindermist, Grünland 25% TS [BW]","t/ha",7.3,0.6,4.5,12.8,0,25,"Rinderfestmist",16.343456700000001,5,200,"B"]
["518","Rindermist, Kurz-,Mittellangstand 25% TS [BY]","t/ha",5,0.8,4.3,6.9,2,25,"Rinderfestmist",20.2380952,5,200,"B"]
["519","Rindermist, Tiefstall 25% TS [BY]","t/ha",5.2,0.8,2.7,10,2.2000000000000002,25,"Rinderfestmist",17.7270091,5,200,"B"]
["154","Rizinusschrot 91% TS","t/ha",51.96,0,20.440000000000001,12.61,6.19,40,"keine Angabe",8.1262313099999997,5,50,"B"]
["691","Rizinusschrot 92% TS [SN] Öko. Landbau","t/ha",54,0,20.62,12.05,0,40,"keine Angabe",6.99997852,5,50,"B"]
["539","Roggenstroh 90% TS [BY]","t/ha",5,0,3,20,2,0,"keine Angabe",80,4.93,200,"B"]
["535","Sägemehl 70% TS [BY]","t/ha",0.5,0,0.2,0.5,0.4,null,"keine Angabe",500,3.58,600,"B"]
["337","Sanbio Planta","t/ha",12.7,0.32,0,104,122,null,"keine Angabe",22.489682899999998,3,25,"B"]
["573","Schafmist 25% TS [BW]","t/ha",5.5,0.5,3.2,13.3,0,25,"Schaffestmist",22,4.8099999999999996,200,"B"]
["722","Schafmist 25% TS [SH]","t/ha",8,0.6,3,7,2,25,"Schaffestmist",16.216216200000002,4.8099999999999996,200,"B"]
["526","Schafmist 30% TS [BY]","t/ha",4.7,0.5,2.8,11.1,3.2,25,"Schaffestmist",17.9047619,4.8099999999999996,200,"B"]
["672","Schafmist 30% TS [SN]","t/ha",9,2.7,5.39,19.46,1.83,25,"Schaffestmist",18.571612699999999,4.8099999999999996,200,"B"]
["673","Schafmist 30% TS [SN] Öko. Landbau","t/ha",8,2.4,5.04,13.86,1.82,25,"Schaffestmist",18.5718429,4.8099999999999996,200,"B"]
["C661324E-A26C-45A0-A6BE-36231B2084C3","Schafmist 31% TS","t/ha",5.84,0.39,10.98,5.59,1.99,25,"Schaffestmist",21.955554599999999,4.8099999999999996,200,"B"]
["627","Schafmist 37% TS [NW]","t/ha",10,0,6.9,13.6,3.4,25,"Schaffestmist",13,4.8099999999999996,200,"B"]
["155","Schafwolle 94.2% TS","t/ha",103.62,0,0.65,0.79,0.31,70,"keine Angabe",2.6363506499999998,2,10,"B"]
["542","Schlachtabfälle Fettabscheider 30% TS [BY]","t/ha",10,0,3,1,1,70,"keine Angabe",10,3,20,"B"]
["543","Schlachtabfälle Panseninhalt 30% TS [BY]","t/ha",5,0,3,5,2,70,"keine Angabe",10,3,20,"B"]
["121","Schlempe, dünn Getreide 6% TS","m³/ha",2.99,0.04,1.42,1.35,0.34,30,"keine Angabe",7.5091431000000002,3,25,"C"]
["133","Schlempe, dünn Kartoffel 5.1% TS","m³/ha",2.61,7.0000000000000007E-2,0.73,4.0199999999999996,0.42,30,"keine Angabe",10.545883,3,25,"C"]
["145","Schlempe, dünn Mais 5.5% TS","m³/ha",2.57,0,0.92,0.62,0.45,30,"keine Angabe",10.0165212,3,25,"C"]
["156","Schlempe, flüssig 5.5% TS","m³/ha",2.75,0.05,0.98,0.34,0.33,30,"keine Angabe",8.4751224500000006,3,25,"C"]
["584","Schlempe, Getreide 6% TS [BW]","m³/ha",4.8,0,0.7,4.2,0,30,"keine Angabe",5.9998549900000002,3,25,"C"]
["532","Schlempe, Kartoffel 5% TS [BY]","m³/ha",2.8,0,1.1000000000000001,4.8,0.5,30,"keine Angabe",9.3221743499999992,3,25,"C"]
["585","Schlempe, Kartoffel 6% TS [BW]","m³/ha",3.6,0,0.7,4.2,0,30,"keine Angabe",7.99980665,3,25,"C"]
["583","Schlempe, Obst 3% TS [BW]","m³/ha",1.8,0,0.2,2.1,0,30,"keine Angabe",7.4987110100000001,3,25,"C"]
["170","Schlempe, Trocken 89% TS","t/ha",25.3,0.26,22.43,5.36,1.95,30,"keine Angabe",13.0623948,9.6199999999999992,50,"B"]
["646","Schweinegülle 12% TS [SN]","m³/ha",11.3,7.4,7.74,7.59,1.49,70,"Schweinegülle",14.487774399999999,3,200,"C"]
["647","Schweinegülle 12% TS [SN] Öko. Landbau","m³/ha",7,4.5999999999999996,6.87,3.37,1.1599999999999999,70,"Schweinegülle",14.5833333,3,200,"C"]
["636","Schweinegülle 4% TS [SN]","m³/ha",3.8,2.5,2.58,2.5299999999999998,0.5,70,"Schweinegülle",14.0326611,3,200,"C"]
["637","Schweinegülle 4% TS [SN] Öko. Landbau","m³/ha",2.2999999999999998,1.5,2.29,1.45,0.33,70,"Schweinegülle",22.9988399,3,200,"C"]
["642","Schweinegülle 8% TS [SN]","m³/ha",7.5,4.9000000000000004,5.16,5.0599999999999996,0.83,70,"Schweinegülle",13.845261499999999,3,200,"C"]
["643","Schweinegülle 8% TS [SN] Öko. Landbau","m³/ha",4.5999999999999996,3,2.75,1.93,0.83,70,"Schweinegülle",22.9988399,3,200,"C"]
["711","Schweinegülle, dick 5% TS [SH]","m³/ha",4.4000000000000004,3.3,2.5,3,0.9,70,"Schweinegülle",18.002531099999999,3,200,"C"]
["709","Schweinegülle, dünn 2% TS [SH]","m³/ha",2.5,2.1,0.8,1.8,0.3,70,"Schweinegülle",17.401392099999999,3,200,"C"]
["599","Schweinegülle, Ferkel 5% TS [NW]","m³/ha",4.5,3.2,2.4,3.1,1.1000000000000001,70,"Schweinegülle",17.307692299999999,3,200,"C"]
["595","Schweinegülle, Mast 3% TS [NW]","m³/ha",4.3,3.5,1.7,3.4,0.8,70,"Schweinegülle",18.815255199999999,3,200,"C"]
["4","Schweinegülle, Mast 5% TS","m³/ha",1,0.5,1.81,0.49,0.09,70,"Schweinegülle",32.552204199999998,3,200,"C"]
["600","Schweinegülle, Mast 5% TS [NW]","m³/ha",5.5,4.2,2.8,3.9,1.2,70,"Schweinegülle",14.8090309,3,200,"C"]
["604","Schweinegülle, Mast 7% TS [NW]","m³/ha",6.5,4.7,3.9,4.5,1.8,70,"Schweinegülle",12.638566600000001,3,200,"C"]
["501","Schweinegülle, Mast N-,P-reduziert 5% TS [BY]","m³/ha",3.3,2.2999999999999998,2.1,2.5,1.8,70,"Schweinegülle",23.097447800000001,3,200,"C"]
["502","Schweinegülle, Mast Standardfutter 5% TS [BY]","m³/ha",3.8,2.7,2.5,2.5,1.8,70,"Schweinegülle",20.728749199999999,3,200,"C"]
["547","Schweinegülle, Mast, N/P-reduziert 5% TS [BW]","m³/ha",3.3,2.2999999999999998,2,2.4,0,70,"Schweinegülle",23.097447800000001,3,200,"C"]
["556","Schweinegülle, Mast, N/P-reduziert 8% TS [BW]","m³/ha",4.9000000000000004,3.4,3,3.6,0,70,"Schweinegülle",22.865429200000001,3,200,"C"]
["548","Schweinegülle, Mast, Standard 5% TS [BW]","m³/ha",3.7,2.6,2.4,2.5,0,70,"Schweinegülle",20.1803417,3,200,"C"]
["557","Schweinegülle, Mast, Standard 8% TS [BW]","m³/ha",5.6,3.9,3.7,3.7,0,70,"Schweinegülle",19.7659342,3,200,"C"]
["710","Schweinegülle, normal 3% TS [SH]","m³/ha",3.6,2.8,1.7,2.4,0.6,70,"Schweinegülle",15.748259900000001,3,200,"C"]
["594","Schweinegülle, Sauen 2% TS [NW]","m³/ha",2.8,2.2000000000000002,1.2,2.1,0.6,70,"Schweinegülle",16.337973699999999,3,200,"C"]
["598","Schweinegülle, Sauen 4% TS [NW]","m³/ha",3.9,3,2.2999999999999998,2.5,1,70,"Schweinegülle",15.164991000000001,3,200,"C"]
["516","Schweinegülle, Sauenzucht, N-,P-reduziert 5% TS [BY]","m³/ha",3.7,2.6,2.4,2.4,1.8,70,"Schweinegülle",20.1803417,3,200,"C"]
["517","Schweinegülle, Sauenzucht, Standardfutter 5% TS [BY]","m³/ha",3.9,2.7,2.9,2.6,1.8,70,"Schweinegülle",19.4992266,3,200,"C"]
["549","Schweinegülle, Zucht, N/P-reduziert 5% TS [BW]","m³/ha",4.4000000000000004,3.1,2.8,2.9,0,70,"Schweinegülle",16.9239693,3,200,"C"]
["558","Schweinegülle, Zucht, N/P-reduziert 8% TS [BW]","m³/ha",6.7,4.7,4.2,4.4000000000000004,0,70,"Schweinegülle",16.7488399,3,200,"C"]
["550","Schweinegülle, Zucht, Standard 5% TS [BW]","m³/ha",5.2,3.6,3.8,3.6,0,70,"Schweinegülle",16.2485499,3,200,"C"]
["559","Schweinegülle, Zucht, Standard 8% TS [BW]","m³/ha",7.9,5.5,5.7,5.4,0,70,"Schweinegülle",16.4588167,3,200,"C"]
["506","Schweinejauche 2% TS [BY]","m³/ha",3.3,3.1,0,3.1,0.2,90,"Schweinejauche",49.506960599999999,3,200,"C"]
["609","Schweinejauche 2% TS [NW]","m³/ha",2.4,2,0.8,2.6,0.4,90,"Schweinejauche",17.995939700000001,3,200,"C"]
["717","Schweinejauche 2% TS [SH]","m³/ha",4,3.6,1,3,0,90,"Schweinejauche",26.102088200000001,3,200,"C"]
["652","Schweinejauche 2% TS [SN]","m³/ha",2.5,2.2000000000000002,0.92,3.61,0.13,90,"Schweinejauche",33.3333333,3,200,"C"]
["653","Schweinejauche 2% TS [SN] Öko. Landbau","m³/ha",2.2999999999999998,2.1,0.92,3.62,0.17,90,"Schweinejauche",45.9976798,3,200,"C"]
["EA25F449-478C-4F9E-A223-70BD1A79C85C","Schweinejauche 3% TS","m³/ha",0.59,0.2,1.06,0.28999999999999998,0.05,90,"Schweinejauche",24.555297800000002,3,25,"C"]
["566","Schweinejauche Standard 2% TS [BW]","m³/ha",2.6,2.5,0.5,4.8,0,90,"Schweinejauche",78.016241300000004,3,200,"C"]
["619","Schweinemist 23% TS [NW]","t/ha",7.4,0,6.5,7.4,2.7,30,"Schweinefestmist",8.5000313500000004,2.15,200,"B"]
["719","Schweinemist 23% TS [SH]","t/ha",6,0.5,4,3,2,30,"Schweinefestmist",16.363636400000001,2.15,200,"B"]
["520","Schweinemist 25% TS [BY]","t/ha",6,0.9,6.5,6.5,3,30,"Schweinefestmist",17.6470588,2.15,200,"B"]
["669","Schweinemist 25% TS [SN]","t/ha",7.1,1.8,5.39,6.49,2.16,30,"Schweinefestmist",13.395788599999999,2.15,200,"B"]
["670","Schweinemist 25% TS [SN] Öko. Landbau","t/ha",6.1,1.5,5.73,6.03,1.99,30,"Schweinefestmist",15.913447,2.15,200,"B"]
["2","Schweinemist 28% TS","t/ha",6.28,0.86,5.9,2.2599999999999998,2.92,30,"Schweinefestmist",10.8689138,2.15,200,"B"]
["159","Schweinemist frisch 25% TS","t/ha",5.61,0.77,5.27,2.02,2.61,30,"Schweinefestmist",10.867481,2.15,200,"B"]
["574","Schweinemist, N/P-reduziert 25% TS [BW]","t/ha",8.6,0.7,6.8,6.7,0,30,"Schweinefestmist",14.1516638,2.15,200,"B"]
["575","Schweinemist, Standard 25% TS [BW]","t/ha",9.8000000000000007,0.8,8.1999999999999993,6.9,0,30,"Schweinefestmist",11.9779582,2.15,200,"B"]
["160","Senfextraktionsschrot 90% TS","t/ha",51.66,0.09,20,11.38,5.67,30,"keine Angabe",8.5340044200000005,5,50,"B"]
["408","Seramis Vitalnahrung","t/ha",20,0,20,20,0,null,"keine Angabe",10,6,25,"B"]
["311","Siforga Bio 10-1-3","t/ha",100,0,10,30,5,null,"keine Angabe",4.6403712300000004,2,10,"B"]
["385","Siforga Bio 4-1-8","t/ha",40,4,10,80,6,null,"keine Angabe",10.4730601,1.5,25,"B"]
["386","Siforga Bio 5-3-8","t/ha",50,5,30,80,6,null,"keine Angabe",8.3784480499999994,1.5,25,"B"]
["587","Silagesickersaft 4% TS [BW]","m³/ha",1.5,0,1,5,0,null,"keine Angabe",11.9992266,3,200,"C"]
["4F70AAB9-F6DE-440C-813E-CC5DB8537BE9","Silagesickersaft 4% TS [NW]","m³/ha",1.5,0,1,5,0,null,"keine Angabe",11.9992266,3,200,"C"]
["692","Silagesickersaft 4% TS [SN]","m³/ha",1.4,0.7,0.69,4.0999999999999996,0.5,null,"keine Angabe",23.9973484,3,200,"C"]
["693","Silagesickersaft 4% TS [SN] Öko. Landbau","m³/ha",1.4,0.7,0.69,4.0999999999999996,0.5,null,"keine Angabe",23.9973484,3,200,"C"]
["387","SNOEKs Meisterdünger","t/ha",19.600000000000001,0,5.5,22.4,17,null,"keine Angabe",10.2691889,5,200,"B"]
["161","Sojabohnenmehl 90% TS","t/ha",58.34,0,13.81,20.02,4,40,"keine Angabe",7.7369679500000004,6,15,"B"]
["162","Sojabohnenschrot 95.1% TS","t/ha",61.65,0,14.59,21.15,4.2300000000000004,40,"keine Angabe",7.7363983100000002,6,15,"B"]
["163","Sojaextraktionsschrot 89.6% TS","t/ha",68.19,0,13.35,22.78,4.3099999999999996,40,"keine Angabe",5.2427892700000003,5,50,"B"]
["164","Sojaölkuchen 50% TS","t/ha",38.049999999999997,0,8.02,12.05,0,40,"keine Angabe",5.2431316700000004,5,50,"B"]
["830","STALLGRENA","t/ha",20,0.2,0,0,0,null,"keine Angabe",17.5771637,1.5,25,"B"]
["698","Stroh 86% TS [SN]","t/ha",5,0,2.98,14,1.99,0,"keine Angabe",70,4.93,200,"B"]
["699","Stroh 86% TS [SN] Öko. Landbau","t/ha",4.4000000000000004,0,2.98,16.989999999999998,1.99,0,"keine Angabe",80.000263700000005,4.93,200,"B"]
["540","Stroh, Streuwiese 90% TS [BY]","t/ha",6,0,2.5,7,2,0,"keine Angabe",65,4.93,200,"B"]
["541","Stroh, Weizen 90% TS [BY]","t/ha",5,0,3,14,2,0,"keine Angabe",80,4.93,200,"B"]
["262","Symbionta Organic Royal Universal","t/ha",60,0.3,30,50,8,null,"keine Angabe",7.0538306400000002,6,25,"B"]
["263","Team F","t/ha",45,4.5,2,50,0,null,"keine Angabe",7.1610667100000001,1.5,25,"B"]
["388","Terios Liquido","m³/ha",45,0,2,50,0,null,"keine Angabe",6.4449600399999998,1.5,25,"B"]
["389","Terra 21 Naturdünger","t/ha",20.5,0,24.1,48.6,10,null,"keine Angabe",15.5622206,5,200,"B"]
["390","TerraGold-Wurmhumus","t/ha",19.2,0,14.2,14,16.3,null,"keine Angabe",17.5222351,3,25,"B"]
["188","Terragon® Bio-Malsch","t/ha",130,0,0,0,0,null,"keine Angabe",3.4133499899999999,2,10,"B"]
["264","Terragon® Bio-Universal","t/ha",60,1.5,30,10,0,null,"keine Angabe",5.5525809600000002,3,25,"B"]
["317","TERRAGON® Haarmehlpellets","t/ha",130,0,6,0,0,70,"keine Angabe",3.5695163299999999,2,10,"B"]
["318","TERRAGON® Hornmehlpellets","t/ha",130,0,5,0,0,70,"keine Angabe",3.8818490099999998,2,10,"B"]
["265","Terragon® Powerkorn","t/ha",50,1.25,25,5,5,null,"keine Angabe",4.7593551099999996,3,25,"B"]
["266","TERRAmalz® Bio Perfekt","t/ha",40,4,10,60,10,null,"keine Angabe",11.278680100000001,1.5,25,"B"]
["166","Traubenkernmehl 50% TS","t/ha",11.85,0.12,0.71,1.17,0.16,30,"keine Angabe",23.3591066,3,25,"B"]
["167","Traubenkernölkuchen 50% TS","t/ha",11.85,0.12,0.71,1.17,0.16,null,"keine Angabe",23.3591066,3,25,"B"]
["591","Trester, Trauben 40% TS [BW]","t/ha",8,0,4.8,14,0,10,"keine Angabe",21.99971,3,50,"B"]
["168","Trester, Trauben 50% TS","t/ha",10.18,0.11,0.66,1.0900000000000001,0.15,10,"keine Angabe",17.384687700000001,3,50,"B"]
["169","Trester, Weinherstellung 94% TS","t/ha",20.99,0.2,1.23,2.0499999999999998,0.28000000000000003,10,"keine Angabe",16.0621796,3,25,"B"]
["391","TRIBÚ","t/ha",39,0,29,34,10,null,"keine Angabe",10.753167899999999,5,200,"B"]
["267","Vegetal mit Horn","t/ha",80,3.2,20,70,20,70,"keine Angabe",5.2083333300000003,2,15,"B"]
["295","Verde Bio-Pflanzendünger u. Vitalisierung","t/ha",25,2.5,2,30,0,null,"keine Angabe",4.4444444399999998,1.5,25,"B"]
["3125F7DF-5DC1-4890-BB10-FB72EF6CDFC6","Vinasse 60% TS","m³/ha",35.020000000000003,4.12,2.09,49.14,3.02,70,"keine Angabe",7.3312984800000001,1.5,25,"C"]
["694","Vinasse 69% TS [SN] Öko. Landbau","t/ha",40,0,5.04,73.510000000000005,2.82,70,"keine Angabe",7,1.5,25,"B"]
["338","Vinasse Extrakt 30","m³/ha",14.5,1.45,0,300,0,70,"keine Angabe",6.66720004,1.5,25,"C"]
["18","Vinasse, Zuckerrohr 55% TS","m³/ha",19.66,0.32,1.0900000000000001,3.27,2.77,70,"keine Angabe",8.2448167699999999,1.5,25,"C"]
["19","Vinasse, Zuckerrübe 65% TS","m³/ha",37.4,4.38,2.38,56.62,25.39,70,"keine Angabe",7.2440804300000003,1.5,25,"C"]
["195","Vinasse-Kalisulfat E.V.A","m³/ha",7,0.7,0,400,0,70,"keine Angabe",32.224800199999997,1.5,50,"C"]
["839","Vitabac","t/ha",2,0.08,1,1,0,null,"keine Angabe",9.0632250600000006,3,25,"B"]
["831","Vitanal Professional","m³/ha",0.7,0.01,0.2,0.2,0,null,"keine Angabe",4.8337200300000003,3.5,50,"C"]
["835","Vitanal Professional Wachstumsstarter","m³/ha",0.5,0.01,0.05,0,0,null,"keine Angabe",16.572754400000001,9.6183674299999993,50,"C"]
["836","Vitanal Typ N","m³/ha",0.7,0.01,0.1,0.2,0,null,"keine Angabe",4.8337200300000003,3.5,200,"C"]
["171","Walkhaare 93% TS","t/ha",102.3,0,0.64,0.78,0.31,70,"keine Angabe",2.63634776,2,10,"B"]
["172","Wickenmeal 89.5% TS","t/ha",41.17,0,10.66,10.78,2.97,null,"keine Angabe",9.9347563999999995,3.01,15,"B"]
["173","Wickenpellets 89.5% TS","t/ha",41.17,0,10.66,10.78,2.97,null,"keine Angabe",9.9347563999999995,3.01,15,"B"]
["174","Wickenschrot 89.5% TS","t/ha",41.17,0,10.66,10.78,2.97,40,"keine Angabe",9.9347563999999995,3.01,15,"B"]
["268","Wilhelms Best Granulat","t/ha",16.100000000000001,0,6.4,14.3,0,null,"keine Angabe",18.914556600000001,3,25,"B"]
["176","Wurzelrückstände 15% TS","t/ha",2.2599999999999998,0.02,4.18,0.5,1.39,null,"keine Angabe",27.055021499999999,0.95,200,"B"]
["411","Wuxal® Aminoplant","t/ha",20,0,20,20,0,null,"keine Angabe",10,6,25,"B"]
["189","WUXAL®Amino","t/ha",90,0,0,0,0,null,"keine Angabe",4.5,3,20,"B"]
["576","Ziegenmist 25% TS [BW]","t/ha",5.2,0.5,3.6,12.8,0,25,"Ziegenfestmist",17.702127699999998,4.8099999999999996,200,"B"]
["624","Ziegenmist 30% TS [NW]","t/ha",8,0,6,20,1,25,"Ziegenfestmist",16,4.8099999999999996,200,"B"]
["674","Ziegenmist 30% TS [SN]","t/ha",7.3,2.2000000000000002,5.35,17.63,1.83,25,"Ziegenfestmist",22.901960800000001,4.8099999999999996,200,"B"]
["675","Ziegenmist 30% TS [SN] Öko. Landbau","t/ha",7.3,2.2000000000000002,5.04,13.86,1.82,25,"Ziegenfestmist",22.901960800000001,4.8099999999999996,200,"B"]
["06927528-0972-46EA-80C4-6E8B27FA8591","Ziegenmist 31% TS","t/ha",5.84,0.39,10.98,5.59,1.99,25,"Ziegenfestmist",17.1449541,4.8099999999999996,200,"B"]
[null," "]

{"sheet":"Boden DüV-Bolap","index":10,"n_rows":46,"n_cols":30,"rows_kept":46,"cut":false,"hidden":false,"merged":[]}
["Nährstoffgehalt \nmg/100 g Boden","P2O5 \nBoden-gehalts-klasse alle Boden-arten","P2O5 \nBoden-Zuschlag \nFeld-abfuhr\nDüV  kg/ha ","P2O5\nFaktor Feld-abfuhr Gefähr-dungs-gebiet Landes-DüV RLP 2019","P2O5\nFaktor  \nFeld-abfuhr\nEmpfehl. kg/ha ","K2O\nBoden-art\nleicht","K2O Boden-gehalts-klasse\nleicht","K2O \nBoden-Zuschlag Feld-abfuhr\nkg/ha \nleicht","K2O \nFaktor Feld-abfuhr\nleicht","\nK2O\nBoden-art\nmittel","K2O\nBoden-gehalts-klasse\nmittel","K2O\nBoden-Zuschlag Feld-abfuhr\nkg/ha mittel","K2O \nFaktor Feld-abfuhr mittel","\nK2O\nBoden-art\nschwer","K2O \nBoden-gehalts-klasse schwer","K2O\nBoden-Zuschlag Feld-abfuhr\nkg/ha \nschwer","K2O\nFaktor Feld-abfuhr schwer","\nMgO Boden-art leicht","MgO Boden-gehalts-klasse leicht","MgO\nBoden-Zuschlag Feld-abfuhr\nkg/ha  leicht","MgO \nFaktor Feld-abfuhr  leicht","MgO \nBoden-art\nmittel","MgO \nBoden-gehalts-klasse mittel","MgO\nBoden-Zuschlag Feld-abfuhr\nkg/ha\nmittel","MgO \nFaktor Feld-abfuhr mittel","MgO \nBoden-art\nschwer","MgO \nBoden-gehalts-klasse schwer","MgO\nBoden-Zuschlag Feld-abfuhr\nkg/ha schwer","MgO\nFaktor Feld-abfuhr schwer","Bodenart"]
[0,"A",80,null,null,"leicht","A",120,null,"mittel","A",120,null,"schwer","A",120,null,"leicht","A",60,null,"mittel","A",60,null,"schwer","A",60]
[1,"A",80,null,null,"leicht","A",120,null,"mittel","A",120,null,"schwer","A",120,null,"leicht","A",60,null,"mittel","A",60,null,"schwer","A",60,null,"leicht"]
[2,"A",80,null,null,"leicht","A",120,null,"mittel","A",120,null,"schwer","A",120,null,"leicht","A",60,null,"mittel","A",60,null,"schwer","A",60,null,"mittel"]
[3,"A",80,null,null,"leicht","A",120,null,"mittel","A",120,null,"schwer","A",120,null,"leicht","A",60,null,"mittel","A",60,null,"schwer","A",60,null,"schwer"]
[4,"A",80,null,null,"leicht","A",120,null,"mittel","A",120,null,"schwer","A",120,null,"leicht","A",60,null,"mittel","A",60,null,"schwer","A",60]
[5,"B",40,null,null,"leicht","B",60,null,"mittel","A",120,null,"schwer","A",120,null,"leicht","B",30,null,"mittel","A",60,null,"schwer","A",60]
[6,"B",40,null,null,"leicht","B",60,null,"mittel","A",120,null,"schwer","A",120,null,"leicht","B",30,null,"mittel","A",60,null,"schwer","A",60]
[7,"B",40,null,null,"leicht","B",60,null,"mittel","B",60,null,"schwer","A",120,null,"leicht","B",30,null,"mittel","A",60,null,"schwer","A",60]
[8,"C",0,null,null,"leicht","B",60,null,"mittel","B",60,null,"schwer","A",120,null,"leicht","C",0,null,"mittel","B",30,null,"schwer","A",60]
[9,"C",0,null,null,"leicht","C",0,null,"mittel","B",60,null,"schwer","A",120,null,"leicht","C",0,null,"mittel","B",30,null,"schwer","A",60]
[10,"C",0,null,null,"leicht","C",0,null,"mittel","B",60,null,"schwer","B",60,null,"leicht","C",0,null,"mittel","B",30,null,"schwer","B",30]
[11,"C",0,null,null,"leicht","C",0,null,"mittel","B",60,null,"schwer","B",60,null,"leicht","D"," ",0.5,"mittel","B",30,null,"schwer","B",30]
[12,"C",0,null,null,"leicht","C",0,null,"mittel","C",0,null,"schwer","B",60,null,"leicht","D"," ",0.5,"mittel","C",0,null,"schwer","B",30]
[13,"C",0,null,null,"leicht","C",0,null,"mittel","C",0,null,"schwer","B",60,null,"leicht","D"," ",0.5,"mittel","C",0,null,"schwer","B",30]
[14,"C",0,null,null,"leicht","D",null,0.5,"mittel","C",0,null,"schwer","B",60,null,"leicht","E",null,0,"mittel","C",0,null,"schwer","B",30]
[15,"C",0,null,null,"leicht","D",null,0.5,"mittel","C",0,null,"schwer","B",60,null,"leicht","E",null,0,"mittel","C",0,null,"schwer","B",30]
[16,"C",0,null,null,"leicht","D",null,0.5,"mittel","C",0,null,"schwer","B",60,null,"leicht","E",null,0,"mittel","C",0,null,"schwer","C",0]
[17,"C",0,null,null,"leicht","D",null,0.5,"mittel","C",0,null,"schwer","B",60,null,"leicht","E",null,0,"mittel","C",0,null,"schwer","C",0]
[18,"C",0,null,null,"leicht","D",null,0.5,"mittel","C",0,null,"schwer","C",0,null,"leicht","E",null,0,"mittel","D"," ",0.5,"schwer","C",0]
[19,"D",0,null,0.5,"leicht","D",null,0.5,"mittel","C",0,null,"schwer","C",0,null,"leicht","E",null,0,"mittel","D"," ",0.5,"schwer","C",0]
[20,"D",0,null,0.5,"leicht","D",null,0.5,"mittel","D",null,0.5,"schwer","C",0,null,"leicht","E",null,0,"mittel","D"," ",0.5,"schwer","C",0]
[21,"D",0,null,0.5,"leicht","D",null,0.5,"mittel","D",null,0.5,"schwer","C",0,null,"leicht","E",null,0,"mittel","D"," ",0.5,"schwer","C",0]
[22,"D",0,null,0.5,"leicht","E",null,0,"mittel","D",null,0.5,"schwer","C",0,null,"leicht","E",null,0,"mittel","D"," ",0.5,"schwer","C",0]
[23,"D",0,null,0.5,"leicht","E",null,0,"mittel","D",null,0.5,"schwer","C",0,null,"leicht","E",null,0,"mittel","D"," ",0.5,"schwer","D"," ",0.5]
[24,"D",0,null,0.5,"leicht","E",null,0,"mittel","D",null,0.5,"schwer","C",0,null,"leicht","E",null,0,"mittel","E",null,0,"schwer","D"," ",0.5]
[25,"D",0,null,0.5,"leicht","E",null,0,"mittel","D",null,0.5,"schwer","C",0,null,"leicht","E",null,0,"mittel","E",null,0,"schwer","D"," ",0.5]
[26,"D",0,null,0.5,"leicht","E",null,0,"mittel","D",null,0.5,"schwer","C",0,null,"leicht","E",null,0,"mittel","E",null,0,"schwer","D"," ",0.5]
[27,"D",0,null,0.5,"leicht","E",null,0,"mittel","D",null,0.5,"schwer","C",0,null,"leicht","E",null,0,"mittel","E",null,0,"schwer","D"," ",0.5]
[28,"E",0,null,0,"leicht","E",null,0,"mittel","D",null,0.5,"schwer","D",null,0.5,"leicht","E",null,0,"mittel","E",null,0,"schwer","D"," ",0.5]
[29,"E",0,null,0,"leicht","E",null,0,"mittel","D",null,0.5,"schwer","D",null,0.5,"leicht","E",null,0,"mittel","E",null,0,"schwer","D"," ",0.5]
[30,"E",0,null,0,"leicht","E",null,0,"mittel","E",null,0,"schwer","D",null,0.5,"leicht","E",null,0,"mittel","E",null,0,"schwer","D"," ",0.5]
[31,"E",0,null,0,"leicht","E",null,0,"mittel","E",null,0,"schwer","D",null,0.5,"leicht","E",null,0,"mittel","E",null,0,"schwer","E",null,0]
[32,"E",0,null,0,"leicht","E",null,0,"mittel","E",null,0,"schwer","D",null,0.5,"leicht","E",null,0,"mittel","E",null,0,"schwer","E",null,0]
[33,"E",0,null,0,"leicht","E",null,0,"mittel","E",null,0,"schwer","D",null,0.5,"leicht","E",null,0,"mittel","E",null,0,"schwer","E",null,0]
[34,"E",0,null,0,"leicht","E",null,0,"mittel","E",null,0,"schwer","D",null,0.5,"leicht","E",null,0,"mittel","E",null,0,"schwer","E",null,0]
[35,"E",0,null,0,"leicht","E",null,0,"mittel","E",null,0,"schwer","D",null,0.5,"leicht","E",null,0,"mittel","E",null,0,"schwer","E",null,0]
[36,"E",0,null,0,"leicht","E",null,0,"mittel","E",null,0,"schwer","D",null,0.5,"leicht","E",null,0,"mittel","E",null,0,"schwer","E",null,0]
[37,"E",0,null,0,"leicht","E",null,0,"mittel","E",null,0,"schwer","D",null,0.5,"leicht","E",null,0,"mittel","E",null,0,"schwer","E",null,0]
[38,"E",0,null,0,"leicht","E",null,0,"mittel","E",null,0,"schwer","D",null,0.5,"leicht","E",null,0,"mittel","E",null,0,"schwer","E",null,0]
[39,"E",0,null,0,"leicht","E",null,0,"mittel","E",null,0,"schwer","D",null,0.5,"leicht","E",null,0,"mittel","E",null,0,"schwer","E",null,0]
[40,"E",0,null,0,"leicht","E",null,0,"mittel","E",null,0,"schwer","D",null,0.5,"leicht","E",null,0,"mittel","E",null,0,"schwer","E",null,0]
[41,"E",0,null,0,"leicht","E",null,0,"mittel","E",null,0,"schwer","D",null,0.5,"leicht","E",null,0,"mittel","E",null,0,"schwer","E",null,0]
[42,"E",0,null,0,"leicht","E",null,0,"mittel","E",null,0,"schwer","D",null,0.5,"leicht","E",null,0,"mittel","E",null,0,"schwer","E",null,0]
[43,"E",0,null,0,"leicht","E",null,0,"mittel","E",null,0,"schwer","D",null,0.5,"leicht","E",null,0,"mittel","E",null,0,"schwer","E",null,0]
["≥44","E",0,null,0,"leicht","E",null,0,"mittel","E",null,0,"schwer","E",null,0,"leicht","E",null,0,"mittel","E",null,0,"schwer","E",null,0]

{"sheet":"Nicht aktiv_Boden LUFA","index":11,"n_rows":40,"n_cols":19,"rows_kept":40,"cut":false,"hidden":true,"merged":[]}
["mg/100 g","P2O5","K2O","K2O","K2O","K2O","K2O","K2O","MgO","MgO","MgO","MgO","MgO","MgO",null,"Gehaltsklasse","Korrekturfaktor",null,"Bodenart"]
[1,"A","leicht","A","mittel","A","schwer","A","leicht","A","mittel","A","schwer","A",null,"A",2,null,"leicht"]
[2,"A","leicht","A","mittel","A","schwer","A","leicht","B","mittel","A","schwer","A",null,"B",1.5,null,"mittel"]
[3,"A","leicht","A","mittel","A","schwer","A","leicht","B","mittel","B","schwer","A",null,"C",1,null,"schwer"]
[4,"A","leicht","A","mittel","A","schwer","A","leicht","C","mittel","B","schwer","B",null,"D",0.5]
[5,"A","leicht","B","mittel","A","schwer","A","leicht","C","mittel","B","schwer","B",null,"E",0]
[6,"B","leicht","B","mittel","B","schwer","A","leicht","C","mittel","C","schwer","B"]
[7,"B","leicht","B","mittel","B","schwer","B","leicht","D","mittel","C","schwer","B"]
[8,"B","leicht","B","mittel","B","schwer","B","leicht","D","mittel","C","schwer","C"]
[9,"B","leicht","C","mittel","B","schwer","B","leicht","D","mittel","C","schwer","C"]
[10,"B","leicht","C","mittel","B","schwer","B","leicht","E","mittel","C","schwer","C"]
[11,"B","leicht","C","mittel","B","schwer","B","leicht","E","mittel","D","schwer","C"]
[12,"C","leicht","C","mittel","C","schwer","B","leicht","E","mittel","D","schwer","C"]
[13,"C","leicht","C","mittel","C","schwer","B","leicht","E","mittel","D","schwer","C"]
[14,"C","leicht","C","mittel","C","schwer","C","leicht","E","mittel","D","schwer","C"]
[15,"C","leicht","C","mittel","C","schwer","C","leicht","E","mittel","D","schwer","D"]
[16,"C","leicht","D","mittel","C","schwer","C","leicht","E","mittel","E","schwer","D"]
[17,"C","leicht","D","mittel","C","schwer","C","leicht","E","mittel","E","schwer","D"]
[18,"C","leicht","D","mittel","C","schwer","C","leicht","E","mittel","E","schwer","D"]
[19,"C","leicht","D","mittel","C","schwer","C","leicht","E","mittel","E","schwer","D"]
[20,"C","leicht","D","mittel","C","schwer","C","leicht","E","mittel","E","schwer","D"]
[21,"D","leicht","D","mittel","D","schwer","C","leicht","E","mittel","E","schwer","D"]
[22,"D","leicht","D","mittel","D","schwer","C","leicht","E","mittel","E","schwer","E"]
[23,"D","leicht","E","mittel","D","schwer","C","leicht","E","mittel","E","schwer","E"]
[24,"D","leicht","E","mittel","D","schwer","C","leicht","E","mittel","E","schwer","E"]
[25,"D","leicht","E","mittel","D","schwer","C","leicht","E","mittel","E","schwer","E"]
[26,"D","leicht","E","mittel","D","schwer","D","leicht","E","mittel","E","schwer","E"]
[27,"D","leicht","E","mittel","D","schwer","D","leicht","E","mittel","E","schwer","E"]
[28,"D","leicht","E","mittel","D","schwer","D","leicht","E","mittel","E","schwer","E"]
[29,"D","leicht","E","mittel","D","schwer","D","leicht","E","mittel","E","schwer","E"]
[30,"D","leicht","E","mittel","D","schwer","D","leicht","E","mittel","E","schwer","E"]
[31,"E","leicht","E","mittel","E","schwer","D","leicht","E","mittel","E","schwer","E"]
[32,"E","leicht","E","mittel","E","schwer","D","leicht","E","mittel","E","schwer","E"]
[33,"E","leicht","E","mittel","E","schwer","D","leicht","E","mittel","E","schwer","E"]
[34,"E","leicht","E","mittel","E","schwer","D","leicht","E","mittel","E","schwer","E"]
[35,"E","leicht","E","mittel","E","schwer","D","leicht","E","mittel","E","schwer","E"]
[36,"E","leicht","E","mittel","E","schwer","D","leicht","E","mittel","E","schwer","E"]
[37,"E","leicht","E","mittel","E","schwer","D","leicht","E","mittel","E","schwer","E"]
[38,"E","leicht","E","mittel","E","schwer","D","leicht","E","mittel","E","schwer","E"]
[39,"E","leicht","E","mittel","E","schwer","E","leicht","E","mittel","E","schwer","E"]

{"sheet":"H&G LfL","index":12,"n_rows":212,"n_cols":28,"rows_kept":212,"cut":false,"hidden":false,"merged":[]}
["Berechnet\n","Kultur (' = nicht in DüV, Quelle: LfL Freising)","Ertrags-niveau FM dt/ha","Ertrags-niveau TM \ndt/ha","Prozess-abfall (z.B. Stiele, Abrieb)\n% TM ","Ertrags-niveau abzügl. Abfall\nTM \ndt/ha","Betriebs-ertrag abzügl. Abfall \nTM\ndt/ha","Betriebl. Prozess-abfall  (z.B. Stiele, Abrieb)\n% TM","Berech-neter Betriebs-ertrag FM \ndt/ha","N-Bedarfs-wert kg/ha","Probe-nahme \nin \nKultur-woche","Probe-nahme-tiefe\ncm","Abschlag N-Nach-lieferung Folge-kultur kg/ha ","2/3 Korrektur \nN-Nach-lieferung bei Probe-nahme\n >= 4 Wo nach Einarbeitung kg/ha","Ertrags-differenz %","Zuschlag bei höherem Ertrag je Einheit \nkg/ha","Abschlag bei niedrigerem Ertrag je Einheit \nkg/ha","N-\nNähr-stoff-gehalt kg/dt FM","P2O5-Nähr-stoff-gehalt kg/dt FM","K2O-Nähr-stoff-gehalt kg/dt FM","MgO-Nähr-stoff-gehalt kg/dt FM","N-Fix kg/dt FM","HNV\n1:x","EV\nFaktor\nFM/\nDroge"]
[null,"_Andere 01",null,null,null,null,null,null,{"$f":"IF(AND(G2=\"\",H2=\"\"),C2,IF(G2=\"\",D2-(D2*H2/100),100*G2*C2/D2/(100-H2)))","v":0}]
[null,"_Andere 02",null,null,null,null,null,null,0]
[null,"_Andere 03",null,null,null,null,null,null,0]
[1,"_Andere 04",null,null,null,null,null,null,0]
[null,"_Andere 05",null,null,null,null,null,null,0,null,null,null,null,null,null,null,null,null,null,null,null,null,null,null,null,null,null," "]
[1,"_Andere 06",null,null,null,null,null,null,0]
[null,"_Andere 07",null,null,null,null,null,null,0]
[null,"_Andere 08",null,null,null,null,null,null,0]
[null,"_Andere 09",null,null,null,null,null,null,0]
[1,"_Andere 10",null,null,null,null,null,null,0]
[null,"Ackerschachtelhalm, Kraut'",50,10,30,7,null,null,{"$f":"IF(AND(G12=\"\",H12=\"\"),C12,IF(G12=\"\",D12-(D12*H12/100),100*G12*C12/D12/(100-H12)))","v":50},45,0,30,0,0,10,2,2,0.5,0.23,0.74,0.14000000000000001,null,null,5]
[null,"Ackerstiefmütterchen, blühendes Kraut'",50,10,30,7,null,null,50,45,0,30,0,0,10,2,2,0.53,0.2,0.96,0.13,null,null,5]
[1,"Akelei, blühendes Kraut'",80,20,30,14,null,null,80,85,0,60,0,0,10,4,4,0.56000000000000005,0.18,0.76,0.08,null,null,5]
[1,"Alant, Wurzel + Kraut'",{"$f":"300","v":300},60,30,42,null,null,300,205,0,60,0,0,10,21,21,0.62040000000000006,0.24009999999999998,1.1857,7.0000000000000007E-2,null,0.4,5]
[null,"Alant, Wurzel'",300,60,30,42,null,null,300,205,0,60,0,0,10,21,21,0.5,0.21,0.76,7.0000000000000007E-2,null,0.4,5]
[null,"Ampfer, kraus, Kraut nach Blüte'",700,61,30,42.7,null,null,700,180,0,60,0,0,10,18,18,0.2,7.0000000000000007E-2,0.26,0.06,null,null,10]
[1,"Ampfer, Wiesen, Blatt'",720,15,30,10.5,null,null,720,290,0,60,0,0,10,29,29,0.33,0.11,0.53,0.02,null,0.1,10]
[null,"Andorn, Kraut Knospenstadium'",300,50,30,35,null,null,300,185,0,60,0,0,10,19,19,0.49,0.19,0.79,0.16,null,0.1,6]
[null,"Anis, Frucht + Stroh'",{"$f":"13","v":13},10,30,7,null,null,13,95,0,30,0,0,10,10,10,5.5807692307692305,3.2015384615384614,11.807692307692308,1.1615384615384616,null,null,1.5]
[null,"Anis, Frucht'",13,10,30,7,null,null,13,95,0,30,0,0,10,10,10,2.65,1.1499999999999999,1.55,0.38,null,9.8000000000000007,1.5]
[null,"Artischocke (Kardone), Kraut'",150,15,30,10.5,null,null,150,80,0,60,0,0,10,8,8,0.41,0.08,0.8,0.09,null,null,10]
[1,"Arzneifenchel, Frucht + Stroh'",{"$f":"25","v":25},16.666666666666668,30,11.666666666666668,null,null,25,150,0,60,0,0,10,15,15,5.12,2.2200000000000002,9.48,1.03,null,null,1.5]
[null,"Arzneifenchel, Frucht'",25,16.666666666666668,30,11.666666666666668,null,null,25,150,0,60,0,0,10,15,15,2.78,1.26,2.58,0.43,null,6,1.5]
[null,"Arzneirhabarber, jährl. Zuwachs, Wurzel n. 4 Jahren + Kraut '",{"$f":"75","v":75},60,30,42,null,null,75,80,0,60,0,0,10,8,8,0.78333333333333344,0.41666666666666663,1.37,0.24,null,null,5]
[1,"Arzneirhabarber, jährl. Zuwachs, Wurzel n. 4 Jahren'",75,60,30,42,null,null,75,80,0,60,0,0,10,8,8,0.4,0.25,0.47,0.12,null,1.7,5]
[null,"Baikal-Helmkraut, Wurzel + Kraut'",{"$f":"20","v":20},4,30,2.8,null,null,20,100,0,30,0,0,10,10,10,4.0999999999999996,1.25,4.6700000000000008,0.88,null,null,5]
[null,"Baikal-Helmkraut, Wurzel'",20,4,30,2.8,null,null,20,100,0,30,0,0,10,10,10,0.75,0.25,0.62,0.23,null,5,5]
[null,"Baldrian, Wurzel + Kraut'",{"$f":"150","v":150},30,30,21,null,null,150,120,0,30,0,0,10,12,12,0.66333333333333333,0.32333333333333336,1.0766666666666667,0.14000000000000001,null,null,5]
[1,"Baldrian, Wurzel'",150,30,30,21,null,null,150,120,0,30,0,0,10,12,12,0.28999999999999998,0.19,0.41,0.06,null,1.3,5]
[null,"Ballonrebe, Kraut'",185,37,30,25.9,null,null,185,150,0,30,0,0,10,15,15,0.71,0.26,0.79,0.14000000000000001,null,null,5]
[null,"Bärlauch, Blatt'",20,2,30,1.4,null,null,20,10,0,30,0,0,10,1,1,0.5,0.75,0.4,0.2,null,null,10]
[null,"Bärwurz, jährl. Zuwachs, Wurzel n. 4 Jahren + Kraut'",{"$f":"100","v":100},6.25,30,4.375,null,null,100,85,0,30,0,0,10,8.5,8.5,0.63400000000000001,0.43,0.80400000000000005,0.156,null,null,4]
[null,"Bärwurz, jährl. Zuwachs, Wurzel n. 4 Jahren'",100,6.25,30,4.375,null,null,100,85,0,30,0,0,10,8.5,8.5,0.49,0.35,0.59,0.12,null,0.2,4]
[1,"Basilikum, Kraut Blühbeginn'",150,15,30,10.5,null,null,150,120,0,30,0,0,10,12,12,0.43,0.08,0.67,7.0000000000000007E-2,null,null,10]
[null,"Beinwell, Wurzel + Kraut'",{"$f":"110","v":110},27.5,30,19.25,null,null,110,120,0,60,0,0,10,12,12,0.73,0.39727272727272728,1.6236363636363633,0.12090909090909091,null,null,4]
[null,"Beinwell, Wurzel'",110,27.5,30,19.25,null,null,110,120,0,60,0,0,10,12,12,0.49,0.23,0.94,7.0000000000000007E-2,null,null,4]
[null,"Bergarnika, Blüte",40,4,30,2.8,null,null,40,70,0,60,0,0,10,7,7,0.4,0.16,0.48,0.06,null,1.8,10]
[1,"Bergarnika, Blüte + Kraut'",{"$f":"40","v":40},4,30,2.8,null,null,40,70,0,60,0,0,10,7,7,1.2224999999999999,0.44000000000000006,1.7749999999999999,0.2525,null,null,10]
[null,"Bergarnika, Wurzel + Kraut'",{"$f":"60","v":60},12,30,8.4,null,null,60,70,0,60,0,0,10,7,7,1.2283333333333333,0.48666666666666669,1.5133333333333332,0.22833333333333333,null,null,5]
[null,"Bergarnika, Wurzel'",60,12,30,8.4,null,null,60,70,0,60,0,0,10,7,7,0.68,0.3,0.65,0.1,null,null,5]
[null,"Bergbohnenkraut, blühendes Kraut'",135,27,30,18.899999999999999,null,null,135,130,0,60,0,0,10,13,13,0.65,0.16,0.74,0.15,null,null,5]
[null,"Bertram, Römischer, Wurzel + Kraut'",50,10,30,7,null,null,50,60,0,30,0,0,10,6,6,0.8,0.38,1.36,0.15,null,null,5]
[null,"Bertram, Römischer, Wurzel'",50,10,30,7,null,null,{"$f":"IF(AND(G44=\"\",H44=\"\"),C44,IF(G44=\"\",D44-(D44*H44/100),100*G44*C44/D44/(100-H44)))","v":50},60,0,30,0,0,10,6,6,0.35,0.17,0.51,0.06,null,null,5]
[null,"Besenbeifuß (A. scoparia), Kraut'",250,50,30,35,null,null,250,190,0,60,0,0,10,19,19,0.59,0.15,0.76,0.04,null,null,5]
[1,"Bibernelle, Kleine, Wurzel + Kraut'",70,14,30,9.8000000000000007,null,null,70,155,0,60,0,0,10,15.5,15.5,1.9571428571428573,0.92,3.5457142857142854,0.38142857142857145,null,null,5]
[null,"Bibernelle, Kleine, Wurzel'",70,14,30,9.8000000000000007,null,null,70,155,0,60,0,0,10,15.5,15.5,0.35,0.17,0.51,0.06,null,3.6,5]
[null,"Bockshornklee, Samen + Kraut'",5,3.3333333333333335,30,2.3333333333333335,null,null,5,55,0,60,0,0,10,3,3,6.59,3.08,4.8099999999999996,2,null,null,1.5]
[null,"Bockshornklee, Samen'",5,3.3333333333333335,30,2.3333333333333335,null,null,5,55,0,60,0,0,10,3,3,3.87,1.4,1.53,1.4,4.5999999999999996,4,1.5]
[1,"Bohnenkraut, einjährig, blühendes Kraut'",450,90,30,63,null,null,450,185,0,30,0,0,10,18.5,18.5,0.32,0.12,0.49,7.0000000000000007E-2,null,null,5]
[null,"Borretsch, Blühendes Kraut'",300,140,30,98,null,null,300,110,0,60,0,0,10,6,6,0.2,0.05,0.44,0.02,null,null,10]
[null,"Braunelle, Kraut zu Ende der Blüte'",300,60,30,42,null,null,300,140,0,60,0,0,10,14,14,0.34,0.17,0.8,0.12,null,null,5]
[1,"Brennnessel, Große, nicht blühendes Kraut'",180,40,30,28,null,null,180,195,0,60,0,0,10,19.5,19.5,0.86,0.26,1.07,0.17,null,0.4,5]
[1,"Brennnessel, Große, Wurzel + Kraut'",80,16,30,11.2,null,null,80,195,0,60,0,0,10,19.5,19.5,1.028888888888889,0.34888888888888892,1.2966666666666669,0.21444444444444447,null,null,5]
[null,"Brennnessel, Große, Wurzel'",80,16,30,11.2,null,null,80,195,0,60,0,0,10,19.5,19.5,0.38,0.2,0.51,0.1,null,null,5]
[null,"Brennnessel, Kleine, blühendes Kraut'",120,24,30,16.8,null,null,120,125,0,30,0,0,10,12.5,12.5,0.7,0.15,0.79,0.09,null,null,5]
[null,"Brunnenkresse, Kraut'",150,15,30,10.5,null,null,150,65,0,30,0,0,10,6.5,6.5,0.3,9.1999999999999998E-2,0.71,0.04,null,null,10]
[null,"Dill, Kraut b. Knospenansatz'",250,25,30,17.5,null,null,250,105,0,30,0,0,10,10.5,10.5,0.3,9.1999999999999998E-2,0.71,0.04,null,null,10]
[null,"Dill, Spitzen'",50,7.6923076923076925,30,5.384615384615385,null,null,50,85,0,30,0,0,10,4,4,0.79,0.17,0.83,0.12,null,1.2,6.5]
[null,"Drachenkopf, Iberischer, Samen + Stroh'",20,100,30,70,null,null,20,100,0,60,0,0,10,10,10,3.9599999999999995,2.15,5.2200000000000006,0.48000000000000009,null,1,1.5]
[null,"Drachenkopf, Iberischer, Samen'",20,100,30,70,null,null,20,100,0,60,0,0,10,10,10,3.01,1.6,1.91,0.28000000000000003,null,1,1.5]
[1,"Drachenkopf, Türkischer, blühendes Kraut'",500,100,30,70,null,null,500,175,0,60,0,0,10,18,18,0.27,0.11,0.65,0.03,null,null,5]
[null,"Efeu, Kraut'",100,20,30,14,null,null,100,60,0,60,0,0,10,6,6,0.38,0.12,0.5,0.09,null,null,5]
[null,"Eibisch, Wurzel + Kraut'",150,30,30,21,null,null,150,140,0,60,0,0,10,14,14,0.80666666666666664,0.34666666666666668,1.2533333333333334,0.23333333333333334,null,null,5]
[null,"Eibisch, Wurzel'",150,30,30,21,null,null,150,140,0,60,0,0,10,14,14,0.66,0.3,0.72,0.2,null,0.7,5]
[null,"Eisenkraut, Echtes, Kraut'",230,100,30,70,null,null,230,155,0,60,0,0,10,15.5,15.5,0.51,0.14000000000000001,0.6,0.08,null,null,5]
[null,"Engelwurz, Europäische, Wurzel + Kraut'",200,40,30,28,null,null,200,140,0,60,0,0,10,14,14,0.6,0.37,2.09,0.16999999999999998,null,null,5]
[null,"Engelwurz, Europäische, Wurzel'",200,40,30,28,null,null,200,140,0,60,0,0,10,14,14,0.3,0.23,0.65,0.09,null,2,5]
[null,"Engelwurz, Sibirische, Wurzel + Kraut'",200,40,30,28,null,null,200,190,0,60,0,0,10,19,19,0.86,0.41000000000000003,1.82,0.17,null,null,5]
[null,"Engelwurz, Sibirische, Wurzel'",200,40,30,28,null,null,200,190,0,60,0,0,10,16,16,0.42,0.25,0.54,7.0000000000000007E-2,null,2,5]
[null,"Enzian, ohne Ernte'",75,60,30,42,null,null,75,80,0,30,0,0,10,4,4,0.3,0.2,0.6,0.1,null,null,5]
[null,"Enzian, Wurzel n. 4 Jahren'",300,60,30,42,null,null,300,130,0,30,0,0,10,13,13,0.3,0.2,0.6,0.1,null,null,5]
[1,"Estragon, Deutscher, nicht blühendes Kraut'",150,15,30,10.5,null,null,150,125,0,30,0,0,10,12.5,12.5,0.55000000000000004,0.16,0.88,0.04,null,null,10]
[null,"Färberdistel, Samen + Stroh'",40,3,30,2.1,null,null,40,120,0,60,0,0,10,12,12,2.5074999999999998,1.22,3.7424999999999997,0.65999999999999992,null,null,5]
[null,"Färberdistel, Samen'",40,3,30,2.1,null,null,40,120,0,60,0,0,10,12,12,1.5,0.83,0.59,0.27,null,3.3,5]
[null,"Färberwaid, Kraut'",150,25,30,17.5,null,null,{"$f":"IF(AND(G76=\"\",H76=\"\"),C76,IF(G76=\"\",D76-(D76*H76/100),100*G76*C76/D76/(100-H76)))","v":150},190,0,60,0,0,10,19,19,1,0.23,1.08,0.13,null,null,6]
[null,"Federmohn, Kraut, 1. Standjahr'",220,44,30,30.8,null,null,220,135,0,60,0,0,10,13.5,13.5,0.52,0.08,0.41,7.0000000000000007E-2,null,null,5]
[null,"Federmohn, Kraut, ab 2. Standjahr'",480,96,30,67.2,null,null,480,195,0,60,0,0,10,19.5,19.5,0.36,0.05,0.26,7.0000000000000007E-2,null,null,10]
[1,"Frauenmantel, blühendes Kraut'",300,46,30,32.200000000000003,null,null,300,155,0,30,0,0,10,15.5,15.5,0.38,0.14000000000000001,0.53,0.1,null,null,5]
[null,"Galega (Geißraute), Kraut'",300,60,30,42,null,null,300,150,0,60,0,0,10,15,15,0.44,0.17,0.63,0.12,0.46,null,5]
[null,"Gartenkresse, Kraut'",150,5,30,3.5,null,null,150,120,0,30,0,0,10,12,12,0.53,0.26,0.75,0.05,null,null,10]
[null,"Getreidegras, Gras'",55,11,10,9.9,null,null,55,75,0,60,0,0,10,4,4,0.6,0.2,1,0.1,null,null,5]
[null,"Ginseng, Wurzel'",6,2,30,1.4,null,null,6,25,0,30,0,0,10,1,1,0.79,0.24,0.79,0.09,null,null,3]
[1,"Goldrute, Blühhorizont'",210,42,30,29.4,null,null,210,165,0,60,0,0,10,16.5,16.5,0.6,0.21,0.77,0.05,null,null,5]
[null,"Hafer, Grüner, Kraut",115,38.333333333333336,10,34.5,null,null,115,110,0,60,0,0,10,6,6,0.59,0.22,0.83,0.09,null,null,3]
[null,"Ingwer, Rhizom'",420,42,30,29.4,null,null,420,200,0,60,0,0,10,20,20,0.2,7.0000000000000007E-2,0.63,0.05,null,null,10]
[null,"Johanniskraut, Blühendes Kraut'",200,40,30,28,null,null,200,145,0,60,0,0,10,15,15,0.53,0.2,0.6,7.0000000000000007E-2,null,null,5]
[1,"Kamille, Blühhorizont + Kraut'",45,12,30,8.4,null,null,45,75,0,60,0,0,10,4,4,0.76666666666666672,0.32999999999999996,{"$f":"(0.54*45+0.53*60)/45","v":1.2466666666666666},2.3333333333333334E-2,null,null,5]
[null,"Kamille, Blühhorizont'",45,12,30,8.4,null,null,45,75,0,60,0,0,10,4,4,0.42,0.21,0.54,0.01,null,null,6]
[null,"Kamille, Blüten + Kraut'",20,4,30,2.8,null,null,20,65,0,60,0,0,10,3,3,1.2,0.48,{"$f":"((0.81*20)+(0.53*60))/20","v":2.4},0.14000000000000001,null,null,5]
[null,"Kamille, Blüten'",20,4,30,2.8,null,null,20,65,0,60,0,0,10,3,3,0.42,0.21,0.81,0.11,null,null,5]
[null,"Kapuzinerkresse, blühendes Kraut'",185,15,30,10.5,null,null,185,135,0,30,0,0,10,13.5,13.5,0.51,0.16,0.7,0.14000000000000001,null,null,7]
[null,"Karde, Wilde, Wurzel'",200,28.571428571428573,30,null,null,null,null,185,0,60,0,0,10,18.5,18.5,0.57999999999999996,0.14000000000000001,0.49,0.08,null,null,7]
[1,"Kerbel, Kraut'",190,20,30,14,null,null,{"$f":"IF(AND(G94=\"\",H94=\"\"),C94,IF(G94=\"\",D94-(D94*H94/100),100*G94*C94/D94/(100-H94)))","v":190},120,0,30,0,0,10,12,12,0.41,0.1,0.7,0.04,null,null,7]
[null,"Knoblauch, Zwiebel ganz + Kraut'",80,20,30,14,null,null,80,85,0,30,0,0,10,8.5,8.5,0.78,0.28250000000000003,0.9375,0.10500000000000001,null,null,5]
[null,"Knoblauch, Zwiebel ganz'",80,20,30,14,null,null,80,85,0,30,0,0,10,8.5,8.5,0.48,0.17,0.35,0.03,null,1.3,5]
[null,"Koriander, Kraut'",120,12,30,8.4,null,null,120,100,0,30,0,0,10,5,5,0.51,0.14000000000000001,0.82,0.08,null,null,10]
[null,"Koriander, Samen + Stroh'",20,3,30,2.1,null,null,20,80,0,60,0,0,10,8,8,2.93,2.15,6.8,0.78,null,null,5]
[1,"Koriander, Samen'",20,3,30,2.1,null,null,20,80,0,60,0,0,10,8,8,1.93,1.1000000000000001,1.55,0.38,null,5,1.5]
[null,"Kornblume, Blühendes Kraut'",200,40,30,28,null,null,200,115,0,30,0,0,10,11.5,11.5,0.37,0.1,0.63,0.05,null,null,5]
[null,"Kornblume, Blüte + Kraut'",70,14,30,9.8000000000000007,null,null,70,160,0,30,0,0,10,16,16,1.74,0.32,2.1342857142857143,0.26428571428571429,null,null,5]
[null,"Kornblume, Blüte'",70,14,30,9.8000000000000007,null,null,70,160,0,30,0,0,10,16,16,0.44,0.19,0.5,0.06,null,1.9,5]
[null,"Kuhschelle, Wiesen, Ganzpflanze",95,19,30,13.3,null,null,95,40,0,30,0,0,9.5,2,2,0.22,0.12,0.41,0.1,null,3.8,5]
[null,"Kuhschelle, Wiesen, Kraut",25,5,30,3.5,null,null,25,30,0,30,0,0,10,2,2,0.46,0.22,0.63,0.09,null,3.8,5]
[null,"Kümmel, einjährig, Frucht + Stroh'",20,13.333333333333334,30,9.3333333333333339,null,null,20,110,0,60,0,0,10,11,11,4.375,2.7249999999999996,9.4250000000000007,0.98,null,null,1.5]
[null,"Kümmel, einjährig, Frucht'",20,13.333333333333334,30,9.3333333333333339,null,null,20,110,0,60,0,0,10,11,11,2.65,1.1499999999999999,1.55,0.38,null,7.5,1.5]
[null,"Kümmel, zweijährig, Erntejahr, Frucht + Stroh'",23,13.333333333333334,30,9.3333333333333339,null,null,23,90,0,60,0,0,10,9,9,4.3499999999999996,2.7021739130434779,9.3108695652173914,0.97130434782608699,null,null,1.5]
[1,"Kümmel, zweijährig, Erntejahr, Frucht'",23,13.333333333333334,30,9.3333333333333339,null,null,23,90,0,60,0,0,10,9,9,2.65,1.1499999999999999,1.55,0.38,null,7.4,1.5]
[null,"Kümmel, zweijährig, ohne Ernte",0,13.333333333333334,30,9.3333333333333339,null,null,0,50,0,60,0,0,10,3,3,2.65,1.1499999999999999,0.55000000000000004,0.38]
[1,"Lavendel, Blütenähre'",25,5,30,3.5,null,null,25,90,0,60,0,0,10,9,9,0.51,0.13,0.77,0.15,null,4.5999999999999996,5]
[null,"Liebstöckel, nicht blühendes Kraut'",550,55,30,38.5,null,null,550,245,0,60,0,0,10,25,25,0.37,0.11,0.5,0.06,null,0.2,10]
[1,"Liebstöckel, Wurzel + Kraut'",550,110,30,77,null,null,550,245,0,60,0,0,10,25,25,1.9058333333333333,0.65416666666666667,2.5316666666666663,0.35500000000000004,null,null,5]
[null,"Liebstöckel, Wurzel'",120,24,30,16.8,null,null,120,245,0,60,0,0,10,25,25,0.21,0.15,0.24,0.08,null,null,5]
[null,"Löwenzahn, kaukasisch, Wurzel'",30,6,30,4.2,null,null,30,100,0,30,0,0,10,5,5,0.59,0.21,0.76,7.0000000000000007E-2,null,null,5]
[null,"Löwenzahn, Kraut'",275,20,30,14,null,null,275,135,0,60,0,0,10,14,14,0.35,0.11,0.53,0.02,null,null,10]
[null,"Mädesüß, blühendes Kraut'",100,20,30,14,null,null,100,70,0,60,0,0,10,7,7,0.49,0.2,0.79,0.21,null,null,5]
[null,"Majoran, Kraut Blühbeginn'",200,40,30,28,null,null,200,135,0,30,0,0,10,14,14,0.48,0.14000000000000001,0.59,7.0000000000000007E-2,null,null,5]
[null,"Malve, blaue, blühendes Kraut'",500,100,30,70,null,null,500,215,0,60,0,0,10,21.5,21.5,0.35,0.16,0.69,7.0000000000000007E-2,null,null,5]
[null,"Malve, blaue, Blüte + Kraut'",100,10,30,7,null,null,100,235,0,60,0,0,10,23.5,23.5,1.94,0.88,3.67,0.35000000000000003,null,null,10]
[null,"Malve, blaue, Blüte'",100,10,30,7,null,null,100,235,0,60,0,0,10,23.5,23.5,0.3,0.16,0.47,7.0000000000000007E-2,null,4,10]
[null,"Mariendistel, Kraut'",280,10,30,7,null,null,280,105,0,60,0,0,10,5,5,0.24,0.12,0.41,0.1,null,null,7]
[null,"Mariendistel, Samen + Kraut'",15,10,30,7,null,null,15,100,0,60,0,0,10,10,10,5.3266666666666671,3.2666666666666666,7.8466666666666667,1.0466666666666666,null,null,1.5]
[1,"Mariendistel, Samen'",15,10,30,7,null,null,15,100,0,60,0,0,10,10,10,2.06,1.1200000000000001,0.66,0.3,null,9.3000000000000007,1.5]
[null,"Meerrettich, Wurzel + Kraut'",200,40,30,28,null,null,200,255,0,60,0,0,10,26,26,1.18,0.34499999999999997,1.55,0.14499999999999999,null,null,5]
[null,"Meerrettich, Wurzel'",200,40,30,28,null,null,200,255,0,60,0,0,10,26,26,0.69,0.22,0.72,7.0000000000000007E-2,null,1.3,5]
[null,"Meisterwurz, Wurzel + Kraut'",35,8.75,30,6.125,null,null,{"$f":"IF(AND(G126=\"\",H126=\"\"),C126,IF(G126=\"\",D126-(D126*H126/100),100*G126*C126/D126/(100-H126)))","v":35},40,0,30,0,0,10,2,2,0.63571428571428568,0.45428571428571429,1.0914285714285714,0.17571428571428571,null,null,4]
[null,"Meisterwurz, Wurzel'",35,8.75,30,6.125,null,null,35,40,0,30,0,0,10,2,2,0.35,0.28000000000000003,0.62,0.13,null,null,4]
[null,"Melde, Kraut'",150,30,30,21,null,null,150,90,0,30,0,0,10,5,5,0.33,0.11,0.53,0.02,null,null,5]
[null,"Mohn, Samen und Kapseln + Stroh'",25,16.666666666666668,30,11.666666666666668,null,null,25,80,0,60,0,0,10,8,8,2.3180000000000001,1.9019999999999999,5.0040000000000004,1.262,null,null,1.5]
[null,"Mohn, Samen und Kapseln'",25,16.666666666666668,30,11.666666666666668,null,null,25,80,0,60,0,0,10,8,8,1.59,0.95,1.63,0.52,null,1.4,1.5]
[null,"Muskatteller Salbei, blühendes Kraut'",300,60,30,42,null,null,300,165,0,60,0,0,10,17,17,0.42,0.16,0.76,0.16,null,null,5]
[1,"Mutterkraut (T. parthenium), blühendes Kraut'",120,12,30,8.4,null,null,120,95,0,60,0,0,10,5,5,0.45,0.16,0.8,0.05,null,null,10]
[null,"Mutterkraut, Chin. (L. jap.), blühendes Kraut'",250,50,30,35,null,null,250,170,0,60,0,0,10,17,17,0.51,0.14000000000000001,0.84,0.11,null,null,5]
[1,"Nachtkerze, Samen + Stroh'",15,8.6666666666666661,30,6.0666666666666664,null,null,15,100,0,60,0,0,10,10,10,5.3266666666666671,2.4266666666666672,5.1400000000000006,1.0466666666666666,null,null,1.5]
[null,"Nachtkerze, Samen'",15,8.6666666666666661,30,6.0666666666666664,null,null,15,100,0,60,0,0,10,10,10,2.06,1.1200000000000001,0.66,0.3,null,9.3000000000000007,1.5]
[null,"Nelkenwurz, Wurzel + Kraut'",150,30,30,21,null,null,150,115,0,30,0,0,10,12,12,0.6166666666666667,0.29333333333333333,0.71,0.42,null,null,5]
[null,"Nelkenwurz, Wurzel'",150,30,30,21,null,null,150,115,0,30,0,0,10,12,12,0.25,0.18,0.27,0.2,null,null,5]
[null,"Odermennig, Kraut'",160,32,30,22.4,null,null,160,100,0,60,0,0,10,10,10,0.49,0.15,0.67,0.18,null,null,5]
[null,"Oregano (Dost), blühendes Kraut'",120,24,30,16.8,null,null,120,100,0,30,0,0,10,5,5,0.5,0.14000000000000001,0.52,0.17,null,null,5]
[null,"Pestwurz, Blatt'",50,10,30,7,null,null,50,115,0,60,0,0,10,12,12,0.63,0.15,0.91,0.35,null,null,5]
[null,"Pestwurz, Wurzel + Blatt'",130,26,30,18.2,null,null,130,115,0,60,0,0,10,12,12,0.56230769230769229,0.2076923076923077,0.91000000000000014,0.18461538461538463,null,null,5]
[null,"Pestwurz, Wurzel'",130,26,30,18.2,null,null,130,115,0,60,0,0,10,12,12,0.32,0.15,0.56000000000000005,0.05,null,null,5]
[null,"Petersilie, Blatt-, bis 1. Schnitt",240,24,30,16.8,null,null,240,160,0,60,0,0,10,16,16,0.45,0.12,0.53,0.06,null,null,10]
[1,"Petersilie, Blatt-, nach einem Schnitt",160,16,30,11.2,null,null,160,100,0,60,0,0,10,5,5,0.45,0.12,0.53,0.06,null,null,10]
[null,"Petersilie, Blatt-, Verarbeitung, alle Schnitte'",500,50,30,35,null,null,500,285,0,60,0,0,10,29,14,0.49,0.13,1.08,0.08,null,null,10]
[null,"Pfefferminze, Minzen, nicht blühendes Kraut'",400,80,30,56,null,null,400,210,0,30,0,0,10,21,21,0.42,0.11,0.55000000000000004,0.08,null,null,5]
[null,"Ringelblume, blühendes Kraut'",600,120,30,84,null,null,600,215,0,60,0,0,10,22,22,0.28999999999999998,7.0000000000000007E-2,0.5,0.05,null,null,5]
[null,"Ringelblume, Blüte + Kraut'",50,5,30,3.5,null,null,50,185,0,60,0,0,10,19,19,2.9099999999999997,0.75000000000000011,6.76,0.59000000000000008,null,null,10]
[null,"Ringelblume, Blüte'",50,5,30,3.5,null,null,50,185,0,60,0,0,10,19,19,0.3,0.12,0.46,0.05,null,9,10]
[null,"Rosenwurz, jährl. Zuwachs, Wurzel Ernte n. 3 Jahren",50,10,30,7,null,null,50,50,0,60,0,0,10,3,3,0.62,0.15,0.56000000000000005,0.05,null,null,5]
[null,"Rosmarin, nicht blühendes Kraut'",80,16,30,11.2,null,null,80,65,0,30,0,0,10,7,7,0.57999999999999996,0.09,0.5,0.3,null,0.5,5]
[null,"Rotwurzelsalbei (S. miltior.), Wurzel + Kraut'",200,40,30,28,null,null,200,175,0,60,0,0,10,18,18,0.76700000000000002,0.28400000000000003,1.6529999999999998,0.30099999999999999,null,null,5]
[1,"Rotwurzelsalbei (S. miltior.), Wurzel'",200,40,30,28,null,null,200,175,0,60,0,0,10,18,18,0.36,0.13,0.41,0.18,null,1.1000000000000001,5]
[null,"Salbei (S. officinalis), nicht blühendes Kraut'",350,70,30,49,null,null,350,210,0,60,0,0,10,21,21,0.49,0.11,0.62,0.13,null,null,5]
[null,"Saposhnikovia, Wurzel + Kraut'",80,16,30,11.2,null,null,80,110,0,30,0,0,10,11,11,1.1099999999999999,0.38,1.53,0.14000000000000001,null,null,5]
[null,"Saposhnikovia, Wurzel'",80,16,30,11.2,null,null,80,110,0,30,0,0,10,11,11,0.5,0.23,0.64,7.0000000000000007E-2,null,1,5]
[null,"Saussurea costus, Wurzel + Kraut'",100,20,30,14,null,null,100,100,0,60,0,0,10,10,10,0.78,0.28000000000000003,1.75,0.18,null,null,5]
[null,"Saussurea costus, Wurzel'",100,20,30,14,null,null,{"$f":"IF(AND(G158=\"\",H158=\"\"),C158,IF(G158=\"\",D158-(D158*H158/100),100*G158*C158/D158/(100-H158)))","v":100},100,0,60,0,0,10,10,10,0.5,0.21,0.76,7.0000000000000007E-2,null,null,5]
[1,"Schabziegerklee, blühendes Kraut'",300,60,30,42,null,null,300,130,0,60,0,0,10,13,13,0.37,0.08,0.66,7.0000000000000007E-2,0.46,null,5]
[null,"Schafgarbe, Blühhorizont'",350,70,30,49,null,null,350,180,0,60,0,0,10,18,18,0.46,0.16,0.77,0.05,null,null,5]
[null,"Schleifenblume, bittere, Kraut'",150,30,30,21,null,null,150,95,0,60,0,0,10,5,5,0.35,0.09,0.37,0.04,null,null,5]
[null,"Schlüsselblume, Blüte + Kraut'",25,30,30,21,null,null,25,95,0,60,0,0,10,5,5,1.3540000000000001,0.51,3.266,0.33,null,null,7]
[null,"Schlüsselblume, Blüte'",25,30,30,21,null,null,25,95,0,60,0,0,10,5,5,0.34,0.12,0.64,7.0000000000000007E-2,null,null,7]
[1,"Schlüsselblume, Wurzel",120,24,30,16.8,null,null,120,105,0,30,0,0,10,11,11,0.27,0.15,0.35,0.09,null,1,5]
[null,"Schlüsselblume, Wurzel + Kraut'",120,24,30,16.8,null,null,120,105,0,30,0,0,10,10,10,0.70750000000000002,0.28541666666666665,1.1104166666666666,0.26708333333333334,null,null,5]
[1,"Schnittknoblauch, Kraut'",200,20,10,18,null,null,200,145,0,60,0,0,10,7,7,0.43,0.09,0.41,0.09,null,null,10]
[null,"Schnittlauch, bis 1. Schnitt'",300,30,10,27,null,null,300,210,0,60,0,0,10,21,21,0.5,0.13700000000000001,0.52,7.0000000000000007E-2,null,null,10]
[null,"Schnittlauch, nach 1. Schnitt'",200,20,10,18,null,null,200,180,0,60,0,0,10,18,9,0.5,0.13700000000000001,0.52,7.0000000000000007E-2,null,null,10]
[null,"Schnittlauch, Verarbeitung, alle Schnitte'",500,20,10,18,null,null,500,310,0,60,0,0,10,31,31,0.5,0.13700000000000001,0.52,7.0000000000000007E-2,null,null,10]
[null,"Schnittlauch, Wurzel für Treiberei'",280,28,10,25.2,null,null,280,240,0,60,0,0,10,24,12,0.5,0.13700000000000001,0.52,7.0000000000000007E-2,null,null,10]
[1,"Schöllkraut, blühendes Kraut'",300,60,30,42,null,null,300,160,0,60,0,0,10,16,16,0.4,0.11,0.5,0.08,null,null,5]
[1,"Schwarzkümmel, Samen + Stroh'",15,10,30,7,null,null,15,105,0,60,0,0,10,5,5,4.3,2,3.02,0.76,null,null,1.5]
[null,"Schwarzkümmel, Samen'",15,10,30,7,null,null,15,105,0,60,0,0,10,5,5,3.6,1.71,0.92,0.48,null,1,1.5]
[null,"Schwertlilie, jährl. Zuwachs, Rhizom Ernte n. 3 Jahren + Kraut'",50,12.5,30,8.75,null,null,50,50,0,60,0,0,10,3,3,0.24,0.08,0.66,0.04,null,null,4]
[null,"Schwertlilie, jährl. Zuwachs, Rhizom Ernte n. 3 Jahren'",50,12.5,30,8.75,null,null,50,50,0,60,0,0,10,3,3,0.3,0.09,0.31,0.04,null,null,4]
[null,"Sellerie, Schnitt, Kraut",550,55,30,38.5,null,null,550,245,0,60,0,0,10,25,25,0.37,0.11,0.5,0.06,null,null,10]
[1,"Senf, Brauner, Samen + Stroh'",9,10,30,7,null,null,9,65,0,60,0,0,10,7,7,5,2.0644444444444443,2.5766666666666667,0.67222222222222228,null,null,1.5]
[null,"Senf, Brauner, Samen'",9,10,30,7,null,null,9,65,0,60,0,0,10,7,7,3.05,1.53,0.67,0.34,null,1.4,1.5]
[1,"Senf, Gelber/Weißer, Samen + Kraut'",15,10,30,7,null,null,15,135,0,60,0,0,10,14,14,7.8,3.3699999999999997,10.93,0.9,null,null,1.5]
[null,"Senf, Gelber/Weißer, Samen'",15,10,30,7,null,null,15,135,0,60,0,0,10,14,14,5,1.77,0.93,0.3,null,4,1.5]
[null,"Senf, Schwarzer, Samen + Kraut'",12,8,30,5.6,null,null,12,80,0,60,0,0,10,8,8,4.9249999999999998,2.7099999999999995,2.36,0.68,null,null,1.5]
[null,"Senf, Schwarzer, Samen'",12,8,30,5.6,null,null,12,80,0,60,0,0,10,8,8,3.23,1.81,0.65,0.35,null,null,1.5]
[null,"Siegesbeckia, blühendes Kraut'",500,100,30,70,null,null,500,150,0,60,0,0,10,15,15,0.26,0.1,0.54,0.08,null,null,5]
[null,"Sonnenhut (E. angustifolia), blühendes Kraut'",50,5,30,3.5,null,null,50,75,0,60,0,0,10,4,4,0.56000000000000005,0.12,0.82,0.14000000000000001,null,0.1,10]
[null,"Sonnenhut (E. angustifolia), Wurzel + Kraut'",20,4,30,2.8,null,null,20,75,0,60,0,0,10,4,4,2.35,0.5,2.5,0.45,null,null,5]
[1,"Sonnenhut (E. angustifolia), Wurzel'",20,4,30,2.8,null,null,20,75,0,60,0,0,10,4,4,0.95,0.2,0.45,0.1,null,null,5]
[1,"Sonnenhut (E. angustifolia), Wurzel, jährl. Zuwachs + Kraut'",7,1.4,30,0.98,null,null,7,75,0,60,0,0,10,4,4,4.9500000000000011,1.0571428571428572,6.3071428571428569,1.1000000000000001,null,null,5]
[null,"Sonnenhut (E. angustifolia), Wurzel, jährl. Zuwachs'",7,1.4,30,0.98,null,null,7,75,0,60,0,0,10,4,4,0.95,0.2,0.45,0.1,null,null,5]
[null,"Sonnenhut (E. pallida), blühendes Kraut'",300,30,30,21,null,null,300,180,0,60,0,0,10,18,18,0.31,0.1,0.45,0.11,null,0.2,10]
[1,"Sonnenhut (E. pallida), Wurzel + Kraut'",150,30,30,21,null,null,{"$f":"IF(AND(G190=\"\",H190=\"\"),C190,IF(G190=\"\",D190-(D190*H190/100),100*G190*C190/D190/(100-H190)))","v":150},180,0,60,0,0,10,18,18,1.2,0.34,1.39,0.3,null,null,5]
[null,"Sonnenhut (E. pallida), Wurzel'",150,30,30,21,null,null,150,180,0,60,0,0,10,18,18,0.57999999999999996,0.14000000000000001,0.49,0.08,null,null,5]
[null,"Sonnenhut (E. pallida), Wurzel, jährl. Zuwachs + Kraut'",50,10,30,7,null,null,50,180,0,60,0,0,10,18,18,2.44,0.74,3.19,0.74,null,null,5]
[null,"Sonnenhut (E. pallida), Wurzel, jährl. Zuwachs'",50,10,30,7,null,null,50,180,0,60,0,0,10,18,18,0.57999999999999996,0.14000000000000001,0.49,0.08,null,null,5]
[null,"Sonnenhut (E. purpurea), blühendes Kraut'",300,30,30,21,null,null,300,215,0,60,0,0,10,22,22,0.44,0.13,0.83,0.14000000000000001,null,0.5,10]
[null,"Sonnenhut (E. purpurea), Wurzel + Kraut'",150,30,30,21,null,null,150,215,0,60,0,0,10,22,22,1.34,0.4,2.16,0.4200000000000001,null,null,5]
[null,"Sonnenhut (E. purpurea), Wurzel'",150,30,30,21,null,null,150,215,0,60,0,0,10,22,22,0.46,0.14000000000000001,0.5,0.14000000000000001,null,null,5]
[null,"Sonnenhut (E. purpurea), Wurzel, jährl. Zuwachs + Kraut'",50,10,30,7,null,null,50,215,0,60,0,0,10,22,22,3.1,0.92,5.48,0.98000000000000009,null,null,5]
[null,"Sonnenhut (E. purpurea), Wurzel, jährl. Zuwachs'",50,10,30,7,null,null,50,215,0,60,0,0,10,22,22,0.46,0.14000000000000001,0.5,0.14000000000000001,null,null,5]
[null,"Spitzwegerich, Kraut'",350,20,30,14,null,null,350,185,0,60,0,0,10,19,19,0.41,0.12,0.78,0.06,null,null,10]
[null,"Steinklee, Gelber, blühendes Kraut'",350,70,30,49,null,null,350,225,0,30,0,0,10,23,23,0.57999999999999996,0.14000000000000001,0.41,0.03,0.46,null,5]
[null,"Steinklee, Weißer, blühendes Kraut'",350,70,30,49,null,null,350,225,0,30,0,0,10,23,23,0.57999999999999996,0.14000000000000001,0.41,0.03,0.46,null,5]
[null,"Tausendgüldenkraut, blühendes Kraut'",80,20,30,14,null,null,80,45,0,30,0,0,10,2,2,0.3,0.09,0.57999999999999996,0.04,null,null,4]
[null,"Thymian, blühendes Kraut'",150,30,30,21,null,null,150,100,0,60,0,0,10,5,5,0.41,0.12,0.77,0.08,null,null,5]
[null,"Tollkirsche, Kraut'",120,24,30,16.8,null,null,120,130,0,60,0,0,10,13,13,0.73,0.46,0.55000000000000004,0.13,null,null,5]
[null,"Tragant, Chinesischer, Wurzel + Kraut'",40,8,30,5.6,null,null,40,150,0,60,0,0,10,15,15,3.27,1.2,4.4400000000000004,0.38,null,null,5]
[null,"Tragant, Chinesischer, Wurzel'",40,8,30,5.6,null,null,40,150,0,60,0,0,10,15,15,0.56999999999999995,0.25,0.49,0.08,2.2999999999999998,5,5]
[null,"Wermut, Beifuß, nicht blühendes Kraut'",300,60,30,42,null,null,300,135,0,60,0,0,10,14,14,0.39,0.17,0.67,0.08,null,null,5]
[null,"Wiesenknopf, klein (Pimpinelle), Kraut'",100,20,30,14,null,null,100,80,0,30,0,0,10,4,4,0.41,0.1,0.7,0.04,null,null,10]
[null,"Winterheckenzwiebel",800,20,10,18,null,null,800,440,0,60,0,0,10,44,44,0.5,0.13700000000000001,0.52,7.0000000000000007E-2,null,null,10]
[null,"Ysop, blühendes Kraut'",150,30,30,21,null,null,150,105,0,60,0,0,10,5,5,0.42,0.1,0.56000000000000005,0.12,null,null,5]
[null,"Zitronenmelisse, nicht blühendes Kraut'",300,60,30,42,null,null,300,185,0,60,0,0,10,19,19,0.49,0.14000000000000001,0.76,0.09,null,null,5]
[null,"Zitronenverbene, Kraut'",265,100,30,70,null,null,265,155,0,60,0,0,10,16,16,0.44,0.14000000000000001,0.6,0.08,null,null,7]

{"sheet":"Tab 2+3 DüV_A","index":13,"n_rows":104,"n_cols":12,"rows_kept":104,"cut":false,"hidden":false,"merged":[]}
["Kultur (' = nicht in DüV)","Ertrags-niveau Haupt-produkt dt/ha","N-Bedarfs-wert \nkg/ha","Probe-nahme \nin \nKultur-woche","Probe-nahme-tiefe \ncm","Ertrags-differenz dt/ha","Höchst-zuschläge bei höheren Erträgen je Einheit \nkg/ha","Mindest-abschläge bei niedrigeren Erträgen je Einheit \nkg/ha","N-Nährstoff-gehalt kg/dt","P2O5-Nährstoff-gehalt kg/dt","K2O-Nährstoff-gehalt kg/dt","MgO-Nährstoff-gehalt kg/dt"]
["_Andere 01"]
["_Andere 02"]
["_Andere 03"]
["_Andere 04"]
["_Andere 05"]
["_Andere 06"]
["_Andere 07"]
["_Andere 08"]
["_Andere 09"]
["_Andere 10"]
["Ackerbohne mit Stroh'",35,0,0,60,0,0,0,5.6,1.5,4,0.5]
["Ackerbohne'",35,0,0,60,0,0,0,4.0999999999999996,1.2,1.4,0.2]
["Amaranth mit Stroh'",35,130,0,60,5,10,15,3.72,2.5,6.02,0.99]
["Amaranth'",35,130,0,60,5,10,15,2.34,0.89,0.5,0.3]
["Buchweizen mit Stroh'",20,80,0,60,5,10,15,2.93,1.35,2.9,0.6]
["Buchweizen'",20,80,0,60,5,10,15,2.33,0.65,0.5,0.3]
["Corn-Cob-Mix'",120,200,0,90,20,10,15,1.01,0.41,0.36,0.6]
["Dinkel (mit Spelzen) mit Stroh'",60,200,0,90,10,10,15,2.0499999999999998,1.04,1.92,0.36]
["Dinkel (mit Spelzen)'",60,200,0,90,10,10,15,1.65,0.8,0.8,0.2]
["Emmer (Einkorn) mit Stroh'",40,115,0,90,10,10,15,2.31,1.05,1.95,0.4]
["Emmer (Einkorn)'",40,115,0,90,10,10,15,1.81,0.75,0.55000000000000004,0.2]
["Erbse mit Stroh'",35,0,0,60,0,0,0,5.0999999999999996,1.4,4,0.5]
["Erbse'",35,0,0,60,0,0,0,3.6,1.1000000000000001,1.4,0.2]
["Futterrübe, Gehalts- mit Blatt'",650,190,0,90,100,10,15,0.3,0.12,0.75,0.08]
["Futterrübe, Gehalts-'",650,190,0,90,100,10,15,0.18,0.09,0.5,0.05]
["Futterrübe, Massen- mit Blatt'",850,220,0,90,100,10,15,0.24,0.09,0.6,0.08]
["Futterrübe, Massen-'",850,220,0,90,100,10,15,0.14000000000000001,7.0000000000000007E-2,0.45,0.05]
["Gerste, Sommer",50,140,0,60,10,10,15,1.65,0.8,0.6,0.2]
["Gerste, Sommer mit Stroh",50,140,0,60,10,10,15,2.0499999999999998,1.04,1.79,0.27]
["Gerste, Winter",70,180,0,90,10,10,15,1.65,0.8,0.6,0.2]
["Gerste, Winter mit Stroh",70,180,0,90,10,10,15,2,1.01,1.79,0.27]
["Grassamenvermehrung mit Stroh'",20,200,0,60,5,10,15,14.2,3.5,13.3,3.37]
["Grassamenvermehrung'",20,200,0,60,5,10,15,2.2000000000000002,0.7,0.5,0.17]
["Hafer",55,130,0,60,10,10,15,1.51,0.8,0.6,0.2]
["Hafer mit Stroh",55,130,0,60,10,10,15,2.06,1.1299999999999999,2.4700000000000002,0.42]
["Hanf, Ganzpflanze'",150,160,0,60,50,10,15,0.4,0.3,0.8,0.36]
["Hirse mit Stroh'",50,130,0,60,10,10,15,3.54,2.29,5.3,0.9]
["Hirse'",50,130,0,60,10,10,15,2.34,0.89,0.5,0.3]
["Hopfen, Dolden (Herkules)'",17.5,220,0,90,1,4,4,3,1,2.6,0.5]
["Hopfen, Dolden'",17.5,230,0,90,1,4,4,3,1,2.6,0.5]
["Kartoffel",450,180,0,60,50,10,10,0.35,0.14000000000000001,0.6,0.04]
["Kartoffel mit Kraut",450,180,0,60,50,10,10,0.39,0.15,0.67,0.06]
["Kartoffel, früh",400,220,0,60,50,10,10,0.35,0.14000000000000001,0.6,0.04]
["Kartoffel, früh mit Kraut",400,220,0,60,50,10,10,0.39,0.15,0.67,0.06]
["Kenaf, Ganzpflanze",250,185,0,60,50,10,15,0.7,0.3,0.75,0.9]
["Kichererbse mit Stroh",80,85,0,60,0,0,0]
["Kichererbse",80,85,0,60,0,0,0,1,0.23,0.36,0.06]
["Klee-, Luzernevermehrung mit Stroh'",5,0,0,60,0,0,0,17.5,3.86,22.05,3.47]
["Klee-, Luzernevermehrung'",5,0,0,60,0,0,0,5.5,1.46,1.25,0.27]
["Lein, Faser (Flachs), Ganzpflanze'",80,100,0,60,5,10,15,1,0.64,1.71,0.1]
["Lein, Öl",20,100,0,60,1,2,3,3.5,1.2,1,0.8]
["Lein, Öl mit Stroh",20,100,0,60,1,2,3,4.3,1.5,3.1,0.95]
["Leindotter mit Kraut'",20,110,0,60,5,10,15,4.3,1.5,3.1,0.95]
["Leindotter'",20,110,0,60,5,10,15,3.5,1.2,1,0.8]
["Linse mit Stroh'",15,0,0,60,0,0,0,5.08,1.4,4,0.5]
["Linse'",15,0,0,60,0,0,0,3.58,1.1000000000000001,1.4,0.2]
["Lupine blau mit Stroh'",30,0,0,60,0,0,0,5.98,1.32,3.59,0.5]
["Lupine blau'",30,0,0,60,0,0,0,4.4800000000000004,1.02,0.99,0.2]
["Mais, Körner",90,200,0,90,10,10,15,1.38,0.8,0.5,0.2]
["Mais, Körner mit Stroh",90,200,0,90,10,10,15,2.2799999999999998,1,2.5,0.6]
["Mais, Silo 28 % TS",450,200,0,90,50,10,10,0.38,0.16,0.45,0.09]
["Mais, Silo 35 % TS",450,200,0,90,50,10,10,0.47,0.18,0.56000000000000005,0.11]
["Miscanthus, Ganzpflanze'",200,100,0,60,50,10,15,0.15,0.12,0.4,0.1]
["Quinoa mit Stroh'",30,120,0,60,5,10,15,3.44,2.34,5.75,0.92]
["Quinoa'",30,120,0,60,5,10,15,2.2400000000000002,0.94,0.95,0.32]
["Raps, Winter",40,200,0,90,5,10,15,3.35,1.8,1,0.5]
["Raps, Winter mit Kraut",40,200,0,90,5,10,15,4.54,2.48,5,1.2]
["Roggen, Winter",70,170,0,90,10,10,15,1.51,0.8,0.6,0.1]
["Roggen, Winter mit Stroh",70,170,0,90,10,10,15,1.96,1.07,2.4,0.28000000000000003]
["Senf mit Stroh'",25,160,0,90,5,10,15,6.13,2.37,4.68,0.53]
["Senf'",25,160,0,90,5,10,15,5.08,1.77,0.93,0.3]
["Silphium, Ganzpflanze'",500,140,0,60,50,10,15,0.28000000000000003,0.14000000000000001,0.64,0.18]
["Sojabohne mit Stroh'",20,0,0,60,0,0,0,5.9,1.4,4,0.63]
["Sojabohne'",20,0,0,60,0,0,0,4.4000000000000004,1.1000000000000001,1.4,0.33]
["Sonnenblume",30,120,0,90,5,10,15,2.91,1.6,2.4,0.6]
["Sonnenblume mit Stroh",30,120,0,90,5,10,15,4.91,3.4,11.4,1.2]
["Sorghum Ganzpflanze'",450,200,0,60,10,2,3,0.41,0.18,0.48,0.04]
["Sudangras (Sorghumhirse)",450,200,0,60,50,10,15,0.43,0.14000000000000001,0.49,0.1]
["Süßkartoffel'",400,125,0,60,10,3.125,3,0.2,0.08,0.42,2.5000000000000001E-2]
["Tabak, Geudertheimer'",30,260,0,60,5,25,37.5,4,1.3,6.9,0.4]
["Tabak, Virgin'",30,100,0,60,5,10,15,4,1.3,6.9,0.4]
["Topinambur '",500,150,0,90,5,10,15,0.26,0.14000000000000001,0.62,0.02]
["Topinambur mit Kraut'",500,150,0,90,5,10,15,0.23,0.11,0.55000000000000004,0.05]
["Triticale, Winter",70,190,0,90,10,10,15,1.65,0.8,0.6,0.2]
["Triticale, Winter mit Stroh",70,190,0,90,10,10,15,2.1,1.07,2.13,0.38]
["Weizen, Hart (Durum)",55,200,0,90,10,10,15,1.81,0.8,0.6,0.2]
["Weizen, Hart (Durum) mit Stroh",55,200,0,90,10,10,15,2.21,1.04,1.72,0.36]
["Weizen, Sommer",70,220,0,60,10,10,15,2.11,0.75,0.55000000000000004,0.2]
["Weizen, Sommer mit Stroh",70,220,0,60,10,10,15,2.5099999999999998,0.99,1.67,0.36]
["Weizen, Winter A, B",80,230,0,90,10,10,15,2.11,0.8,0.55000000000000004,0.2]
["Weizen, Winter A, B mit Stroh",80,230,0,90,10,10,15,2.5099999999999998,1.04,1.67,0.36]
["Weizen, Winter C",80,210,0,90,10,10,15,1.81,0.8,0.55000000000000004,0.2]
["Weizen, Winter C mit Stroh",80,210,0,90,10,10,15,2.21,1.04,1.67,0.36]
["Weizen, Winter E",80,260,0,90,10,10,15,2.41,0.8,0.55000000000000004,0.2]
["Weizen, Winter E mit Stroh",80,260,0,90,10,10,15,2.81,1.04,1.67,0.36]
["Wicke mit Stroh'",15,0,0,60,0,0,0,5,1.4,4,0.5]
["Wicke'",15,0,0,60,0,0,0,3.6,1.1000000000000001,1.4,0.2]
["Zuckerrübe",650,170,0,90,100,10,15,0.18,0.1,0.25,0.08]
["Zuckerrübe mit Kraut",650,170,0,90,100,10,15,0.46,0.18,0.75,0.15]
["Zwischenfrucht nach Getreide/Saat < 30.8./<50% Leg'",280,30,null,null,null,null,null,null,0]
["Zwischenfrucht nach Getreide/Saat > 30.8./<50% Leg'",280,20,null,null,null,null,null,null,0]
["Zwischenfrucht-Futter n. Getreide/Saat < 30.8./<50% Leg'",280,30,null,null,null,null,null,null,7.4999999999999997E-2]
["Zwischenfrucht-Futter n. Getreide/Saat > 30.8./<50% Leg'",280,20,null,null,null,null,null,null,7.4999999999999997E-2]

{"sheet":"Nährstoffabfuhr Sonstige","index":14,"n_rows":176,"n_cols":7,"rows_kept":176,"cut":false,"hidden":true,"merged":[]}
["Kultur","Etrags-niveau (Feld-abfuhr) dt/ha","N-Nährstoff-gehalt kg/dt","P2O5-Nährstoff-gehalt kg/dt","K2O-Nährstoff-gehalt kg/dt","MgO-Nährstoff-gehalt kg/dt"]
["Faserpflanzen_Flachs (Faserlein), Ganzpfl. (86 % TS)",70,1,0.64,1.71,0.1]
["Faserpflanzen_Hanf, Ganzpfl. (40 % TS)",300,0.4,0.3,0.8,0.36]
["Faserpflanzen_Miscanthus, Ganzpfl. (80 % TS)",220,0.15,0.12,0.4,0.1]
["Futterpflanzen_Kleegras (Ganzpfl. (20 % TS)",650,0.57999999999999996,0.14000000000000001,0.62,7.0000000000000007E-2]
["Futterpflanzen_Luzerne (20% TS)",650,0.65,0.14000000000000001,0.62,7.0000000000000007E-2]
["Futterpflanzen_Luzernegras (Ganzpfl. (20% TS)",650,0.57999999999999996,0.15,0.65,7.0000000000000007E-2]
["Futterpflanzen_Rotklee, Ganzpflanze (20 % TS)",650,0.65,0.13,0.6,0.1]
["Futterpflanzen_Silomais (28 % TS)",550,0.38,0.16,0.45,0.09]
["Futterpflanzen_Silomais (35 % TS)",550,0.47,0.18,0.51,0.1]
["Futterpflanzen_Weidelgras (Ackergras), Ganzpfl. (20 % TS)",850,0.53,0.16,0.65,0.05]
["Getreide_Gerste, Brau 10 % Rohprotein in TS_Korn",50,1.38,0.8,0.6,0.2," "]
["Getreide_Gerste, Brau 10 % Rohprotein in TS_Korn + Stroh (1: 0,7)",50,1.73,1.01,1.79,0.27]
["Getreide_Gerste, Brau 10 % Rohprotein in TS_Stroh",null,0.5,0.3,0.5,0.1]
["Getreide_Gerste, Brau 11 % Rohprotein in TS_Korn",50,1.51,0.8,0.6,0.1]
["Getreide_Gerste, Brau 11 % Rohprotein in TS_Korn + Stroh (1: 0,7)",50,1.86,1.01,1.79,0.27]
["Getreide_Gerste, Brau 11 % Rohprotein in TS_Stroh",null,0.5,0.3,0.5,0.1]
["Getreide_Gerste, Sommerfutter 12 % Rohprotein_Korn",50,1.65,0.8,0.6,0.2]
["Getreide_Gerste, Sommerfutter 12 % Rohprotein_Korn + Stroh (1: 08)",50,2.0499999999999998,1.04,1.96,0.28000000000000003]
["Getreide_Gerste, Sommerfutter 12 % Rohprotein_Stroh",null,0.5,0.3,1.7,0.1]
["Getreide_Gerste, Sommerfutter 13 % Rohprotein_Korn",50,1.79,0.8,0.6,0.2]
["Getreide_Gerste, Sommerfutter 13 % Rohprotein_Korn + Stroh (1: 0,8)",50,2.19,1.04,1.96,0.28000000000000003]
["Getreide_Gerste, Sommerfutter 13 % Rohprotein_Stroh",null,0.5,0.3,1.7,0.1]
["Getreide_Gerste, Winter 12 % Rohprotein in TS_Korn",60,1.65,0.8,0.6,0.2]
["Getreide_Gerste, Winter 12 % Rohprotein in TS_Korn + Stroh (1: 0,7)",60,2,1.01,1.79,0.27]
["Getreide_Gerste, Winter 12 % Rohprotein in TS_Stroh",null,0.5,0.3,1.7,0.1]
["Getreide_Gerste, Winter 13 % Rohprotein in TS_Korn",60,1.79,0.8,0.6,0.2]
["Getreide_Gerste, Winter 13 % Rohprotein in TS_Korn + Stroh (1: 0,7)",60,2.14,1.01,1.79,0.27]
["Getreide_Gerste, Winter 13 % Rohprotein in TS_Stroh",null,0.5,0.3,1.7,0.1]
["Getreide_Getreide, Ganzpflanzensilage (35 % TS)",250,0.56000000000000005,0.23,0.47,0.1]
["Getreide_Hafer 11 % Rohprotein in TS_Korn",50,1.51,0.8,0.6,0.2]
["Getreide_Hafer 11 % Rohprotein in TS_Korn + Stroh (1: 1,1)",50,2.06,1.1299999999999999,2.4700000000000002,0.42]
["Getreide_Hafer 11 % Rohprotein in TS_Stroh",null,0.5,0.3,1.7,0.2]
["Getreide_Hafer 12 % Rohprotein in TS_Korn",55,1.65,0.8,0.6,0.1]
["Getreide_Hafer 12 % Rohprotein in TS_Korn + Stroh (1: 1,1)",55,2.2000000000000002,1.1299999999999999,2.4700000000000002,0.42]
["Getreide_Hafer 12 % Rohprotein in TS_Stroh",null,0.5,0.3,1.7,0.2]
["Getreide_Mais, Körner 10 % Rohprotein in TS_Korn",80,1.38,0.8,0.5,0.2]
["Getreide_Mais, Körner 10 % Rohprotein in TS_Korn + Stroh (1: 1)",80,2.2799999999999998,1.01,2.5,0.6]
["Getreide_Mais, Körner 10 % Rohprotein in TS_Stroh",null,0.9,0.2,2,0.4]
["Getreide_Mais, Körner 11 % Rohprotein in TS_Korn",80,1.51,0.8,0.5,0.2]
["Getreide_Mais, Körner 11 % Rohprotein in TS_Korn + Stroh (1: 1)",80,2.41,1,2.5,0.6]
["Getreide_Mais, Körner 11 % Rohprotein in TS_Stroh",null,0.9,0.2,2,0.4]
["Getreide_Roggen 11 % Rohprotein in TS_Korn",50,1.51,0.8,0.6,0.1]
["Getreide_Roggen 11 % Rohprotein in TS_Korn + Stroh (1: 0,9)",50,1.96,1.07,2.4,0.28000000000000003]
["Getreide_Roggen 11 % Rohprotein in TS_Stroh",null,0.5,0.3,2,0.2]
["Getreide_Roggen 12 % Rohprotein in TS_Korn",50,1.65,0.8,0.6,0.1]
["Getreide_Roggen 12 % Rohprotein in TS_Korn + Stroh (1: 0,9)",50,2.1,1.07,2.4,0.28000000000000003]
["Getreide_Roggen 12 % Rohprotein in TS_Stroh",null,0.5,0.3,2,0.2]
["Getreide_Triticale, Winter 12 % Rohprotein in TS_Korn",70,1.65,0.8,0.6,0.2]
["Getreide_Triticale, Winter 12 % Rohprotein in TS_Korn + Stroh (1: 0,9)",70,2.1,1.07,2.13,0.38]
["Getreide_Triticale, Winter 12 % Rohprotein in TS_Stroh",null,0.5,0.3,1.7,0.2]
["Getreide_Triticale, Winter-, 13 % Rohprotein in TS_Korn",70,1.79,0.8,0.6,0.2]
["Getreide_Triticale, Winter-, 13 % Rohprotein in TS_Korn + Stroh (1: 0,9)",70,2.2400000000000002,1.07,2.13,0.38]
["Getreide_Triticale, Winter-, 13 % Rohprotein in TS_Stroh",null,0.5,0.3,1.7,0.2]
["Getreide_Weizen 12 % Rohprotein inTS_Korn",70,1.81,0.8,0.6,0.2]
["Getreide_Weizen 12 % Rohprotein inTS_Korn + Stroh (1: 0,8)",70,2.21,1.04,1.72,0.36]
["Getreide_Weizen 12 % Rohprotein inTS_Stroh",null,0.5,0.3,1.4,0.2]
["Getreide_Weizen 14 % Rohprotein in TS_Korn",70,2.11,0.8,0.6,0.2]
["Getreide_Weizen 14 % Rohprotein in TS_Korn + Stroh (1: 0,8)",70,2.5099999999999998,1.04,1.72,0.36]
["Getreide_Weizen 14 % Rohprotein in TS_Stroh",null,0.5,0.3,1.4,0.2]
["Getreide_Weizen 16 % Rohprotein in TS_Korn",70,2.41,0.8,0.6,0.2]
["Getreide_Weizen 16 % Rohprotein in TS_Korn + Stroh (1: 0,8)",70,2.81,1.04,1.72,0.36]
["Getreide_Weizen 16 % Rohprotein in TS_Stroh",null,0.5,0.3,1.4,0.2]
["Grünland_1 Nutzung/Jahr",40,1.3,0.6,1.5,0.4]
["Grünland_2 Nutzungen/Jahr",55,1.8,0.7,2.5,0.4]
["Grünland_3 Nutzungen/Jahr",75,2.2000000000000002,0.95,2.9,0.4]
["Grünland_4 Nutzungen/Jahr",90,2.7,1,3,0.5]
["Grünland_5 Nutzungen/Jahr",110,2.8,1,3,0.5]
["Hackfrüchte_Gehaltsrüben_Blatt (16 % TS)",null,0.3,0.08,0.63,0.08]
["Hackfrüchte_Gehaltsrüben_Rübe (15 % TS)",600,0.18,0.09,0.5,0.05]
["Hackfrüchte_Gehaltsrüben_Rübe + Blatt (1: 0,4)",600,0.3,0.12,0.75,0.08]
["Hackfrüchte_Kartoffel_Knolle + Kraut (1: 0,2)",400,0.39,0.15,0.67,0.06]
["Hackfrüchte_Kartoffel_Knollen (22 % TS)",400,0.35,0.14000000000000001,0.6,0.04]
["Hackfrüchte_Kartoffel_Kraut (15 % TS)",null,0.2,0.04,0.36,0.08]
["Hackfrüchte_Massenrübe_Blatt (16 % TS)",null,0.25,0.06,0.38,0.08]
["Hackfrüchte_Massenrübe_Rübe (12 % TS)",900,0.14000000000000001,7.0000000000000007E-2,0.45,0.05]
["Hackfrüchte_Massenrübe_Rübe + Blatt (1: 0,4)",900,0.24,0.09,0.6,0.08]
["Hackfrüchte_Zuckerrüben_Blatt (18 % TS)",null,0.4,0.11,0.71,0.1]
["Hackfrüchte_Zuckerrüben_Rübe (23 % TS)",600,0.18,0.1,0.25,0.08]
["Hackfrüchte_Zuckerrüben_Rübe + Blatt (1: 0,7)",600,0.46,0.18,0.75,0.15]
["Hopfen_Dolden (90 % TM)",17.5,3,1,2.6,0.5]
["Hopfen_Ganzpflanze",null,8.5,2,7.3,2.2000000000000002]
["Hopfen_Rebenhäcksel (27 % TM)",140,0.69,0.13,0.59,0.21]
["Körnerleguminosen_Ackerbohnen 30 % Rohprotein in TS_Korn",35,4.0999999999999996,1.2,1.4,0.2]
["Körnerleguminosen_Ackerbohnen 30 % Rohprotein in TS_Korn + Stroh (1: 1)",35,5.6,1.5,4,0.5]
["Körnerleguminosen_Ackerbohnen 30 % Rohprotein in TS_Stroh",null,1.5,0.3,2.6,0.3]
["Körnerleguminosen_Erbsen 26 % Rohprotein in TS_Korn",35,3.6,1.1000000000000001,1.4,0.2]
["Körnerleguminosen_Erbsen 26 % Rohprotein in TS_Korn + Stroh (1: 1)",35,5.0999999999999996,1.4,4,0.5]
["Körnerleguminosen_Erbsen 26 % Rohprotein in TS_Stroh",null,1.5,0.3,2.6,0.3]
["Körnerleguminosen_Lupine blau 33 % Rohprotein in TS_Korn",30,4.4800000000000004,1.02,0.99,0.2]
["Körnerleguminosen_Lupine blau 33 % Rohprotein in TS_Korn + Stroh (1: 1)",30,5.98,1.32,3.59,0.5]
["Körnerleguminosen_Lupine blau 33 % Rohprotein in TS_Stroh",null,1.5,0.3,2.6,0.3]
["Körnerleguminosen_Sojabohne 32 % Rohprotein in TS_Korn",20,4.4000000000000004,1.1000000000000001,1.4,0.33]
["Körnerleguminosen_Sojabohne 32 % Rohprotein in TS_Korn + Stroh (1: 1)",20,5.9,1.4,4,0.63]
["Körnerleguminosen_Sojabohne 32 % Rohprotein in TS_Stroh",null,1.5,0.3,2.6,0.3]
["Obst_Brombeere",100,0.2,7.0000000000000007E-2,0.23,0.05]
["Obst_Erdbeeren",140,0.17,0.05,0.28000000000000003,0.03]
["Obst_Haselnüsse",null,1.9,0.7,0.6,0.2]
["Obst_Himbeere",100,0.2,0.04,0.2,0.05]
["Obst_Johannisbeere / Holunderbeeren",100,0.2,0.1,0.3,0.03]
["Obst_Kernobst",400,0.11,0.03,0.19,0.03]
["Obst_Kirsche",200,0.21,0.06,0.25,0.03]
["Obst_Obst_Apfel / Birne",400,0.11,0.03,0.18,0.01]
["Obst_Pflaume / Pfirsich",200,0.16,0.05,0.32,0.02]
["Obst_Stachelbeere",100,0.2,7.0000000000000007E-2,0.28999999999999998,0.02]
["Obst_Steinobst",200,0.18,0.06,0.3,0.03]
["Obst_Walnüsse",null,1.9,0.7,0.6,0.2]
["Ölfrüchte_Öllein_Korn (91 % TS)",20,3.5,1.2,1,0.8]
["Ölfrüchte_Öllein_Korn + Stroh (1: 1,5)",20,4.3,1.5,3.1,0.95]
["Ölfrüchte_Öllein_Stroh (86 % TS)",null,0.53,0.2,1.4,0.1]
["Ölfrüchte_Raps 23 % Rohprotein in TS_Korn (91 % TS)",30,3.35,1.8,1,0.5]
["Ölfrüchte_Raps 23 % Rohprotein in TS_Korn + Stroh (1: 1,7)",30,4.54,2.48,5,1.2]
["Ölfrüchte_Raps 23 % Rohprotein in TS_Stroh (86 % TS)",null,0.7,0.4,2.35,0.41]
["Ölfrüchte_Senf_Korn (91 % TS)",15,5.08,1.77,0.93,0.3]
["Ölfrüchte_Senf_Korn + Stroh (1: 1,5)",15,6.13,2.37,4.68,0.53]
["Ölfrüchte_Senf_Stroh (86 % TS)",null,0.7,0.4,2.5,0.15]
["Ölfrüchte_Sonnenblumen 20 % Rohprotein in TS_Korn (91 % TS)",30,2.91,1.6,2.4,0.6]
["Ölfrüchte_Sonnenblumen 20 % Rohprotein in TS_Korn + Stroh (1: 2)",30,4.91,3.4,11.4,1.2]
["Ölfrüchte_Sonnenblumen 20 % Rohprotein in TS_Stroh (86 % TS)",null,1,0.9,4.5,0.3]
["Sudangras (25 % TS)",600,0.43,0.14000000000000001,0.49,0.1]
["Tabak_Burley, Dachlufttrocknung",30,4,1.3,6.9,0.4]
["Tabak_Virgin",30,2.1,0.77,6.7,0.4]
["Topinambur (Knolle)",600,0.26,0.14000000000000001,0.62,0.02]
["Vermehrung_Grassamen_Samen (86 % TS)",20,2.2000000000000002,0.7,0.5,0.17]
["Vermehrung_Grassamen_Samen + Stroh (1: 8)",20,14.2,3.5,13.3,3.37]
["Vermehrung_Grassamen_Stroh (86 % TS)",null,1.5,0.35,1.6,0.4]
["Vermehrung_Klee-; Luzerne_Samen (91 % TS)",4,5.5,1.46,1.25,0.27]
["Vermehrung_Klee-; Luzerne_Samen + Stroh (1: 8)",4,17.5,3.86,22.05,3.47]
["Vermehrung_Klee-; Luzerne_Stroh (86 % TS)",null,1.5,0.3,2.6,0.4]
["Weinbau_Most",110,0.06,0.04,0.14000000000000001,0.01]
["Weinbau_Rebholzabfuhr Wuchs normal",1,10,4,15,2]
["Weinbau_Rebholzabfuhr Wuchs stark",1,20,8,30,4]
["Weinbau_Trauben/Maische",150,0.25,0.1,0.4,0.04]
["Weinbau_Wein",110,0.02,0.02,7.0000000000000007E-2]
["Zwischenfrüchte_Alexandrinerklee",250,0.35,0.11,0.45,0.05]
["Zwischenfrüchte_Alexandrinerklee",250,0.35,0.11,0.45,0.05]
["Zwischenfrüchte_Weidelgras einjährig",250,0.48,0.16,0.65,0.05]
["Zwischenfrüchte_Weidelgras einjährig",400,0.48,0.16,0.65,0.05]
["Zwischenfrüchte_Erbsen / Ackerbohnen",250,0.35,0.11,0.45,0.05]
["Zwischenfrüchte_Erbsen / Ackerbohnen",250,0.35,0.11,0.45,0.05]
["Zwischenfrüchte_Erbsen/Wicken/Sonnenblumen",250,0.35,0.11,0.45,0.05]
["Zwischenfrüchte_Erbsen/Wicken/Sonnenblumen",250,0.35,0.11,0.45,0.05]
["Zwischenfrüchte_Ganzpflanzensilage Getreide (35 % TS)",400,0.56000000000000005,0.23,0.47,0.1]
["Zwischenfrüchte_Kleegras",250,0.35,0.11,0.45,0.05]
["Zwischenfrüchte_Ölrettich",150,0.35,0.11,0.45,0.05]
["Zwischenfrüchte_Ölrettich",250,0.35,0.11,0.45,0.05]
["Zwischenfrüchte_Phacelia",150,0.35,0.11,0.45,0.05]
["Zwischenfrüchte_Phacelia",250,0.35,0.11,0.45,0.05]
["Zwischenfrüchte_Senf",150,0.35,0.11,0.45,0.05]
["Zwischenfrüchte_Senf",250,0.35,0.11,0.45,0.05]
["Zwischenfrüchte_Silomais (20 % TS)",350,0.27,0.11,0.32,0.06]
["Zwischenfrüchte_Raps, Sommer",150,0.35,0.11,0.45,0.05]
["Zwischenfrüchte_Sommerraps",250,0.35,0.11,0.45,0.05]
["Zwischenfrüchte_Sommerrübsen",150,0.35,0.11,0.45,0.05]
["Zwischenfrüchte_Sommerrübsen",250,0.35,0.11,0.45,0.05]
["Zwischenfrüchte_Sommerwicken",250,0.35,0.11,0.45,0.05]
["Zwischenfrüchte_Sommerwicken",250,0.35,0.11,0.45,0.05]
["Zwischenfrüchte_Sonnenblumen",150,0.35,0.11,0.45,0.05]
["Zwischenfrüchte_Sonnenblumen",250,0.35,0.11,0.45,0.05]
["Zwischenfrüchte_Sudangras (20 % TS)",400,0.35,0.11,0.39,0.08]
["Zwischenfrüchte_Untersaat mit Leguminosen",150,0.35,0.11,0.45,0.05]
["Zwischenfrüchte_Untersaat ohne Leguminosen",150,0.35,0.11,0.45,0.05]
["Zwischenfrüchte_Weidelgras Welsches",250,0.48,0.16,0.65,0.05]
["Zwischenfrüchte_Weidelgras Welsches",400,0.48,0.16,0.65,0.05]
["Zwischenfrüchte_Winterraps",150,0.35,0.11,0.45,0.05]
["Zwischenfrüchte_Winterraps",250,0.35,0.11,0.45,0.05]
["Zwischenfrüchte_Winterroggen",250,0.35,0.11,0.45,0.05]
["Zwischenfrüchte_Winterrübsen",150,0.35,0.11,0.45,0.05]
["Zwischenfrüchte_Winterrübsen",250,0.35,0.11,0.45,0.05]
["Zwischenfrüchte_zusätzl. Zwischenfrucht (Gemenge Leg./Nichtleg.)",250,0.35,0.11,0.45,0.05]
["Zwischenfrüchte_zusätzl. Zwischenfrucht (Gemenge Leg./Nichtleg.)",250,0.35,0.11,0.45,0.05]
["Zwischenfrüchte_zusätzl. Zwischenfrucht (Leguminosen)",250,0.35,0.11,0.45,0.05]
["Zwischenfrüchte_zusätzl. Zwischenfrucht (Leguminosen)",250,0.35,0.11,0.45,0.05]
["Zwischenfrüchte_zusätzl. Zwischenfrucht (ohne Leguminosen)",150,0.35,0.11,0.45,0.05]
["Zwischenfrüchte_zusätzl. Zwischenfrucht (ohne Leguminosen)",250,0.35,0.11,0.45,0.05]
["Zwischenfrüchte_Zwischenfrüchte und 2. Hauptfrucht zur Biogasvergärung"]

{"sheet":"Tab 4+5 DüV+Abfuhr_G","index":15,"n_rows":153,"n_cols":17,"rows_kept":153,"cut":false,"hidden":false,"merged":[]}
["Kultur (' = nicht in DüV)","Ertrags-niveau dt/ha","N-Bedarfs-wert kg/ha","Probe-nahme \nin \nKultur-woche","Probe-nahme-tiefe cm","Abschlag N-Nach-lieferung für Folge-kultur kg/ha ","2/3 Korrektur N-Nach-lieferung bei Probenahme >= 4 Wo nach Einarbeitung kg/ha","Ertrags-differenz %","Zuschläge bei höheren Erträgen je Einheit \nkg/ha","Abschläge bei niedrigeren Erträgen je Einheit \nkg/ha","N-\nNähr-stoff-gehalt kg/dt","P2O5-Nähr-stoff-gehalt kg/dt","K2O-Nähr-stoff-gehalt kg/dt","MgO-Nähr-stoff-gehalt kg/dt","P2O5-Fest-legung kg/ha","K2O-Fest-legung kg/ha","MgO-Fest-legung kg/ha"]
["_Andere 01"]
["_Andere 02"]
["_Andere 03"]
["_Andere 04"]
["_Andere 05"]
["_Andere 06"]
["_Andere 07"]
["_Andere 08"]
["_Andere 09"]
["_Andere 10"]
["Ampfer, Wiesen, Blatt'",720,290,0,60,0,0,10,29,29,0.33,0.11,0.53,0.02]
["Artischocken'",160,130,0,60,20,{"$f":"F13*2/3","v":13.333333333333334},20,20,20,0.19,0.25,0.88,0.13]
["Aubergine",400,190,0,60,70,{"$f":"F14*2/3","v":46.666666666666664},20,20,20,0.19,0.25,0.88,0.13]
["Bärlauch, Blatt'",20,10,0,30,0,0,10,1,1,0.5,0.75,0.4,0.2]
["Basilikum, Kraut Blühbeginn'",150,120,0,30,0,0,10,12,12,0.43,0.08,0.67,7.0000000000000007E-2]
["Blumenkohl",350,300,0,60,80,{"$f":"F17*2/3","v":53.333333333333336},20,20,20,0.28000000000000003,0.10299999999999999,0.36119999999999997,1.6580000000000001E-2]
["Bohnenkraut, einjährig, blühendes Kraut'",450,185,0,30,0,0,10,18.5,18.5,0.32,0.12,0.49,7.0000000000000007E-2]
["Borretsch, Blühendes Kraut'",300,110,0,60,0,0,10,6,6,0.2,0.05,0.44,0.02]
["Brennnessel, Kleine, blühendes Kraut'",120,125,0,30,0,0,10,12.5,12.5,0.7,0.15,0.79,0.09]
["Brokkoli",150,310,0,60,100,{"$f":"F21*2/3","v":66.666666666666671},20,20,20,0.45,0.14899999999999999,0.45751999999999998,3.3160000000000002E-2]
["Brunnenkresse'",150,65,0,30,0,0,10,7,7,0.3,9.1999999999999998E-2,0.71,0.04]
["Buschbohnen",120,110,0,60,45,{"$f":"F23*2/3","v":30},20,20,20,0.25,9.1999999999999998E-2,0.30099999999999999,4.1000000000000002E-2]
["Chicoreerüben",450,135,4,90,40,26.666666666666668,20,20,20,0.25,0.121,0.54179999999999995,6.6320000000000004E-2]
["Chinakohl",700,210,0,60,45,30,20,20,20,0.15,9.1999999999999998E-2,0.3,1.6580000000000001E-2]
["Choy Sum (Chin. Blumenkohl)",270,170,0,30,25,16.666666666666668,20,20,20,0.28999999999999998,0.08,0.43,0.02]
["Dicke Bohne, Korn'",65,60,0,60,45,30,20,20,20,1.25,0.29799999999999999,0.42,5.5E-2]
["Dill, Frischmarkt",200,85,0,30,5,3.3333333333333335,20,20,20,0.3,9.1999999999999998E-2,0.60199999999999998,4.1000000000000002E-2]
["Dill, Industrieware",250,105,0,30,25,16.666666666666668,20,20,20,0.3,9.1999999999999998E-2,0.60199999999999998,4.1000000000000002E-2]
["Dill, Spitzen'",50,85,0,30,0,0,10,4,4,0.79,0.17,0.83,0.12]
["Edamame'",180,100,0,60,53,{"$f":"F31*2/3","v":35.333333333333336},20,20,20,1,0.27,0.5,0.11]
["Erbse, Gemüse",80,85,0,60,65,{"$f":"F32*2/3","v":43.333333333333336},20,20,20,1,0.22900000000000001,0.36119999999999997,5.8000000000000003E-2]
["Erdbeeren, Frühjahr",140,60,0,30,0,{"$f":"F33*2/3","v":0},20,20,20,0.17,0.05,0.28000000000000003,0.03]
["Erdbeeren, nach Ernte (f. Ernte i. Folgejahr)",140,60,0,30,0,{"$f":"F34*2/3","v":0},20,20,20,0.17]
["Erdbeeren, Pflanzung",0,60,0,30,0,{"$f":"F35*2/3","v":0},20,20,20,0.17,0.05,0.28000000000000003,0.03]
["Estragon, Deutscher, nicht blühendes Kraut'",150,125,0,30,0,0,10,12.5,12.5,0.55000000000000004,0.16,0.88,0.04]
["Feldsalat",80,85,0,15,5,{"$f":"F37*2/3","v":3.3333333333333335},20,20,20,0.45,9.9000000000000005E-2,0.65016000000000007,7.0999999999999994E-2]
["Feldsalat, großblättrig",130,110,0,15,5,{"$f":"F38*2/3","v":3.3333333333333335},20,20,20,0.45,9.9000000000000005E-2,0.65016000000000007,7.0999999999999994E-2]
["Gartenkresse, Kraut'",150,120,0,30,0,0,10,12,12,0.53,0.26,0.75,0.05]
["Grünkohl",400,200,0,60,35,{"$f":"F40*2/3","v":23.333333333333332},20,20,20,0.49,0.16300000000000001,0.59,4.1000000000000002E-2]
["Gurke, Einleger, Land",800,210,0,30,50,{"$f":"F41*2/3","v":33.333333333333336},20,40,40,0.15,6.9000000000000006E-2,0.24080000000000001,0.02]
["Kapuzinerkresse, blühendes Kraut'",185,135,0,30,0,0,10,13.5,13.5,0.51,0.16,0.7,0.14000000000000001]
["Kerbel, Kraut'",190,120,0,30,0,0,10,12,12,0.41,0.1,0.7,0.04]
["Knoblauch, trocken'",140,120,0,30,0,0,20,20,20,0.48,0.3,0.5,4.4999999999999998E-2]
["Knollenfenchel",400,200,0,60,45,{"$f":"F45*2/3","v":30},20,20,20,0.2,6.9000000000000006E-2,0.48160000000000003,3.3160000000000002E-2]
["Kohlrabi",450,230,0,30,30,{"$f":"F46*2/3","v":20},20,20,20,0.28000000000000003,0.10299999999999999,0.42139999999999994,2.5000000000000001E-2]
["Kohlrabi, Knollen > 12 cm",700,270,0,30,30,{"$f":"F47*2/3","v":20},20,20,20,0.23,0.10299999999999999,0.42,2.5000000000000001E-2]
["Kohlrübe'",550,110,0,60,25,{"$f":"F48*2/3","v":16.666666666666668},20,20,20,0.25,0.11,0.4,2.5000000000000001E-2]
["Koriander, Blatt'",120,100,0,30,0,0,10,5,5,0.51,0.14000000000000001,0.82,0.08]
["Kürbis, Hokkaido'",300,140,0,60,50,{"$f":"F50*2/3","v":33.333333333333336},20,20,20,0.25,0.20599999999999999,0.55000000000000004,0.08]
["Kürbis, Öl, Kerne",7,90,0,60,50,{"$f":"F51*2/3","v":33.333333333333336},20,20,20,3,2.9,3,1.4]
["Kürbis, Speise",400,140,0,60,50,{"$f":"F52*2/3","v":33.333333333333336},20,20,20,0.25,0.20599999999999999,0.55000000000000004,0.08]
["Lavendel, Blütenähre'",25,90,0,60,0,0,10,9,9,0.51,0.13,0.77,0.15]
["Liebstöckel'",550,245,0,60,0,0,10,25,25,0.37,0.11,0.5,0.06]
["Löwenzahn, Kraut'",275,135,0,60,0,0,10,14,14,0.35,0.11,0.53,0.02]
["Majoran'",200,135,0,30,0,0,10,14,14,0.48,0.14000000000000001,0.59,7.0000000000000007E-2]
["Mangold, Blatt, eine Ernte'",400,180,0,60,25,{"$f":"F57*2/3","v":16.666666666666668},20,20,20,0.26,0.09,0.5,0.08]
["Mangold, Blatt, Folgeernte'",320,120,0,60,25,{"$f":"F58*2/3","v":16.666666666666668},20,20,20,0.26,0.09,0.5,0.08]
["Mangold, Stiel, eine Ernte'",550,190,0,60,42,{"$f":"F59*2/3","v":28},20,20,20,0.18,0.08,0.55000000000000004,0.08]
["Mangold, Stiel, Folgeernte'",300,90,0,60,30,{"$f":"F60*2/3","v":20},20,20,20,0.18,0.08,0.55000000000000004,0.08]
["Meerrettich, Wurzel'",200,255,0,60,0,0,10,26,26,0.69,0.22,0.72,7.0000000000000007E-2]
["Melde'",150,90,0,30,0,0,10,5,5,0.33,0.11,0.53,0.02]
["Melonen'",200,185,0,60,85,{"$f":"F63*2/3","v":56.666666666666664},20,20,20,0.15,7.0000000000000007E-2,0.3,0.05]
["Möhren, Bund",600,115,4,60,10,{"$f":"F64*2/3","v":6.666666666666667},20,20,20,0.17,8.2000000000000003E-2,0.52976000000000001,4.4999999999999998E-2]
["Möhren, Industrie",900,165,6,90,45,{"$f":"F65*2/3","v":30},20,20,20,0.13,0.08,0.42139999999999994,2.5000000000000001E-2]
["Möhren, Wasch",700,125,6,60,30,{"$f":"F66*2/3","v":20},20,20,20,0.13,0.08,0.42139999999999994,0.03]
["Oregano (Dost)'",120,100,0,30,0,0,10,5,5,0.5,0.14000000000000001,0.52,0.17]
["Pak Choi'",700,180,0,60,5,{"$f":"F68*2/3","v":3.3333333333333335},20,20,20,0.22,6.9000000000000006E-2,0.42,1.7000000000000001E-2]
["Pak Choi, mini'",600,160,0,60,5,3.3333333333333335,20,20,20,0.22,6.9000000000000006E-2,0.42,1.7000000000000001E-2]
["Paprika'",500,250,0,60,100,66.666666666666671,20,20,20,0.21,7.0000000000000007E-2,0.36,0.04]
["Pastinake",400,140,4,60,50,33.333333333333336,20,20,20,0.25,0.23599999999999999,0.6,5.2999999999999999E-2]
["Petersilie, Blatt, 1. Schnitt",240,160,4,60,10,6.666666666666667,20,20,20,0.45,0.115,0.66220000000000001,3.5999999999999997E-2]
["Petersilie, Blatt, nach einem Schnitt",160,100,0,60,10,6.666666666666667,20,20,20,0.45,0.115,0.66220000000000001,0.04]
["Petersilie, Blatt-, Verarbeitung, alle Schnitte'",500,285,0,60,0,0,10,29,14,0.49,0.13,1.08,0.08]
["Petersilie, Wurzel",400,130,6,60,45,{"$f":"F75*2/3","v":30},20,20,20,0.42,0.13700000000000001,0.84279999999999988,9.0999999999999998E-2]
["Pfefferminze, Minzen'",400,210,0,30,0,0,10,21,21,0.42,0.11,0.55000000000000004,0.08]
["Physalis'",150,150,0,30,30,20,10,10,10,0.2,7.0000000000000007E-2,0.28999999999999998,0.02]
["Porree",600,250,0,60,55,{"$f":"F78*2/3","v":36.666666666666664},20,40,40,0.25,0.08,0.36119999999999997,3.3160000000000002E-2]
["Portulak, Sommer bis 1. Schnitt'",150,90,0,30,0,0,20,20,20,0.33,0.11,0.53,0.02]
["Portulak, Sommer nach einem Schnitt'",100,70,0,30,0,0,20,20,20,0.33,0.11,0.53,0.02]
["Portulak, Winter bis 1. Schnitt'",150,90,0,30,0,0,20,20,20,0.33,0.11,0.53,0.02]
["Portulak, Winter nach einem Schnitt'",100,70,0,30,0,0,20,20,20,0.33,0.11,0.53,0.02]
["Radies",300,110,0,30,5,3.3333333333333335,20,20,20,0.2,6.9000000000000006E-2,0.33712000000000003,3.3160000000000002E-2]
["Rettich, Bund",500,140,0,30,10,6.666666666666667,20,40,40,0.17,7.5999999999999998E-2,0.36119999999999997,2.7E-2]
["Rettich, deutsch",550,175,0,60,30,20,20,40,40,0.14000000000000001,0.08,0.39732000000000001,1.6580000000000001E-2]
["Rettich, japanisch",1000,230,0,60,45,30,20,40,40,0.1,0.06,0.33712000000000003,1.6580000000000001E-2]
["Rhabarber, 1. Standjahr",0,130,0,30,null,0,20,20,20,0.18,9.1999999999999998E-2,0.48,2.5000000000000001E-2,52.5,93,25]
["Rhabarber, 2. Standjahr nach Ernte",null,150,0,60,null,0,20,20,20,0.18,9.1999999999999998E-2,0.48,2.5000000000000001E-2]
["Rhabarber, 2. Standjahr, Austrieb",100,100,0,30,null,0,20,20,20,0.18,9.1999999999999998E-2,0.48,2.5000000000000001E-2,52.5,93,25]
["Rhabarber, 3. Standjahr nach Ernte",null,170,0,90,null,0,20,20,20,0.18,9.1999999999999998E-2,0.48,2.5000000000000001E-2]
["Rhabarber, 3. Standjahr, Austrieb",200,120,0,60,null,0,20,20,20,0.18,9.1999999999999998E-2,0.48,2.5000000000000001E-2,null,93,25]
["Rhabarber, 4. Standjahr nach Ernte",null,140,0,90,null,0,20,20,20,0.18,9.1999999999999998E-2,0.48,2.5000000000000001E-2]
["Rhabarber, 4. Standjahr, Austrieb",350,140,0,60,null,0,20,20,20,0.18,9.1999999999999998E-2,0.48,2.5000000000000001E-2]
["Rosenkohl",250,310,0,90,130,86.666666666666671,20,40,40,0.65,0.19500000000000001,0.66220000000000001,4.1000000000000002E-2]
["Rosmarin'",80,65,0,30,0,0,10,7,7,0.57999999999999996,0.09,0.5,0.3]
["Rote Rüben",600,250,0,60,50,{"$f":"F96*2/3","v":33.333333333333336},20,20,20,0.28000000000000003,0.115,0.48160000000000003,4.9739999999999993E-2]
["Rote Rüben, Baby Beet'",400,170,0,60,25,16.666666666666668,20,20,20,0.28000000000000003,0.115,0.48160000000000003,4.9739999999999993E-2]
["Rote Rüben, Bund'",500,160,0,60,15,10,20,20,20,0.27,0.10299999999999999,0.55000000000000004,8.3000000000000004E-2]
["Rotkohl",600,260,0,60,60,{"$f":"F99*2/3","v":40},20,40,40,0.22,0.08,0.36119999999999997,0.03]
["Rucola, Feinware",175,150,0,30,20,13.333333333333334,20,20,20,0.4,0.10299999999999999,0.52976000000000001,4.9739999999999993E-2]
["Rucola, Grobware",300,210,0,30,20,13.333333333333334,20,20,20,0.4,0.10299999999999999,0.53,0.05]
["Salate, Baby Leaf Lettuce",140,90,0,30,0,0,20,20,20,0.35,0.08,0.60199999999999998,4.4999999999999998E-2]
["Salate, Blatt-, grün (Lollo, Eichblatt, Krul)",350,130,0,30,10,6.666666666666667,20,20,20,0.19,6.9000000000000006E-2,0.44547999999999999,1.6580000000000001E-2]
["Salate, Blatt-, rot (Lollo, Eichblatt, Krul)",300,115,0,30,10,6.666666666666667,20,20,20,0.19,6.9000000000000006E-2,0.44547999999999999,0.02]
["Salate, Eissalat",600,175,0,30,15,10,20,20,20,0.14000000000000001,5.7000000000000002E-2,0.3,1.7000000000000001E-2]
["Salate, Eissalat x Romana, Crunchy Cos'",600,200,0,30,40,26.666666666666668,20,20,20,0.2,9.1999999999999998E-2,0.4,2.1999999999999999E-2]
["Salate, Endivien Friseé",350,150,0,60,15,{"$f":"F107*2/3","v":10},20,20,20,0.25,0.06,0.55000000000000004,0.03]
["Salate, Endivien glattblättrig",600,190,0,60,20,13.333333333333334,20,20,20,0.2,0.06,0.55000000000000004,0.03]
["Salate, Kopfsalat",500,150,0,30,10,6.666666666666667,20,20,20,0.18,6.9000000000000006E-2,0.36119999999999997,2.5000000000000001E-2]
["Salate, Radicchio",280,140,0,60,30,20,20,20,20,0.25,9.1999999999999998E-2,0.48,3.3000000000000002E-2]
["Salate, Romana",450,140,0,60,10,6.666666666666667,20,20,20,0.2,9.1999999999999998E-2,0.4,2.1999999999999999E-2]
["Salate, Romana Herzen",300,150,0,30,15,10,20,20,20,0.24,9.1999999999999998E-2,0.4,2.1999999999999999E-2]
["Salate, verschiedene Arten",450,150,0,30,10,6.666666666666667,20,20,20,0.19,9.1999999999999998E-2,0.4,2.5000000000000001E-2]
["Salate, Zuckerhut",600,190,0,60,20,13.333333333333334,20,20,20,0.2,0.115,0.30099999999999999,1.6580000000000001E-2]
["Salbei'",350,210,0,60,0,0,10,21,21,0.49,0.11,0.62,0.13]
["Schabzigerklee'",300,130,0,60,0,0,10,13,13,0.37,0.08,0.66,7.0000000000000007E-2]
["Schnittknoblauch'",200,145,0,60,0,0,10,7,7,0.43,0.09,0.41,0.09]
["Schnittlauch, Anbau für Treiberei",280,240,6,60,55,{"$f":"F118*2/3","v":36.666666666666664},20,20,20,0.5,0.13700000000000001,0.54,5.8000000000000003E-2]
["Schnittlauch, gesät, bis 1. Schnitt",300,210,6,60,10,{"$f":"F119*2/3","v":6.666666666666667},20,20,20,0.5,0.13700000000000001,0.54179999999999995,5.8000000000000003E-2]
["Schnittlauch, nach einem Schnitt",200,180,0,60,25,{"$f":"F120*2/3","v":16.666666666666668},20,20,20,0.5,0.13700000000000001,0.54179999999999995,5.8000000000000003E-2]
["Schnittlauch, Verarbeitung, alle Schnitte'",500,310,0,60,0,0,10,31,31,0.5,0.13700000000000001,0.52,7.0000000000000007E-2]
["Schwarzwurzel",200,75,6,90,25,{"$f":"F122*2/3","v":16.666666666666668},20,20,20,0.23,0.16,0.38500000000000001,4.1000000000000002E-2]
["Sellerie, Bund",600,205,0,30,10,{"$f":"F123*2/3","v":6.666666666666667},20,20,20,0.27,0.126,0.56999999999999995,3.3000000000000002E-2]
["Sellerie, Knollen",650,220,0,60,40,{"$f":"F124*2/3","v":26.666666666666668},20,40,40,0.25,0.14899999999999999,0.54179999999999995,2.5000000000000001E-2]
["Sellerie, Schnitt'",550,245,0,60,0,0,10,25,25,0.37,0.11,0.5,0.06]
["Sellerie, Stangen",500,230,0,30,40,{"$f":"F126*2/3","v":26.666666666666668},20,20,20,0.25,0.115,0.54179999999999995,0.05]
["Spargel, 1. Standjahr",0,140,0,60,null,0,20,20,20,0.26,8.2000000000000003E-2,0.24,1.7999999999999999E-2,78,112.2,12]
["Spargel, 2. Standjahr mit Ernte",20,160,0,90,null,0,20,20,20,0.26,8.2000000000000003E-2,0.24,1.7999999999999999E-2,78,184.2,19.7]
["Spargel, 2. Standjahr ohne Ernte",0,160,0,90,null,0,20,20,20,0.26,8.2000000000000003E-2,0.24,1.7999999999999999E-2,78,184.2,19.7]
["Spargel, 3. Standjahr",80,160,0,90,null,0,20,20,20,0.26,8.2000000000000003E-2,0.24,1.7999999999999999E-2,null,169.8,18.7]
["Spargel, ab 4. Standjahr",100,80,0,90,null,0,20,20,20,0.26,8.2000000000000003E-2,0.24,1.7999999999999999E-2,null,42,8.1999999999999993]
["Speiserübe, Mairübe mit Laub",650,170,0,30,15,10,20,20,20,0.17,0.10299999999999999,0.4214,3.5999999999999997E-2]
["Speiserübe, Teltower Rübchen, Herbst",150,110,0,60,30,20,20,20,20,0.45,0.24099999999999999,0.66220000000000001,8.3000000000000004E-2]
["Spinat, Blatt-, FM, Baby",100,100,0,30,10,6.666666666666667,20,20,20,0.45,0.115,0.66,8.3000000000000004E-2]
["Spinat, Blatt-, Standard",250,190,0,30,30,20,20,20,20,0.4,0.115,0.66220000000000001,8.3000000000000004E-2]
["Spinat, Hack-, Standard",300,205,0,30,30,20,20,20,20,0.36,0.115,0.66,8.3000000000000004E-2]
["Spinat, Winter, früh'",310,240,0,30,50,33.333333333333336,20,20,20,0.49,0.115,0.66,8.3000000000000004E-2]
["Spinat, Winter, spät/mittel'",360,300,0,30,50,33.333333333333336,20,20,20,0.51,0.115,0.66,8.3000000000000004E-2]
["Spitzwegerich, Kraut'",350,185,0,60,0,0,10,19,19,0.41,0.12,0.78,0.06]
["Stangenbohne, Standard",250,100,0,60,70,{"$f":"F140*2/3","v":46.666666666666664},20,20,20,0.25,9.1999999999999998E-2,0.30099999999999999,4.1000000000000002E-2]
["Thymian'",150,100,0,60,0,0,10,5,5,0.41,0.12,0.77,0.08]
["Tomate",600,225,0,60,120,{"$f":"F142*2/3","v":80},20,20,20,0.3,0.05,0.39,0.03]
["Weißkohl, Frischmarkt (rund, spitz, flach)",700,260,0,60,75,{"$f":"F143*2/3","v":50},20,40,40,0.2,7.2999999999999995E-2,0.31303999999999998,2.5000000000000001E-2]
["Weißkohl, Industrie (rund, spitz, flach)",1000,320,0,90,75,{"$f":"F144*2/3","v":50},20,40,40,0.2,7.2999999999999995E-2,0.31303999999999998,2.5000000000000001E-2]
["Wiesenknopf, klein (Pimpinelle)'",100,80,0,30,0,0,10,4,4,0.41,0.1,0.7,0.04]
["Winterheckenzwiebel",800,440,0,60,0,0,10,44,44,0.5,0.13700000000000001,0.52,7.0000000000000007E-2]
["Wirsing",400,285,0,60,80,{"$f":"F147*2/3","v":53.333333333333336},20,40,40,0.35,0.115,0.38528000000000001,2.5000000000000001E-2]
["Zitronenmelisse'",300,185,0,60,0,0,10,19,19,0.49,0.14000000000000001,0.76,0.09]
["Zucchini",650,250,0,60,85,{"$f":"F149*2/3","v":56.666666666666664},20,20,20,0.16,0.06,0.20468,2.7E-2]
["Zuckermais",200,160,0,90,60,{"$f":"F150*2/3","v":40},20,20,20,0.35,0.16,0.26488,5.8000000000000003E-2]
["Zwiebel, Bund-",680,210,4,30,15,{"$f":"F151*2/3","v":10},20,20,20,0.2,0.06,0.24080000000000001,3.3160000000000002E-2]
["Zwiebel, Schalotte'",450,125,6,60,30,{"$f":"F152*2/3","v":20},20,20,20,0.27,0.105,0.3,2.9000000000000001E-2]
["Zwiebel, Trocken",600,155,6,60,30,{"$f":"F153*2/3","v":20},20,20,20,0.18,0.08,0.21,2.5000000000000001E-2]

{"sheet":"Tab 6 DüV_H","index":16,"n_rows":2,"n_cols":2,"rows_kept":2,"cut":false,"hidden":false,"merged":[]}
["Humus-\ngehalt %","N-Mindest-\nabschlag\nkg/ha"]
[">4,0",20]

{"sheet":"Tab 7 DüV_A-VF","index":17,"n_rows":19,"n_cols":2,"rows_kept":19,"cut":false,"hidden":false,"merged":[]}
["Vorfrucht","N-Mindest-abschlag \nkg/ha"]
["Dauerbrache",20]
["Feldgras",10]
["Gemüse ohne Kohlarten",0]
["Getreide (mit/ohne Stroh)",0]
["Grünland",20]
["Kartoffel",0]
["Klee",20]
["Kleegras",20]
["Kohlgemüse",10]
["Körnerleguminosen",10]
["Körnermais",0]
["Luzerne",20]
["Raps",10]
["Rotationsbrache mit Leguminosen",20]
["Rotationsbrache ohne Leguminosen",10]
["Silomais",0]
["Zuckerrüben ohne Blatternte",10]
["Andere",0]

{"sheet":"Tab 7 DüV_A-ZF","index":18,"n_rows":9,"n_cols":2,"rows_kept":9,"cut":false,"hidden":false,"merged":[]}
["Zwischenfrucht ZF","N-Mindest-abschlag \nkg/ha"]
["Andere ZF m. Nutzung",0]
["Futterleg. m. Nutzung",10]
["Leg. abgefroren",10]
["Leg. n. abgefroren, Frühj. Einarb. ",40]
["Leg. n. abgefroren, Herbst Einarb. ",10]
["Nichtleg. abgefroren",0]
["Nichtleg. n. abgefroren, Frühj. Einarb.",20]
["Nichtleg. n. abgefroren, Herbst Einarb. ",0]

{"sheet":"Kulturgruppe","index":19,"n_rows":4,"n_cols":2,"rows_kept":4,"cut":false,"hidden":false,"merged":[]}
["Kulturgruppe","Kulturen"]
["G","Gemüse, Erdbeere, Kräuter frisch/gefrostet"]
["A","Ackerbau inkl. Süßkartoffel"]
["HG","Heil- und Gewürzpflanzen getrocknet (=Drogen)"]

{"sheet":"Verfrühung","index":20,"n_rows":3,"n_cols":2,"rows_kept":3,"cut":false,"hidden":false,"merged":[]}
["Abdeckung Verfrühung","N-Zuschlag \nkg/ha"]
["ja",20]
["nein",0]